Workbook

Sheet Zx6r Power Map + Gearing
A1: Kawasaki ZX6R 636cc C1 2005 | AN1: Reduced Mass | AV1: Dynamic Load Front Wheel Nf (N) Nf = mg(b/p) - S(h/p) | BD1: Dynamic Load Rear Wheel Nr (N) Nr = mg ((p-b)/p) + S(h/p) | BM1: reduced mass dependant on wheel inertias
H2: Image Taken from Kawasaki Motorcycle Service Manual | O2: Equivalent Driving Force (n) | P2: S* = Fd + m*x'' | Q2: See Table | AN2: 1st Gear | AO2: 2nd Gear | AP2: 3rd Gear | AQ2: 4th Gear | AR2: 5th Gear | AS2: 6th Gear
A3: Drive Train | P3: S* = T (Ѡm/V) | Q3: See Table
AU4: Rpm | AV4: 1st Gear | AW4: 2nd Gear | AX4: 3rd Gear | AY4: 4th Gear | AZ4: 5th Gear | BA4: 6th Gear | BC4: Rpm | BD4: 1st Gear | BE4: 2nd Gear | BF4: 3rd Gear | BG4: 4th Gear | BH4: 5th Gear | BI4: 6th Gear | BL4: Rpm | BM4: 1st Gear | BN4: 2nd Gear | BO4: 3rd Gear | BP4: 4th Gear | BQ4: 5th Gear | BR4: 6th Gear
A5: Primary Reduction System: | O5: Equivalent Mass m* | P5: m*=m+Iѡr.T^2r+Iѡf.T^2f+Iѡm.T^2m+Iѡp.T^2p+Iѡs.T^2s | U5: =P7+P11*(U6^2)+P10*(U7^2)+P12*(U13^2)+P13*(U10^2)+P14*(U8^2) -> 274.53877 | AU5: 3500 | AV5: =($P$7*9.81)*('Zx6r Predicted Values'!$M$20/'Zx6r Predicted Values'!$M$21)-('Zx6r Power Map + Gearing'!M65*('Zx6r Predicted Values'!$M$22/'Zx6r Predicted Values'!$M$21)) -> 143.86539 | AW5: =251*9.81*('Zx6r Predicted Values'!$M$20/'Zx6r Predicted Values'!$M$21)-('Zx6r Power Map + Gearing'!N65*('Zx6r Predicted Values'!$M$22/'Zx6r Predicted Values'!$M$21)) -> 466.55514 | AX5: =251*9.81*('Zx6r Predicted Values'!$M$20/'Zx6r Predicted Values'!$M$21)-('Zx6r Power Map + Gearing'!O65*('Zx6r Predicted Values'!$M$22/'Zx6r Predicted Values'!$M$21)) -> 611.20917 | AY5: =251*9.81*('Zx6r Predicted Values'!$M$20/'Zx6r Predicted Values'!$M$21)-('Zx6r Power Map + Gearing'!P65*('Zx6r Predicted Values'!$M$22/'Zx6r Predicted Values'!$M$21)) -> 691.80213 | AZ5: =251*9.81*('Zx6r Predicted Values'!$M$20/'Zx6r Predicted Values'!$M$21)-('Zx6r Power Map + Gearing'!Q65*('Zx6r Predicted Values'!$M$22/'Zx6r Predicted Values'!$M$21)) -> 757.74182 | BA5: =251*9.81*('Zx6r Predicted Values'!$M$20/'Zx6r Predicted Values'!$M$21)-('Zx6r Power Map + Gearing'!R65*('Zx6r Predicted Values'!$M$22/'Zx6r Predicted Values'!$M$21)) -> 801.96173 | BC5: 3500 | BD5: ='Zx6r Power Map + Gearing'!$P$7*9.81*('Zx6r Predicted Values'!$M$21-'Zx6r Predicted Values'!$M$20)/'Zx6r Predicted Values'!$M$21+'Zx6r Power Map + Gearing'!M65*('Zx6r Predicted Values'!$M$22/'Zx6r Predicted Values'!$M$21) -> 2318.4446 | BE5: =$P$7*9.81*(('Zx6r Predicted Values'!$M$21-'Zx6r Predicted Values'!$M$20)/'Zx6r Predicted Values'!$M$21)+'Zx6r Power Map + Gearing'!N65*('Zx6r Predicted Values'!$M$22/'Zx6r Predicted Values'!$M$21) -> 1995.7549 | BF5: =$P$7*9.81*(('Zx6r Predicted Values'!$M$21-'Zx6r Predicted Values'!$M$20)/'Zx6r Predicted Values'!$M$21)+'Zx6r Power Map + Gearing'!N66*('Zx6r Predicted Values'!$M$22/'Zx6r Predicted Values'!$M$21) -> 2011.684 | BG5: =$P$7*9.81*(('Zx6r Predicted Values'!$M$21-'Zx6r Predicted Values'!$M$20)/'Zx6r Predicted Values'!$M$21)+'Zx6r Power Map + Gearing'!N67*('Zx6r Predicted Values'!$M$22/'Zx6r Predicted Values'!$M$21) -> 2123.1882 | BH5: =$P$7*9.81*(('Zx6r Predicted Values'!$M$21-'Zx6r Predicted Values'!$M$20)/'Zx6r Predicted Values'!$M$21)+'Zx6r Power Map + Gearing'!N68*('Zx6r Predicted Values'!$M$22/'Zx6r Predicted Values'!$M$21) -> 2152.9226 | BI5: =$P$7*9.81*(('Zx6r Predicted Values'!$M$21-'Zx6r Predicted Values'!$M$20)/'Zx6r Predicted Values'!$M$21)+'Zx6r Power Map + Gearing'!N69*('Zx6r Predicted Values'!$M$22/'Zx6r Predicted Values'!$M$21) -> 2177.2508 | BL5: 3500 | BM5: =$P$7+BU34*($U$6*$U$6)+BM34*($U$7*$U$7)+$P$12*($U$13*$U$13)+$P$13*($U$10*$U$10)+$P$14*($U$8*$U$8) -> 329.49234 | BN5: =$P$7+BV34*($U$6*$U$6)+BN34*($U$7*$U$7)+$P$12*($U$13*$U$13)+$P$13*($U$10*$U$10)+$P$14*($U$8*$U$8) -> 443.88304 | BO5: =$P$7+BW34*($U$6*$U$6)+BO34*($U$7*$U$7)+$P$12*($U$13*$U$13)+$P$13*($U$10*$U$10)+$P$14*($U$8*$U$8) -> 538.39296 | BP5: =$P$7+BX34*($U$6*$U$6)+BP34*($U$7*$U$7)+$P$12*($U$13*$U$13)+$P$13*($U$10*$U$10)+$P$14*($U$8*$U$8) -> 616.9788 | BQ5: =$P$7+BY34*($U$6*$U$6)+BQ34*($U$7*$U$7)+$P$12*($U$13*$U$13)+$P$13*($U$10*$U$10)+$P$14*($U$8*$U$8) -> 706.28467 | BR5: =$P$7+BZ34*($U$6*$U$6)+BR34*($U$7*$U$7)+$P$12*($U$13*$U$13)+$P$13*($U$10*$U$10)+$P$14*($U$8*$U$8) -> 786.80806
T6: Tr = Wr/V = 1/Rr | U6: =1/Y19 -> 3.1756113 | V6: velocity ratio of rear wheel velocity and forward velocity | AU6: =AU5+500 -> 4000 | AV6: =($P$7*9.81)*('Zx6r Predicted Values'!$M$20/'Zx6r Predicted Values'!$M$21)-('Zx6r Power Map + Gearing'!M66*('Zx6r Predicted Values'!$M$22/'Zx6r Predicted Values'!$M$21)) -> 121.21352 | AW6: =251*9.81*('Zx6r Predicted Values'!$M$20/'Zx6r Predicted Values'!$M$21)-('Zx6r Power Map + Gearing'!N66*('Zx6r Predicted Values'!$M$22/'Zx6r Predicted Values'!$M$21)) -> 450.62598 | AX6: =251*9.81*('Zx6r Predicted Values'!$M$20/'Zx6r Predicted Values'!$M$21)-('Zx6r Power Map + Gearing'!O66*('Zx6r Predicted Values'!$M$22/'Zx6r Predicted Values'!$M$21)) -> 598.29363 | AY6: =251*9.81*('Zx6r Predicted Values'!$M$20/'Zx6r Predicted Values'!$M$21)-('Zx6r Power Map + Gearing'!P66*('Zx6r Predicted Values'!$M$22/'Zx6r Predicted Values'!$M$21)) -> 680.56561 | AZ6: =251*9.81*('Zx6r Predicted Values'!$M$20/'Zx6r Predicted Values'!$M$21)-('Zx6r Power Map + Gearing'!Q66*('Zx6r Predicted Values'!$M$22/'Zx6r Predicted Values'!$M$21)) -> 747.87904 | BA6: =251*9.81*('Zx6r Predicted Values'!$M$20/'Zx6r Predicted Values'!$M$21)-('Zx6r Power Map + Gearing'!R66*('Zx6r Predicted Values'!$M$22/'Zx6r Predicted Values'!$M$21)) -> 793.02021 | BC6: =BC5+500 -> 4000 | BD6: ='Zx6r Power Map + Gearing'!$P$7*9.81*('Zx6r Predicted Values'!$M$21-'Zx6r Predicted Values'!$M$20)/'Zx6r Predicted Values'!$M$21+'Zx6r Power Map + Gearing'!M66*('Zx6r Predicted Values'!$M$22/'Zx6r Predicted Values'!$M$21) -> 2341.0965 | BE6: =$P$7*9.81*(('Zx6r Predicted Values'!$M$21-'Zx6r Predicted Values'!$M$20)/'Zx6r Predicted Values'!$M$21)+'Zx6r Power Map + Gearing'!N66*('Zx6r Predicted Values'!$M$22/'Zx6r Predicted Values'!$M$21) -> 2011.684 | BF6: =$P$7*9.81*(('Zx6r Predicted Values'!$M$21-'Zx6r Predicted Values'!$M$20)/'Zx6r Predicted Values'!$M$21)+'Zx6r Power Map + Gearing'!N67*('Zx6r Predicted Values'!$M$22/'Zx6r Predicted Values'!$M$21) -> 2123.1882 | BG6: =$P$7*9.81*(('Zx6r Predicted Values'!$M$21-'Zx6r Predicted Values'!$M$20)/'Zx6r Predicted Values'!$M$21)+'Zx6r Power Map + Gearing'!N68*('Zx6r Predicted Values'!$M$22/'Zx6r Predicted Values'!$M$21) -> 2152.9226 | BH6: =$P$7*9.81*(('Zx6r Predicted Values'!$M$21-'Zx6r Predicted Values'!$M$20)/'Zx6r Predicted Values'!$M$21)+'Zx6r Power Map + Gearing'!N69*('Zx6r Predicted Values'!$M$22/'Zx6r Predicted Values'!$M$21) -> 2177.2508 | BI6: =$P$7*9.81*(('Zx6r Predicted Values'!$M$21-'Zx6r Predicted Values'!$M$20)/'Zx6r Predicted Values'!$M$21)+'Zx6r Power Map + Gearing'!N70*('Zx6r Predicted Values'!$M$22/'Zx6r Predicted Values'!$M$21) -> 2172.7456 | BL6: =BL5+500 -> 4000 | BM6: =$P$7+BU35*($U$6*$U$6)+BM35*($U$7*$U$7)+$P$12*($U$13*$U$13)+$P$13*($U$10*$U$10)+$P$14*($U$8*$U$8) -> 317.78552 | BN6: =$P$7+BV35*($U$6*$U$6)+BN35*($U$7*$U$7)+$P$12*($U$13*$U$13)+$P$13*($U$10*$U$10)+$P$14*($U$8*$U$8) -> 437.00684 | BO6: =$P$7+BW35*($U$6*$U$6)+BO35*($U$7*$U$7)+$P$12*($U$13*$U$13)+$P$13*($U$10*$U$10)+$P$14*($U$8*$U$8) -> 530.77484 | BP6: =$P$7+BX35*($U$6*$U$6)+BP35*($U$7*$U$7)+$P$12*($U$13*$U$13)+$P$13*($U$10*$U$10)+$P$14*($U$8*$U$8) -> 609.4701 | BQ6: =$P$7+BY35*($U$6*$U$6)+BQ35*($U$7*$U$7)+$P$12*($U$13*$U$13)+$P$13*($U$10*$U$10)+$P$14*($U$8*$U$8) -> 699.95252 | BR6: =$P$7+BZ35*($U$6*$U$6)+BR35*($U$7*$U$7)+$P$12*($U$13*$U$13)+$P$13*($U$10*$U$10)+$P$14*($U$8*$U$8) -> 782.70728
A7: Type | B7: Gear | O7: Total Mass (Bike + Rider) | P7: ='Zx6r Predicted Values'!M3+'Zx6r Predicted Values'!M4 -> 251 | Q7: kg | T7: Tf = 1/Rf | U7: =1/Y18 -> 3.4025179 | V7: velocity ratio of front wheel velocity and forward velocity | AU7: =AU6+500 -> 4500 | AV7: =($P$7*9.81)*('Zx6r Predicted Values'!$M$20/'Zx6r Predicted Values'!$M$21)-('Zx6r Power Map + Gearing'!M67*('Zx6r Predicted Values'!$M$22/'Zx6r Predicted Values'!$M$21)) -> -37.349548 | AW7: =251*9.81*('Zx6r Predicted Values'!$M$20/'Zx6r Predicted Values'!$M$21)-('Zx6r Power Map + Gearing'!N67*('Zx6r Predicted Values'!$M$22/'Zx6r Predicted Values'!$M$21)) -> 339.12183 | AX7: =251*9.81*('Zx6r Predicted Values'!$M$20/'Zx6r Predicted Values'!$M$21)-('Zx6r Power Map + Gearing'!O67*('Zx6r Predicted Values'!$M$22/'Zx6r Predicted Values'!$M$21)) -> 507.88486 | AY7: =251*9.81*('Zx6r Predicted Values'!$M$20/'Zx6r Predicted Values'!$M$21)-('Zx6r Power Map + Gearing'!P67*('Zx6r Predicted Values'!$M$22/'Zx6r Predicted Values'!$M$21)) -> 601.90998 | AZ7: =251*9.81*('Zx6r Predicted Values'!$M$20/'Zx6r Predicted Values'!$M$21)-('Zx6r Power Map + Gearing'!Q67*('Zx6r Predicted Values'!$M$22/'Zx6r Predicted Values'!$M$21)) -> 678.83962 | BA7: =251*9.81*('Zx6r Predicted Values'!$M$20/'Zx6r Predicted Values'!$M$21)-('Zx6r Power Map + Gearing'!R67*('Zx6r Predicted Values'!$M$22/'Zx6r Predicted Values'!$M$21)) -> 730.42952 | BC7: =BC6+500 -> 4500 | BD7: ='Zx6r Power Map + Gearing'!$P$7*9.81*('Zx6r Predicted Values'!$M$21-'Zx6r Predicted Values'!$M$20)/'Zx6r Predicted Values'!$M$21+'Zx6r Power Map + Gearing'!M67*('Zx6r Predicted Values'!$M$22/'Zx6r Predicted Values'!$M$21) -> 2499.6595 | BE7: =$P$7*9.81*(('Zx6r Predicted Values'!$M$21-'Zx6r Predicted Values'!$M$20)/'Zx6r Predicted Values'!$M$21)+'Zx6r Power Map + Gearing'!N67*('Zx6r Predicted Values'!$M$22/'Zx6r Predicted Values'!$M$21) -> 2123.1882 | BF7: =$P$7*9.81*(('Zx6r Predicted Values'!$M$21-'Zx6r Predicted Values'!$M$20)/'Zx6r Predicted Values'!$M$21)+'Zx6r Power Map + Gearing'!N68*('Zx6r Predicted Values'!$M$22/'Zx6r Predicted Values'!$M$21) -> 2152.9226 | BG7: =$P$7*9.81*(('Zx6r Predicted Values'!$M$21-'Zx6r Predicted Values'!$M$20)/'Zx6r Predicted Values'!$M$21)+'Zx6r Power Map + Gearing'!N69*('Zx6r Predicted Values'!$M$22/'Zx6r Predicted Values'!$M$21) -> 2177.2508 | BH7: =$P$7*9.81*(('Zx6r Predicted Values'!$M$21-'Zx6r Predicted Values'!$M$20)/'Zx6r Predicted Values'!$M$21)+'Zx6r Power Map + Gearing'!N70*('Zx6r Predicted Values'!$M$22/'Zx6r Predicted Values'!$M$21) -> 2172.7456 | BI7: =$P$7*9.81*(('Zx6r Predicted Values'!$M$21-'Zx6r Predicted Values'!$M$20)/'Zx6r Predicted Values'!$M$21)+'Zx6r Power Map + Gearing'!N71*('Zx6r Predicted Values'!$M$22/'Zx6r Predicted Values'!$M$21) -> 2191.8061 | BL7: =BL6+500 -> 4500 | BM7: =$P$7+BU36*($U$6*$U$6)+BM36*($U$7*$U$7)+$P$12*($U$13*$U$13)+$P$13*($U$10*$U$10)+$P$14*($U$8*$U$8) -> 287.40465 | BN7: =$P$7+BV36*($U$6*$U$6)+BN36*($U$7*$U$7)+$P$12*($U$13*$U$13)+$P$13*($U$10*$U$10)+$P$14*($U$8*$U$8) -> 390.49782 | BO7: =$P$7+BW36*($U$6*$U$6)+BO36*($U$7*$U$7)+$P$12*($U$13*$U$13)+$P$13*($U$10*$U$10)+$P$14*($U$8*$U$8) -> 472.22747 | BP7: =$P$7+BX36*($U$6*$U$6)+BP36*($U$7*$U$7)+$P$12*($U$13*$U$13)+$P$13*($U$10*$U$10)+$P$14*($U$8*$U$8) -> 540.98479 | BQ7: =$P$7+BY36*($U$6*$U$6)+BQ36*($U$7*$U$7)+$P$12*($U$13*$U$13)+$P$13*($U$10*$U$10)+$P$14*($U$8*$U$8) -> 620.32804 | BR7: =$P$7+BZ36*($U$6*$U$6)+BR36*($U$7*$U$7)+$P$12*($U$13*$U$13)+$P$13*($U$10*$U$10)+$P$14*($U$8*$U$8) -> 693.24532
A8: Primary Reduction Ratio | B8: 1.891 | C8: 87 | D8: 46 | O8: Front wheel radius 17inch + 120/55 tyre | P8: =Y18 -> 0.2939 | Q8: m | R8: Fr | T8: Ts = Ts,r * 1/Rr | U8: =U11*U6 -> 9.1034191 | V8: Angular velocity 2nd shaft - motorcycle forward velocity | AU8: =AU7+500 -> 5000 | AV8: =($P$7*9.81)*('Zx6r Predicted Values'!$M$20/'Zx6r Predicted Values'!$M$21)-('Zx6r Power Map + Gearing'!M68*('Zx6r Predicted Values'!$M$22/'Zx6r Predicted Values'!$M$21)) -> -79.633033 | AW8: =251*9.81*('Zx6r Predicted Values'!$M$20/'Zx6r Predicted Values'!$M$21)-('Zx6r Power Map + Gearing'!N68*('Zx6r Predicted Values'!$M$22/'Zx6r Predicted Values'!$M$21)) -> 309.38739 | AX8: =251*9.81*('Zx6r Predicted Values'!$M$20/'Zx6r Predicted Values'!$M$21)-('Zx6r Power Map + Gearing'!O68*('Zx6r Predicted Values'!$M$22/'Zx6r Predicted Values'!$M$21)) -> 483.77586 | AY8: =251*9.81*('Zx6r Predicted Values'!$M$20/'Zx6r Predicted Values'!$M$21)-('Zx6r Power Map + Gearing'!P68*('Zx6r Predicted Values'!$M$22/'Zx6r Predicted Values'!$M$21)) -> 580.93515 | AZ8: =251*9.81*('Zx6r Predicted Values'!$M$20/'Zx6r Predicted Values'!$M$21)-('Zx6r Power Map + Gearing'!Q68*('Zx6r Predicted Values'!$M$22/'Zx6r Predicted Values'!$M$21)) -> 660.42911 | BA8: =251*9.81*('Zx6r Predicted Values'!$M$20/'Zx6r Predicted Values'!$M$21)-('Zx6r Power Map + Gearing'!R68*('Zx6r Predicted Values'!$M$22/'Zx6r Predicted Values'!$M$21)) -> 713.73867 | BC8: =BC7+500 -> 5000 | BD8: ='Zx6r Power Map + Gearing'!$P$7*9.81*('Zx6r Predicted Values'!$M$21-'Zx6r Predicted Values'!$M$20)/'Zx6r Predicted Values'!$M$21+'Zx6r Power Map + Gearing'!M68*('Zx6r Predicted Values'!$M$22/'Zx6r Predicted Values'!$M$21) -> 2541.943 | BE8: =$P$7*9.81*(('Zx6r Predicted Values'!$M$21-'Zx6r Predicted Values'!$M$20)/'Zx6r Predicted Values'!$M$21)+'Zx6r Power Map + Gearing'!N68*('Zx6r Predicted Values'!$M$22/'Zx6r Predicted Values'!$M$21) -> 2152.9226 | BF8: =$P$7*9.81*(('Zx6r Predicted Values'!$M$21-'Zx6r Predicted Values'!$M$20)/'Zx6r Predicted Values'!$M$21)+'Zx6r Power Map + Gearing'!N69*('Zx6r Predicted Values'!$M$22/'Zx6r Predicted Values'!$M$21) -> 2177.2508 | BG8: =$P$7*9.81*(('Zx6r Predicted Values'!$M$21-'Zx6r Predicted Values'!$M$20)/'Zx6r Predicted Values'!$M$21)+'Zx6r Power Map + Gearing'!N70*('Zx6r Predicted Values'!$M$22/'Zx6r Predicted Values'!$M$21) -> 2172.7456 | BH8: =$P$7*9.81*(('Zx6r Predicted Values'!$M$21-'Zx6r Predicted Values'!$M$20)/'Zx6r Predicted Values'!$M$21)+'Zx6r Power Map + Gearing'!N71*('Zx6r Predicted Values'!$M$22/'Zx6r Predicted Values'!$M$21) -> 2191.8061 | BI8: =$P$7*9.81*(('Zx6r Predicted Values'!$M$21-'Zx6r Predicted Values'!$M$20)/'Zx6r Predicted Values'!$M$21)+'Zx6r Power Map + Gearing'!N72*('Zx6r Predicted Values'!$M$22/'Zx6r Predicted Values'!$M$21) -> 2229.3826 | BL8: =BL7+500 -> 5000 | BM8: =$P$7+BU37*($U$6*$U$6)+BM37*($U$7*$U$7)+$P$12*($U$13*$U$13)+$P$13*($U$10*$U$10)+$P$14*($U$8*$U$8) -> 280.70157 | BN8: =$P$7+BV37*($U$6*$U$6)+BN37*($U$7*$U$7)+$P$12*($U$13*$U$13)+$P$13*($U$10*$U$10)+$P$14*($U$8*$U$8) -> 380.75664 | BO8: =$P$7+BW37*($U$6*$U$6)+BO37*($U$7*$U$7)+$P$12*($U$13*$U$13)+$P$13*($U$10*$U$10)+$P$14*($U$8*$U$8) -> 460.79125 | BP8: =$P$7+BX37*($U$6*$U$6)+BP37*($U$7*$U$7)+$P$12*($U$13*$U$13)+$P$13*($U$10*$U$10)+$P$14*($U$8*$U$8) -> 528.72596 | BQ8: =$P$7+BY37*($U$6*$U$6)+BQ37*($U$7*$U$7)+$P$12*($U$13*$U$13)+$P$13*($U$10*$U$10)+$P$14*($U$8*$U$8) -> 608.00939 | BR8: =$P$7+BZ37*($U$6*$U$6)+BR37*($U$7*$U$7)+$P$12*($U$13*$U$13)+$P$13*($U$10*$U$10)+$P$14*($U$8*$U$8) -> 681.88111
A9: Clutch Type | B9: Wet, multi disc | O9: Rear Wheel Radius | P9: =C45/2 -> 0.3149 | Q9: m | R9: Rr | T9: Tp,s | U9: =13/18 -> 0.72222222 | V9: reduction ratio primary - secondary (18/13) | AU9: =AU8+500 -> 5500 | AV9: =($P$7*9.81)*('Zx6r Predicted Values'!$M$20/'Zx6r Predicted Values'!$M$21)-('Zx6r Power Map + Gearing'!M69*('Zx6r Predicted Values'!$M$22/'Zx6r Predicted Values'!$M$21)) -> -114.22861 | AW9: =251*9.81*('Zx6r Predicted Values'!$M$20/'Zx6r Predicted Values'!$M$21)-('Zx6r Power Map + Gearing'!N69*('Zx6r Predicted Values'!$M$22/'Zx6r Predicted Values'!$M$21)) -> 285.05921 | AX9: =251*9.81*('Zx6r Predicted Values'!$M$20/'Zx6r Predicted Values'!$M$21)-('Zx6r Power Map + Gearing'!O69*('Zx6r Predicted Values'!$M$22/'Zx6r Predicted Values'!$M$21)) -> 464.05031 | AY9: =251*9.81*('Zx6r Predicted Values'!$M$20/'Zx6r Predicted Values'!$M$21)-('Zx6r Power Map + Gearing'!P69*('Zx6r Predicted Values'!$M$22/'Zx6r Predicted Values'!$M$21)) -> 563.77392 | AZ9: =251*9.81*('Zx6r Predicted Values'!$M$20/'Zx6r Predicted Values'!$M$21)-('Zx6r Power Map + Gearing'!Q69*('Zx6r Predicted Values'!$M$22/'Zx6r Predicted Values'!$M$21)) -> 645.36596 | BA9: =251*9.81*('Zx6r Predicted Values'!$M$20/'Zx6r Predicted Values'!$M$21)-('Zx6r Power Map + Gearing'!R69*('Zx6r Predicted Values'!$M$22/'Zx6r Predicted Values'!$M$21)) -> 700.08252 | BC9: =BC8+500 -> 5500 | BD9: ='Zx6r Power Map + Gearing'!$P$7*9.81*('Zx6r Predicted Values'!$M$21-'Zx6r Predicted Values'!$M$20)/'Zx6r Predicted Values'!$M$21+'Zx6r Power Map + Gearing'!M69*('Zx6r Predicted Values'!$M$22/'Zx6r Predicted Values'!$M$21) -> 2576.5386 | BE9: =$P$7*9.81*(('Zx6r Predicted Values'!$M$21-'Zx6r Predicted Values'!$M$20)/'Zx6r Predicted Values'!$M$21)+'Zx6r Power Map + Gearing'!N69*('Zx6r Predicted Values'!$M$22/'Zx6r Predicted Values'!$M$21) -> 2177.2508 | BF9: =$P$7*9.81*(('Zx6r Predicted Values'!$M$21-'Zx6r Predicted Values'!$M$20)/'Zx6r Predicted Values'!$M$21)+'Zx6r Power Map + Gearing'!N70*('Zx6r Predicted Values'!$M$22/'Zx6r Predicted Values'!$M$21) -> 2172.7456 | BG9: =$P$7*9.81*(('Zx6r Predicted Values'!$M$21-'Zx6r Predicted Values'!$M$20)/'Zx6r Predicted Values'!$M$21)+'Zx6r Power Map + Gearing'!N71*('Zx6r Predicted Values'!$M$22/'Zx6r Predicted Values'!$M$21) -> 2191.8061 | BH9: =$P$7*9.81*(('Zx6r Predicted Values'!$M$21-'Zx6r Predicted Values'!$M$20)/'Zx6r Predicted Values'!$M$21)+'Zx6r Power Map + Gearing'!N72*('Zx6r Predicted Values'!$M$22/'Zx6r Predicted Values'!$M$21) -> 2229.3826 | BI9: =$P$7*9.81*(('Zx6r Predicted Values'!$M$21-'Zx6r Predicted Values'!$M$20)/'Zx6r Predicted Values'!$M$21)+'Zx6r Power Map + Gearing'!N73*('Zx6r Predicted Values'!$M$22/'Zx6r Predicted Values'!$M$21) -> 2242.1259 | BL9: =BL8+500 -> 5500 | BM9: =$P$7+BU38*($U$6*$U$6)+BM38*($U$7*$U$7)+$P$12*($U$13*$U$13)+$P$13*($U$10*$U$10)+$P$14*($U$8*$U$8) -> 275.58027 | BN9: =$P$7+BV38*($U$6*$U$6)+BN38*($U$7*$U$7)+$P$12*($U$13*$U$13)+$P$13*($U$10*$U$10)+$P$14*($U$8*$U$8) -> 373.47894 | BO9: =$P$7+BW38*($U$6*$U$6)+BO38*($U$7*$U$7)+$P$12*($U$13*$U$13)+$P$13*($U$10*$U$10)+$P$14*($U$8*$U$8) -> 452.53653 | BP9: =$P$7+BX38*($U$6*$U$6)+BP38*($U$7*$U$7)+$P$12*($U$13*$U$13)+$P$13*($U$10*$U$10)+$P$14*($U$8*$U$8) -> 520.3112 | BQ9: =$P$7+BY38*($U$6*$U$6)+BQ38*($U$7*$U$7)+$P$12*($U$13*$U$13)+$P$13*($U$10*$U$10)+$P$14*($U$8*$U$8) -> 600.40362 | BR9: =$P$7+BZ38*($U$6*$U$6)+BR38*($U$7*$U$7)+$P$12*($U$13*$U$13)+$P$13*($U$10*$U$10)+$P$14*($U$8*$U$8) -> 676.17532
O10: Front Wheel Inertia | P10: 0.6 | Q10: kg/m^2 | R10: Iwf | T10: Tp = Tp,s*Ts,r*r*1/Rr | U10: =U9*U11*U6 -> 6.5746916 | V10: ratio primary gear shaft to forward velocity | AU10: =AU9+500 -> 6000 | AV10: =($P$7*9.81)*('Zx6r Predicted Values'!$M$20/'Zx6r Predicted Values'!$M$21)-('Zx6r Power Map + Gearing'!M70*('Zx6r Predicted Values'!$M$22/'Zx6r Predicted Values'!$M$21)) -> -107.82202 | AW10: =251*9.81*('Zx6r Predicted Values'!$M$20/'Zx6r Predicted Values'!$M$21)-('Zx6r Power Map + Gearing'!N70*('Zx6r Predicted Values'!$M$22/'Zx6r Predicted Values'!$M$21)) -> 289.56443 | AX10: =251*9.81*('Zx6r Predicted Values'!$M$20/'Zx6r Predicted Values'!$M$21)-('Zx6r Power Map + Gearing'!O70*('Zx6r Predicted Values'!$M$22/'Zx6r Predicted Values'!$M$21)) -> 467.70319 | AY10: =251*9.81*('Zx6r Predicted Values'!$M$20/'Zx6r Predicted Values'!$M$21)-('Zx6r Power Map + Gearing'!P70*('Zx6r Predicted Values'!$M$22/'Zx6r Predicted Values'!$M$21)) -> 566.95192 | AZ10: =251*9.81*('Zx6r Predicted Values'!$M$20/'Zx6r Predicted Values'!$M$21)-('Zx6r Power Map + Gearing'!Q70*('Zx6r Predicted Values'!$M$22/'Zx6r Predicted Values'!$M$21)) -> 648.15543 | BA10: =251*9.81*('Zx6r Predicted Values'!$M$20/'Zx6r Predicted Values'!$M$21)-('Zx6r Power Map + Gearing'!R70*('Zx6r Predicted Values'!$M$22/'Zx6r Predicted Values'!$M$21)) -> 702.61144 | BC10: =BC9+500 -> 6000 | BD10: ='Zx6r Power Map + Gearing'!$P$7*9.81*('Zx6r Predicted Values'!$M$21-'Zx6r Predicted Values'!$M$20)/'Zx6r Predicted Values'!$M$21+'Zx6r Power Map + Gearing'!M70*('Zx6r Predicted Values'!$M$22/'Zx6r Predicted Values'!$M$21) -> 2570.132 | BE10: =$P$7*9.81*(('Zx6r Predicted Values'!$M$21-'Zx6r Predicted Values'!$M$20)/'Zx6r Predicted Values'!$M$21)+'Zx6r Power Map + Gearing'!N70*('Zx6r Predicted Values'!$M$22/'Zx6r Predicted Values'!$M$21) -> 2172.7456 | BF10: =$P$7*9.81*(('Zx6r Predicted Values'!$M$21-'Zx6r Predicted Values'!$M$20)/'Zx6r Predicted Values'!$M$21)+'Zx6r Power Map + Gearing'!N71*('Zx6r Predicted Values'!$M$22/'Zx6r Predicted Values'!$M$21) -> 2191.8061 | BG10: =$P$7*9.81*(('Zx6r Predicted Values'!$M$21-'Zx6r Predicted Values'!$M$20)/'Zx6r Predicted Values'!$M$21)+'Zx6r Power Map + Gearing'!N72*('Zx6r Predicted Values'!$M$22/'Zx6r Predicted Values'!$M$21) -> 2229.3826 | BH10: =$P$7*9.81*(('Zx6r Predicted Values'!$M$21-'Zx6r Predicted Values'!$M$20)/'Zx6r Predicted Values'!$M$21)+'Zx6r Power Map + Gearing'!N73*('Zx6r Predicted Values'!$M$22/'Zx6r Predicted Values'!$M$21) -> 2242.1259 | BI10: =$P$7*9.81*(('Zx6r Predicted Values'!$M$21-'Zx6r Predicted Values'!$M$20)/'Zx6r Predicted Values'!$M$21)+'Zx6r Power Map + Gearing'!N74*('Zx6r Predicted Values'!$M$22/'Zx6r Predicted Values'!$M$21) -> 2290.4444 | BL10: =BL9+500 -> 6000 | BM10: =$P$7+BU39*($U$6*$U$6)+BM39*($U$7*$U$7)+$P$12*($U$13*$U$13)+$P$13*($U$10*$U$10)+$P$14*($U$8*$U$8) -> 276.79692 | BN10: =$P$7+BV39*($U$6*$U$6)+BN39*($U$7*$U$7)+$P$12*($U$13*$U$13)+$P$13*($U$10*$U$10)+$P$14*($U$8*$U$8) -> 376.08679 | BO10: =$P$7+BW39*($U$6*$U$6)+BO39*($U$7*$U$7)+$P$12*($U$13*$U$13)+$P$13*($U$10*$U$10)+$P$14*($U$8*$U$8) -> 457.17404 | BP10: =$P$7+BX39*($U$6*$U$6)+BP39*($U$7*$U$7)+$P$12*($U$13*$U$13)+$P$13*($U$10*$U$10)+$P$14*($U$8*$U$8) -> 527.62519 | BQ10: =$P$7+BY39*($U$6*$U$6)+BQ39*($U$7*$U$7)+$P$12*($U$13*$U$13)+$P$13*($U$10*$U$10)+$P$14*($U$8*$U$8) -> 612.28607 | BR10: =$P$7+BZ39*($U$6*$U$6)+BR39*($U$7*$U$7)+$P$12*($U$13*$U$13)+$P$13*($U$10*$U$10)+$P$14*($U$8*$U$8) -> 694.02634
A11: Transmissison: | O11: Rear Wheel Inertia | P11: 0.8 | Q11: kg/m^2 | R11: Iwr | T11: Ts,r | U11: =(43/15) -> 2.8666667 | V11: ratio driving-wheel (43/15) | AU11: =AU10+500 -> 6500 | AV11: =($P$7*9.81)*('Zx6r Predicted Values'!$M$20/'Zx6r Predicted Values'!$M$21)-('Zx6r Power Map + Gearing'!M71*('Zx6r Predicted Values'!$M$22/'Zx6r Predicted Values'!$M$21)) -> -134.92682 | AW11: =251*9.81*('Zx6r Predicted Values'!$M$20/'Zx6r Predicted Values'!$M$21)-('Zx6r Power Map + Gearing'!N71*('Zx6r Predicted Values'!$M$22/'Zx6r Predicted Values'!$M$21)) -> 270.50389 | AX11: =251*9.81*('Zx6r Predicted Values'!$M$20/'Zx6r Predicted Values'!$M$21)-('Zx6r Power Map + Gearing'!O71*('Zx6r Predicted Values'!$M$22/'Zx6r Predicted Values'!$M$21)) -> 452.2487 | AY11: =251*9.81*('Zx6r Predicted Values'!$M$20/'Zx6r Predicted Values'!$M$21)-('Zx6r Power Map + Gearing'!P71*('Zx6r Predicted Values'!$M$22/'Zx6r Predicted Values'!$M$21)) -> 553.50652 | AZ11: =251*9.81*('Zx6r Predicted Values'!$M$20/'Zx6r Predicted Values'!$M$21)-('Zx6r Power Map + Gearing'!Q71*('Zx6r Predicted Values'!$M$22/'Zx6r Predicted Values'!$M$21)) -> 636.35382 | BA11: =251*9.81*('Zx6r Predicted Values'!$M$20/'Zx6r Predicted Values'!$M$21)-('Zx6r Power Map + Gearing'!R71*('Zx6r Predicted Values'!$M$22/'Zx6r Predicted Values'!$M$21)) -> 691.91218 | BC11: =BC10+500 -> 6500 | BD11: ='Zx6r Power Map + Gearing'!$P$7*9.81*('Zx6r Predicted Values'!$M$21-'Zx6r Predicted Values'!$M$20)/'Zx6r Predicted Values'!$M$21+'Zx6r Power Map + Gearing'!M71*('Zx6r Predicted Values'!$M$22/'Zx6r Predicted Values'!$M$21) -> 2597.2368 | BE11: =$P$7*9.81*(('Zx6r Predicted Values'!$M$21-'Zx6r Predicted Values'!$M$20)/'Zx6r Predicted Values'!$M$21)+'Zx6r Power Map + Gearing'!N71*('Zx6r Predicted Values'!$M$22/'Zx6r Predicted Values'!$M$21) -> 2191.8061 | BF11: =$P$7*9.81*(('Zx6r Predicted Values'!$M$21-'Zx6r Predicted Values'!$M$20)/'Zx6r Predicted Values'!$M$21)+'Zx6r Power Map + Gearing'!N72*('Zx6r Predicted Values'!$M$22/'Zx6r Predicted Values'!$M$21) -> 2229.3826 | BG11: =$P$7*9.81*(('Zx6r Predicted Values'!$M$21-'Zx6r Predicted Values'!$M$20)/'Zx6r Predicted Values'!$M$21)+'Zx6r Power Map + Gearing'!N73*('Zx6r Predicted Values'!$M$22/'Zx6r Predicted Values'!$M$21) -> 2242.1259 | BH11: =$P$7*9.81*(('Zx6r Predicted Values'!$M$21-'Zx6r Predicted Values'!$M$20)/'Zx6r Predicted Values'!$M$21)+'Zx6r Power Map + Gearing'!N74*('Zx6r Predicted Values'!$M$22/'Zx6r Predicted Values'!$M$21) -> 2290.4444 | BI11: =$P$7*9.81*(('Zx6r Predicted Values'!$M$21-'Zx6r Predicted Values'!$M$20)/'Zx6r Predicted Values'!$M$21)+'Zx6r Power Map + Gearing'!N75*('Zx6r Predicted Values'!$M$22/'Zx6r Predicted Values'!$M$21) -> 2350.5692 | BL11: =BL10+500 -> 6500 | BM11: =$P$7+BU40*($U$6*$U$6)+BM40*($U$7*$U$7)+$P$12*($U$13*$U$13)+$P$13*($U$10*$U$10)+$P$14*($U$8*$U$8) -> 273.00048 | BN11: =$P$7+BV40*($U$6*$U$6)+BN40*($U$7*$U$7)+$P$12*($U$13*$U$13)+$P$13*($U$10*$U$10)+$P$14*($U$8*$U$8) -> 370.92321 | BO11: =$P$7+BW40*($U$6*$U$6)+BO40*($U$7*$U$7)+$P$12*($U$13*$U$13)+$P$13*($U$10*$U$10)+$P$14*($U$8*$U$8) -> 451.77083 | BP11: =$P$7+BX40*($U$6*$U$6)+BP40*($U$7*$U$7)+$P$12*($U$13*$U$13)+$P$13*($U$10*$U$10)+$P$14*($U$8*$U$8) -> 522.85211 | BQ11: =$P$7+BY40*($U$6*$U$6)+BQ40*($U$7*$U$7)+$P$12*($U$13*$U$13)+$P$13*($U$10*$U$10)+$P$14*($U$8*$U$8) -> 609.55849 | BR11: =$P$7+BZ40*($U$6*$U$6)+BR40*($U$7*$U$7)+$P$12*($U$13*$U$13)+$P$13*($U$10*$U$10)+$P$14*($U$8*$U$8) -> 694.8222
A12: Type | B12: 6 speed, constant mesh, return shift | O12: Engine Inertia | P12: 0.05 | Q12: kg/m^2 | R12: Iwm | T12: Tm,p | U12: =1.891 -> 1.891 | V12: Trans. Ratio for Engine - Primary Shafts (87/46) | AU12: =AU11+500 -> 7000 | AV12: =($P$7*9.81)*('Zx6r Predicted Values'!$M$20/'Zx6r Predicted Values'!$M$21)-('Zx6r Power Map + Gearing'!M72*('Zx6r Predicted Values'!$M$22/'Zx6r Predicted Values'!$M$21)) -> -188.36199 | AW12: =251*9.81*('Zx6r Predicted Values'!$M$20/'Zx6r Predicted Values'!$M$21)-('Zx6r Power Map + Gearing'!N72*('Zx6r Predicted Values'!$M$22/'Zx6r Predicted Values'!$M$21)) -> 232.92741 | AX12: =251*9.81*('Zx6r Predicted Values'!$M$20/'Zx6r Predicted Values'!$M$21)-('Zx6r Power Map + Gearing'!O72*('Zx6r Predicted Values'!$M$22/'Zx6r Predicted Values'!$M$21)) -> 421.78128 | AY12: =251*9.81*('Zx6r Predicted Values'!$M$20/'Zx6r Predicted Values'!$M$21)-('Zx6r Power Map + Gearing'!P72*('Zx6r Predicted Values'!$M$22/'Zx6r Predicted Values'!$M$21)) -> 526.99986 | AZ12: =251*9.81*('Zx6r Predicted Values'!$M$20/'Zx6r Predicted Values'!$M$21)-('Zx6r Power Map + Gearing'!Q72*('Zx6r Predicted Values'!$M$22/'Zx6r Predicted Values'!$M$21)) -> 613.08779 | BA12: =251*9.81*('Zx6r Predicted Values'!$M$20/'Zx6r Predicted Values'!$M$21)-('Zx6r Power Map + Gearing'!R72*('Zx6r Predicted Values'!$M$22/'Zx6r Predicted Values'!$M$21)) -> 670.81934 | BC12: =BC11+500 -> 7000 | BD12: ='Zx6r Power Map + Gearing'!$P$7*9.81*('Zx6r Predicted Values'!$M$21-'Zx6r Predicted Values'!$M$20)/'Zx6r Predicted Values'!$M$21+'Zx6r Power Map + Gearing'!M72*('Zx6r Predicted Values'!$M$22/'Zx6r Predicted Values'!$M$21) -> 2650.672 | BE12: =$P$7*9.81*(('Zx6r Predicted Values'!$M$21-'Zx6r Predicted Values'!$M$20)/'Zx6r Predicted Values'!$M$21)+'Zx6r Power Map + Gearing'!N72*('Zx6r Predicted Values'!$M$22/'Zx6r Predicted Values'!$M$21) -> 2229.3826 | BF12: =$P$7*9.81*(('Zx6r Predicted Values'!$M$21-'Zx6r Predicted Values'!$M$20)/'Zx6r Predicted Values'!$M$21)+'Zx6r Power Map + Gearing'!N73*('Zx6r Predicted Values'!$M$22/'Zx6r Predicted Values'!$M$21) -> 2242.1259 | BG12: =$P$7*9.81*(('Zx6r Predicted Values'!$M$21-'Zx6r Predicted Values'!$M$20)/'Zx6r Predicted Values'!$M$21)+'Zx6r Power Map + Gearing'!N74*('Zx6r Predicted Values'!$M$22/'Zx6r Predicted Values'!$M$21) -> 2290.4444 | BH12: =$P$7*9.81*(('Zx6r Predicted Values'!$M$21-'Zx6r Predicted Values'!$M$20)/'Zx6r Predicted Values'!$M$21)+'Zx6r Power Map + Gearing'!N75*('Zx6r Predicted Values'!$M$22/'Zx6r Predicted Values'!$M$21) -> 2350.5692 | BI12: =$P$7*9.81*(('Zx6r Predicted Values'!$M$21-'Zx6r Predicted Values'!$M$20)/'Zx6r Predicted Values'!$M$21)+'Zx6r Power Map + Gearing'!N76*('Zx6r Predicted Values'!$M$22/'Zx6r Predicted Values'!$M$21) -> 2387.4943 | BL12: =BL11+500 -> 7000 | BM12: =$P$7+BU41*($U$6*$U$6)+BM41*($U$7*$U$7)+$P$12*($U$13*$U$13)+$P$13*($U$10*$U$10)+$P$14*($U$8*$U$8) -> 265.7041 | BN12: =$P$7+BV41*($U$6*$U$6)+BN41*($U$7*$U$7)+$P$12*($U$13*$U$13)+$P$13*($U$10*$U$10)+$P$14*($U$8*$U$8) -> 360.27896 | BO12: =$P$7+BW41*($U$6*$U$6)+BO41*($U$7*$U$7)+$P$12*($U$13*$U$13)+$P$13*($U$10*$U$10)+$P$14*($U$8*$U$8) -> 439.15784 | BP12: =$P$7+BX41*($U$6*$U$6)+BP41*($U$7*$U$7)+$P$12*($U$13*$U$13)+$P$13*($U$10*$U$10)+$P$14*($U$8*$U$8) -> 509.21825 | BQ12: =$P$7+BY41*($U$6*$U$6)+BQ41*($U$7*$U$7)+$P$12*($U$13*$U$13)+$P$13*($U$10*$U$10)+$P$14*($U$8*$U$8) -> 595.79395 | BR12: =$P$7+BZ41*($U$6*$U$6)+BR41*($U$7*$U$7)+$P$12*($U$13*$U$13)+$P$13*($U$10*$U$10)+$P$14*($U$8*$U$8) -> 682.30026
O13: Prrimary Shaft Inertia | P13: 0.005 | Q13: kg/m^2 | R13: Iwp | T13: Tm | U13: =U12*U9*U11*U6 -> 12.432742 | V13: ratio engine shaft v to motorcycle forward v | AU13: =AU12+500 -> 7500 | AV13: =($P$7*9.81)*('Zx6r Predicted Values'!$M$20/'Zx6r Predicted Values'!$M$21)-('Zx6r Power Map + Gearing'!M73*('Zx6r Predicted Values'!$M$22/'Zx6r Predicted Values'!$M$21)) -> -206.48349 | AW13: =251*9.81*('Zx6r Predicted Values'!$M$20/'Zx6r Predicted Values'!$M$21)-('Zx6r Power Map + Gearing'!N73*('Zx6r Predicted Values'!$M$22/'Zx6r Predicted Values'!$M$21)) -> 220.18407 | AX13: =251*9.81*('Zx6r Predicted Values'!$M$20/'Zx6r Predicted Values'!$M$21)-('Zx6r Power Map + Gearing'!O73*('Zx6r Predicted Values'!$M$22/'Zx6r Predicted Values'!$M$21)) -> 411.44884 | AY13: =251*9.81*('Zx6r Predicted Values'!$M$20/'Zx6r Predicted Values'!$M$21)-('Zx6r Power Map + Gearing'!P73*('Zx6r Predicted Values'!$M$22/'Zx6r Predicted Values'!$M$21)) -> 518.01064 | AZ13: =251*9.81*('Zx6r Predicted Values'!$M$20/'Zx6r Predicted Values'!$M$21)-('Zx6r Power Map + Gearing'!Q73*('Zx6r Predicted Values'!$M$22/'Zx6r Predicted Values'!$M$21)) -> 605.19757 | BA13: =251*9.81*('Zx6r Predicted Values'!$M$20/'Zx6r Predicted Values'!$M$21)-('Zx6r Power Map + Gearing'!R73*('Zx6r Predicted Values'!$M$22/'Zx6r Predicted Values'!$M$21)) -> 663.66612 | BC13: =BC12+500 -> 7500 | BD13: ='Zx6r Power Map + Gearing'!$P$7*9.81*('Zx6r Predicted Values'!$M$21-'Zx6r Predicted Values'!$M$20)/'Zx6r Predicted Values'!$M$21+'Zx6r Power Map + Gearing'!M73*('Zx6r Predicted Values'!$M$22/'Zx6r Predicted Values'!$M$21) -> 2668.7935 | BE13: =$P$7*9.81*(('Zx6r Predicted Values'!$M$21-'Zx6r Predicted Values'!$M$20)/'Zx6r Predicted Values'!$M$21)+'Zx6r Power Map + Gearing'!N73*('Zx6r Predicted Values'!$M$22/'Zx6r Predicted Values'!$M$21) -> 2242.1259 | BF13: =$P$7*9.81*(('Zx6r Predicted Values'!$M$21-'Zx6r Predicted Values'!$M$20)/'Zx6r Predicted Values'!$M$21)+'Zx6r Power Map + Gearing'!N74*('Zx6r Predicted Values'!$M$22/'Zx6r Predicted Values'!$M$21) -> 2290.4444 | BG13: =$P$7*9.81*(('Zx6r Predicted Values'!$M$21-'Zx6r Predicted Values'!$M$20)/'Zx6r Predicted Values'!$M$21)+'Zx6r Power Map + Gearing'!N75*('Zx6r Predicted Values'!$M$22/'Zx6r Predicted Values'!$M$21) -> 2350.5692 | BH13: =$P$7*9.81*(('Zx6r Predicted Values'!$M$21-'Zx6r Predicted Values'!$M$20)/'Zx6r Predicted Values'!$M$21)+'Zx6r Power Map + Gearing'!N76*('Zx6r Predicted Values'!$M$22/'Zx6r Predicted Values'!$M$21) -> 2387.4943 | BI13: =$P$7*9.81*(('Zx6r Predicted Values'!$M$21-'Zx6r Predicted Values'!$M$20)/'Zx6r Predicted Values'!$M$21)+'Zx6r Power Map + Gearing'!N77*('Zx6r Predicted Values'!$M$22/'Zx6r Predicted Values'!$M$21) -> 2373.5834 | BL13: =BL12+500 -> 7500 | BM13: =$P$7+BU42*($U$6*$U$6)+BM42*($U$7*$U$7)+$P$12*($U$13*$U$13)+$P$13*($U$10*$U$10)+$P$14*($U$8*$U$8) -> 263.53508 | BN13: =$P$7+BV42*($U$6*$U$6)+BN42*($U$7*$U$7)+$P$12*($U$13*$U$13)+$P$13*($U$10*$U$10)+$P$14*($U$8*$U$8) -> 357.67857 | BO13: =$P$7+BW42*($U$6*$U$6)+BO42*($U$7*$U$7)+$P$12*($U$13*$U$13)+$P$13*($U$10*$U$10)+$P$14*($U$8*$U$8) -> 437.1531 | BP13: =$P$7+BX42*($U$6*$U$6)+BP42*($U$7*$U$7)+$P$12*($U$13*$U$13)+$P$13*($U$10*$U$10)+$P$14*($U$8*$U$8) -> 508.71218 | BQ13: =$P$7+BY42*($U$6*$U$6)+BQ42*($U$7*$U$7)+$P$12*($U$13*$U$13)+$P$13*($U$10*$U$10)+$P$14*($U$8*$U$8) -> 598.68099 | BR13: =$P$7+BZ42*($U$6*$U$6)+BR42*($U$7*$U$7)+$P$12*($U$13*$U$13)+$P$13*($U$10*$U$10)+$P$14*($U$8*$U$8) -> 690.51662
A14: Gear Ratios: | E14: Inverse | O14: Secondary Shaft Inertia | P14: 0.007 | Q14: kg/m^2 | R14: Iws | AU14: =AU13+500 -> 8000 | AV14: =($P$7*9.81)*('Zx6r Predicted Values'!$M$20/'Zx6r Predicted Values'!$M$21)-('Zx6r Power Map + Gearing'!M74*('Zx6r Predicted Values'!$M$22/'Zx6r Predicted Values'!$M$21)) -> -275.19415 | AW14: =251*9.81*('Zx6r Predicted Values'!$M$20/'Zx6r Predicted Values'!$M$21)-('Zx6r Power Map + Gearing'!N74*('Zx6r Predicted Values'!$M$22/'Zx6r Predicted Values'!$M$21)) -> 171.86561 | AX14: =251*9.81*('Zx6r Predicted Values'!$M$20/'Zx6r Predicted Values'!$M$21)-('Zx6r Power Map + Gearing'!O74*('Zx6r Predicted Values'!$M$22/'Zx6r Predicted Values'!$M$21)) -> 372.27171 | AY14: =251*9.81*('Zx6r Predicted Values'!$M$20/'Zx6r Predicted Values'!$M$21)-('Zx6r Power Map + Gearing'!P74*('Zx6r Predicted Values'!$M$22/'Zx6r Predicted Values'!$M$21)) -> 483.92654 | AZ14: =251*9.81*('Zx6r Predicted Values'!$M$20/'Zx6r Predicted Values'!$M$21)-('Zx6r Power Map + Gearing'!Q74*('Zx6r Predicted Values'!$M$22/'Zx6r Predicted Values'!$M$21)) -> 575.28049 | BA14: =251*9.81*('Zx6r Predicted Values'!$M$20/'Zx6r Predicted Values'!$M$21)-('Zx6r Power Map + Gearing'!R74*('Zx6r Predicted Values'!$M$22/'Zx6r Predicted Values'!$M$21)) -> 636.54349 | BC14: =BC13+500 -> 8000 | BD14: ='Zx6r Power Map + Gearing'!$P$7*9.81*('Zx6r Predicted Values'!$M$21-'Zx6r Predicted Values'!$M$20)/'Zx6r Predicted Values'!$M$21+'Zx6r Power Map + Gearing'!M74*('Zx6r Predicted Values'!$M$22/'Zx6r Predicted Values'!$M$21) -> 2737.5042 | BE14: =$P$7*9.81*(('Zx6r Predicted Values'!$M$21-'Zx6r Predicted Values'!$M$20)/'Zx6r Predicted Values'!$M$21)+'Zx6r Power Map + Gearing'!N74*('Zx6r Predicted Values'!$M$22/'Zx6r Predicted Values'!$M$21) -> 2290.4444 | BF14: =$P$7*9.81*(('Zx6r Predicted Values'!$M$21-'Zx6r Predicted Values'!$M$20)/'Zx6r Predicted Values'!$M$21)+'Zx6r Power Map + Gearing'!N75*('Zx6r Predicted Values'!$M$22/'Zx6r Predicted Values'!$M$21) -> 2350.5692 | BG14: =$P$7*9.81*(('Zx6r Predicted Values'!$M$21-'Zx6r Predicted Values'!$M$20)/'Zx6r Predicted Values'!$M$21)+'Zx6r Power Map + Gearing'!N76*('Zx6r Predicted Values'!$M$22/'Zx6r Predicted Values'!$M$21) -> 2387.4943 | BH14: =$P$7*9.81*(('Zx6r Predicted Values'!$M$21-'Zx6r Predicted Values'!$M$20)/'Zx6r Predicted Values'!$M$21)+'Zx6r Power Map + Gearing'!N77*('Zx6r Predicted Values'!$M$22/'Zx6r Predicted Values'!$M$21) -> 2373.5834 | BI14: =$P$7*9.81*(('Zx6r Predicted Values'!$M$21-'Zx6r Predicted Values'!$M$20)/'Zx6r Predicted Values'!$M$21)+'Zx6r Power Map + Gearing'!N78*('Zx6r Predicted Values'!$M$22/'Zx6r Predicted Values'!$M$21) -> 2420.5326 | BL14: =BL13+500 -> 8000 | BM14: =$P$7+BU43*($U$6*$U$6)+BM43*($U$7*$U$7)+$P$12*($U$13*$U$13)+$P$13*($U$10*$U$10)+$P$14*($U$8*$U$8) -> 255.06197 | BN14: =$P$7+BV43*($U$6*$U$6)+BN43*($U$7*$U$7)+$P$12*($U$13*$U$13)+$P$13*($U$10*$U$10)+$P$14*($U$8*$U$8) -> 345.14277 | BO14: =$P$7+BW43*($U$6*$U$6)+BO43*($U$7*$U$7)+$P$12*($U$13*$U$13)+$P$13*($U$10*$U$10)+$P$14*($U$8*$U$8) -> 421.92168 | BP14: =$P$7+BX43*($U$6*$U$6)+BP43*($U$7*$U$7)+$P$12*($U$13*$U$13)+$P$13*($U$10*$U$10)+$P$14*($U$8*$U$8) -> 491.70209 | BQ14: =$P$7+BY43*($U$6*$U$6)+BQ43*($U$7*$U$7)+$P$12*($U$13*$U$13)+$P$13*($U$10*$U$10)+$P$14*($U$8*$U$8) -> 580.49257 | BR14: =$P$7+BZ43*($U$6*$U$6)+BR43*($U$7*$U$7)+$P$12*($U$13*$U$13)+$P$13*($U$10*$U$10)+$P$14*($U$8*$U$8) -> 672.49219
A15: 1st | B15: 2.923 | C15: 38 | D15: 13 | E15: =13/38 -> 0.34210526 | O15: Trans. Ratio Driving - Wheel Sprockets | P15: =U11 -> 2.8666667 | R15: Ts,r | T15: front wheel weight bias | U15: 95 | V15: kg | W15: =U15/(U15+U16) -> 0.49479167 | X15: % | AU15: =AU14+500 -> 8500 | AV15: =($P$7*9.81)*('Zx6r Predicted Values'!$M$20/'Zx6r Predicted Values'!$M$21)-('Zx6r Power Map + Gearing'!M75*('Zx6r Predicted Values'!$M$22/'Zx6r Predicted Values'!$M$21)) -> -360.69384 | AW15: =251*9.81*('Zx6r Predicted Values'!$M$20/'Zx6r Predicted Values'!$M$21)-('Zx6r Power Map + Gearing'!N75*('Zx6r Predicted Values'!$M$22/'Zx6r Predicted Values'!$M$21)) -> 111.74083 | AX15: =251*9.81*('Zx6r Predicted Values'!$M$20/'Zx6r Predicted Values'!$M$21)-('Zx6r Power Map + Gearing'!O75*('Zx6r Predicted Values'!$M$22/'Zx6r Predicted Values'!$M$21)) -> 323.52189 | AY15: =251*9.81*('Zx6r Predicted Values'!$M$20/'Zx6r Predicted Values'!$M$21)-('Zx6r Power Map + Gearing'!P75*('Zx6r Predicted Values'!$M$22/'Zx6r Predicted Values'!$M$21)) -> 441.51419 | AZ15: =251*9.81*('Zx6r Predicted Values'!$M$20/'Zx6r Predicted Values'!$M$21)-('Zx6r Power Map + Gearing'!Q75*('Zx6r Predicted Values'!$M$22/'Zx6r Predicted Values'!$M$21)) -> 538.05335 | BA15: =251*9.81*('Zx6r Predicted Values'!$M$20/'Zx6r Predicted Values'!$M$21)-('Zx6r Power Map + Gearing'!R75*('Zx6r Predicted Values'!$M$22/'Zx6r Predicted Values'!$M$21)) -> 602.79361 | BC15: =BC14+500 -> 8500 | BD15: ='Zx6r Power Map + Gearing'!$P$7*9.81*('Zx6r Predicted Values'!$M$21-'Zx6r Predicted Values'!$M$20)/'Zx6r Predicted Values'!$M$21+'Zx6r Power Map + Gearing'!M75*('Zx6r Predicted Values'!$M$22/'Zx6r Predicted Values'!$M$21) -> 2823.0038 | BE15: =$P$7*9.81*(('Zx6r Predicted Values'!$M$21-'Zx6r Predicted Values'!$M$20)/'Zx6r Predicted Values'!$M$21)+'Zx6r Power Map + Gearing'!N75*('Zx6r Predicted Values'!$M$22/'Zx6r Predicted Values'!$M$21) -> 2350.5692 | BF15: =$P$7*9.81*(('Zx6r Predicted Values'!$M$21-'Zx6r Predicted Values'!$M$20)/'Zx6r Predicted Values'!$M$21)+'Zx6r Power Map + Gearing'!N76*('Zx6r Predicted Values'!$M$22/'Zx6r Predicted Values'!$M$21) -> 2387.4943 | BG15: =$P$7*9.81*(('Zx6r Predicted Values'!$M$21-'Zx6r Predicted Values'!$M$20)/'Zx6r Predicted Values'!$M$21)+'Zx6r Power Map + Gearing'!N77*('Zx6r Predicted Values'!$M$22/'Zx6r Predicted Values'!$M$21) -> 2373.5834 | BH15: =$P$7*9.81*(('Zx6r Predicted Values'!$M$21-'Zx6r Predicted Values'!$M$20)/'Zx6r Predicted Values'!$M$21)+'Zx6r Power Map + Gearing'!N78*('Zx6r Predicted Values'!$M$22/'Zx6r Predicted Values'!$M$21) -> 2420.5326 | BI15: =$P$7*9.81*(('Zx6r Predicted Values'!$M$21-'Zx6r Predicted Values'!$M$20)/'Zx6r Predicted Values'!$M$21)+'Zx6r Power Map + Gearing'!N79*('Zx6r Predicted Values'!$M$22/'Zx6r Predicted Values'!$M$21) -> 2463.0103 | BL15: =BL14+500 -> 8500 | BM15: =$P$7+BU44*($U$6*$U$6)+BM44*($U$7*$U$7)+$P$12*($U$13*$U$13)+$P$13*($U$10*$U$10)+$P$14*($U$8*$U$8) -> 245.47789 | BN15: =$P$7+BV44*($U$6*$U$6)+BN44*($U$7*$U$7)+$P$12*($U$13*$U$13)+$P$13*($U$10*$U$10)+$P$14*($U$8*$U$8) -> 330.81661 | BO15: =$P$7+BW44*($U$6*$U$6)+BO44*($U$7*$U$7)+$P$12*($U$13*$U$13)+$P$13*($U$10*$U$10)+$P$14*($U$8*$U$8) -> 404.17677 | BP15: =$P$7+BX44*($U$6*$U$6)+BP44*($U$7*$U$7)+$P$12*($U$13*$U$13)+$P$13*($U$10*$U$10)+$P$14*($U$8*$U$8) -> 471.37469 | BQ15: =$P$7+BY44*($U$6*$U$6)+BQ44*($U$7*$U$7)+$P$12*($U$13*$U$13)+$P$13*($U$10*$U$10)+$P$14*($U$8*$U$8) -> 557.74986 | BR15: =$P$7+BZ44*($U$6*$U$6)+BR44*($U$7*$U$7)+$P$12*($U$13*$U$13)+$P$13*($U$10*$U$10)+$P$14*($U$8*$U$8) -> 648.39413
A16: 2nd | B16: 2.055 | C16: 37 | D16: 18 | E16: =18/37 -> 0.48648649 | O16: Trans. Ratio Primary-Secondary Gear Shafts | P16: =U9 -> 0.72222222 | R16: Tp,s | T16: rear wheel weight bias | U16: 97 | V16: kg | W16: =U16/(U15+U16) -> 0.50520833 | X16: % | AU16: =AU15+500 -> 9000 | AV16: =($P$7*9.81)*('Zx6r Predicted Values'!$M$20/'Zx6r Predicted Values'!$M$21)-('Zx6r Power Map + Gearing'!M76*('Zx6r Predicted Values'!$M$22/'Zx6r Predicted Values'!$M$21)) -> -413.20275 | AW16: =251*9.81*('Zx6r Predicted Values'!$M$20/'Zx6r Predicted Values'!$M$21)-('Zx6r Power Map + Gearing'!N76*('Zx6r Predicted Values'!$M$22/'Zx6r Predicted Values'!$M$21)) -> 74.815707 | AX16: =251*9.81*('Zx6r Predicted Values'!$M$20/'Zx6r Predicted Values'!$M$21)-('Zx6r Power Map + Gearing'!O76*('Zx6r Predicted Values'!$M$22/'Zx6r Predicted Values'!$M$21)) -> 293.5826 | AY16: =251*9.81*('Zx6r Predicted Values'!$M$20/'Zx6r Predicted Values'!$M$21)-('Zx6r Power Map + Gearing'!P76*('Zx6r Predicted Values'!$M$22/'Zx6r Predicted Values'!$M$21)) -> 415.46701 | AZ16: =251*9.81*('Zx6r Predicted Values'!$M$20/'Zx6r Predicted Values'!$M$21)-('Zx6r Power Map + Gearing'!Q76*('Zx6r Predicted Values'!$M$22/'Zx6r Predicted Values'!$M$21)) -> 515.19062 | BA16: =251*9.81*('Zx6r Predicted Values'!$M$20/'Zx6r Predicted Values'!$M$21)-('Zx6r Power Map + Gearing'!R76*('Zx6r Predicted Values'!$M$22/'Zx6r Predicted Values'!$M$21)) -> 582.06642 | BC16: =BC15+500 -> 9000 | BD16: ='Zx6r Power Map + Gearing'!$P$7*9.81*('Zx6r Predicted Values'!$M$21-'Zx6r Predicted Values'!$M$20)/'Zx6r Predicted Values'!$M$21+'Zx6r Power Map + Gearing'!M76*('Zx6r Predicted Values'!$M$22/'Zx6r Predicted Values'!$M$21) -> 2875.5127 | BE16: =$P$7*9.81*(('Zx6r Predicted Values'!$M$21-'Zx6r Predicted Values'!$M$20)/'Zx6r Predicted Values'!$M$21)+'Zx6r Power Map + Gearing'!N76*('Zx6r Predicted Values'!$M$22/'Zx6r Predicted Values'!$M$21) -> 2387.4943 | BF16: =$P$7*9.81*(('Zx6r Predicted Values'!$M$21-'Zx6r Predicted Values'!$M$20)/'Zx6r Predicted Values'!$M$21)+'Zx6r Power Map + Gearing'!N77*('Zx6r Predicted Values'!$M$22/'Zx6r Predicted Values'!$M$21) -> 2373.5834 | BG16: =$P$7*9.81*(('Zx6r Predicted Values'!$M$21-'Zx6r Predicted Values'!$M$20)/'Zx6r Predicted Values'!$M$21)+'Zx6r Power Map + Gearing'!N78*('Zx6r Predicted Values'!$M$22/'Zx6r Predicted Values'!$M$21) -> 2420.5326 | BH16: =$P$7*9.81*(('Zx6r Predicted Values'!$M$21-'Zx6r Predicted Values'!$M$20)/'Zx6r Predicted Values'!$M$21)+'Zx6r Power Map + Gearing'!N79*('Zx6r Predicted Values'!$M$22/'Zx6r Predicted Values'!$M$21) -> 2463.0103 | BI16: =$P$7*9.81*(('Zx6r Predicted Values'!$M$21-'Zx6r Predicted Values'!$M$20)/'Zx6r Predicted Values'!$M$21)+'Zx6r Power Map + Gearing'!N80*('Zx6r Predicted Values'!$M$22/'Zx6r Predicted Values'!$M$21) -> 2501.6265 | BL16: =BL15+500 -> 9000 | BM16: =$P$7+BU45*($U$6*$U$6)+BM45*($U$7*$U$7)+$P$12*($U$13*$U$13)+$P$13*($U$10*$U$10)+$P$14*($U$8*$U$8) -> 240.18483 | BN16: =$P$7+BV45*($U$6*$U$6)+BN45*($U$7*$U$7)+$P$12*($U$13*$U$13)+$P$13*($U$10*$U$10)+$P$14*($U$8*$U$8) -> 323.22594 | BO16: =$P$7+BW45*($U$6*$U$6)+BO45*($U$7*$U$7)+$P$12*($U$13*$U$13)+$P$13*($U$10*$U$10)+$P$14*($U$8*$U$8) -> 395.36264 | BP16: =$P$7+BX45*($U$6*$U$6)+BP45*($U$7*$U$7)+$P$12*($U$13*$U$13)+$P$13*($U$10*$U$10)+$P$14*($U$8*$U$8) -> 462.17759 | BQ16: =$P$7+BY45*($U$6*$U$6)+BQ45*($U$7*$U$7)+$P$12*($U$13*$U$13)+$P$13*($U$10*$U$10)+$P$14*($U$8*$U$8) -> 549.29477 | BR16: =$P$7+BZ45*($U$6*$U$6)+BR45*($U$7*$U$7)+$P$12*($U$13*$U$13)+$P$13*($U$10*$U$10)+$P$14*($U$8*$U$8) -> 642.37559
A17: 3rd | B17: 1.666 | C17: 35 | D17: 21 | E17: =D17/C17 -> 0.6 | O17: Trans. Ratio for Engine - Primary Shafts | P17: =U12 -> 1.891 | R17: Tm,p | AU17: =AU16+500 -> 9500 | AV17: =($P$7*9.81)*('Zx6r Predicted Values'!$M$20/'Zx6r Predicted Values'!$M$21)-('Zx6r Power Map + Gearing'!M77*('Zx6r Predicted Values'!$M$22/'Zx6r Predicted Values'!$M$21)) -> -393.421 | AW17: =251*9.81*('Zx6r Predicted Values'!$M$20/'Zx6r Predicted Values'!$M$21)-('Zx6r Power Map + Gearing'!N77*('Zx6r Predicted Values'!$M$22/'Zx6r Predicted Values'!$M$21)) -> 88.726555 | AX17: =251*9.81*('Zx6r Predicted Values'!$M$20/'Zx6r Predicted Values'!$M$21)-('Zx6r Power Map + Gearing'!O77*('Zx6r Predicted Values'!$M$22/'Zx6r Predicted Values'!$M$21)) -> 304.86167 | AY17: =251*9.81*('Zx6r Predicted Values'!$M$20/'Zx6r Predicted Values'!$M$21)-('Zx6r Power Map + Gearing'!P77*('Zx6r Predicted Values'!$M$22/'Zx6r Predicted Values'!$M$21)) -> 425.2798 | AZ17: =251*9.81*('Zx6r Predicted Values'!$M$20/'Zx6r Predicted Values'!$M$21)-('Zx6r Power Map + Gearing'!Q77*('Zx6r Predicted Values'!$M$22/'Zx6r Predicted Values'!$M$21)) -> 523.80373 | BA17: =251*9.81*('Zx6r Predicted Values'!$M$20/'Zx6r Predicted Values'!$M$21)-('Zx6r Power Map + Gearing'!R77*('Zx6r Predicted Values'!$M$22/'Zx6r Predicted Values'!$M$21)) -> 589.875 | BC17: =BC16+500 -> 9500 | BD17: ='Zx6r Power Map + Gearing'!$P$7*9.81*('Zx6r Predicted Values'!$M$21-'Zx6r Predicted Values'!$M$20)/'Zx6r Predicted Values'!$M$21+'Zx6r Power Map + Gearing'!M77*('Zx6r Predicted Values'!$M$22/'Zx6r Predicted Values'!$M$21) -> 2855.731 | BE17: =$P$7*9.81*(('Zx6r Predicted Values'!$M$21-'Zx6r Predicted Values'!$M$20)/'Zx6r Predicted Values'!$M$21)+'Zx6r Power Map + Gearing'!N77*('Zx6r Predicted Values'!$M$22/'Zx6r Predicted Values'!$M$21) -> 2373.5834 | BF17: =$P$7*9.81*(('Zx6r Predicted Values'!$M$21-'Zx6r Predicted Values'!$M$20)/'Zx6r Predicted Values'!$M$21)+'Zx6r Power Map + Gearing'!N78*('Zx6r Predicted Values'!$M$22/'Zx6r Predicted Values'!$M$21) -> 2420.5326 | BG17: =$P$7*9.81*(('Zx6r Predicted Values'!$M$21-'Zx6r Predicted Values'!$M$20)/'Zx6r Predicted Values'!$M$21)+'Zx6r Power Map + Gearing'!N79*('Zx6r Predicted Values'!$M$22/'Zx6r Predicted Values'!$M$21) -> 2463.0103 | BH17: =$P$7*9.81*(('Zx6r Predicted Values'!$M$21-'Zx6r Predicted Values'!$M$20)/'Zx6r Predicted Values'!$M$21)+'Zx6r Power Map + Gearing'!N80*('Zx6r Predicted Values'!$M$22/'Zx6r Predicted Values'!$M$21) -> 2501.6265 | BI17: =$P$7*9.81*(('Zx6r Predicted Values'!$M$21-'Zx6r Predicted Values'!$M$20)/'Zx6r Predicted Values'!$M$21)+'Zx6r Power Map + Gearing'!N81*('Zx6r Predicted Values'!$M$22/'Zx6r Predicted Values'!$M$21) -> 2485.1726 | BL17: =BL16+500 -> 9500 | BM17: =$P$7+BU46*($U$6*$U$6)+BM46*($U$7*$U$7)+$P$12*($U$13*$U$13)+$P$13*($U$10*$U$10)+$P$14*($U$8*$U$8) -> 242.51027 | BN17: =$P$7+BV46*($U$6*$U$6)+BN46*($U$7*$U$7)+$P$12*($U$13*$U$13)+$P$13*($U$10*$U$10)+$P$14*($U$8*$U$8) -> 327.7218 | BO17: =$P$7+BW46*($U$6*$U$6)+BO46*($U$7*$U$7)+$P$12*($U$13*$U$13)+$P$13*($U$10*$U$10)+$P$14*($U$8*$U$8) -> 402.91851 | BP17: =$P$7+BX46*($U$6*$U$6)+BP46*($U$7*$U$7)+$P$12*($U$13*$U$13)+$P$13*($U$10*$U$10)+$P$14*($U$8*$U$8) -> 473.90674 | BQ17: =$P$7+BY46*($U$6*$U$6)+BQ46*($U$7*$U$7)+$P$12*($U$13*$U$13)+$P$13*($U$10*$U$10)+$P$14*($U$8*$U$8) -> 568.75852 | BR17: =$P$7+BZ46*($U$6*$U$6)+BR46*($U$7*$U$7)+$P$12*($U$13*$U$13)+$P$13*($U$10*$U$10)+$P$14*($U$8*$U$8) -> 673.30225
A18: 4th | B18: 1.45 | C18: 29 | D18: 20 | E18: =D18/C18 -> 0.68965517 | O18: Front Tyre = 120/65/17 | P18: Diameter (wheel + tyre Included) = | Q18: =W20+T20 -> 587.8 | R18: mm | S18: =Q18/1000 -> 0.5878 | T18: m | X18: radius front (r+t)= | Y18: =S18/2 -> 0.2939 | Z18: m | AU18: =AU17+500 -> 10000 | AV18: =($P$7*9.81)*('Zx6r Predicted Values'!$M$20/'Zx6r Predicted Values'!$M$21)-('Zx6r Power Map + Gearing'!M78*('Zx6r Predicted Values'!$M$22/'Zx6r Predicted Values'!$M$21)) -> -460.1844 | AW18: =251*9.81*('Zx6r Predicted Values'!$M$20/'Zx6r Predicted Values'!$M$21)-('Zx6r Power Map + Gearing'!N78*('Zx6r Predicted Values'!$M$22/'Zx6r Predicted Values'!$M$21)) -> 41.777441 | AX18: =251*9.81*('Zx6r Predicted Values'!$M$20/'Zx6r Predicted Values'!$M$21)-('Zx6r Power Map + Gearing'!O78*('Zx6r Predicted Values'!$M$22/'Zx6r Predicted Values'!$M$21)) -> 266.79482 | AY18: =251*9.81*('Zx6r Predicted Values'!$M$20/'Zx6r Predicted Values'!$M$21)-('Zx6r Power Map + Gearing'!P78*('Zx6r Predicted Values'!$M$22/'Zx6r Predicted Values'!$M$21)) -> 392.16164 | AZ18: =251*9.81*('Zx6r Predicted Values'!$M$20/'Zx6r Predicted Values'!$M$21)-('Zx6r Power Map + Gearing'!Q78*('Zx6r Predicted Values'!$M$22/'Zx6r Predicted Values'!$M$21)) -> 494.7345 | BA18: =251*9.81*('Zx6r Predicted Values'!$M$20/'Zx6r Predicted Values'!$M$21)-('Zx6r Power Map + Gearing'!R78*('Zx6r Predicted Values'!$M$22/'Zx6r Predicted Values'!$M$21)) -> 563.52103 | BC18: =BC17+500 -> 10000 | BD18: ='Zx6r Power Map + Gearing'!$P$7*9.81*('Zx6r Predicted Values'!$M$21-'Zx6r Predicted Values'!$M$20)/'Zx6r Predicted Values'!$M$21+'Zx6r Power Map + Gearing'!M78*('Zx6r Predicted Values'!$M$22/'Zx6r Predicted Values'!$M$21) -> 2922.4944 | BE18: =$P$7*9.81*(('Zx6r Predicted Values'!$M$21-'Zx6r Predicted Values'!$M$20)/'Zx6r Predicted Values'!$M$21)+'Zx6r Power Map + Gearing'!N78*('Zx6r Predicted Values'!$M$22/'Zx6r Predicted Values'!$M$21) -> 2420.5326 | BF18: =$P$7*9.81*(('Zx6r Predicted Values'!$M$21-'Zx6r Predicted Values'!$M$20)/'Zx6r Predicted Values'!$M$21)+'Zx6r Power Map + Gearing'!N79*('Zx6r Predicted Values'!$M$22/'Zx6r Predicted Values'!$M$21) -> 2463.0103 | BG18: =$P$7*9.81*(('Zx6r Predicted Values'!$M$21-'Zx6r Predicted Values'!$M$20)/'Zx6r Predicted Values'!$M$21)+'Zx6r Power Map + Gearing'!N80*('Zx6r Predicted Values'!$M$22/'Zx6r Predicted Values'!$M$21) -> 2501.6265 | BH18: =$P$7*9.81*(('Zx6r Predicted Values'!$M$21-'Zx6r Predicted Values'!$M$20)/'Zx6r Predicted Values'!$M$21)+'Zx6r Power Map + Gearing'!N81*('Zx6r Predicted Values'!$M$22/'Zx6r Predicted Values'!$M$21) -> 2485.1726 | BI18: =$P$7*9.81*(('Zx6r Predicted Values'!$M$21-'Zx6r Predicted Values'!$M$20)/'Zx6r Predicted Values'!$M$21)+'Zx6r Power Map + Gearing'!N82*('Zx6r Predicted Values'!$M$22/'Zx6r Predicted Values'!$M$21) -> 2470.09 | BL18: =BL17+500 -> 10000 | BM18: =$P$7+BU47*($U$6*$U$6)+BM47*($U$7*$U$7)+$P$12*($U$13*$U$13)+$P$13*($U$10*$U$10)+$P$14*($U$8*$U$8) -> 236.02328 | BN18: =$P$7+BV47*($U$6*$U$6)+BN47*($U$7*$U$7)+$P$12*($U$13*$U$13)+$P$13*($U$10*$U$10)+$P$14*($U$8*$U$8) -> 318.19965 | BO18: =$P$7+BW47*($U$6*$U$6)+BO47*($U$7*$U$7)+$P$12*($U$13*$U$13)+$P$13*($U$10*$U$10)+$P$14*($U$8*$U$8) -> 391.43096 | BP18: =$P$7+BX47*($U$6*$U$6)+BP47*($U$7*$U$7)+$P$12*($U$13*$U$13)+$P$13*($U$10*$U$10)+$P$14*($U$8*$U$8) -> 461.26469 | BQ18: =$P$7+BY47*($U$6*$U$6)+BQ47*($U$7*$U$7)+$P$12*($U$13*$U$13)+$P$13*($U$10*$U$10)+$P$14*($U$8*$U$8) -> 555.81187 | BR18: =$P$7+BZ47*($U$6*$U$6)+BR47*($U$7*$U$7)+$P$12*($U$13*$U$13)+$P$13*($U$10*$U$10)+$P$14*($U$8*$U$8) -> 661.80716
A19: 5th | B19: 1.272 | C19: 28 | D19: 22 | E19: =D19/C19 -> 0.78571429 | O19: Rear Tyre = 180/55/17 | P19: Diameter (wheel + tyre Included) = | Q19: =W20+T21 -> 629.8 | R19: mm | S19: =Q19/1000 -> 0.6298 | T19: m | X19: radius back (r+t)= | Y19: =S19/2 -> 0.3149 | Z19: m | AU19: =AU18+500 -> 10500 | AV19: =($P$7*9.81)*('Zx6r Predicted Values'!$M$20/'Zx6r Predicted Values'!$M$21)-('Zx6r Power Map + Gearing'!M79*('Zx6r Predicted Values'!$M$22/'Zx6r Predicted Values'!$M$21)) -> -520.58938 | AW19: =251*9.81*('Zx6r Predicted Values'!$M$20/'Zx6r Predicted Values'!$M$21)-('Zx6r Power Map + Gearing'!N79*('Zx6r Predicted Values'!$M$22/'Zx6r Predicted Values'!$M$21)) -> -0.70032893 | AX19: =251*9.81*('Zx6r Predicted Values'!$M$20/'Zx6r Predicted Values'!$M$21)-('Zx6r Power Map + Gearing'!O79*('Zx6r Predicted Values'!$M$22/'Zx6r Predicted Values'!$M$21)) -> 232.35338 | AY19: =251*9.81*('Zx6r Predicted Values'!$M$20/'Zx6r Predicted Values'!$M$21)-('Zx6r Power Map + Gearing'!P79*('Zx6r Predicted Values'!$M$22/'Zx6r Predicted Values'!$M$21)) -> 362.19759 | AZ19: =251*9.81*('Zx6r Predicted Values'!$M$20/'Zx6r Predicted Values'!$M$21)-('Zx6r Power Map + Gearing'!Q79*('Zx6r Predicted Values'!$M$22/'Zx6r Predicted Values'!$M$21)) -> 468.43376 | BA19: =251*9.81*('Zx6r Predicted Values'!$M$20/'Zx6r Predicted Values'!$M$21)-('Zx6r Power Map + Gearing'!R79*('Zx6r Predicted Values'!$M$22/'Zx6r Predicted Values'!$M$21)) -> 539.67696 | BC19: =BC18+500 -> 10500 | BD19: ='Zx6r Power Map + Gearing'!$P$7*9.81*('Zx6r Predicted Values'!$M$21-'Zx6r Predicted Values'!$M$20)/'Zx6r Predicted Values'!$M$21+'Zx6r Power Map + Gearing'!M79*('Zx6r Predicted Values'!$M$22/'Zx6r Predicted Values'!$M$21) -> 2982.8994 | BE19: =$P$7*9.81*(('Zx6r Predicted Values'!$M$21-'Zx6r Predicted Values'!$M$20)/'Zx6r Predicted Values'!$M$21)+'Zx6r Power Map + Gearing'!N79*('Zx6r Predicted Values'!$M$22/'Zx6r Predicted Values'!$M$21) -> 2463.0103 | BF19: =$P$7*9.81*(('Zx6r Predicted Values'!$M$21-'Zx6r Predicted Values'!$M$20)/'Zx6r Predicted Values'!$M$21)+'Zx6r Power Map + Gearing'!N80*('Zx6r Predicted Values'!$M$22/'Zx6r Predicted Values'!$M$21) -> 2501.6265 | BG19: =$P$7*9.81*(('Zx6r Predicted Values'!$M$21-'Zx6r Predicted Values'!$M$20)/'Zx6r Predicted Values'!$M$21)+'Zx6r Power Map + Gearing'!N81*('Zx6r Predicted Values'!$M$22/'Zx6r Predicted Values'!$M$21) -> 2485.1726 | BH19: =$P$7*9.81*(('Zx6r Predicted Values'!$M$21-'Zx6r Predicted Values'!$M$20)/'Zx6r Predicted Values'!$M$21)+'Zx6r Power Map + Gearing'!N82*('Zx6r Predicted Values'!$M$22/'Zx6r Predicted Values'!$M$21) -> 2470.09 | BI19: =$P$7*9.81*(('Zx6r Predicted Values'!$M$21-'Zx6r Predicted Values'!$M$20)/'Zx6r Predicted Values'!$M$21)+'Zx6r Power Map + Gearing'!N83*('Zx6r Predicted Values'!$M$22/'Zx6r Predicted Values'!$M$21) -> 2468.1077 | BL19: =BL18+500 -> 10500 | BM19: =$P$7+BU48*($U$6*$U$6)+BM48*($U$7*$U$7)+$P$12*($U$13*$U$13)+$P$13*($U$10*$U$10)+$P$14*($U$8*$U$8) -> 230.60644 | BN19: =$P$7+BV48*($U$6*$U$6)+BN48*($U$7*$U$7)+$P$12*($U$13*$U$13)+$P$13*($U$10*$U$10)+$P$14*($U$8*$U$8) -> 310.34792 | BO19: =$P$7+BW48*($U$6*$U$6)+BO48*($U$7*$U$7)+$P$12*($U$13*$U$13)+$P$13*($U$10*$U$10)+$P$14*($U$8*$U$8) -> 382.14157 | BP19: =$P$7+BX48*($U$6*$U$6)+BP48*($U$7*$U$7)+$P$12*($U$13*$U$13)+$P$13*($U$10*$U$10)+$P$14*($U$8*$U$8) -> 451.35514 | BQ19: =$P$7+BY48*($U$6*$U$6)+BQ48*($U$7*$U$7)+$P$12*($U$13*$U$13)+$P$13*($U$10*$U$10)+$P$14*($U$8*$U$8) -> 546.41334 | BR19: =$P$7+BZ48*($U$6*$U$6)+BR48*($U$7*$U$7)+$P$12*($U$13*$U$13)+$P$13*($U$10*$U$10)+$P$14*($U$8*$U$8) -> 654.98514
A20: 6th | B20: 1.153 | C20: 30 | D20: 26 | E20: =D20/C20 -> 0.86666667 | O20: 120*0.65 = | P20: =120*0.65 -> 78 | Q20: mm | R20: tread depth (each side) | S20: x2= | T20: =P20*2 -> 156 | U20: mm | V20: 17 inch = | W20: 431.8 | X20: mm | Y20: =W20/1000 -> 0.4318 | Z20: m | AU20: =AU19+500 -> 11000 | AV20: =($P$7*9.81)*('Zx6r Predicted Values'!$M$20/'Zx6r Predicted Values'!$M$21)-('Zx6r Power Map + Gearing'!M80*('Zx6r Predicted Values'!$M$22/'Zx6r Predicted Values'!$M$21)) -> -575.50299 | AW20: =251*9.81*('Zx6r Predicted Values'!$M$20/'Zx6r Predicted Values'!$M$21)-('Zx6r Power Map + Gearing'!N80*('Zx6r Predicted Values'!$M$22/'Zx6r Predicted Values'!$M$21)) -> -39.316483 | AX20: =251*9.81*('Zx6r Predicted Values'!$M$20/'Zx6r Predicted Values'!$M$21)-('Zx6r Power Map + Gearing'!O80*('Zx6r Predicted Values'!$M$22/'Zx6r Predicted Values'!$M$21)) -> 201.04299 | AY20: =251*9.81*('Zx6r Predicted Values'!$M$20/'Zx6r Predicted Values'!$M$21)-('Zx6r Power Map + Gearing'!P80*('Zx6r Predicted Values'!$M$22/'Zx6r Predicted Values'!$M$21)) -> 334.95755 | AZ20: =251*9.81*('Zx6r Predicted Values'!$M$20/'Zx6r Predicted Values'!$M$21)-('Zx6r Power Map + Gearing'!Q80*('Zx6r Predicted Values'!$M$22/'Zx6r Predicted Values'!$M$21)) -> 444.52401 | BA20: =251*9.81*('Zx6r Predicted Values'!$M$20/'Zx6r Predicted Values'!$M$21)-('Zx6r Power Map + Gearing'!R80*('Zx6r Predicted Values'!$M$22/'Zx6r Predicted Values'!$M$21)) -> 518.00053 | BC20: =BC19+500 -> 11000 | BD20: ='Zx6r Power Map + Gearing'!$P$7*9.81*('Zx6r Predicted Values'!$M$21-'Zx6r Predicted Values'!$M$20)/'Zx6r Predicted Values'!$M$21+'Zx6r Power Map + Gearing'!M80*('Zx6r Predicted Values'!$M$22/'Zx6r Predicted Values'!$M$21) -> 3037.813 | BE20: =$P$7*9.81*(('Zx6r Predicted Values'!$M$21-'Zx6r Predicted Values'!$M$20)/'Zx6r Predicted Values'!$M$21)+'Zx6r Power Map + Gearing'!N80*('Zx6r Predicted Values'!$M$22/'Zx6r Predicted Values'!$M$21) -> 2501.6265 | BF20: =$P$7*9.81*(('Zx6r Predicted Values'!$M$21-'Zx6r Predicted Values'!$M$20)/'Zx6r Predicted Values'!$M$21)+'Zx6r Power Map + Gearing'!N81*('Zx6r Predicted Values'!$M$22/'Zx6r Predicted Values'!$M$21) -> 2485.1726 | BG20: =$P$7*9.81*(('Zx6r Predicted Values'!$M$21-'Zx6r Predicted Values'!$M$20)/'Zx6r Predicted Values'!$M$21)+'Zx6r Power Map + Gearing'!N82*('Zx6r Predicted Values'!$M$22/'Zx6r Predicted Values'!$M$21) -> 2470.09 | BH20: =$P$7*9.81*(('Zx6r Predicted Values'!$M$21-'Zx6r Predicted Values'!$M$20)/'Zx6r Predicted Values'!$M$21)+'Zx6r Power Map + Gearing'!N83*('Zx6r Predicted Values'!$M$22/'Zx6r Predicted Values'!$M$21) -> 2468.1077 | BI20: =$P$7*9.81*(('Zx6r Predicted Values'!$M$21-'Zx6r Predicted Values'!$M$20)/'Zx6r Predicted Values'!$M$21)+'Zx6r Power Map + Gearing'!N84*('Zx6r Predicted Values'!$M$22/'Zx6r Predicted Values'!$M$21) -> 2443.4052 | BL20: =BL19+500 -> 11000 | BM20: =$P$7+BU49*($U$6*$U$6)+BM49*($U$7*$U$7)+$P$12*($U$13*$U$13)+$P$13*($U$10*$U$10)+$P$14*($U$8*$U$8) -> 226.02151 | BN20: =$P$7+BV49*($U$6*$U$6)+BN49*($U$7*$U$7)+$P$12*($U$13*$U$13)+$P$13*($U$10*$U$10)+$P$14*($U$8*$U$8) -> 303.79479 | BO20: =$P$7+BW49*($U$6*$U$6)+BO49*($U$7*$U$7)+$P$12*($U$13*$U$13)+$P$13*($U$10*$U$10)+$P$14*($U$8*$U$8) -> 374.57 | BP20: =$P$7+BX49*($U$6*$U$6)+BP49*($U$7*$U$7)+$P$12*($U$13*$U$13)+$P$13*($U$10*$U$10)+$P$14*($U$8*$U$8) -> 443.60241 | BQ20: =$P$7+BY49*($U$6*$U$6)+BQ49*($U$7*$U$7)+$P$12*($U$13*$U$13)+$P$13*($U$10*$U$10)+$P$14*($U$8*$U$8) -> 539.88266 | BR20: =$P$7+BZ49*($U$6*$U$6)+BR49*($U$7*$U$7)+$P$12*($U$13*$U$13)+$P$13*($U$10*$U$10)+$P$14*($U$8*$U$8) -> 652.09959
O21: 180 * 0.55 = | P21: =180*0.55 -> 99 | Q21: mm | R21: tread depth (each side) | S21: x2= | T21: =P21*2 -> 198 | U21: mm | AU21: =AU20+500 -> 11500 | AV21: =($P$7*9.81)*('Zx6r Predicted Values'!$M$20/'Zx6r Predicted Values'!$M$21)-('Zx6r Power Map + Gearing'!M81*('Zx6r Predicted Values'!$M$22/'Zx6r Predicted Values'!$M$21)) -> -552.10502 | AW21: =251*9.81*('Zx6r Predicted Values'!$M$20/'Zx6r Predicted Values'!$M$21)-('Zx6r Power Map + Gearing'!N81*('Zx6r Predicted Values'!$M$22/'Zx6r Predicted Values'!$M$21)) -> -22.862644 | AX21: =251*9.81*('Zx6r Predicted Values'!$M$20/'Zx6r Predicted Values'!$M$21)-('Zx6r Power Map + Gearing'!O81*('Zx6r Predicted Values'!$M$22/'Zx6r Predicted Values'!$M$21)) -> 214.38394 | AY21: =251*9.81*('Zx6r Predicted Values'!$M$20/'Zx6r Predicted Values'!$M$21)-('Zx6r Power Map + Gearing'!P81*('Zx6r Predicted Values'!$M$22/'Zx6r Predicted Values'!$M$21)) -> 346.56418 | AZ21: =251*9.81*('Zx6r Predicted Values'!$M$20/'Zx6r Predicted Values'!$M$21)-('Zx6r Power Map + Gearing'!Q81*('Zx6r Predicted Values'!$M$22/'Zx6r Predicted Values'!$M$21)) -> 454.71164 | BA21: =251*9.81*('Zx6r Predicted Values'!$M$20/'Zx6r Predicted Values'!$M$21)-('Zx6r Power Map + Gearing'!R81*('Zx6r Predicted Values'!$M$22/'Zx6r Predicted Values'!$M$21)) -> 527.23657 | BC21: =BC20+500 -> 11500 | BD21: ='Zx6r Power Map + Gearing'!$P$7*9.81*('Zx6r Predicted Values'!$M$21-'Zx6r Predicted Values'!$M$20)/'Zx6r Predicted Values'!$M$21+'Zx6r Power Map + Gearing'!M81*('Zx6r Predicted Values'!$M$22/'Zx6r Predicted Values'!$M$21) -> 3014.415 | BE21: =$P$7*9.81*(('Zx6r Predicted Values'!$M$21-'Zx6r Predicted Values'!$M$20)/'Zx6r Predicted Values'!$M$21)+'Zx6r Power Map + Gearing'!N81*('Zx6r Predicted Values'!$M$22/'Zx6r Predicted Values'!$M$21) -> 2485.1726 | BF21: =$P$7*9.81*(('Zx6r Predicted Values'!$M$21-'Zx6r Predicted Values'!$M$20)/'Zx6r Predicted Values'!$M$21)+'Zx6r Power Map + Gearing'!N82*('Zx6r Predicted Values'!$M$22/'Zx6r Predicted Values'!$M$21) -> 2470.09 | BG21: =$P$7*9.81*(('Zx6r Predicted Values'!$M$21-'Zx6r Predicted Values'!$M$20)/'Zx6r Predicted Values'!$M$21)+'Zx6r Power Map + Gearing'!N83*('Zx6r Predicted Values'!$M$22/'Zx6r Predicted Values'!$M$21) -> 2468.1077 | BH21: =$P$7*9.81*(('Zx6r Predicted Values'!$M$21-'Zx6r Predicted Values'!$M$20)/'Zx6r Predicted Values'!$M$21)+'Zx6r Power Map + Gearing'!N84*('Zx6r Predicted Values'!$M$22/'Zx6r Predicted Values'!$M$21) -> 2443.4052 | BI21: =$P$7*9.81*(('Zx6r Predicted Values'!$M$21-'Zx6r Predicted Values'!$M$20)/'Zx6r Predicted Values'!$M$21)+'Zx6r Power Map + Gearing'!N85*('Zx6r Predicted Values'!$M$22/'Zx6r Predicted Values'!$M$21) -> 2420.5326 | BL21: =BL20+500 -> 11500 | BM21: =$P$7+BU50*($U$6*$U$6)+BM50*($U$7*$U$7)+$P$12*($U$13*$U$13)+$P$13*($U$10*$U$10)+$P$14*($U$8*$U$8) -> 228.33353 | BN21: =$P$7+BV50*($U$6*$U$6)+BN50*($U$7*$U$7)+$P$12*($U$13*$U$13)+$P$13*($U$10*$U$10)+$P$14*($U$8*$U$8) -> 308.3588 | BO21: =$P$7+BW50*($U$6*$U$6)+BO50*($U$7*$U$7)+$P$12*($U$13*$U$13)+$P$13*($U$10*$U$10)+$P$14*($U$8*$U$8) -> 382.50184 | BP21: =$P$7+BX50*($U$6*$U$6)+BP50*($U$7*$U$7)+$P$12*($U$13*$U$13)+$P$13*($U$10*$U$10)+$P$14*($U$8*$U$8) -> 456.41909 | BQ21: =$P$7+BY50*($U$6*$U$6)+BQ50*($U$7*$U$7)+$P$12*($U$13*$U$13)+$P$13*($U$10*$U$10)+$P$14*($U$8*$U$8) -> 562.5519 | BR21: =$P$7+BZ50*($U$6*$U$6)+BR50*($U$7*$U$7)+$P$12*($U$13*$U$13)+$P$13*($U$10*$U$10)+$P$14*($U$8*$U$8) -> 691.15057
A22: Final Drive System: | AU22: =AU21+500 -> 12000 | AV22: =($P$7*9.81)*('Zx6r Predicted Values'!$M$20/'Zx6r Predicted Values'!$M$21)-('Zx6r Power Map + Gearing'!M82*('Zx6r Predicted Values'!$M$22/'Zx6r Predicted Values'!$M$21)) -> -530.65687 | AW22: =251*9.81*('Zx6r Predicted Values'!$M$20/'Zx6r Predicted Values'!$M$21)-('Zx6r Power Map + Gearing'!N82*('Zx6r Predicted Values'!$M$22/'Zx6r Predicted Values'!$M$21)) -> -7.7799573 | AX22: =251*9.81*('Zx6r Predicted Values'!$M$20/'Zx6r Predicted Values'!$M$21)-('Zx6r Power Map + Gearing'!O82*('Zx6r Predicted Values'!$M$22/'Zx6r Predicted Values'!$M$21)) -> 226.61314 | AY22: =251*9.81*('Zx6r Predicted Values'!$M$20/'Zx6r Predicted Values'!$M$21)-('Zx6r Power Map + Gearing'!P82*('Zx6r Predicted Values'!$M$22/'Zx6r Predicted Values'!$M$21)) -> 357.20358 | AZ22: =251*9.81*('Zx6r Predicted Values'!$M$20/'Zx6r Predicted Values'!$M$21)-('Zx6r Power Map + Gearing'!Q82*('Zx6r Predicted Values'!$M$22/'Zx6r Predicted Values'!$M$21)) -> 464.05031 | BA22: =251*9.81*('Zx6r Predicted Values'!$M$20/'Zx6r Predicted Values'!$M$21)-('Zx6r Power Map + Gearing'!R82*('Zx6r Predicted Values'!$M$22/'Zx6r Predicted Values'!$M$21)) -> 535.70294 | BC22: =BC21+500 -> 12000 | BD22: ='Zx6r Power Map + Gearing'!$P$7*9.81*('Zx6r Predicted Values'!$M$21-'Zx6r Predicted Values'!$M$20)/'Zx6r Predicted Values'!$M$21+'Zx6r Power Map + Gearing'!M82*('Zx6r Predicted Values'!$M$22/'Zx6r Predicted Values'!$M$21) -> 2992.9669 | BE22: =$P$7*9.81*(('Zx6r Predicted Values'!$M$21-'Zx6r Predicted Values'!$M$20)/'Zx6r Predicted Values'!$M$21)+'Zx6r Power Map + Gearing'!N82*('Zx6r Predicted Values'!$M$22/'Zx6r Predicted Values'!$M$21) -> 2470.09 | BF22: =$P$7*9.81*(('Zx6r Predicted Values'!$M$21-'Zx6r Predicted Values'!$M$20)/'Zx6r Predicted Values'!$M$21)+'Zx6r Power Map + Gearing'!N83*('Zx6r Predicted Values'!$M$22/'Zx6r Predicted Values'!$M$21) -> 2468.1077 | BG22: =$P$7*9.81*(('Zx6r Predicted Values'!$M$21-'Zx6r Predicted Values'!$M$20)/'Zx6r Predicted Values'!$M$21)+'Zx6r Power Map + Gearing'!N84*('Zx6r Predicted Values'!$M$22/'Zx6r Predicted Values'!$M$21) -> 2443.4052 | BH22: =$P$7*9.81*(('Zx6r Predicted Values'!$M$21-'Zx6r Predicted Values'!$M$20)/'Zx6r Predicted Values'!$M$21)+'Zx6r Power Map + Gearing'!N85*('Zx6r Predicted Values'!$M$22/'Zx6r Predicted Values'!$M$21) -> 2420.5326 | BI22: =$P$7*9.81*(('Zx6r Predicted Values'!$M$21-'Zx6r Predicted Values'!$M$20)/'Zx6r Predicted Values'!$M$21)+'Zx6r Power Map + Gearing'!N86*('Zx6r Predicted Values'!$M$22/'Zx6r Predicted Values'!$M$21) -> 2367.4353 | BL22: =BL21+500 -> 12000 | BM22: =$P$7+BU51*($U$6*$U$6)+BM51*($U$7*$U$7)+$P$12*($U$13*$U$13)+$P$13*($U$10*$U$10)+$P$14*($U$8*$U$8) -> 230.5522 | BN22: =$P$7+BV51*($U$6*$U$6)+BN51*($U$7*$U$7)+$P$12*($U$13*$U$13)+$P$13*($U$10*$U$10)+$P$14*($U$8*$U$8) -> 312.8773 | BO22: =$P$7+BW51*($U$6*$U$6)+BO51*($U$7*$U$7)+$P$12*($U$13*$U$13)+$P$13*($U$10*$U$10)+$P$14*($U$8*$U$8) -> 390.61046 | BP22: =$P$7+BX51*($U$6*$U$6)+BP51*($U$7*$U$7)+$P$12*($U$13*$U$13)+$P$13*($U$10*$U$10)+$P$14*($U$8*$U$8) -> 469.92551 | BQ22: =$P$7+BY51*($U$6*$U$6)+BQ51*($U$7*$U$7)+$P$12*($U$13*$U$13)+$P$13*($U$10*$U$10)+$P$14*($U$8*$U$8) -> 587.4336 | BR22: =$P$7+BZ51*($U$6*$U$6)+BR51*($U$7*$U$7)+$P$12*($U$13*$U$13)+$P$13*($U$10*$U$10)+$P$14*($U$8*$U$8) -> 736.07227
A23: Type | B23: Chain Drive | E23: inverse | N23: Engine | O23: RPM | P23: 3500 | Q23: =P23+500 -> 4000 | R23: =Q23+500 -> 4500 | S23: =R23+500 -> 5000 | T23: =S23+500 -> 5500 | U23: =T23+500 -> 6000 | V23: =U23+500 -> 6500 | W23: =V23+500 -> 7000 | X23: =W23+500 -> 7500 | ... AL23: =AK23+500 -> 14500 | AU23: =AU22+500 -> 12500 | AV23: =($P$7*9.81)*('Zx6r Predicted Values'!$M$20/'Zx6r Predicted Values'!$M$21)-('Zx6r Power Map + Gearing'!M83*('Zx6r Predicted Values'!$M$22/'Zx6r Predicted Values'!$M$21)) -> -527.83797 | AW23: =251*9.81*('Zx6r Predicted Values'!$M$20/'Zx6r Predicted Values'!$M$21)-('Zx6r Power Map + Gearing'!N83*('Zx6r Predicted Values'!$M$22/'Zx6r Predicted Values'!$M$21)) -> -5.7976613 | AX23: =251*9.81*('Zx6r Predicted Values'!$M$20/'Zx6r Predicted Values'!$M$21)-('Zx6r Power Map + Gearing'!O83*('Zx6r Predicted Values'!$M$22/'Zx6r Predicted Values'!$M$21)) -> 228.22041 | AY23: =251*9.81*('Zx6r Predicted Values'!$M$20/'Zx6r Predicted Values'!$M$21)-('Zx6r Power Map + Gearing'!P83*('Zx6r Predicted Values'!$M$22/'Zx6r Predicted Values'!$M$21)) -> 358.60191 | AZ23: =251*9.81*('Zx6r Predicted Values'!$M$20/'Zx6r Predicted Values'!$M$21)-('Zx6r Power Map + Gearing'!Q83*('Zx6r Predicted Values'!$M$22/'Zx6r Predicted Values'!$M$21)) -> 465.27768 | BA23: =251*9.81*('Zx6r Predicted Values'!$M$20/'Zx6r Predicted Values'!$M$21)-('Zx6r Power Map + Gearing'!R83*('Zx6r Predicted Values'!$M$22/'Zx6r Predicted Values'!$M$21)) -> 536.81567 | BC23: =BC22+500 -> 12500 | BD23: ='Zx6r Power Map + Gearing'!$P$7*9.81*('Zx6r Predicted Values'!$M$21-'Zx6r Predicted Values'!$M$20)/'Zx6r Predicted Values'!$M$21+'Zx6r Power Map + Gearing'!M83*('Zx6r Predicted Values'!$M$22/'Zx6r Predicted Values'!$M$21) -> 2990.148 | BE23: =$P$7*9.81*(('Zx6r Predicted Values'!$M$21-'Zx6r Predicted Values'!$M$20)/'Zx6r Predicted Values'!$M$21)+'Zx6r Power Map + Gearing'!N83*('Zx6r Predicted Values'!$M$22/'Zx6r Predicted Values'!$M$21) -> 2468.1077 | BF23: =$P$7*9.81*(('Zx6r Predicted Values'!$M$21-'Zx6r Predicted Values'!$M$20)/'Zx6r Predicted Values'!$M$21)+'Zx6r Power Map + Gearing'!N84*('Zx6r Predicted Values'!$M$22/'Zx6r Predicted Values'!$M$21) -> 2443.4052 | BG23: =$P$7*9.81*(('Zx6r Predicted Values'!$M$21-'Zx6r Predicted Values'!$M$20)/'Zx6r Predicted Values'!$M$21)+'Zx6r Power Map + Gearing'!N85*('Zx6r Predicted Values'!$M$22/'Zx6r Predicted Values'!$M$21) -> 2420.5326 | BH23: =$P$7*9.81*(('Zx6r Predicted Values'!$M$21-'Zx6r Predicted Values'!$M$20)/'Zx6r Predicted Values'!$M$21)+'Zx6r Power Map + Gearing'!N86*('Zx6r Predicted Values'!$M$22/'Zx6r Predicted Values'!$M$21) -> 2367.4353 | BI23: =$P$7*9.81*(('Zx6r Predicted Values'!$M$21-'Zx6r Predicted Values'!$M$20)/'Zx6r Predicted Values'!$M$21)+'Zx6r Power Map + Gearing'!N87*('Zx6r Predicted Values'!$M$22/'Zx6r Predicted Values'!$M$21) -> 2256.4805 | BL23: =BL22+500 -> 12500 | BM23: =$P$7+BU52*($U$6*$U$6)+BM52*($U$7*$U$7)+$P$12*($U$13*$U$13)+$P$13*($U$10*$U$10)+$P$14*($U$8*$U$8) -> 231.12331 | BN23: =$P$7+BV52*($U$6*$U$6)+BN52*($U$7*$U$7)+$P$12*($U$13*$U$13)+$P$13*($U$10*$U$10)+$P$14*($U$8*$U$8) -> 314.78415 | BO23: =$P$7+BW52*($U$6*$U$6)+BO52*($U$7*$U$7)+$P$12*($U$13*$U$13)+$P$13*($U$10*$U$10)+$P$14*($U$8*$U$8) -> 395.20748 | BP23: =$P$7+BX52*($U$6*$U$6)+BP52*($U$7*$U$7)+$P$12*($U$13*$U$13)+$P$13*($U$10*$U$10)+$P$14*($U$8*$U$8) -> 479.07183 | BQ23: =$P$7+BY52*($U$6*$U$6)+BQ52*($U$7*$U$7)+$P$12*($U$13*$U$13)+$P$13*($U$10*$U$10)+$P$14*($U$8*$U$8) -> 607.09745 | BR23: =$P$7+BZ52*($U$6*$U$6)+BR52*($U$7*$U$7)+$P$12*($U$13*$U$13)+$P$13*($U$10*$U$10)+$P$14*($U$8*$U$8) -> 776.04332
A24: Final Reduction Ratio | B24: 2.866 | C24: 43 | D24: 15 | E24: =D24/C24 -> 0.34883721 | O24: Power (HP) | P24: 18 | Q24: 21 | R24: 27 | S24: 31 | T24: 35 | U24: 38 | V24: 42 | W24: 47 | X24: 51 | Y24: 57 | Z24: 64 | AA24: 70 | AB24: 73 | AC24: 80 | AD24: 87 | AE24: 94 | AF24: 97 | AG24: 100 | AH24: 104 | AI24: 106 | AJ24: 108 | AK24: 107 | AL24: 100 | AU24: =AU23+500 -> 13000 | AV24: =($P$7*9.81)*('Zx6r Predicted Values'!$M$20/'Zx6r Predicted Values'!$M$21)-('Zx6r Power Map + Gearing'!M84*('Zx6r Predicted Values'!$M$22/'Zx6r Predicted Values'!$M$21)) -> -492.71016 | AW24: =251*9.81*('Zx6r Predicted Values'!$M$20/'Zx6r Predicted Values'!$M$21)-('Zx6r Power Map + Gearing'!N84*('Zx6r Predicted Values'!$M$22/'Zx6r Predicted Values'!$M$21)) -> 18.904796 | AX24: =251*9.81*('Zx6r Predicted Values'!$M$20/'Zx6r Predicted Values'!$M$21)-('Zx6r Power Map + Gearing'!O84*('Zx6r Predicted Values'!$M$22/'Zx6r Predicted Values'!$M$21)) -> 248.24943 | AY24: =251*9.81*('Zx6r Predicted Values'!$M$20/'Zx6r Predicted Values'!$M$21)-('Zx6r Power Map + Gearing'!P84*('Zx6r Predicted Values'!$M$22/'Zx6r Predicted Values'!$M$21)) -> 376.02715 | AZ24: =251*9.81*('Zx6r Predicted Values'!$M$20/'Zx6r Predicted Values'!$M$21)-('Zx6r Power Map + Gearing'!Q84*('Zx6r Predicted Values'!$M$22/'Zx6r Predicted Values'!$M$21)) -> 480.57256 | BA24: =251*9.81*('Zx6r Predicted Values'!$M$20/'Zx6r Predicted Values'!$M$21)-('Zx6r Power Map + Gearing'!R84*('Zx6r Predicted Values'!$M$22/'Zx6r Predicted Values'!$M$21)) -> 550.68191 | BC24: =BC23+500 -> 13000 | BD24: ='Zx6r Power Map + Gearing'!$P$7*9.81*('Zx6r Predicted Values'!$M$21-'Zx6r Predicted Values'!$M$20)/'Zx6r Predicted Values'!$M$21+'Zx6r Power Map + Gearing'!M84*('Zx6r Predicted Values'!$M$22/'Zx6r Predicted Values'!$M$21) -> 2955.0202 | BE24: =$P$7*9.81*(('Zx6r Predicted Values'!$M$21-'Zx6r Predicted Values'!$M$20)/'Zx6r Predicted Values'!$M$21)+'Zx6r Power Map + Gearing'!N84*('Zx6r Predicted Values'!$M$22/'Zx6r Predicted Values'!$M$21) -> 2443.4052 | BF24: =$P$7*9.81*(('Zx6r Predicted Values'!$M$21-'Zx6r Predicted Values'!$M$20)/'Zx6r Predicted Values'!$M$21)+'Zx6r Power Map + Gearing'!N85*('Zx6r Predicted Values'!$M$22/'Zx6r Predicted Values'!$M$21) -> 2420.5326 | BG24: =$P$7*9.81*(('Zx6r Predicted Values'!$M$21-'Zx6r Predicted Values'!$M$20)/'Zx6r Predicted Values'!$M$21)+'Zx6r Power Map + Gearing'!N86*('Zx6r Predicted Values'!$M$22/'Zx6r Predicted Values'!$M$21) -> 2367.4353 | BH24: =$P$7*9.81*(('Zx6r Predicted Values'!$M$21-'Zx6r Predicted Values'!$M$20)/'Zx6r Predicted Values'!$M$21)+'Zx6r Power Map + Gearing'!N87*('Zx6r Predicted Values'!$M$22/'Zx6r Predicted Values'!$M$21) -> 2256.4805 | BI24: =$P$7*9.81*(('Zx6r Predicted Values'!$M$21-'Zx6r Predicted Values'!$M$20)/'Zx6r Predicted Values'!$M$21)+'Zx6r Power Map + Gearing'!N88*('Zx6r Predicted Values'!$M$22/'Zx6r Predicted Values'!$M$21) -> 1231.155 | BL24: =BL23+500 -> 13000 | BM24: =$P$7+BU53*($U$6*$U$6)+BM53*($U$7*$U$7)+$P$12*($U$13*$U$13)+$P$13*($U$10*$U$10)+$P$14*($U$8*$U$8) -> 234.75115 | BN24: =$P$7+BV53*($U$6*$U$6)+BN53*($U$7*$U$7)+$P$12*($U$13*$U$13)+$P$13*($U$10*$U$10)+$P$14*($U$8*$U$8) -> 321.85709 | BO24: =$P$7+BW53*($U$6*$U$6)+BO53*($U$7*$U$7)+$P$12*($U$13*$U$13)+$P$13*($U$10*$U$10)+$P$14*($U$8*$U$8) -> 407.54567 | BP24: =$P$7+BX53*($U$6*$U$6)+BP53*($U$7*$U$7)+$P$12*($U$13*$U$13)+$P$13*($U$10*$U$10)+$P$14*($U$8*$U$8) -> 499.51716 | BQ24: =$P$7+BY53*($U$6*$U$6)+BQ53*($U$7*$U$7)+$P$12*($U$13*$U$13)+$P$13*($U$10*$U$10)+$P$14*($U$8*$U$8) -> 645.74169 | BR24: =$P$7+BZ53*($U$6*$U$6)+BR53*($U$7*$U$7)+$P$12*($U$13*$U$13)+$P$13*($U$10*$U$10)+$P$14*($U$8*$U$8) -> 850.54652
O25: Torque (Nm) | P25: =(P24*5252)/P23 -> 27.010286 | Q25: =(Q24*5252)/Q23 -> 27.573 | R25: =(R24*5252)/R23 -> 31.512 | S25: =(S24*5252)/S23 -> 32.5624 | T25: =(T24*5252)/T23 -> 33.421818 | U25: =(U24*5252)/U23 -> 33.262667 | V25: =(V24*5252)/V23 -> 33.936 | W25: =(W24*5252)/W23 -> 35.263429 | ... AL25: =(AL24*5252)/AL23 -> 36.22069 | AU25: =AU24+500 -> 13500 | AV25: =($P$7*9.81)*('Zx6r Predicted Values'!$M$20/'Zx6r Predicted Values'!$M$21)-('Zx6r Power Map + Gearing'!M85*('Zx6r Predicted Values'!$M$22/'Zx6r Predicted Values'!$M$21)) -> -460.1844 | AW25: =251*9.81*('Zx6r Predicted Values'!$M$20/'Zx6r Predicted Values'!$M$21)-('Zx6r Power Map + Gearing'!N85*('Zx6r Predicted Values'!$M$22/'Zx6r Predicted Values'!$M$21)) -> 41.777441 | AX25: =251*9.81*('Zx6r Predicted Values'!$M$20/'Zx6r Predicted Values'!$M$21)-('Zx6r Power Map + Gearing'!O85*('Zx6r Predicted Values'!$M$22/'Zx6r Predicted Values'!$M$21)) -> 266.79482 | AY25: =251*9.81*('Zx6r Predicted Values'!$M$20/'Zx6r Predicted Values'!$M$21)-('Zx6r Power Map + Gearing'!P85*('Zx6r Predicted Values'!$M$22/'Zx6r Predicted Values'!$M$21)) -> 392.16164 | AZ25: =251*9.81*('Zx6r Predicted Values'!$M$20/'Zx6r Predicted Values'!$M$21)-('Zx6r Power Map + Gearing'!Q85*('Zx6r Predicted Values'!$M$22/'Zx6r Predicted Values'!$M$21)) -> 494.7345 | BA25: =251*9.81*('Zx6r Predicted Values'!$M$20/'Zx6r Predicted Values'!$M$21)-('Zx6r Power Map + Gearing'!R85*('Zx6r Predicted Values'!$M$22/'Zx6r Predicted Values'!$M$21)) -> 563.52103 | BC25: =BC24+500 -> 13500 | BD25: ='Zx6r Power Map + Gearing'!$P$7*9.81*('Zx6r Predicted Values'!$M$21-'Zx6r Predicted Values'!$M$20)/'Zx6r Predicted Values'!$M$21+'Zx6r Power Map + Gearing'!M85*('Zx6r Predicted Values'!$M$22/'Zx6r Predicted Values'!$M$21) -> 2922.4944 | BE25: =$P$7*9.81*(('Zx6r Predicted Values'!$M$21-'Zx6r Predicted Values'!$M$20)/'Zx6r Predicted Values'!$M$21)+'Zx6r Power Map + Gearing'!N85*('Zx6r Predicted Values'!$M$22/'Zx6r Predicted Values'!$M$21) -> 2420.5326 | BF25: =$P$7*9.81*(('Zx6r Predicted Values'!$M$21-'Zx6r Predicted Values'!$M$20)/'Zx6r Predicted Values'!$M$21)+'Zx6r Power Map + Gearing'!N86*('Zx6r Predicted Values'!$M$22/'Zx6r Predicted Values'!$M$21) -> 2367.4353 | BG25: =$P$7*9.81*(('Zx6r Predicted Values'!$M$21-'Zx6r Predicted Values'!$M$20)/'Zx6r Predicted Values'!$M$21)+'Zx6r Power Map + Gearing'!N87*('Zx6r Predicted Values'!$M$22/'Zx6r Predicted Values'!$M$21) -> 2256.4805 | BH25: =$P$7*9.81*(('Zx6r Predicted Values'!$M$21-'Zx6r Predicted Values'!$M$20)/'Zx6r Predicted Values'!$M$21)+'Zx6r Power Map + Gearing'!N88*('Zx6r Predicted Values'!$M$22/'Zx6r Predicted Values'!$M$21) -> 1231.155 | BI25: =$P$7*9.81*(('Zx6r Predicted Values'!$M$21-'Zx6r Predicted Values'!$M$20)/'Zx6r Predicted Values'!$M$21)+'Zx6r Power Map + Gearing'!N89*('Zx6r Predicted Values'!$M$22/'Zx6r Predicted Values'!$M$21) -> 3037.813 | BL25: =BL24+500 -> 13500 | BM25: =$P$7+BU54*($U$6*$U$6)+BM54*($U$7*$U$7)+$P$12*($U$13*$U$13)+$P$13*($U$10*$U$10)+$P$14*($U$8*$U$8) -> 238.30348 | BN25: =$P$7+BV54*($U$6*$U$6)+BN54*($U$7*$U$7)+$P$12*($U$13*$U$13)+$P$13*($U$10*$U$10)+$P$14*($U$8*$U$8) -> 328.98458 | BO25: =$P$7+BW54*($U$6*$U$6)+BO54*($U$7*$U$7)+$P$12*($U$13*$U$13)+$P$13*($U$10*$U$10)+$P$14*($U$8*$U$8) -> 420.40051 | BP25: =$P$7+BX54*($U$6*$U$6)+BP54*($U$7*$U$7)+$P$12*($U$13*$U$13)+$P$13*($U$10*$U$10)+$P$14*($U$8*$U$8) -> 521.59976 | BQ25: =$P$7+BY54*($U$6*$U$6)+BQ54*($U$7*$U$7)+$P$12*($U$13*$U$13)+$P$13*($U$10*$U$10)+$P$14*($U$8*$U$8) -> 689.873 | BR25: =$P$7+BZ54*($U$6*$U$6)+BR54*($U$7*$U$7)+$P$12*($U$13*$U$13)+$P$13*($U$10*$U$10)+$P$14*($U$8*$U$8) -> 942.38555
A26: Overall Drive Ratio | B26: 6.255 | C26: (@ top gear) | O26: Power (kw) | P26: =0.7457*P24 -> 13.4226 | Q26: =0.7457*Q24 -> 15.6597 | R26: =0.7457*R24 -> 20.1339 | S26: =0.7457*S24 -> 23.1167 | T26: =0.7457*T24 -> 26.0995 | U26: =0.7457*U24 -> 28.3366 | V26: =0.7457*V24 -> 31.3194 | W26: =0.7457*W24 -> 35.0479 | ... AL26: =0.7457*AL24 -> 74.57 | AU26: =AU25+500 -> 14000 | AV26: =($P$7*9.81)*('Zx6r Predicted Values'!$M$20/'Zx6r Predicted Values'!$M$21)-('Zx6r Power Map + Gearing'!M86*('Zx6r Predicted Values'!$M$22/'Zx6r Predicted Values'!$M$21)) -> -384.67817 | AW26: =251*9.81*('Zx6r Predicted Values'!$M$20/'Zx6r Predicted Values'!$M$21)-('Zx6r Power Map + Gearing'!N86*('Zx6r Predicted Values'!$M$22/'Zx6r Predicted Values'!$M$21)) -> 94.874653 | AX26: =251*9.81*('Zx6r Predicted Values'!$M$20/'Zx6r Predicted Values'!$M$21)-('Zx6r Power Map + Gearing'!O86*('Zx6r Predicted Values'!$M$22/'Zx6r Predicted Values'!$M$21)) -> 309.84661 | AY26: =251*9.81*('Zx6r Predicted Values'!$M$20/'Zx6r Predicted Values'!$M$21)-('Zx6r Power Map + Gearing'!P86*('Zx6r Predicted Values'!$M$22/'Zx6r Predicted Values'!$M$21)) -> 429.6167 | AZ26: =251*9.81*('Zx6r Predicted Values'!$M$20/'Zx6r Predicted Values'!$M$21)-('Zx6r Power Map + Gearing'!Q86*('Zx6r Predicted Values'!$M$22/'Zx6r Predicted Values'!$M$21)) -> 527.61041 | BA26: =251*9.81*('Zx6r Predicted Values'!$M$20/'Zx6r Predicted Values'!$M$21)-('Zx6r Power Map + Gearing'!R86*('Zx6r Predicted Values'!$M$22/'Zx6r Predicted Values'!$M$21)) -> 593.32612 | BC26: =BC25+500 -> 14000 | BD26: ='Zx6r Power Map + Gearing'!$P$7*9.81*('Zx6r Predicted Values'!$M$21-'Zx6r Predicted Values'!$M$20)/'Zx6r Predicted Values'!$M$21+'Zx6r Power Map + Gearing'!M86*('Zx6r Predicted Values'!$M$22/'Zx6r Predicted Values'!$M$21) -> 2846.9882 | BE26: =$P$7*9.81*(('Zx6r Predicted Values'!$M$21-'Zx6r Predicted Values'!$M$20)/'Zx6r Predicted Values'!$M$21)+'Zx6r Power Map + Gearing'!N86*('Zx6r Predicted Values'!$M$22/'Zx6r Predicted Values'!$M$21) -> 2367.4353 | BF26: =$P$7*9.81*(('Zx6r Predicted Values'!$M$21-'Zx6r Predicted Values'!$M$20)/'Zx6r Predicted Values'!$M$21)+'Zx6r Power Map + Gearing'!N87*('Zx6r Predicted Values'!$M$22/'Zx6r Predicted Values'!$M$21) -> 2256.4805 | BG26: =$P$7*9.81*(('Zx6r Predicted Values'!$M$21-'Zx6r Predicted Values'!$M$20)/'Zx6r Predicted Values'!$M$21)+'Zx6r Power Map + Gearing'!N88*('Zx6r Predicted Values'!$M$22/'Zx6r Predicted Values'!$M$21) -> 1231.155 | BH26: =$P$7*9.81*(('Zx6r Predicted Values'!$M$21-'Zx6r Predicted Values'!$M$20)/'Zx6r Predicted Values'!$M$21)+'Zx6r Power Map + Gearing'!N89*('Zx6r Predicted Values'!$M$22/'Zx6r Predicted Values'!$M$21) -> 3037.813 | BI26: =$P$7*9.81*(('Zx6r Predicted Values'!$M$21-'Zx6r Predicted Values'!$M$20)/'Zx6r Predicted Values'!$M$21)+'Zx6r Power Map + Gearing'!N90*('Zx6r Predicted Values'!$M$22/'Zx6r Predicted Values'!$M$21) -> 2146.5498 | BL26: =BL25+500 -> 14000 | BM26: =$P$7+BU55*($U$6*$U$6)+BM55*($U$7*$U$7)+$P$12*($U$13*$U$13)+$P$13*($U$10*$U$10)+$P$14*($U$8*$U$8) -> 246.65829 | BN26: =$P$7+BV55*($U$6*$U$6)+BN55*($U$7*$U$7)+$P$12*($U$13*$U$13)+$P$13*($U$10*$U$10)+$P$14*($U$8*$U$8) -> 344.57595 | BO26: =$P$7+BW55*($U$6*$U$6)+BO55*($U$7*$U$7)+$P$12*($U$13*$U$13)+$P$13*($U$10*$U$10)+$P$14*($U$8*$U$8) -> 446.7121 | BP26: =$P$7+BX55*($U$6*$U$6)+BP55*($U$7*$U$7)+$P$12*($U$13*$U$13)+$P$13*($U$10*$U$10)+$P$14*($U$8*$U$8) -> 564.92603 | BQ26: =$P$7+BY55*($U$6*$U$6)+BQ55*($U$7*$U$7)+$P$12*($U$13*$U$13)+$P$13*($U$10*$U$10)+$P$14*($U$8*$U$8) -> 775.16688 | BR26: =$P$7+BZ55*($U$6*$U$6)+BR55*($U$7*$U$7)+$P$12*($U$13*$U$13)+$P$13*($U$10*$U$10)+$P$14*($U$8*$U$8) -> 1127.6563
O27: Radians / second (rpm to rad/s) | P27: =P23*((2*PI())/60) -> 366.51914 | Q27: =Q23*((2*PI())/60) -> 418.87902 | R27: =R23*((2*PI())/60) -> 471.2389 | S27: =S23*((2*PI())/60) -> 523.59878 | T27: =T23*((2*PI())/60) -> 575.95865 | U27: =U23*((2*PI())/60) -> 628.31853 | V27: =V23*((2*PI())/60) -> 680.67841 | W27: =W23*((2*PI())/60) -> 733.03829 | ... AL27: =AL23*((2*PI())/60) -> 1518.4364 | AU27: =AU26+500 -> 14500 | AV27: =($P$7*9.81)*('Zx6r Predicted Values'!$M$20/'Zx6r Predicted Values'!$M$21)-('Zx6r Power Map + Gearing'!M87*('Zx6r Predicted Values'!$M$22/'Zx6r Predicted Values'!$M$21)) -> -226.8962 | AW27: =251*9.81*('Zx6r Predicted Values'!$M$20/'Zx6r Predicted Values'!$M$21)-('Zx6r Power Map + Gearing'!N87*('Zx6r Predicted Values'!$M$22/'Zx6r Predicted Values'!$M$21)) -> 205.82952 | AX27: =251*9.81*('Zx6r Predicted Values'!$M$20/'Zx6r Predicted Values'!$M$21)-('Zx6r Power Map + Gearing'!O87*('Zx6r Predicted Values'!$M$22/'Zx6r Predicted Values'!$M$21)) -> 399.81001 | AY27: =251*9.81*('Zx6r Predicted Values'!$M$20/'Zx6r Predicted Values'!$M$21)-('Zx6r Power Map + Gearing'!P87*('Zx6r Predicted Values'!$M$22/'Zx6r Predicted Values'!$M$21)) -> 507.88486 | AZ27: =251*9.81*('Zx6r Predicted Values'!$M$20/'Zx6r Predicted Values'!$M$21)-('Zx6r Power Map + Gearing'!Q87*('Zx6r Predicted Values'!$M$22/'Zx6r Predicted Values'!$M$21)) -> 596.30974 | BA27: =251*9.81*('Zx6r Predicted Values'!$M$20/'Zx6r Predicted Values'!$M$21)-('Zx6r Power Map + Gearing'!R87*('Zx6r Predicted Values'!$M$22/'Zx6r Predicted Values'!$M$21)) -> 655.60847 | BC27: =BC26+500 -> 14500 | BD27: ='Zx6r Power Map + Gearing'!$P$7*9.81*('Zx6r Predicted Values'!$M$21-'Zx6r Predicted Values'!$M$20)/'Zx6r Predicted Values'!$M$21+'Zx6r Power Map + Gearing'!M87*('Zx6r Predicted Values'!$M$22/'Zx6r Predicted Values'!$M$21) -> 2689.2062 | BE27: =$P$7*9.81*(('Zx6r Predicted Values'!$M$21-'Zx6r Predicted Values'!$M$20)/'Zx6r Predicted Values'!$M$21)+'Zx6r Power Map + Gearing'!N87*('Zx6r Predicted Values'!$M$22/'Zx6r Predicted Values'!$M$21) -> 2256.4805 | BF27: =$P$7*9.81*(('Zx6r Predicted Values'!$M$21-'Zx6r Predicted Values'!$M$20)/'Zx6r Predicted Values'!$M$21)+'Zx6r Power Map + Gearing'!N88*('Zx6r Predicted Values'!$M$22/'Zx6r Predicted Values'!$M$21) -> 1231.155 | BG27: =$P$7*9.81*(('Zx6r Predicted Values'!$M$21-'Zx6r Predicted Values'!$M$20)/'Zx6r Predicted Values'!$M$21)+'Zx6r Power Map + Gearing'!N89*('Zx6r Predicted Values'!$M$22/'Zx6r Predicted Values'!$M$21) -> 3037.813 | BH27: =$P$7*9.81*(('Zx6r Predicted Values'!$M$21-'Zx6r Predicted Values'!$M$20)/'Zx6r Predicted Values'!$M$21)+'Zx6r Power Map + Gearing'!N90*('Zx6r Predicted Values'!$M$22/'Zx6r Predicted Values'!$M$21) -> 2146.5498 | BI27: =$P$7*9.81*(('Zx6r Predicted Values'!$M$21-'Zx6r Predicted Values'!$M$20)/'Zx6r Predicted Values'!$M$21)+'Zx6r Power Map + Gearing'!N91*('Zx6r Predicted Values'!$M$22/'Zx6r Predicted Values'!$M$21) -> 1231.155 | BL27: =BL26+500 -> 14500 | BM27: =$P$7+BU56*($U$6*$U$6)+BM56*($U$7*$U$7)+$P$12*($U$13*$U$13)+$P$13*($U$10*$U$10)+$P$14*($U$8*$U$8) -> 266.62462 | BN27: =$P$7+BV56*($U$6*$U$6)+BN56*($U$7*$U$7)+$P$12*($U$13*$U$13)+$P$13*($U$10*$U$10)+$P$14*($U$8*$U$8) -> 381.30579 | BO27: =$P$7+BW56*($U$6*$U$6)+BO56*($U$7*$U$7)+$P$12*($U$13*$U$13)+$P$13*($U$10*$U$10)+$P$14*($U$8*$U$8) -> 508.10976 | BP27: =$P$7+BX56*($U$6*$U$6)+BP56*($U$7*$U$7)+$P$12*($U$13*$U$13)+$P$13*($U$10*$U$10)+$P$14*($U$8*$U$8) -> 667.03687 | BQ27: =$P$7+BY56*($U$6*$U$6)+BQ56*($U$7*$U$7)+$P$12*($U$13*$U$13)+$P$13*($U$10*$U$10)+$P$14*($U$8*$U$8) -> 988.91027 | BR27: =$P$7+BZ56*($U$6*$U$6)+BR56*($U$7*$U$7)+$P$12*($U$13*$U$13)+$P$13*($U$10*$U$10)+$P$14*($U$8*$U$8) -> 1679.8101
A28: Max horsepower (kw) | B28: 95.5 | C28: at 14k rpm | D28: v=243kph, 67.5 (m/s)
D29: (video, rafi superbike) | N29: Acceleration (m/s) = Driving Force / Reduced Mass | O29: 1st Gear | AP29: Angular Velocity Rear Wheel Wr (m/s)
A30: Max torque (Nm) | B30: 70.5 | C30: at 11.5k rpm | O30: 2nd Gear | AW30: LOG Equivalent Acceleration f=ma, a= equivalent driving force/mass (m/s) | BE30: Acceleration (m/s) of Dynamic Load Front Wheel given 45% weight distribution | BM30: Inertia of Front Wheel relative to Velocity | BU30: Inertia of Rear Wheel relative to Velocity
O31: 3rd Gear
A32: Top Speed (est) | B32: 175 | C32: mph | O32: 4th Gear | AO32: Rpm | AP32: 1st Gear | AQ32: 2nd Gear | AR32: 3rd Gear | AS32: 4th Gear | AT32: 5th Gear | AU32: 6th Gear | AW32: 1st Gear | AX32: 2nd Gear | AY32: 3rd Gear | AZ32: 4th Gear | BA32: 5th Gear | BB32: 6th Gear
B33: =B32*1.609 -> 281.575 | C33: kph | O33: 5th Gear | AO33: 3500 | AP33: =AA65/$Y$19*(2*PI()/60) -> 2.4237829 | AQ33: =AB65/$Y$19*(2*PI()/60) -> 3.44671 | AR33: =AC65/$Y$19*(2*PI()/60) -> 4.2509423 | AS33: =AD65/$Y$19*(2*PI()/60) -> 4.8861406 | AT33: =AE65/$Y$19*(2*PI()/60) -> 5.5667102 | AU33: =AF65/$Y$19*(2*PI()/60) -> 6.14025 | AW33: =LOG(AP65) -> 0.73331436 | AX33: =LOG(AQ65) -> 0.58040334 | AY33: =LOG(AR65) -> 0.48932287 | AZ33: =LOG(AS65) -> 0.42884212 | BA33: =LOG(AT65) -> 0.37220947 | BB33: =LOG(AU65) -> 0.32962202 | BD33: Rpm | BE33: 1st Gear | BF33: 2nd Gear | BG33: 3rd Gear | BH33: 4th Gear | BI33: 5th Gear | BJ33: 6th Gear | BL33: Rpm | BM33: 1st Gear | BN33: 2nd Gear | BO33: 3rd Gear | BP33: 4th Gear | BQ33: 5th Gear | BR33: 6th Gear | BT33: Rpm | BU33: 1st Gear | BV33: 2nd Gear | BW33: 3rd Gear | BX33: 4th Gear | BY33: 5th Gear | BZ33: 6th Gear
B34: =B33*(1000/3600) -> 78.215278 | C34: m/s | O34: 6th Gear | AO34: =AO33+500 -> 4000 | AP34: =AA66/$Y$19*(2*PI()/60) -> 2.7700376 | AQ34: =AB66/$Y$19*(2*PI()/60) -> 3.9390971 | AR34: =AC66/$Y$19*(2*PI()/60) -> 4.8582198 | AS34: =AD66/$Y$19*(2*PI()/60) -> 5.5841607 | AT34: =AE66/$Y$19*(2*PI()/60) -> 6.3619545 | AU34: =AF66/$Y$19*(2*PI()/60) -> 7.0174286 | AW34: =LOG(AP66) -> 0.7422692 | AX34: =LOG(AQ66) -> 0.58935818 | AY34: =LOG(AR66) -> 0.49827771 | AZ34: =LOG(AS66) -> 0.43779696 | BA34: =LOG(AT66) -> 0.38116431 | BB34: =LOG(AU66) -> 0.33857687 | BD34: 3500 | BE34: =AV5/($P$7*0.55) -> 1.0421252 | BF34: =AW5/($P$7*0.55) -> 3.3796099 | BG34: =AX5/($P$7*0.55) -> 4.4274478 | BH34: =AY5/($P$7*0.55) -> 5.0112432 | BI34: =AZ5/($P$7*0.55) -> 5.488894 | BJ34: =BA5/($P$7*0.55) -> 5.8092121 | BL34: 3500 | BM34: =((($U$15*9.81)-($U$15*BK65))*$Y$18)/(BK65/$Y$18) -> 3.0945795 | BN34: =((($U$15*9.81)-($U$15*BL65))*$Y$18)/(BL65/$Y$18) -> 8.1539486 | BO34: =((($U$15*9.81)-($U$15*BM65))*$Y$18)/(BM65/$Y$18) -> 12.334014 | BP34: =((($U$15*9.81)-($U$15*BN65))*$Y$18)/(BN65/$Y$18) -> 15.809775 | BQ34: =((($U$15*9.81)-($U$15*BO65))*$Y$18)/(BO65/$Y$18) -> 19.759671 | BR34: =((($U$15*9.81)-($U$15*BP65))*$Y$18)/(BP65/$Y$18) -> 23.321128 | BT34: 3500 | BU34: =((($U$16*9.81)-($U$16*BK65))*$Y$18)/(BK65/$Y$19) -> 3.3855003 | BV34: =((($U$16*9.81)-($U$16*BL65))*$Y$18)/(BL65/$Y$19) -> 8.9204994 | BW34: =((($U$16*9.81)-($U$16*BM65))*$Y$18)/(BM65/$Y$19) -> 13.493532 | BX34: =((($U$16*9.81)-($U$16*BN65))*$Y$18)/(BN65/$Y$19) -> 17.296048 | BY34: =((($U$16*9.81)-($U$16*BO65))*$Y$18)/(BO65/$Y$19) -> 21.617273 | BZ34: =((($U$16*9.81)-($U$16*BP65))*$Y$18)/(BP65/$Y$19) -> 25.513542
AO35: =AO34+500 -> 4500 | AP35: =AA67/$Y$19*(2*PI()/60) -> 3.1162923 | AQ35: =AB67/$Y$19*(2*PI()/60) -> 4.4314842 | AR35: =AC67/$Y$19*(2*PI()/60) -> 5.4654972 | AS35: =AD67/$Y$19*(2*PI()/60) -> 6.2821807 | AT35: =AE67/$Y$19*(2*PI()/60) -> 7.1571988 | AU35: =AF67/$Y$19*(2*PI()/60) -> 7.8946071 | AW35: =LOG(AP67) -> 0.80026115 | AX35: =LOG(AQ67) -> 0.64735013 | AY35: =LOG(AR67) -> 0.55626966 | AZ35: =LOG(AS67) -> 0.49578891 | BA35: =LOG(AT67) -> 0.43915626 | BB35: =LOG(AU67) -> 0.39656881 | BD35: =BD34+500 -> 4000 | BE35: =AV6/($P$7*0.55) -> 0.87804071 | BF35: =AW6/($P$7*0.55) -> 3.2642229 | BG35: =AX6/($P$7*0.55) -> 4.3338908 | BH35: =AY6/($P$7*0.55) -> 4.9298487 | BI35: =AZ6/($P$7*0.55) -> 5.4174505 | BJ35: =BA6/($P$7*0.55) -> 5.7444419 | BL35: =BL34+500 -> 4000 | BM35: =((($U$15*9.81)-($U$15*BK66))*$Y$18)/(BK66/$Y$18) -> 2.5768004 | BN35: =((($U$15*9.81)-($U$15*BL66))*$Y$18)/(BL66/$Y$18) -> 7.8498223 | BO35: =((($U$15*9.81)-($U$15*BM66))*$Y$18)/(BM66/$Y$18) -> 11.997073 | BP35: =((($U$15*9.81)-($U$15*BN66))*$Y$18)/(BN66/$Y$18) -> 15.477674 | BQ35: =((($U$15*9.81)-($U$15*BO66))*$Y$18)/(BO66/$Y$18) -> 19.479607 | BR35: =((($U$15*9.81)-($U$15*BP66))*$Y$18)/(BP66/$Y$18) -> 23.139755 | BT35: =BT34+500 -> 4000 | BU35: =((($U$16*9.81)-($U$16*BK66))*$Y$18)/(BK66/$Y$19) -> 2.8190448 | BV35: =((($U$16*9.81)-($U$16*BL66))*$Y$18)/(BL66/$Y$19) -> 8.5877824 | BW35: =((($U$16*9.81)-($U$16*BM66))*$Y$18)/(BM66/$Y$19) -> 13.124915 | BX35: =((($U$16*9.81)-($U$16*BN66))*$Y$18)/(BN66/$Y$19) -> 16.932726 | BY35: =((($U$16*9.81)-($U$16*BO66))*$Y$18)/(BO66/$Y$19) -> 21.310881 | BZ35: =((($U$16*9.81)-($U$16*BP66))*$Y$18)/(BP66/$Y$19) -> 25.315118
A36: driving force, s | B36: power in watts | C36: velocity (m/s) | D36: equals | N36: Wheelie ltd accel. (m/s) | O36: 1st gear | AO36: =AO35+500 -> 5000 | AP36: =AA68/$Y$19*(2*PI()/60) -> 3.462547 | AQ36: =AB68/$Y$19*(2*PI()/60) -> 4.9238714 | AR36: =AC68/$Y$19*(2*PI()/60) -> 6.0727747 | AS36: =AD68/$Y$19*(2*PI()/60) -> 6.9802008 | AT36: =AE68/$Y$19*(2*PI()/60) -> 7.9524431 | AU36: =AF68/$Y$19*(2*PI()/60) -> 8.7717857 | AW36: =LOG(AP68) -> 0.81450159 | AX36: =LOG(AQ68) -> 0.66159056 | AY36: =LOG(AR68) -> 0.5705101 | AZ36: =LOG(AS68) -> 0.51002935 | BA36: =LOG(AT68) -> 0.4533967 | BB36: =LOG(AU68) -> 0.41080925 | BD36: =BD35+500 -> 4500 | BE36: =AV7/($P$7*0.55) -> -0.27055088 | BF36: =AW7/($P$7*0.55) -> 2.4565145 | BG36: =AX7/($P$7*0.55) -> 3.6789921 | BH36: =AY7/($P$7*0.55) -> 4.3600868 | BI36: =AZ7/($P$7*0.55) -> 4.9173461 | BJ36: =BA7/($P$7*0.55) -> 5.2910505 | BL36: =BL35+500 -> 4500 | BM36: =((($U$15*9.81)-($U$15*BK67))*$Y$18)/(BK67/$Y$18) -> 1.2330894 | BN36: =((($U$15*9.81)-($U$15*BL67))*$Y$18)/(BL67/$Y$18) -> 5.7927821 | BO36: =((($U$15*9.81)-($U$15*BM67))*$Y$18)/(BM67/$Y$18) -> 9.4075903 | BP36: =((($U$15*9.81)-($U$15*BN67))*$Y$18)/(BN67/$Y$18) -> 12.448647 | BQ36: =((($U$15*9.81)-($U$15*BO67))*$Y$18)/(BO67/$Y$18) -> 15.957908 | BR36: =((($U$15*9.81)-($U$15*BP67))*$Y$18)/(BP67/$Y$18) -> 19.182955 | BT36: =BT35+500 -> 4500 | BU36: =((($U$16*9.81)-($U$16*BK67))*$Y$18)/(BK67/$Y$19) -> 1.3490119 | BV36: =((($U$16*9.81)-($U$16*BL67))*$Y$18)/(BL67/$Y$19) -> 6.3373602 | BW36: =((($U$16*9.81)-($U$16*BM67))*$Y$18)/(BM67/$Y$19) -> 10.291996 | BX36: =((($U$16*9.81)-($U$16*BN67))*$Y$18)/(BN67/$Y$19) -> 13.618942 | BY36: =((($U$16*9.81)-($U$16*BO67))*$Y$18)/(BO67/$Y$19) -> 17.458107 | BZ36: =((($U$16*9.81)-($U$16*BP67))*$Y$18)/(BP67/$Y$19) -> 20.98634
A37: s = power/velocity | B37: =B28*1000 -> 95500 | C37: =243*(1000/3600) -> 67.5 | D37: =B37/C37 -> 1414.8148 | E37: n | O37: 2nd Gear | AO37: =AO36+500 -> 5500 | AP37: =AA69/$Y$19*(2*PI()/60) -> 3.8088017 | AQ37: =AB69/$Y$19*(2*PI()/60) -> 5.4162585 | AR37: =AC69/$Y$19*(2*PI()/60) -> 6.6800522 | AS37: =AD69/$Y$19*(2*PI()/60) -> 7.6782209 | AT37: =AE69/$Y$19*(2*PI()/60) -> 8.7476874 | AU37: =AF69/$Y$19*(2*PI()/60) -> 9.6489643 | AW37: =LOG(AP69) -> 0.82581526 | AX37: =LOG(AQ69) -> 0.67290423 | AY37: =LOG(AR69) -> 0.58182376 | AZ37: =LOG(AS69) -> 0.52134301 | BA37: =LOG(AT69) -> 0.46471036 | BB37: =LOG(AU69) -> 0.42212292 | BD37: =BD36+500 -> 5000 | BE37: =AV8/($P$7*0.55) -> -0.57684197 | BF37: =AW8/($P$7*0.55) -> 2.2411256 | BG37: =AX8/($P$7*0.55) -> 3.5043525 | BH37: =AY8/($P$7*0.55) -> 4.2081503 | BI37: =AZ8/($P$7*0.55) -> 4.7839849 | BJ37: =BA8/($P$7*0.55) -> 5.1701461 | BL37: =BL36+500 -> 5000 | BM37: =((($U$15*9.81)-($U$15*BK68))*$Y$18)/(BK68/$Y$18) -> 0.93662004 | BN37: =((($U$15*9.81)-($U$15*BL68))*$Y$18)/(BL68/$Y$18) -> 5.3619406 | BO37: =((($U$15*9.81)-($U$15*BM68))*$Y$18)/(BM68/$Y$18) -> 8.9017796 | BP37: =((($U$15*9.81)-($U$15*BN68))*$Y$18)/(BN68/$Y$18) -> 11.906453 | BQ37: =((($U$15*9.81)-($U$15*BO68))*$Y$18)/(BO68/$Y$18) -> 15.413068 | BR37: =((($U$15*9.81)-($U$15*BP68))*$Y$18)/(BP68/$Y$18) -> 18.680329 | BT37: =BT36+500 -> 5000 | BU37: =((($U$16*9.81)-($U$16*BK68))*$Y$18)/(BK68/$Y$19) -> 1.0246715 | BV37: =((($U$16*9.81)-($U$16*BL68))*$Y$18)/(BL68/$Y$19) -> 5.8660154 | BW37: =((($U$16*9.81)-($U$16*BM68))*$Y$18)/(BM68/$Y$19) -> 9.7386339 | BX37: =((($U$16*9.81)-($U$16*BN68))*$Y$18)/(BN68/$Y$19) -> 13.025776 | BY37: =((($U$16*9.81)-($U$16*BO68))*$Y$18)/(BO68/$Y$19) -> 16.862047 | BZ37: =((($U$16*9.81)-($U$16*BP68))*$Y$18)/(BP68/$Y$19) -> 20.436463
O38: 3rd Gear | AO38: =AO37+500 -> 6000 | AP38: =AA70/$Y$19*(2*PI()/60) -> 4.1550564 | AQ38: =AB70/$Y$19*(2*PI()/60) -> 5.9086457 | AR38: =AC70/$Y$19*(2*PI()/60) -> 7.2873297 | AS38: =AD70/$Y$19*(2*PI()/60) -> 8.376241 | AT38: =AE70/$Y$19*(2*PI()/60) -> 9.5429317 | AU38: =AF70/$Y$19*(2*PI()/60) -> 10.526143 | AW38: =LOG(AP70) -> 0.82374225 | AX38: =LOG(AQ70) -> 0.67083122 | AY38: =LOG(AR70) -> 0.57975075 | AZ38: =LOG(AS70) -> 0.51927 | BA38: =LOG(AT70) -> 0.46263735 | BB38: =LOG(AU70) -> 0.42004991 | BD38: =BD37+500 -> 5500 | BE38: =AV9/($P$7*0.55) -> -0.82744377 | BF38: =AW9/($P$7*0.55) -> 2.0648983 | BG38: =AX9/($P$7*0.55) -> 3.3614655 | BH38: =AY9/($P$7*0.55) -> 4.0838386 | BI38: =AZ9/($P$7*0.55) -> 4.6748712 | BJ38: =BA9/($P$7*0.55) -> 5.0712244 | BL38: =BL37+500 -> 5500 | BM38: =((($U$15*9.81)-($U$15*BK69))*$Y$18)/(BK69/$Y$18) -> 0.71011093 | BN38: =((($U$15*9.81)-($U$15*BL69))*$Y$18)/(BL69/$Y$18) -> 5.0400563 | BO38: =((($U$15*9.81)-($U$15*BM69))*$Y$18)/(BM69/$Y$18) -> 8.5366828 | BP38: =((($U$15*9.81)-($U$15*BN69))*$Y$18)/(BN69/$Y$18) -> 11.534278 | BQ38: =((($U$15*9.81)-($U$15*BO69))*$Y$18)/(BO69/$Y$18) -> 15.076674 | BR38: =((($U$15*9.81)-($U$15*BP69))*$Y$18)/(BP69/$Y$18) -> 18.427969 | BT38: =BT37+500 -> 5500 | BU38: =((($U$16*9.81)-($U$16*BK69))*$Y$18)/(BK69/$Y$19) -> 0.7768683 | BV38: =((($U$16*9.81)-($U$16*BL69))*$Y$18)/(BL69/$Y$19) -> 5.5138709 | BW38: =((($U$16*9.81)-($U$16*BM69))*$Y$18)/(BM69/$Y$19) -> 9.3392144 | BX38: =((($U$16*9.81)-($U$16*BN69))*$Y$18)/(BN69/$Y$19) -> 12.618613 | BY38: =((($U$16*9.81)-($U$16*BO69))*$Y$18)/(BO69/$Y$19) -> 16.494028 | BZ38: =((($U$16*9.81)-($U$16*BP69))*$Y$18)/(BP69/$Y$19) -> 20.160378
O39: 4th Gear | AO39: =AO38+500 -> 6500 | AP39: =AA71/$Y$19*(2*PI()/60) -> 4.5013111 | AQ39: =AB71/$Y$19*(2*PI()/60) -> 6.4010328 | AR39: =AC71/$Y$19*(2*PI()/60) -> 7.8946071 | AS39: =AD71/$Y$19*(2*PI()/60) -> 9.0742611 | AT39: =AE71/$Y$19*(2*PI()/60) -> 10.338176 | AU39: =AF71/$Y$19*(2*PI()/60) -> 11.403321 | AW39: =LOG(AP71) -> 0.83244583 | AX39: =LOG(AQ71) -> 0.67953481 | AY39: =LOG(AR71) -> 0.58845434 | AZ39: =LOG(AS71) -> 0.52797359 | BA39: =LOG(AT71) -> 0.47134094 | BB39: =LOG(AU71) -> 0.4287535 | BD39: =BD38+500 -> 6000 | BE39: =AV10/($P$7*0.55) -> -0.78103602 | BF39: =AW10/($P$7*0.55) -> 2.097533 | BG39: =AX10/($P$7*0.55) -> 3.387926 | BH39: =AY10/($P$7*0.55) -> 4.1068593 | BI39: =AZ10/($P$7*0.55) -> 4.6950774 | BJ39: =BA10/($P$7*0.55) -> 5.0895432 | BL39: =BL38+500 -> 6000 | BM39: =((($U$15*9.81)-($U$15*BK70))*$Y$18)/(BK70/$Y$18) -> 0.7639218 | BN39: =((($U$15*9.81)-($U$15*BL70))*$Y$18)/(BL70/$Y$18) -> 5.1553987 | BO39: =((($U$15*9.81)-($U$15*BM70))*$Y$18)/(BM70/$Y$18) -> 8.7417943 | BP39: =((($U$15*9.81)-($U$15*BN70))*$Y$18)/(BN70/$Y$18) -> 11.857768 | BQ39: =((($U$15*9.81)-($U$15*BO70))*$Y$18)/(BO70/$Y$18) -> 15.602221 | BR39: =((($U$15*9.81)-($U$15*BP70))*$Y$18)/(BP70/$Y$18) -> 19.217499 | BT39: =BT38+500 -> 6000 | BU39: =((($U$16*9.81)-($U$16*BK70))*$Y$18)/(BK70/$Y$19) -> 0.83573791 | BV39: =((($U$16*9.81)-($U$16*BL70))*$Y$18)/(BL70/$Y$19) -> 5.6400566 | BW39: =((($U$16*9.81)-($U$16*BM70))*$Y$18)/(BM70/$Y$19) -> 9.5636084 | BX39: =((($U$16*9.81)-($U$16*BN70))*$Y$18)/(BN70/$Y$19) -> 12.972514 | BY39: =((($U$16*9.81)-($U$16*BO70))*$Y$18)/(BO70/$Y$19) -> 17.068982 | BZ39: =((($U$16*9.81)-($U$16*BP70))*$Y$18)/(BP70/$Y$19) -> 21.024132
O40: 5th Gear | AO40: =AO39+500 -> 7000 | AP40: =AA72/$Y$19*(2*PI()/60) -> 4.8475658 | AQ40: =AB72/$Y$19*(2*PI()/60) -> 6.8934199 | AR40: =AC72/$Y$19*(2*PI()/60) -> 8.5018846 | AS40: =AD72/$Y$19*(2*PI()/60) -> 9.7722811 | AT40: =AE72/$Y$19*(2*PI()/60) -> 11.13342 | AU40: =AF72/$Y$19*(2*PI()/60) -> 12.2805 | AW40: =LOG(AP72) -> 0.84910972 | AX40: =LOG(AQ72) -> 0.69619869 | AY40: =LOG(AR72) -> 0.60511822 | AZ40: =LOG(AS72) -> 0.54463748 | BA40: =LOG(AT72) -> 0.48800482 | BB40: =LOG(AU72) -> 0.44541738 | BD40: =BD39+500 -> 6500 | BE40: =AV11/($P$7*0.55) -> -0.97737647 | BF40: =AW11/($P$7*0.55) -> 1.9594632 | BG40: =AX11/($P$7*0.55) -> 3.2759775 | BH40: =AY11/($P$7*0.55) -> 4.0094641 | BI40: =AZ11/($P$7*0.55) -> 4.6095895 | BJ40: =BA11/($P$7*0.55) -> 5.0120404 | BL40: =BL39+500 -> 6500 | BM40: =((($U$15*9.81)-($U$15*BK71))*$Y$18)/(BK71/$Y$18) -> 0.59600958 | BN40: =((($U$15*9.81)-($U$15*BL71))*$Y$18)/(BL71/$Y$18) -> 4.9270192 | BO40: =((($U$15*9.81)-($U$15*BM71))*$Y$18)/(BM71/$Y$18) -> 8.5028167 | BP40: =((($U$15*9.81)-($U$15*BN71))*$Y$18)/(BN71/$Y$18) -> 11.64666 | BQ40: =((($U$15*9.81)-($U$15*BO71))*$Y$18)/(BO71/$Y$18) -> 15.481583 | BR40: =((($U$15*9.81)-($U$15*BP71))*$Y$18)/(BP71/$Y$18) -> 19.252699 | BT40: =BT39+500 -> 6500 | BU40: =((($U$16*9.81)-($U$16*BK71))*$Y$18)/(BK71/$Y$19) -> 0.65204031 | BV40: =((($U$16*9.81)-($U$16*BL71))*$Y$18)/(BL71/$Y$19) -> 5.3902072 | BW40: =((($U$16*9.81)-($U$16*BM71))*$Y$18)/(BM71/$Y$19) -> 9.3021646 | BX40: =((($U$16*9.81)-($U$16*BN71))*$Y$18)/(BN71/$Y$19) -> 12.741559 | BY40: =((($U$16*9.81)-($U$16*BO71))*$Y$18)/(BO71/$Y$19) -> 16.937003 | BZ40: =((($U$16*9.81)-($U$16*BP71))*$Y$18)/(BP71/$Y$19) -> 21.062641
D41: inverse ratio | O41: 6th Gear | AO41: =AO40+500 -> 7500 | AP41: =AA73/$Y$19*(2*PI()/60) -> 5.1938205 | AQ41: =AB73/$Y$19*(2*PI()/60) -> 7.3858071 | AR41: =AC73/$Y$19*(2*PI()/60) -> 9.1091621 | AS41: =AD73/$Y$19*(2*PI()/60) -> 10.470301 | AT41: =AE73/$Y$19*(2*PI()/60) -> 11.928665 | AU41: =AF73/$Y$19*(2*PI()/60) -> 13.157679 | AW41: =LOG(AP73) -> 0.85461881 | AX41: =LOG(AQ73) -> 0.70170779 | AY41: =LOG(AR73) -> 0.61062732 | AZ41: =LOG(AS73) -> 0.55014657 | BA41: =LOG(AT73) -> 0.49351392 | BB41: =LOG(AU73) -> 0.45092648 | BD41: =BD40+500 -> 7000 | BE41: =AV12/($P$7*0.55) -> -1.3644476 | BF41: =AW12/($P$7*0.55) -> 1.6872684 | BG41: =AX12/($P$7*0.55) -> 3.0552791 | BH41: =AY12/($P$7*0.55) -> 3.8174564 | BI41: =AZ12/($P$7*0.55) -> 4.4410561 | BJ41: =BA12/($P$7*0.55) -> 4.8592491 | BL41: =BL40+500 -> 7000 | BM41: =((($U$15*9.81)-($U$15*BK72))*$Y$18)/(BK72/$Y$18) -> 0.27329937 | BN41: =((($U$15*9.81)-($U$15*BL72))*$Y$18)/(BL72/$Y$18) -> 4.4562364 | BO41: =((($U$15*9.81)-($U$15*BM72))*$Y$18)/(BM72/$Y$18) -> 7.9449585 | BP41: =((($U$15*9.81)-($U$15*BN72))*$Y$18)/(BN72/$Y$18) -> 11.04365 | BQ41: =((($U$15*9.81)-($U$15*BO72))*$Y$18)/(BO72/$Y$18) -> 14.872793 | BR41: =((($U$15*9.81)-($U$15*BP72))*$Y$18)/(BP72/$Y$18) -> 18.698868 | BT41: =BT40+500 -> 7000 | BU41: =((($U$16*9.81)-($U$16*BK72))*$Y$18)/(BK72/$Y$19) -> 0.29899218 | BV41: =((($U$16*9.81)-($U$16*BL72))*$Y$18)/(BL72/$Y$19) -> 4.8751662 | BW41: =((($U$16*9.81)-($U$16*BM72))*$Y$18)/(BM72/$Y$19) -> 8.6918623 | BX41: =((($U$16*9.81)-($U$16*BN72))*$Y$18)/(BN72/$Y$19) -> 12.081861 | BY41: =((($U$16*9.81)-($U$16*BO72))*$Y$18)/(BO72/$Y$19) -> 16.270981 | BZ41: =((($U$16*9.81)-($U$16*BP72))*$Y$18)/(BP72/$Y$19) -> 20.456745
A42: Primary | B42: 87 | C42: 46 | D42: =C42/B42 -> 0.52873563 | AO42: =AO41+500 -> 8000 | AP42: =AA74/$Y$19*(2*PI()/60) -> 5.5400752 | AQ42: =AB74/$Y$19*(2*PI()/60) -> 7.8781942 | AR42: =AC74/$Y$19*(2*PI()/60) -> 9.7164395 | AS42: =AD74/$Y$19*(2*PI()/60) -> 11.168321 | AT42: =AE74/$Y$19*(2*PI()/60) -> 12.723909 | AU42: =AF74/$Y$19*(2*PI()/60) -> 14.034857 | AW42: =LOG(AP74) -> 0.87489477 | AX42: =LOG(AQ74) -> 0.72198374 | AY42: =LOG(AR74) -> 0.63090327 | AZ42: =LOG(AS74) -> 0.57042253 | BA42: =LOG(AT74) -> 0.51378988 | BB42: =LOG(AU74) -> 0.47120243 | BD42: =BD41+500 -> 7500 | BE42: =AV13/($P$7*0.55) -> -1.4957152 | BF42: =AW13/($P$7*0.55) -> 1.5949589 | BG42: =AX13/($P$7*0.55) -> 2.9804335 | BH42: =AY13/($P$7*0.55) -> 3.7523408 | BI42: =AZ13/($P$7*0.55) -> 4.3839013 | BJ42: =BA13/($P$7*0.55) -> 4.807433 | BL42: =BL41+500 -> 7500 | BM42: =((($U$15*9.81)-($U$15*BK73))*$Y$18)/(BK73/$Y$18) -> 0.17736604 | BN42: =((($U$15*9.81)-($U$15*BL73))*$Y$18)/(BL73/$Y$18) -> 4.3412243 | BO42: =((($U$15*9.81)-($U$15*BM73))*$Y$18)/(BM73/$Y$18) -> 7.856291 | BP42: =((($U$15*9.81)-($U$15*BN73))*$Y$18)/(BN73/$Y$18) -> 11.021267 | BQ42: =((($U$15*9.81)-($U$15*BO73))*$Y$18)/(BO73/$Y$18) -> 15.000484 | BR42: =((($U$15*9.81)-($U$15*BP73))*$Y$18)/(BP73/$Y$18) -> 19.062268 | BT42: =BT41+500 -> 7500 | BU42: =((($U$16*9.81)-($U$16*BK73))*$Y$18)/(BK73/$Y$19) -> 0.19404018 | BV42: =((($U$16*9.81)-($U$16*BL73))*$Y$18)/(BL73/$Y$19) -> 4.7493418 | BW42: =((($U$16*9.81)-($U$16*BM73))*$Y$18)/(BM73/$Y$19) -> 8.5948592 | BX42: =((($U$16*9.81)-($U$16*BN73))*$Y$18)/(BN73/$Y$19) -> 12.057374 | BY42: =((($U$16*9.81)-($U$16*BO73))*$Y$18)/(BO73/$Y$19) -> 16.410676 | BZ42: =((($U$16*9.81)-($U$16*BP73))*$Y$18)/(BP73/$Y$19) -> 20.854308
A43: Final | B43: 43 | C43: 15 | D43: =C43/B43 -> 0.34883721 | AO43: =AO42+500 -> 8500 | AP43: =AA75/$Y$19*(2*PI()/60) -> 5.8863299 | AQ43: =AB75/$Y$19*(2*PI()/60) -> 8.3705814 | AR43: =AC75/$Y$19*(2*PI()/60) -> 10.323717 | AS43: =AD75/$Y$19*(2*PI()/60) -> 11.866341 | AT43: =AE75/$Y$19*(2*PI()/60) -> 13.519153 | AU43: =AF75/$Y$19*(2*PI()/60) -> 14.912036 | AW43: =LOG(AP75) -> 0.89887095 | AX43: =LOG(AQ75) -> 0.74595992 | AY43: =LOG(AR75) -> 0.65487945 | AZ43: =LOG(AS75) -> 0.59439871 | BA43: =LOG(AT75) -> 0.53776605 | BB43: =LOG(AU75) -> 0.49517861 | BD43: =BD42+500 -> 8000 | BE43: =AV14/($P$7*0.55) -> -1.9934383 | BF43: =AW14/($P$7*0.55) -> 1.2449519 | BG43: =AX14/($P$7*0.55) -> 2.6966441 | BH43: =AY14/($P$7*0.55) -> 3.505444 | BI43: =AZ14/($P$7*0.55) -> 4.1671893 | BJ43: =BA14/($P$7*0.55) -> 4.6109634 | BL43: =BL42+500 -> 8000 | BM43: =((($U$15*9.81)-($U$15*BK74))*$Y$18)/(BK74/$Y$18) -> -0.19739002 | BN43: =((($U$15*9.81)-($U$15*BL74))*$Y$18)/(BL74/$Y$18) -> 3.7867804 | BO43: =((($U$15*9.81)-($U$15*BM74))*$Y$18)/(BM74/$Y$18) -> 7.1826231 | BP43: =((($U$15*9.81)-($U$15*BN74))*$Y$18)/(BN74/$Y$18) -> 10.26893 | BQ43: =((($U$15*9.81)-($U$15*BO74))*$Y$18)/(BO74/$Y$18) -> 14.196031 | BR43: =((($U$15*9.81)-($U$15*BP74))*$Y$18)/(BP74/$Y$18) -> 18.265068 | BT43: =BT42+500 -> 8000 | BU43: =((($U$16*9.81)-($U$16*BK74))*$Y$18)/(BK74/$Y$19) -> -0.21594662 | BV43: =((($U$16*9.81)-($U$16*BL74))*$Y$18)/(BL74/$Y$19) -> 4.1427747 | BW43: =((($U$16*9.81)-($U$16*BM74))*$Y$18)/(BM74/$Y$19) -> 7.8578599 | BX43: =((($U$16*9.81)-($U$16*BN74))*$Y$18)/(BN74/$Y$19) -> 11.23431 | BY43: =((($U$16*9.81)-($U$16*BO74))*$Y$18)/(BO74/$Y$19) -> 15.530597 | BZ43: =((($U$16*9.81)-($U$16*BP74))*$Y$18)/(BP74/$Y$19) -> 19.982163
AO44: =AO43+500 -> 9000 | AP44: =AA76/$Y$19*(2*PI()/60) -> 6.2325846 | AQ44: =AB76/$Y$19*(2*PI()/60) -> 8.8629685 | AR44: =AC76/$Y$19*(2*PI()/60) -> 10.930994 | AS44: =AD76/$Y$19*(2*PI()/60) -> 12.564361 | AT44: =AE76/$Y$19*(2*PI()/60) -> 14.314398 | AU44: =AF76/$Y$19*(2*PI()/60) -> 15.789214 | AW44: =LOG(AP76) -> 0.91296543 | AX44: =LOG(AQ76) -> 0.76005441 | AY44: =LOG(AR76) -> 0.66897394 | AZ44: =LOG(AS76) -> 0.60849319 | BA44: =LOG(AT76) -> 0.55186054 | BB44: =LOG(AU76) -> 0.50927309 | BD44: =BD43+500 -> 8500 | BE44: =AV15/($P$7*0.55) -> -2.6127769 | BF44: =AW15/($P$7*0.55) -> 0.80942287 | BG44: =AX15/($P$7*0.55) -> 2.3435124 | BH44: =AY15/($P$7*0.55) -> 3.1982194 | BI44: =AZ15/($P$7*0.55) -> 3.8975252 | BJ44: =BA15/($P$7*0.55) -> 4.3664876 | BL44: =BL43+500 -> 8500 | BM44: =((($U$15*9.81)-($U$15*BK75))*$Y$18)/(BK75/$Y$18) -> -0.62128268 | BN44: =((($U$15*9.81)-($U$15*BL75))*$Y$18)/(BL75/$Y$18) -> 3.1531507 | BO44: =((($U$15*9.81)-($U$15*BM75))*$Y$18)/(BM75/$Y$18) -> 6.3977859 | BP44: =((($U$15*9.81)-($U$15*BN75))*$Y$18)/(BN75/$Y$18) -> 9.3698728 | BQ44: =((($U$15*9.81)-($U$15*BO75))*$Y$18)/(BO75/$Y$18) -> 13.190147 | BR44: =((($U$15*9.81)-($U$15*BP75))*$Y$18)/(BP75/$Y$18) -> 17.199239 | BT44: =BT43+500 -> 8500 | BU44: =((($U$16*9.81)-($U$16*BK75))*$Y$18)/(BK75/$Y$19) -> -0.67968932 | BV44: =((($U$16*9.81)-($U$16*BL75))*$Y$18)/(BL75/$Y$19) -> 3.4495777 | BW44: =((($U$16*9.81)-($U$16*BM75))*$Y$18)/(BM75/$Y$19) -> 6.9992404 | BX44: =((($U$16*9.81)-($U$16*BN75))*$Y$18)/(BN75/$Y$19) -> 10.250732 | BY44: =((($U$16*9.81)-($U$16*BO75))*$Y$18)/(BO75/$Y$19) -> 14.43015 | BZ44: =((($U$16*9.81)-($U$16*BP75))*$Y$18)/(BP75/$Y$19) -> 18.816135
A45: R Wheel Diameter inc. (180/55/17) tyre (m) | B45: 17 inch = 431.8 mm tyre tread height= 2 x(180x0.55)= 198mm | C45: =(431.8+198)/1000 -> 0.6298 | D45: m | AO45: =AO44+500 -> 9500 | AP45: =AA77/$Y$19*(2*PI()/60) -> 6.5788393 | AQ45: =AB77/$Y$19*(2*PI()/60) -> 9.3553556 | AR45: =AC77/$Y$19*(2*PI()/60) -> 11.538272 | AS45: =AD77/$Y$19*(2*PI()/60) -> 13.262382 | AT45: =AE77/$Y$19*(2*PI()/60) -> 15.109642 | AU45: =AF77/$Y$19*(2*PI()/60) -> 16.666393 | AW45: =LOG(AP77) -> 0.90770916 | AX45: =LOG(AQ77) -> 0.75479813 | AY45: =LOG(AR77) -> 0.66371766 | AZ45: =LOG(AS77) -> 0.60323691 | BA45: =LOG(AT77) -> 0.54660426 | BB45: =LOG(AU77) -> 0.50401682 | BD45: =BD44+500 -> 9000 | BE45: =AV16/($P$7*0.55) -> -2.9931383 | BF45: =AW16/($P$7*0.55) -> 0.54194644 | BG45: =AX16/($P$7*0.55) -> 2.1266396 | BH45: =AY16/($P$7*0.55) -> 3.0095401 | BI45: =AZ16/($P$7*0.55) -> 3.7319132 | BJ45: =BA16/($P$7*0.55) -> 4.2163449 | BL45: =BL44+500 -> 9000 | BM45: =((($U$15*9.81)-($U$15*BK76))*$Y$18)/(BK76/$Y$18) -> -0.85538862 | BN45: =((($U$15*9.81)-($U$15*BL76))*$Y$18)/(BL76/$Y$18) -> 2.817424 | BO45: =((($U$15*9.81)-($U$15*BM76))*$Y$18)/(BM76/$Y$18) -> 6.0079474 | BP45: =((($U$15*9.81)-($U$15*BN76))*$Y$18)/(BN76/$Y$18) -> 8.9630957 | BQ45: =((($U$15*9.81)-($U$15*BO76))*$Y$18)/(BO76/$Y$18) -> 12.816188 | BR45: =((($U$15*9.81)-($U$15*BP76))*$Y$18)/(BP76/$Y$18) -> 16.933046 | BT45: =BT44+500 -> 9000 | BU45: =((($U$16*9.81)-($U$16*BK76))*$Y$18)/(BK76/$Y$19) -> -0.93580352 | BV45: =((($U$16*9.81)-($U$16*BL76))*$Y$18)/(BL76/$Y$19) -> 3.0822894 | BW45: =((($U$16*9.81)-($U$16*BM76))*$Y$18)/(BM76/$Y$19) -> 6.5727532 | BX45: =((($U$16*9.81)-($U$16*BN76))*$Y$18)/(BN76/$Y$19) -> 9.8057144 | BY45: =((($U$16*9.81)-($U$16*BO76))*$Y$18)/(BO76/$Y$19) -> 14.021035 | BZ45: =((($U$16*9.81)-($U$16*BP76))*$Y$18)/(BP76/$Y$19) -> 18.524918
A46: RPM | B46: 14000 | AO46: =AO45+500 -> 10000 | AP46: =AA78/$Y$19*(2*PI()/60) -> 6.925094 | AQ46: =AB78/$Y$19*(2*PI()/60) -> 9.8477428 | AR46: =AC78/$Y$19*(2*PI()/60) -> 12.145549 | AS46: =AD78/$Y$19*(2*PI()/60) -> 13.960402 | AT46: =AE78/$Y$19*(2*PI()/60) -> 15.904886 | AU46: =AF78/$Y$19*(2*PI()/60) -> 17.543571 | AW46: =LOG(AP78) -> 0.92519989 | AX46: =LOG(AQ78) -> 0.77228886 | AY46: =LOG(AR78) -> 0.68120839 | AZ46: =LOG(AS78) -> 0.62072765 | BA46: =LOG(AT78) -> 0.56409499 | BB46: =LOG(AU78) -> 0.52150755 | BD46: =BD45+500 -> 9500 | BE46: =AV17/($P$7*0.55) -> -2.8498443 | BF46: =AW17/($P$7*0.55) -> 0.64271319 | BG46: =AX17/($P$7*0.55) -> 2.2083424 | BH46: =AY17/($P$7*0.55) -> 3.0806215 | BI46: =AZ17/($P$7*0.55) -> 3.7943044 | BJ46: =BA17/($P$7*0.55) -> 4.2729084 | BL46: =BL45+500 -> 9500 | BM46: =((($U$15*9.81)-($U$15*BK77))*$Y$18)/(BK77/$Y$18) -> -0.75253703 | BN46: =((($U$15*9.81)-($U$15*BL77))*$Y$18)/(BL77/$Y$18) -> 3.0162708 | BO46: =((($U$15*9.81)-($U$15*BM77))*$Y$18)/(BM77/$Y$18) -> 6.3421348 | BP46: =((($U$15*9.81)-($U$15*BN77))*$Y$18)/(BN77/$Y$18) -> 9.4818625 | BQ46: =((($U$15*9.81)-($U$15*BO77))*$Y$18)/(BO77/$Y$18) -> 13.677047 | BR46: =((($U$15*9.81)-($U$15*BP77))*$Y$18)/(BP77/$Y$18) -> 18.300896 | BT46: =BT45+500 -> 9500 | BU46: =((($U$16*9.81)-($U$16*BK77))*$Y$18)/(BK77/$Y$19) -> -0.82328287 | BV46: =((($U$16*9.81)-($U$16*BL77))*$Y$18)/(BL77/$Y$19) -> 3.2998297 | BW46: =((($U$16*9.81)-($U$16*BM77))*$Y$18)/(BM77/$Y$19) -> 6.9383575 | BX46: =((($U$16*9.81)-($U$16*BN77))*$Y$18)/(BN77/$Y$19) -> 10.37325 | BY46: =((($U$16*9.81)-($U$16*BO77))*$Y$18)/(BO77/$Y$19) -> 14.962824 | BZ46: =((($U$16*9.81)-($U$16*BP77))*$Y$18)/(BP77/$Y$19) -> 20.021359
AO47: =AO46+500 -> 10500 | AP47: =AA79/$Y$19*(2*PI()/60) -> 7.2713487 | AQ47: =AB79/$Y$19*(2*PI()/60) -> 10.34013 | AR47: =AC79/$Y$19*(2*PI()/60) -> 12.752827 | AS47: =AD79/$Y$19*(2*PI()/60) -> 14.658422 | AT47: =AE79/$Y$19*(2*PI()/60) -> 16.70013 | AU47: =AF79/$Y$19*(2*PI()/60) -> 18.42075 | AW47: =LOG(AP79) -> 0.94043985 | AX47: =LOG(AQ79) -> 0.78752883 | AY47: =LOG(AR79) -> 0.69644836 | AZ47: =LOG(AS79) -> 0.63596761 | BA47: =LOG(AT79) -> 0.57933496 | BB47: =LOG(AU79) -> 0.53674752 | BD47: =BD46+500 -> 10000 | BE47: =AV18/($P$7*0.55) -> -3.3334618 | BF47: =AW18/($P$7*0.55) -> 0.30262543 | BG47: =AX18/($P$7*0.55) -> 1.9325956 | BH47: =AY18/($P$7*0.55) -> 2.8407218 | BI47: =AZ18/($P$7*0.55) -> 3.5837341 | BJ47: =BA18/($P$7*0.55) -> 4.0820067 | BL47: =BL46+500 -> 10000 | BM47: =((($U$15*9.81)-($U$15*BK78))*$Y$18)/(BK78/$Y$18) -> -1.0394491 | BN47: =((($U$15*9.81)-($U$15*BL78))*$Y$18)/(BL78/$Y$18) -> 2.5951169 | BO47: =((($U$15*9.81)-($U$15*BM78))*$Y$18)/(BM78/$Y$18) -> 5.8340535 | BP47: =((($U$15*9.81)-($U$15*BN78))*$Y$18)/(BN78/$Y$18) -> 8.9227192 | BQ47: =((($U$15*9.81)-($U$15*BO78))*$Y$18)/(BO78/$Y$18) -> 13.104432 | BR47: =((($U$15*9.81)-($U$15*BP78))*$Y$18)/(BP78/$Y$18) -> 17.792482 | BT47: =BT46+500 -> 10000 | BU47: =((($U$16*9.81)-($U$16*BK78))*$Y$18)/(BK78/$Y$19) -> -1.1371675 | BV47: =((($U$16*9.81)-($U$16*BL78))*$Y$18)/(BL78/$Y$19) -> 2.8390833 | BW47: =((($U$16*9.81)-($U$16*BM78))*$Y$18)/(BM78/$Y$19) -> 6.3825116 | BX47: =((($U$16*9.81)-($U$16*BN78))*$Y$18)/(BN78/$Y$19) -> 9.7615421 | BY47: =((($U$16*9.81)-($U$16*BO78))*$Y$18)/(BO78/$Y$19) -> 14.336377 | BZ47: =((($U$16*9.81)-($U$16*BP78))*$Y$18)/(BP78/$Y$19) -> 19.465149
A48: Ratios | E48: speeds | F48: revs | G48: falls | AO48: =AO47+500 -> 11000 | AP48: =AA80/$Y$19*(2*PI()/60) -> 7.6176034 | AQ48: =AB80/$Y$19*(2*PI()/60) -> 10.832517 | AR48: =AC80/$Y$19*(2*PI()/60) -> 13.360104 | AS48: =AD80/$Y$19*(2*PI()/60) -> 15.356442 | AT48: =AE80/$Y$19*(2*PI()/60) -> 17.495375 | AU48: =AF80/$Y$19*(2*PI()/60) -> 19.297929 | AW48: =LOG(AP80) -> 0.95384507 | AX48: =LOG(AQ80) -> 0.80093404 | AY48: =LOG(AR80) -> 0.70985357 | AZ48: =LOG(AS80) -> 0.64937283 | BA48: =LOG(AT80) -> 0.59274018 | BB48: =LOG(AU80) -> 0.55015273 | BD48: =BD47+500 -> 10500 | BE48: =AV19/($P$7*0.55) -> -3.7710205 | BF48: =AW19/($P$7*0.55) -> -0.0050730093 | BG48: =AX19/($P$7*0.55) -> 1.6831103 | BH48: =AY19/($P$7*0.55) -> 2.6236696 | BI48: =AZ19/($P$7*0.55) -> 3.3932181 | BJ48: =BA19/($P$7*0.55) -> 3.9092862 | BL48: =BL47+500 -> 10500 | BM48: =((($U$15*9.81)-($U$15*BK79))*$Y$18)/(BK79/$Y$18) -> -1.2790297 | BN48: =((($U$15*9.81)-($U$15*BL79))*$Y$18)/(BL79/$Y$18) -> 2.2478442 | BO48: =((($U$15*9.81)-($U$15*BM79))*$Y$18)/(BM79/$Y$18) -> 5.4231943 | BP48: =((($U$15*9.81)-($U$15*BN79))*$Y$18)/(BN79/$Y$18) -> 8.4844309 | BQ48: =((($U$15*9.81)-($U$15*BO79))*$Y$18)/(BO79/$Y$18) -> 12.688746 | BR48: =((($U$15*9.81)-($U$15*BP79))*$Y$18)/(BP79/$Y$18) -> 17.490751 | BT48: =BT47+500 -> 10500 | BU48: =((($U$16*9.81)-($U$16*BK79))*$Y$18)/(BK79/$Y$19) -> -1.399271 | BV48: =((($U$16*9.81)-($U$16*BL79))*$Y$18)/(BL79/$Y$19) -> 2.4591635 | BW48: =((($U$16*9.81)-($U$16*BM79))*$Y$18)/(BM79/$Y$19) -> 5.9330276 | BX48: =((($U$16*9.81)-($U$16*BN79))*$Y$18)/(BN79/$Y$19) -> 9.2820503 | BY48: =((($U$16*9.81)-($U$16*BO79))*$Y$18)/(BO79/$Y$19) -> 13.881612 | BZ48: =((($U$16*9.81)-($U$16*BP79))*$Y$18)/(BP79/$Y$19) -> 19.135053
E49: =F49*60*(E15)*(D42)*((C45*PI())/1000)*D43 -> 26.217602 | F49: 3500 | I49: speeds | J49: gear | K49: rpm | AO49: =AO48+500 -> 11500 | AP49: =AA81/$Y$19*(2*PI()/60) -> 7.9638581 | AQ49: =AB81/$Y$19*(2*PI()/60) -> 11.324904 | AR49: =AC81/$Y$19*(2*PI()/60) -> 13.967382 | AS49: =AD81/$Y$19*(2*PI()/60) -> 16.054462 | AT49: =AE81/$Y$19*(2*PI()/60) -> 18.290619 | AU49: =AF81/$Y$19*(2*PI()/60) -> 20.175107 | AW49: =LOG(AP81) -> 0.94818379 | AX49: =LOG(AQ81) -> 0.79527277 | AY49: =LOG(AR81) -> 0.7041923 | AZ49: =LOG(AS81) -> 0.64371155 | BA49: =LOG(AT81) -> 0.5870789 | BB49: =LOG(AU81) -> 0.54449146 | BD49: =BD48+500 -> 11000 | BE49: =AV20/($P$7*0.55) -> -4.1688011 | BF49: =AW20/($P$7*0.55) -> -0.28479887 | BG49: =AX20/($P$7*0.55) -> 1.4563056 | BH49: =AY20/($P$7*0.55) -> 2.4263495 | BI49: =AZ20/($P$7*0.55) -> 3.2200218 | BJ49: =BA20/($P$7*0.55) -> 3.7522675 | BL49: =BL48+500 -> 11000 | BM49: =((($U$15*9.81)-($U$15*BK80))*$Y$18)/(BK80/$Y$18) -> -1.4818158 | BN49: =((($U$15*9.81)-($U$15*BL80))*$Y$18)/(BL80/$Y$18) -> 1.9580067 | BO49: =((($U$15*9.81)-($U$15*BM80))*$Y$18)/(BM80/$Y$18) -> 5.0883127 | BP49: =((($U$15*9.81)-($U$15*BN80))*$Y$18)/(BN80/$Y$18) -> 8.1415368 | BQ49: =((($U$15*9.81)-($U$15*BO80))*$Y$18)/(BO80/$Y$18) -> 12.399901 | BR49: =((($U$15*9.81)-($U$15*BP80))*$Y$18)/(BP80/$Y$18) -> 17.363127 | BT49: =BT48+500 -> 11000 | BU49: =((($U$16*9.81)-($U$16*BK80))*$Y$18)/(BK80/$Y$19) -> -1.621121 | BV49: =((($U$16*9.81)-($U$16*BL80))*$Y$18)/(BL80/$Y$19) -> 2.1420784 | BW49: =((($U$16*9.81)-($U$16*BM80))*$Y$18)/(BM80/$Y$19) -> 5.5666639 | BX49: =((($U$16*9.81)-($U$16*BN80))*$Y$18)/(BN80/$Y$19) -> 8.9069208 | BY49: =((($U$16*9.81)-($U$16*BO80))*$Y$18)/(BO80/$Y$19) -> 13.565613 | BZ49: =((($U$16*9.81)-($U$16*BP80))*$Y$18)/(BP80/$Y$19) -> 18.995431
A50: 1st gear | B50: 38 | C50: 13 | D50: 2.923 | E50: =((B46*60*(C50/B50)*(C42/B42)*(C45*PI())/1000)*C43/B43) -> 104.87041 | F50: =B46 -> 14000 | I50: 101.91 | J50: 1 | K50: 3500 | AO50: =AO49+500 -> 12000 | AP50: =AA82/$Y$19*(2*PI()/60) -> 8.3101128 | AQ50: =AB82/$Y$19*(2*PI()/60) -> 11.817291 | AR50: =AC82/$Y$19*(2*PI()/60) -> 14.574659 | AS50: =AD82/$Y$19*(2*PI()/60) -> 16.752482 | AT50: =AE82/$Y$19*(2*PI()/60) -> 19.085863 | AU50: =AF82/$Y$19*(2*PI()/60) -> 21.052286 | AW50: =LOG(AP82) -> 0.94292865 | AX50: =LOG(AQ82) -> 0.79001763 | AY50: =LOG(AR82) -> 0.69893716 | AZ50: =LOG(AS82) -> 0.63845641 | BA50: =LOG(AT82) -> 0.58182376 | BB50: =LOG(AU82) -> 0.53923632 | BD50: =BD49+500 -> 11500 | BE50: =AV21/($P$7*0.55) -> -3.999312 | BF50: =AW21/($P$7*0.55) -> -0.16561133 | BG50: =AX21/($P$7*0.55) -> 1.5529441 | BH50: =AY21/($P$7*0.55) -> 2.510425 | BI50: =AZ21/($P$7*0.55) -> 3.2938185 | BJ50: =BA21/($P$7*0.55) -> 3.8191711 | BL50: =BL49+500 -> 11500 | BM50: =((($U$15*9.81)-($U$15*BK81))*$Y$18)/(BK81/$Y$18) -> -1.3795581 | BN50: =((($U$15*9.81)-($U$15*BL81))*$Y$18)/(BL81/$Y$18) -> 2.1598676 | BO50: =((($U$15*9.81)-($U$15*BM81))*$Y$18)/(BM81/$Y$18) -> 5.439129 | BP50: =((($U$15*9.81)-($U$15*BN81))*$Y$18)/(BN81/$Y$18) -> 8.7084036 | BQ50: =((($U$15*9.81)-($U$15*BO81))*$Y$18)/(BO81/$Y$18) -> 13.402536 | BR50: =((($U$15*9.81)-($U$15*BP81))*$Y$18)/(BP81/$Y$18) -> 19.090307 | BT50: =BT49+500 -> 11500 | BU50: =((($U$16*9.81)-($U$16*BK81))*$Y$18)/(BK81/$Y$19) -> -1.5092501 | BV50: =((($U$16*9.81)-($U$16*BL81))*$Y$18)/(BL81/$Y$19) -> 2.3629163 | BW50: =((($U$16*9.81)-($U$16*BM81))*$Y$18)/(BM81/$Y$19) -> 5.9504603 | BX50: =((($U$16*9.81)-($U$16*BN81))*$Y$18)/(BN81/$Y$19) -> 9.5270787 | BY50: =((($U$16*9.81)-($U$16*BO81))*$Y$18)/(BO81/$Y$19) -> 14.662505 | BZ50: =((($U$16*9.81)-($U$16*BP81))*$Y$18)/(BP81/$Y$19) -> 20.884982
F51: =B46*(C50/B50)*(B52/C52) -> 9845.0292 | G51: =F50-F51 -> 4154.9708 | I51: 144.91 | J51: 1 | K51: 14000 | AO51: =AO50+500 -> 12500 | AP51: =AA83/$Y$19*(2*PI()/60) -> 8.6563675 | AQ51: =AB83/$Y$19*(2*PI()/60) -> 12.309678 | AR51: =AC83/$Y$19*(2*PI()/60) -> 15.181937 | AS51: =AD83/$Y$19*(2*PI()/60) -> 17.450502 | AT51: =AE83/$Y$19*(2*PI()/60) -> 19.881108 | AU51: =AF83/$Y$19*(2*PI()/60) -> 21.929464 | AW51: =LOG(AP83) -> 0.94223323 | AX51: =LOG(AQ83) -> 0.7893222 | AY51: =LOG(AR83) -> 0.69824173 | AZ51: =LOG(AS83) -> 0.63776098 | BA51: =LOG(AT83) -> 0.58112833 | BB51: =LOG(AU83) -> 0.53854089 | BD51: =BD50+500 -> 12000 | BE51: =AV22/($P$7*0.55) -> -3.8439469 | BF51: =AW22/($P$7*0.55) -> -0.056356083 | BG51: =AX22/($P$7*0.55) -> 1.6415295 | BH51: =AY22/($P$7*0.55) -> 2.5874943 | BI51: =AZ22/($P$7*0.55) -> 3.3614655 | BJ51: =BA22/($P$7*0.55) -> 3.8804994 | BL51: =BL50+500 -> 12000 | BM51: =((($U$15*9.81)-($U$15*BK82))*$Y$18)/(BK82/$Y$18) -> -1.2814287 | BN51: =((($U$15*9.81)-($U$15*BL82))*$Y$18)/(BL82/$Y$18) -> 2.3597156 | BO51: =((($U$15*9.81)-($U$15*BM82))*$Y$18)/(BM82/$Y$18) -> 5.7977638 | BP51: =((($U$15*9.81)-($U$15*BN82))*$Y$18)/(BN82/$Y$18) -> 9.3057772 | BQ51: =((($U$15*9.81)-($U$15*BO82))*$Y$18)/(BO82/$Y$18) -> 14.503025 | BR51: =((($U$15*9.81)-($U$15*BP82))*$Y$18)/(BP82/$Y$18) -> 21.077142 | BT51: =BT50+500 -> 12000 | BU51: =((($U$16*9.81)-($U$16*BK82))*$Y$18)/(BK82/$Y$19) -> -1.4018955 | BV51: =((($U$16*9.81)-($U$16*BL82))*$Y$18)/(BL82/$Y$19) -> 2.581552 | BW51: =((($U$16*9.81)-($U$16*BM82))*$Y$18)/(BM82/$Y$19) -> 6.3428103 | BX51: =((($U$16*9.81)-($U$16*BN82))*$Y$18)/(BN82/$Y$19) -> 10.180611 | BY51: =((($U$16*9.81)-($U$16*BO82))*$Y$18)/(BO82/$Y$19) -> 15.866451 | BZ51: =((($U$16*9.81)-($U$16*BP82))*$Y$18)/(BP82/$Y$19) -> 23.0586
A52: 2nd gear | B52: 37 | C52: 18 | D52: 2.055 | E52: =((B46*60*(C52/B52)*(C42/B42)*C45*PI())/1000*C43/B43) -> 149.12964 | F52: =B46 -> 14000 | I52: 178.73 | J52: 2 | K52: 9845 | AO52: =AO51+500 -> 13000 | AP52: =AA84/$Y$19*(2*PI()/60) -> 9.0026222 | AQ52: =AB84/$Y$19*(2*PI()/60) -> 12.802066 | AR52: =AC84/$Y$19*(2*PI()/60) -> 15.789214 | AS52: =AD84/$Y$19*(2*PI()/60) -> 18.148522 | AT52: =AE84/$Y$19*(2*PI()/60) -> 20.676352 | AU52: =AF84/$Y$19*(2*PI()/60) -> 22.806643 | AW52: =LOG(AP84) -> 0.93347241 | AX52: =LOG(AQ84) -> 0.78056139 | AY52: =LOG(AR84) -> 0.68948092 | AZ52: =LOG(AS84) -> 0.62900017 | BA52: =LOG(AT84) -> 0.57236752 | BB52: =LOG(AU84) -> 0.52978008 | BD52: =BD51+500 -> 12500 | BE52: =AV23/($P$7*0.55) -> -3.8235275 | BF52: =AW23/($P$7*0.55) -> -0.041996822 | BG52: =AX23/($P$7*0.55) -> 1.6531721 | BH52: =AY23/($P$7*0.55) -> 2.5976234 | BI52: =AZ23/($P$7*0.55) -> 3.3703562 | BJ52: =BA23/($P$7*0.55) -> 3.8885597 | BL52: =BL51+500 -> 12500 | BM52: =((($U$15*9.81)-($U$15*BK83))*$Y$18)/(BK83/$Y$18) -> -1.2561693 | BN52: =((($U$15*9.81)-($U$15*BL83))*$Y$18)/(BL83/$Y$18) -> 2.4440533 | BO52: =((($U$15*9.81)-($U$15*BM83))*$Y$18)/(BM83/$Y$18) -> 6.0010848 | BP52: =((($U$15*9.81)-($U$15*BN83))*$Y$18)/(BN83/$Y$18) -> 9.7103084 | BQ52: =((($U$15*9.81)-($U$15*BO83))*$Y$18)/(BO83/$Y$18) -> 15.372734 | BR52: =((($U$15*9.81)-($U$15*BP83))*$Y$18)/(BP83/$Y$18) -> 22.845016 | BT52: =BT51+500 -> 12500 | BU52: =((($U$16*9.81)-($U$16*BK83))*$Y$18)/(BK83/$Y$19) -> -1.3742615 | BV52: =((($U$16*9.81)-($U$16*BL83))*$Y$18)/(BL83/$Y$19) -> 2.6738182 | BW52: =((($U$16*9.81)-($U$16*BM83))*$Y$18)/(BM83/$Y$19) -> 6.5652454 | BX52: =((($U$16*9.81)-($U$16*BN83))*$Y$18)/(BN83/$Y$19) -> 10.623172 | BY52: =((($U$16*9.81)-($U$16*BO83))*$Y$18)/(BO83/$Y$19) -> 16.817922 | BZ52: =((($U$16*9.81)-($U$16*BP83))*$Y$18)/(BP83/$Y$19) -> 24.99267
F53: =B46*(C52/B52)*(B54/C54) -> 11351.351 | G53: =F52-F53 -> 2648.6486 | I53: 205.43 | J53: 2 | K53: 14000 | AO53: =AO52+500 -> 13500 | AP53: =AA85/$Y$19*(2*PI()/60) -> 9.3488769 | AQ53: =AB85/$Y$19*(2*PI()/60) -> 13.294453 | AR53: =AC85/$Y$19*(2*PI()/60) -> 16.396492 | AS53: =AD85/$Y$19*(2*PI()/60) -> 18.846542 | AT53: =AE85/$Y$19*(2*PI()/60) -> 21.471596 | AU53: =AF85/$Y$19*(2*PI()/60) -> 23.683821 | AW53: =LOG(AP85) -> 0.92519989 | AX53: =LOG(AQ85) -> 0.77228886 | AY53: =LOG(AR85) -> 0.68120839 | AZ53: =LOG(AS85) -> 0.62072765 | BA53: =LOG(AT85) -> 0.56409499 | BB53: =LOG(AU85) -> 0.52150755 | BD53: =BD52+500 -> 13000 | BE53: =AV24/($P$7*0.55) -> -3.5690703 | BF53: =AW24/($P$7*0.55) -> 0.13694166 | BG53: =AX24/($P$7*0.55) -> 1.7982574 | BH53: =AY24/($P$7*0.55) -> 2.7238475 | BI53: =AZ24/($P$7*0.55) -> 3.4811486 | BJ53: =BA24/($P$7*0.55) -> 3.9890033 | BL53: =BL52+500 -> 13000 | BM53: =((($U$15*9.81)-($U$15*BK84))*$Y$18)/(BK84/$Y$18) -> -1.0957143 | BN53: =((($U$15*9.81)-($U$15*BL84))*$Y$18)/(BL84/$Y$18) -> 2.7568816 | BO53: =((($U$15*9.81)-($U$15*BM84))*$Y$18)/(BM84/$Y$18) -> 6.5467886 | BP53: =((($U$15*9.81)-($U$15*BN84))*$Y$18)/(BN84/$Y$18) -> 10.614582 | BQ53: =((($U$15*9.81)-($U$15*BO84))*$Y$18)/(BO84/$Y$18) -> 17.081924 | BR53: =((($U$15*9.81)-($U$15*BP84))*$Y$18)/(BP84/$Y$18) -> 26.140206 | BT53: =BT52+500 -> 13000 | BU53: =((($U$16*9.81)-($U$16*BK84))*$Y$18)/(BK84/$Y$19) -> -1.1987221 | BV53: =((($U$16*9.81)-($U$16*BL84))*$Y$18)/(BL84/$Y$19) -> 3.0160554 | BW53: =((($U$16*9.81)-($U$16*BM84))*$Y$18)/(BM84/$Y$19) -> 7.1622507 | BX53: =((($U$16*9.81)-($U$16*BN84))*$Y$18)/(BN84/$Y$19) -> 11.612456 | BY53: =((($U$16*9.81)-($U$16*BO84))*$Y$18)/(BO84/$Y$19) -> 18.687792 | BZ53: =((($U$16*9.81)-($U$16*BP84))*$Y$18)/(BP84/$Y$19) -> 28.597641
A54: 3rd gear | B54: 35 | C54: 21 | D54: 1.666 | E54: =((A86*60*($C$54/$B$54)*($C$42/$B$42)*$C$45*PI())/1000)*($C$43/$B$43) -> 183.92656 | F54: =B46 -> 14000 | I54: 234.05 | J54: 3 | K54: 11351 | AO54: =AO53+500 -> 14000 | AP54: =AA86/$Y$19*(2*PI()/60) -> 9.6951316 | AQ54: =AB86/$Y$19*(2*PI()/60) -> 13.78684 | AR54: =AC86/$Y$19*(2*PI()/60) -> 17.003769 | AS54: =AD86/$Y$19*(2*PI()/60) -> 19.544562 | AT54: =AE86/$Y$19*(2*PI()/60) -> 22.266841 | AU54: =AF86/$Y$19*(2*PI()/60) -> 24.561 | AW54: =LOG(AP86) -> 0.90536564 | AX54: =LOG(AQ86) -> 0.75245462 | AY54: =LOG(AR86) -> 0.66137415 | AZ54: =LOG(AS86) -> 0.6008934 | BA54: =LOG(AT86) -> 0.54426075 | BB54: =LOG(AU86) -> 0.5016733 | BD54: =BD53+500 -> 13500 | BE54: =AV25/($P$7*0.55) -> -3.3334618 | BF54: =AW25/($P$7*0.55) -> 0.30262543 | BG54: =AX25/($P$7*0.55) -> 1.9325956 | BH54: =AY25/($P$7*0.55) -> 2.8407218 | BI54: =AZ25/($P$7*0.55) -> 3.5837341 | BJ54: =BA25/($P$7*0.55) -> 4.0820067 | BL54: =BL53+500 -> 13500 | BM54: =((($U$15*9.81)-($U$15*BK85))*$Y$18)/(BK85/$Y$18) -> -0.93859864 | BN54: =((($U$15*9.81)-($U$15*BL85))*$Y$18)/(BL85/$Y$18) -> 3.0721221 | BO54: =((($U$15*9.81)-($U$15*BM85))*$Y$18)/(BM85/$Y$18) -> 7.1153432 | BP54: =((($U$15*9.81)-($U$15*BN85))*$Y$18)/(BN85/$Y$18) -> 11.59127 | BQ54: =((($U$15*9.81)-($U$15*BO85))*$Y$18)/(BO85/$Y$18) -> 19.033802 | BR54: =((($U$15*9.81)-($U$15*BP85))*$Y$18)/(BP85/$Y$18) -> 30.202141 | BT54: =BT53+500 -> 13500 | BU54: =((($U$16*9.81)-($U$16*BK85))*$Y$18)/(BK85/$Y$19) -> -1.0268361 | BV54: =((($U$16*9.81)-($U$16*BL85))*$Y$18)/(BL85/$Y$19) -> 3.3609316 | BW54: =((($U$16*9.81)-($U$16*BM85))*$Y$18)/(BM85/$Y$19) -> 7.784255 | BX54: =((($U$16*9.81)-($U$16*BN85))*$Y$18)/(BN85/$Y$19) -> 12.680962 | BY54: =((($U$16*9.81)-($U$16*BO85))*$Y$18)/(BO85/$Y$19) -> 20.823165 | BZ54: =((($U$16*9.81)-($U$16*BP85))*$Y$18)/(BP85/$Y$19) -> 33.041437
F55: =B46*(C54/B54)*(B56/C56) -> 12180 | G55: =F54-F55 -> 1820 | I55: 258.16 | J55: 3 | K55: 14000 | AO55: =AO54+500 -> 14500 | AP55: =AA87/$Y$19*(2*PI()/60) -> 10.041386 | AQ55: =AB87/$Y$19*(2*PI()/60) -> 14.279227 | AR55: =AC87/$Y$19*(2*PI()/60) -> 17.611047 | AS55: =AD87/$Y$19*(2*PI()/60) -> 20.242582 | AT55: =AE87/$Y$19*(2*PI()/60) -> 23.062085 | AU55: =AF87/$Y$19*(2*PI()/60) -> 25.438179 | AW55: =LOG(AP87) -> 0.8607419 | AX55: =LOG(AQ87) -> 0.70783087 | AY55: =LOG(AR87) -> 0.6167504 | AZ55: =LOG(AS87) -> 0.55626966 | BA55: =LOG(AT87) -> 0.499637 | BB55: =LOG(AU87) -> 0.45704956 | BD55: =BD54+500 -> 14000 | BE55: =AV26/($P$7*0.55) -> -2.7865134 | BF55: =AW26/($P$7*0.55) -> 0.68724849 | BG55: =AX26/($P$7*0.55) -> 2.2444521 | BH55: =AY26/($P$7*0.55) -> 3.112037 | BI55: =AZ26/($P$7*0.55) -> 3.8218791 | BJ55: =BA26/($P$7*0.55) -> 4.2979074 | BL55: =BL54+500 -> 14000 | BM55: =((($U$15*9.81)-($U$15*BK86))*$Y$18)/(BK86/$Y$18) -> -0.56907484 | BN55: =((($U$15*9.81)-($U$15*BL86))*$Y$18)/(BL86/$Y$18) -> 3.7617103 | BO55: =((($U$15*9.81)-($U$15*BM86))*$Y$18)/(BM86/$Y$18) -> 8.279075 | BP55: =((($U$15*9.81)-($U$15*BN86))*$Y$18)/(BN86/$Y$18) -> 13.507541 | BQ55: =((($U$15*9.81)-($U$15*BO86))*$Y$18)/(BO86/$Y$18) -> 22.806251 | BR55: =((($U$15*9.81)-($U$15*BP86))*$Y$18)/(BP86/$Y$18) -> 38.396453 | BT55: =BT54+500 -> 14000 | BU55: =((($U$16*9.81)-($U$16*BK86))*$Y$18)/(BK86/$Y$19) -> -0.62257344 | BV55: =((($U$16*9.81)-($U$16*BL86))*$Y$18)/(BL86/$Y$19) -> 4.1153478 | BW55: =((($U$16*9.81)-($U$16*BM86))*$Y$18)/(BM86/$Y$19) -> 9.0573889 | BX55: =((($U$16*9.81)-($U$16*BN86))*$Y$18)/(BN86/$Y$19) -> 14.777382 | BY55: =((($U$16*9.81)-($U$16*BO86))*$Y$18)/(BO86/$Y$19) -> 24.950262 | BZ55: =((($U$16*9.81)-($U$16*BP86))*$Y$18)/(BP86/$Y$19) -> 42.006095
A56: 4th gear | B56: 29 | C56: 20 | D56: 1.45 | E56: =((A86*60*($C$56/$B$56)*($C$42/$B$42)*$C$45*PI())/1000)*($C$43/$B$43) -> 211.40984 | F56: =B46 -> 14000 | J56: 4 | K56: 12180 | AO56: Tr=1/Rr | AP56: =1/Y19 -> 3.1756113 | BD56: =BD55+500 -> 14500 | BE56: =AV27/($P$7*0.55) -> -1.6435799 | BF56: =AW27/($P$7*0.55) -> 1.490978 | BG56: =AX27/($P$7*0.55) -> 2.8961247 | BH56: =AY27/($P$7*0.55) -> 3.6789921 | BI56: =AZ27/($P$7*0.55) -> 4.31952 | BJ56: =BA27/($P$7*0.55) -> 4.7490654 | BL56: =BL55+500 -> 14500 | BM56: =((($U$15*9.81)-($U$15*BK87))*$Y$18)/(BK87/$Y$18) -> 0.31401295 | BN56: =((($U$15*9.81)-($U$15*BL87))*$Y$18)/(BL87/$Y$18) -> 5.3862291 | BO56: =((($U$15*9.81)-($U$15*BM87))*$Y$18)/(BM87/$Y$18) -> 10.994623 | BP56: =((($U$15*9.81)-($U$15*BN87))*$Y$18)/(BN87/$Y$18) -> 18.023786 | BQ56: =((($U$15*9.81)-($U$15*BO87))*$Y$18)/(BO87/$Y$18) -> 32.259876 | BR56: =((($U$15*9.81)-($U$15*BP87))*$Y$18)/(BP87/$Y$18) -> 62.817579 | BT56: =BT55+500 -> 14500 | BU56: =((($U$16*9.81)-($U$16*BK87))*$Y$18)/(BK87/$Y$19) -> 0.34353324 | BV56: =((($U$16*9.81)-($U$16*BL87))*$Y$18)/(BL87/$Y$19) -> 5.8925873 | BW56: =((($U$16*9.81)-($U$16*BM87))*$Y$18)/(BM87/$Y$19) -> 12.028225 | BX56: =((($U$16*9.81)-($U$16*BN87))*$Y$18)/(BN87/$Y$19) -> 19.718198 | BY56: =((($U$16*9.81)-($U$16*BO87))*$Y$18)/(BO87/$Y$19) -> 35.29262 | BZ56: =((($U$16*9.81)-($U$16*BP87))*$Y$18)/(BP87/$Y$19) -> 68.723046
F57: =B46*(C56/B56)*(B58/C58) -> 12288.401 | G57: =F56-F57 -> 1711.5987 | J57: 4 | K57: 14000
A58: 5th gear | B58: 28 | C58: 22 | D58: 1.272 | E58: =((A86*60*($C$58/$B$58)*($C$42/$B$42)*$C$45*PI())/1000)*($C$43/$B$43) -> 240.85621 | F58: =B46 -> 14000 | J58: 5 | K58: 12288 | BL58: Max = | BM58: =MAX(BM34:BR56) -> 62.817579 | BN58: kg/m^2 | BT58: Max = | BU58: =MAX(BU34:BZ56) -> 68.723046 | BV58: kg/m^2
F59: =B46*(C58/B58)*(B60/C60) -> 12692.308 | G59: =F58-F59 -> 1307.6923 | J59: 5 | K59: 14000
A60: 6th gear | B60: 30 | C60: 26 | D60: 1.153 | E60: =((A86*60*($C$60/$B$60)*($C$42/$B$42)*$C$45*PI())/1000)*($C$43/$B$43) -> 265.6717 | F60: =B46 -> 14000 | J60: 6 | K60: 12692
J61: 6 | K61: 14000 | AP61: Equivalent Acceleration f=ma, a= equivalent driving force/mass (m/s)
AW62: Aerodynamic Drag Fd (N) Dependant on Velocity | BD62: Resultant (NET) Driving Force S-Fd-Fw | BK62: Resultant Acceleration from (NET) Driving Force / Mass
F63: ROAD SPEEDS (Kph) * *kph x 0.6214 = mph** | M63: Driving Force (N) | T63: Delta Driving Force / Delta Speed (DY/DX) | AA63: ROAD SPEEDS (m/s) * *kph x 0.278* = m/s** | AG63: rpm | AH63: Equivalent Driving Force (N) S*=T(Ѡm/V) | AN63: Rad/s
A64: RPM | B64: Power (HP) | C64: Torque (Nm) | D64: Power (kw) | F64: 1st Gear | G64: 2nd Gear | H64: 3rd Gear | I64: 4th Gear | J64: 5th Gear | K64: 6th Gear | M64: 1st Gear | N64: 2nd Gear | O64: 3rd Gear | P64: 4th Gear | Q64: 5th Gear | R64: 6th Gear | T64: 1st | U64: 2nd | V64: 3rd | W64: 4th | X64: 5th | Y64: 6th | AA64: 1st Gear | AB64: 2nd Gear | AC64: 3rd Gear | AD64: 4th Gear | AE64: 5th Gear | AF64: 6th Gear | AH64: 1st Gear | AI64: 2nd Gear | AJ64: 3rd Gear | AK64: 4th Gear | AL64: 5th Gear | AM64: 6th Gear | AP64: 1st Gear | AQ64: 2nd Gear | AR64: 3rd Gear | AS64: 4th Gear | AT64: 5th Gear | AU64: 6th Gear | AW64: 1st Gear | AX64: 2nd Gear | AY64: 3rd Gear | AZ64: 4th Gear | BA64: 5th Gear | BB64: 6th Gear | BC64: rpm | BD64: 1st Gear | BE64: 2nd Gear | BF64: 3rd Gear | BG64: 4th Gear | BH64: 5th Gear | BI64: 6th Gear | BK64: 1st Gear | BL64: 2nd Gear | BM64: 3rd Gear | BN64: 4th Gear | BO64: 5th Gear | BP64: 6th Gear
A65: 3500 | B65: 18 | C65: =(B65*5252)/A65 -> 27.010286 | D65: =0.7457*B65 -> 13.4226 | F65: =((A65*60*($C$50/$B$50)*($C$42/$B$42)*$C$45*PI())/1000)*($C$43/$B$43) -> 26.217602 | G65: =((A65*60*($C$52/$B$52)*($C$42/$B$42)*$C$45*PI())/1000)*($C$43/$B$43) -> 37.282411 | H65: =((A65*60*($C$54/$B$54)*($C$42/$B$42)*$C$45*PI())/1000)*($C$43/$B$43) -> 45.98164 | I65: =((A65*60*($C$56/$B$56)*($C$42/$B$42)*$C$45*PI())/1000)*($C$43/$B$43) -> 52.85246 | J65: =((A65*60*($C$58/$B$58)*($C$42/$B$42)*$C$45*PI())/1000)*($C$43/$B$43) -> 60.214052 | K65: =((A65*60*($C$60/$B$60)*($C$42/$B$42)*$C$45*PI())/1000)*($C$43/$B$43) -> 66.417924 | M65: =(D65*1000)/(F65*(1000/3600)) -> 1843.0885 | N65: =(D65*1000)/(G65*(1000/3600)) -> 1296.09 | O65: =(D65*1000)/(H65*(1000/3600)) -> 1050.8838 | P65: =(D65*1000)/(I65*(1000/3600)) -> 914.2689 | Q65: =(D65*1000)/(J65*(1000/3600)) -> 802.49307 | R65: =(D65*1000)/(K65*(1000/3600)) -> 727.53493 | T65: =(M66-M65)/(F66-F65) -> 10.252034 | U65: =(N66-N65)/(G66-G65) -> 5.0697667 | V65: =(O66-O65)/(H66-H65) -> 3.3329365 | W65: =(P66-P65)/(I66-I65) -> 2.5226996 | X65: =(Q66-Q65)/(J66-J65) -> 1.9435702 | Y65: =(R66-R65)/(K66-K65) -> 1.5974429 | AA65: =F65*0.278 -> 7.2884933 | AB65: =G65*0.278 -> 10.36451 | AC65: =H65*0.278 -> 12.782896 | AD65: =I65*0.278 -> 14.692984 | AE65: =J65*0.278 -> 16.739507 | AF65: =K65*0.278 -> 18.464183 | AG65: 3500 | AH65: =C65*(AN65/AA65) -> 1358.2762 | AI65: =C65*(AN65/AB65) -> 955.16205 | AJ65: =C65*(AN65/AC65) -> 774.45571 | AK65: =C65*(AN65/AD65) -> 673.77647 | AL65: =C65*(AN65/AE65) -> 591.40254 | AM65: =C65*(AN65/AF65) -> 536.16165 | AN65: =AG65*((2*PI())/60) -> 366.51914 | AP65: =AH65/$P$7 -> 5.4114589 | AQ65: =AI65/$P$7 -> 3.8054265 | AR65: =AJ65/$P$7 -> 3.0854809 | AS65: =AK65/$P$7 -> 2.6843684 | AT65: =AL65/$P$7 -> 2.3561854 | AU65: =AM65/$P$7 -> 2.1361022 | AW65: =0.5*'Zx6r Predicted Values'!$M$5*'Zx6r Predicted Values'!$M$6*0.47*('Zx6r Power Map + Gearing'!AA65^2) -> 5.8273919 | AX65: =0.5*'Zx6r Predicted Values'!$M$5*'Zx6r Predicted Values'!$M$6*0.47*('Zx6r Power Map + Gearing'!AB65^2) -> 11.784096 | AY65: =0.5*'Zx6r Predicted Values'!$M$5*'Zx6r Predicted Values'!$M$6*0.47*('Zx6r Power Map + Gearing'!AC65^2) -> 17.92492 | AZ65: =0.5*'Zx6r Predicted Values'!$M$5*'Zx6r Predicted Values'!$M$6*0.47*('Zx6r Power Map + Gearing'!AD65^2) -> 23.682018 | BA65: =0.5*'Zx6r Predicted Values'!$M$5*'Zx6r Predicted Values'!$M$6*0.47*('Zx6r Power Map + Gearing'!AE65^2) -> 30.738595 | BB65: =0.5*'Zx6r Predicted Values'!$M$5*'Zx6r Predicted Values'!$M$6*0.47*('Zx6r Power Map + Gearing'!AF65)^2 -> 37.398906 | BC65: 3500 | BD65: =M65-AW65-'Zx6r Predicted Values'!$G$9 -> 1788.0149 | BE65: =N65-AX65-'Zx6r Predicted Values'!$G$9 -> 1235.0597 | BF65: =O65-AY65-'Zx6r Predicted Values'!$G$9 -> 983.71267 | BG65: =P65-AZ65-'Zx6r Predicted Values'!$G$9 -> 841.34068 | BH65: =Q65-BA65-'Zx6r Predicted Values'!$G$9 -> 722.50828 | BI65: =R65-BB65-'Zx6r Predicted Values'!$G$9 -> 640.88982 | BK65: =BD65/$P$7 -> 7.1235653 | BL65: =BE65/$P$7 -> 4.9205566 | BM65: =BF65/$P$7 -> 3.919174 | BN65: =BG65/$P$7 -> 3.3519549 | BO65: =BH65/$P$7 -> 2.878519 | BP65: =BI65/$P$7 -> 2.5533459
A66: =A65+500 -> 4000 | B66: 21 | C66: =(B66*5252)/A66 -> 27.573 | D66: =0.7457*B66 -> 15.6597 | F66: =((A66*60*($C$50/$B$50)*($C$42/$B$42)*$C$45*PI())/1000)*($C$43/$B$43) -> 29.962973 | G66: =((A66*60*($C$52/$B$52)*($C$42/$B$42)*$C$45*PI())/1000)*($C$43/$B$43) -> 42.608469 | H66: =((A66*60*($C$54/$B$54)*($C$42/$B$42)*$C$45*PI())/1000)*($C$43/$B$43) -> 52.550446 | I66: =((A66*60*($C$56/$B$56)*($C$42/$B$42)*$C$45*PI())/1000)*($C$43/$B$43) -> 60.402811 | J66: =((A66*60*($C$58/$B$58)*($C$42/$B$42)*$C$45*PI())/1000)*($C$43/$B$43) -> 68.81606 | K66: =((A66*60*($C$60/$B$60)*($C$42/$B$42)*$C$45*PI())/1000)*($C$43/$B$43) -> 75.906199 | M66: =(D66*1000)/(F66*(1000/3600)) -> 1881.4862 | N66: =(D66*1000)/(G66*(1000/3600)) -> 1323.0919 | O66: =(D66*1000)/(H66*(1000/3600)) -> 1072.7772 | P66: =(D66*1000)/(I66*(1000/3600)) -> 933.31616 | Q66: =(D66*1000)/(J66*(1000/3600)) -> 819.21168 | R66: =(D66*1000)/(K66*(1000/3600)) -> 742.69191 | T66: =(M67-M66)/(F67-F66) -> 71.764236 | U66: =(N67-N66)/(G67-G66) -> 35.488367 | V66: =(O67-O66)/(H67-H66) -> 23.330555 | W66: =(P67-P66)/(I67-I66) -> 17.658897 | X66: =(Q67-Q66)/(J67-J66) -> 13.604992 | Y66: =(R67-R66)/(K67-K66) -> 11.182101 | AA66: =F66*0.278 -> 8.3297066 | AB66: =G66*0.278 -> 11.845155 | AC66: =H66*0.278 -> 14.609024 | AD66: =I66*0.278 -> 16.791981 | AE66: =J66*0.278 -> 19.130865 | AF66: =K66*0.278 -> 21.101923 | AG66: =AG65+500 -> 4000 | AH66: =C66*(AN66/AA66) -> 1386.5736 | AI66: =C66*(AN66/AB66) -> 975.06126 | AJ66: =C66*(AN66/AC66) -> 790.59021 | AK66: =C66*(AN66/AD66) -> 687.81348 | AL66: =C66*(AN66/AE66) -> 603.72343 | AM66: =C66*(AN66/AF66) -> 547.33168 | AN66: =AG66*((2*PI())/60) -> 418.87902 | AP66: =AH66/$P$7 -> 5.5241976 | AQ66: =AI66/$P$7 -> 3.8847062 | AR66: =AJ66/$P$7 -> 3.1497618 | AS66: =AK66/$P$7 -> 2.7402928 | AT66: =AL66/$P$7 -> 2.4052726 | AU66: =AM66/$P$7 -> 2.1806043 | AW66: =0.5*'Zx6r Predicted Values'!$M$5*'Zx6r Predicted Values'!$M$6*0.47*('Zx6r Power Map + Gearing'!AA66^2) -> 7.6112874 | AX66: =0.5*'Zx6r Predicted Values'!$M$5*'Zx6r Predicted Values'!$M$6*0.47*('Zx6r Power Map + Gearing'!AB66^2) -> 15.391472 | AY66: =0.5*'Zx6r Predicted Values'!$M$5*'Zx6r Predicted Values'!$M$6*0.47*('Zx6r Power Map + Gearing'!AC66^2) -> 23.41214 | AZ66: =0.5*'Zx6r Predicted Values'!$M$5*'Zx6r Predicted Values'!$M$6*0.47*('Zx6r Power Map + Gearing'!AD66^2) -> 30.931616 | BA66: =0.5*'Zx6r Predicted Values'!$M$5*'Zx6r Predicted Values'!$M$6*0.47*('Zx6r Power Map + Gearing'!AE66^2) -> 40.148369 | BB66: =0.5*'Zx6r Predicted Values'!$M$5*'Zx6r Predicted Values'!$M$6*0.47*('Zx6r Power Map + Gearing'!AF66)^2 -> 48.847551 | BC66: =BC65+500 -> 4000 | BD66: =M66-AW66 -> 1873.8749 | BE66: =N66-AX66-'Zx6r Predicted Values'!$G$9 -> 1258.4542 | BF66: =O66-AY66-'Zx6r Predicted Values'!$G$9 -> 1000.1189 | BG66: =P66-AZ66-'Zx6r Predicted Values'!$G$9 -> 853.13835 | BH66: =Q66-BA66-'Zx6r Predicted Values'!$G$9 -> 729.81711 | BI66: =R66-BB66-'Zx6r Predicted Values'!$G$9 -> 644.59816 | BK66: =BD66/$P$7 -> 7.465637 | BL66: =BE66/$P$7 -> 5.0137618 | BM66: =BF66/$P$7 -> 3.9845373 | BN66: =BG66/$P$7 -> 3.3989576 | BO66: =BH66/$P$7 -> 2.9076379 | BP66: =BI66/$P$7 -> 2.5681201
A67: =A66+500 -> 4500 | B67: 27 | C67: =(B67*5252)/A67 -> 31.512 | D67: =0.7457*B67 -> 20.1339 | F67: =((A67*60*($C$50/$B$50)*($C$42/$B$42)*$C$45*PI())/1000)*($C$43/$B$43) -> 33.708345 | G67: =((A67*60*($C$52/$B$52)*($C$42/$B$42)*$C$45*PI())/1000)*($C$43/$B$43) -> 47.934528 | H67: =((A67*60*($C$54/$B$54)*($C$42/$B$42)*$C$45*PI())/1000)*($C$43/$B$43) -> 59.119251 | I67: =((A67*60*($C$56/$B$56)*($C$42/$B$42)*$C$45*PI())/1000)*($C$43/$B$43) -> 67.953163 | J67: =((A67*60*($C$58/$B$58)*($C$42/$B$42)*$C$45*PI())/1000)*($C$43/$B$43) -> 77.418067 | K67: =((A67*60*($C$60/$B$60)*($C$42/$B$42)*$C$45*PI())/1000)*($C$43/$B$43) -> 85.394474 | M67: =(D67*1000)/(F67*(1000/3600)) -> 2150.2699 | N67: =(D67*1000)/(G67*(1000/3600)) -> 1512.105 | O67: =(D67*1000)/(H67*(1000/3600)) -> 1226.0311 | P67: =(D67*1000)/(I67*(1000/3600)) -> 1066.647 | Q67: =(D67*1000)/(J67*(1000/3600)) -> 936.24192 | R67: =(D67*1000)/(K67*(1000/3600)) -> 848.79075 | T67: =(M68-M67)/(F68-F67) -> 19.13713 | U67: =(N68-N67)/(G68-G67) -> 9.4635646 | V67: =(O68-O67)/(H68-H67) -> 6.2214815 | W67: =(P68-P67)/(I68-I67) -> 4.7090393 | X67: =(Q68-Q67)/(J68-J67) -> 3.6279978 | Y67: =(R68-R67)/(K68-K67) -> 2.9818935 | AA67: =F67*0.278 -> 9.3709199 | AB67: =G67*0.278 -> 13.325799 | AC67: =H67*0.278 -> 16.435152 | AD67: =I67*0.278 -> 18.890979 | AE67: =J67*0.278 -> 21.522223 | AF67: =K67*0.278 -> 23.739664 | AG67: =AG66+500 -> 4500 | AH67: =C67*(AN67/AA67) -> 1584.6555 | AI67: =C67*(AN67/AB67) -> 1114.3557 | AJ67: =C67*(AN67/AC67) -> 903.53167 | AK67: =C67*(AN67/AD67) -> 786.07255 | AL67: =C67*(AN67/AE67) -> 689.96964 | AM67: =C67*(AN67/AF67) -> 625.52192 | AN67: =AG67*((2*PI())/60) -> 471.2389 | AP67: =AH67/$P$7 -> 6.3133687 | AQ67: =AI67/$P$7 -> 4.4396642 | AR67: =AJ67/$P$7 -> 3.5997278 | AS67: =AK67/$P$7 -> 3.1317631 | AT67: =AL67/$P$7 -> 2.748883 | AU67: =AM67/$P$7 -> 2.4921192 | AW67: =0.5*'Zx6r Predicted Values'!$M$5*'Zx6r Predicted Values'!$M$6*0.47*('Zx6r Power Map + Gearing'!AA67^2) -> 9.6330356 | AX67: =0.5*'Zx6r Predicted Values'!$M$5*'Zx6r Predicted Values'!$M$6*0.47*('Zx6r Power Map + Gearing'!AB67^2) -> 19.479832 | AY67: =0.5*'Zx6r Predicted Values'!$M$5*'Zx6r Predicted Values'!$M$6*0.47*('Zx6r Power Map + Gearing'!AC67^2) -> 29.630989 | AZ67: =0.5*'Zx6r Predicted Values'!$M$5*'Zx6r Predicted Values'!$M$6*0.47*('Zx6r Power Map + Gearing'!AD67^2) -> 39.147826 | BA67: =0.5*'Zx6r Predicted Values'!$M$5*'Zx6r Predicted Values'!$M$6*0.47*('Zx6r Power Map + Gearing'!AE67^2) -> 50.81278 | BB67: =0.5*'Zx6r Predicted Values'!$M$5*'Zx6r Predicted Values'!$M$6*0.47*('Zx6r Power Map + Gearing'!AF67)^2 -> 61.822682 | BC67: =BC66+500 -> 4500 | BD67: =M67-AW67 -> 2140.6369 | BE67: =N67-AX67-'Zx6r Predicted Values'!$G$9 -> 1443.379 | BF67: =O67-AY67-'Zx6r Predicted Values'!$G$9 -> 1147.1539 | BG67: =P67-AZ67-'Zx6r Predicted Values'!$G$9 -> 978.25302 | BH67: =Q67-BA67-'Zx6r Predicted Values'!$G$9 -> 836.18294 | BI67: =R67-BB67-'Zx6r Predicted Values'!$G$9 -> 737.72187 | BK67: =BD67/$P$7 -> 8.5284337 | BL67: =BE67/$P$7 -> 5.7505138 | BM67: =BF67/$P$7 -> 4.5703343 | BN67: =BG67/$P$7 -> 3.8974224 | BO67: =BH67/$P$7 -> 3.3314061 | BP67: =BI67/$P$7 -> 2.939131
A68: =A67+500 -> 5000 | B68: 31 | C68: =(B68*5252)/A68 -> 32.5624 | D68: =0.7457*B68 -> 23.1167 | F68: =((A68*60*($C$50/$B$50)*($C$42/$B$42)*$C$45*PI())/1000)*($C$43/$B$43) -> 37.453717 | G68: =((A68*60*($C$52/$B$52)*($C$42/$B$42)*$C$45*PI())/1000)*($C$43/$B$43) -> 53.260587 | H68: =((A68*60*($C$54/$B$54)*($C$42/$B$42)*$C$45*PI())/1000)*($C$43/$B$43) -> 65.688057 | I68: =((A68*60*($C$56/$B$56)*($C$42/$B$42)*$C$45*PI())/1000)*($C$43/$B$43) -> 75.503514 | J68: =((A68*60*($C$58/$B$58)*($C$42/$B$42)*$C$45*PI())/1000)*($C$43/$B$43) -> 86.020075 | K68: =((A68*60*($C$60/$B$60)*($C$42/$B$42)*$C$45*PI())/1000)*($C$43/$B$43) -> 94.882749 | M68: =(D68*1000)/(F68*(1000/3600)) -> 2221.9456 | N68: =(D68*1000)/(G68*(1000/3600)) -> 1562.5085 | O68: =(D68*1000)/(H68*(1000/3600)) -> 1266.8988 | P68: =(D68*1000)/(I68*(1000/3600)) -> 1102.2019 | Q68: =(D68*1000)/(J68*(1000/3600)) -> 967.44998 | R68: =(D68*1000)/(K68*(1000/3600)) -> 877.08378 | T68: =(M69-M68)/(F69-F68) -> 15.657652 | U68: =(N69-N68)/(G69-G68) -> 7.7429165 | V68: =(O69-O68)/(H69-H68) -> 5.090303 | W68: =(P69-P68)/(I69-I68) -> 3.8528503 | X68: =(Q69-Q68)/(J69-J68) -> 2.9683618 | Y68: =(R69-R68)/(K69-K68) -> 2.439731 | AA68: =F68*0.278 -> 10.412133 | AB68: =G68*0.278 -> 14.806443 | AC68: =H68*0.278 -> 18.26128 | AD68: =I68*0.278 -> 20.989977 | AE68: =J68*0.278 -> 23.913581 | AF68: =K68*0.278 -> 26.377404 | AG68: =AG67+500 -> 5000 | AH68: =C68*(AN68/AA68) -> 1637.4774 | AI68: =C68*(AN68/AB68) -> 1151.5009 | AJ68: =C68*(AN68/AC68) -> 933.64939 | AK68: =C68*(AN68/AD68) -> 812.27497 | AL68: =C68*(AN68/AE68) -> 712.96862 | AM68: =C68*(AN68/AF68) -> 646.37265 | AN68: =AG68*((2*PI())/60) -> 523.59878 | AP68: =AH68/$P$7 -> 6.5238143 | AQ68: =AI68/$P$7 -> 4.587653 | AR68: =AJ68/$P$7 -> 3.7197187 | AS68: =AK68/$P$7 -> 3.2361552 | AT68: =AL68/$P$7 -> 2.8405124 | AU68: =AM68/$P$7 -> 2.5751899 | AW68: =0.5*'Zx6r Predicted Values'!$M$5*'Zx6r Predicted Values'!$M$6*0.47*('Zx6r Power Map + Gearing'!AA68^2) -> 11.892637 | AX68: =0.5*'Zx6r Predicted Values'!$M$5*'Zx6r Predicted Values'!$M$6*0.47*('Zx6r Power Map + Gearing'!AB68^2) -> 24.049176 | AY68: =0.5*'Zx6r Predicted Values'!$M$5*'Zx6r Predicted Values'!$M$6*0.47*('Zx6r Power Map + Gearing'!AC68^2) -> 36.581468 | AZ68: =0.5*'Zx6r Predicted Values'!$M$5*'Zx6r Predicted Values'!$M$6*0.47*('Zx6r Power Map + Gearing'!AD68^2) -> 48.330649 | BA68: =0.5*'Zx6r Predicted Values'!$M$5*'Zx6r Predicted Values'!$M$6*0.47*('Zx6r Power Map + Gearing'!AE68^2) -> 62.731827 | BB68: =0.5*'Zx6r Predicted Values'!$M$5*'Zx6r Predicted Values'!$M$6*0.47*('Zx6r Power Map + Gearing'!AF68)^2 -> 76.324298 | BC68: =BC67+500 -> 5000 | BD68: =M68-AW68 -> 2210.0529 | BE68: =N68-AX68-'Zx6r Predicted Values'!$G$9 -> 1489.2131 | BF68: =O68-AY68-'Zx6r Predicted Values'!$G$9 -> 1181.0711 | BG68: =P68-AZ68-'Zx6r Predicted Values'!$G$9 -> 1004.6251 | BH68: =Q68-BA68-'Zx6r Predicted Values'!$G$9 -> 855.47196 | BI68: =R68-BB68-'Zx6r Predicted Values'!$G$9 -> 751.51328 | BK68: =BD68/$P$7 -> 8.8049918 | BL68: =BE68/$P$7 -> 5.93312 | BM68: =BF68/$P$7 -> 4.7054626 | BN68: =BG68/$P$7 -> 4.0024904 | BO68: =BH68/$P$7 -> 3.4082548 | BP68: =BI68/$P$7 -> 2.9940768
A69: =A68+500 -> 5500 | B69: 35 | C69: =(B69*5252)/A69 -> 33.421818 | D69: =0.7457*B69 -> 26.0995 | F69: =((A69*60*($C$50/$B$50)*($C$42/$B$42)*$C$45*PI())/1000)*($C$43/$B$43) -> 41.199088 | G69: =((A69*60*($C$52/$B$52)*($C$42/$B$42)*$C$45*PI())/1000)*($C$43/$B$43) -> 58.586646 | H69: =((A69*60*($C$54/$B$54)*($C$42/$B$42)*$C$45*PI())/1000)*($C$43/$B$43) -> 72.256863 | I69: =((A69*60*($C$56/$B$56)*($C$42/$B$42)*$C$45*PI())/1000)*($C$43/$B$43) -> 83.053865 | J69: =((A69*60*($C$58/$B$58)*($C$42/$B$42)*$C$45*PI())/1000)*($C$43/$B$43) -> 94.622082 | K69: =((A69*60*($C$60/$B$60)*($C$42/$B$42)*$C$45*PI())/1000)*($C$43/$B$43) -> 104.37102 | M69: =(D69*1000)/(F69*(1000/3600)) -> 2280.5893 | N69: =(D69*1000)/(G69*(1000/3600)) -> 1603.7477 | O69: =(D69*1000)/(H69*(1000/3600)) -> 1300.336 | P69: =(D69*1000)/(I69*(1000/3600)) -> 1131.2923 | Q69: =(D69*1000)/(J69*(1000/3600)) -> 992.98385 | R69: =(D69*1000)/(K69*(1000/3600)) -> 900.23262 | T69: =(M70-M69)/(F70-F69) -> -2.8995651 | U69: =(N70-N69)/(G70-G69) -> -1.4338734 | V69: =(O70-O69)/(H70-H69) -> -0.9426487 | W69: =(P70-P69)/(I70-I69) -> -0.7134908 | X69: =(Q70-Q69)/(J70-J69) -> -0.54969663 | Y69: =(R70-R69)/(K70-K69) -> -0.45180204 | AA69: =F69*0.278 -> 11.453347 | AB69: =G69*0.278 -> 16.287087 | AC69: =H69*0.278 -> 20.087408 | AD69: =I69*0.278 -> 23.088975 | AE69: =J69*0.278 -> 26.304939 | AF69: =K69*0.278 -> 29.015145 | AG69: =AG68+500 -> 5500 | AH69: =C69*(AN69/AA69) -> 1680.6953 | AI69: =C69*(AN69/AB69) -> 1181.8924 | AJ69: =C69*(AN69/AC69) -> 958.29116 | AK69: =C69*(AN69/AD69) -> 833.71331 | AL69: =C69*(AN69/AE69) -> 731.78598 | AM69: =C69*(AN69/AF69) -> 663.43234 | AN69: =AG69*((2*PI())/60) -> 575.95865 | AP69: =AH69/$P$7 -> 6.6959971 | AQ69: =AI69/$P$7 -> 4.7087348 | AR69: =AJ69/$P$7 -> 3.8178931 | AS69: =AK69/$P$7 -> 3.321567 | AT69: =AL69/$P$7 -> 2.915482 | AU69: =AM69/$P$7 -> 2.6431567 | AW69: =0.5*'Zx6r Predicted Values'!$M$5*'Zx6r Predicted Values'!$M$6*0.47*('Zx6r Power Map + Gearing'!AA69^2) -> 14.39009 | AX69: =0.5*'Zx6r Predicted Values'!$M$5*'Zx6r Predicted Values'!$M$6*0.47*('Zx6r Power Map + Gearing'!AB69^2) -> 29.099503 | AY69: =0.5*'Zx6r Predicted Values'!$M$5*'Zx6r Predicted Values'!$M$6*0.47*('Zx6r Power Map + Gearing'!AC69^2) -> 44.263577 | AZ69: =0.5*'Zx6r Predicted Values'!$M$5*'Zx6r Predicted Values'!$M$6*0.47*('Zx6r Power Map + Gearing'!AD69^2) -> 58.480086 | BA69: =0.5*'Zx6r Predicted Values'!$M$5*'Zx6r Predicted Values'!$M$6*0.47*('Zx6r Power Map + Gearing'!AE69^2) -> 75.90551 | BB69: =0.5*'Zx6r Predicted Values'!$M$5*'Zx6r Predicted Values'!$M$6*0.47*('Zx6r Power Map + Gearing'!AF69)^2 -> 92.352401 | BC69: =BC68+500 -> 5500 | BD69: =M69-AW69 -> 2266.1992 | BE69: =N69-AX69-'Zx6r Predicted Values'!$G$9 -> 1525.402 | BF69: =O69-AY69-'Zx6r Predicted Values'!$G$9 -> 1206.8262 | BG69: =P69-AZ69-'Zx6r Predicted Values'!$G$9 -> 1023.566 | BH69: =Q69-BA69-'Zx6r Predicted Values'!$G$9 -> 867.83214 | BI69: =R69-BB69-'Zx6r Predicted Values'!$G$9 -> 758.63401 | BK69: =BD69/$P$7 -> 9.0286821 | BL69: =BE69/$P$7 -> 6.0772989 | BM69: =BF69/$P$7 -> 4.8080726 | BN69: =BG69/$P$7 -> 4.0779523 | BO69: =BH69/$P$7 -> 3.4574986 | BP69: =BI69/$P$7 -> 3.0224463
A70: =A69+500 -> 6000 | B70: 38 | C70: =(B70*5252)/A70 -> 33.262667 | D70: =0.7457*B70 -> 28.3366 | F70: =((A70*60*($C$50/$B$50)*($C$42/$B$42)*$C$45*PI())/1000)*($C$43/$B$43) -> 44.94446 | G70: =((A70*60*($C$52/$B$52)*($C$42/$B$42)*$C$45*PI())/1000)*($C$43/$B$43) -> 63.912704 | H70: =((A70*60*($C$54/$B$54)*($C$42/$B$42)*$C$45*PI())/1000)*($C$43/$B$43) -> 78.825669 | I70: =((A70*60*($C$56/$B$56)*($C$42/$B$42)*$C$45*PI())/1000)*($C$43/$B$43) -> 90.604217 | J70: =((A70*60*($C$58/$B$58)*($C$42/$B$42)*$C$45*PI())/1000)*($C$43/$B$43) -> 103.22409 | K70: =((A70*60*($C$60/$B$60)*($C$42/$B$42)*$C$45*PI())/1000)*($C$43/$B$43) -> 113.8593 | M70: =(D70*1000)/(F70*(1000/3600)) -> 2269.7293 | N70: =(D70*1000)/(G70*(1000/3600)) -> 1596.1108 | O70: =(D70*1000)/(H70*(1000/3600)) -> 1294.1439 | P70: =(D70*1000)/(I70*(1000/3600)) -> 1125.9052 | Q70: =(D70*1000)/(J70*(1000/3600)) -> 988.25536 | R70: =(D70*1000)/(K70*(1000/3600)) -> 895.94579 | T70: =(M71-M70)/(F71-F70) -> 12.267391 | U70: =(N71-N70)/(G71-G70) -> 6.0663875 | V70: =(O71-O70)/(H71-H70) -> 3.9881291 | W70: =(P71-P70)/(I71-I70) -> 3.0186149 | X70: =(Q71-Q70)/(J71-J70) -> 2.3256396 | Y70: =(R71-R70)/(K71-K70) -> 1.9114702 | AA70: =F70*0.278 -> 12.49456 | AB70: =G70*0.278 -> 17.767732 | AC70: =H70*0.278 -> 21.913536 | AD70: =I70*0.278 -> 25.187972 | AE70: =J70*0.278 -> 28.696297 | AF70: =K70*0.278 -> 31.652885 | AG70: =AG69+500 -> 6000 | AH70: =C70*(AN70/AA70) -> 1672.692 | AI70: =C70*(AN70/AB70) -> 1176.2644 | AJ70: =C70*(AN70/AC70) -> 953.72787 | AK70: =C70*(AN70/AD70) -> 829.74325 | AL70: =C70*(AN70/AE70) -> 728.30128 | AM70: =C70*(AN70/AF70) -> 660.27314 | AN70: =AG70*((2*PI())/60) -> 628.31853 | AP70: =AH70/$P$7 -> 6.6641114 | AQ70: =AI70/$P$7 -> 4.6863122 | AR70: =AJ70/$P$7 -> 3.7997126 | AS70: =AK70/$P$7 -> 3.30575 | AT70: =AL70/$P$7 -> 2.9015987 | AU70: =AM70/$P$7 -> 2.6305703 | AW70: =0.5*'Zx6r Predicted Values'!$M$5*'Zx6r Predicted Values'!$M$6*0.47*('Zx6r Power Map + Gearing'!AA70^2) -> 17.125397 | AX70: =0.5*'Zx6r Predicted Values'!$M$5*'Zx6r Predicted Values'!$M$6*0.47*('Zx6r Power Map + Gearing'!AB70^2) -> 34.630813 | AY70: =0.5*'Zx6r Predicted Values'!$M$5*'Zx6r Predicted Values'!$M$6*0.47*('Zx6r Power Map + Gearing'!AC70^2) -> 52.677315 | AZ70: =0.5*'Zx6r Predicted Values'!$M$5*'Zx6r Predicted Values'!$M$6*0.47*('Zx6r Power Map + Gearing'!AD70^2) -> 69.596135 | BA70: =0.5*'Zx6r Predicted Values'!$M$5*'Zx6r Predicted Values'!$M$6*0.47*('Zx6r Power Map + Gearing'!AE70^2) -> 90.33383 | BB70: =0.5*'Zx6r Predicted Values'!$M$5*'Zx6r Predicted Values'!$M$6*0.47*('Zx6r Power Map + Gearing'!AF70)^2 -> 109.90699 | BC70: =BC69+500 -> 6000 | BD70: =M70-AW70 -> 2252.6039 | BE70: =N70-AX70-'Zx6r Predicted Values'!$G$9 -> 1512.2338 | BF70: =O70-AY70-'Zx6r Predicted Values'!$G$9 -> 1192.2204 | BG70: =P70-AZ70-'Zx6r Predicted Values'!$G$9 -> 1007.0629 | BH70: =Q70-BA70-'Zx6r Predicted Values'!$G$9 -> 848.67533 | BI70: =R70-BB70-'Zx6r Predicted Values'!$G$9 -> 736.7926 | BK70: =BD70/$P$7 -> 8.9745177 | BL70: =BE70/$P$7 -> 6.024836 | BM70: =BF70/$P$7 -> 4.7498821 | BN70: =BG70/$P$7 -> 4.0122027 | BO70: =BH70/$P$7 -> 3.3811766 | BP70: =BI70/$P$7 -> 2.9354287
A71: =A70+500 -> 6500 | B71: 42 | C71: =(B71*5252)/A71 -> 33.936 | D71: =0.7457*B71 -> 31.3194 | F71: =((A71*60*($C$50/$B$50)*($C$42/$B$42)*$C$45*PI())/1000)*($C$43/$B$43) -> 48.689832 | G71: =((A71*60*($C$52/$B$52)*($C$42/$B$42)*$C$45*PI())/1000)*($C$43/$B$43) -> 69.238763 | H71: =((A71*60*($C$54/$B$54)*($C$42/$B$42)*$C$45*PI())/1000)*($C$43/$B$43) -> 85.394474 | I71: =((A71*60*($C$56/$B$56)*($C$42/$B$42)*$C$45*PI())/1000)*($C$43/$B$43) -> 98.154568 | J71: =((A71*60*($C$58/$B$58)*($C$42/$B$42)*$C$45*PI())/1000)*($C$43/$B$43) -> 111.8261 | K71: =((A71*60*($C$60/$B$60)*($C$42/$B$42)*$C$45*PI())/1000)*($C$43/$B$43) -> 123.34757 | M71: =(D71*1000)/(F71*(1000/3600)) -> 2315.6753 | N71: =(D71*1000)/(G71*(1000/3600)) -> 1628.4208 | O71: =(D71*1000)/(H71*(1000/3600)) -> 1320.3412 | P71: =(D71*1000)/(I71*(1000/3600)) -> 1148.6968 | Q71: =(D71*1000)/(J71*(1000/3600)) -> 1008.2605 | R71: =(D71*1000)/(K71*(1000/3600)) -> 914.08235 | T71: =(M72-M71)/(F72-F71) -> 24.184285 | U71: =(N72-N71)/(G72-G71) -> 11.95945 | V71: =(O72-O71)/(H72-H71) -> 7.8623117 | W71: =(P72-P71)/(I72-I71) -> 5.9509837 | X71: =(Q72-Q71)/(J72-J71) -> 4.5848324 | Y71: =(R72-R71)/(K72-K71) -> 3.7683269 | AA71: =F71*0.278 -> 13.535773 | AB71: =G71*0.278 -> 19.248376 | AC71: =H71*0.278 -> 23.739664 | AD71: =I71*0.278 -> 27.28697 | AE71: =J71*0.278 -> 31.087655 | AF71: =K71*0.278 -> 34.290626 | AG71: =AG70+500 -> 6500 | AH71: =C71*(AN71/AA71) -> 1706.5521 | AI71: =C71*(AN71/AB71) -> 1200.0754 | AJ71: =C71*(AN71/AC71) -> 973.0341 | AK71: =C71*(AN71/AD71) -> 846.53967 | AL71: =C71*(AN71/AE71) -> 743.04422 | AM71: =C71*(AN71/AF71) -> 673.63899 | AN71: =AG71*((2*PI())/60) -> 680.67841 | AP71: =AH71/$P$7 -> 6.7990124 | AQ71: =AI71/$P$7 -> 4.7811769 | AR71: =AJ71/$P$7 -> 3.8766299 | AS71: =AK71/$P$7 -> 3.372668 | AT71: =AL71/$P$7 -> 2.9603355 | AU71: =AM71/$P$7 -> 2.6838207 | AW71: =0.5*'Zx6r Predicted Values'!$M$5*'Zx6r Predicted Values'!$M$6*0.47*('Zx6r Power Map + Gearing'!AA71^2) -> 20.098556 | AX71: =0.5*'Zx6r Predicted Values'!$M$5*'Zx6r Predicted Values'!$M$6*0.47*('Zx6r Power Map + Gearing'!AB71^2) -> 40.643107 | AY71: =0.5*'Zx6r Predicted Values'!$M$5*'Zx6r Predicted Values'!$M$6*0.47*('Zx6r Power Map + Gearing'!AC71^2) -> 61.822682 | AZ71: =0.5*'Zx6r Predicted Values'!$M$5*'Zx6r Predicted Values'!$M$6*0.47*('Zx6r Power Map + Gearing'!AD71^2) -> 81.678797 | BA71: =0.5*'Zx6r Predicted Values'!$M$5*'Zx6r Predicted Values'!$M$6*0.47*('Zx6r Power Map + Gearing'!AE71^2) -> 106.01679 | BB71: =0.5*'Zx6r Predicted Values'!$M$5*'Zx6r Predicted Values'!$M$6*0.47*('Zx6r Power Map + Gearing'!AF71)^2 -> 128.98806 | BC71: =BC70+500 -> 6500 | BD71: =M71-AW71 -> 2295.5767 | BE71: =N71-AX71-'Zx6r Predicted Values'!$G$9 -> 1538.5315 | BF71: =O71-AY71-'Zx6r Predicted Values'!$G$9 -> 1209.2723 | BG71: =P71-AZ71-'Zx6r Predicted Values'!$G$9 -> 1017.7718 | BH71: =Q71-BA71-'Zx6r Predicted Values'!$G$9 -> 852.99754 | BI71: =R71-BB71-'Zx6r Predicted Values'!$G$9 -> 735.84808 | BK71: =BD71/$P$7 -> 9.145724 | BL71: =BE71/$P$7 -> 6.1296074 | BM71: =BF71/$P$7 -> 4.8178179 | BN71: =BG71/$P$7 -> 4.0548678 | BO71: =BH71/$P$7 -> 3.3983966 | BP71: =BI71/$P$7 -> 2.9316657
A72: =A71+500 -> 7000 | B72: 47 | C72: =(B72*5252)/A72 -> 35.263429 | D72: =0.7457*B72 -> 35.0479 | F72: =((A72*60*($C$50/$B$50)*($C$42/$B$42)*$C$45*PI())/1000)*($C$43/$B$43) -> 52.435203 | G72: =((A72*60*($C$52/$B$52)*($C$42/$B$42)*$C$45*PI())/1000)*($C$43/$B$43) -> 74.564822 | H72: =((A72*60*($C$54/$B$54)*($C$42/$B$42)*$C$45*PI())/1000)*($C$43/$B$43) -> 91.96328 | I72: =((A72*60*($C$56/$B$56)*($C$42/$B$42)*$C$45*PI())/1000)*($C$43/$B$43) -> 105.70492 | J72: =((A72*60*($C$58/$B$58)*($C$42/$B$42)*$C$45*PI())/1000)*($C$43/$B$43) -> 120.4281 | K72: =((A72*60*($C$60/$B$60)*($C$42/$B$42)*$C$45*PI())/1000)*($C$43/$B$43) -> 132.83585 | M72: =(D72*1000)/(F72*(1000/3600)) -> 2406.2544 | N72: =(D72*1000)/(G72*(1000/3600)) -> 1692.1175 | O72: =(D72*1000)/(H72*(1000/3600)) -> 1371.9872 | P72: =(D72*1000)/(I72*(1000/3600)) -> 1193.6288 | Q72: =(D72*1000)/(J72*(1000/3600)) -> 1047.6993 | R72: =(D72*1000)/(K72*(1000/3600)) -> 949.83727 | T72: =(M73-M72)/(F73-F72) -> 8.201627 | U72: =(N73-N72)/(G73-G72) -> 4.0558134 | V72: =(O73-O72)/(H73-H72) -> 2.6663492 | W72: =(P73-P72)/(I73-I72) -> 2.0181597 | X72: =(Q73-Q72)/(J73-J72) -> 1.5548562 | Y72: =(R73-R72)/(K73-K72) -> 1.2779543 | AA72: =F72*0.278 -> 14.576987 | AB72: =G72*0.278 -> 20.72902 | AC72: =H72*0.278 -> 25.565792 | AD72: =I72*0.278 -> 29.385968 | AE72: =J72*0.278 -> 33.479013 | AF72: =K72*0.278 -> 36.928366 | AG72: =AG71+500 -> 7000 | AH72: =C72*(AN72/AA72) -> 1773.305 | AI72: =C72*(AN72/AB72) -> 1247.0171 | AJ72: =C72*(AN72/AC72) -> 1011.095 | AK72: =C72*(AN72/AD72) -> 879.65261 | AL72: =C72*(AN72/AE72) -> 772.10888 | AM72: =C72*(AN72/AF72) -> 699.98882 | AN72: =AG72*((2*PI())/60) -> 733.03829 | AP72: =AH72/$P$7 -> 7.0649602 | AQ72: =AI72/$P$7 -> 4.9681957 | AR72: =AJ72/$P$7 -> 4.0282668 | AS72: =AK72/$P$7 -> 3.5045921 | AT72: =AL72/$P$7 -> 3.076131 | AU72: =AM72/$P$7 -> 2.7888001 | AW72: =0.5*'Zx6r Predicted Values'!$M$5*'Zx6r Predicted Values'!$M$6*0.47*('Zx6r Power Map + Gearing'!AA72^2) -> 23.309568 | AX72: =0.5*'Zx6r Predicted Values'!$M$5*'Zx6r Predicted Values'!$M$6*0.47*('Zx6r Power Map + Gearing'!AB72^2) -> 47.136384 | AY72: =0.5*'Zx6r Predicted Values'!$M$5*'Zx6r Predicted Values'!$M$6*0.47*('Zx6r Power Map + Gearing'!AC72^2) -> 71.699678 | AZ72: =0.5*'Zx6r Predicted Values'!$M$5*'Zx6r Predicted Values'!$M$6*0.47*('Zx6r Power Map + Gearing'!AD72^2) -> 94.728073 | BA72: =0.5*'Zx6r Predicted Values'!$M$5*'Zx6r Predicted Values'!$M$6*0.47*('Zx6r Power Map + Gearing'!AE72^2) -> 122.95438 | BB72: =0.5*'Zx6r Predicted Values'!$M$5*'Zx6r Predicted Values'!$M$6*0.47*('Zx6r Power Map + Gearing'!AF72)^2 -> 149.59562 | BC72: =BC71+500 -> 7000 | BD72: =M72-AW72 -> 2382.9449 | BE72: =N72-AX72-'Zx6r Predicted Values'!$G$9 -> 1595.7349 | BF72: =O72-AY72-'Zx6r Predicted Values'!$G$9 -> 1251.0413 | BG72: =P72-AZ72-'Zx6r Predicted Values'!$G$9 -> 1049.6546 | BH72: =Q72-BA72-'Zx6r Predicted Values'!$G$9 -> 875.49871 | BI72: =R72-BB72-'Zx6r Predicted Values'!$G$9 -> 750.99545 | BK72: =BD72/$P$7 -> 9.4938042 | BL72: =BE72/$P$7 -> 6.3575097 | BM72: =BF72/$P$7 -> 4.9842282 | BN72: =BG72/$P$7 -> 4.1818907 | BO72: =BH72/$P$7 -> 3.4880427 | BP72: =BI72/$P$7 -> 2.9920137
A73: =A72+500 -> 7500 | B73: 51 | C73: =(B73*5252)/A73 -> 35.7136 | D73: =0.7457*B73 -> 38.0307 | F73: =((A73*60*($C$50/$B$50)*($C$42/$B$42)*$C$45*PI())/1000)*($C$43/$B$43) -> 56.180575 | G73: =((A73*60*($C$52/$B$52)*($C$42/$B$42)*$C$45*PI())/1000)*($C$43/$B$43) -> 79.89088 | H73: =((A73*60*($C$54/$B$54)*($C$42/$B$42)*$C$45*PI())/1000)*($C$43/$B$43) -> 98.532086 | I73: =((A73*60*($C$56/$B$56)*($C$42/$B$42)*$C$45*PI())/1000)*($C$43/$B$43) -> 113.25527 | J73: =((A73*60*($C$58/$B$58)*($C$42/$B$42)*$C$45*PI())/1000)*($C$43/$B$43) -> 129.03011 | K73: =((A73*60*($C$60/$B$60)*($C$42/$B$42)*$C$45*PI())/1000)*($C$43/$B$43) -> 142.32412 | M73: =(D73*1000)/(F73*(1000/3600)) -> 2436.9726 | N73: =(D73*1000)/(G73*(1000/3600)) -> 1713.719 | O73: =(D73*1000)/(H73*(1000/3600)) -> 1389.5019 | P73: =(D73*1000)/(I73*(1000/3600)) -> 1208.8667 | Q73: =(D73*1000)/(J73*(1000/3600)) -> 1061.0742 | R73: =(D73*1000)/(K73*(1000/3600)) -> 961.96285 | T73: =(M74-M73)/(F74-F73) -> 31.097836 | U73: =(N74-N73)/(G74-G73) -> 15.378292 | V73: =(O74-O73)/(H74-H73) -> 10.109907 | W73: =(P74-P73)/(I74-I73) -> 7.6521889 | X73: =(Q74-Q73)/(J74-J73) -> 5.8954964 | Y73: =(R74-R73)/(K74-K73) -> 4.8455769 | AA73: =F73*0.278 -> 15.6182 | AB73: =G73*0.278 -> 22.209665 | AC73: =H73*0.278 -> 27.39192 | AD73: =I73*0.278 -> 31.484965 | AE73: =J73*0.278 -> 35.870371 | AF73: =K73*0.278 -> 39.566106 | AG73: =AG72+500 -> 7500 | AH73: =C73*(AN73/AA73) -> 1795.9429 | AI73: =C73*(AN73/AB73) -> 1262.9365 | AJ73: =C73*(AN73/AC73) -> 1024.0026 | AK73: =C73*(AN73/AD73) -> 890.88222 | AL73: =C73*(AN73/AE73) -> 781.96559 | AM73: =C73*(AN73/AF73) -> 708.92485 | AN73: =AG73*((2*PI())/60) -> 785.39816 | AP73: =AH73/$P$7 -> 7.1551512 | AQ73: =AI73/$P$7 -> 5.0316195 | AR73: =AJ73/$P$7 -> 4.0796915 | AS73: =AK73/$P$7 -> 3.5493316 | AT73: =AL73/$P$7 -> 3.1154007 | AU73: =AM73/$P$7 -> 2.8244018 | AW73: =0.5*'Zx6r Predicted Values'!$M$5*'Zx6r Predicted Values'!$M$6*0.47*('Zx6r Power Map + Gearing'!AA73^2) -> 26.758432 | AX73: =0.5*'Zx6r Predicted Values'!$M$5*'Zx6r Predicted Values'!$M$6*0.47*('Zx6r Power Map + Gearing'!AB73^2) -> 54.110645 | AY73: =0.5*'Zx6r Predicted Values'!$M$5*'Zx6r Predicted Values'!$M$6*0.47*('Zx6r Power Map + Gearing'!AC73^2) -> 82.308304 | AZ73: =0.5*'Zx6r Predicted Values'!$M$5*'Zx6r Predicted Values'!$M$6*0.47*('Zx6r Power Map + Gearing'!AD73^2) -> 108.74396 | BA73: =0.5*'Zx6r Predicted Values'!$M$5*'Zx6r Predicted Values'!$M$6*0.47*('Zx6r Power Map + Gearing'!AE73^2) -> 141.14661 | BB73: =0.5*'Zx6r Predicted Values'!$M$5*'Zx6r Predicted Values'!$M$6*0.47*('Zx6r Power Map + Gearing'!AF73)^2 -> 171.72967 | BC73: =BC72+500 -> 7500 | BD73: =M73-AW73 -> 2410.2141 | BE73: =N73-AX73-'Zx6r Predicted Values'!$G$9 -> 1610.3622 | BF73: =O73-AY73-'Zx6r Predicted Values'!$G$9 -> 1257.9474 | BG73: =P73-AZ73-'Zx6r Predicted Values'!$G$9 -> 1050.8765 | BH73: =Q73-BA73-'Zx6r Predicted Values'!$G$9 -> 870.68137 | BI73: =R73-BB73-'Zx6r Predicted Values'!$G$9 -> 740.98698 | BK73: =BD73/$P$7 -> 9.6024467 | BL73: =BE73/$P$7 -> 6.4157855 | BM73: =BF73/$P$7 -> 5.0117426 | BN73: =BG73/$P$7 -> 4.1867589 | BO73: =BH73/$P$7 -> 3.4688501 | BP73: =BI73/$P$7 -> 2.9521394
A74: =A73+500 -> 8000 | B74: 57 | C74: =(B74*5252)/A74 -> 37.4205 | D74: =0.7457*B74 -> 42.5049 | F74: =((A74*60*($C$50/$B$50)*($C$42/$B$42)*$C$45*PI())/1000)*($C$43/$B$43) -> 59.925947 | G74: =((A74*60*($C$52/$B$52)*($C$42/$B$42)*$C$45*PI())/1000)*($C$43/$B$43) -> 85.216939 | H74: =((A74*60*($C$54/$B$54)*($C$42/$B$42)*$C$45*PI())/1000)*($C$43/$B$43) -> 105.10089 | I74: =((A74*60*($C$56/$B$56)*($C$42/$B$42)*$C$45*PI())/1000)*($C$43/$B$43) -> 120.80562 | J74: =((A74*60*($C$58/$B$58)*($C$42/$B$42)*$C$45*PI())/1000)*($C$43/$B$43) -> 137.63212 | K74: =((A74*60*($C$60/$B$60)*($C$42/$B$42)*$C$45*PI())/1000)*($C$43/$B$43) -> 151.8124 | M74: =(D74*1000)/(F74*(1000/3600)) -> 2553.4455 | N74: =(D74*1000)/(G74*(1000/3600)) -> 1795.6247 | O74: =(D74*1000)/(H74*(1000/3600)) -> 1455.9119 | P74: =(D74*1000)/(I74*(1000/3600)) -> 1266.6434 | Q74: =(D74*1000)/(J74*(1000/3600)) -> 1111.7873 | R74: =(D74*1000)/(K74*(1000/3600)) -> 1007.939 | T74: =(M75-M74)/(F75-F74) -> 38.696402 | U74: =(N75-N74)/(G75-G74) -> 19.135884 | V74: =(O75-O74)/(H75-H74) -> 12.580201 | W74: =(P75-P74)/(I75-I74) -> 9.5219545 | X74: =(Q75-Q74)/(J75-J74) -> 7.3360249 | Y74: =(R75-R74)/(K75-K74) -> 6.029564 | AA74: =F74*0.278 -> 16.659413 | AB74: =G74*0.278 -> 23.690309 | AC74: =H74*0.278 -> 29.218048 | AD74: =I74*0.278 -> 33.583963 | AE74: =J74*0.278 -> 38.261729 | AF74: =K74*0.278 -> 42.203847 | AG74: =AG73+500 -> 8000 | AH74: =C74*(AN74/AA74) -> 1881.7784 | AI74: =C74*(AN74/AB74) -> 1323.2974 | AJ74: =C74*(AN74/AC74) -> 1072.9439 | AK74: =C74*(AN74/AD74) -> 933.46115 | AL74: =C74*(AN74/AE74) -> 819.33894 | AM74: =C74*(AN74/AF74) -> 742.80728 | AN74: =AG74*((2*PI())/60) -> 837.75804 | AP74: =AH74/$P$7 -> 7.4971253 | AQ74: =AI74/$P$7 -> 5.2721013 | AR74: =AJ74/$P$7 -> 4.2746767 | AS74: =AK74/$P$7 -> 3.7189687 | AT74: =AL74/$P$7 -> 3.2642986 | AU74: =AM74/$P$7 -> 2.9593916 | AW74: =0.5*'Zx6r Predicted Values'!$M$5*'Zx6r Predicted Values'!$M$6*0.47*('Zx6r Power Map + Gearing'!AA74^2) -> 30.445149 | AX74: =0.5*'Zx6r Predicted Values'!$M$5*'Zx6r Predicted Values'!$M$6*0.47*('Zx6r Power Map + Gearing'!AB74^2) -> 61.56589 | AY74: =0.5*'Zx6r Predicted Values'!$M$5*'Zx6r Predicted Values'!$M$6*0.47*('Zx6r Power Map + Gearing'!AC74^2) -> 93.648559 | AZ74: =0.5*'Zx6r Predicted Values'!$M$5*'Zx6r Predicted Values'!$M$6*0.47*('Zx6r Power Map + Gearing'!AD74^2) -> 123.72646 | BA74: =0.5*'Zx6r Predicted Values'!$M$5*'Zx6r Predicted Values'!$M$6*0.47*('Zx6r Power Map + Gearing'!AE74^2) -> 160.59348 | BB74: =0.5*'Zx6r Predicted Values'!$M$5*'Zx6r Predicted Values'!$M$6*0.47*('Zx6r Power Map + Gearing'!AF74)^2 -> 195.3902 | BC74: =BC73+500 -> 8000 | BD74: =M74-AW74 -> 2523.0004 | BE74: =N74-AX74-'Zx6r Predicted Values'!$G$9 -> 1684.8126 | BF74: =O74-AY74-'Zx6r Predicted Values'!$G$9 -> 1313.0172 | BG74: =P74-AZ74-'Zx6r Predicted Values'!$G$9 -> 1093.6707 | BH74: =Q74-BA74-'Zx6r Predicted Values'!$G$9 -> 901.9476 | BI74: =R74-BB74-'Zx6r Predicted Values'!$G$9 -> 763.30261 | BK74: =BD74/$P$7 -> 10.051794 | BL74: =BE74/$P$7 -> 6.7124008 | BM74: =BF74/$P$7 -> 5.231144 | BN74: =BG74/$P$7 -> 4.3572538 | BO74: =BH74/$P$7 -> 3.5934168 | BP74: =BI74/$P$7 -> 3.0410463
A75: =A74+500 -> 8500 | B75: 64 | C75: =(B75*5252)/A75 -> 39.544471 | D75: =0.7457*B75 -> 47.7248 | F75: =((A75*60*($C$50/$B$50)*($C$42/$B$42)*$C$45*PI())/1000)*($C$43/$B$43) -> 63.671319 | G75: =((A75*60*($C$52/$B$52)*($C$42/$B$42)*$C$45*PI())/1000)*($C$43/$B$43) -> 90.542998 | H75: =((A75*60*($C$54/$B$54)*($C$42/$B$42)*$C$45*PI())/1000)*($C$43/$B$43) -> 111.6697 | I75: =((A75*60*($C$56/$B$56)*($C$42/$B$42)*$C$45*PI())/1000)*($C$43/$B$43) -> 128.35597 | J75: =((A75*60*($C$58/$B$58)*($C$42/$B$42)*$C$45*PI())/1000)*($C$43/$B$43) -> 146.23413 | K75: =((A75*60*($C$60/$B$60)*($C$42/$B$42)*$C$45*PI())/1000)*($C$43/$B$43) -> 161.30067 | M75: =(D75*1000)/(F75*(1000/3600)) -> 2698.3779 | N75: =(D75*1000)/(G75*(1000/3600)) -> 1897.5435 | O75: =(D75*1000)/(H75*(1000/3600)) -> 1538.5488 | P75: =(D75*1000)/(I75*(1000/3600)) -> 1338.5375 | Q75: =(D75*1000)/(J75*(1000/3600)) -> 1174.8918 | R75: =(D75*1000)/(K75*(1000/3600)) -> 1065.1492 | T75: =(M76-M75)/(F76-F75) -> 23.765063 | U75: =(N76-N75)/(G76-G75) -> 11.752139 | V75: =(O76-O75)/(H76-H75) -> 7.7260227 | W75: =(P76-P75)/(I76-I75) -> 5.8478266 | X75: =(Q76-Q75)/(J76-J75) -> 4.5053567 | Y75: =(R76-R75)/(K76-K75) -> 3.703005 | AA75: =F75*0.278 -> 17.700627 | AB75: =G75*0.278 -> 25.170953 | AC75: =H75*0.278 -> 31.044176 | AD75: =I75*0.278 -> 35.682961 | AE75: =J75*0.278 -> 40.653087 | AF75: =K75*0.278 -> 44.841587 | AG75: =AG74+500 -> 8500 | AH75: =C75*(AN75/AA75) -> 1988.5873 | AI75: =C75*(AN75/AB75) -> 1398.4072 | AJ75: =C75*(AN75/AC75) -> 1133.8437 | AK75: =C75*(AN75/AD75) -> 986.44398 | AL75: =C75*(AN75/AE75) -> 865.84425 | AM75: =C75*(AN75/AF75) -> 784.96869 | AN75: =AG75*((2*PI())/60) -> 890.11792 | AP75: =AH75/$P$7 -> 7.9226587 | AQ75: =AI75/$P$7 -> 5.5713433 | AR75: =AJ75/$P$7 -> 4.5173054 | AS75: =AK75/$P$7 -> 3.9300557 | AT75: =AL75/$P$7 -> 3.4495787 | AU75: =AM75/$P$7 -> 3.1273653 | AW75: =0.5*'Zx6r Predicted Values'!$M$5*'Zx6r Predicted Values'!$M$6*0.47*('Zx6r Power Map + Gearing'!AA75^2) -> 34.36972 | AX75: =0.5*'Zx6r Predicted Values'!$M$5*'Zx6r Predicted Values'!$M$6*0.47*('Zx6r Power Map + Gearing'!AB75^2) -> 69.502118 | AY75: =0.5*'Zx6r Predicted Values'!$M$5*'Zx6r Predicted Values'!$M$6*0.47*('Zx6r Power Map + Gearing'!AC75^2) -> 105.72044 | AZ75: =0.5*'Zx6r Predicted Values'!$M$5*'Zx6r Predicted Values'!$M$6*0.47*('Zx6r Power Map + Gearing'!AD75^2) -> 139.67558 | BA75: =0.5*'Zx6r Predicted Values'!$M$5*'Zx6r Predicted Values'!$M$6*0.47*('Zx6r Power Map + Gearing'!AE75^2) -> 181.29498 | BB75: =0.5*'Zx6r Predicted Values'!$M$5*'Zx6r Predicted Values'!$M$6*0.47*('Zx6r Power Map + Gearing'!AF75)^2 -> 220.57722 | BC75: =BC74+500 -> 8500 | BD75: =M75-AW75 -> 2664.0082 | BE75: =N75-AX75-'Zx6r Predicted Values'!$G$9 -> 1778.7952 | BF75: =O75-AY75-'Zx6r Predicted Values'!$G$9 -> 1383.5822 | BG75: =P75-AZ75-'Zx6r Predicted Values'!$G$9 -> 1149.6157 | BH75: =Q75-BA75-'Zx6r Predicted Values'!$G$9 -> 944.35064 | BI75: =R75-BB75-'Zx6r Predicted Values'!$G$9 -> 795.32576 | BK75: =BD75/$P$7 -> 10.613578 | BL75: =BE75/$P$7 -> 7.0868335 | BM75: =BF75/$P$7 -> 5.5122796 | BN75: =BG75/$P$7 -> 4.5801422 | BO75: =BH75/$P$7 -> 3.7623532 | BP75: =BI75/$P$7 -> 3.1686285
A76: =A75+500 -> 9000 | B76: 70 | C76: =(B76*5252)/A76 -> 40.848889 | D76: =0.7457*B76 -> 52.199 | F76: =((A76*60*($C$50/$B$50)*($C$42/$B$42)*$C$45*PI())/1000)*($C$43/$B$43) -> 67.41669 | G76: =((A76*60*($C$52/$B$52)*($C$42/$B$42)*$C$45*PI())/1000)*($C$43/$B$43) -> 95.869056 | H76: =((A76*60*($C$54/$B$54)*($C$42/$B$42)*$C$45*PI())/1000)*($C$43/$B$43) -> 118.2385 | I76: =((A76*60*($C$56/$B$56)*($C$42/$B$42)*$C$45*PI())/1000)*($C$43/$B$43) -> 135.90633 | J76: =((A76*60*($C$58/$B$58)*($C$42/$B$42)*$C$45*PI())/1000)*($C$43/$B$43) -> 154.83613 | K76: =((A76*60*($C$60/$B$60)*($C$42/$B$42)*$C$45*PI())/1000)*($C$43/$B$43) -> 170.78895 | M76: =(D76*1000)/(F76*(1000/3600)) -> 2787.3869 | N76: =(D76*1000)/(G76*(1000/3600)) -> 1960.1361 | O76: =(D76*1000)/(H76*(1000/3600)) -> 1589.2996 | P76: =(D76*1000)/(I76*(1000/3600)) -> 1382.6906 | Q76: =(D76*1000)/(J76*(1000/3600)) -> 1213.6469 | R76: =(D76*1000)/(K76*(1000/3600)) -> 1100.2843 | T76: =(M77-M76)/(F77-F76) -> -8.9530431 | U76: =(N77-N76)/(G77-G76) -> -4.4273986 | V76: =(O77-O76)/(H77-H76) -> -2.9106346 | W76: =(P77-P76)/(I77-I76) -> -2.2030593 | X76: =(Q77-Q76)/(J77-J76) -> -1.6973089 | Y76: =(R77-R76)/(K77-K76) -> -1.3950379 | AA76: =F76*0.278 -> 18.74184 | AB76: =G76*0.278 -> 26.651598 | AC76: =H76*0.278 -> 32.870304 | AD76: =I76*0.278 -> 37.781958 | AE76: =J76*0.278 -> 43.044445 | AF76: =K76*0.278 -> 47.479328 | AG76: =AG75+500 -> 9000 | AH76: =C76*(AN76/AA76) -> 2054.1831 | AI76: =C76*(AN76/AB76) -> 1444.5352 | AJ76: =C76*(AN76/AC76) -> 1171.2448 | AK76: =C76*(AN76/AD76) -> 1018.9829 | AL76: =C76*(AN76/AE76) -> 894.40508 | AM76: =C76*(AN76/AF76) -> 810.86175 | AN76: =AG76*((2*PI())/60) -> 942.4778 | AP76: =AH76/$P$7 -> 8.1839964 | AQ76: =AI76/$P$7 -> 5.7551203 | AR76: =AJ76/$P$7 -> 4.6663138 | AS76: =AK76/$P$7 -> 4.059693 | AT76: =AL76/$P$7 -> 3.5633669 | AU76: =AM76/$P$7 -> 3.2305249 | AW76: =0.5*'Zx6r Predicted Values'!$M$5*'Zx6r Predicted Values'!$M$6*0.47*('Zx6r Power Map + Gearing'!AA76^2) -> 38.532142 | AX76: =0.5*'Zx6r Predicted Values'!$M$5*'Zx6r Predicted Values'!$M$6*0.47*('Zx6r Power Map + Gearing'!AB76^2) -> 77.919329 | AY76: =0.5*'Zx6r Predicted Values'!$M$5*'Zx6r Predicted Values'!$M$6*0.47*('Zx6r Power Map + Gearing'!AC76^2) -> 118.52396 | AZ76: =0.5*'Zx6r Predicted Values'!$M$5*'Zx6r Predicted Values'!$M$6*0.47*('Zx6r Power Map + Gearing'!AD76^2) -> 156.5913 | BA76: =0.5*'Zx6r Predicted Values'!$M$5*'Zx6r Predicted Values'!$M$6*0.47*('Zx6r Power Map + Gearing'!AE76^2) -> 203.25112 | BB76: =0.5*'Zx6r Predicted Values'!$M$5*'Zx6r Predicted Values'!$M$6*0.47*('Zx6r Power Map + Gearing'!AF76)^2 -> 247.29073 | BC76: =BC75+500 -> 9000 | BD76: =M76-AW76 -> 2748.8548 | BE76: =N76-AX76-'Zx6r Predicted Values'!$G$9 -> 1832.9706 | BF76: =O76-AY76-'Zx6r Predicted Values'!$G$9 -> 1421.5294 | BG76: =P76-AZ76-'Zx6r Predicted Values'!$G$9 -> 1176.8531 | BH76: =Q76-BA76-'Zx6r Predicted Values'!$G$9 -> 961.14962 | BI76: =R76-BB76-'Zx6r Predicted Values'!$G$9 -> 803.74738 | BK76: =BD76/$P$7 -> 10.951613 | BL76: =BE76/$P$7 -> 7.3026717 | BM76: =BF76/$P$7 -> 5.6634637 | BN76: =BG76/$P$7 -> 4.6886578 | BO76: =BH76/$P$7 -> 3.8292813 | BP76: =BI76/$P$7 -> 3.2021808
A77: =A76+500 -> 9500 | B77: 73 | C77: =(B77*5252)/A77 -> 40.357474 | D77: =0.7457*B77 -> 54.4361 | F77: =((A77*60*($C$50/$B$50)*($C$42/$B$42)*$C$45*PI())/1000)*($C$43/$B$43) -> 71.162062 | G77: =((A77*60*($C$52/$B$52)*($C$42/$B$42)*$C$45*PI())/1000)*($C$43/$B$43) -> 101.19511 | H77: =((A77*60*($C$54/$B$54)*($C$42/$B$42)*$C$45*PI())/1000)*($C$43/$B$43) -> 124.80731 | I77: =((A77*60*($C$56/$B$56)*($C$42/$B$42)*$C$45*PI())/1000)*($C$43/$B$43) -> 143.45668 | J77: =((A77*60*($C$58/$B$58)*($C$42/$B$42)*$C$45*PI())/1000)*($C$43/$B$43) -> 163.43814 | K77: =((A77*60*($C$60/$B$60)*($C$42/$B$42)*$C$45*PI())/1000)*($C$43/$B$43) -> 180.27722 | M77: =(D77*1000)/(F77*(1000/3600)) -> 2753.8544 | N77: =(D77*1000)/(G77*(1000/3600)) -> 1936.5555 | O77: =(D77*1000)/(H77*(1000/3600)) -> 1570.1802 | P77: =(D77*1000)/(I77*(1000/3600)) -> 1366.0567 | Q77: =(D77*1000)/(J77*(1000/3600)) -> 1199.0467 | R77: =(D77*1000)/(K77*(1000/3600)) -> 1087.0478 | T77: =(M78-M77)/(F78-F77) -> 30.216521 | U77: =(N78-N77)/(G78-G77) -> 14.94247 | V77: =(O78-O77)/(H78-H77) -> 9.8233918 | W77: =(P78-P77)/(I78-I77) -> 7.4353252 | X77: =(Q78-Q77)/(J78-J77) -> 5.7284175 | Y77: =(R78-R77)/(K78-K77) -> 4.7082529 | AA77: =F77*0.278 -> 19.783053 | AB77: =G77*0.278 -> 28.132242 | AC77: =H77*0.278 -> 34.696432 | AD77: =I77*0.278 -> 39.880956 | AE77: =J77*0.278 -> 45.435803 | AF77: =K77*0.278 -> 50.117068 | AG77: =AG76+500 -> 9500 | AH77: =C77*(AN77/AA77) -> 2029.4711 | AI77: =C77*(AN77/AB77) -> 1427.1573 | AJ77: =C77*(AN77/AC77) -> 1157.1546 | AK77: =C77*(AN77/AD77) -> 1006.7245 | AL77: =C77*(AN77/AE77) -> 883.64532 | AM77: =C77*(AN77/AF77) -> 801.10702 | AN77: =AG77*((2*PI())/60) -> 994.83767 | AP77: =AH77/$P$7 -> 8.0855423 | AQ77: =AI77/$P$7 -> 5.6858858 | AR77: =AJ77/$P$7 -> 4.6101776 | AS77: =AK77/$P$7 -> 4.0108546 | AT77: =AL77/$P$7 -> 3.5204993 | AU77: =AM77/$P$7 -> 3.1916614 | AW77: =0.5*'Zx6r Predicted Values'!$M$5*'Zx6r Predicted Values'!$M$6*0.47*('Zx6r Power Map + Gearing'!AA77^2) -> 42.932418 | AX77: =0.5*'Zx6r Predicted Values'!$M$5*'Zx6r Predicted Values'!$M$6*0.47*('Zx6r Power Map + Gearing'!AB77^2) -> 86.817524 | AY77: =0.5*'Zx6r Predicted Values'!$M$5*'Zx6r Predicted Values'!$M$6*0.47*('Zx6r Power Map + Gearing'!AC77^2) -> 132.0591 | AZ77: =0.5*'Zx6r Predicted Values'!$M$5*'Zx6r Predicted Values'!$M$6*0.47*('Zx6r Power Map + Gearing'!AD77^2) -> 174.47364 | BA77: =0.5*'Zx6r Predicted Values'!$M$5*'Zx6r Predicted Values'!$M$6*0.47*('Zx6r Power Map + Gearing'!AE77^2) -> 226.46189 | BB77: =0.5*'Zx6r Predicted Values'!$M$5*'Zx6r Predicted Values'!$M$6*0.47*('Zx6r Power Map + Gearing'!AF77)^2 -> 275.53072 | BC77: =BC76+500 -> 9500 | BD77: =M77-AW77 -> 2710.922 | BE77: =N77-AX77-'Zx6r Predicted Values'!$G$9 -> 1800.4918 | BF77: =O77-AY77-'Zx6r Predicted Values'!$G$9 -> 1388.8749 | BG77: =P77-AZ77-'Zx6r Predicted Values'!$G$9 -> 1142.3369 | BH77: =Q77-BA77-'Zx6r Predicted Values'!$G$9 -> 923.33858 | BI77: =R77-BB77-'Zx6r Predicted Values'!$G$9 -> 762.27089 | BK77: =BD77/$P$7 -> 10.800486 | BL77: =BE77/$P$7 -> 7.1732741 | BM77: =BF77/$P$7 -> 5.533366 | BN77: =BG77/$P$7 -> 4.551143 | BO77: =BH77/$P$7 -> 3.6786397 | BP77: =BI77/$P$7 -> 3.0369358
... A87: =A86+500 -> 14500 | B87: 100 | C87: =(B87*5252)/A87 -> 36.22069 | D87: =0.7457*B87 -> 74.57 | F87: =((A87*60*($C$50/$B$50)*($C$42/$B$42)*$C$45*PI())/1000)*($C$43/$B$43) -> 108.61578 | G87: =((A87*60*($C$52/$B$52)*($C$42/$B$42)*$C$45*PI())/1000)*($C$43/$B$43) -> 154.4557 | H87: =((A87*60*($C$54/$B$54)*($C$42/$B$42)*$C$45*PI())/1000)*($C$43/$B$43) -> 190.49537 | I87: =((A87*60*($C$56/$B$56)*($C$42/$B$42)*$C$45*PI())/1000)*($C$43/$B$43) -> 218.96019 | J87: =((A87*60*($C$58/$B$58)*($C$42/$B$42)*$C$45*PI())/1000)*($C$43/$B$43) -> 249.45822 | K87: =((A87*60*($C$60/$B$60)*($C$42/$B$42)*$C$45*PI())/1000)*($C$43/$B$43) -> 275.15997 | M87: =(D87*1000)/(F87*(1000/3600)) -> 2471.5746 | N87: =(D87*1000)/(G87*(1000/3600)) -> 1738.0517 | O87: =(D87*1000)/(H87*(1000/3600)) -> 1409.2311 | P87: =(D87*1000)/(I87*(1000/3600)) -> 1226.0311 | Q87: =(D87*1000)/(J87*(1000/3600)) -> 1076.1401 | R87: =(D87*1000)/(K87*(1000/3600)) -> 975.62155 | T87: =(M88-M87)/(F88-F87) -> 22.755208 | U87: =(N88-N87)/(G88-G87) -> 11.252752 | V87: =(O88-O87)/(H88-H87) -> 7.3977187 | W87: =(P88-P87)/(I88-I87) -> 5.5993333 | X87: =(Q88-Q87)/(J88-J87) -> 4.3139094 | Y87: =(R88-R87)/(K88-K87) -> 3.5456522 | AA87: =F87*0.278 -> 30.195186 | AB87: =G87*0.278 -> 42.938685 | AC87: =H87*0.278 -> 52.957712 | AD87: =I87*0.278 -> 60.870933 | AE87: =J87*0.278 -> 69.349384 | AF87: =K87*0.278 -> 76.494472 | AG87: =AG86+500 -> 14500 | AH87: =C87*(AN87/AA87) -> 1821.4431 | AI87: =C87*(AN87/AB87) -> 1280.8686 | AJ87: =C87*(AN87/AC87) -> 1038.5421 | AK87: =C87*(AN87/AD87) -> 903.53167 | AL87: =C87*(AN87/AE87) -> 793.06855 | AM87: =C87*(AN87/AF87) -> 718.99072 | AN87: =AG87*((2*PI())/60) -> 1518.4364 | AP87: =AH87/$P$7 -> 7.2567456 | AQ87: =AI87/$P$7 -> 5.1030623 | AR87: =AJ87/$P$7 -> 4.1376181 | AS87: =AK87/$P$7 -> 3.5997278 | AT87: =AL87/$P$7 -> 3.1596356 | AU87: =AM87/$P$7 -> 2.8645048 | AW87: =0.5*'Zx6r Predicted Values'!$M$5*'Zx6r Predicted Values'!$M$6*0.47*('Zx6r Power Map + Gearing'!AA87^2) -> 100.01707 | AX87: =0.5*'Zx6r Predicted Values'!$M$5*'Zx6r Predicted Values'!$M$6*0.47*('Zx6r Power Map + Gearing'!AB87^2) -> 202.25357 | AY87: =0.5*'Zx6r Predicted Values'!$M$5*'Zx6r Predicted Values'!$M$6*0.47*('Zx6r Power Map + Gearing'!AC87^2) -> 307.65015 | AZ87: =0.5*'Zx6r Predicted Values'!$M$5*'Zx6r Predicted Values'!$M$6*0.47*('Zx6r Power Map + Gearing'!AD87^2) -> 406.46076 | BA87: =0.5*'Zx6r Predicted Values'!$M$5*'Zx6r Predicted Values'!$M$6*0.47*('Zx6r Power Map + Gearing'!AE87^2) -> 527.57466 | BB87: =0.5*'Zx6r Predicted Values'!$M$5*'Zx6r Predicted Values'!$M$6*0.47*('Zx6r Power Map + Gearing'!AF87)^2 -> 641.88735 | BC87: =BC86+500 -> 14500 | BD87: =M87-AW87 -> 2371.5575 | BE87: =N87-AX87-'Zx6r Predicted Values'!$G$9 -> 1486.552 | BF87: =O87-AY87-'Zx6r Predicted Values'!$G$9 -> 1052.3348 | BG87: =P87-AZ87-'Zx6r Predicted Values'!$G$9 -> 770.32413 | BH87: =Q87-BA87-'Zx6r Predicted Values'!$G$9 -> 499.31928 | BI87: =R87-BB87-'Zx6r Predicted Values'!$G$9 -> 284.488 | BK87: =BD87/$P$7 -> 9.4484364 | BL87: =BE87/$P$7 -> 5.9225178 | BM87: =BF87/$P$7 -> 4.1925689 | BN87: =BG87/$P$7 -> 3.0690204 | BO87: =BH87/$P$7 -> 1.9893198 | BP87: =BI87/$P$7 -> 1.1334183
F89: Max Theoretical Speed (Kph) = | G89: =K87 -> 275.15997 | I89: Actual Max Speed kph = | K89: 266.51 | M89: Max Driving Force (N) = | N89: =MAX(M65:R87) -> 3062.5056 | AA89: Max (m/s) = | AB89: =MAX(AA65:AF87) -> 76.494472 | AH89: Max (n) | AI89: =MAX(AH65:AM87) -> 2256.9336 | AP89: Max = | AQ89: =MAX(AP65:AU87) -> 8.9917675 | AW89: Max (n) | AX89: =MAX(AW65:BB87) -> 641.88735 | BD89: Max = | BE89: =MAX(BD65:BI87) -> 3004.9453 | BF89: n | BK89: MAX = | BL89: =MAX(BK65:BP87) -> 11.971893 | BM89: m/s
F90: Max theoretical Speed( Mph) = | G90: =G89*0.6214 -> 170.98441 | I90: Actual Max Speed Mph = | K90: =K89*0.6214 -> 165.60931 | M90: Mean Average Driving Force (N) = | N90: =AVERAGE(M65:R87) -> 1551.7058 | AH90: Mean (n) | AI90: =AVERAGE(AH65:AM87) -> 1143.5397 | AW90: Mean (n) | AX90: =AVERAGE(AW65:BB87) -> 159.4115 | BD90: Mean = | BE90: =AVERAGE(BD65:BI87) -> 1350.8989 | BF90: n | BK90: Mean = | BL90: =AVERAGE(BK65:BP87) -> 5.3820673 | BM90: m/s
F91: Differences due to opposing forces eg. aero drag, rolling resistance, friction, chain slack etc. or tyre wear
V122: Actual Dyno Graph produced 05/03/2020 @ UWTSD for Kawasaki ZX6R 636cc C1 2005

Sheet 2D Lap Tech 3 Yamaha
A1: distance (m) | B1: Running Time | C1: Time Taken for Section(s) | D1: Action | E1: Entry Velocity (Kph) | F1: Exit Velocity (Kph) | G1: Lean Angle | K1: entry m/s | L1: exit m/s
A2: 0-296 | B2: =C2 -> 4.86 | C2: 4.86 | D2: Acceleration | E2: 177.1 | F2: 264.9 | G2: 0 | I2: Tech 3 Yamaha | K2: =E2*0.6214 -> 110.04994 | L2: =F2*0.6214 -> 164.60886
A3: 296-524 | B3: =C3+C2 -> 9.82 | C3: 4.96 | D3: Braking | E3: 164.9 | F3: 108.2 | G3: 0 | K3: =E3*0.6214 -> 102.46886 | L3: =F3*0.6214 -> 67.23548
A4: 525-677 | B4: =B3+C4 -> 14.74 | C4: 4.92 | D4: RH Corner (1) | E4: 108.2 | F4: 108.2 | G4: -55 | I4: Data From 2D | K4: =E4*0.6214 -> 67.23548 | L4: =F4*0.6214 -> 67.23548
A5: 678-947 | B5: =B4+C5 -> 19.46 | C5: 4.72 | D5: Acceleration | E5: 108.2 | F5: 265.3 | G5: 0 | K5: =E5*0.6214 -> 67.23548 | L5: =F5*0.6214 -> 164.85742
A6: 948-1188 | B6: =B5+C6 -> 24.81 | C6: 5.35 | D6: Braking | E6: 265.3 | F6: 94.4 | G6: 0 | I6: Sections Split into Accelerating and Braking | K6: =E6*0.6214 -> 164.85742 | L6: =F6*0.6214 -> 58.66016
A7: 1189-1455 | B7: =B6+C7 -> 32.04 | C7: 7.23 | D7: LH Corner (2+3) | E7: 94.4 | F7: 94.4 | G7: 54 | K7: =E7*0.6214 -> 58.66016 | L7: =F7*0.6214 -> 58.66016
A8: 1456-1664 | B8: =B7+C8 -> 35.41 | C8: 3.37 | D8: Acceleration | E8: 94.4 | F8: 263 | G8: 0 | I8: Corners Assumed to Have Constant Acceleration | K8: =E8*0.6214 -> 58.66016 | L8: =F8*0.6214 -> 163.4282
A9: 1665-1900 | B9: =B8+C9 -> 40.95 | C9: 5.54 | D9: Braking | E9: 263 | F9: 85.6 | G9: 0 | K9: =E9*0.6214 -> 163.4282 | L9: =F9*0.6214 -> 53.19184
A10: 1901-1961 | B10: =B9+C10 -> 43.26 | C10: 2.31 | D10: RH Corner (4) | E10: 85.6 | F10: 85.6 | G10: -55 | K10: =E10*0.6214 -> 53.19184 | L10: =F10*0.6214 -> 53.19184
A11: 1962-2121 | B11: =B10+C11 -> 47.4 | C11: 4.14 | D11: Acceleration | E11: 85.6 | F11: 222.6 | G11: 0 | K11: =E11*0.6214 -> 53.19184 | L11: =F11*0.6214 -> 138.32364
A12: 2122-2302 | B12: =B11+C12 -> 50.62 | C12: 3.22 | D12: RH Corner (5) | E12: 222.6 | F12: 222.6 | G12: -58 | K12: =E12*0.6214 -> 138.32364 | L12: =F12*0.6214 -> 138.32364
A13: 2304-237 | B13: =B12+C13 -> 51.77 | C13: 1.15 | D13: Acceleration | E13: 222.6 | F13: 242.6 | G13: 0 | K13: =E13*0.6214 -> 138.32364 | L13: =F13*0.6214 -> 150.75164
A14: 2374-2564 | B14: =B13+C14 -> 55.89 | C14: 4.12 | D14: Braking | E14: 242.6 | F14: 119.9 | G14: 0 | K14: =E14*0.6214 -> 150.75164 | L14: =F14*0.6214 -> 74.50586
A15: 2565-2639 | B15: =B14+C15 -> 58.11 | C15: 2.22 | D15: LH Corner (6) | E15: 119.9 | F15: 119.9 | G15: 56 | K15: =E15*0.6214 -> 74.50586 | L15: =F15*0.6214 -> 74.50586
A16: 2640-2764 | B16: =B15+C16 -> 61.51 | C16: 3.4 | D16: RH Corner | E16: 119.9 | F16: 119.9 | G16: -50 | K16: =E16*0.6214 -> 74.50586 | L16: =F16*0.6214 -> 74.50586
A17: 2765-2866 | B17: =B16+C17 -> 63.82 | C17: 2.31 | D17: Acceleration | E17: 119.9 | F17: 206.6 | G17: 0 | K17: =E17*0.6214 -> 74.50586 | L17: =F17*0.6214 -> 128.38124
A18: 2867-3009 | B18: =B17+C18 -> 67.82 | C18: 4 | D18: Braking | E18: 206.6 | F18: 82.2 | G18: 0 | K18: =E18*0.6214 -> 128.38124 | L18: =F18*0.6214 -> 51.07908
A19: 3010-3096 | B19: =B18+C19 -> 70.92 | C19: 3.1 | D19: LH Corner (8) | E19: 82.2 | F19: 82.2 | G19: 54 | K19: =E19*0.6214 -> 51.07908 | L19: =F19*0.6214 -> 51.07908
A20: 3097-3254 | B20: =B19+C20 -> 74.15 | C20: 3.23 | D20: Acceleration | E20: 82.2 | F20: 222.4 | G20: 0 | K20: =E20*0.6214 -> 51.07908 | L20: =F20*0.6214 -> 138.19936
... A30: 4703 - Lap End | B30: =B29+C30 -> 110.71 | C30: 2.3 | D30: Acceleration | E30: 89.9 | F30: 176.3 | G30: 0 | K30: =E30*0.6214 -> 55.86386 | L30: =F30*0.6214 -> 109.55282
A32: Fastest Lap | C32: =SUM(C2:C30) -> 110.71 | D32: Total Time (s)

Sheet Zx6r theoretical lap
A1: Lap Simulation - Insert Corresponding Data From 'Zx6r Power Map + Gearing' and enter values produced in 'Zx6r Predicted Values for Analysis
A3: Section | B3: Track Distance (m) | C3: Time (s) | D3: lap time runnng | E3: RPM | F3: Gear | G3: Vehicle Velocity (kph) | H3: V.Vel (M/s) | I3: Lean Angle (deg) | K3: Rolling Resistance | L3: Aero Drag Force (N) | M3: Driving Force (N) | N3: NET Driving Force (N) | P3: Acceleration (m/s) | Q3: Wheelie LTD Accel. | R3: Traction LTD Accel.
A4: Lap Starts | B4: 1 | C4: =1/H4 -> 0.02031125 | D4: =C4 -> 0.02031125 | G4: 177.1 | H4: =G4*0.278 -> 49.2338 | I4: 0 | K4: ='Zx6r Predicted Values'!M12 -> 49.2462 | L4: ='Zx6r Power Map + Gearing'!AY85 -> 266.6789 | M4: ='Zx6r Power Map + Gearing'!O85 -> 1634.7081 | N4: ='Zx6r Power Map + Gearing'!BF85 -> 1318.783 | P4: =LOOKUP(H4,Sheet1!B3:B140,Sheet1!C2:C140) -> 5.6661994
B5: =B4+1 -> 2 | C5: =1/H5 -> 0.020263881 | D5: =D4+C5 -> 0.040575131 | G5: =H5/0.278 -> 177.51398 | H5: =H4+(P4*C4) -> 49.348888 | P5: =LOOKUP(H5,Sheet1!B4:B141,Sheet1!C3:C141) -> 3.1686285
B6: =B5+1 -> 3 | C6: =1/H6 -> 0.02023755 | D6: =D5+C6 -> 0.060812681 | G6: =H6/0.278 -> 177.74495 | H6: =H5+(P5*C5) -> 49.413096 | P6: =LOOKUP(H6,Sheet1!B5:B142,Sheet1!C4:C142) -> 3.1686285
B7: =B6+1 -> 4 | C7: =1/H7 -> 0.020211321 | D7: =D6+C7 -> 0.081024002 | G7: =H7/0.278 -> 177.97562 | H7: =H6+(P6*C6) -> 49.477222 | P7: =LOOKUP(H7,Sheet1!B6:B143,Sheet1!C5:C143) -> 4.9242926
B8: =B7+1 -> 5 | C8: =1/H8 -> 0.020170746 | D8: =D7+C8 -> 0.10119475 | G8: =H8/0.278 -> 178.33363 | H8: =H7+(P7*C7) -> 49.576748 | P8: =LOOKUP(H8,Sheet1!B7:B144,Sheet1!C6:C144) -> 4.9242926
B9: =B8+1 -> 6 | C9: =1/H9 -> 0.020130415 | D9: =D8+C9 -> 0.12132516 | G9: =H9/0.278 -> 178.69092 | H9: =H8+(P8*C8) -> 49.676075 | P9: =LOOKUP(H9,Sheet1!B8:B145,Sheet1!C7:C145) -> 4.9242926
B10: =B9+1 -> 7 | C10: =1/H10 -> 0.020090325 | D10: =D9+C10 -> 0.14141549 | G10: =H10/0.278 -> 179.04749 | H10: =H9+(P9*C9) -> 49.775203 | P10: =LOOKUP(H10,Sheet1!B9:B146,Sheet1!C8:C146) -> 4.9242926
B11: =B10+1 -> 8 | C11: =1/H11 -> 0.020050474 | D11: =D10+C11 -> 0.16146596 | G11: =H11/0.278 -> 179.40336 | H11: =H10+(P10*C10) -> 49.874133 | P11: =LOOKUP(H11,Sheet1!B10:B147,Sheet1!C9:C147) -> 3.6786397
B12: =B11+1 -> 9 | C12: =1/H12 -> 0.020020865 | D12: =D11+C12 -> 0.18148683 | G12: =H12/0.278 -> 179.66868 | H12: =H11+(P11*C11) -> 49.947892 | P12: =LOOKUP(H12,Sheet1!B11:B148,Sheet1!C10:C148) -> 3.6786397
B13: =B12+1 -> 10 | C13: =1/H13 -> 0.019991387 | D13: =D12+C13 -> 0.20147821 | G13: =H13/0.278 -> 179.9336 | H13: =H12+(P12*C12) -> 50.021541 | P13: =LOOKUP(H13,Sheet1!B12:B149,Sheet1!C11:C149) -> 3.6786397
B14: =B13+1 -> 11 | C14: =1/H14 -> 0.019962039 | D14: =D13+C14 -> 0.22144025 | G14: =H14/0.278 -> 180.19814 | H14: =H13+(P13*C13) -> 50.095083 | P14: =LOOKUP(H14,Sheet1!B13:B150,Sheet1!C12:C150) -> 3.6786397
B15: =B14+1 -> 12 | C15: =1/H15 -> 0.01993282 | D15: =D14+C15 -> 0.24137307 | G15: =H15/0.278 -> 180.46229 | H15: =H14+(P14*C14) -> 50.168516 | P15: =LOOKUP(H15,Sheet1!B14:B151,Sheet1!C13:C151) -> 3.6786397
B16: =B15+1 -> 13 | C16: =1/H16 -> 0.019903729 | D16: =D15+C16 -> 0.2612768 | G16: =H16/0.278 -> 180.72605 | H16: =H15+(P15*C15) -> 50.241841 | P16: =LOOKUP(H16,Sheet1!B15:B152,Sheet1!C14:C152) -> 3.2021808
... B133: =B132+1 -> 130 | C133: =1/H133 -> 0.017379271 | D133: =D132+C133 -> 2.4259248 | G133: =H133/0.278 -> 206.97774 | H133: =H132+(P132*C132) -> 57.539812 | P133: =LOOKUP(H133,Sheet1!B132:B269,Sheet1!C131:C269) -> 3.0963251
B134: =B133+1 -> 131 | C134: =1/H134 -> 0.017363033 | D134: =D133+C134 -> 2.4432878 | G134: =H134/0.278 -> 207.17131 | H134: =H133+(P133*C133) -> 57.593624 | P134: =LOOKUP(H134,Sheet1!B3:B140,Sheet1!C3:C140) -> 3.1326823
B135: =B134+1 -> 132 | C135: =1/H135 -> 0.017346651 | D135: =D134+C135 -> 2.4606344 | G135: =H135/0.278 -> 207.36697 | H135: =H134+(P134*C134) -> 57.648016 | P135: =LOOKUP(H135,Sheet1!B4:B141,Sheet1!C4:C141) -> 3.1326823
B136: =B135+1 -> 133 | C136: =1/H136 -> 0.017330314 | D136: =D135+C136 -> 2.4779648 | G136: =H136/0.278 -> 207.56244 | H136: =H135+(P135*C135) -> 57.702358 | P136: =LOOKUP(H136,Sheet1!B5:B142,Sheet1!C5:C142) -> 3.1326823
B137: =B136+1 -> 134 | C137: =1/H137 -> 0.017314024 | D137: =D136+C137 -> 2.4952788 | G137: =H137/0.278 -> 207.75773 | H137: =H136+(P136*C136) -> 57.756648 | P137: =LOOKUP(H137,Sheet1!B6:B143,Sheet1!C6:C143) -> 3.1326823
B138: =B137+1 -> 135 | C138: =1/H138 -> 0.01729778 | D138: =D137+C138 -> 2.5125766 | G138: =H138/0.278 -> 207.95283 | H138: =H137+(P137*C137) -> 57.810888 | P138: =LOOKUP(H138,Sheet1!B7:B144,Sheet1!C7:C144) -> 3.1326823
B139: =B138+1 -> 136 | C139: =1/H139 -> 0.017281581 | D139: =D138+C139 -> 2.5298581 | G139: =H139/0.278 -> 208.14776 | H139: =H138+(P138*C138) -> 57.865076 | P139: =LOOKUP(H139,Sheet1!B8:B145,Sheet1!C8:C145) -> 3.1326823
B140: =B139+1 -> 137 | C140: =1/H140 -> 0.017265428 | D140: =D139+C140 -> 2.5471236 | G140: =H140/0.278 -> 208.3425 | H140: =H139+(P139*C139) -> 57.919214 | P140: =LOOKUP(H140,Sheet1!B9:B146,Sheet1!C9:C146) -> 3.1326823
B141: =B140+1 -> 138 | C141: =1/H141 -> 0.01724932 | D141: =D140+C141 -> 2.5643729 | G141: =H141/0.278 -> 208.53705 | H141: =H140+(P140*C140) -> 57.973301 | P141: =LOOKUP(H141,Sheet1!B10:B147,Sheet1!C10:C147) -> 3.5448386
B142: =B141+1 -> 139 | C142: =1/H142 -> 0.017231146 | D142: =D141+C142 -> 2.581604 | G142: =H142/0.278 -> 208.757 | H142: =H141+(P141*C141) -> 58.034447 | P142: =LOOKUP(H142,Sheet1!B11:B148,Sheet1!C11:C148) -> 3.5448386
B143: =B142+1 -> 140 | C143: =1/H143 -> 0.017213029 | D143: =D142+C143 -> 2.5988171 | G143: =H143/0.278 -> 208.97672 | H143: =H142+(P142*C142) -> 58.095529 | P143: =LOOKUP(H143,Sheet1!B12:B149,Sheet1!C12:C149) -> 3.5448386
B144: =B143+1 -> 141 | C144: =1/H144 -> 0.017194969 | D144: =D143+C144 -> 2.616012 | G144: =H144/0.278 -> 209.19621 | H144: =H143+(P143*C143) -> 58.156546 | P144: =LOOKUP(H144,Sheet1!B13:B150,Sheet1!C13:C150) -> 3.5448386
B145: =B144+1 -> 142 | C145: =1/H145 -> 0.017176966 | D145: =D144+C145 -> 2.633189 | G145: =H145/0.278 -> 209.41547 | H145: =H144+(P144*C144) -> 58.217499 | P145: =LOOKUP(H145,Sheet1!B14:B151,Sheet1!C14:C151) -> 3.5448386
... B266: =B265+1 -> 263 | C266: =1/H266 -> 0.015572891 | D266: =D265+C266 -> 4.6061727 | G266: =H266/0.278 -> 230.98616 | H266: =H265+(P265*C265) -> 64.214152 | P266: =LOOKUP(H266,Sheet1!B135:B272,Sheet1!C135:C272) -> 2.7490115
B267: =B266+1 -> 264 | C267: =1/H267 -> 0.015562516 | D267: =D266+C267 -> 4.6217352 | G267: =H267/0.278 -> 231.14015 | H267: =H266+(P266*C266) -> 64.256962 | P267: =LOOKUP(H267,Sheet1!B3:B140,Sheet1!C3:C140) -> 2.7490115
B268: =B267+1 -> 265 | C268: =1/H268 -> 0.015552162 | D268: =D267+C268 -> 4.6372873 | G268: =H268/0.278 -> 231.29404 | H268: =H267+(P267*C267) -> 64.299744 | P268: =LOOKUP(H268,Sheet1!B4:B141,Sheet1!C4:C141) -> 2.7490115
B269: =B268+1 -> 266 | C269: =1/H269 -> 0.015541828 | D269: =D268+C269 -> 4.6528292 | G269: =H269/0.278 -> 231.44783 | H269: =H268+(P268*C268) -> 64.342497 | P269: =LOOKUP(H269,Sheet1!B5:B142,Sheet1!C5:C142) -> 2.7490115
B270: =B269+1 -> 267 | C270: =1/H270 -> 0.015531514 | D270: =D269+C270 -> 4.6683607 | G270: =H270/0.278 -> 231.60152 | H270: =H269+(P269*C269) -> 64.385221 | P270: =LOOKUP(H270,Sheet1!B6:B143,Sheet1!C6:C143) -> 2.7490115
B271: =B270+1 -> 268 | C271: =1/H271 -> 0.015521222 | D271: =D270+C271 -> 4.6838819 | G271: =H271/0.278 -> 231.7551 | H271: =H270+(P270*C270) -> 64.427918 | P271: =LOOKUP(H271,Sheet1!B7:B144,Sheet1!C7:C144) -> 2.7490115
B272: =B271+1 -> 269 | C272: =1/H272 -> 0.015510949 | D272: =D271+C272 -> 4.6993928 | G272: =H272/0.278 -> 231.90858 | H272: =H271+(P271*C271) -> 64.470586 | P272: =LOOKUP(H272,Sheet1!B8:B145,Sheet1!C8:C145) -> 2.7490115
B273: =B272+1 -> 270 | C273: =1/H273 -> 0.015500698 | D273: =D272+C273 -> 4.7148935 | G273: =H273/0.278 -> 232.06196 | H273: =H272+(P272*C272) -> 64.513226 | P273: =LOOKUP(H273,Sheet1!B9:B146,Sheet1!C9:C146) -> 2.7490115
B274: =B273+1 -> 271 | C274: =1/H274 -> 0.015490466 | D274: =D273+C274 -> 4.730384 | G274: =H274/0.278 -> 232.21524 | H274: =H273+(P273*C273) -> 64.555837 | P274: =LOOKUP(H274,Sheet1!B10:B147,Sheet1!C10:C147) -> 2.7490115
B275: =B274+1 -> 272 | C275: =1/H275 -> 0.015480255 | D275: =D274+C275 -> 4.7458643 | G275: =H275/0.278 -> 232.36842 | H275: =H274+(P274*C274) -> 64.598421 | P275: =LOOKUP(H275,Sheet1!B11:B148,Sheet1!C11:C148) -> 2.7490115
B276: =B275+1 -> 273 | C276: =1/H276 -> 0.015470063 | D276: =D275+C276 -> 4.7613343 | G276: =H276/0.278 -> 232.5215 | H276: =H275+(P275*C275) -> 64.640976 | P276: =LOOKUP(H276,Sheet1!B12:B149,Sheet1!C12:C149) -> 2.7490115
B277: =B276+1 -> 274 | C277: =1/H277 -> 0.015459892 | D277: =D276+C277 -> 4.7767942 | G277: =H277/0.278 -> 232.67447 | H277: =H276+(P276*C276) -> 64.683503 | P277: =LOOKUP(H277,Sheet1!B13:B150,Sheet1!C13:C150) -> 2.9552245
B278: =B277+1 -> 275 | C278: =1/H278 -> 0.01544898 | D278: =D277+C278 -> 4.7922432 | G278: =H278/0.278 -> 232.83882 | H278: =H277+(P277*C277) -> 64.729191 | P278: =LOOKUP(H278,Sheet1!B14:B151,Sheet1!C14:C151) -> 2.9552245
... B401: =B400+1 -> 398 | C401: =1/H401 -> 0.014395092 | D401: =D400+C401 -> 6.6229977 | G401: =H401/0.278 -> 249.88533 | H401: =H400+(P400*C400) -> 69.468122 | P401: =LOOKUP(H401,Sheet1!B137:B274,Sheet1!C137:C274) -> 2.3437706
B402: =B401+1 -> 399 | C402: =1/H402 -> 0.014388104 | D402: =D401+C402 -> 6.6373858 | G402: =H402/0.278 -> 250.00669 | H402: =H401+(P401*C401) -> 69.50186 | P402: =LOOKUP(H402,Sheet1!B3:B140,Sheet1!C3:C140) -> 2.3437706
B403: =B402+1 -> 400 | C403: =1/H403 -> 0.014381126 | D403: =D402+C403 -> 6.6517669 | G403: =H403/0.278 -> 250.128 | H403: =H402+(P402*C402) -> 69.535583 | P403: =LOOKUP(H403,Sheet1!B4:B141,Sheet1!C4:C141) -> 2.3437706
B404: =B403+1 -> 401 | C404: =1/H404 -> 0.014374159 | D404: =D403+C404 -> 6.6661411 | G404: =H404/0.278 -> 250.24924 | H404: =H403+(P403*C403) -> 69.569289 | P404: =LOOKUP(H404,Sheet1!B5:B142,Sheet1!C5:C142) -> 2.3437706
B405: =B404+1 -> 402 | C405: =1/H405 -> 0.014367201 | D405: =D404+C405 -> 6.6805083 | G405: =H405/0.278 -> 250.37043 | H405: =H404+(P404*C404) -> 69.602979 | P405: =LOOKUP(H405,Sheet1!B6:B143,Sheet1!C6:C143) -> 2.3437706
B406: =B405+1 -> 403 | C406: =1/H406 -> 0.014360254 | D406: =D405+C406 -> 6.6948685 | G406: =H406/0.278 -> 250.49155 | H406: =H405+(P405*C405) -> 69.636652 | P406: =LOOKUP(H406,Sheet1!B7:B144,Sheet1!C7:C144) -> 2.3437706
B407: =B406+1 -> 404 | C407: =1/H407 -> 0.014353317 | D407: =D406+C407 -> 6.7092218 | G407: =H407/0.278 -> 250.61262 | H407: =H406+(P406*C406) -> 69.670309 | P407: =LOOKUP(H407,Sheet1!B8:B145,Sheet1!C8:C145) -> 2.3437706
B408: =B407+1 -> 405 | C408: =1/H408 -> 0.014346389 | D408: =D407+C408 -> 6.7235682 | G408: =H408/0.278 -> 250.73363 | H408: =H407+(P407*C407) -> 69.70395 | P408: =LOOKUP(H408,Sheet1!B9:B146,Sheet1!C9:C146) -> 2.3437706
B409: =B408+1 -> 406 | C409: =1/H409 -> 0.014339472 | D409: =D408+C409 -> 6.7379077 | G409: =H409/0.278 -> 250.85459 | H409: =H408+(P408*C408) -> 69.737575 | P409: =LOOKUP(H409,Sheet1!B10:B147,Sheet1!C10:C147) -> 2.3437706
B410: =B409+1 -> 407 | C410: =1/H410 -> 0.014332565 | D410: =D409+C410 -> 6.7522403 | G410: =H410/0.278 -> 250.97548 | H410: =H409+(P409*C409) -> 69.771183 | P410: =LOOKUP(H410,Sheet1!B11:B148,Sheet1!C11:C148) -> 2.3437706
B411: =B410+1 -> 408 | C411: =1/H411 -> 0.014325667 | D411: =D410+C411 -> 6.7665659 | G411: =H411/0.278 -> 251.09631 | H411: =H410+(P410*C410) -> 69.804775 | P411: =LOOKUP(H411,Sheet1!B12:B149,Sheet1!C12:C149) -> 2.3437706
B412: =B411+1 -> 409 | C412: =1/H412 -> 0.01431878 | D412: =D411+C412 -> 6.7808847 | G412: =H412/0.278 -> 251.21709 | H412: =H411+(P411*C411) -> 69.838351 | P412: =LOOKUP(H412,Sheet1!B13:B150,Sheet1!C13:C150) -> 2.3437706
B413: =B412+1 -> 410 | C413: =1/H413 -> 0.014311903 | D413: =D412+C413 -> 6.7951966 | G413: =H413/0.278 -> 251.33781 | H413: =H412+(P412*C412) -> 69.871911 | P413: =LOOKUP(H413,Sheet1!B14:B151,Sheet1!C14:C151) -> 2.3437706
... B446: =B445+1 -> 443 | C446: =1/H446 -> 0.014090365 | D446: =D445+C446 -> 7.2636948 | G446: =H446/0.278 -> 255.28951 | H446: =H445+(P445*C445) -> 70.970483 | P446: =LOOKUP(H446,Sheet1!B47:B184,Sheet1!C47:C184) -> 2.3437706
B447: =B446+1 -> 444 | C447: =1/H447 -> 0.014250693 | D447: =D446+C447 -> 7.2779455 | G447: =H447/0.278 -> 252.41737 | H447: =H448+(P448*C448) -> 70.172028 | P447: =LOOKUP(H447,Sheet1!B48:B185,Sheet1!C48:C185) -> 2.3437706
B448: =B447+1 -> 445 | C448: =1/H448 -> 0.014257482 | D448: =D447+C448 -> 7.2922029 | G448: =H448/0.278 -> 252.29716 | H448: =H449+(P449*C449) -> 70.138611 | P448: =LOOKUP(H448,Sheet1!B49:B186,Sheet1!C49:C186) -> 2.3437706
B449: =B448+1 -> 446 | C449: =1/H449 -> 0.014264281 | D449: =D448+C449 -> 7.3064672 | G449: =H449/0.278 -> 252.1769 | H449: =H450+(P450*C450) -> 70.105179 | P449: =LOOKUP(H449,Sheet1!B50:B187,Sheet1!C50:C187) -> 2.3437706
B450: =B449+1 -> 447 | C450: =1/H450 -> 0.01427109 | D450: =D449+C450 -> 7.3207383 | G450: =H450/0.278 -> 252.05659 | H450: =H451+(P451*C451) -> 70.071731 | P450: =LOOKUP(H450,Sheet1!B51:B188,Sheet1!C51:C188) -> 2.3437706
B451: =B450+1 -> 448 | C451: =1/H451 -> 0.014277909 | D451: =D450+C451 -> 7.3350162 | G451: =H451/0.278 -> 251.93621 | H451: =H452+(P452*C452) -> 70.038267 | P451: =LOOKUP(H451,Sheet1!B52:B189,Sheet1!C52:C189) -> 2.3437706
A452: Braking Starts | B452: =B451+1 -> 449 | C452: =1/H452 -> 0.014284737 | D452: =D451+C452 -> 7.349301 | G452: =H452/0.278 -> 251.81578 | H452: =H453+(P453*C453) -> 70.004787 | P452: =LOOKUP(H452,Sheet1!B53:B190,Sheet1!C53:C190) -> 2.3437706
B453: =B452+1 -> 450 | C453: =1/H453 -> 0.014291576 | D453: =D452+C453 -> 7.3635925 | G453: =H453/0.278 -> 251.69529 | H453: =H454+(P454*C454) -> 69.97129 | P453: =LOOKUP(H453,Sheet1!B54:B191,Sheet1!C54:C191) -> 2.3437706
B454: =B453+1 -> 451 | C454: =1/H454 -> 0.014298424 | D454: =D453+C454 -> 7.377891 | G454: =H454/0.278 -> 251.57474 | H454: =H455+(P455*C455) -> 69.937778 | P454: =LOOKUP(H454,Sheet1!B55:B192,Sheet1!C55:C192) -> 2.3437706
B455: =B454+1 -> 452 | C455: =1/H455 -> 0.014305282 | D455: =D454+C455 -> 7.3921962 | G455: =H455/0.278 -> 251.45414 | H455: =H456+(P456*C456) -> 69.90425 | P455: =LOOKUP(H455,Sheet1!B56:B193,Sheet1!C56:C193) -> 2.3437706
B456: =B455+1 -> 453 | C456: =1/H456 -> 0.01431215 | D456: =D455+C456 -> 7.4065084 | G456: =H456/0.278 -> 251.33347 | H456: =H457+(P457*C457) -> 69.870706 | P456: =LOOKUP(H456,Sheet1!B57:B194,Sheet1!C57:C194) -> 2.3437706
B457: =B456+1 -> 454 | C457: =1/H457 -> 0.014319027 | D457: =D456+C457 -> 7.4208274 | G457: =H457/0.278 -> 251.21275 | H457: =H458+(P458*C458) -> 69.837145 | P457: =LOOKUP(H457,Sheet1!B58:B195,Sheet1!C58:C195) -> 2.3437706
B458: =B457+1 -> 455 | C458: =1/H458 -> 0.014325915 | D458: =D457+C458 -> 7.4351533 | G458: =H458/0.278 -> 251.09197 | H458: =H459+(P459*C459) -> 69.803568 | P458: =LOOKUP(H458,Sheet1!B59:B196,Sheet1!C59:C196) -> 2.3437706
B459: =B458+1 -> 456 | C459: =1/H459 -> 0.014332813 | D459: =D458+C459 -> 7.4494861 | G459: =H459/0.278 -> 250.97114 | H459: =H460+(P460*C460) -> 69.769976 | P459: =LOOKUP(H459,Sheet1!B60:B197,Sheet1!C60:C197) -> 2.3437706
B460: =B459+1 -> 457 | C460: =1/H460 -> 0.01433972 | D460: =D459+C460 -> 7.4638259 | G460: =H460/0.278 -> 250.85024 | H460: =H461+(P461*C461) -> 69.736367 | P460: =LOOKUP(H460,Sheet1!B61:B198,Sheet1!C61:C198) -> 2.3437706
B461: =B460+1 -> 458 | C461: =1/H461 -> 0.014346638 | D461: =D460+C461 -> 7.4781725 | G461: =H461/0.278 -> 250.72929 | H461: =H462+(P462*C462) -> 69.702741 | P461: =LOOKUP(H461,Sheet1!B62:B199,Sheet1!C62:C199) -> 2.3437706
B462: =B461+1 -> 459 | C462: =1/H462 -> 0.014353566 | D462: =D461+C462 -> 7.4925261 | G462: =H462/0.278 -> 250.60827 | H462: =H463+(P463*C463) -> 69.6691 | P462: =LOOKUP(H462,Sheet1!B63:B200,Sheet1!C63:C200) -> 2.3437706
B463: =B462+1 -> 460 | C463: =1/H463 -> 0.014360503 | D463: =D462+C463 -> 7.5068866 | G463: =H463/0.278 -> 250.4872 | H463: =H464+(P464*C464) -> 69.635442 | P463: =LOOKUP(H463,Sheet1!B64:B201,Sheet1!C64:C201) -> 2.3437706
B464: =B463+1 -> 461 | C464: =1/H464 -> 0.014367451 | D464: =D463+C464 -> 7.521254 | G464: =H464/0.278 -> 250.36607 | H464: =H465+(P465*C465) -> 69.601768 | P464: =LOOKUP(H464,Sheet1!B65:B202,Sheet1!C65:C202) -> 2.3437706
... B528: =B527+1 -> 525 | C528: =1/H528 -> 0.014863577 | D528: =D527+C528 -> 8.4562433 | G528: =H528/0.278 -> 242.00919 | H528: =H529+(P529*C529) -> 67.278556 | P528: =LOOKUP(H528,Sheet1!B129:B266,Sheet1!C129:C266) -> 2.5924971
A529: corner 1 | B529: =B528+1 -> 526 | C529: =1/H529 -> 0.0148721 | D529: =D528+C529 -> 8.4711154 | G529: =H529/0.278 -> 241.8705 | H529: 67.24 | P529: =LOOKUP(H529,Sheet1!B130:B267,Sheet1!C130:C267) -> 2.5924971
B530: =B529+1 -> 527 | C530: =1/H530 -> 0.0148721 | D530: =D529+C530 -> 8.4859875 | G530: =H530/0.278 -> 241.8705 | H530: 67.24 | P530: =LOOKUP(H530,Sheet1!B131:B268,Sheet1!C131:C268) -> 2.5924971
B531: =B530+1 -> 528 | C531: =1/H531 -> 0.0148721 | D531: =D530+C531 -> 8.5008596 | G531: =H531/0.278 -> 241.8705 | H531: 67.24 | P531: =LOOKUP(H531,Sheet1!B132:B269,Sheet1!C132:C269) -> 2.5924971
B532: =B531+1 -> 529 | C532: =1/H532 -> 0.0148721 | D532: =D531+C532 -> 8.5157317 | G532: =H532/0.278 -> 241.8705 | H532: 67.24 | P532: =LOOKUP(H532,Sheet1!B133:B270,Sheet1!C133:C270) -> 2.5924971
B533: =B532+1 -> 530 | C533: =1/H533 -> 0.0148721 | D533: =D532+C533 -> 8.5306038 | G533: =H533/0.278 -> 241.8705 | H533: 67.24 | P533: =LOOKUP(H533,Sheet1!B134:B271,Sheet1!C134:C271) -> 2.5924971
B534: =B533+1 -> 531 | C534: =1/H534 -> 0.0148721 | D534: =D533+C534 -> 8.5454759 | G534: =H534/0.278 -> 241.8705 | H534: 67.24 | P534: =LOOKUP(H534,Sheet1!B135:B272,Sheet1!C135:C272) -> 2.5924971
B535: =B534+1 -> 532 | C535: =1/H535 -> 0.0148721 | D535: =D534+C535 -> 8.560348 | G535: =H535/0.278 -> 241.8705 | H535: 67.24 | P535: =LOOKUP(H535,Sheet1!B136:B273,Sheet1!C136:C273) -> 2.5924971
B536: =B535+1 -> 533 | C536: =1/H536 -> 0.0148721 | D536: =D535+C536 -> 8.5752201 | G536: =H536/0.278 -> 241.8705 | H536: 67.24 | P536: =LOOKUP(H536,Sheet1!B3:B140,Sheet1!C3:C140) -> 2.5924971
B537: =B536+1 -> 534 | C537: =1/H537 -> 0.0148721 | D537: =D536+C537 -> 8.5900922 | G537: =H537/0.278 -> 241.8705 | H537: 67.24 | P537: =LOOKUP(H537,Sheet1!B4:B141,Sheet1!C4:C141) -> 2.5924971
B538: =B537+1 -> 535 | C538: =1/H538 -> 0.0148721 | D538: =D537+C538 -> 8.6049643 | G538: =H538/0.278 -> 241.8705 | H538: 67.24 | P538: =LOOKUP(H538,Sheet1!B5:B142,Sheet1!C5:C142) -> 2.5924971
B539: =B538+1 -> 536 | C539: =1/H539 -> 0.0148721 | D539: =D538+C539 -> 8.6198364 | G539: =H539/0.278 -> 241.8705 | H539: 67.24 | P539: =LOOKUP(H539,Sheet1!B6:B143,Sheet1!C6:C143) -> 2.5924971
B540: =B539+1 -> 537 | C540: =1/H540 -> 0.0148721 | D540: =D539+C540 -> 8.6347085 | G540: =H540/0.278 -> 241.8705 | H540: 67.24 | P540: =LOOKUP(H540,Sheet1!B7:B144,Sheet1!C7:C144) -> 2.5924971
B541: =B540+1 -> 538 | C541: =1/H541 -> 0.0148721 | D541: =D540+C541 -> 8.6495806 | G541: =H541/0.278 -> 241.8705 | H541: 67.24 | P541: =LOOKUP(H541,Sheet1!B8:B145,Sheet1!C8:C145) -> 2.5924971
B542: =B541+1 -> 539 | C542: =1/H542 -> 0.0148721 | D542: =D541+C542 -> 8.6644527 | G542: =H542/0.278 -> 241.8705 | H542: 67.24 | P542: =LOOKUP(H542,Sheet1!B9:B146,Sheet1!C9:C146) -> 2.5924971
B543: =B542+1 -> 540 | C543: =1/H543 -> 0.0148721 | D543: =D542+C543 -> 8.6793248 | G543: =H543/0.278 -> 241.8705 | H543: 67.24 | P543: =LOOKUP(H543,Sheet1!B10:B147,Sheet1!C10:C147) -> 2.5924971
B544: =B543+1 -> 541 | C544: =1/H544 -> 0.0148721 | D544: =D543+C544 -> 8.6941969 | G544: =H544/0.278 -> 241.8705 | H544: 67.24 | P544: =LOOKUP(H544,Sheet1!B11:B148,Sheet1!C11:C148) -> 2.5924971
B545: =B544+1 -> 542 | C545: =1/H545 -> 0.0148721 | D545: =D544+C545 -> 8.709069 | G545: =H545/0.278 -> 241.8705 | H545: 67.24 | P545: =LOOKUP(H545,Sheet1!B12:B149,Sheet1!C12:C149) -> 2.5924971
B546: =B545+1 -> 543 | C546: =1/H546 -> 0.0148721 | D546: =D545+C546 -> 8.7239411 | G546: =H546/0.278 -> 241.8705 | H546: 67.24 | P546: =LOOKUP(H546,Sheet1!B13:B150,Sheet1!C13:C150) -> 2.5924971
B547: =B546+1 -> 544 | C547: =1/H547 -> 0.0148721 | D547: =D546+C547 -> 8.7388132 | G547: =H547/0.278 -> 241.8705 | H547: 67.24 | P547: =LOOKUP(H547,Sheet1!B14:B151,Sheet1!C14:C151) -> 2.5957377
... B669: =B668+1 -> 666 | C669: =1/H669 -> 0.0148721 | D669: =D668+C669 -> 10.553209 | G669: =H669/0.278 -> 241.8705 | H669: 67.24 | P669: =LOOKUP(H669,Sheet1!B136:B273,Sheet1!C136:C273) -> 2.5924971
B670: =B669+1 -> 667 | C670: =1/H670 -> 0.0148721 | D670: =D669+C670 -> 10.568081 | G670: =H670/0.278 -> 241.8705 | H670: 67.24 | P670: =LOOKUP(H670,Sheet1!B3:B140,Sheet1!C3:C140) -> 2.5924971
B671: =B670+1 -> 668 | C671: =1/H671 -> 0.0148721 | D671: =D670+C671 -> 10.582954 | G671: =H671/0.278 -> 241.8705 | H671: 67.24 | P671: =LOOKUP(H671,Sheet1!B4:B141,Sheet1!C4:C141) -> 2.5924971
B672: =B671+1 -> 669 | C672: =1/H672 -> 0.0148721 | D672: =D671+C672 -> 10.597826 | G672: =H672/0.278 -> 241.8705 | H672: 67.24 | P672: =LOOKUP(H672,Sheet1!B5:B142,Sheet1!C5:C142) -> 2.5924971
B673: =B672+1 -> 670 | C673: =1/H673 -> 0.0148721 | D673: =D672+C673 -> 10.612698 | G673: =H673/0.278 -> 241.8705 | H673: 67.24 | P673: =LOOKUP(H673,Sheet1!B6:B143,Sheet1!C6:C143) -> 2.5924971
B674: =B673+1 -> 671 | C674: =1/H674 -> 0.0148721 | D674: =D673+C674 -> 10.62757 | G674: =H674/0.278 -> 241.8705 | H674: 67.24 | P674: =LOOKUP(H674,Sheet1!B7:B144,Sheet1!C7:C144) -> 2.5924971
B675: =B674+1 -> 672 | C675: =1/H675 -> 0.0148721 | D675: =D674+C675 -> 10.642442 | G675: =H675/0.278 -> 241.8705 | H675: 67.24 | P675: =LOOKUP(H675,Sheet1!B8:B145,Sheet1!C8:C145) -> 2.5924971
...

Sheet Tech 3 Corners (Vmax at 64')
A1: Corners Calculated From Tech 3 Yamaha 2D Data - Note: Vmax set based on max possible lean of angle gp bike at 64 degrees
A4: Sector: | B4: Situation: | C4: Dynamic State of M'cycle: | D4: Dynamic State of Rider: | E4: Sector Length (m): | F4: Corner Radius (m): | G4: theoretical vmax (m/s) = sqrt(µrg) | H4: Theory Vmax (kph) | I4: max v based on 64 lean angle (m/s) | J4: friction co-efficient (µ) | K4: max v^2 based on max lean angle (64deg)
A5: 2 | B5: right corner 1 | C5: transitional > steady | D5: right of centreline of bike | E5: 73.05 | F5: 60.41 | G5: =SQRT(J5*F5*9.81) -> 37.301393 | H5: =I5/(1000/3600) -> 134.28501 | I5: =SQRT(K5) -> 37.301393 | J5: =K5/(F5*9.81) -> 2.3478603 | K5: =(F5*9.81)*TAN(64) -> 1391.3939
A6: 3 | B6: straight 2 | C6: steady > trans > accelerating | D6: right of centreline of bike | E6: 80.57 | F6: 56.22 | G6: =SQRT(J6*F6*9.81) -> 35.984548 | H6: =I6/(1000/3600) -> 129.54437 | I6: =SQRT(K6) -> 35.984548 | J6: =K6/(F6*9.81) -> 2.3478603 | K6: =(F6*9.81)*TAN(64) -> 1294.8877
A7: 5 | B7: left corner entry | C7: trans > steady | D7: left of centreline of bike | E7: 50.64 | F7: 60.02 | G7: =SQRT(J7*F7*9.81) -> 37.180791 | H7: =I7/(1000/3600) -> 133.85085 | I7: =SQRT(K7) -> 37.180791 | J7: =K7/(F7*9.81) -> 2.3478603 | K7: =(F7*9.81)*TAN(64) -> 1382.4112
A8: 6 | B8: left corner exit | C8: steady > trans > accelerating | D8: left of centreline of bike | E8: 28.35 | F8: 40 | G8: =SQRT(J8*F8*9.81) -> 30.35293 | H8: =I8/(1000/3600) -> 109.27055 | I8: =SQRT(K8) -> 30.35293 | J8: =K8/(F8*9.81) -> 2.3478603 | K8: =(F8*9.81)*TAN(64) -> 921.30039
A9: 8 | B9: left corner | C9: steady | D9: left of centreline, forward | E9: 108.03 | F9: 101.68 | G9: =SQRT(J9*F9*9.81) -> 48.393652 | H9: =I9/(1000/3600) -> 174.21715 | I9: =SQRT(K9) -> 48.393652 | J9: =K9/(F9*9.81) -> 2.3478603 | K9: =(F9*9.81)*TAN(64) -> 2341.9456
A10: 10 | B10: right corner entry | C10: trans > steady > accelerating | D10: right of centreline | E10: 54.02 | F10: 51.06 | G10: =SQRT(J10*F10*9.81) -> 34.293439 | H10: =I10/(1000/3600) -> 123.45638 | I10: =SQRT(K10) -> 34.293439 | J10: =K10/(F10*9.81) -> 2.3478603 | K10: =(F10*9.81)*TAN(64) -> 1176.0399
A11: 11 | B11: right corner exit | C11: accelerating | D11: right of centreline, forward | E11: 43.89 | F11: 57.22 | G11: =SQRT(J11*F11*9.81) -> 36.303171 | H11: =I11/(1000/3600) -> 130.69141 | I11: =SQRT(K11) -> 36.303171 | J11: =K11/(F11*9.81) -> 2.3478603 | K11: =(F11*9.81)*TAN(64) -> 1317.9202
A12: 13 | B12: right corner | C12: steady | D12: right of centreline | E12: 91.59 | F12: 241.24 | G12: =SQRT(J12*F12*9.81) -> 74.541013 | H12: =I12/(1000/3600) -> 268.34765 | I12: =SQRT(K12) -> 74.541013 | J12: =K12/(F12*9.81) -> 2.3478603 | K12: =(F12*9.81)*TAN(64) -> 5556.3626
A13: 14 | B13: right corner | C13: steady > accelerating | D13: right of centreline, forward | E13: 79.89 | F13: 114.24 | G13: =SQRT(J13*F13*9.81) -> 51.295554 | H13: =I13/(1000/3600) -> 184.664 | I13: =SQRT(K13) -> 51.295554 | J13: =K13/(F13*9.81) -> 2.3478603 | K13: =(F13*9.81)*TAN(64) -> 2631.2339
A14: 16 | B14: left corner | C14: steady | D14: left of centreline | E14: 58.54 | F14: 97.01 | G14: =SQRT(J14*F14*9.81) -> 47.269269 | H14: =I14/(1000/3600) -> 170.16937 | I14: =SQRT(K14) -> 47.269269 | J14: =K14/(F14*9.81) -> 2.3478603 | K14: =(F14*9.81)*TAN(64) -> 2234.3838
A15: 18 | B15: right corner entry | C15: steady | D15: right of centreline | E15: 100.48 | F15: 72.69 | G15: =SQRT(J15*F15*9.81) -> 40.917394 | H15: =I15/(1000/3600) -> 147.30262 | I15: =SQRT(K15) -> 40.917394 | J15: =K15/(F15*9.81) -> 2.3478603 | K15: =(F15*9.81)*TAN(64) -> 1674.2331
A16: 20 | B16: left corner | C16: steady > accelerating | D16: left of centreline | E16: 61.03 | F16: 51.42 | G16: =SQRT(J16*F16*9.81) -> 34.41412 | H16: =I16/(1000/3600) -> 123.89083 | I16: =SQRT(K16) -> 34.41412 | J16: =K16/(F16*9.81) -> 2.3478603 | K16: =(F16*9.81)*TAN(64) -> 1184.3316
... A25: 34 | B25: right corner exit onto start/finish straight | C25: accelerating | D25: right of centreline, forward | E25: 39.94 | F25: 59.83 | G25: =SQRT(J25*F25*9.81) -> 37.121895 | H25: =I25/(1000/3600) -> 133.63882 | I25: =SQRT(K25) -> 37.121895 | J25: =K25/(F25*9.81) -> 2.3478603 | K25: =(F25*9.81)*TAN(64) -> 1378.0351
D26: total distance (m) = | E26: =SUM(E5:E25) -> 1155.11
E28: Drag coefficient Cd = | F28: 0.4
E29: density of air (kg/m^3) = | F29: 1.167
A30: lap | B30: 2d measured lap time (minutes) | C30: laptime in seconds | E30: Frontal Area of bike (m^2) = | F30: 0.33
A31: 1 | B31: 5,38,81 | C31: =(5*60)+38.81 -> 338.81 | E31: area of rider (m^2) = | F31: 0.14
A32: 2 | B32: 1,57,06 | C32: =60+57.06 -> 117.06 | E32: total area (m^2) = | F32: 0.47
A33: 3 | B33: 1,55,50 | C33: =60+55.5 -> 115.5
A34: 4 | B34: 1,54,23 | C34: =60+54.23 -> 114.23 | E34: Drag Force Fd (N) = | F34: =0.5*$F$29*0.4*$F$32*K5 -> 152.63313 | G34: (first corner, r = 60.41m)
A35: 5 | B35: 1,53,55 | C35: =60+53.55 -> 113.55 | E35: Driving Force S (N) = | G35: as above, constant vmax
A36: 6 | B36: 1,53,41 | C36: =60+53.41 -> 113.41 | E36: in equilibrium, S-Fd = 0 | F36: 152.63
