Workbook

Sheet Zx6r Power Map + Gearing
A1: Kawasaki ZX6R 636cc C1 2005 | AN1: Reduced Mass | AV1: Dynamic Load Front Wheel Nf (N) Nf = mg(b/p) - S(h/p) | BD1: Dynamic Load Rear Wheel Nr (N) Nr = mg ((p-b)/p) + S(h/p) | BM1: reduced mass dependant on wheel inertias
H2: Image Taken from Kawasaki Motorcycle Service Manual | O2: Equivalent Driving Force (n) | P2: S* = Fd + m*x'' | Q2: See Table | AN2: 1st Gear | AO2: 2nd Gear | AP2: 3rd Gear | AQ2: 4th Gear | AR2: 5th Gear | AS2: 6th Gear
A3: Drive Train | P3: S* = T (Ѡm/V) | Q3: See Table
AU4: Rpm | AV4: 1st Gear | AW4: 2nd Gear | AX4: 3rd Gear | AY4: 4th Gear | AZ4: 5th Gear | BA4: 6th Gear | BC4: Rpm | BD4: 1st Gear | BE4: 2nd Gear | BF4: 3rd Gear | BG4: 4th Gear | BH4: 5th Gear | BI4: 6th Gear | BL4: Rpm | BM4: 1st Gear | BN4: 2nd Gear | BO4: 3rd Gear | BP4: 4th Gear | BQ4: 5th Gear | BR4: 6th Gear
A5: Primary Reduction System: | O5: Equivalent Mass m* | P5: m*=m+Iѡr.T^2r+Iѡf.T^2f+Iѡm.T^2m+Iѡp.T^2p+Iѡs.T^2s | U5: =P7+P11*(U6^2)+P10*(U7^2)+P12*(U13^2)+P13*(U10^2)+P14*(U8^2) -> 274.53877 | AU5: 3500 | AV5: =($P$7*9.81)*('Zx6r Predicted Values'!$M$20/'Zx6r Predicted Values'!$M$21)-('Zx6r Power Map + Gearing'!M65*('Zx6r Predicted Values'!$M$22/'Zx6r Predicted Values'!$M$21)) -> 143.86539 | AW5: =251*9.81*('Zx6r Predicted Values'!$M$20/'Zx6r Predicted Values'!$M$21)-('Zx6r Power Map + Gearing'!N65*('Zx6r Predicted Values'!$M$22/'Zx6r Predicted Values'!$M$21)) -> 466.55514 | AX5: =251*9.81*('Zx6r Predicted Values'!$M$20/'Zx6r Predicted Values'!$M$21)-('Zx6r Power Map + Gearing'!O65*('Zx6r Predicted Values'!$M$22/'Zx6r Predicted Values'!$M$21)) -> 611.20917 | AY5: =251*9.81*('Zx6r Predicted Values'!$M$20/'Zx6r Predicted Values'!$M$21)-('Zx6r Power Map + Gearing'!P65*('Zx6r Predicted Values'!$M$22/'Zx6r Predicted Values'!$M$21)) -> 691.80213 | AZ5: =251*9.81*('Zx6r Predicted Values'!$M$20/'Zx6r Predicted Values'!$M$21)-('Zx6r Power Map + Gearing'!Q65*('Zx6r Predicted Values'!$M$22/'Zx6r Predicted Values'!$M$21)) -> 757.74182 | BA5: =251*9.81*('Zx6r Predicted Values'!$M$20/'Zx6r Predicted Values'!$M$21)-('Zx6r Power Map + Gearing'!R65*('Zx6r Predicted Values'!$M$22/'Zx6r Predicted Values'!$M$21)) -> 801.96173 | BC5: 3500 | BD5: ='Zx6r Power Map + Gearing'!$P$7*9.81*('Zx6r Predicted Values'!$M$21-'Zx6r Predicted Values'!$M$20)/'Zx6r Predicted Values'!$M$21+'Zx6r Power Map + Gearing'!M65*('Zx6r Predicted Values'!$M$22/'Zx6r Predicted Values'!$M$21) -> 2318.4446 | BE5: =$P$7*9.81*(('Zx6r Predicted Values'!$M$21-'Zx6r Predicted Values'!$M$20)/'Zx6r Predicted Values'!$M$21)+'Zx6r Power Map + Gearing'!N65*('Zx6r Predicted Values'!$M$22/'Zx6r Predicted Values'!$M$21) -> 1995.7549 | BF5: =$P$7*9.81*(('Zx6r Predicted Values'!$M$21-'Zx6r Predicted Values'!$M$20)/'Zx6r Predicted Values'!$M$21)+'Zx6r Power Map + Gearing'!N66*('Zx6r Predicted Values'!$M$22/'Zx6r Predicted Values'!$M$21) -> 2011.684 | BG5: =$P$7*9.81*(('Zx6r Predicted Values'!$M$21-'Zx6r Predicted Values'!$M$20)/'Zx6r Predicted Values'!$M$21)+'Zx6r Power Map + Gearing'!N67*('Zx6r Predicted Values'!$M$22/'Zx6r Predicted Values'!$M$21) -> 2123.1882 | BH5: =$P$7*9.81*(('Zx6r Predicted Values'!$M$21-'Zx6r Predicted Values'!$M$20)/'Zx6r Predicted Values'!$M$21)+'Zx6r Power Map + Gearing'!N68*('Zx6r Predicted Values'!$M$22/'Zx6r Predicted Values'!$M$21) -> 2152.9226 | BI5: =$P$7*9.81*(('Zx6r Predicted Values'!$M$21-'Zx6r Predicted Values'!$M$20)/'Zx6r Predicted Values'!$M$21)+'Zx6r Power Map + Gearing'!N69*('Zx6r Predicted Values'!$M$22/'Zx6r Predicted Values'!$M$21) -> 2177.2508 | BL5: 3500 | BM5: =$P$7+BU34*($U$6*$U$6)+BM34*($U$7*$U$7)+$P$12*($U$13*$U$13)+$P$13*($U$10*$U$10)+$P$14*($U$8*$U$8) -> 329.49234 | BN5: =$P$7+BV34*($U$6*$U$6)+BN34*($U$7*$U$7)+$P$12*($U$13*$U$13)+$P$13*($U$10*$U$10)+$P$14*($U$8*$U$8) -> 443.88304 | BO5: =$P$7+BW34*($U$6*$U$6)+BO34*($U$7*$U$7)+$P$12*($U$13*$U$13)+$P$13*($U$10*$U$10)+$P$14*($U$8*$U$8) -> 538.39296 | BP5: =$P$7+BX34*($U$6*$U$6)+BP34*($U$7*$U$7)+$P$12*($U$13*$U$13)+$P$13*($U$10*$U$10)+$P$14*($U$8*$U$8) -> 616.9788 | BQ5: =$P$7+BY34*($U$6*$U$6)+BQ34*($U$7*$U$7)+$P$12*($U$13*$U$13)+$P$13*($U$10*$U$10)+$P$14*($U$8*$U$8) -> 706.28467 | BR5: =$P$7+BZ34*($U$6*$U$6)+BR34*($U$7*$U$7)+$P$12*($U$13*$U$13)+$P$13*($U$10*$U$10)+$P$14*($U$8*$U$8) -> 786.80806
T6: Tr = Wr/V = 1/Rr | U6: =1/Y19 -> 3.1756113 | V6: velocity ratio of rear wheel velocity and forward velocity | AU6: =AU5+500 -> 4000 | AV6: =($P$7*9.81)*('Zx6r Predicted Values'!$M$20/'Zx6r Predicted Values'!$M$21)-('Zx6r Power Map + Gearing'!M66*('Zx6r Predicted Values'!$M$22/'Zx6r Predicted Values'!$M$21)) -> 121.21352 | AW6: =251*9.81*('Zx6r Predicted Values'!$M$20/'Zx6r Predicted Values'!$M$21)-('Zx6r Power Map + Gearing'!N66*('Zx6r Predicted Values'!$M$22/'Zx6r Predicted Values'!$M$21)) -> 450.62598 | AX6: =251*9.81*('Zx6r Predicted Values'!$M$20/'Zx6r Predicted Values'!$M$21)-('Zx6r Power Map + Gearing'!O66*('Zx6r Predicted Values'!$M$22/'Zx6r Predicted Values'!$M$21)) -> 598.29363 | AY6: =251*9.81*('Zx6r Predicted Values'!$M$20/'Zx6r Predicted Values'!$M$21)-('Zx6r Power Map + Gearing'!P66*('Zx6r Predicted Values'!$M$22/'Zx6r Predicted Values'!$M$21)) -> 680.56561 | AZ6: =251*9.81*('Zx6r Predicted Values'!$M$20/'Zx6r Predicted Values'!$M$21)-('Zx6r Power Map + Gearing'!Q66*('Zx6r Predicted Values'!$M$22/'Zx6r Predicted Values'!$M$21)) -> 747.87904 | BA6: =251*9.81*('Zx6r Predicted Values'!$M$20/'Zx6r Predicted Values'!$M$21)-('Zx6r Power Map + Gearing'!R66*('Zx6r Predicted Values'!$M$22/'Zx6r Predicted Values'!$M$21)) -> 793.02021 | BC6: =BC5+500 -> 4000 | BD6: ='Zx6r Power Map + Gearing'!$P$7*9.81*('Zx6r Predicted Values'!$M$21-'Zx6r Predicted Values'!$M$20)/'Zx6r Predicted Values'!$M$21+'Zx6r Power Map + Gearing'!M66*('Zx6r Predicted Values'!$M$22/'Zx6r Predicted Values'!$M$21) -> 2341.0965 | BE6: =$P$7*9.81*(('Zx6r Predicted Values'!$M$21-'Zx6r Predicted Values'!$M$20)/'Zx6r Predicted Values'!$M$21)+'Zx6r Power Map + Gearing'!N66*('Zx6r Predicted Values'!$M$22/'Zx6r Predicted Values'!$M$21) -> 2011.684 | BF6: =$P$7*9.81*(('Zx6r Predicted Values'!$M$21-'Zx6r Predicted Values'!$M$20)/'Zx6r Predicted Values'!$M$21)+'Zx6r Power Map + Gearing'!N67*('Zx6r Predicted Values'!$M$22/'Zx6r Predicted Values'!$M$21) -> 2123.1882 | BG6: =$P$7*9.81*(('Zx6r Predicted Values'!$M$21-'Zx6r Predicted Values'!$M$20)/'Zx6r Predicted Values'!$M$21)+'Zx6r Power Map + Gearing'!N68*('Zx6r Predicted Values'!$M$22/'Zx6r Predicted Values'!$M$21) -> 2152.9226 | BH6: =$P$7*9.81*(('Zx6r Predicted Values'!$M$21-'Zx6r Predicted Values'!$M$20)/'Zx6r Predicted Values'!$M$21)+'Zx6r Power Map + Gearing'!N69*('Zx6r Predicted Values'!$M$22/'Zx6r Predicted Values'!$M$21) -> 2177.2508 | BI6: =$P$7*9.81*(('Zx6r Predicted Values'!$M$21-'Zx6r Predicted Values'!$M$20)/'Zx6r Predicted Values'!$M$21)+'Zx6r Power Map + Gearing'!N70*('Zx6r Predicted Values'!$M$22/'Zx6r Predicted Values'!$M$21) -> 2172.7456 | BL6: =BL5+500 -> 4000 | BM6: =$P$7+BU35*($U$6*$U$6)+BM35*($U$7*$U$7)+$P$12*($U$13*$U$13)+$P$13*($U$10*$U$10)+$P$14*($U$8*$U$8) -> 317.78552 | BN6: =$P$7+BV35*($U$6*$U$6)+BN35*($U$7*$U$7)+$P$12*($U$13*$U$13)+$P$13*($U$10*$U$10)+$P$14*($U$8*$U$8) -> 437.00684 | BO6: =$P$7+BW35*($U$6*$U$6)+BO35*($U$7*$U$7)+$P$12*($U$13*$U$13)+$P$13*($U$10*$U$10)+$P$14*($U$8*$U$8) -> 530.77484 | BP6: =$P$7+BX35*($U$6*$U$6)+BP35*($U$7*$U$7)+$P$12*($U$13*$U$13)+$P$13*($U$10*$U$10)+$P$14*($U$8*$U$8) -> 609.4701 | BQ6: =$P$7+BY35*($U$6*$U$6)+BQ35*($U$7*$U$7)+$P$12*($U$13*$U$13)+$P$13*($U$10*$U$10)+$P$14*($U$8*$U$8) -> 699.95252 | BR6: =$P$7+BZ35*($U$6*$U$6)+BR35*($U$7*$U$7)+$P$12*($U$13*$U$13)+$P$13*($U$10*$U$10)+$P$14*($U$8*$U$8) -> 782.70728
A7: Type | B7: Gear | O7: Total Mass (Bike + Rider) | P7: ='Zx6r Predicted Values'!M3+'Zx6r Predicted Values'!M4 -> 251 | Q7: kg | T7: Tf = 1/Rf | U7: =1/Y18 -> 3.4025179 | V7: velocity ratio of front wheel velocity and forward velocity | AU7: =AU6+500 -> 4500 | AV7: =($P$7*9.81)*('Zx6r Predicted Values'!$M$20/'Zx6r Predicted Values'!$M$21)-('Zx6r Power Map + Gearing'!M67*('Zx6r Predicted Values'!$M$22/'Zx6r Predicted Values'!$M$21)) -> -37.349548 | AW7: =251*9.81*('Zx6r Predicted Values'!$M$20/'Zx6r Predicted Values'!$M$21)-('Zx6r Power Map + Gearing'!N67*('Zx6r Predicted Values'!$M$22/'Zx6r Predicted Values'!$M$21)) -> 339.12183 | AX7: =251*9.81*('Zx6r Predicted Values'!$M$20/'Zx6r Predicted Values'!$M$21)-('Zx6r Power Map + Gearing'!O67*('Zx6r Predicted Values'!$M$22/'Zx6r Predicted Values'!$M$21)) -> 507.88486 | AY7: =251*9.81*('Zx6r Predicted Values'!$M$20/'Zx6r Predicted Values'!$M$21)-('Zx6r Power Map + Gearing'!P67*('Zx6r Predicted Values'!$M$22/'Zx6r Predicted Values'!$M$21)) -> 601.90998 | AZ7: =251*9.81*('Zx6r Predicted Values'!$M$20/'Zx6r Predicted Values'!$M$21)-('Zx6r Power Map + Gearing'!Q67*('Zx6r Predicted Values'!$M$22/'Zx6r Predicted Values'!$M$21)) -> 678.83962 | BA7: =251*9.81*('Zx6r Predicted Values'!$M$20/'Zx6r Predicted Values'!$M$21)-('Zx6r Power Map + Gearing'!R67*('Zx6r Predicted Values'!$M$22/'Zx6r Predicted Values'!$M$21)) -> 730.42952 | BC7: =BC6+500 -> 4500 | BD7: ='Zx6r Power Map + Gearing'!$P$7*9.81*('Zx6r Predicted Values'!$M$21-'Zx6r Predicted Values'!$M$20)/'Zx6r Predicted Values'!$M$21+'Zx6r Power Map + Gearing'!M67*('Zx6r Predicted Values'!$M$22/'Zx6r Predicted Values'!$M$21) -> 2499.6595 | BE7: =$P$7*9.81*(('Zx6r Predicted Values'!$M$21-'Zx6r Predicted Values'!$M$20)/'Zx6r Predicted Values'!$M$21)+'Zx6r Power Map + Gearing'!N67*('Zx6r Predicted Values'!$M$22/'Zx6r Predicted Values'!$M$21) -> 2123.1882 | BF7: =$P$7*9.81*(('Zx6r Predicted Values'!$M$21-'Zx6r Predicted Values'!$M$20)/'Zx6r Predicted Values'!$M$21)+'Zx6r Power Map + Gearing'!N68*('Zx6r Predicted Values'!$M$22/'Zx6r Predicted Values'!$M$21) -> 2152.9226 | BG7: =$P$7*9.81*(('Zx6r Predicted Values'!$M$21-'Zx6r Predicted Values'!$M$20)/'Zx6r Predicted Values'!$M$21)+'Zx6r Power Map + Gearing'!N69*('Zx6r Predicted Values'!$M$22/'Zx6r Predicted Values'!$M$21) -> 2177.2508 | BH7: =$P$7*9.81*(('Zx6r Predicted Values'!$M$21-'Zx6r Predicted Values'!$M$20)/'Zx6r Predicted Values'!$M$21)+'Zx6r Power Map + Gearing'!N70*('Zx6r Predicted Values'!$M$22/'Zx6r Predicted Values'!$M$21) -> 2172.7456 | BI7: =$P$7*9.81*(('Zx6r Predicted Values'!$M$21-'Zx6r Predicted Values'!$M$20)/'Zx6r Predicted Values'!$M$21)+'Zx6r Power Map + Gearing'!N71*('Zx6r Predicted Values'!$M$22/'Zx6r Predicted Values'!$M$21) -> 2191.8061 | BL7: =BL6+500 -> 4500 | BM7: =$P$7+BU36*($U$6*$U$6)+BM36*($U$7*$U$7)+$P$12*($U$13*$U$13)+$P$13*($U$10*$U$10)+$P$14*($U$8*$U$8) -> 287.40465 | BN7: =$P$7+BV36*($U$6*$U$6)+BN36*($U$7*$U$7)+$P$12*($U$13*$U$13)+$P$13*($U$10*$U$10)+$P$14*($U$8*$U$8) -> 390.49782 | BO7: =$P$7+BW36*($U$6*$U$6)+BO36*($U$7*$U$7)+$P$12*($U$13*$U$13)+$P$13*($U$10*$U$10)+$P$14*($U$8*$U$8) -> 472.22747 | BP7: =$P$7+BX36*($U$6*$U$6)+BP36*($U$7*$U$7)+$P$12*($U$13*$U$13)+$P$13*($U$10*$U$10)+$P$14*($U$8*$U$8) -> 540.98479 | BQ7: =$P$7+BY36*($U$6*$U$6)+BQ36*($U$7*$U$7)+$P$12*($U$13*$U$13)+$P$13*($U$10*$U$10)+$P$14*($U$8*$U$8) -> 620.32804 | BR7: =$P$7+BZ36*($U$6*$U$6)+BR36*($U$7*$U$7)+$P$12*($U$13*$U$13)+$P$13*($U$10*$U$10)+$P$14*($U$8*$U$8) -> 693.24532
A8: Primary Reduction Ratio | B8: 1.891 | C8: 87 | D8: 46 | O8: Front wheel radius 17inch + 120/55 tyre | P8: =Y18 -> 0.2939 | Q8: m | R8: Fr | T8: Ts = Ts,r * 1/Rr | U8: =U11*U6 -> 9.1034191 | V8: Angular velocity 2nd shaft - motorcycle forward velocity | AU8: =AU7+500 -> 5000 | AV8: =($P$7*9.81)*('Zx6r Predicted Values'!$M$20/'Zx6r Predicted Values'!$M$21)-('Zx6r Power Map + Gearing'!M68*('Zx6r Predicted Values'!$M$22/'Zx6r Predicted Values'!$M$21)) -> -79.633033 | AW8: =251*9.81*('Zx6r Predicted Values'!$M$20/'Zx6r Predicted Values'!$M$21)-('Zx6r Power Map + Gearing'!N68*('Zx6r Predicted Values'!$M$22/'Zx6r Predicted Values'!$M$21)) -> 309.38739 | AX8: =251*9.81*('Zx6r Predicted Values'!$M$20/'Zx6r Predicted Values'!$M$21)-('Zx6r Power Map + Gearing'!O68*('Zx6r Predicted Values'!$M$22/'Zx6r Predicted Values'!$M$21)) -> 483.77586 | AY8: =251*9.81*('Zx6r Predicted Values'!$M$20/'Zx6r Predicted Values'!$M$21)-('Zx6r Power Map + Gearing'!P68*('Zx6r Predicted Values'!$M$22/'Zx6r Predicted Values'!$M$21)) -> 580.93515 | AZ8: =251*9.81*('Zx6r Predicted Values'!$M$20/'Zx6r Predicted Values'!$M$21)-('Zx6r Power Map + Gearing'!Q68*('Zx6r Predicted Values'!$M$22/'Zx6r Predicted Values'!$M$21)) -> 660.42911 | BA8: =251*9.81*('Zx6r Predicted Values'!$M$20/'Zx6r Predicted Values'!$M$21)-('Zx6r Power Map + Gearing'!R68*('Zx6r Predicted Values'!$M$22/'Zx6r Predicted Values'!$M$21)) -> 713.73867 | BC8: =BC7+500 -> 5000 | BD8: ='Zx6r Power Map + Gearing'!$P$7*9.81*('Zx6r Predicted Values'!$M$21-'Zx6r Predicted Values'!$M$20)/'Zx6r Predicted Values'!$M$21+'Zx6r Power Map + Gearing'!M68*('Zx6r Predicted Values'!$M$22/'Zx6r Predicted Values'!$M$21) -> 2541.943 | BE8: =$P$7*9.81*(('Zx6r Predicted Values'!$M$21-'Zx6r Predicted Values'!$M$20)/'Zx6r Predicted Values'!$M$21)+'Zx6r Power Map + Gearing'!N68*('Zx6r Predicted Values'!$M$22/'Zx6r Predicted Values'!$M$21) -> 2152.9226 | BF8: =$P$7*9.81*(('Zx6r Predicted Values'!$M$21-'Zx6r Predicted Values'!$M$20)/'Zx6r Predicted Values'!$M$21)+'Zx6r Power Map + Gearing'!N69*('Zx6r Predicted Values'!$M$22/'Zx6r Predicted Values'!$M$21) -> 2177.2508 | BG8: =$P$7*9.81*(('Zx6r Predicted Values'!$M$21-'Zx6r Predicted Values'!$M$20)/'Zx6r Predicted Values'!$M$21)+'Zx6r Power Map + Gearing'!N70*('Zx6r Predicted Values'!$M$22/'Zx6r Predicted Values'!$M$21) -> 2172.7456 | BH8: =$P$7*9.81*(('Zx6r Predicted Values'!$M$21-'Zx6r Predicted Values'!$M$20)/'Zx6r Predicted Values'!$M$21)+'Zx6r Power Map + Gearing'!N71*('Zx6r Predicted Values'!$M$22/'Zx6r Predicted Values'!$M$21) -> 2191.8061 | BI8: =$P$7*9.81*(('Zx6r Predicted Values'!$M$21-'Zx6r Predicted Values'!$M$20)/'Zx6r Predicted Values'!$M$21)+'Zx6r Power Map + Gearing'!N72*('Zx6r Predicted Values'!$M$22/'Zx6r Predicted Values'!$M$21) -> 2229.3826 | BL8: =BL7+500 -> 5000 | BM8: =$P$7+BU37*($U$6*$U$6)+BM37*($U$7*$U$7)+$P$12*($U$13*$U$13)+$P$13*($U$10*$U$10)+$P$14*($U$8*$U$8) -> 280.70157 | BN8: =$P$7+BV37*($U$6*$U$6)+BN37*($U$7*$U$7)+$P$12*($U$13*$U$13)+$P$13*($U$10*$U$10)+$P$14*($U$8*$U$8) -> 380.75664 | BO8: =$P$7+BW37*($U$6*$U$6)+BO37*($U$7*$U$7)+$P$12*($U$13*$U$13)+$P$13*($U$10*$U$10)+$P$14*($U$8*$U$8) -> 460.79125 | BP8: =$P$7+BX37*($U$6*$U$6)+BP37*($U$7*$U$7)+$P$12*($U$13*$U$13)+$P$13*($U$10*$U$10)+$P$14*($U$8*$U$8) -> 528.72596 | BQ8: =$P$7+BY37*($U$6*$U$6)+BQ37*($U$7*$U$7)+$P$12*($U$13*$U$13)+$P$13*($U$10*$U$10)+$P$14*($U$8*$U$8) -> 608.00939 | BR8: =$P$7+BZ37*($U$6*$U$6)+BR37*($U$7*$U$7)+$P$12*($U$13*$U$13)+$P$13*($U$10*$U$10)+$P$14*($U$8*$U$8) -> 681.88111
A9: Clutch Type | B9: Wet, multi disc | O9: Rear Wheel Radius | P9: =C45/2 -> 0.3149 | Q9: m | R9: Rr | T9: Tp,s | U9: =13/18 -> 0.72222222 | V9: reduction ratio primary - secondary (18/13) | AU9: =AU8+500 -> 5500 | AV9: =($P$7*9.81)*('Zx6r Predicted Values'!$M$20/'Zx6r Predicted Values'!$M$21)-('Zx6r Power Map + Gearing'!M69*('Zx6r Predicted Values'!$M$22/'Zx6r Predicted Values'!$M$21)) -> -114.22861 | AW9: =251*9.81*('Zx6r Predicted Values'!$M$20/'Zx6r Predicted Values'!$M$21)-('Zx6r Power Map + Gearing'!N69*('Zx6r Predicted Values'!$M$22/'Zx6r Predicted Values'!$M$21)) -> 285.05921 | AX9: =251*9.81*('Zx6r Predicted Values'!$M$20/'Zx6r Predicted Values'!$M$21)-('Zx6r Power Map + Gearing'!O69*('Zx6r Predicted Values'!$M$22/'Zx6r Predicted Values'!$M$21)) -> 464.05031 | AY9: =251*9.81*('Zx6r Predicted Values'!$M$20/'Zx6r Predicted Values'!$M$21)-('Zx6r Power Map + Gearing'!P69*('Zx6r Predicted Values'!$M$22/'Zx6r Predicted Values'!$M$21)) -> 563.77392 | AZ9: =251*9.81*('Zx6r Predicted Values'!$M$20/'Zx6r Predicted Values'!$M$21)-('Zx6r Power Map + Gearing'!Q69*('Zx6r Predicted Values'!$M$22/'Zx6r Predicted Values'!$M$21)) -> 645.36596 | BA9: =251*9.81*('Zx6r Predicted Values'!$M$20/'Zx6r Predicted Values'!$M$21)-('Zx6r Power Map + Gearing'!R69*('Zx6r Predicted Values'!$M$22/'Zx6r Predicted Values'!$M$21)) -> 700.08252 | BC9: =BC8+500 -> 5500 | BD9: ='Zx6r Power Map + Gearing'!$P$7*9.81*('Zx6r Predicted Values'!$M$21-'Zx6r Predicted Values'!$M$20)/'Zx6r Predicted Values'!$M$21+'Zx6r Power Map + Gearing'!M69*('Zx6r Predicted Values'!$M$22/'Zx6r Predicted Values'!$M$21) -> 2576.5386 | BE9: =$P$7*9.81*(('Zx6r Predicted Values'!$M$21-'Zx6r Predicted Values'!$M$20)/'Zx6r Predicted Values'!$M$21)+'Zx6r Power Map + Gearing'!N69*('Zx6r Predicted Values'!$M$22/'Zx6r Predicted Values'!$M$21) -> 2177.2508 | BF9: =$P$7*9.81*(('Zx6r Predicted Values'!$M$21-'Zx6r Predicted Values'!$M$20)/'Zx6r Predicted Values'!$M$21)+'Zx6r Power Map + Gearing'!N70*('Zx6r Predicted Values'!$M$22/'Zx6r Predicted Values'!$M$21) -> 2172.7456 | BG9: =$P$7*9.81*(('Zx6r Predicted Values'!$M$21-'Zx6r Predicted Values'!$M$20)/'Zx6r Predicted Values'!$M$21)+'Zx6r Power Map + Gearing'!N71*('Zx6r Predicted Values'!$M$22/'Zx6r Predicted Values'!$M$21) -> 2191.8061 | BH9: =$P$7*9.81*(('Zx6r Predicted Values'!$M$21-'Zx6r Predicted Values'!$M$20)/'Zx6r Predicted Values'!$M$21)+'Zx6r Power Map + Gearing'!N72*('Zx6r Predicted Values'!$M$22/'Zx6r Predicted Values'!$M$21) -> 2229.3826 | BI9: =$P$7*9.81*(('Zx6r Predicted Values'!$M$21-'Zx6r Predicted Values'!$M$20)/'Zx6r Predicted Values'!$M$21)+'Zx6r Power Map + Gearing'!N73*('Zx6r Predicted Values'!$M$22/'Zx6r Predicted Values'!$M$21) -> 2242.1259 | BL9: =BL8+500 -> 5500 | BM9: =$P$7+BU38*($U$6*$U$6)+BM38*($U$7*$U$7)+$P$12*($U$13*$U$13)+$P$13*($U$10*$U$10)+$P$14*($U$8*$U$8) -> 275.58027 | BN9: =$P$7+BV38*($U$6*$U$6)+BN38*($U$7*$U$7)+$P$12*($U$13*$U$13)+$P$13*($U$10*$U$10)+$P$14*($U$8*$U$8) -> 373.47894 | BO9: =$P$7+BW38*($U$6*$U$6)+BO38*($U$7*$U$7)+$P$12*($U$13*$U$13)+$P$13*($U$10*$U$10)+$P$14*($U$8*$U$8) -> 452.53653 | BP9: =$P$7+BX38*($U$6*$U$6)+BP38*($U$7*$U$7)+$P$12*($U$13*$U$13)+$P$13*($U$10*$U$10)+$P$14*($U$8*$U$8) -> 520.3112 | BQ9: =$P$7+BY38*($U$6*$U$6)+BQ38*($U$7*$U$7)+$P$12*($U$13*$U$13)+$P$13*($U$10*$U$10)+$P$14*($U$8*$U$8) -> 600.40362 | BR9: =$P$7+BZ38*($U$6*$U$6)+BR38*($U$7*$U$7)+$P$12*($U$13*$U$13)+$P$13*($U$10*$U$10)+$P$14*($U$8*$U$8) -> 676.17532
O10: Front Wheel Inertia | P10: 0.6 | Q10: kg/m^2 | R10: Iwf | T10: Tp = Tp,s*Ts,r*r*1/Rr | U10: =U9*U11*U6 -> 6.5746916 | V10: ratio primary gear shaft to forward velocity | AU10: =AU9+500 -> 6000 | AV10: =($P$7*9.81)*('Zx6r Predicted Values'!$M$20/'Zx6r Predicted Values'!$M$21)-('Zx6r Power Map + Gearing'!M70*('Zx6r Predicted Values'!$M$22/'Zx6r Predicted Values'!$M$21)) -> -107.82202 | AW10: =251*9.81*('Zx6r Predicted Values'!$M$20/'Zx6r Predicted Values'!$M$21)-('Zx6r Power Map + Gearing'!N70*('Zx6r Predicted Values'!$M$22/'Zx6r Predicted Values'!$M$21)) -> 289.56443 | AX10: =251*9.81*('Zx6r Predicted Values'!$M$20/'Zx6r Predicted Values'!$M$21)-('Zx6r Power Map + Gearing'!O70*('Zx6r Predicted Values'!$M$22/'Zx6r Predicted Values'!$M$21)) -> 467.70319 | AY10: =251*9.81*('Zx6r Predicted Values'!$M$20/'Zx6r Predicted Values'!$M$21)-('Zx6r Power Map + Gearing'!P70*('Zx6r Predicted Values'!$M$22/'Zx6r Predicted Values'!$M$21)) -> 566.95192 | AZ10: =251*9.81*('Zx6r Predicted Values'!$M$20/'Zx6r Predicted Values'!$M$21)-('Zx6r Power Map + Gearing'!Q70*('Zx6r Predicted Values'!$M$22/'Zx6r Predicted Values'!$M$21)) -> 648.15543 | BA10: =251*9.81*('Zx6r Predicted Values'!$M$20/'Zx6r Predicted Values'!$M$21)-('Zx6r Power Map + Gearing'!R70*('Zx6r Predicted Values'!$M$22/'Zx6r Predicted Values'!$M$21)) -> 702.61144 | BC10: =BC9+500 -> 6000 | BD10: ='Zx6r Power Map + Gearing'!$P$7*9.81*('Zx6r Predicted Values'!$M$21-'Zx6r Predicted Values'!$M$20)/'Zx6r Predicted Values'!$M$21+'Zx6r Power Map + Gearing'!M70*('Zx6r Predicted Values'!$M$22/'Zx6r Predicted Values'!$M$21) -> 2570.132 | BE10: =$P$7*9.81*(('Zx6r Predicted Values'!$M$21-'Zx6r Predicted Values'!$M$20)/'Zx6r Predicted Values'!$M$21)+'Zx6r Power Map + Gearing'!N70*('Zx6r Predicted Values'!$M$22/'Zx6r Predicted Values'!$M$21) -> 2172.7456 | BF10: =$P$7*9.81*(('Zx6r Predicted Values'!$M$21-'Zx6r Predicted Values'!$M$20)/'Zx6r Predicted Values'!$M$21)+'Zx6r Power Map + Gearing'!N71*('Zx6r Predicted Values'!$M$22/'Zx6r Predicted Values'!$M$21) -> 2191.8061 | BG10: =$P$7*9.81*(('Zx6r Predicted Values'!$M$21-'Zx6r Predicted Values'!$M$20)/'Zx6r Predicted Values'!$M$21)+'Zx6r Power Map + Gearing'!N72*('Zx6r Predicted Values'!$M$22/'Zx6r Predicted Values'!$M$21) -> 2229.3826 | BH10: =$P$7*9.81*(('Zx6r Predicted Values'!$M$21-'Zx6r Predicted Values'!$M$20)/'Zx6r Predicted Values'!$M$21)+'Zx6r Power Map + Gearing'!N73*('Zx6r Predicted Values'!$M$22/'Zx6r Predicted Values'!$M$21) -> 2242.1259 | BI10: =$P$7*9.81*(('Zx6r Predicted Values'!$M$21-'Zx6r Predicted Values'!$M$20)/'Zx6r Predicted Values'!$M$21)+'Zx6r Power Map + Gearing'!N74*('Zx6r Predicted Values'!$M$22/'Zx6r Predicted Values'!$M$21) -> 2290.4444 | BL10: =BL9+500 -> 6000 | BM10: =$P$7+BU39*($U$6*$U$6)+BM39*($U$7*$U$7)+$P$12*($U$13*$U$13)+$P$13*($U$10*$U$10)+$P$14*($U$8*$U$8) -> 276.79692 | BN10: =$P$7+BV39*($U$6*$U$6)+BN39*($U$7*$U$7)+$P$12*($U$13*$U$13)+$P$13*($U$10*$U$10)+$P$14*($U$8*$U$8) -> 376.08679 | BO10: =$P$7+BW39*($U$6*$U$6)+BO39*($U$7*$U$7)+$P$12*($U$13*$U$13)+$P$13*($U$10*$U$10)+$P$14*($U$8*$U$8) -> 457.17404 | BP10: =$P$7+BX39*($U$6*$U$6)+BP39*($U$7*$U$7)+$P$12*($U$13*$U$13)+$P$13*($U$10*$U$10)+$P$14*($U$8*$U$8) -> 527.62519 | BQ10: =$P$7+BY39*($U$6*$U$6)+BQ39*($U$7*$U$7)+$P$12*($U$13*$U$13)+$P$13*($U$10*$U$10)+$P$14*($U$8*$U$8) -> 612.28607 | BR10: =$P$7+BZ39*($U$6*$U$6)+BR39*($U$7*$U$7)+$P$12*($U$13*$U$13)+$P$13*($U$10*$U$10)+$P$14*($U$8*$U$8) -> 694.02634
A11: Transmissison: | O11: Rear Wheel Inertia | P11: 0.8 | Q11: kg/m^2 | R11: Iwr | T11: Ts,r | U11: =(43/15) -> 2.8666667 | V11: ratio driving-wheel (43/15) | AU11: =AU10+500 -> 6500 | AV11: =($P$7*9.81)*('Zx6r Predicted Values'!$M$20/'Zx6r Predicted Values'!$M$21)-('Zx6r Power Map + Gearing'!M71*('Zx6r Predicted Values'!$M$22/'Zx6r Predicted Values'!$M$21)) -> -134.92682 | AW11: =251*9.81*('Zx6r Predicted Values'!$M$20/'Zx6r Predicted Values'!$M$21)-('Zx6r Power Map + Gearing'!N71*('Zx6r Predicted Values'!$M$22/'Zx6r Predicted Values'!$M$21)) -> 270.50389 | AX11: =251*9.81*('Zx6r Predicted Values'!$M$20/'Zx6r Predicted Values'!$M$21)-('Zx6r Power Map + Gearing'!O71*('Zx6r Predicted Values'!$M$22/'Zx6r Predicted Values'!$M$21)) -> 452.2487 | AY11: =251*9.81*('Zx6r Predicted Values'!$M$20/'Zx6r Predicted Values'!$M$21)-('Zx6r Power Map + Gearing'!P71*('Zx6r Predicted Values'!$M$22/'Zx6r Predicted Values'!$M$21)) -> 553.50652 | AZ11: =251*9.81*('Zx6r Predicted Values'!$M$20/'Zx6r Predicted Values'!$M$21)-('Zx6r Power Map + Gearing'!Q71*('Zx6r Predicted Values'!$M$22/'Zx6r Predicted Values'!$M$21)) -> 636.35382 | BA11: =251*9.81*('Zx6r Predicted Values'!$M$20/'Zx6r Predicted Values'!$M$21)-('Zx6r Power Map + Gearing'!R71*('Zx6r Predicted Values'!$M$22/'Zx6r Predicted Values'!$M$21)) -> 691.91218 | BC11: =BC10+500 -> 6500 | BD11: ='Zx6r Power Map + Gearing'!$P$7*9.81*('Zx6r Predicted Values'!$M$21-'Zx6r Predicted Values'!$M$20)/'Zx6r Predicted Values'!$M$21+'Zx6r Power Map + Gearing'!M71*('Zx6r Predicted Values'!$M$22/'Zx6r Predicted Values'!$M$21) -> 2597.2368 | BE11: =$P$7*9.81*(('Zx6r Predicted Values'!$M$21-'Zx6r Predicted Values'!$M$20)/'Zx6r Predicted Values'!$M$21)+'Zx6r Power Map + Gearing'!N71*('Zx6r Predicted Values'!$M$22/'Zx6r Predicted Values'!$M$21) -> 2191.8061 | BF11: =$P$7*9.81*(('Zx6r Predicted Values'!$M$21-'Zx6r Predicted Values'!$M$20)/'Zx6r Predicted Values'!$M$21)+'Zx6r Power Map + Gearing'!N72*('Zx6r Predicted Values'!$M$22/'Zx6r Predicted Values'!$M$21) -> 2229.3826 | BG11: =$P$7*9.81*(('Zx6r Predicted Values'!$M$21-'Zx6r Predicted Values'!$M$20)/'Zx6r Predicted Values'!$M$21)+'Zx6r Power Map + Gearing'!N73*('Zx6r Predicted Values'!$M$22/'Zx6r Predicted Values'!$M$21) -> 2242.1259 | BH11: =$P$7*9.81*(('Zx6r Predicted Values'!$M$21-'Zx6r Predicted Values'!$M$20)/'Zx6r Predicted Values'!$M$21)+'Zx6r Power Map + Gearing'!N74*('Zx6r Predicted Values'!$M$22/'Zx6r Predicted Values'!$M$21) -> 2290.4444 | BI11: =$P$7*9.81*(('Zx6r Predicted Values'!$M$21-'Zx6r Predicted Values'!$M$20)/'Zx6r Predicted Values'!$M$21)+'Zx6r Power Map + Gearing'!N75*('Zx6r Predicted Values'!$M$22/'Zx6r Predicted Values'!$M$21) -> 2350.5692 | BL11: =BL10+500 -> 6500 | BM11: =$P$7+BU40*($U$6*$U$6)+BM40*($U$7*$U$7)+$P$12*($U$13*$U$13)+$P$13*($U$10*$U$10)+$P$14*($U$8*$U$8) -> 273.00048 | BN11: =$P$7+BV40*($U$6*$U$6)+BN40*($U$7*$U$7)+$P$12*($U$13*$U$13)+$P$13*($U$10*$U$10)+$P$14*($U$8*$U$8) -> 370.92321 | BO11: =$P$7+BW40*($U$6*$U$6)+BO40*($U$7*$U$7)+$P$12*($U$13*$U$13)+$P$13*($U$10*$U$10)+$P$14*($U$8*$U$8) -> 451.77083 | BP11: =$P$7+BX40*($U$6*$U$6)+BP40*($U$7*$U$7)+$P$12*($U$13*$U$13)+$P$13*($U$10*$U$10)+$P$14*($U$8*$U$8) -> 522.85211 | BQ11: =$P$7+BY40*($U$6*$U$6)+BQ40*($U$7*$U$7)+$P$12*($U$13*$U$13)+$P$13*($U$10*$U$10)+$P$14*($U$8*$U$8) -> 609.55849 | BR11: =$P$7+BZ40*($U$6*$U$6)+BR40*($U$7*$U$7)+$P$12*($U$13*$U$13)+$P$13*($U$10*$U$10)+$P$14*($U$8*$U$8) -> 694.8222
A12: Type | B12: 6 speed, constant mesh, return shift | O12: Engine Inertia | P12: 0.05 | Q12: kg/m^2 | R12: Iwm | T12: Tm,p | U12: =1.891 -> 1.891 | V12: Trans. Ratio for Engine - Primary Shafts (87/46) | AU12: =AU11+500 -> 7000 | AV12: =($P$7*9.81)*('Zx6r Predicted Values'!$M$20/'Zx6r Predicted Values'!$M$21)-('Zx6r Power Map + Gearing'!M72*('Zx6r Predicted Values'!$M$22/'Zx6r Predicted Values'!$M$21)) -> -188.36199 | AW12: =251*9.81*('Zx6r Predicted Values'!$M$20/'Zx6r Predicted Values'!$M$21)-('Zx6r Power Map + Gearing'!N72*('Zx6r Predicted Values'!$M$22/'Zx6r Predicted Values'!$M$21)) -> 232.92741 | AX12: =251*9.81*('Zx6r Predicted Values'!$M$20/'Zx6r Predicted Values'!$M$21)-('Zx6r Power Map + Gearing'!O72*('Zx6r Predicted Values'!$M$22/'Zx6r Predicted Values'!$M$21)) -> 421.78128 | AY12: =251*9.81*('Zx6r Predicted Values'!$M$20/'Zx6r Predicted Values'!$M$21)-('Zx6r Power Map + Gearing'!P72*('Zx6r Predicted Values'!$M$22/'Zx6r Predicted Values'!$M$21)) -> 526.99986 | AZ12: =251*9.81*('Zx6r Predicted Values'!$M$20/'Zx6r Predicted Values'!$M$21)-('Zx6r Power Map + Gearing'!Q72*('Zx6r Predicted Values'!$M$22/'Zx6r Predicted Values'!$M$21)) -> 613.08779 | BA12: =251*9.81*('Zx6r Predicted Values'!$M$20/'Zx6r Predicted Values'!$M$21)-('Zx6r Power Map + Gearing'!R72*('Zx6r Predicted Values'!$M$22/'Zx6r Predicted Values'!$M$21)) -> 670.81934 | BC12: =BC11+500 -> 7000 | BD12: ='Zx6r Power Map + Gearing'!$P$7*9.81*('Zx6r Predicted Values'!$M$21-'Zx6r Predicted Values'!$M$20)/'Zx6r Predicted Values'!$M$21+'Zx6r Power Map + Gearing'!M72*('Zx6r Predicted Values'!$M$22/'Zx6r Predicted Values'!$M$21) -> 2650.672 | BE12: =$P$7*9.81*(('Zx6r Predicted Values'!$M$21-'Zx6r Predicted Values'!$M$20)/'Zx6r Predicted Values'!$M$21)+'Zx6r Power Map + Gearing'!N72*('Zx6r Predicted Values'!$M$22/'Zx6r Predicted Values'!$M$21) -> 2229.3826 | BF12: =$P$7*9.81*(('Zx6r Predicted Values'!$M$21-'Zx6r Predicted Values'!$M$20)/'Zx6r Predicted Values'!$M$21)+'Zx6r Power Map + Gearing'!N73*('Zx6r Predicted Values'!$M$22/'Zx6r Predicted Values'!$M$21) -> 2242.1259 | BG12: =$P$7*9.81*(('Zx6r Predicted Values'!$M$21-'Zx6r Predicted Values'!$M$20)/'Zx6r Predicted Values'!$M$21)+'Zx6r Power Map + Gearing'!N74*('Zx6r Predicted Values'!$M$22/'Zx6r Predicted Values'!$M$21) -> 2290.4444 | BH12: =$P$7*9.81*(('Zx6r Predicted Values'!$M$21-'Zx6r Predicted Values'!$M$20)/'Zx6r Predicted Values'!$M$21)+'Zx6r Power Map + Gearing'!N75*('Zx6r Predicted Values'!$M$22/'Zx6r Predicted Values'!$M$21) -> 2350.5692 | BI12: =$P$7*9.81*(('Zx6r Predicted Values'!$M$21-'Zx6r Predicted Values'!$M$20)/'Zx6r Predicted Values'!$M$21)+'Zx6r Power Map + Gearing'!N76*('Zx6r Predicted Values'!$M$22/'Zx6r Predicted Values'!$M$21) -> 2387.4943 | BL12: =BL11+500 -> 7000 | BM12: =$P$7+BU41*($U$6*$U$6)+BM41*($U$7*$U$7)+$P$12*($U$13*$U$13)+$P$13*($U$10*$U$10)+$P$14*($U$8*$U$8) -> 265.7041 | BN12: =$P$7+BV41*($U$6*$U$6)+BN41*($U$7*$U$7)+$P$12*($U$13*$U$13)+$P$13*($U$10*$U$10)+$P$14*($U$8*$U$8) -> 360.27896 | BO12: =$P$7+BW41*($U$6*$U$6)+BO41*($U$7*$U$7)+$P$12*($U$13*$U$13)+$P$13*($U$10*$U$10)+$P$14*($U$8*$U$8) -> 439.15784 | BP12: =$P$7+BX41*($U$6*$U$6)+BP41*($U$7*$U$7)+$P$12*($U$13*$U$13)+$P$13*($U$10*$U$10)+$P$14*($U$8*$U$8) -> 509.21825 | BQ12: =$P$7+BY41*($U$6*$U$6)+BQ41*($U$7*$U$7)+$P$12*($U$13*$U$13)+$P$13*($U$10*$U$10)+$P$14*($U$8*$U$8) -> 595.79395 | BR12: =$P$7+BZ41*($U$6*$U$6)+BR41*($U$7*$U$7)+$P$12*($U$13*$U$13)+$P$13*($U$10*$U$10)+$P$14*($U$8*$U$8) -> 682.30026
O13: Prrimary Shaft Inertia | P13: 0.005 | Q13: kg/m^2 | R13: Iwp | T13: Tm | U13: =U12*U9*U11*U6 -> 12.432742 | V13: ratio engine shaft v to motorcycle forward v | AU13: =AU12+500 -> 7500 | AV13: =($P$7*9.81)*('Zx6r Predicted Values'!$M$20/'Zx6r Predicted Values'!$M$21)-('Zx6r Power Map + Gearing'!M73*('Zx6r Predicted Values'!$M$22/'Zx6r Predicted Values'!$M$21)) -> -206.48349 | AW13: =251*9.81*('Zx6r Predicted Values'!$M$20/'Zx6r Predicted Values'!$M$21)-('Zx6r Power Map + Gearing'!N73*('Zx6r Predicted Values'!$M$22/'Zx6r Predicted Values'!$M$21)) -> 220.18407 | AX13: =251*9.81*('Zx6r Predicted Values'!$M$20/'Zx6r Predicted Values'!$M$21)-('Zx6r Power Map + Gearing'!O73*('Zx6r Predicted Values'!$M$22/'Zx6r Predicted Values'!$M$21)) -> 411.44884 | AY13: =251*9.81*('Zx6r Predicted Values'!$M$20/'Zx6r Predicted Values'!$M$21)-('Zx6r Power Map + Gearing'!P73*('Zx6r Predicted Values'!$M$22/'Zx6r Predicted Values'!$M$21)) -> 518.01064 | AZ13: =251*9.81*('Zx6r Predicted Values'!$M$20/'Zx6r Predicted Values'!$M$21)-('Zx6r Power Map + Gearing'!Q73*('Zx6r Predicted Values'!$M$22/'Zx6r Predicted Values'!$M$21)) -> 605.19757 | BA13: =251*9.81*('Zx6r Predicted Values'!$M$20/'Zx6r Predicted Values'!$M$21)-('Zx6r Power Map + Gearing'!R73*('Zx6r Predicted Values'!$M$22/'Zx6r Predicted Values'!$M$21)) -> 663.66612 | BC13: =BC12+500 -> 7500 | BD13: ='Zx6r Power Map + Gearing'!$P$7*9.81*('Zx6r Predicted Values'!$M$21-'Zx6r Predicted Values'!$M$20)/'Zx6r Predicted Values'!$M$21+'Zx6r Power Map + Gearing'!M73*('Zx6r Predicted Values'!$M$22/'Zx6r Predicted Values'!$M$21) -> 2668.7935 | BE13: =$P$7*9.81*(('Zx6r Predicted Values'!$M$21-'Zx6r Predicted Values'!$M$20)/'Zx6r Predicted Values'!$M$21)+'Zx6r Power Map + Gearing'!N73*('Zx6r Predicted Values'!$M$22/'Zx6r Predicted Values'!$M$21) -> 2242.1259 | BF13: =$P$7*9.81*(('Zx6r Predicted Values'!$M$21-'Zx6r Predicted Values'!$M$20)/'Zx6r Predicted Values'!$M$21)+'Zx6r Power Map + Gearing'!N74*('Zx6r Predicted Values'!$M$22/'Zx6r Predicted Values'!$M$21) -> 2290.4444 | BG13: =$P$7*9.81*(('Zx6r Predicted Values'!$M$21-'Zx6r Predicted Values'!$M$20)/'Zx6r Predicted Values'!$M$21)+'Zx6r Power Map + Gearing'!N75*('Zx6r Predicted Values'!$M$22/'Zx6r Predicted Values'!$M$21) -> 2350.5692 | BH13: =$P$7*9.81*(('Zx6r Predicted Values'!$M$21-'Zx6r Predicted Values'!$M$20)/'Zx6r Predicted Values'!$M$21)+'Zx6r Power Map + Gearing'!N76*('Zx6r Predicted Values'!$M$22/'Zx6r Predicted Values'!$M$21) -> 2387.4943 | BI13: =$P$7*9.81*(('Zx6r Predicted Values'!$M$21-'Zx6r Predicted Values'!$M$20)/'Zx6r Predicted Values'!$M$21)+'Zx6r Power Map + Gearing'!N77*('Zx6r Predicted Values'!$M$22/'Zx6r Predicted Values'!$M$21) -> 2373.5834 | BL13: =BL12+500 -> 7500 | BM13: =$P$7+BU42*($U$6*$U$6)+BM42*($U$7*$U$7)+$P$12*($U$13*$U$13)+$P$13*($U$10*$U$10)+$P$14*($U$8*$U$8) -> 263.53508 | BN13: =$P$7+BV42*($U$6*$U$6)+BN42*($U$7*$U$7)+$P$12*($U$13*$U$13)+$P$13*($U$10*$U$10)+$P$14*($U$8*$U$8) -> 357.67857 | BO13: =$P$7+BW42*($U$6*$U$6)+BO42*($U$7*$U$7)+$P$12*($U$13*$U$13)+$P$13*($U$10*$U$10)+$P$14*($U$8*$U$8) -> 437.1531 | BP13: =$P$7+BX42*($U$6*$U$6)+BP42*($U$7*$U$7)+$P$12*($U$13*$U$13)+$P$13*($U$10*$U$10)+$P$14*($U$8*$U$8) -> 508.71218 | BQ13: =$P$7+BY42*($U$6*$U$6)+BQ42*($U$7*$U$7)+$P$12*($U$13*$U$13)+$P$13*($U$10*$U$10)+$P$14*($U$8*$U$8) -> 598.68099 | BR13: =$P$7+BZ42*($U$6*$U$6)+BR42*($U$7*$U$7)+$P$12*($U$13*$U$13)+$P$13*($U$10*$U$10)+$P$14*($U$8*$U$8) -> 690.51662
A14: Gear Ratios: | E14: Inverse | O14: Secondary Shaft Inertia | P14: 0.007 | Q14: kg/m^2 | R14: Iws | AU14: =AU13+500 -> 8000 | AV14: =($P$7*9.81)*('Zx6r Predicted Values'!$M$20/'Zx6r Predicted Values'!$M$21)-('Zx6r Power Map + Gearing'!M74*('Zx6r Predicted Values'!$M$22/'Zx6r Predicted Values'!$M$21)) -> -275.19415 | AW14: =251*9.81*('Zx6r Predicted Values'!$M$20/'Zx6r Predicted Values'!$M$21)-('Zx6r Power Map + Gearing'!N74*('Zx6r Predicted Values'!$M$22/'Zx6r Predicted Values'!$M$21)) -> 171.86561 | AX14: =251*9.81*('Zx6r Predicted Values'!$M$20/'Zx6r Predicted Values'!$M$21)-('Zx6r Power Map + Gearing'!O74*('Zx6r Predicted Values'!$M$22/'Zx6r Predicted Values'!$M$21)) -> 372.27171 | AY14: =251*9.81*('Zx6r Predicted Values'!$M$20/'Zx6r Predicted Values'!$M$21)-('Zx6r Power Map + Gearing'!P74*('Zx6r Predicted Values'!$M$22/'Zx6r Predicted Values'!$M$21)) -> 483.92654 | AZ14: =251*9.81*('Zx6r Predicted Values'!$M$20/'Zx6r Predicted Values'!$M$21)-('Zx6r Power Map + Gearing'!Q74*('Zx6r Predicted Values'!$M$22/'Zx6r Predicted Values'!$M$21)) -> 575.28049 | BA14: =251*9.81*('Zx6r Predicted Values'!$M$20/'Zx6r Predicted Values'!$M$21)-('Zx6r Power Map + Gearing'!R74*('Zx6r Predicted Values'!$M$22/'Zx6r Predicted Values'!$M$21)) -> 636.54349 | BC14: =BC13+500 -> 8000 | BD14: ='Zx6r Power Map + Gearing'!$P$7*9.81*('Zx6r Predicted Values'!$M$21-'Zx6r Predicted Values'!$M$20)/'Zx6r Predicted Values'!$M$21+'Zx6r Power Map + Gearing'!M74*('Zx6r Predicted Values'!$M$22/'Zx6r Predicted Values'!$M$21) -> 2737.5042 | BE14: =$P$7*9.81*(('Zx6r Predicted Values'!$M$21-'Zx6r Predicted Values'!$M$20)/'Zx6r Predicted Values'!$M$21)+'Zx6r Power Map + Gearing'!N74*('Zx6r Predicted Values'!$M$22/'Zx6r Predicted Values'!$M$21) -> 2290.4444 | BF14: =$P$7*9.81*(('Zx6r Predicted Values'!$M$21-'Zx6r Predicted Values'!$M$20)/'Zx6r Predicted Values'!$M$21)+'Zx6r Power Map + Gearing'!N75*('Zx6r Predicted Values'!$M$22/'Zx6r Predicted Values'!$M$21) -> 2350.5692 | BG14: =$P$7*9.81*(('Zx6r Predicted Values'!$M$21-'Zx6r Predicted Values'!$M$20)/'Zx6r Predicted Values'!$M$21)+'Zx6r Power Map + Gearing'!N76*('Zx6r Predicted Values'!$M$22/'Zx6r Predicted Values'!$M$21) -> 2387.4943 | BH14: =$P$7*9.81*(('Zx6r Predicted Values'!$M$21-'Zx6r Predicted Values'!$M$20)/'Zx6r Predicted Values'!$M$21)+'Zx6r Power Map + Gearing'!N77*('Zx6r Predicted Values'!$M$22/'Zx6r Predicted Values'!$M$21) -> 2373.5834 | BI14: =$P$7*9.81*(('Zx6r Predicted Values'!$M$21-'Zx6r Predicted Values'!$M$20)/'Zx6r Predicted Values'!$M$21)+'Zx6r Power Map + Gearing'!N78*('Zx6r Predicted Values'!$M$22/'Zx6r Predicted Values'!$M$21) -> 2420.5326 | BL14: =BL13+500 -> 8000 | BM14: =$P$7+BU43*($U$6*$U$6)+BM43*($U$7*$U$7)+$P$12*($U$13*$U$13)+$P$13*($U$10*$U$10)+$P$14*($U$8*$U$8) -> 255.06197 | BN14: =$P$7+BV43*($U$6*$U$6)+BN43*($U$7*$U$7)+$P$12*($U$13*$U$13)+$P$13*($U$10*$U$10)+$P$14*($U$8*$U$8) -> 345.14277 | BO14: =$P$7+BW43*($U$6*$U$6)+BO43*($U$7*$U$7)+$P$12*($U$13*$U$13)+$P$13*($U$10*$U$10)+$P$14*($U$8*$U$8) -> 421.92168 | BP14: =$P$7+BX43*($U$6*$U$6)+BP43*($U$7*$U$7)+$P$12*($U$13*$U$13)+$P$13*($U$10*$U$10)+$P$14*($U$8*$U$8) -> 491.70209 | BQ14: =$P$7+BY43*($U$6*$U$6)+BQ43*($U$7*$U$7)+$P$12*($U$13*$U$13)+$P$13*($U$10*$U$10)+$P$14*($U$8*$U$8) -> 580.49257 | BR14: =$P$7+BZ43*($U$6*$U$6)+BR43*($U$7*$U$7)+$P$12*($U$13*$U$13)+$P$13*($U$10*$U$10)+$P$14*($U$8*$U$8) -> 672.49219
A15: 1st | B15: 2.923 | C15: 38 | D15: 13 | E15: =13/38 -> 0.34210526 | O15: Trans. Ratio Driving - Wheel Sprockets | P15: =U11 -> 2.8666667 | R15: Ts,r | T15: front wheel weight bias | U15: 95 | V15: kg | W15: =U15/(U15+U16) -> 0.49479167 | X15: % | AU15: =AU14+500 -> 8500 | AV15: =($P$7*9.81)*('Zx6r Predicted Values'!$M$20/'Zx6r Predicted Values'!$M$21)-('Zx6r Power Map + Gearing'!M75*('Zx6r Predicted Values'!$M$22/'Zx6r Predicted Values'!$M$21)) -> -360.69384 | AW15: =251*9.81*('Zx6r Predicted Values'!$M$20/'Zx6r Predicted Values'!$M$21)-('Zx6r Power Map + Gearing'!N75*('Zx6r Predicted Values'!$M$22/'Zx6r Predicted Values'!$M$21)) -> 111.74083 | AX15: =251*9.81*('Zx6r Predicted Values'!$M$20/'Zx6r Predicted Values'!$M$21)-('Zx6r Power Map + Gearing'!O75*('Zx6r Predicted Values'!$M$22/'Zx6r Predicted Values'!$M$21)) -> 323.52189 | AY15: =251*9.81*('Zx6r Predicted Values'!$M$20/'Zx6r Predicted Values'!$M$21)-('Zx6r Power Map + Gearing'!P75*('Zx6r Predicted Values'!$M$22/'Zx6r Predicted Values'!$M$21)) -> 441.51419 | AZ15: =251*9.81*('Zx6r Predicted Values'!$M$20/'Zx6r Predicted Values'!$M$21)-('Zx6r Power Map + Gearing'!Q75*('Zx6r Predicted Values'!$M$22/'Zx6r Predicted Values'!$M$21)) -> 538.05335 | BA15: =251*9.81*('Zx6r Predicted Values'!$M$20/'Zx6r Predicted Values'!$M$21)-('Zx6r Power Map + Gearing'!R75*('Zx6r Predicted Values'!$M$22/'Zx6r Predicted Values'!$M$21)) -> 602.79361 | BC15: =BC14+500 -> 8500 | BD15: ='Zx6r Power Map + Gearing'!$P$7*9.81*('Zx6r Predicted Values'!$M$21-'Zx6r Predicted Values'!$M$20)/'Zx6r Predicted Values'!$M$21+'Zx6r Power Map + Gearing'!M75*('Zx6r Predicted Values'!$M$22/'Zx6r Predicted Values'!$M$21) -> 2823.0038 | BE15: =$P$7*9.81*(('Zx6r Predicted Values'!$M$21-'Zx6r Predicted Values'!$M$20)/'Zx6r Predicted Values'!$M$21)+'Zx6r Power Map + Gearing'!N75*('Zx6r Predicted Values'!$M$22/'Zx6r Predicted Values'!$M$21) -> 2350.5692 | BF15: =$P$7*9.81*(('Zx6r Predicted Values'!$M$21-'Zx6r Predicted Values'!$M$20)/'Zx6r Predicted Values'!$M$21)+'Zx6r Power Map + Gearing'!N76*('Zx6r Predicted Values'!$M$22/'Zx6r Predicted Values'!$M$21) -> 2387.4943 | BG15: =$P$7*9.81*(('Zx6r Predicted Values'!$M$21-'Zx6r Predicted Values'!$M$20)/'Zx6r Predicted Values'!$M$21)+'Zx6r Power Map + Gearing'!N77*('Zx6r Predicted Values'!$M$22/'Zx6r Predicted Values'!$M$21) -> 2373.5834 | BH15: =$P$7*9.81*(('Zx6r Predicted Values'!$M$21-'Zx6r Predicted Values'!$M$20)/'Zx6r Predicted Values'!$M$21)+'Zx6r Power Map + Gearing'!N78*('Zx6r Predicted Values'!$M$22/'Zx6r Predicted Values'!$M$21) -> 2420.5326 | BI15: =$P$7*9.81*(('Zx6r Predicted Values'!$M$21-'Zx6r Predicted Values'!$M$20)/'Zx6r Predicted Values'!$M$21)+'Zx6r Power Map + Gearing'!N79*('Zx6r Predicted Values'!$M$22/'Zx6r Predicted Values'!$M$21) -> 2463.0103 | BL15: =BL14+500 -> 8500 | BM15: =$P$7+BU44*($U$6*$U$6)+BM44*($U$7*$U$7)+$P$12*($U$13*$U$13)+$P$13*($U$10*$U$10)+$P$14*($U$8*$U$8) -> 245.47789 | BN15: =$P$7+BV44*($U$6*$U$6)+BN44*($U$7*$U$7)+$P$12*($U$13*$U$13)+$P$13*($U$10*$U$10)+$P$14*($U$8*$U$8) -> 330.81661 | BO15: =$P$7+BW44*($U$6*$U$6)+BO44*($U$7*$U$7)+$P$12*($U$13*$U$13)+$P$13*($U$10*$U$10)+$P$14*($U$8*$U$8) -> 404.17677 | BP15: =$P$7+BX44*($U$6*$U$6)+BP44*($U$7*$U$7)+$P$12*($U$13*$U$13)+$P$13*($U$10*$U$10)+$P$14*($U$8*$U$8) -> 471.37469 | BQ15: =$P$7+BY44*($U$6*$U$6)+BQ44*($U$7*$U$7)+$P$12*($U$13*$U$13)+$P$13*($U$10*$U$10)+$P$14*($U$8*$U$8) -> 557.74986 | BR15: =$P$7+BZ44*($U$6*$U$6)+BR44*($U$7*$U$7)+$P$12*($U$13*$U$13)+$P$13*($U$10*$U$10)+$P$14*($U$8*$U$8) -> 648.39413
A16: 2nd | B16: 2.055 | C16: 37 | D16: 18 | E16: =18/37 -> 0.48648649 | O16: Trans. Ratio Primary-Secondary Gear Shafts | P16: =U9 -> 0.72222222 | R16: Tp,s | T16: rear wheel weight bias | U16: 97 | V16: kg | W16: =U16/(U15+U16) -> 0.50520833 | X16: % | AU16: =AU15+500 -> 9000 | AV16: =($P$7*9.81)*('Zx6r Predicted Values'!$M$20/'Zx6r Predicted Values'!$M$21)-('Zx6r Power Map + Gearing'!M76*('Zx6r Predicted Values'!$M$22/'Zx6r Predicted Values'!$M$21)) -> -413.20275 | AW16: =251*9.81*('Zx6r Predicted Values'!$M$20/'Zx6r Predicted Values'!$M$21)-('Zx6r Power Map + Gearing'!N76*('Zx6r Predicted Values'!$M$22/'Zx6r Predicted Values'!$M$21)) -> 74.815707 | AX16: =251*9.81*('Zx6r Predicted Values'!$M$20/'Zx6r Predicted Values'!$M$21)-('Zx6r Power Map + Gearing'!O76*('Zx6r Predicted Values'!$M$22/'Zx6r Predicted Values'!$M$21)) -> 293.5826 | AY16: =251*9.81*('Zx6r Predicted Values'!$M$20/'Zx6r Predicted Values'!$M$21)-('Zx6r Power Map + Gearing'!P76*('Zx6r Predicted Values'!$M$22/'Zx6r Predicted Values'!$M$21)) -> 415.46701 | AZ16: =251*9.81*('Zx6r Predicted Values'!$M$20/'Zx6r Predicted Values'!$M$21)-('Zx6r Power Map + Gearing'!Q76*('Zx6r Predicted Values'!$M$22/'Zx6r Predicted Values'!$M$21)) -> 515.19062 | BA16: =251*9.81*('Zx6r Predicted Values'!$M$20/'Zx6r Predicted Values'!$M$21)-('Zx6r Power Map + Gearing'!R76*('Zx6r Predicted Values'!$M$22/'Zx6r Predicted Values'!$M$21)) -> 582.06642 | BC16: =BC15+500 -> 9000 | BD16: ='Zx6r Power Map + Gearing'!$P$7*9.81*('Zx6r Predicted Values'!$M$21-'Zx6r Predicted Values'!$M$20)/'Zx6r Predicted Values'!$M$21+'Zx6r Power Map + Gearing'!M76*('Zx6r Predicted Values'!$M$22/'Zx6r Predicted Values'!$M$21) -> 2875.5127 | BE16: =$P$7*9.81*(('Zx6r Predicted Values'!$M$21-'Zx6r Predicted Values'!$M$20)/'Zx6r Predicted Values'!$M$21)+'Zx6r Power Map + Gearing'!N76*('Zx6r Predicted Values'!$M$22/'Zx6r Predicted Values'!$M$21) -> 2387.4943 | BF16: =$P$7*9.81*(('Zx6r Predicted Values'!$M$21-'Zx6r Predicted Values'!$M$20)/'Zx6r Predicted Values'!$M$21)+'Zx6r Power Map + Gearing'!N77*('Zx6r Predicted Values'!$M$22/'Zx6r Predicted Values'!$M$21) -> 2373.5834 | BG16: =$P$7*9.81*(('Zx6r Predicted Values'!$M$21-'Zx6r Predicted Values'!$M$20)/'Zx6r Predicted Values'!$M$21)+'Zx6r Power Map + Gearing'!N78*('Zx6r Predicted Values'!$M$22/'Zx6r Predicted Values'!$M$21) -> 2420.5326 | BH16: =$P$7*9.81*(('Zx6r Predicted Values'!$M$21-'Zx6r Predicted Values'!$M$20)/'Zx6r Predicted Values'!$M$21)+'Zx6r Power Map + Gearing'!N79*('Zx6r Predicted Values'!$M$22/'Zx6r Predicted Values'!$M$21) -> 2463.0103 | BI16: =$P$7*9.81*(('Zx6r Predicted Values'!$M$21-'Zx6r Predicted Values'!$M$20)/'Zx6r Predicted Values'!$M$21)+'Zx6r Power Map + Gearing'!N80*('Zx6r Predicted Values'!$M$22/'Zx6r Predicted Values'!$M$21) -> 2501.6265 | BL16: =BL15+500 -> 9000 | BM16: =$P$7+BU45*($U$6*$U$6)+BM45*($U$7*$U$7)+$P$12*($U$13*$U$13)+$P$13*($U$10*$U$10)+$P$14*($U$8*$U$8) -> 240.18483 | BN16: =$P$7+BV45*($U$6*$U$6)+BN45*($U$7*$U$7)+$P$12*($U$13*$U$13)+$P$13*($U$10*$U$10)+$P$14*($U$8*$U$8) -> 323.22594 | BO16: =$P$7+BW45*($U$6*$U$6)+BO45*($U$7*$U$7)+$P$12*($U$13*$U$13)+$P$13*($U$10*$U$10)+$P$14*($U$8*$U$8) -> 395.36264 | BP16: =$P$7+BX45*($U$6*$U$6)+BP45*($U$7*$U$7)+$P$12*($U$13*$U$13)+$P$13*($U$10*$U$10)+$P$14*($U$8*$U$8) -> 462.17759 | BQ16: =$P$7+BY45*($U$6*$U$6)+BQ45*($U$7*$U$7)+$P$12*($U$13*$U$13)+$P$13*($U$10*$U$10)+$P$14*($U$8*$U$8) -> 549.29477 | BR16: =$P$7+BZ45*($U$6*$U$6)+BR45*($U$7*$U$7)+$P$12*($U$13*$U$13)+$P$13*($U$10*$U$10)+$P$14*($U$8*$U$8) -> 642.37559
A17: 3rd | B17: 1.666 | C17: 35 | D17: 21 | E17: =D17/C17 -> 0.6 | O17: Trans. Ratio for Engine - Primary Shafts | P17: =U12 -> 1.891 | R17: Tm,p | AU17: =AU16+500 -> 9500 | AV17: =($P$7*9.81)*('Zx6r Predicted Values'!$M$20/'Zx6r Predicted Values'!$M$21)-('Zx6r Power Map + Gearing'!M77*('Zx6r Predicted Values'!$M$22/'Zx6r Predicted Values'!$M$21)) -> -393.421 | AW17: =251*9.81*('Zx6r Predicted Values'!$M$20/'Zx6r Predicted Values'!$M$21)-('Zx6r Power Map + Gearing'!N77*('Zx6r Predicted Values'!$M$22/'Zx6r Predicted Values'!$M$21)) -> 88.726555 | AX17: =251*9.81*('Zx6r Predicted Values'!$M$20/'Zx6r Predicted Values'!$M$21)-('Zx6r Power Map + Gearing'!O77*('Zx6r Predicted Values'!$M$22/'Zx6r Predicted Values'!$M$21)) -> 304.86167 | AY17: =251*9.81*('Zx6r Predicted Values'!$M$20/'Zx6r Predicted Values'!$M$21)-('Zx6r Power Map + Gearing'!P77*('Zx6r Predicted Values'!$M$22/'Zx6r Predicted Values'!$M$21)) -> 425.2798 | AZ17: =251*9.81*('Zx6r Predicted Values'!$M$20/'Zx6r Predicted Values'!$M$21)-('Zx6r Power Map + Gearing'!Q77*('Zx6r Predicted Values'!$M$22/'Zx6r Predicted Values'!$M$21)) -> 523.80373 | BA17: =251*9.81*('Zx6r Predicted Values'!$M$20/'Zx6r Predicted Values'!$M$21)-('Zx6r Power Map + Gearing'!R77*('Zx6r Predicted Values'!$M$22/'Zx6r Predicted Values'!$M$21)) -> 589.875 | BC17: =BC16+500 -> 9500 | BD17: ='Zx6r Power Map + Gearing'!$P$7*9.81*('Zx6r Predicted Values'!$M$21-'Zx6r Predicted Values'!$M$20)/'Zx6r Predicted Values'!$M$21+'Zx6r Power Map + Gearing'!M77*('Zx6r Predicted Values'!$M$22/'Zx6r Predicted Values'!$M$21) -> 2855.731 | BE17: =$P$7*9.81*(('Zx6r Predicted Values'!$M$21-'Zx6r Predicted Values'!$M$20)/'Zx6r Predicted Values'!$M$21)+'Zx6r Power Map + Gearing'!N77*('Zx6r Predicted Values'!$M$22/'Zx6r Predicted Values'!$M$21) -> 2373.5834 | BF17: =$P$7*9.81*(('Zx6r Predicted Values'!$M$21-'Zx6r Predicted Values'!$M$20)/'Zx6r Predicted Values'!$M$21)+'Zx6r Power Map + Gearing'!N78*('Zx6r Predicted Values'!$M$22/'Zx6r Predicted Values'!$M$21) -> 2420.5326 | BG17: =$P$7*9.81*(('Zx6r Predicted Values'!$M$21-'Zx6r Predicted Values'!$M$20)/'Zx6r Predicted Values'!$M$21)+'Zx6r Power Map + Gearing'!N79*('Zx6r Predicted Values'!$M$22/'Zx6r Predicted Values'!$M$21) -> 2463.0103 | BH17: =$P$7*9.81*(('Zx6r Predicted Values'!$M$21-'Zx6r Predicted Values'!$M$20)/'Zx6r Predicted Values'!$M$21)+'Zx6r Power Map + Gearing'!N80*('Zx6r Predicted Values'!$M$22/'Zx6r Predicted Values'!$M$21) -> 2501.6265 | BI17: =$P$7*9.81*(('Zx6r Predicted Values'!$M$21-'Zx6r Predicted Values'!$M$20)/'Zx6r Predicted Values'!$M$21)+'Zx6r Power Map + Gearing'!N81*('Zx6r Predicted Values'!$M$22/'Zx6r Predicted Values'!$M$21) -> 2485.1726 | BL17: =BL16+500 -> 9500 | BM17: =$P$7+BU46*($U$6*$U$6)+BM46*($U$7*$U$7)+$P$12*($U$13*$U$13)+$P$13*($U$10*$U$10)+$P$14*($U$8*$U$8) -> 242.51027 | BN17: =$P$7+BV46*($U$6*$U$6)+BN46*($U$7*$U$7)+$P$12*($U$13*$U$13)+$P$13*($U$10*$U$10)+$P$14*($U$8*$U$8) -> 327.7218 | BO17: =$P$7+BW46*($U$6*$U$6)+BO46*($U$7*$U$7)+$P$12*($U$13*$U$13)+$P$13*($U$10*$U$10)+$P$14*($U$8*$U$8) -> 402.91851 | BP17: =$P$7+BX46*($U$6*$U$6)+BP46*($U$7*$U$7)+$P$12*($U$13*$U$13)+$P$13*($U$10*$U$10)+$P$14*($U$8*$U$8) -> 473.90674 | BQ17: =$P$7+BY46*($U$6*$U$6)+BQ46*($U$7*$U$7)+$P$12*($U$13*$U$13)+$P$13*($U$10*$U$10)+$P$14*($U$8*$U$8) -> 568.75852 | BR17: =$P$7+BZ46*($U$6*$U$6)+BR46*($U$7*$U$7)+$P$12*($U$13*$U$13)+$P$13*($U$10*$U$10)+$P$14*($U$8*$U$8) -> 673.30225
A18: 4th | B18: 1.45 | C18: 29 | D18: 20 | E18: =D18/C18 -> 0.68965517 | O18: Front Tyre = 120/65/17 | P18: Diameter (wheel + tyre Included) = | Q18: =W20+T20 -> 587.8 | R18: mm | S18: =Q18/1000 -> 0.5878 | T18: m | X18: radius front (r+t)= | Y18: =S18/2 -> 0.2939 | Z18: m | AU18: =AU17+500 -> 10000 | AV18: =($P$7*9.81)*('Zx6r Predicted Values'!$M$20/'Zx6r Predicted Values'!$M$21)-('Zx6r Power Map + Gearing'!M78*('Zx6r Predicted Values'!$M$22/'Zx6r Predicted Values'!$M$21)) -> -460.1844 | AW18: =251*9.81*('Zx6r Predicted Values'!$M$20/'Zx6r Predicted Values'!$M$21)-('Zx6r Power Map + Gearing'!N78*('Zx6r Predicted Values'!$M$22/'Zx6r Predicted Values'!$M$21)) -> 41.777441 | AX18: =251*9.81*('Zx6r Predicted Values'!$M$20/'Zx6r Predicted Values'!$M$21)-('Zx6r Power Map + Gearing'!O78*('Zx6r Predicted Values'!$M$22/'Zx6r Predicted Values'!$M$21)) -> 266.79482 | AY18: =251*9.81*('Zx6r Predicted Values'!$M$20/'Zx6r Predicted Values'!$M$21)-('Zx6r Power Map + Gearing'!P78*('Zx6r Predicted Values'!$M$22/'Zx6r Predicted Values'!$M$21)) -> 392.16164 | AZ18: =251*9.81*('Zx6r Predicted Values'!$M$20/'Zx6r Predicted Values'!$M$21)-('Zx6r Power Map + Gearing'!Q78*('Zx6r Predicted Values'!$M$22/'Zx6r Predicted Values'!$M$21)) -> 494.7345 | BA18: =251*9.81*('Zx6r Predicted Values'!$M$20/'Zx6r Predicted Values'!$M$21)-('Zx6r Power Map + Gearing'!R78*('Zx6r Predicted Values'!$M$22/'Zx6r Predicted Values'!$M$21)) -> 563.52103 | BC18: =BC17+500 -> 10000 | BD18: ='Zx6r Power Map + Gearing'!$P$7*9.81*('Zx6r Predicted Values'!$M$21-'Zx6r Predicted Values'!$M$20)/'Zx6r Predicted Values'!$M$21+'Zx6r Power Map + Gearing'!M78*('Zx6r Predicted Values'!$M$22/'Zx6r Predicted Values'!$M$21) -> 2922.4944 | BE18: =$P$7*9.81*(('Zx6r Predicted Values'!$M$21-'Zx6r Predicted Values'!$M$20)/'Zx6r Predicted Values'!$M$21)+'Zx6r Power Map + Gearing'!N78*('Zx6r Predicted Values'!$M$22/'Zx6r Predicted Values'!$M$21) -> 2420.5326 | BF18: =$P$7*9.81*(('Zx6r Predicted Values'!$M$21-'Zx6r Predicted Values'!$M$20)/'Zx6r Predicted Values'!$M$21)+'Zx6r Power Map + Gearing'!N79*('Zx6r Predicted Values'!$M$22/'Zx6r Predicted Values'!$M$21) -> 2463.0103 | BG18: =$P$7*9.81*(('Zx6r Predicted Values'!$M$21-'Zx6r Predicted Values'!$M$20)/'Zx6r Predicted Values'!$M$21)+'Zx6r Power Map + Gearing'!N80*('Zx6r Predicted Values'!$M$22/'Zx6r Predicted Values'!$M$21) -> 2501.6265 | BH18: =$P$7*9.81*(('Zx6r Predicted Values'!$M$21-'Zx6r Predicted Values'!$M$20)/'Zx6r Predicted Values'!$M$21)+'Zx6r Power Map + Gearing'!N81*('Zx6r Predicted Values'!$M$22/'Zx6r Predicted Values'!$M$21) -> 2485.1726 | BI18: =$P$7*9.81*(('Zx6r Predicted Values'!$M$21-'Zx6r Predicted Values'!$M$20)/'Zx6r Predicted Values'!$M$21)+'Zx6r Power Map + Gearing'!N82*('Zx6r Predicted Values'!$M$22/'Zx6r Predicted Values'!$M$21) -> 2470.09 | BL18: =BL17+500 -> 10000 | BM18: =$P$7+BU47*($U$6*$U$6)+BM47*($U$7*$U$7)+$P$12*($U$13*$U$13)+$P$13*($U$10*$U$10)+$P$14*($U$8*$U$8) -> 236.02328 | BN18: =$P$7+BV47*($U$6*$U$6)+BN47*($U$7*$U$7)+$P$12*($U$13*$U$13)+$P$13*($U$10*$U$10)+$P$14*($U$8*$U$8) -> 318.19965 | BO18: =$P$7+BW47*($U$6*$U$6)+BO47*($U$7*$U$7)+$P$12*($U$13*$U$13)+$P$13*($U$10*$U$10)+$P$14*($U$8*$U$8) -> 391.43096 | BP18: =$P$7+BX47*($U$6*$U$6)+BP47*($U$7*$U$7)+$P$12*($U$13*$U$13)+$P$13*($U$10*$U$10)+$P$14*($U$8*$U$8) -> 461.26469 | BQ18: =$P$7+BY47*($U$6*$U$6)+BQ47*($U$7*$U$7)+$P$12*($U$13*$U$13)+$P$13*($U$10*$U$10)+$P$14*($U$8*$U$8) -> 555.81187 | BR18: =$P$7+BZ47*($U$6*$U$6)+BR47*($U$7*$U$7)+$P$12*($U$13*$U$13)+$P$13*($U$10*$U$10)+$P$14*($U$8*$U$8) -> 661.80716
A19: 5th | B19: 1.272 | C19: 28 | D19: 22 | E19: =D19/C19 -> 0.78571429 | O19: Rear Tyre = 180/55/17 | P19: Diameter (wheel + tyre Included) = | Q19: =W20+T21 -> 629.8 | R19: mm | S19: =Q19/1000 -> 0.6298 | T19: m | X19: radius back (r+t)= | Y19: =S19/2 -> 0.3149 | Z19: m | AU19: =AU18+500 -> 10500 | AV19: =($P$7*9.81)*('Zx6r Predicted Values'!$M$20/'Zx6r Predicted Values'!$M$21)-('Zx6r Power Map + Gearing'!M79*('Zx6r Predicted Values'!$M$22/'Zx6r Predicted Values'!$M$21)) -> -520.58938 | AW19: =251*9.81*('Zx6r Predicted Values'!$M$20/'Zx6r Predicted Values'!$M$21)-('Zx6r Power Map + Gearing'!N79*('Zx6r Predicted Values'!$M$22/'Zx6r Predicted Values'!$M$21)) -> -0.70032893 | AX19: =251*9.81*('Zx6r Predicted Values'!$M$20/'Zx6r Predicted Values'!$M$21)-('Zx6r Power Map + Gearing'!O79*('Zx6r Predicted Values'!$M$22/'Zx6r Predicted Values'!$M$21)) -> 232.35338 | AY19: =251*9.81*('Zx6r Predicted Values'!$M$20/'Zx6r Predicted Values'!$M$21)-('Zx6r Power Map + Gearing'!P79*('Zx6r Predicted Values'!$M$22/'Zx6r Predicted Values'!$M$21)) -> 362.19759 | AZ19: =251*9.81*('Zx6r Predicted Values'!$M$20/'Zx6r Predicted Values'!$M$21)-('Zx6r Power Map + Gearing'!Q79*('Zx6r Predicted Values'!$M$22/'Zx6r Predicted Values'!$M$21)) -> 468.43376 | BA19: =251*9.81*('Zx6r Predicted Values'!$M$20/'Zx6r Predicted Values'!$M$21)-('Zx6r Power Map + Gearing'!R79*('Zx6r Predicted Values'!$M$22/'Zx6r Predicted Values'!$M$21)) -> 539.67696 | BC19: =BC18+500 -> 10500 | BD19: ='Zx6r Power Map + Gearing'!$P$7*9.81*('Zx6r Predicted Values'!$M$21-'Zx6r Predicted Values'!$M$20)/'Zx6r Predicted Values'!$M$21+'Zx6r Power Map + Gearing'!M79*('Zx6r Predicted Values'!$M$22/'Zx6r Predicted Values'!$M$21) -> 2982.8994 | BE19: =$P$7*9.81*(('Zx6r Predicted Values'!$M$21-'Zx6r Predicted Values'!$M$20)/'Zx6r Predicted Values'!$M$21)+'Zx6r Power Map + Gearing'!N79*('Zx6r Predicted Values'!$M$22/'Zx6r Predicted Values'!$M$21) -> 2463.0103 | BF19: =$P$7*9.81*(('Zx6r Predicted Values'!$M$21-'Zx6r Predicted Values'!$M$20)/'Zx6r Predicted Values'!$M$21)+'Zx6r Power Map + Gearing'!N80*('Zx6r Predicted Values'!$M$22/'Zx6r Predicted Values'!$M$21) -> 2501.6265 | BG19: =$P$7*9.81*(('Zx6r Predicted Values'!$M$21-'Zx6r Predicted Values'!$M$20)/'Zx6r Predicted Values'!$M$21)+'Zx6r Power Map + Gearing'!N81*('Zx6r Predicted Values'!$M$22/'Zx6r Predicted Values'!$M$21) -> 2485.1726 | BH19: =$P$7*9.81*(('Zx6r Predicted Values'!$M$21-'Zx6r Predicted Values'!$M$20)/'Zx6r Predicted Values'!$M$21)+'Zx6r Power Map + Gearing'!N82*('Zx6r Predicted Values'!$M$22/'Zx6r Predicted Values'!$M$21) -> 2470.09 | BI19: =$P$7*9.81*(('Zx6r Predicted Values'!$M$21-'Zx6r Predicted Values'!$M$20)/'Zx6r Predicted Values'!$M$21)+'Zx6r Power Map + Gearing'!N83*('Zx6r Predicted Values'!$M$22/'Zx6r Predicted Values'!$M$21) -> 2468.1077 | BL19: =BL18+500 -> 10500 | BM19: =$P$7+BU48*($U$6*$U$6)+BM48*($U$7*$U$7)+$P$12*($U$13*$U$13)+$P$13*($U$10*$U$10)+$P$14*($U$8*$U$8) -> 230.60644 | BN19: =$P$7+BV48*($U$6*$U$6)+BN48*($U$7*$U$7)+$P$12*($U$13*$U$13)+$P$13*($U$10*$U$10)+$P$14*($U$8*$U$8) -> 310.34792 | BO19: =$P$7+BW48*($U$6*$U$6)+BO48*($U$7*$U$7)+$P$12*($U$13*$U$13)+$P$13*($U$10*$U$10)+$P$14*($U$8*$U$8) -> 382.14157 | BP19: =$P$7+BX48*($U$6*$U$6)+BP48*($U$7*$U$7)+$P$12*($U$13*$U$13)+$P$13*($U$10*$U$10)+$P$14*($U$8*$U$8) -> 451.35514 | BQ19: =$P$7+BY48*($U$6*$U$6)+BQ48*($U$7*$U$7)+$P$12*($U$13*$U$13)+$P$13*($U$10*$U$10)+$P$14*($U$8*$U$8) -> 546.41334 | BR19: =$P$7+BZ48*($U$6*$U$6)+BR48*($U$7*$U$7)+$P$12*($U$13*$U$13)+$P$13*($U$10*$U$10)+$P$14*($U$8*$U$8) -> 654.98514
A20: 6th | B20: 1.153 | C20: 30 | D20: 26 | E20: =D20/C20 -> 0.86666667 | O20: 120*0.65 = | P20: =120*0.65 -> 78 | Q20: mm | R20: tread depth (each side) | S20: x2= | T20: =P20*2 -> 156 | U20: mm | V20: 17 inch = | W20: 431.8 | X20: mm | Y20: =W20/1000 -> 0.4318 | Z20: m | AU20: =AU19+500 -> 11000 | AV20: =($P$7*9.81)*('Zx6r Predicted Values'!$M$20/'Zx6r Predicted Values'!$M$21)-('Zx6r Power Map + Gearing'!M80*('Zx6r Predicted Values'!$M$22/'Zx6r Predicted Values'!$M$21)) -> -575.50299 | AW20: =251*9.81*('Zx6r Predicted Values'!$M$20/'Zx6r Predicted Values'!$M$21)-('Zx6r Power Map + Gearing'!N80*('Zx6r Predicted Values'!$M$22/'Zx6r Predicted Values'!$M$21)) -> -39.316483 | AX20: =251*9.81*('Zx6r Predicted Values'!$M$20/'Zx6r Predicted Values'!$M$21)-('Zx6r Power Map + Gearing'!O80*('Zx6r Predicted Values'!$M$22/'Zx6r Predicted Values'!$M$21)) -> 201.04299 | AY20: =251*9.81*('Zx6r Predicted Values'!$M$20/'Zx6r Predicted Values'!$M$21)-('Zx6r Power Map + Gearing'!P80*('Zx6r Predicted Values'!$M$22/'Zx6r Predicted Values'!$M$21)) -> 334.95755 | AZ20: =251*9.81*('Zx6r Predicted Values'!$M$20/'Zx6r Predicted Values'!$M$21)-('Zx6r Power Map + Gearing'!Q80*('Zx6r Predicted Values'!$M$22/'Zx6r Predicted Values'!$M$21)) -> 444.52401 | BA20: =251*9.81*('Zx6r Predicted Values'!$M$20/'Zx6r Predicted Values'!$M$21)-('Zx6r Power Map + Gearing'!R80*('Zx6r Predicted Values'!$M$22/'Zx6r Predicted Values'!$M$21)) -> 518.00053 | BC20: =BC19+500 -> 11000 | BD20: ='Zx6r Power Map + Gearing'!$P$7*9.81*('Zx6r Predicted Values'!$M$21-'Zx6r Predicted Values'!$M$20)/'Zx6r Predicted Values'!$M$21+'Zx6r Power Map + Gearing'!M80*('Zx6r Predicted Values'!$M$22/'Zx6r Predicted Values'!$M$21) -> 3037.813 | BE20: =$P$7*9.81*(('Zx6r Predicted Values'!$M$21-'Zx6r Predicted Values'!$M$20)/'Zx6r Predicted Values'!$M$21)+'Zx6r Power Map + Gearing'!N80*('Zx6r Predicted Values'!$M$22/'Zx6r Predicted Values'!$M$21) -> 2501.6265 | BF20: =$P$7*9.81*(('Zx6r Predicted Values'!$M$21-'Zx6r Predicted Values'!$M$20)/'Zx6r Predicted Values'!$M$21)+'Zx6r Power Map + Gearing'!N81*('Zx6r Predicted Values'!$M$22/'Zx6r Predicted Values'!$M$21) -> 2485.1726 | BG20: =$P$7*9.81*(('Zx6r Predicted Values'!$M$21-'Zx6r Predicted Values'!$M$20)/'Zx6r Predicted Values'!$M$21)+'Zx6r Power Map + Gearing'!N82*('Zx6r Predicted Values'!$M$22/'Zx6r Predicted Values'!$M$21) -> 2470.09 | BH20: =$P$7*9.81*(('Zx6r Predicted Values'!$M$21-'Zx6r Predicted Values'!$M$20)/'Zx6r Predicted Values'!$M$21)+'Zx6r Power Map + Gearing'!N83*('Zx6r Predicted Values'!$M$22/'Zx6r Predicted Values'!$M$21) -> 2468.1077 | BI20: =$P$7*9.81*(('Zx6r Predicted Values'!$M$21-'Zx6r Predicted Values'!$M$20)/'Zx6r Predicted Values'!$M$21)+'Zx6r Power Map + Gearing'!N84*('Zx6r Predicted Values'!$M$22/'Zx6r Predicted Values'!$M$21) -> 2443.4052 | BL20: =BL19+500 -> 11000 | BM20: =$P$7+BU49*($U$6*$U$6)+BM49*($U$7*$U$7)+$P$12*($U$13*$U$13)+$P$13*($U$10*$U$10)+$P$14*($U$8*$U$8) -> 226.02151 | BN20: =$P$7+BV49*($U$6*$U$6)+BN49*($U$7*$U$7)+$P$12*($U$13*$U$13)+$P$13*($U$10*$U$10)+$P$14*($U$8*$U$8) -> 303.79479 | BO20: =$P$7+BW49*($U$6*$U$6)+BO49*($U$7*$U$7)+$P$12*($U$13*$U$13)+$P$13*($U$10*$U$10)+$P$14*($U$8*$U$8) -> 374.57 | BP20: =$P$7+BX49*($U$6*$U$6)+BP49*($U$7*$U$7)+$P$12*($U$13*$U$13)+$P$13*($U$10*$U$10)+$P$14*($U$8*$U$8) -> 443.60241 | BQ20: =$P$7+BY49*($U$6*$U$6)+BQ49*($U$7*$U$7)+$P$12*($U$13*$U$13)+$P$13*($U$10*$U$10)+$P$14*($U$8*$U$8) -> 539.88266 | BR20: =$P$7+BZ49*($U$6*$U$6)+BR49*($U$7*$U$7)+$P$12*($U$13*$U$13)+$P$13*($U$10*$U$10)+$P$14*($U$8*$U$8) -> 652.09959
O21: 180 * 0.55 = | P21: =180*0.55 -> 99 | Q21: mm | R21: tread depth (each side) | S21: x2= | T21: =P21*2 -> 198 | U21: mm | AU21: =AU20+500 -> 11500 | AV21: =($P$7*9.81)*('Zx6r Predicted Values'!$M$20/'Zx6r Predicted Values'!$M$21)-('Zx6r Power Map + Gearing'!M81*('Zx6r Predicted Values'!$M$22/'Zx6r Predicted Values'!$M$21)) -> -552.10502 | AW21: =251*9.81*('Zx6r Predicted Values'!$M$20/'Zx6r Predicted Values'!$M$21)-('Zx6r Power Map + Gearing'!N81*('Zx6r Predicted Values'!$M$22/'Zx6r Predicted Values'!$M$21)) -> -22.862644 | AX21: =251*9.81*('Zx6r Predicted Values'!$M$20/'Zx6r Predicted Values'!$M$21)-('Zx6r Power Map + Gearing'!O81*('Zx6r Predicted Values'!$M$22/'Zx6r Predicted Values'!$M$21)) -> 214.38394 | AY21: =251*9.81*('Zx6r Predicted Values'!$M$20/'Zx6r Predicted Values'!$M$21)-('Zx6r Power Map + Gearing'!P81*('Zx6r Predicted Values'!$M$22/'Zx6r Predicted Values'!$M$21)) -> 346.56418 | AZ21: =251*9.81*('Zx6r Predicted Values'!$M$20/'Zx6r Predicted Values'!$M$21)-('Zx6r Power Map + Gearing'!Q81*('Zx6r Predicted Values'!$M$22/'Zx6r Predicted Values'!$M$21)) -> 454.71164 | BA21: =251*9.81*('Zx6r Predicted Values'!$M$20/'Zx6r Predicted Values'!$M$21)-('Zx6r Power Map + Gearing'!R81*('Zx6r Predicted Values'!$M$22/'Zx6r Predicted Values'!$M$21)) -> 527.23657 | BC21: =BC20+500 -> 11500 | BD21: ='Zx6r Power Map + Gearing'!$P$7*9.81*('Zx6r Predicted Values'!$M$21-'Zx6r Predicted Values'!$M$20)/'Zx6r Predicted Values'!$M$21+'Zx6r Power Map + Gearing'!M81*('Zx6r Predicted Values'!$M$22/'Zx6r Predicted Values'!$M$21) -> 3014.415 | BE21: =$P$7*9.81*(('Zx6r Predicted Values'!$M$21-'Zx6r Predicted Values'!$M$20)/'Zx6r Predicted Values'!$M$21)+'Zx6r Power Map + Gearing'!N81*('Zx6r Predicted Values'!$M$22/'Zx6r Predicted Values'!$M$21) -> 2485.1726 | BF21: =$P$7*9.81*(('Zx6r Predicted Values'!$M$21-'Zx6r Predicted Values'!$M$20)/'Zx6r Predicted Values'!$M$21)+'Zx6r Power Map + Gearing'!N82*('Zx6r Predicted Values'!$M$22/'Zx6r Predicted Values'!$M$21) -> 2470.09 | BG21: =$P$7*9.81*(('Zx6r Predicted Values'!$M$21-'Zx6r Predicted Values'!$M$20)/'Zx6r Predicted Values'!$M$21)+'Zx6r Power Map + Gearing'!N83*('Zx6r Predicted Values'!$M$22/'Zx6r Predicted Values'!$M$21) -> 2468.1077 | BH21: =$P$7*9.81*(('Zx6r Predicted Values'!$M$21-'Zx6r Predicted Values'!$M$20)/'Zx6r Predicted Values'!$M$21)+'Zx6r Power Map + Gearing'!N84*('Zx6r Predicted Values'!$M$22/'Zx6r Predicted Values'!$M$21) -> 2443.4052 | BI21: =$P$7*9.81*(('Zx6r Predicted Values'!$M$21-'Zx6r Predicted Values'!$M$20)/'Zx6r Predicted Values'!$M$21)+'Zx6r Power Map + Gearing'!N85*('Zx6r Predicted Values'!$M$22/'Zx6r Predicted Values'!$M$21) -> 2420.5326 | BL21: =BL20+500 -> 11500 | BM21: =$P$7+BU50*($U$6*$U$6)+BM50*($U$7*$U$7)+$P$12*($U$13*$U$13)+$P$13*($U$10*$U$10)+$P$14*($U$8*$U$8) -> 228.33353 | BN21: =$P$7+BV50*($U$6*$U$6)+BN50*($U$7*$U$7)+$P$12*($U$13*$U$13)+$P$13*($U$10*$U$10)+$P$14*($U$8*$U$8) -> 308.3588 | BO21: =$P$7+BW50*($U$6*$U$6)+BO50*($U$7*$U$7)+$P$12*($U$13*$U$13)+$P$13*($U$10*$U$10)+$P$14*($U$8*$U$8) -> 382.50184 | BP21: =$P$7+BX50*($U$6*$U$6)+BP50*($U$7*$U$7)+$P$12*($U$13*$U$13)+$P$13*($U$10*$U$10)+$P$14*($U$8*$U$8) -> 456.41909 | BQ21: =$P$7+BY50*($U$6*$U$6)+BQ50*($U$7*$U$7)+$P$12*($U$13*$U$13)+$P$13*($U$10*$U$10)+$P$14*($U$8*$U$8) -> 562.5519 | BR21: =$P$7+BZ50*($U$6*$U$6)+BR50*($U$7*$U$7)+$P$12*($U$13*$U$13)+$P$13*($U$10*$U$10)+$P$14*($U$8*$U$8) -> 691.15057
