Workbook

Sheet IsoDodecane
B2: O2 | C2: 21 | F2: Atmospheric Composition
B3: N2 | C3: 79 | F3: Ratio | G3: =C3/C2 -> 3.7619048
B5: HC Fuel Balance | C5: C12 H26 + x(O2 + 3.76N2) --> n1CO2 + n2H2O + n3N2
B7: Carbon (y) | C7: 12 | F7: C (n1) | G7: =C7 -> 12
B8: Hydrogen (2y+2) | C8: =2*(C7)+2 -> 26 | F8: H (n2) | G8: =(2*(G7)+2)/2 -> 13
F9: O (x) | G9: =(2*(G7)+G8)/2 -> 18.5
B10: Molecular Weight | F10: N (n3) | G10: =G3*(G9) -> 69.595238
B11: Air | C11: =((2*C14)+G3*(2*C15)) -> 137.384
B12: Carbon | C12: 12.011 | F12: m(air) | G12: =G9*C11 -> 2541.604
B13: Hydrogen | C13: 1.0078 | F13: m(fuel) | G13: =(C7*C12)+(C8*C13) -> 170.3348
B14: Oxygen | C14: 15.999
B15: Nitrogen | C15: 14.007 | F15: Stoich AFR | G15: =G12/G13 -> 14.921226
D17: 1kmol of Dodecane | E17: =(C7*C12)+(C8*C13) -> 170.3348 | F17: kg
D18: 12 kmols of CO2 | E18: =C7*(C12+(C14*2)) -> 528.108 | F18: kg
B20: Therefore, burning 1kg of Dodecane will make | E20: =E18/E17 -> 3.1004117 | F20: kg of CO2

Sheet M50
B2: O2 | C2: 21 | H2: Atmospheric Composition
B3: N2 | C3: 79 | H3: Ratio | I3: =C3/C2 -> 3.7619048
B5: HC Fuel Balance | C5: 0.5(C8 H18) + 0.5(C H4 O) + x(O2 + 3.76N2) --> n1CO2 + n2H2O + n3N2
B7: Carbon | C7: =0.5*(IsoOctane!C7) -> 4 | E7: Carbon | F7: =0.5*(Methanol!C7) -> 0.5 | H7: C (n1) | I7: =C7+F7 -> 4.5
B8: Hydrogen | C8: =0.5*(IsoOctane!C8) -> 9 | E8: Hydrogen | F8: =0.5*(Methanol!C8) -> 2 | H8: H (n2) | I8: =(C8+F8)/2 -> 5.5
E9: Oxygen | F9: =0.5*(Methanol!C9) -> 0.5 | H9: O (x) | I9: =(2*(I7)+I8-0.5)/2 -> 7
B10: Molecular Weight | H10: N (n3) | I10: =I3*(I9) -> 26.333333
B11: Air | C11: =((2*C14)+I3*(2*C15)) -> 137.384
B12: Carbon | C12: 12.011 | H12: m(air) | I12: =I9*C11 -> 961.688
B13: Hydrogen | C13: 1.0078 | H13: m(fuel) | I13: =((C12*F7)+(F8*C13)+C14)+((C7*C12)+(C8*C13)) -> 81.1343
B14: Oxygen | C14: 15.999
B15: Nitrogen | C15: 14.007 | H15: Stoich AFR | I15: =I12/I13 -> 11.853039
B17: IsoOctane Mass per 1kmol | D17: =(C12*C7)+(C13*C8) -> 57.1142 | G17: Mass Percentage of IsoOctane | I17: =D17/(D17+D18) -> 0.78094423
B18: Methanol Mass per 1kmol | D18: =((C12*F7)+(C13*F8)+(C14*F9)) -> 16.0206 | G18: Mass Percentage of Methanol | I18: =D18/(D18+D17) -> 0.21905577
D20: 1kmol of M50 | E20: =((C7+F7)*C12)+((C8+F8)*C13)+C14 -> 81.1343 | F20: kg
D21: 9 kmols of CO2 | E21: =(C7+F7)*(C12+(C14*2)) -> 198.0405 | F21: kg
B23: Therefore, burning 1kg of IsoOctane will make | F23: =E21/E20 -> 2.4408974 | G23: kg of CO2
B25: The low AFR means that this number is misleading. Finding the difference in fuel ratio between methanol and IsoOctane will correct this:
B28: The IsoOctane AFR is | D28: =IsoOctane!G15/I15 -> 1.2683595 | E28: times larger than that of Ethanol
B30: The effective CO2 comparison with IsoOctane is | F30: =F23*D28 -> 3.0959354 | G30: kg of CO2 per kg of Ethanol burnt.

Sheet E10
B2: O2 | C2: 21 | H2: Atmospheric Composition
B3: N2 | C3: 79 | H3: Ratio | I3: =C3/C2 -> 3.7619048
B5: HC Fuel Balance | C5: 0.76(C8 H18) + 0.24(C2 H6 O) + x(O2 + 3.76N2) --> n1CO2 + n2H2O + n3N2
B7: Carbon | C7: =0.76*(IsoOctane!C7) -> 6.08 | E7: Carbon | F7: =0.24*(Ethanol!C7) -> 0.48 | H7: C (n1) | I7: =C7+F7 -> 6.56
B8: Hydrogen | C8: =0.76*(IsoOctane!C8) -> 13.68 | E8: Hydrogen | F8: =0.24*(Ethanol!C8) -> 1.44 | H8: H (n2) | I8: =(C8+F8)/2 -> 7.56
E9: Oxygen | F9: =0.24*(Ethanol!C9) -> 0.24 | H9: O (x) | I9: =(2*(I7)+I8-0.24)/2 -> 10.22
B10: Molecular Weight | H10: N (n3) | I10: =I3*(I9) -> 38.446667
B11: Air | C11: =((2*C14)+I3*(2*C15)) -> 137.384
B12: Carbon | C12: 12.011 | H12: m(air) | I12: =I9*C11 -> 1404.0645
B13: Hydrogen | C13: 1.0078 | H13: m(fuel) | I13: =((C12*F7)+(F8*C13)+C14)+((C7*C12)+(C8*C13)) -> 110.0291
B14: Oxygen | C14: 15.999
B15: Nitrogen | C15: 14.007 | H15: Stoich AFR | I15: =I12/I13 -> 12.760847
B17: IsoOctane Mass per 1kmol | D17: =(C12*C7)+(C13*C8) -> 86.813584 | G17: Mass Percentage of IsoOctane | I17: =D17/(D17+D18) -> 0.88703087
B18: Ethanol Mass per 1kmol | D18: =((C12*F7)+(C13*F8)+(C14*F9)) -> 11.056272 | G18: Mass Percentage of Ethanol | I18: =D18/(D18+D17) -> 0.11296913
B20: IsoOctane Volume | C20: =D17/'Alternative Fuel Values'!E3 -> 0.12581679 | G20: Volume Percentage of IsoOctane | I20: =C20/(C20+C21) -> 0.89978518
B21: Ethanol Volume | C21: =D18/'Alternative Fuel Values'!E5 -> 0.014013019 | G21: Volume Percentage of Ethanol | I21: =C21/(C21+C20) -> 0.10021482
D23: 1kmol of E10 | E23: =((C7+F7)*C12)+((C8+F8)*C13)+C14 -> 110.0291 | F23: kg
D24: 6.56 kmols of CO2 | E24: =(C7+F7)*(C12+(C14*2)) -> 288.69904 | F24: kg
B26: Therefore, burning 1kg of IsoOctane will make | F26: =E24/E23 -> 2.6238427 | G26: kg of CO2
B28: The low AFR means that this number is misleading. Finding the difference in fuel ratio between methanol and IsoOctane will correct this:
B31: The IsoOctane AFR is | D31: =IsoOctane!G15/I15 -> 1.1781282 | E31: times larger than that of Ethanol
B33: The effective CO2 comparison with IsoOctane is | F33: =F26*D31 -> 3.0912232 | G33: kg of CO2 per kg of Ethanol burnt.

Sheet IsoOctane
B2: O2 | C2: 21 | F2: Atmospheric Composition
B3: N2 | C3: 79 | F3: Ratio | G3: =C3/C2 -> 3.7619048
B5: HC Fuel Balance | C5: C8 H18 + x(O2 + 3.76N2) --> n1CO2 + n2H2O + n3N2
B7: Carbon | C7: 8 | F7: C (n1) | G7: =C7 -> 8
B8: Hydrogen | C8: =2*(C7)+2 -> 18 | F8: H (n2) | G8: =(2*(G7)+2)/2 -> 9
F9: O (x) | G9: =(2*(G7)+G8)/2 -> 12.5
B10: Molecular Weight | F10: N (n3) | G10: =G3*(G9) -> 47.02381
B11: Air | C11: =((2*C14)+G3*(2*C15)) -> 137.384
B12: Carbon | C12: 12.011 | F12: m(air) | G12: =G9*C11 -> 1717.3
B13: Hydrogen | C13: 1.0078 | F13: m(fuel) | G13: =(C7*C12)+(C8*C13) -> 114.2284
B14: Oxygen | C14: 15.999
B15: Nitrogen | C15: 14.007 | F15: Stoich AFR | G15: =G12/G13 -> 15.033915
D17: 1kmol of Gasoline | E17: =(C7*C12)+(C8*C13) -> 114.2284 | F17: kg
D18: 8 kmols of CO2 | E18: =C7*(C12+(C14*2)) -> 352.072 | F18: kg
B20: Therefore, burning 1kg of IsoOctane will make | E20: =E18/E17 -> 3.0821757 | F20: kg of CO2

Sheet E85
B2: O2 | C2: 21 | H2: Atmospheric Composition
B3: N2 | C3: 79 | H3: Ratio | I3: =C3/C2 -> 3.7619048
B5: HC Fuel Balance | C5: 0.059(C8 H18) + 0.941(C2 H6 O) + x(O2 + 3.76N2) --> n1CO2 + n2H2O + n3N2
B7: Carbon | C7: =0.059*(IsoOctane!C7) -> 0.472 | E7: Carbon | F7: =0.941*(Ethanol!C7) -> 1.882 | H7: C (n1) | I7: =C7+F7 -> 2.354
B8: Hydrogen | C8: =0.059*(IsoOctane!C8) -> 1.062 | E8: Hydrogen | F8: =0.941*(Ethanol!C8) -> 5.646 | H8: H (n2) | I8: =(C8+F8)/2 -> 3.354
E9: Oxygen | F9: =0.941*(Ethanol!C9) -> 0.941 | H9: O (x) | I9: =(2*(I7)+I8-0.941)/2 -> 3.5605
B10: Molecular Weight | H10: N (n3) | I10: =I3*(I9) -> 13.394262
B11: Air | C11: =((2*C14)+I3*(2*C15)) -> 137.384
B12: Carbon | C12: 12.011 | H12: m(air) | I12: =I9*C11 -> 489.15573
B13: Hydrogen | C13: 1.0078 | H13: m(fuel) | I13: =((C12*F7)+(F8*C13)+C14)+((C7*C12)+(C8*C13)) -> 51.033216
B14: Oxygen | C14: 15.999
B15: Nitrogen | C15: 14.007 | H15: Stoich AFR | I15: =I12/I13 -> 9.5850461
B17: IsoOctane Mass per 1kmol | D17: =(C12*C7)+(C13*C8) -> 6.7394756 | G17: Mass Percentage of IsoOctane | I17: =D17/(D17+D18) -> 0.13454927
B18: Ethanol Mass per 1kmol | D18: =((C12*F7)+(C13*F8)+(C14*F9)) -> 43.3498 | G18: Mass Percentage of Ethanol | I18: =D18/(D18+D17) -> 0.86545073
B20: IsoOctane Volume | C20: =D17/'Alternative Fuel Values'!E3 -> 0.0097673559 | G20: Volume Percentage of IsoOctane | I20: =C20/(C20+C21) -> 0.15094028
B21: Ethanol Volume | C21: =D18/'Alternative Fuel Values'!E5 -> 0.054942712 | G21: Volume Percentage of Ethanol | I21: =C21/(C21+C20) -> 0.84905972
D23: 1kmol of E85 | E23: =((C7+F7)*C12)+((C8+F8)*C13)+C14 -> 51.033216 | F23: kg
D24: 2.35 kmols of CO2 | E24: =(C7+F7)*(C12+(C14*2)) -> 103.59719 | F24: kg
B26: Therefore, burning 1kg of IsoOctane will make | F26: =E24/E23 -> 2.0299952 | G26: kg of CO2
B28: The low AFR means that this number is misleading. Finding the difference in fuel ratio between methanol and IsoOctane will correct this:
B31: The IsoOctane AFR is | D31: =IsoOctane!G15/I15 -> 1.568476 | E31: times larger than that of Ethanol
B33: The effective CO2 comparison with IsoOctane is | F33: =F26*D31 -> 3.1839987 | G33: kg of CO2 per kg of Ethanol burnt.

Sheet Ethanol
B2: O2 | C2: 21 | F2: Atmospheric Composition
B3: N2 | C3: 79 | F3: Ratio | G3: =C3/C2 -> 3.7619048
B5: HC Fuel Balance | C5: C2 H6 O + x(O2 + 3.76N2) --> n1CO2 + n2H2O + n3N2
B7: Carbon | C7: 2 | F7: C (n1) | G7: =C7 -> 2
B8: Hydrogen | C8: =2*(C7)+2 -> 6 | F8: H (n2) | G8: =(2*(G7)+2)/2 -> 3
B9: Oxygen | C9: 1 | F9: O (x) | G9: =(2*(G7)+G8-1)/2 -> 3
F10: N (n3) | G10: =G3*(G9) -> 11.285714
B11: Molecular Weight
B12: Air | C12: =((2*C15)+G3*(2*C16)) -> 137.384 | F12: m(air) | G12: =G9*C12 -> 412.152
B13: Carbon | C13: 12.011 | F13: m(fuel) | G13: =(C7*C13)+(C8*C14)+C15 -> 46.0678
B14: Hydrogen | C14: 1.0078
B15: Oxygen | C15: 15.999 | F15: Stoich AFR | G15: =G12/G13 -> 8.9466395
B16: Nitrogen | C16: 14.007
D18: 1kmol of Ethanol | E18: =(C7*C13)+(C8*C14)+C15 -> 46.0678 | F18: kg
D19: 2 kmols of CO2 | E19: =C7*(C13+(C15*2)) -> 88.018 | F19: kg
B21: Therefore, burning 1kg of ethanol will make | F21: =E19/E18 -> 1.9106187 | G21: kg of CO2
B23: The low AFR means that this number is misleading. Finding the difference in fuel ratio between ethanol and IsoOctane will correct this:
B26: The IsoOctane AFR is | D26: =IsoOctane!G15/G15 -> 1.6803979 | E26: times larger than that of Ethanol.
B28: The effective CO2 comparison with IsoOctane is | F28: =F21*D26 -> 3.2105997 | G28: kg of CO2 per kg of Ethanol burnt

Sheet Methanol
B2: O2 | C2: 21 | F2: Atmospheric Composition
B3: N2 | C3: 79 | F3: Ratio | G3: =C3/C2 -> 3.7619048
B5: HC Fuel Balance | C5: C H4 O + x(O2 + 3.76N2) --> n1CO2 + n2H2O + n3N2
B7: Carbon | C7: 1 | F7: C (n1) | G7: =C7 -> 1
B8: Hydrogen | C8: =2*(C7)+2 -> 4 | F8: H (n2) | G8: =(2*(G7)+2)/2 -> 2
B9: Oxygen | C9: 1 | F9: O (x) | G9: =(2*(G7)+G8-1)/2 -> 1.5
F10: N (n3) | G10: =G3*(G9) -> 5.6428571
B11: Molecular Weight
B12: Air | C12: =((2*C15)+G3*(2*C16)) -> 137.384 | F12: m(air) | G12: =G9*C12 -> 206.076
B13: Carbon | C13: 12.011 | F13: m(fuel) | G13: =(C7*C13)+(C8*C14)+C15 -> 32.0412
B14: Hydrogen | C14: 1.0078
B15: Oxygen | C15: 15.999 | F15: Stoich AFR | G15: =G12/G13 -> 6.4315943
B16: Nitrogen | C16: 14.007
D18: 1kmol of Methanol | E18: =(C7*C13)+(C8*C14)+C15 -> 32.0412 | F18: kg
D19: 1 kmol of CO2 | E19: =C7*(C13+(C15*2)) -> 44.009 | F19: kg
B21: Therefore, burning 1kg of Methanol will make | E21: =E19/E18 -> 1.3735129 | F21: kg of CO2
B23: The low AFR means that this number is misleading. Finding the difference in fuel ratio between methanol and IsoOctane will correct this:
B26: The IsoOctane AFR is | D26: =IsoOctane!G15/Methanol!G15 -> 2.3375098 | E26: times larger than that of Methanol
B28: The effective CO2 comparison with IsoOctane is | F28: =E21*D26 -> 3.2105997 | G28: kg of CO2 per kg of Methanol burnt

Sheet Alternative Fuel Values
B2: Fuel | C2: AFRs | D2: LHV (J/kg) | E2: Fuel Density (kg/m^3)
B3: IsoOctane | C3: =IsoOctane!G15 -> 15.033915 | D3: =44.651*1000000 -> 44651000 | E3: 690
B4: E85 | C4: ='E85'!I15 -> 9.5850461 | D4: =0.15*(D3)+0.85*(D5) -> 29480200 | E4: =0.15*(E3)+0.85*(E5) -> 774.15
B5: Ethanol | C5: =Ethanol!G15 -> 8.9466395 | D5: =26.803*1000000 -> 26803000 | E5: 789
B6: Methanol | C6: =Methanol!G15 -> 6.4315943 | D6: =19.915*1000000 -> 19915000 | E6: 792
B8: WAVE Values
B9: Fuel | C9: AFRs | D9: LHV (J/kg) | E9: Fuel Density (kg/m^3)
B10: IsoOctane | C10: 15.03 | D10: 44430000 | E10: 702.67
B11: E85 | C11: 9.79 | D11: 29282500 | E11: 773.53
B12: Ethanol | C12: 8.95 | D12: 26830000 | E12: 789.37
B13: Methanol | C13: 6.43 | D13: 2011000 | E13: 791.29
