Workbook

Sheet Specs
A1: Wheelbase | B1: 2.99 | C1: m
A2: Front Track | B2: 1.676 | C2: m
A3: Rear Track | B3: 1.66 | C3: m
A4: Kerb weight | B4: 1880 | C4: kg
A5: Dry weight | B5: 1790 | C5: kg
A6: Mass with 90kg driver | B6: 1970 | C6: kg
A7: Weight Front | B7: 0.47
A8: Weight Rear | B8: 0.53
A9: Mass on front axle | B9: =B6*0.47 -> 925.9 | C9: kg
A10: Mass on rear axle | B10: =B6*0.53 -> 1044.1 | C10: kg
A12: Front tyre | B12: 245/35 ZR 20
A13: Rear tyre | B13: 295/35 ZR 20
A14: Front wheel | B14: 8.5 J x 20"
A15: Rear wheel | B15: 10.5 J x 20"
A17: Total displacement | B17: 6262 | C17: cm3
A18: Maximum power | B18: 486 | C18: kW | D18: @8000RPM
A19: Maximum torque | B19: 683 | C19: Nm | D19: @6000RPM
A20: Maximum RPM | B20: 8000 | C20: RPM
A21: Specific output | B21: 77 | C21: kW / litre
A22: Compression ratio | B22: 12.3 : 1
A23: Fuel consumption | B23: 15.4 | C23: l / 100km
A25: 7 speed F1 dual-clutch gearbox
A26: 4RM control
A27: ABS / EBD
A28: ESC

Sheet Lumped mass model
B1: Mass on front axle | C1: =Specs!B4*Specs!B7 -> 883.6 | D1: kg
B2: Mass on rear axle | C2: =Specs!B4*Specs!B8 -> 996.4 | D2: kg
B4: *Assuming 90kg driver is positioned directly in centre of wheelbase*
F11: Centre of gravity position
F13: Taking moments about centre of gravity
F14: M3(B - x) = M2(x) + M1(A + x) | K14: \ F = 1.495 - 0.08558
F15: 996.4(1.495 - x) = 90x + 883.6(1.495 + x) | K15: \ F = 1.409m
F16: 1489.6 - 996.4x = 90x + 1321.0 + 883.6x
F17: 1489.6 - 1321.0 = 90x + 883.6x +996.4x | K17: Centre of gravity from front = 1.581m
F18: 168.6 = 1970x
F19: \
F22: Moment of inertia (about Z-Z axis)
F24: IZZ = mk2
F25: IZZ = M1(A + x)2 + M2(x)2 + M3(B - x)2
F26: IZZ = 883.6(1.495 + 0.0856)2 + 90(0.0856)2 + 996.4(1.495 - 0.0856)2
F27: IZZ = 883.6(1.5806)2 + 90(0.0856)2 + 996.4(1.4094)2
F28: IZZ = 2207.49 + 0.66 + 1979.26 | M28: IZZ = 4187.4kgm2
F31: Dynamic Index
F36: DI = 0.95
F41: Inertial conjugate
F46: Inertial conjugate = 1.344m

Sheet Torque Path
A1: Gear | B1: Gear Ratio | C1: Final drive | D1: Overall ratio | E1: Rear wheel road speed (RPM) | F1: Front wheel road speed (RPM) | I1: 1st gear front box / 1st gear main box | L1: Clutch torque capacity | M1: =I5/M2 -> 205.08042 | N1: Nm
A2: 1 | B2: 3.4 | C2: 4.38 | D2: =B2*$C$2 -> 14.892 | E2: =1000/D2 -> 67.150148 | F2: =1000/A25 -> 111.01336 | H2: 1st gear main | I2: =C11/D2 -> 402.90089 | J2: RPM | L2: Number of friction surfaces | M2: 6
A3: 2 | B3: 2.18 | D3: =B3*$C$2 -> 9.5484 | E3: =1000/D3 -> 104.72959 | H3: 1st gear front | I3: =C11/A25 -> 666.08018 | J3: RPM | L3: Coefficient of friciton | M3: 0.1
A4: 3 | B4: 1.63 | D4: =B4*$C$2 -> 7.1394 | E4: =1000/D4 -> 140.06779 | F4: =1000/A28 -> 187.60398 | H4: Difference | I4: =I3-I2 -> 263.17929 | J4: RPM | L4: Inner radius | M4: 0.006 | N4: m
A5: 4 | B5: 1.29 | D5: =B5*$C$2 -> 5.6502 | E5: =1000/D5 -> 176.98489 | H5: Torque | I5: =A16*A25 -> 1230.4825 | J5: Nm | L5: Outer radius | M5: 0.01 | N5: m
A6: 5 | B6: 1.03 | D6: =B6*$C$2 -> 4.5114 | E6: =1000/D6 -> 221.66068 | F6: N/A | H6: Power | I6: =I5*((I4*2*PI())/60) -> 33912.185 | J6: W | L6: Axial force | M6: =(3*M1*(M5^2-M4^2))/(2*M3*M2*(M5^3-M4^3)) -> 41853.146 | N6: N
A7: 6 | B7: 0.84 | D7: =B7*$C$2 -> 3.6792 | E7: =1000/D7 -> 271.79822 | H7: Power across clutch pack | I7: =I6/1000 -> 33.912185 | J7: kW
A8: 7 | B8: 0.63 | D8: =B8*$C$2 -> 2.7594 | E8: =1000/D8 -> 362.39762
E9: @1000RPM engine | F9: @1000RPM engine | H9: Slip across clutch pack | I9: =(I3/I2*100)-100 -> 65.321101 | J9: %
A10: Maximum torque (Nm) | C10: @RPM
A11: 683 | C11: 6000
I12: 1st gear front box / 2nd gear main box
H13: 2nd gear main | I13: =C11/D3 -> 628.37753 | J13: RPM
A14: Maximum of 20% total torque available to front wheels | H14: 1st gear front | I14: {=C11/_xlfn.ANCHORARRAY(A25)} -> 666.08018 | J14: RPM
H15: Difference | I15: =I14-I13 -> 37.702652 | J15: RPM
A16: 136.6 | B16: Nm | H16: Torque | I16: =A16*A25 -> 1230.4825 | J16: Nm
H17: Power | I17: =I16*((I15*2*PI())/60) -> 4858.2063 | J17: W
A18: Front 1st ratio is 6% taller than 2nd ratio in main gearbox | H18: Power across clutch pack | I18: =I17/1000 -> 4.8582063 | J18: kW
H20: Slip across clutch pack | I20: =(I14/I13*100)-100 -> 6 | J20: %
A21: Front 2st ratio is 6% taller than 4th ratio in main gearbox
I23: 2nd gear front box / 3rd gear main box
A24: Front gearbox 1st ratio | H24: 3rd gear main | I24: =C11/D4 -> 840.40676 | J24: RPM
A25: =D3/1.06 -> 9.0079245 | H25: 2nd gear front | I25: =C11/A28 -> 1125.6239 | J25: RPM
H26: Difference | I26: =I25-I24 -> 285.21711 | J26: RPM
A27: Front gearbox 2nd ratio | H27: Torque | I27: =A16*A28 -> 728.12955 | J27: Nm
A28: =D5/1.06 -> 5.3303774 | H28: Power | I28: =I27*((I26*2*PI())/60) -> 21747.676 | J28: W
H29: Power across clutch pack | I29: =I28/1000 -> 21.747676 | J29: kW
H31: Slip across clutch pack | I31: =(I25/I24*100)-100 -> 33.937984 | J31: %
I34: 2nd gear front box / 4th gear main box
H35: 4th gear main | I35: =C11/D5 -> 1061.9093 | J35: RPM
H36: 2nd gear front | I36: =C11/A28 -> 1125.6239 | J36: RPM
H37: Difference | I37: =I36-I35 -> 63.714559 | J37: RPM
H38: Torque | I38: =A16*A28 -> 728.12955 | J38: Nm
H39: Power | I39: =I38*((I37*2*PI())/60) -> 4858.2063 | J39: W
H40: Power across clutch pack | I40: =I39/1000 -> 4.8582063 | J40: kW
H42: Slip across clutch pack | I42: =(I36/I35*100)-100 -> 6 | J42: %

Sheet Acceleration improvements
A1: Mass of car with driver | B1: =Specs!B6 -> 1970 | C1: kg | E1: Asphalt (μ=1) | I1: Gravel (μ=0.6) | M1: Hard packed snow (μ=0.15)
A2: Weight front | B2: 0.47 | E2: Available grip front (N) | I2: Available grip front (N) | M2: Available grip front (N)
A3: Weight rear | B3: 0.53 | E3: =B5*1 -> 9083.079 | I3: =B5*0.6 -> 5449.8474 | M3: =B5*0.15 -> 1362.4618
E4: Available grip rear (N) | I4: Available grip rear (N) | M4: Available grip rear (N)
A5: Vertical load on front axle | B5: =B1*B2*9.81 -> 9083.079 | C5: N | E5: =B6*1 -> 10242.621 | I5: =B6*0.6 -> 6145.5726 | M5: =B6*0.15 -> 1536.3932
A6: Vertical load on rear axle | B6: =B1*B3*9.81 -> 10242.621 | C6: N
E7: RWD max acceleration (m/s2) | I7: RWD max acceleration (m/s2) | M7: RWD max acceleration (m/s2)
A8: *Assuming all available grip is used* | E8: =E5/B1 -> 5.1993 | I8: =I5/B1 -> 3.11958 | M8: =M5/B1 -> 0.779895
A10: 4RM has an 88.7% improvement in acceleration | E10: 4RM max acceleration (m/s2) | I10: 4RM max acceleration (m/s2) | M10: 4RM max acceleration (m/s2)
E11: =(E3+E5)/B1 -> 9.81 | I11: =(I3+I5)/B1 -> 5.886 | M11: =(M3+M5)/B1 -> 1.4715

Sheet Yaw rate gain
A1: Cornering G | B1: 0.9 | D1: *Assumed* | F1: Front | Q1: Rear
A2: Lateral acceleration | B2: =B1*9.81 -> 8.829 | C2: m/s2 | M2: Lateral load (N) | X2: Lateral load (N)
A3: Track width front | B3: =Specs!B2 -> 1.676 | C3: m | M3: =(B5*B6)*B2 -> 8174.7711 | X3: =(B5*B7)*B2 -> 9218.3589
A4: Track width rear | B4: =Specs!B3 -> 1.66 | C4: m
A5: Mass of car with driver | B5: =Specs!B6 -> 1970 | C5: kg | M5: Weight transfer (N) | X5: Weight transfer (N)
A6: Weight front | B6: 0.47 | M6: =((B5*B6*B2*B8)/B3) -> 2926.529 | X6: =((B5*B7*B2*B8)/B4) -> 3331.937
A7: Weight rear | B7: 0.53 | M7: =M6/2 -> 1463.2645 | O7: (per wheel) | X7: =X6/2 -> 1665.9685 | Z7: (per wheel)
A8: Centre of gravity height | B8: 0.6 | C8: m | D8: *Assumed*
A9: Corner radius | B9: 25 | C9: m | D9: *Assumed* | M9: =K13/K13 -> 1 | X9: =V13/V13 -> 1
A10: Velocity | B10: =SQRT(B2*B9) -> 14.856817 | C10: m/s | M10: =G13/K13 -> 1.9507042 | X10: =R13/V13 -> 1.9642857
A11: Moment of inertia (ZZ) | B11: 4187.4 | C11: kgm2
F12: Left wheel vertical load | J12: Right wheel vertical load | Q12: Left wheel vertical load | U12: Right wheel vertical load
A13: Steady state yaw rate | B13: =(PI()*B9*2)/B10 -> 10.5729 | C13: sec/lap | G13: =((B5*B6)/2*9.81)+M7 -> 6004.804 | H13: N | K13: =((B5*B6)/2*9.81)-M7 -> 3078.275 | L13: N | R13: =((B5*B7)/2*9.81)+X7 -> 6787.279 | S13: N | V13: =((B5*B7)/2*9.81)-X7 -> 3455.342 | W13: N
B14: =360/B13 -> 34.049316 | C14: deg/sec
G15: =(G13/(G13+K13))*100 -> 66.109785 | H15: % | K15: =(K13/(G13+K13))*100 -> 33.890215 | L15: % | R15: =(R13/(R13+V13))*100 -> 66.26506 | S15: % | V15: =(V13/(R13+V13))*100 -> 33.73494 | W15: %
A16: Lateral slip across one axle must be the same
A17: For steady state, slip angle L = slip angle R | F17: Left wheel lateral grip | J17: Right wheel lateral grip | Q17: Left wheel lateral grip | U17: Right wheel lateral grip
A18: Therefore, lateral grip is shared across the axle in proportion to the vertical loading | G18: =K18*M10 -> 5404.3236 | H18: N | K18: =M3/(M9+M10) -> 2770.4475 | L18: N | R18: =V18*X10 -> 6108.5511 | S18: N | V18: =X3/(X9+X10) -> 3109.8078 | W18: N
A20: Rolling resistance | B20: =B5*9.81*0.015 -> 289.8855 | C20: N
A21: Aerodynamic resistance | B21: =0.5*1.22*(2*1.6)*0.6*(B10)^2 -> 258.51312 | C21: N
A22: Drive force required | B22: =B20+B21 -> 548.39862 | C22: N
A23: Power | B23: =B22*B10 -> 8147.4577 | C23: W
B24: =B23/746 -> 10.921525 | C24: hp
F31: Left wheel longitudinal force | J31: Right wheel longitudinal force | Q31: Left wheel longitudinal force | U31: Right wheel longitudinal force
G32: =SQRT(G13^2-G18^2) -> 2617.4334 | H32: N | K32: =SQRT(K13^2-K18^2) -> 1341.789 | L32: N | R32: =SQRT(R13^2-R18^2) -> 2958.5063 | S32: N | V32: =SQRT(V13^2-V18^2) -> 1506.1487 | W32: N
F34: Difference in lateral grip | Q34: Difference in lateral grip
G35: =G32-K32 -> 1275.6444 | H35: N | R35: =R32-V32 -> 1452.3576 | S35: N
F37: Moment | J37: Yaw rate gain | Q37: Moment | U37: Yaw rate gain
G38: =G35*(B3/2) -> 1068.99 | H38: Nm | K38: =G38/B11 -> 0.2552873 | L38: rads/sec | R38: =R35*(B4/2) -> 1205.4568 | S38: Nm | V38: =R38/B11 -> 0.28787717 | W38: rads/sec
K39: =K38*(180/PI()) -> 14.626885 | L39: deg/sec | V39: =V38*(180/PI()) -> 16.494147 | W39: deg/sec
