Workbook

Sheet Ledger
A1: Account Name | C1: Opening Balances | E1: Sales Day Book | G1: Purchase Day Book | I1: Cash Receipts | K1: Cash Payments | M1: Petty Cash Book | O1: Draft Balances | Q1: Adjustments | S1: Profit and Loss | U1: Balance Sheet
C2: DR | D2: CR | E2: DR | F2: CR | G2: DR | H2: CR | I2: DR | J2: CR | K2: DR | L2: CR | M2: DR | N2: CR | O2: DR | P2: CR | Q2: DR | R2: CR | S2: DR | T2: CR | U2: DR | V2: CR
A6: Capital | B6: B | D6: 44161 | J6: =CBR!H20 -> 12000 | P6: =SUM(D6+F6+H6+J6+L6+N6)-(C6+E6+G6+I6+K6+M6) -> 56161 | Q6: 220 | V6: 56381
A7: Bank Account | B7: B | C7: 4010 | I7: =CBR!G15 -> 34240 | L7: =CBP!H23 -> 9276 | O7: 28764 | U7: =O7 -> 28764
A8: Cash in Hand | B8: B | C8: 675 | K8: =CBP!G21 -> 308 | N8: =PCB!D9 -> 308 | O8: =SUM(C8+E8+G8+I8+K8+M8)-(D8+F8+H8+J8+L8+N8) -> 675 | U8: =SUM(I8+K8+M8+O8+Q8+S8)-(J8+L8+N8+P8+R8+T8) -> 675
A9: Trade Debtors | B9: B | C9: 11583 | E9: =SDB!F14 -> 25914 | J9: =CBR!F12+CBR!J12 -> 11583 | O9: =SUM(C9+E9+G9+I9+K9+M9)-(D9+F9+H9+J9+L9+N9) -> 25914 | U9: 25.914.0
A10: Trade Creditors | B10: B | D10: 2896 | H10: =PDB!H24 -> 49023 | K10: =CBP!F15+CBP!I15 -> 5209 | P10: 21000 | V10: 46710
A11: Bank Loan | B11: B | D11: 15741 | P11: =SUM(D11+F11+H11+J11+L11+N11)-(C11+E11+G11+I11+K11+M11) -> 15741 | V11: =SUM(J11+L11+N11+P11+R11+T11)-(I11+K11+M11+O11+Q11+S11) -> 15741
A12: VAT Controlled Account | B12: B | D12: 2005 | F12: =SDB!E11 -> 4319 | G12: =PDB!G21 -> 8083 | J12: =CBR!H17 -> 1990 | K12: =CBP!G18 -> 2005 | M12: =PCB!F15 -> 28 | O12: =SUM(C12+E12+G12+I12+K12+M12)-(D12+F12+H12+J12+L12+N12) -> 1802 | U12: 1802
A13: Accured Telephone | B13: P | D13: 134 | G13: =PDB!G19 -> 440 | O13: =SUM(C13+E13+G13+I13+K13+M13)-(D13+F13+H13+J13+L13+N13) -> 306 | Q13: 60 | S13: 366
A14: Accured Electicity | B14: P | D14: 111 | G14: =PDB!I8 -> 400 | O14: 289 | Q14: 120 | S14: 409
A15: Accured Gas | B15: P | D15: 119 | G15: =PDB!G20 -> 300 | O15: =SUM(C15+E15+G15+I15+K15+M15)-(D15+F15+H15+J15+L15+N15) -> 181 | Q15: 240 | S15: 421
A16: Stock | B16: P | C16: 13481 | O16: =SUM(C16+E16+G16+I16+K16+M16)-(D16+F16+H16+J16+L16+N16) -> 13481 | T16: 15840 | U16: 15840
A17: Fixtures and Equipment - Cost | B17: B | C17: 25394 | G17: =PDB!G22 -> 6400 | O17: =SUM(C17+E17+G17+I17+K17+M17)-(D17+F17+H17+J17+L17+N17) -> 31794 | U17: 31794
A18: Fixtures and Equipment - Depreciation | B18: B | D18: 9578 | P18: =SUM(D18+F18+H18+J18+L18+N18)-(C18+E18+G18+I18+K18+M18) -> 9578 | R18: =G63 -> 448 | V18: 9130
A20: Motor Vehicles - Cost | B20: B | C20: 27176 | G20: =PDB!L13 -> 14850 | O20: =SUM(C20+E20+G20+I20+K20+M20)-(D20+F20+H20+J20+L20+N20) -> 42026 | U20: 42026
A21: Motor Vehicles - Depreciation | B21: B | D21: 7574 | P21: =SUM(D21+F21+H21+J21+L21+N21)-(C21+E21+G21+I21+K21+M21) -> 7574 | R21: =G56 -> 1606.3 | V21: 5967.7
A23: Sales | B23: P | F23: =SDB!G16 -> 21595 | J23: =CBR!H19 -> 9950 | P23: =SUM(D23+F23+H23+J23+L23+N23)-(C23+E23+G23+I23+K23+M23) -> 31545 | T23: 31545
A24: Purchases | B24: P | G24: =PDB!F16 -> 17500 | O24: =SUM(C24+E24+G24+I24+K24+M24)-(D24+F24+H24+J24+L24+N24) -> 17500 | S24: 17500
A25: Discounts | B25: P | I25: =CBR!N17 -> 1283 | O25: =SUM(C25+E25+G25+I25+K25+M25)-(D25+F25+H25+J25+L25+N25) -> 1283 | S25: 1283
A26: Rates | B26: P | R26: 450 | T26: 450
A27: Discounts Received | B27: P | L27: =CBP!N23 -> 446 | P27: =SUM(D27+F27+H27+J27+L27+N27)-(C27+E27+G27+I27+K27+M27) -> 446 | T27: 446
A28: Advertising | B28: P | M28: =PCB!F17 -> 140 | O28: =SUM(C28+E28+G28+I28+K28+M28)-(D28+F28+H28+J28+L28+N28) -> 140 | S28: 140
A29: Stamps | B29: P | M29: =PCB!F16 -> 140 | O29: =SUM(C29+E29+G29+I29+K29+M29)-(D29+F29+H29+J29+L29+N29) -> 140 | S29: 140
A30: Legal Fees | B30: P | G30: =PDB!J9 -> 1050 | O30: =SUM(C30+E30+G30+I30+K30+M30)-(D30+F30+H30+J30+L30+N30) -> 1050 | S30: 1050
A31: Insurance | B31: P | K31: =CBP!G6 -> 2200 | O31: =SUM(C31+E31+G31+I31+K31+M31)-(D31+F31+H31+J31+L31+N31) -> 2200 | R31: 550 | S31: 1650
A32: Liabilities | P32: 25500 | S32: 25500
A35: Dep'n Exp (FP) | B35: P | Q35: =G63 -> 448 | S35: =Q35 -> 448
A36: Dep'n Exp (MV) | B36: P | Q36: =G56 -> 1606.3 | S36: =Q36 -> 1606.3
A37: Closing Stock (BS) | B37: B | U37: 15840
A38: Closing Stock (P&L) | B38: P | T38: 15840
A39: Accurals | B39: B | R39: 420 | V39: 420
A40: Pre Payments | B40: B | Q40: =R26+R31 -> 1000 | R40: =SUM(Q26,Q31) -> 0 | U40: 1000
A41: Drawings | B41: P | R41: 220 | T41: 220
S43: =SUM(S35:S42) -> 2054.3 | T43: =SUM(T35:T42) -> 16060
S44: =SUM(T43-S43) -> 14005.7 | V44: =S44 -> 14005.7
A46: Profit for the period
C48: =SUM(C4:C31) -> 82319 | D48: =SUM(D3:D31) -> 82319 | E48: =SUM(E3:E31) -> 25914 | F48: =SUM(F3:F31) -> 25914 | G48: =SUM(G3:G31) -> 49023 | H48: =SUM(H3:H31) -> 49023 | I48: =SUM(I3:I31) -> 35523 | J48: =SUM(J3:J31) -> 35523 | K48: =SUM(K3:K31) -> 9722 | ... O48: =SUM(O3:O31) -> 167545 | P48: =SUM(P3:P32) -> 167545 | Q48: =SUM(Q3:Q41) -> 3694.3 | R48: =SUM(R3:R41) -> 3694.3 | S48: =SUM(S3:S32) -> 48459 | T48: =SUM(T3:T31) -> 48281 | U48: =SUM(U3:U31) -> 120901 | V48: =SUM(V3:V31) -> 133929.7
A51: Depreciation Vehicles (20%)
A52: Straight line (See Depreciation calc tab)
...

Sheet Accounts
A1: Balance Sheet at 31 03 2021
D3: Cost | E3: Provision fo Dep'n | F3: NBV
D4: £ | E4: £ | F4: £
A5: Fixed Assets
A6: Freehold Property | D6: =Ledger!U17 -> 31794 | E6: =Ledger!Q35 -> 448 | F6: =SUM(D6-E6) -> 31346
A7: Motor Vehicles | D7: =Ledger!U20 -> 42026 | E7: =Ledger!Q36 -> 1606.3 | F7: =SUM(D7-E7) -> 40419.7
F8: =SUM(F6:F7) -> 71765.7
A10: Current Assets
A11: Stock | E11: =Ledger!T38 -> 15840
A12: Trade Debtors | E12: =Ledger!U9 -> 25.914.0
A13: Prepayments | E13: =Ledger!Q40 -> 1000
A14: Bank Current Account | E14: =Ledger!U7 -> 28764
A15: Cash in Hand | E15: =Ledger!U8 -> 675
E16: =SUM(E11:E15) -> 46279
A18: Current Liabilities
A19: Trade Creditors | E19: =Ledger!V10 -> 46710
A20: VAT Control Account | E20: =Ledger!U12 -> 1802
A21: Accruals | E21: =Ledger!V39 -> 420
A22: Loan | E22: =Ledger!V11 -> 15741
F23: =SUM(E19:E22) -> 64673
A24: Net Current Assets | G24: =SUM(E16-F23) -> -18394
G28: =SUM(F8-G24) -> 90159.7
A30: Represented by
A32: Capital | G32: =Ledger!V6 -> 56381
A33: Profit fo the year | G33: =Ledger!S44 -> 14005.7
A34: Less - Drawings | G34: -220
G36: =SUM(G32:G34) -> 70166.7
A37: Trading and Profit and Loss Account fot the month ended xx xx 20xx
A41: Sales | G41: =Ledger!T23 -> 31545
A43: Less cost of goods sold
A44: Opening Stock | F44: =Ledger!C16 -> 13481
A45: Purchases | F45: =Ledger!S24 -> 17500
A46: Less - Closing Stock | F46: -15840
G47: =SUM(F44:F46) -> 15141
A49: Gross Profit | G49: =SUM(G41-G47) -> 16404
A51: Sundry Income
A52: Discount Received | G52: =Ledger!T27 -> 446
G54: =SUM(G49+G52) -> 16850
A56: Less - Expenses
A57: Telephone | F57: =Ledger!S13 -> 366
...

Sheet SDB
A1: Sales Day Book
A3: Date | B3: Customer | D3: Total | E3: VAT | F3: Net
D4: £ | E4: £ | F4: £
A5: 44202 | B5: Black | D5: =SUM(E5:F5) -> 12474 | E5: 2079 | F5: 10395
A6: 44209 | B6: Orange | D6: =SUM(E6:F6) -> 5568 | E6: 928 | F6: 4640
A7: 44255 | B7: Silver | D7: =SUM(E7:F7) -> 1440 | E7: 240 | F7: 1200
A8: 44255 | B8: Orange | D8: =SUM(E8:F8) -> 2940 | E8: 490 | F8: 2450
A9: 44278 | B9: Black | D9: =SUM(E9:F9) -> 3492 | E9: 582 | F9: 2910
D11: =SUM(D5:D9) -> 25914 | E11: =SUM(E5:E9) -> 4319 | F11: =SUM(F5:F9) -> 21595
D14: DR | E14: Debtors | F14: =D11 -> 25914
D16: CR | E16: Sales | G16: =F11 -> 21595
E17: VAT a/c | G17: =E11 -> 4319

Sheet PDB
A1: Purchase Day Book
A3: Date | B3: Narrative | D3: Total | E3: VAT | F3: Purchases | G3: Telephone | H3: Gas | I3: Elcecticity | J3: Legal | K3: Fictures & Fittings | L3: MV Costs
D4: £ | E4: £ | F4: £ | G4: £ | H4: £
A5: 44202 | B5: White | D5: =SUM(E5:F5) -> 7488 | E5: 1248 | F5: 6240
A6: 44227 | B6: Telephone | D6: 528 | E6: 88 | G6: 440
A7: 44227 | B7: Gas | D7: 315 | E7: 15 | H7: 300
A8: 44230 | B8: Electricity | D8: 420 | E8: 20 | I8: 400
A9: 44237 | B9: Legal | D9: 1260 | E9: 210 | J9: 1050
A10: 44264 | B10: Equipment | D10: 7680 | E10: 1280 | K10: 6400
A11: 44268 | B11: Yellow | D11: =SUM(E11:H11) -> 5736 | E11: 956 | F11: 4780
A12: 44271 | B12: White | D12: =SUM(E12:H12) -> 7776 | E12: 1296 | F12: 6480
A13: 44281 | B13: Vehicle | D13: =SUM(E13:L13) -> 17820 | E13: 2970 | L13: 14850
D16: =SUM(D5:D13) -> 49023 | E16: =SUM(E5:E13) -> 8083 | F16: =SUM(F5:F13) -> 17500 | G16: =SUM(G5:G13) -> 440 | H16: =SUM(H5:H13) -> 300 | I16: =SUM(I5:I13) -> 400 | J16: =SUM(J5:J13) -> 1050 | K16: =SUM(K5:K13) -> 6400
D18: DR | E18: Purchases | G18: =F16 -> 17500
E19: Telephone | G19: =G16 -> 440
E20: Gas | G20: =H16 -> 300
E21: VAT a/c | G21: =E16 -> 8083
E22: Fictures & Fittings | G22: =K16 -> 6400
D24: CR | E24: Creditors | H24: =D16 -> 49023

Sheet CBP
A1: Cash Book(Payments)
A3: Date | B3: Narrative | D3: Total | E3: VAT | F3: To Creditors | G3: Insurance | H3: Petty Cash | I3: Discount Received
D4: £ | E4: £ | F4: £ | H4: £
A5: 44209 | B5: Grey | D5: 700 | F5: 700 | I5: 117
A6: 44209 | B6: Insurance | D6: 2200 | G6: 2200
A7: 44227 | B7: HM Customs and Excise | D7: 2005 | E7: 2005
A8: 44230 | B8: Electricity | D8: 420 | F8: 420
A9: 44237 | B9: Legal | D9: =SUM(E9:H9) -> 1050 | F9: 1050
A10: 44237 | B10: Gas | D10: 315 | F10: 315
A11: 44237 | B11: Telephone | D11: 528 | F11: 528
A12: 44255 | B12: Yellow | D12: 250 | F12: 250 | I12: 32
A13: 44264 | B13: White | D13: 1500 | F13: 1500 | I13: 297
A14: 44282 | B14: Petty Cash | D14: 308 | H14: 308
D15: =SUM(D5:D14) -> 9276 | E15: =SUM(E5:E14) -> 2005 | F15: =SUM(F5:F14) -> 4763 | G15: =SUM(G5:G14) -> 2200 | H15: =SUM(H5:H14) -> 308 | I15: =SUM(I5:I14) -> 446
D18: DR | E18: VAT a/c | G18: =E15 -> 2005 | I18: DR | J18: Creditors | M18: =I15 -> 446
E19: Creditors | G19: =F15 -> 4763
E20: Rates | G20: =G15 -> 2200
E21: Petty Cash | G21: =H15 -> 308
D23: CR | E23: Bank | H23: =D15 -> 9276 | I23: CR | J23: Discount Recived | N23: 446

Sheet CBR
A1: Cash Book(Receipts)
A3: Date | B3: Narrative | D3: Total | E3: VAT | F3: From Debtors | G3: Sales | H3: Investors | J3: Discount Allowed
D4: £ | E4: £ | F4: £ | G4: £
A5: 44202 | B5: Cash Sales | D5: 4812 | E5: 802 | G5: 4010
A6: 44205 | B6: Claret | D6: 2900 | F6: 2900 | J6: 218
A7: 44206 | B7: Black | D7: 2400 | F7: 2400 | J7: 125
A8: 44255 | B8: Investors | D8: 12000 | H8: 12000
A9: 44257 | B9: Orange | D9: 5000 | F9: 5000 | J9: 940
A10: 44257 | B10: Cash Sales | D10: 5346 | E10: 891 | G10: 4455
A11: 44264 | B11: Cash Sales | D11: 1782 | E11: 297 | G11: 1485
D12: =SUM(D5:D11) -> 34240 | E12: =SUM(E5:E11) -> 1990 | F12: =SUM(F5:F11) -> 10300 | G12: =SUM(G5:G11) -> 9950 | H12: =SUM(H5:H11) -> 12000 | J12: =SUM(J5:J11) -> 1283
D15: DR | E15: Bank | G15: =D12 -> 34240 | J15: DR | K15: Discount Allowed | M15: =SUM(J5:J10) -> 1283
D17: CR | E17: VAT a/c | H17: =E12 -> 1990 | J17: CR | K17: Debtors | N17: 1283
E18: Debtors | H18: =F12 -> 10300
E19: Sales | H19: =G12 -> 9950
E20: Investors | H20: =H12 -> 12000

Sheet PCB
A1: Petty Cash Book
A3: Receipts | B3: Date | C3: Narrative | D3: Total | E3: VAT | F3: Stamps | G3: Advertising
A5: 650 | C5: Bal b/f
B6: 44204 | C6: Stamps | D6: 70 | F6: 70
B7: 44227 | C7: Advertising | D7: 168 | E7: 28 | G7: 140
B8: 44230 | C8: Stamps | D8: 70 | F8: 70
A9: 650 | D9: =SUM(D5:D8) -> 308 | E9: =SUM(E5:E8) -> 28 | F9: =SUM(F5:F8) -> 140 | G9: =SUM(G5:G8) -> 140
A12: 238 | B12: 44197 | C12: Bal c/f
A13: 342 | B13: 44286 | C13: Bank
C15: DR | D15: VAT a/c | F15: =E9 -> 28
D16: Stamps | F16: =F9 -> 140
D17: Advertising | F17: =G9 -> 140
C19: CR | G19: 308

Sheet VAT Calculator
A1: Including VAT (20%) | F1: Excluding (5%)
A3: Calc of figure before VAT | B3: Formula (don't delete) | D3: Input Figure inc VAT | E3: VAT | F3: Input figure before VAT | G3: Formula (don't delete) | I3: VAT | J3: Total
A4: =SUM(B4/C4*D4) -> 1485 | B4: 100 | C4: 120 | D4: 1782 | E4: =SUM(D4-A4) -> 297 | F4: 300 | G4: 5 | H4: 100 | I4: =SUM(G4/H4*F4) -> 15 | J4: =SUM(F4+I4) -> 315
A6: Plus VAT (20%)
A8: Input Figure before VAT | B8: Formula (don't delete) | D8: VAT | E8: Total
A9: 400 | B9: 20 | C9: 100 | D9: =SUM(B9/C9*A9) -> 80 | E9: =SUM(A9+D9) -> 480

Sheet Depreciation Calc
A1: Depreciation Property (2%)
A3: Percentage | B3: Input Value | C3: Term | D3: Depreciation | E3: Remaining value
A4: 0.02 | B4: 52000 | C4: 12 | D4: =SUM(A4*B4/C4) -> 86.666667 | E4: =SUM(B4-D4) -> 51913.333
A6: Depreciation Vehicles (20%)
A8: Percentage | B8: Input Value | C8: Term | D8: Depreciation | E8: Remaining value | F8: # Months | G8: Total
A9: 0.2 | B9: 14850 | C9: 12 | D9: =SUM(A9*B9/C9) -> 247.5 | E9: =SUM(B9-D9) -> 14602.5 | F9: 1 | G9: =SUM(D9*F9) -> 247.5
A10: 0.2 | B10: 27176 | C10: 12 | D10: =SUM(A10*B10/C10) -> 452.93333 | E10: =SUM(B10-D10) -> 26723.067 | F10: 3 | G10: =SUM(D10*F10) -> 1358.8
G11: =SUM(G9:G10) -> 1606.3
A12: Straight Line (on Cost) | L12: Disposal Straight Line (on Cost)
A13: Nominal Ledger
A14: Dr | B14: Depreciation (Expense) | H14: Cr | L14: Disposal Account
A15: Date | B15: Details | C15: £ | E15: Date | G15: Details | H15: £ | L15: Dr | R15: Cr
A16: End of Year 1 | B16: Annual Expense | C16: 18000 | E16: End of Year 1 | G16: To P/L account | H16: 18000 | L16: Date | M16: Details | N16: £ | P16: Date | Q16: Details | R16: £
A17: End of Year 2 | B17: Annual Expense | C17: 18000 | E17: End of Year 2 | G17: To P/L account | H17: 18000 | L17: End of YR4 | M17: Machinery | N17: 100000 | P17: End of YR4 | Q17: Total Depreciation | R17: 54000
A18: End of Year 3 | B18: Annual Expense | C18: 18000 | E18: End of Year 3 | G18: To P/L account | H18: 18000 | P18: End of YR4 | Q18: Bank | R18: 40000
A19: End of Year 4 | B19: Annual Expense | C19: 18000 | E19: End of Year 4 | G19: To P/L account | H19: 18000 | P19: End of YR4 | Q19: Loss | R19: 6000
A20: End of Year 5 | B20: Annual Expense | C20: 18000 | E20: End of Year 5 | G20: To P/L account | H20: 18000
N21: 100000 | R21: 100000
A23: Dr | B23: Provision for Depreciation | H23: Cr
A24: Date | B24: Details | C24: £ | E24: Date | G24: Details | H24: £ | L24: Disposal Reducing Balance
A25: End of Year 1 | B25: Balance c/d | C25: 18000 | E25: End of Year 1 | G25: Annual Expense | H25: 18000
E26: Start of Year 2 | G26: Balance b/d | H26: 18000 | L26: Disposal Account
A27: End of Year 2 | B27: Balance c/d | C27: 36000 | E27: End of Year 2 | G27: Annual Expense | H27: 18000 | L27: Dr | R27: Cr
C28: 36000 | H28: 36000 | L28: Date | M28: Details | N28: £ | P28: Date | Q28: Details | R28: £
E29: Start of Year 3 | G29: Balance b/d | H29: 36000 | L29: End of YR4 | M29: Machinery | N29: 100000 | P29: End of YR4 | Q29: Total Depreciation | R29: 65700
A30: End of Year 3 | B30: Balance c/d | C30: 54000 | E30: End of Year 3 | G30: Annual Expense | H30: 18000 | L30: End of YR4 | M30: Profit | N30: 5700 | P30: End of YR4 | Q30: Bank | R30: 40000
C31: 54000 | H31: 54000
E32: Start of Year 4 | G32: Balance b/d | H32: 54000 | N32: 105700 | R32: 105700
A33: End of Year 3 | B33: Balance c/d | C33: 72000 | E33: End of Year 4 | G33: Annual Expense | H33: 18000
C34: 72000 | H34: 72000
E35: Start of Year 5 | G35: Balance b/d | H35: 72000
A36: End of Year 5 | B36: Balance c/d | C36: 90000 | E36: End of Year 5 | G36: Annual Expense | H36: 18000
C37: 90000 | H37: 90000
A39: Balance Sheet (extract)
A40: Fixed Assets | E40: Cost | G40: Depreciation | H40: Carrying Value
A41: Machinery | E41: £ | G41: £ | H41: £
B42: End of Year 1 | E42: 100000 | G42: 18000 | H42: 82000
B43: End of Year 2 | E43: 100000 | G43: 36000 | H43: 64000
B44: End of Year 3 | E44: 100000 | G44: 54000 | H44: 46000
B45: End of Year 4 | E45: 100000 | G45: 72000 | H45: 28000
...
