Workbook

Sheet WLTC_class_3
B2: Class 3 vehicles: | C2: vehicles with a ratio of rated power in W / kerb mass in kg > 34
B4: Test Phase | C4: Elapsed time | D4: Phase elapsed time | E4: WLTC class 3, version 5, vehicle speed | F4: WLTC class 3, version 5, acceleration | G4: WLTC class 3, version 5, acceleration2 | H4: V<1 or V>1 | I4: V > 1 | J4: Velocity | K4: Acceleration Force | L4: Rolling Resistance | M4: Aerodynamic Resistance | N4: Total | O4: Power | P4: Energy | Q4: Tractive Energy | R4: Cumulative Tractive Energy | S4: Braking Energy | T4: Cumulative Braking Energy
C5: s | D5: s | E5: km/h | F5: m/s² | G5: km/h/s | J5: m/s | K5: N | L5: N | M5: N | N5: N | O5: W | P5: J | Q5: =IF(Table1[[#This Row],[Energy]]>0,Table1[[#This Row],[Energy]],0) -> J | R5: MJ | S5: =IF(Table1[[#This Row],[Energy]]>0,Table1[[#This Row],[Energy]],0) -> J | T5: MJ
B6: Low | C6: 0 | D6: 0 | E6: 0 | F6: =($E7-0)/2/3.6 -> 0 | G6: =($E7-0)/2 -> 0 | H6: =IF(E6<1,1,0) -> 1 | I6: =IF(H6=1,"",E6) | J6: =E6/3.6 -> 0 | K6: =(1000*1.15)*Table1[[#This Row],[WLTC class 3, version 5, acceleration]] -> 0 | L6: =1150*9.81*0.01 -> 112.815 | M6: =0.5*1.2*0.32*1.99*(Table1[[#This Row],[Velocity]]^2) -> 0 | N6: =Table1[[#This Row],[Acceleration Force]]+Table1[[#This Row],[Rolling Resistance]]+Table1[[#This Row],[Aerodynamic Resistance]] -> 112.815 | O6: =(Table1[[#This Row],[Acceleration Force]]+Table1[[#This Row],[Rolling Resistance]]+Table1[[#This Row],[Aerodynamic Resistance]])*Table1[[#This Row],[Velocity]] -> 0 | P6: =Table1[[#This Row],[Total]]*Table1[[#This Row],[Velocity]] -> 0 | Q6: =IF(Table1[[#This Row],[Energy]]>0,Table1[[#This Row],[Energy]],0) -> 0 | R6: =(SUM($Q$6:Q6))/1000000 -> 0 | S6: =IF(Table1[[#This Row],[Energy]]<0,ABS(Table1[[#This Row],[Energy]]),0) -> 0 | T6: =(SUM($S$6:S6))/1000000 -> 0
B7: Low | C7: 1 | D7: 1 | E7: 0 | F7: =($E8-$E6)/2/3.6 -> 0 | G7: =($E8-$E6)/2 -> 0 | H7: =IF(E7<1,1,0) -> 1 | I7: =IF(H7=1,"",E7) | J7: =E7/3.6 -> 0 | K7: =(1000*1.15)*Table1[[#This Row],[WLTC class 3, version 5, acceleration]] -> 0 | L7: =1150*9.81*0.01 -> 112.815 | M7: =0.5*1.2*0.32*1.99*(Table1[[#This Row],[Velocity]]^2) -> 0 | N7: =Table1[[#This Row],[Acceleration Force]]+Table1[[#This Row],[Rolling Resistance]]+Table1[[#This Row],[Aerodynamic Resistance]] -> 112.815 | O7: =(Table1[[#This Row],[Acceleration Force]]+Table1[[#This Row],[Rolling Resistance]]+Table1[[#This Row],[Aerodynamic Resistance]])*Table1[[#This Row],[Velocity]] -> 0 | P7: =Table1[[#This Row],[Total]]*Table1[[#This Row],[Velocity]] -> 0 | Q7: =IF(Table1[[#This Row],[Energy]]>0,Table1[[#This Row],[Energy]],0) -> 0 | R7: =(SUM($Q$6:Q7))/1000000 -> 0 | S7: =IF(Table1[[#This Row],[Energy]]<0,ABS(Table1[[#This Row],[Energy]]),0) -> 0 | T7: =(SUM($S$6:S7))/1000000 -> 0
B8: Low | C8: 2 | D8: 2 | E8: 0 | F8: =($E9-$E7)/2/3.6 -> 0 | G8: =($E9-$E7)/2 -> 0 | H8: =IF(E8<1,1,0) -> 1 | I8: =IF(H8=1,"",E8) | J8: =E8/3.6 -> 0 | K8: =(1000*1.15)*Table1[[#This Row],[WLTC class 3, version 5, acceleration]] -> 0 | L8: =1150*9.81*0.01 -> 112.815 | M8: =0.5*1.2*0.32*1.99*(Table1[[#This Row],[Velocity]]^2) -> 0 | N8: =Table1[[#This Row],[Acceleration Force]]+Table1[[#This Row],[Rolling Resistance]]+Table1[[#This Row],[Aerodynamic Resistance]] -> 112.815 | O8: =(Table1[[#This Row],[Acceleration Force]]+Table1[[#This Row],[Rolling Resistance]]+Table1[[#This Row],[Aerodynamic Resistance]])*Table1[[#This Row],[Velocity]] -> 0 | P8: =Table1[[#This Row],[Total]]*Table1[[#This Row],[Velocity]] -> 0 | Q8: =IF(Table1[[#This Row],[Energy]]>0,Table1[[#This Row],[Energy]],0) -> 0 | R8: =(SUM($Q$6:Q8))/1000000 -> 0 | S8: =IF(Table1[[#This Row],[Energy]]<0,ABS(Table1[[#This Row],[Energy]]),0) -> 0 | T8: =(SUM($S$6:S8))/1000000 -> 0
B9: Low | C9: 3 | D9: 3 | E9: 0 | F9: =($E10-$E8)/2/3.6 -> 0 | G9: =($E10-$E8)/2 -> 0 | H9: =IF(E9<1,1,0) -> 1 | I9: =IF(H9=1,"",E9) | J9: =E9/3.6 -> 0 | K9: =(1000*1.15)*Table1[[#This Row],[WLTC class 3, version 5, acceleration]] -> 0 | L9: =1150*9.81*0.01 -> 112.815 | M9: =0.5*1.2*0.32*1.99*(Table1[[#This Row],[Velocity]]^2) -> 0 | N9: =Table1[[#This Row],[Acceleration Force]]+Table1[[#This Row],[Rolling Resistance]]+Table1[[#This Row],[Aerodynamic Resistance]] -> 112.815 | O9: =(Table1[[#This Row],[Acceleration Force]]+Table1[[#This Row],[Rolling Resistance]]+Table1[[#This Row],[Aerodynamic Resistance]])*Table1[[#This Row],[Velocity]] -> 0 | P9: =Table1[[#This Row],[Total]]*Table1[[#This Row],[Velocity]] -> 0 | Q9: =IF(Table1[[#This Row],[Energy]]>0,Table1[[#This Row],[Energy]],0) -> 0 | R9: =(SUM($Q$6:Q9))/1000000 -> 0 | S9: =IF(Table1[[#This Row],[Energy]]<0,ABS(Table1[[#This Row],[Energy]]),0) -> 0 | T9: =(SUM($S$6:S9))/1000000 -> 0
B10: Low | C10: 4 | D10: 4 | E10: 0 | F10: =($E11-$E9)/2/3.6 -> 0 | G10: =($E11-$E9)/2 -> 0 | H10: =IF(E10<1,1,0) -> 1 | I10: =IF(H10=1,"",E10) | J10: =E10/3.6 -> 0 | K10: =(1000*1.15)*Table1[[#This Row],[WLTC class 3, version 5, acceleration]] -> 0 | L10: =1150*9.81*0.01 -> 112.815 | M10: =0.5*1.2*0.32*1.99*(Table1[[#This Row],[Velocity]]^2) -> 0 | N10: =Table1[[#This Row],[Acceleration Force]]+Table1[[#This Row],[Rolling Resistance]]+Table1[[#This Row],[Aerodynamic Resistance]] -> 112.815 | O10: =(Table1[[#This Row],[Acceleration Force]]+Table1[[#This Row],[Rolling Resistance]]+Table1[[#This Row],[Aerodynamic Resistance]])*Table1[[#This Row],[Velocity]] -> 0 | P10: =Table1[[#This Row],[Total]]*Table1[[#This Row],[Velocity]] -> 0 | Q10: =IF(Table1[[#This Row],[Energy]]>0,Table1[[#This Row],[Energy]],0) -> 0 | R10: =(SUM($Q$6:Q10))/1000000 -> 0 | S10: =IF(Table1[[#This Row],[Energy]]<0,ABS(Table1[[#This Row],[Energy]]),0) -> 0 | T10: =(SUM($S$6:S10))/1000000 -> 0
B11: Low | C11: 5 | D11: 5 | E11: 0 | F11: =($E12-$E10)/2/3.6 -> 0 | G11: =($E12-$E10)/2 -> 0 | H11: =IF(E11<1,1,0) -> 1 | I11: =IF(H11=1,"",E11) | J11: =E11/3.6 -> 0 | K11: =(1000*1.15)*Table1[[#This Row],[WLTC class 3, version 5, acceleration]] -> 0 | L11: =1150*9.81*0.01 -> 112.815 | M11: =0.5*1.2*0.32*1.99*(Table1[[#This Row],[Velocity]]^2) -> 0 | N11: =Table1[[#This Row],[Acceleration Force]]+Table1[[#This Row],[Rolling Resistance]]+Table1[[#This Row],[Aerodynamic Resistance]] -> 112.815 | O11: =(Table1[[#This Row],[Acceleration Force]]+Table1[[#This Row],[Rolling Resistance]]+Table1[[#This Row],[Aerodynamic Resistance]])*Table1[[#This Row],[Velocity]] -> 0 | P11: =Table1[[#This Row],[Total]]*Table1[[#This Row],[Velocity]] -> 0 | Q11: =IF(Table1[[#This Row],[Energy]]>0,Table1[[#This Row],[Energy]],0) -> 0 | R11: =(SUM($Q$6:Q11))/1000000 -> 0 | S11: =IF(Table1[[#This Row],[Energy]]<0,ABS(Table1[[#This Row],[Energy]]),0) -> 0 | T11: =(SUM($S$6:S11))/1000000 -> 0
B12: Low | C12: 6 | D12: 6 | E12: 0 | F12: =($E13-$E11)/2/3.6 -> 0 | G12: =($E13-$E11)/2 -> 0 | H12: =IF(E12<1,1,0) -> 1 | I12: =IF(H12=1,"",E12) | J12: =E12/3.6 -> 0 | K12: =(1000*1.15)*Table1[[#This Row],[WLTC class 3, version 5, acceleration]] -> 0 | L12: =1150*9.81*0.01 -> 112.815 | M12: =0.5*1.2*0.32*1.99*(Table1[[#This Row],[Velocity]]^2) -> 0 | N12: =Table1[[#This Row],[Acceleration Force]]+Table1[[#This Row],[Rolling Resistance]]+Table1[[#This Row],[Aerodynamic Resistance]] -> 112.815 | O12: =(Table1[[#This Row],[Acceleration Force]]+Table1[[#This Row],[Rolling Resistance]]+Table1[[#This Row],[Aerodynamic Resistance]])*Table1[[#This Row],[Velocity]] -> 0 | P12: =Table1[[#This Row],[Total]]*Table1[[#This Row],[Velocity]] -> 0 | Q12: =IF(Table1[[#This Row],[Energy]]>0,Table1[[#This Row],[Energy]],0) -> 0 | R12: =(SUM($Q$6:Q12))/1000000 -> 0 | S12: =IF(Table1[[#This Row],[Energy]]<0,ABS(Table1[[#This Row],[Energy]]),0) -> 0 | T12: =(SUM($S$6:S12))/1000000 -> 0
B13: Low | C13: 7 | D13: 7 | E13: 0 | F13: =($E14-$E12)/2/3.6 -> 0 | G13: =($E14-$E12)/2 -> 0 | H13: =IF(E13<1,1,0) -> 1 | I13: =IF(H13=1,"",E13) | J13: =E13/3.6 -> 0 | K13: =(1000*1.15)*Table1[[#This Row],[WLTC class 3, version 5, acceleration]] -> 0 | L13: =1150*9.81*0.01 -> 112.815 | M13: =0.5*1.2*0.32*1.99*(Table1[[#This Row],[Velocity]]^2) -> 0 | N13: =Table1[[#This Row],[Acceleration Force]]+Table1[[#This Row],[Rolling Resistance]]+Table1[[#This Row],[Aerodynamic Resistance]] -> 112.815 | O13: =(Table1[[#This Row],[Acceleration Force]]+Table1[[#This Row],[Rolling Resistance]]+Table1[[#This Row],[Aerodynamic Resistance]])*Table1[[#This Row],[Velocity]] -> 0 | P13: =Table1[[#This Row],[Total]]*Table1[[#This Row],[Velocity]] -> 0 | Q13: =IF(Table1[[#This Row],[Energy]]>0,Table1[[#This Row],[Energy]],0) -> 0 | R13: =(SUM($Q$6:Q13))/1000000 -> 0 | S13: =IF(Table1[[#This Row],[Energy]]<0,ABS(Table1[[#This Row],[Energy]]),0) -> 0 | T13: =(SUM($S$6:S13))/1000000 -> 0
B14: Low | C14: 8 | D14: 8 | E14: 0 | F14: =($E15-$E13)/2/3.6 -> 0 | G14: =($E15-$E13)/2 -> 0 | H14: =IF(E14<1,1,0) -> 1 | I14: =IF(H14=1,"",E14) | J14: =E14/3.6 -> 0 | K14: =(1000*1.15)*Table1[[#This Row],[WLTC class 3, version 5, acceleration]] -> 0 | L14: =1150*9.81*0.01 -> 112.815 | M14: =0.5*1.2*0.32*1.99*(Table1[[#This Row],[Velocity]]^2) -> 0 | N14: =Table1[[#This Row],[Acceleration Force]]+Table1[[#This Row],[Rolling Resistance]]+Table1[[#This Row],[Aerodynamic Resistance]] -> 112.815 | O14: =(Table1[[#This Row],[Acceleration Force]]+Table1[[#This Row],[Rolling Resistance]]+Table1[[#This Row],[Aerodynamic Resistance]])*Table1[[#This Row],[Velocity]] -> 0 | P14: =Table1[[#This Row],[Total]]*Table1[[#This Row],[Velocity]] -> 0 | Q14: =IF(Table1[[#This Row],[Energy]]>0,Table1[[#This Row],[Energy]],0) -> 0 | R14: =(SUM($Q$6:Q14))/1000000 -> 0 | S14: =IF(Table1[[#This Row],[Energy]]<0,ABS(Table1[[#This Row],[Energy]]),0) -> 0 | T14: =(SUM($S$6:S14))/1000000 -> 0
B15: Low | C15: 9 | D15: 9 | E15: 0 | F15: =($E16-$E14)/2/3.6 -> 0 | G15: =($E16-$E14)/2 -> 0 | H15: =IF(E15<1,1,0) -> 1 | I15: =IF(H15=1,"",E15) | J15: =E15/3.6 -> 0 | K15: =(1000*1.15)*Table1[[#This Row],[WLTC class 3, version 5, acceleration]] -> 0 | L15: =1150*9.81*0.01 -> 112.815 | M15: =0.5*1.2*0.32*1.99*(Table1[[#This Row],[Velocity]]^2) -> 0 | N15: =Table1[[#This Row],[Acceleration Force]]+Table1[[#This Row],[Rolling Resistance]]+Table1[[#This Row],[Aerodynamic Resistance]] -> 112.815 | O15: =(Table1[[#This Row],[Acceleration Force]]+Table1[[#This Row],[Rolling Resistance]]+Table1[[#This Row],[Aerodynamic Resistance]])*Table1[[#This Row],[Velocity]] -> 0 | P15: =Table1[[#This Row],[Total]]*Table1[[#This Row],[Velocity]] -> 0 | Q15: =IF(Table1[[#This Row],[Energy]]>0,Table1[[#This Row],[Energy]],0) -> 0 | R15: =(SUM($Q$6:Q15))/1000000 -> 0 | S15: =IF(Table1[[#This Row],[Energy]]<0,ABS(Table1[[#This Row],[Energy]]),0) -> 0 | T15: =(SUM($S$6:S15))/1000000 -> 0
B16: Low | C16: 10 | D16: 10 | E16: 0 | F16: =($E17-$E15)/2/3.6 -> 0 | G16: =($E17-$E15)/2 -> 0 | H16: =IF(E16<1,1,0) -> 1 | I16: =IF(H16=1,"",E16) | J16: =E16/3.6 -> 0 | K16: =(1000*1.15)*Table1[[#This Row],[WLTC class 3, version 5, acceleration]] -> 0 | L16: =1150*9.81*0.01 -> 112.815 | M16: =0.5*1.2*0.32*1.99*(Table1[[#This Row],[Velocity]]^2) -> 0 | N16: =Table1[[#This Row],[Acceleration Force]]+Table1[[#This Row],[Rolling Resistance]]+Table1[[#This Row],[Aerodynamic Resistance]] -> 112.815 | O16: =(Table1[[#This Row],[Acceleration Force]]+Table1[[#This Row],[Rolling Resistance]]+Table1[[#This Row],[Aerodynamic Resistance]])*Table1[[#This Row],[Velocity]] -> 0 | P16: =Table1[[#This Row],[Total]]*Table1[[#This Row],[Velocity]] -> 0 | Q16: =IF(Table1[[#This Row],[Energy]]>0,Table1[[#This Row],[Energy]],0) -> 0 | R16: =(SUM($Q$6:Q16))/1000000 -> 0 | S16: =IF(Table1[[#This Row],[Energy]]<0,ABS(Table1[[#This Row],[Energy]]),0) -> 0 | T16: =(SUM($S$6:S16))/1000000 -> 0
B17: Low | C17: 11 | D17: 11 | E17: 0 | F17: =($E18-$E16)/2/3.6 -> 0.027777778 | G17: =($E18-$E16)/2 -> 0.1 | H17: =IF(E17<1,1,0) -> 1 | I17: =IF(H17=1,"",E17) | J17: =E17/3.6 -> 0 | K17: =(1000*1.15)*Table1[[#This Row],[WLTC class 3, version 5, acceleration]] -> 31.944444 | L17: =1150*9.81*0.01 -> 112.815 | M17: =0.5*1.2*0.32*1.99*(Table1[[#This Row],[Velocity]]^2) -> 0 | N17: =Table1[[#This Row],[Acceleration Force]]+Table1[[#This Row],[Rolling Resistance]]+Table1[[#This Row],[Aerodynamic Resistance]] -> 144.75944 | O17: =(Table1[[#This Row],[Acceleration Force]]+Table1[[#This Row],[Rolling Resistance]]+Table1[[#This Row],[Aerodynamic Resistance]])*Table1[[#This Row],[Velocity]] -> 0 | P17: =Table1[[#This Row],[Total]]*Table1[[#This Row],[Velocity]] -> 0 | Q17: =IF(Table1[[#This Row],[Energy]]>0,Table1[[#This Row],[Energy]],0) -> 0 | R17: =(SUM($Q$6:Q17))/1000000 -> 0 | S17: =IF(Table1[[#This Row],[Energy]]<0,ABS(Table1[[#This Row],[Energy]]),0) -> 0 | T17: =(SUM($S$6:S17))/1000000 -> 0
B18: Low | C18: 12 | D18: 12 | E18: 0.2 | F18: =($E19-$E17)/2/3.6 -> 0.23611111 | G18: =($E19-$E17)/2 -> 0.85 | H18: =IF(E18<1,1,0) -> 1 | I18: =IF(H18=1,"",E18) | J18: =E18/3.6 -> 0.055555556 | K18: =(1000*1.15)*Table1[[#This Row],[WLTC class 3, version 5, acceleration]] -> 271.52778 | L18: =1150*9.81*0.01 -> 112.815 | M18: =0.5*1.2*0.32*1.99*(Table1[[#This Row],[Velocity]]^2) -> 0.0011792593 | N18: =Table1[[#This Row],[Acceleration Force]]+Table1[[#This Row],[Rolling Resistance]]+Table1[[#This Row],[Aerodynamic Resistance]] -> 384.34396 | O18: =(Table1[[#This Row],[Acceleration Force]]+Table1[[#This Row],[Rolling Resistance]]+Table1[[#This Row],[Aerodynamic Resistance]])*Table1[[#This Row],[Velocity]] -> 21.352442 | P18: =Table1[[#This Row],[Total]]*Table1[[#This Row],[Velocity]] -> 21.352442 | Q18: =IF(Table1[[#This Row],[Energy]]>0,Table1[[#This Row],[Energy]],0) -> 21.352442 | R18: =(SUM($Q$6:Q18))/1000000 -> 2.1352442e-05 | S18: =IF(Table1[[#This Row],[Energy]]<0,ABS(Table1[[#This Row],[Energy]]),0) -> 0 | T18: =(SUM($S$6:S18))/1000000 -> 0
... B1805: Extra-high | C1805: 1799 | D1805: 322 | E1805: 0 | F1805: =($E1806-$E1804)/2/3.6 -> 0 | G1805: =($E1806-$E1804)/2 -> 0 | H1805: =IF(E1805<1,1,0) -> 1 | I1805: =IF(H1805=1,"",E1805) | J1805: =E1805/3.6 -> 0 | K1805: =(1000*1.15)*Table1[[#This Row],[WLTC class 3, version 5, acceleration]] -> 0 | L1805: =1150*9.81*0.01 -> 112.815 | M1805: =0.5*1.2*0.32*1.99*(Table1[[#This Row],[Velocity]]^2) -> 0 | N1805: =Table1[[#This Row],[Acceleration Force]]+Table1[[#This Row],[Rolling Resistance]]+Table1[[#This Row],[Aerodynamic Resistance]] -> 112.815 | O1805: =(Table1[[#This Row],[Acceleration Force]]+Table1[[#This Row],[Rolling Resistance]]+Table1[[#This Row],[Aerodynamic Resistance]])*Table1[[#This Row],[Velocity]] -> 0 | P1805: =Table1[[#This Row],[Total]]*Table1[[#This Row],[Velocity]] -> 0 | Q1805: =IF(Table1[[#This Row],[Energy]]>0,Table1[[#This Row],[Energy]],0) -> 0 | R1805: =(SUM($Q$6:Q1805))/1000000 -> 9.4540812 | S1805: =IF(Table1[[#This Row],[Energy]]<0,ABS(Table1[[#This Row],[Energy]]),0) -> 0 | T1805: =(SUM($S$6:S1805))/1000000 -> 2.2725305
B1806: Extra-high | C1806: 1800 | D1806: 323 | E1806: 0 | F1806: =(#REF!-$E1805)/2/3.6 -> #REF! | G1806: =(#REF!-$E1805)/2 -> #REF! | H1806: =IF(E1806<1,1,0) -> 1 | I1806: =IF(H1806=1,"",E1806) | J1806: =E1806/3.6 -> 0 | K1806: =(1000*1.15)*Table1[[#This Row],[WLTC class 3, version 5, acceleration]] -> #REF! | L1806: =1150*9.81*0.01 -> 112.815 | M1806: =0.5*1.2*0.32*1.99*(Table1[[#This Row],[Velocity]]^2) -> 0 | N1806: =Table1[[#This Row],[Acceleration Force]]+Table1[[#This Row],[Rolling Resistance]]+Table1[[#This Row],[Aerodynamic Resistance]] -> #REF! | O1806: =(Table1[[#This Row],[Acceleration Force]]+Table1[[#This Row],[Rolling Resistance]]+Table1[[#This Row],[Aerodynamic Resistance]])*Table1[[#This Row],[Velocity]] -> #REF! | P1806: =Table1[[#This Row],[Total]]*Table1[[#This Row],[Velocity]] -> #REF! | Q1806: =IF(Table1[[#This Row],[Energy]]>0,Table1[[#This Row],[Energy]],0) -> #REF! | R1806: =(SUM($Q$6:Q1806))/1000000 -> #REF! | S1806: =IF(Table1[[#This Row],[Energy]]<0,ABS(Table1[[#This Row],[Energy]]),0) -> #REF! | T1806: =(SUM($S$6:S1806))/1000000 -> #REF!

Sheet Graphical Data
C2: duration | D2: stop duration | E2: distance | F2: p_stop | G2: v_max | H2: v_ave without stops | I2: v_ave with stops | J2: a_min | K2: a_max
C3: s | D3: s | E3: m | G3: km/h | H3: km/h | I3: km/h | J3: m/s² | K3: m/s²
B4: low | C4: =COUNT(WLTC_class_3!D7:D595) -> 589 | D4: =SUM(WLTC_class_3!H6:H595) -> 157 | E4: =SUM(WLTC_class_3!J6:J595) -> 3094.5278 | F4: =D4/C4 -> 0.26655348 | G4: =MAX(WLTC_class_3!E6:E595) -> 56.5 | H4: =E4/(C4-D4)*3.6 -> 25.787731 | I4: =E4/C4*3.6 -> 18.913922 | J4: =MIN(WLTC_class_3!F6:F595) -> -1.4722222 | K4: =MAX('Graphical Data'!F6:F595) -> 0.135
B5: medium | C5: =COUNT(WLTC_class_3!D596:D1028) -> 433 | D5: =SUM(WLTC_class_3!H596:H1028) -> 48 | E5: =SUM(WLTC_class_3!J596:J1028) -> 4755.8889 | F5: =D5/C5 -> 0.1108545 | G5: =MAX(WLTC_class_3!E596:E1028) -> 76.6 | H5: =E5/(C5-D5)*3.6 -> 44.470649 | I5: =E5/C5*3.6 -> 39.540878 | J5: =MIN(WLTC_class_3!F596:F1028) -> -1.4861111 | K5: =MAX(WLTC_class_3!F596:F1028) -> 1.5694444
B6: high | C6: =COUNT(WLTC_class_3!D1029:D1483) -> 455 | D6: =SUM(WLTC_class_3!H1029:H1483) -> 31 | E6: =SUM(WLTC_class_3!J1029:J1483) -> 7157.8333 | F6: =D6/C6 -> 0.068131868 | G6: =MAX(WLTC_class_3!E1029:E1483) -> 97.4 | H6: =E6/(C6-D6)*3.6 -> 60.774057 | I6: =E6/C6*3.6 -> 56.633407 | J6: =MIN(WLTC_class_3!F1029:F1483) -> -1.4861111 | K6: =MAX(WLTC_class_3!F1029:F1483) -> 1.5833333
B7: extra high | C7: =COUNT(WLTC_class_3!D1484:D1806) -> 323 | D7: =SUM(WLTC_class_3!H1484:H1806) -> 7 | E7: =SUM(WLTC_class_3!J1484:J1806) -> 8254.1389 | F7: =D7/C7 -> 0.021671827 | G7: =MAX(WLTC_class_3!E1484:E1806) -> 131.3 | H7: =E7/(C7-D7)*3.6 -> 94.034494 | I7: =E7/C7*3.6 -> 91.996594 | J7: =MIN(WLTC_class_3!F1484:F1805) -> -1.2083333 | K7: =MAX(WLTC_class_3!F1484:F1805) -> 1.0277778
C8: =SUM(C4:C7) -> 1800 | D8: =SUM(D4:D7) -> 243 | E8: =SUM(E4:E7) -> 23262.389 | F8: =D8/C8 -> 0.135 | H8: =E8/(C8-D8)*3.6 -> 53.78587 | I8: =E8/C8*3.6 -> 46.524778
I31: Max Tractive Effort | J31: =MAX(WLTC_class_3!R6:R1805) -> 9.4540812 | K31: MJ
I32: Max Braking Effort | J32: =MAX(WLTC_class_3!T7:T1805) -> 2.2725305 | K32: MJ
I33: Losses (Trac - Brak) | J33: =(J31-J32) -> 7.1815507 | K33: MJ
