Workbook

Sheet No EGR
A1: RPM | B1: 1800
A2: Iso-Ethanol
B3: Φ | C3: 0.6 | E3: =C3+0.05 -> 0.65 | G3: 0.7 | I3: 0.75 | K3: 0.8 | M3: 0.85 | O3: 0.9 | Q3: 0.95 | S3: 0.96 | U3: 0.97 | W3: 0.98 | Y3: 0.99 | AA3: 1
A4: Crank Angle | B4: Pressure | C4: Temperature | D4: NoX | E4: Temperature | F4: NoX | G4: Temperature | H4: NoX | I4: Temperature | J4: NoX | K4: Temperature | L4: NoX | M4: Temperature | N4: NoX | O4: Temperature | P4: NoX | Q4: Temperature | R4: NoX | S4: Temperature | T4: NoX | U4: Temperature | V4: NoX | W4: Temperature | X4: NoX | Y4: Temperature | Z4: NoX | AA4: Temperature | AB4: NoX
A5: Degrees | B5: Bar | C5: K | D5: Kmol/° | E5: K | F5: Kmol/° | G5: K | H5: Kmol/° | I5: K | J5: Kmol/° | K5: K | L5: Kmol/° | M5: K | N5: Kmol/° | O5: K | P5: Kmol/° | Q5: K | R5: Kmol/° | S5: K | T5: Kmol/° | U5: K | V5: Kmol/° | W5: K | X5: Kmol/° | Y5: K | Z5: Kmol/° | AA5: K | AB5: Kmol/°
A6: 0 | B6: 10 | C6: 1606.676 | D6: =((4170000000000*((('Reference tables'!$X$40)*('Reference tables'!$Y$40))^0.5)*EXP((-67837/'No EGR'!C6)))/('No EGR'!$B$1*6))*'Reference tables'!$B$51 -> 1.3491479e-15 | E6: 1707.012 | F6: =((4170000000000*((('Reference tables'!$X$41)*('Reference tables'!$Y$41))^0.5)*EXP((-67837/'No EGR'!E6)))/('No EGR'!$B$1*6))*'Reference tables'!$B$51 -> 1.5083918e-14 | G6: 1806.432 | H6: =((4170000000000*((('Reference tables'!$X$42)*('Reference tables'!$Y$42))^0.5)*EXP((-67837/'No EGR'!G6)))/('No EGR'!$B$1*6))*'Reference tables'!$B$51 -> 1.2432405e-13 | I6: 1905.217 | J6: =((4170000000000*((('Reference tables'!$X$43)*('Reference tables'!$Y$43))^0.5)*EXP((-67837/'No EGR'!I6)))/('No EGR'!$B$1*6))*'Reference tables'!$B$51 -> 7.9474055e-13 | K6: 2003.346 | L6: =((4170000000000*((('Reference tables'!$X$44)*('Reference tables'!$Y$44))^0.5)*EXP((-67837/'No EGR'!K6)))/('No EGR'!$B$1*6))*'Reference tables'!$B$51 -> 4.0630267e-12 | M6: 2101.027 | N6: =((4170000000000*((('Reference tables'!$X$45)*('Reference tables'!$Y$45))^0.5)*EXP((-67837/'No EGR'!M6)))/('No EGR'!$B$1*6))*'Reference tables'!$B$51 -> 1.6971994e-11 | O6: 2197.913 | P6: =((4170000000000*((('Reference tables'!$X$46)*('Reference tables'!$Y$46))^0.5)*EXP((-67837/'No EGR'!O6)))/('No EGR'!$B$1*6))*'Reference tables'!$B$51 -> 5.7470308e-11 | Q6: 2294.596 | R6: =((4170000000000*((('Reference tables'!$X$47)*('Reference tables'!$Y$47))^0.5)*EXP((-67837/'No EGR'!Q6)))/('No EGR'!$B$1*6))*'Reference tables'!$B$51 -> 1.4905819e-10 | S6: 2313.81 | T6: =((4170000000000*((('Reference tables'!$X$48)*('Reference tables'!$Y$48))^0.5)*EXP((-67837/'No EGR'!S6)))/('No EGR'!$B$1*6))*'Reference tables'!$B$51 -> 1.7039156e-10 | U6: 2337.995 | V6: =((4170000000000*((('Reference tables'!$X$49)*('Reference tables'!$Y$49))^0.5)*EXP((-67837/'No EGR'!U6)))/('No EGR'!$B$1*6))*'Reference tables'!$B$51 -> 1.9981084e-10 | W6: 2352.184 | X6: =((4170000000000*((('Reference tables'!$X$50)*('Reference tables'!$Y$50))^0.5)*EXP((-67837/'No EGR'!W6)))/('No EGR'!$B$1*6))*'Reference tables'!$B$51 -> 1.9431871e-10 | Y6: 2370.798 | Z6: =((4170000000000*((('Reference tables'!$X$51)*('Reference tables'!$Y$51))^0.5)*EXP((-67837/'No EGR'!Y6)))/('No EGR'!$B$1*6))*'Reference tables'!$B$51 -> 1.722926e-10 | AA6: 2393.579 | AB6: =((4170000000000*((('Reference tables'!$X$52)*('Reference tables'!$Y$52))^0.5)*EXP((-67837/'No EGR'!AA6)))/('No EGR'!$B$1*6))*'Reference tables'!$B$51 -> 0
A7: =A6+1 -> 1 | B7: =B6+2 -> 12 | C7: =((((B29^(1.59-1))/(B28^(1.59-1)))*C6^(1.59)))^(1/1.59) -> 1719.1352 | D7: =((4170000000000*((('Reference tables'!$X$40)*('Reference tables'!$Y$40))^0.5)*EXP((-67837/'No EGR'!C7)))/('No EGR'!$B$1*6))*'Reference tables'!$B$51 -> 2.1358935e-14 | E7: =((((B29^(1.59-1))/(B28^(1.59-1)))*E6^(1.59)))^(1/1.59) -> 1826.4942 | F7: =((4170000000000*((('Reference tables'!$X$41)*('Reference tables'!$Y$41))^0.5)*EXP((-67837/'No EGR'!E7)))/('No EGR'!$B$1*6))*'Reference tables'!$B$51 -> 2.030149e-13 | G7: =((((B29^(1.59-1))/(B28^(1.59-1)))*G6^(1.59)))^(1/1.59) -> 1932.8731 | H7: =((4170000000000*((('Reference tables'!$X$42)*('Reference tables'!$Y$42))^0.5)*EXP((-67837/'No EGR'!G7)))/('No EGR'!$B$1*6))*'Reference tables'!$B$51 -> 1.4502129e-12 | I7: =((((B29^(1.59-1))/(B28^(1.59-1)))*I6^(1.59)))^(1/1.59) -> 2038.5725 | J7: =((4170000000000*((('Reference tables'!$X$43)*('Reference tables'!$Y$43))^0.5)*EXP((-67837/'No EGR'!I7)))/('No EGR'!$B$1*6))*'Reference tables'!$B$51 -> 8.1617768e-12 | K7: =((((B29^(1.59-1))/(B28^(1.59-1)))*K6^(1.59)))^(1/1.59) -> 2143.5701 | L7: =((4170000000000*((('Reference tables'!$X$44)*('Reference tables'!$Y$44))^0.5)*EXP((-67837/'No EGR'!K7)))/('No EGR'!$B$1*6))*'Reference tables'!$B$51 -> 3.7227191e-11 | M7: =((((B29^(1.59-1))/(B28^(1.59-1)))*M6^(1.59)))^(1/1.59) -> 2248.0882 | N7: =((4170000000000*((('Reference tables'!$X$45)*('Reference tables'!$Y$45))^0.5)*EXP((-67837/'No EGR'!M7)))/('No EGR'!$B$1*6))*'Reference tables'!$B$51 -> 1.4028707e-10 | O7: =((((B29^(1.59-1))/(B28^(1.59-1)))*O6^(1.59)))^(1/1.59) -> 2351.7558 | P7: =((4170000000000*((('Reference tables'!$X$46)*('Reference tables'!$Y$46))^0.5)*EXP((-67837/'No EGR'!O7)))/('No EGR'!$B$1*6))*'Reference tables'!$B$51 -> 4.3280627e-10 | Q7: =((((B29^(1.59-1))/(B28^(1.59-1)))*Q6^(1.59)))^(1/1.59) -> 2455.2061 | R7: =((4170000000000*((('Reference tables'!$X$47)*('Reference tables'!$Y$47))^0.5)*EXP((-67837/'No EGR'!Q7)))/('No EGR'!$B$1*6))*'Reference tables'!$B$51 -> 1.0310025e-09 | S7: =((((B29^(1.59-1))/(B28^(1.59-1)))*S6^(1.59)))^(1/1.59) -> 2475.765 | T7: =((4170000000000*((('Reference tables'!$X$48)*('Reference tables'!$Y$48))^0.5)*EXP((-67837/'No EGR'!S7)))/('No EGR'!$B$1*6))*'Reference tables'!$B$51 -> 1.1597846e-09 | U7: =((((B29^(1.59-1))/(B28^(1.59-1)))*U6^(1.59)))^(1/1.59) -> 2501.6428 | V7: =((4170000000000*((('Reference tables'!$X$49)*('Reference tables'!$Y$49))^0.5)*EXP((-67837/'No EGR'!U7)))/('No EGR'!$B$1*6))*'Reference tables'!$B$51 -> 1.3333133e-09 | W7: =((((B29^(1.59-1))/(B28^(1.59-1)))*W6^(1.59)))^(1/1.59) -> 2516.825 | X7: =((4170000000000*((('Reference tables'!$X$50)*('Reference tables'!$Y$50))^0.5)*EXP((-67837/'No EGR'!W7)))/('No EGR'!$B$1*6))*'Reference tables'!$B$51 -> 1.2819034e-09 | Y7: =((((B29^(1.59-1))/(B28^(1.59-1)))*Y6^(1.59)))^(1/1.59) -> 2536.7418 | Z7: =((4170000000000*((('Reference tables'!$X$51)*('Reference tables'!$Y$51))^0.5)*EXP((-67837/'No EGR'!Y7)))/('No EGR'!$B$1*6))*'Reference tables'!$B$51 -> 1.1198875e-09 | AA7: =((((B29^(1.59-1))/(B28^(1.59-1)))*AA6^(1.59)))^(1/1.59) -> 2561.1174 | AB7: =((4170000000000*((('Reference tables'!$X$52)*('Reference tables'!$Y$52))^0.5)*EXP((-67837/'No EGR'!AA7)))/('No EGR'!$B$1*6))*'Reference tables'!$B$51 -> 0
A8: =A7+1 -> 2 | B8: =B7+2 -> 14 | C8: =((((B30^(1.59-1))/(B29^(1.59-1)))*C7^(1.59)))^(1/1.59) -> 1820.3375 | D8: =((4170000000000*((('Reference tables'!$X$40)*('Reference tables'!$Y$40))^0.5)*EXP((-67837/'No EGR'!C8)))/('No EGR'!$B$1*6))*'Reference tables'!$B$51 -> 1.9157146e-13 | E8: =((((B30^(1.59-1))/(B29^(1.59-1)))*E7^(1.59)))^(1/1.59) -> 1934.0165 | F8: =((4170000000000*((('Reference tables'!$X$41)*('Reference tables'!$Y$41))^0.5)*EXP((-67837/'No EGR'!E8)))/('No EGR'!$B$1*6))*'Reference tables'!$B$51 -> 1.6005809e-12 | G8: =((((B30^(1.59-1))/(B29^(1.59-1)))*G7^(1.59)))^(1/1.59) -> 2046.6578 | H8: =((4170000000000*((('Reference tables'!$X$42)*('Reference tables'!$Y$42))^0.5)*EXP((-67837/'No EGR'!G8)))/('No EGR'!$B$1*6))*'Reference tables'!$B$51 -> 1.0205337e-11 | I8: =((((B30^(1.59-1))/(B29^(1.59-1)))*I7^(1.59)))^(1/1.59) -> 2158.5796 | J8: =((4170000000000*((('Reference tables'!$X$43)*('Reference tables'!$Y$43))^0.5)*EXP((-67837/'No EGR'!I8)))/('No EGR'!$B$1*6))*'Reference tables'!$B$51 -> 5.1909048e-11 | K8: =((((B30^(1.59-1))/(B29^(1.59-1)))*K7^(1.59)))^(1/1.59) -> 2269.7581 | L8: =((4170000000000*((('Reference tables'!$X$44)*('Reference tables'!$Y$44))^0.5)*EXP((-67837/'No EGR'!K8)))/('No EGR'!$B$1*6))*'Reference tables'!$B$51 -> 2.1625351e-10 | M8: =((((B30^(1.59-1))/(B29^(1.59-1)))*M7^(1.59)))^(1/1.59) -> 2380.4291 | N8: =((4170000000000*((('Reference tables'!$X$45)*('Reference tables'!$Y$45))^0.5)*EXP((-67837/'No EGR'!M8)))/('No EGR'!$B$1*6))*'Reference tables'!$B$51 -> 7.5092379e-10 | O8: =((((B30^(1.59-1))/(B29^(1.59-1)))*O7^(1.59)))^(1/1.59) -> 2490.1993 | P8: =((4170000000000*((('Reference tables'!$X$46)*('Reference tables'!$Y$46))^0.5)*EXP((-67837/'No EGR'!O8)))/('No EGR'!$B$1*6))*'Reference tables'!$B$51 -> 2.1515695e-09 | Q8: =((((B30^(1.59-1))/(B29^(1.59-1)))*Q7^(1.59)))^(1/1.59) -> 2599.7396 | R8: =((4170000000000*((('Reference tables'!$X$47)*('Reference tables'!$Y$47))^0.5)*EXP((-67837/'No EGR'!Q8)))/('No EGR'!$B$1*6))*'Reference tables'!$B$51 -> 4.7904472e-09 | S8: =((((B30^(1.59-1))/(B29^(1.59-1)))*S7^(1.59)))^(1/1.59) -> 2621.5087 | T8: =((4170000000000*((('Reference tables'!$X$48)*('Reference tables'!$Y$48))^0.5)*EXP((-67837/'No EGR'!S8)))/('No EGR'!$B$1*6))*'Reference tables'!$B$51 -> 5.3205181e-09 | U8: =((((B30^(1.59-1))/(B29^(1.59-1)))*U7^(1.59)))^(1/1.59) -> 2648.9099 | V8: =((4170000000000*((('Reference tables'!$X$49)*('Reference tables'!$Y$49))^0.5)*EXP((-67837/'No EGR'!U8)))/('No EGR'!$B$1*6))*'Reference tables'!$B$51 -> 6.0209527e-09 | W8: =((((B30^(1.59-1))/(B29^(1.59-1)))*W7^(1.59)))^(1/1.59) -> 2664.9858 | X8: =((4170000000000*((('Reference tables'!$X$50)*('Reference tables'!$Y$50))^0.5)*EXP((-67837/'No EGR'!W8)))/('No EGR'!$B$1*6))*'Reference tables'!$B$51 -> 5.7363917e-09 | Y8: =((((B30^(1.59-1))/(B29^(1.59-1)))*Y7^(1.59)))^(1/1.59) -> 2686.0752 | Z8: =((4170000000000*((('Reference tables'!$X$51)*('Reference tables'!$Y$51))^0.5)*EXP((-67837/'No EGR'!Y8)))/('No EGR'!$B$1*6))*'Reference tables'!$B$51 -> 4.9527719e-09 | AA8: =((((B30^(1.86-1))/(B29^(1.86-1)))*AA7^(1.86)))^(1/1.86) -> 2750.321 | AB8: =((4170000000000*((('Reference tables'!$X$52)*('Reference tables'!$Y$52))^0.5)*EXP((-67837/'No EGR'!AA8)))/('No EGR'!$B$1*6))*'Reference tables'!$B$51 -> 0
A9: =A8+1 -> 3 | B9: =B8+2 -> 16 | C9: =((((B31^(1.59-1))/(B30^(1.59-1)))*C8^(1.59)))^(1/1.59) -> 1912.8061 | D9: =((4170000000000*((('Reference tables'!$X$40)*('Reference tables'!$Y$40))^0.5)*EXP((-67837/'No EGR'!C9)))/('No EGR'!$B$1*6))*'Reference tables'!$B$51 -> 1.160697e-12 | E9: =((((B31^(1.59-1))/(B30^(1.59-1)))*E8^(1.59)))^(1/1.59) -> 2032.2597 | F9: =((4170000000000*((('Reference tables'!$X$41)*('Reference tables'!$Y$41))^0.5)*EXP((-67837/'No EGR'!E9)))/('No EGR'!$B$1*6))*'Reference tables'!$B$51 -> 8.7232415e-12 | G9: =((((B31^(1.59-1))/(B30^(1.59-1)))*G8^(1.59)))^(1/1.59) -> 2150.6228 | H9: =((4170000000000*((('Reference tables'!$X$42)*('Reference tables'!$Y$42))^0.5)*EXP((-67837/'No EGR'!G9)))/('No EGR'!$B$1*6))*'Reference tables'!$B$51 -> 5.06639e-11 | I9: =((((B31^(1.59-1))/(B30^(1.59-1)))*I8^(1.59)))^(1/1.59) -> 2268.23 | J9: =((4170000000000*((('Reference tables'!$X$43)*('Reference tables'!$Y$43))^0.5)*EXP((-67837/'No EGR'!I9)))/('No EGR'!$B$1*6))*'Reference tables'!$B$51 -> 2.371557e-10 | K9: =((((B31^(1.59-1))/(B30^(1.59-1)))*K8^(1.59)))^(1/1.59) -> 2385.0561 | L9: =((4170000000000*((('Reference tables'!$X$44)*('Reference tables'!$Y$44))^0.5)*EXP((-67837/'No EGR'!K9)))/('No EGR'!$B$1*6))*'Reference tables'!$B$51 -> 9.1713963e-10 | M9: =((((B31^(1.59-1))/(B30^(1.59-1)))*M8^(1.59)))^(1/1.59) -> 2501.3489 | N9: =((4170000000000*((('Reference tables'!$X$45)*('Reference tables'!$Y$45))^0.5)*EXP((-67837/'No EGR'!M9)))/('No EGR'!$B$1*6))*'Reference tables'!$B$51 -> 2.9778011e-09 | O9: =((((B31^(1.59-1))/(B30^(1.59-1)))*O8^(1.59)))^(1/1.59) -> 2616.6952 | P9: =((4170000000000*((('Reference tables'!$X$46)*('Reference tables'!$Y$46))^0.5)*EXP((-67837/'No EGR'!O9)))/('No EGR'!$B$1*6))*'Reference tables'!$B$51 -> 8.0293725e-09 | Q9: =((((B31^(1.59-1))/(B30^(1.59-1)))*Q8^(1.59)))^(1/1.59) -> 2731.7998 | R9: =((4170000000000*((('Reference tables'!$X$47)*('Reference tables'!$Y$47))^0.5)*EXP((-67837/'No EGR'!Q9)))/('No EGR'!$B$1*6))*'Reference tables'!$B$51 -> 1.6912357e-08 | S9: =((((B31^(1.59-1))/(B30^(1.59-1)))*S8^(1.59)))^(1/1.59) -> 2754.6748 | T9: =((4170000000000*((('Reference tables'!$X$48)*('Reference tables'!$Y$48))^0.5)*EXP((-67837/'No EGR'!S9)))/('No EGR'!$B$1*6))*'Reference tables'!$B$51 -> 1.8588006e-08 | U9: =((((B31^(1.59-1))/(B30^(1.59-1)))*U8^(1.59)))^(1/1.59) -> 2783.4679 | V9: =((4170000000000*((('Reference tables'!$X$49)*('Reference tables'!$Y$49))^0.5)*EXP((-67837/'No EGR'!U9)))/('No EGR'!$B$1*6))*'Reference tables'!$B$51 -> 2.0764632e-08 | W9: =((((B31^(1.59-1))/(B30^(1.59-1)))*W8^(1.59)))^(1/1.59) -> 2800.3604 | X9: =((4170000000000*((('Reference tables'!$X$50)*('Reference tables'!$Y$50))^0.5)*EXP((-67837/'No EGR'!W9)))/('No EGR'!$B$1*6))*'Reference tables'!$B$51 -> 1.9636068e-08 | Y9: =((((B31^(1.59-1))/(B30^(1.59-1)))*Y8^(1.59)))^(1/1.59) -> 2822.521 | Z9: =((4170000000000*((('Reference tables'!$X$51)*('Reference tables'!$Y$51))^0.5)*EXP((-67837/'No EGR'!Y9)))/('No EGR'!$B$1*6))*'Reference tables'!$B$51 -> 1.6790675e-08 | AA9: =((((B31^(1.86-1))/(B30^(1.86-1)))*AA8^(1.86)))^(1/1.86) -> 2925.4782 | AB9: =((4170000000000*((('Reference tables'!$X$52)*('Reference tables'!$Y$52))^0.5)*EXP((-67837/'No EGR'!AA9)))/('No EGR'!$B$1*6))*'Reference tables'!$B$51 -> 0
A10: =A9+1 -> 4 | B10: =B9+2 -> 18 | C10: =((((B32^(1.59-1))/(B31^(1.59-1)))*C9^(1.59)))^(1/1.59) -> 1998.2603 | D10: =((4170000000000*((('Reference tables'!$X$40)*('Reference tables'!$Y$40))^0.5)*EXP((-67837/'No EGR'!C10)))/('No EGR'!$B$1*6))*'Reference tables'!$B$51 -> 5.2890707e-12 | E10: =((((B32^(1.59-1))/(B31^(1.59-1)))*E9^(1.59)))^(1/1.59) -> 2123.0505 | F10: =((4170000000000*((('Reference tables'!$X$41)*('Reference tables'!$Y$41))^0.5)*EXP((-67837/'No EGR'!E10)))/('No EGR'!$B$1*6))*'Reference tables'!$B$51 -> 3.6359943e-11 | G10: =((((B32^(1.59-1))/(B31^(1.59-1)))*G9^(1.59)))^(1/1.59) -> 2246.7015 | H10: =((4170000000000*((('Reference tables'!$X$42)*('Reference tables'!$Y$42))^0.5)*EXP((-67837/'No EGR'!G10)))/('No EGR'!$B$1*6))*'Reference tables'!$B$51 -> 1.9521995e-10 | I10: =((((B32^(1.59-1))/(B31^(1.59-1)))*I9^(1.59)))^(1/1.59) -> 2369.5627 | J10: =((4170000000000*((('Reference tables'!$X$43)*('Reference tables'!$Y$43))^0.5)*EXP((-67837/'No EGR'!I10)))/('No EGR'!$B$1*6))*'Reference tables'!$B$51 -> 8.520876e-10 | K10: =((((B32^(1.59-1))/(B31^(1.59-1)))*K9^(1.59)))^(1/1.59) -> 2491.608 | L10: =((4170000000000*((('Reference tables'!$X$44)*('Reference tables'!$Y$44))^0.5)*EXP((-67837/'No EGR'!K10)))/('No EGR'!$B$1*6))*'Reference tables'!$B$51 -> 3.0951289e-09 | M10: =((((B32^(1.59-1))/(B31^(1.59-1)))*M9^(1.59)))^(1/1.59) -> 2613.0962 | N10: =((4170000000000*((('Reference tables'!$X$45)*('Reference tables'!$Y$45))^0.5)*EXP((-67837/'No EGR'!M10)))/('No EGR'!$B$1*6))*'Reference tables'!$B$51 -> 9.4968564e-09 | O10: =((((B32^(1.59-1))/(B31^(1.59-1)))*O9^(1.59)))^(1/1.59) -> 2733.5955 | P10: =((4170000000000*((('Reference tables'!$X$46)*('Reference tables'!$Y$46))^0.5)*EXP((-67837/'No EGR'!O10)))/('No EGR'!$B$1*6))*'Reference tables'!$B$51 -> 2.4331166e-08 | Q10: =((((B32^(1.59-1))/(B31^(1.59-1)))*Q9^(1.59)))^(1/1.59) -> 2853.8424 | R10: =((4170000000000*((('Reference tables'!$X$47)*('Reference tables'!$Y$47))^0.5)*EXP((-67837/'No EGR'!Q10)))/('No EGR'!$B$1*6))*'Reference tables'!$B$51 -> 4.891006e-08 | S10: =((((B32^(1.59-1))/(B31^(1.59-1)))*S9^(1.59)))^(1/1.59) -> 2877.7393 | T10: =((4170000000000*((('Reference tables'!$X$48)*('Reference tables'!$Y$48))^0.5)*EXP((-67837/'No EGR'!S10)))/('No EGR'!$B$1*6))*'Reference tables'!$B$51 -> 5.3284033e-08 | U10: =((((B32^(1.59-1))/(B31^(1.59-1)))*U9^(1.59)))^(1/1.59) -> 2907.8188 | V10: =((4170000000000*((('Reference tables'!$X$49)*('Reference tables'!$Y$49))^0.5)*EXP((-67837/'No EGR'!U10)))/('No EGR'!$B$1*6))*'Reference tables'!$B$51 -> 5.8878589e-08 | W10: =((((B32^(1.59-1))/(B31^(1.59-1)))*W9^(1.59)))^(1/1.59) -> 2925.466 | X10: =((4170000000000*((('Reference tables'!$X$50)*('Reference tables'!$Y$50))^0.5)*EXP((-67837/'No EGR'!W10)))/('No EGR'!$B$1*6))*'Reference tables'!$B$51 -> 5.5329567e-08 | Y10: =((((B32^(1.59-1))/(B31^(1.59-1)))*Y9^(1.59)))^(1/1.59) -> 2948.6166 | Z10: =((4170000000000*((('Reference tables'!$X$51)*('Reference tables'!$Y$51))^0.5)*EXP((-67837/'No EGR'!Y10)))/('No EGR'!$B$1*6))*'Reference tables'!$B$51 -> 4.6928704e-08 | AA10: =((((B32^(1.86-1))/(B31^(1.86-1)))*AA9^(1.86)))^(1/1.86) -> 3089.2142 | AB10: =((4170000000000*((('Reference tables'!$X$52)*('Reference tables'!$Y$52))^0.5)*EXP((-67837/'No EGR'!AA10)))/('No EGR'!$B$1*6))*'Reference tables'!$B$51 -> 0
A11: =A10+1 -> 5 | B11: =B10+2 -> 20 | C11: =((((B33^(1.59-1))/(B32^(1.59-1)))*C10^(1.59)))^(1/1.59) -> 2077.9317 | D11: =((4170000000000*((('Reference tables'!$X$40)*('Reference tables'!$Y$40))^0.5)*EXP((-67837/'No EGR'!C11)))/('No EGR'!$B$1*6))*'Reference tables'!$B$51 -> 1.9438704e-11 | E11: =((((B33^(1.59-1))/(B32^(1.59-1)))*E10^(1.59)))^(1/1.59) -> 2207.6973 | F11: =((4170000000000*((('Reference tables'!$X$41)*('Reference tables'!$Y$41))^0.5)*EXP((-67837/'No EGR'!E11)))/('No EGR'!$B$1*6))*'Reference tables'!$B$51 -> 1.2378962e-10 | G11: =((((B33^(1.59-1))/(B32^(1.59-1)))*G10^(1.59)))^(1/1.59) -> 2336.2783 | H11: =((4170000000000*((('Reference tables'!$X$42)*('Reference tables'!$Y$42))^0.5)*EXP((-67837/'No EGR'!G11)))/('No EGR'!$B$1*6))*'Reference tables'!$B$51 -> 6.2130143e-10 | I11: =((((B33^(1.59-1))/(B32^(1.59-1)))*I10^(1.59)))^(1/1.59) -> 2464.038 | J11: =((4170000000000*((('Reference tables'!$X$43)*('Reference tables'!$Y$43))^0.5)*EXP((-67837/'No EGR'!I11)))/('No EGR'!$B$1*6))*'Reference tables'!$B$51 -> 2.5538389e-09 | K11: =((((B33^(1.59-1))/(B32^(1.59-1)))*K10^(1.59)))^(1/1.59) -> 2590.9493 | L11: =((4170000000000*((('Reference tables'!$X$44)*('Reference tables'!$Y$44))^0.5)*EXP((-67837/'No EGR'!K11)))/('No EGR'!$B$1*6))*'Reference tables'!$B$51 -> 8.7909852e-09 | M11: =((((B33^(1.59-1))/(B32^(1.59-1)))*M10^(1.59)))^(1/1.59) -> 2717.2812 | N11: =((4170000000000*((('Reference tables'!$X$45)*('Reference tables'!$Y$45))^0.5)*EXP((-67837/'No EGR'!M11)))/('No EGR'!$B$1*6))*'Reference tables'!$B$51 -> 2.5695739e-08 | O11: =((((B33^(1.59-1))/(B32^(1.59-1)))*O10^(1.59)))^(1/1.59) -> 2842.5849 | P11: =((4170000000000*((('Reference tables'!$X$46)*('Reference tables'!$Y$46))^0.5)*EXP((-67837/'No EGR'!O11)))/('No EGR'!$B$1*6))*'Reference tables'!$B$51 -> 6.3007003e-08 | Q11: =((((B33^(1.59-1))/(B32^(1.59-1)))*Q10^(1.59)))^(1/1.59) -> 2967.6261 | R11: =((4170000000000*((('Reference tables'!$X$47)*('Reference tables'!$Y$47))^0.5)*EXP((-67837/'No EGR'!Q11)))/('No EGR'!$B$1*6))*'Reference tables'!$B$51 -> 1.216782e-07 | S11: =((((B33^(1.59-1))/(B32^(1.59-1)))*S10^(1.59)))^(1/1.59) -> 2992.4758 | T11: =((4170000000000*((('Reference tables'!$X$48)*('Reference tables'!$Y$48))^0.5)*EXP((-67837/'No EGR'!S11)))/('No EGR'!$B$1*6))*'Reference tables'!$B$51 -> 1.3156028e-07 | U11: =((((B33^(1.59-1))/(B32^(1.59-1)))*U10^(1.59)))^(1/1.59) -> 3023.7545 | V11: =((4170000000000*((('Reference tables'!$X$49)*('Reference tables'!$Y$49))^0.5)*EXP((-67837/'No EGR'!U11)))/('No EGR'!$B$1*6))*'Reference tables'!$B$51 -> 1.4402062e-07 | W11: =((((B33^(1.59-1))/(B32^(1.59-1)))*W10^(1.59)))^(1/1.59) -> 3042.1053 | X11: =((4170000000000*((('Reference tables'!$X$50)*('Reference tables'!$Y$50))^0.5)*EXP((-67837/'No EGR'!W11)))/('No EGR'!$B$1*6))*'Reference tables'!$B$51 -> 1.3461121e-07 | Y11: =((((B33^(1.59-1))/(B32^(1.59-1)))*Y10^(1.59)))^(1/1.59) -> 3066.179 | Z11: =((4170000000000*((('Reference tables'!$X$51)*('Reference tables'!$Y$51))^0.5)*EXP((-67837/'No EGR'!Y11)))/('No EGR'!$B$1*6))*'Reference tables'!$B$51 -> 1.1337855e-07 | AA11: =((((B33^(1.86-1))/(B32^(1.86-1)))*AA10^(1.86)))^(1/1.86) -> 3243.4314 | AB11: =((4170000000000*((('Reference tables'!$X$52)*('Reference tables'!$Y$52))^0.5)*EXP((-67837/'No EGR'!AA11)))/('No EGR'!$B$1*6))*'Reference tables'!$B$51 -> 0
A12: =A11+1 -> 6 | B12: =B11+2 -> 22 | C12: =((((B34^(1.59-1))/(B33^(1.59-1)))*C11^(1.59)))^(1/1.59) -> 2152.7362 | D12: =((4170000000000*((('Reference tables'!$X$40)*('Reference tables'!$Y$40))^0.5)*EXP((-67837/'No EGR'!C12)))/('No EGR'!$B$1*6))*'Reference tables'!$B$51 -> 6.0441883e-11 | E12: =((((B34^(1.59-1))/(B33^(1.59-1)))*E11^(1.59)))^(1/1.59) -> 2287.1733 | F12: =((4170000000000*((('Reference tables'!$X$41)*('Reference tables'!$Y$41))^0.5)*EXP((-67837/'No EGR'!E12)))/('No EGR'!$B$1*6))*'Reference tables'!$B$51 -> 3.600778e-10 | G12: =((((B34^(1.59-1))/(B33^(1.59-1)))*G11^(1.59)))^(1/1.59) -> 2420.3832 | H12: =((4170000000000*((('Reference tables'!$X$42)*('Reference tables'!$Y$42))^0.5)*EXP((-67837/'No EGR'!G12)))/('No EGR'!$B$1*6))*'Reference tables'!$B$51 -> 1.7040931e-09 | I12: =((((B34^(1.59-1))/(B33^(1.59-1)))*I11^(1.59)))^(1/1.59) -> 2552.7422 | J12: =((4170000000000*((('Reference tables'!$X$43)*('Reference tables'!$Y$43))^0.5)*EXP((-67837/'No EGR'!I12)))/('No EGR'!$B$1*6))*'Reference tables'!$B$51 -> 6.647592e-09 | K12: =((((B34^(1.59-1))/(B33^(1.59-1)))*K11^(1.59)))^(1/1.59) -> 2684.2222 | L12: =((4170000000000*((('Reference tables'!$X$44)*('Reference tables'!$Y$44))^0.5)*EXP((-67837/'No EGR'!K12)))/('No EGR'!$B$1*6))*'Reference tables'!$B$51 -> 2.1835221e-08 | M12: =((((B34^(1.59-1))/(B33^(1.59-1)))*M11^(1.59)))^(1/1.59) -> 2815.102 | N12: =((4170000000000*((('Reference tables'!$X$45)*('Reference tables'!$Y$45))^0.5)*EXP((-67837/'No EGR'!M12)))/('No EGR'!$B$1*6))*'Reference tables'!$B$51 -> 6.1180247e-08 | O12: =((((B34^(1.59-1))/(B33^(1.59-1)))*O11^(1.59)))^(1/1.59) -> 2944.9166 | P12: =((4170000000000*((('Reference tables'!$X$46)*('Reference tables'!$Y$46))^0.5)*EXP((-67837/'No EGR'!O12)))/('No EGR'!$B$1*6))*'Reference tables'!$B$51 -> 1.4438812e-07 | Q12: =((((B34^(1.59-1))/(B33^(1.59-1)))*Q11^(1.59)))^(1/1.59) -> 3074.4592 | R12: =((4170000000000*((('Reference tables'!$X$47)*('Reference tables'!$Y$47))^0.5)*EXP((-67837/'No EGR'!Q12)))/('No EGR'!$B$1*6))*'Reference tables'!$B$51 -> 2.6926553e-07 | S12: =((((B34^(1.59-1))/(B33^(1.59-1)))*S11^(1.59)))^(1/1.59) -> 3100.2035 | T12: =((4170000000000*((('Reference tables'!$X$48)*('Reference tables'!$Y$48))^0.5)*EXP((-67837/'No EGR'!S12)))/('No EGR'!$B$1*6))*'Reference tables'!$B$51 -> 2.8921989e-07 | U12: =((((B34^(1.59-1))/(B33^(1.59-1)))*U11^(1.59)))^(1/1.59) -> 3132.6082 | V12: =((4170000000000*((('Reference tables'!$X$49)*('Reference tables'!$Y$49))^0.5)*EXP((-67837/'No EGR'!U12)))/('No EGR'!$B$1*6))*'Reference tables'!$B$51 -> 3.1404306e-07 | W12: =((((B34^(1.59-1))/(B33^(1.59-1)))*W11^(1.59)))^(1/1.59) -> 3151.6196 | X12: =((4170000000000*((('Reference tables'!$X$50)*('Reference tables'!$Y$50))^0.5)*EXP((-67837/'No EGR'!W12)))/('No EGR'!$B$1*6))*'Reference tables'!$B$51 -> 2.9214834e-07 | Y12: =((((B34^(1.59-1))/(B33^(1.59-1)))*Y11^(1.59)))^(1/1.59) -> 3176.56 | Z12: =((4170000000000*((('Reference tables'!$X$51)*('Reference tables'!$Y$51))^0.5)*EXP((-67837/'No EGR'!Y12)))/('No EGR'!$B$1*6))*'Reference tables'!$B$51 -> 2.4457437e-07 | AA12: =((((B34^(1.86-1))/(B33^(1.86-1)))*AA11^(1.86)))^(1/1.86) -> 3389.5595 | AB12: =((4170000000000*((('Reference tables'!$X$52)*('Reference tables'!$Y$52))^0.5)*EXP((-67837/'No EGR'!AA12)))/('No EGR'!$B$1*6))*'Reference tables'!$B$51 -> 0
A13: =A12+1 -> 7 | B13: =B12+2 -> 24 | C13: =((((B35^(1.59-1))/(B34^(1.59-1)))*C12^(1.59)))^(1/1.59) -> 2223.3763 | D13: =((4170000000000*((('Reference tables'!$X$40)*('Reference tables'!$Y$40))^0.5)*EXP((-67837/'No EGR'!C13)))/('No EGR'!$B$1*6))*'Reference tables'!$B$51 -> 1.6449296e-10 | E13: =((((B35^(1.59-1))/(B34^(1.59-1)))*E12^(1.59)))^(1/1.59) -> 2362.2249 | F13: =((4170000000000*((('Reference tables'!$X$41)*('Reference tables'!$Y$41))^0.5)*EXP((-67837/'No EGR'!E13)))/('No EGR'!$B$1*6))*'Reference tables'!$B$51 -> 9.2394926e-10 | G13: =((((B35^(1.59-1))/(B34^(1.59-1)))*G12^(1.59)))^(1/1.59) -> 2499.8059 | H13: =((4170000000000*((('Reference tables'!$X$42)*('Reference tables'!$Y$42))^0.5)*EXP((-67837/'No EGR'!G13)))/('No EGR'!$B$1*6))*'Reference tables'!$B$51 -> 4.1516547e-09 | I13: =((((B35^(1.59-1))/(B34^(1.59-1)))*I12^(1.59)))^(1/1.59) -> 2636.5082 | J13: =((4170000000000*((('Reference tables'!$X$43)*('Reference tables'!$Y$43))^0.5)*EXP((-67837/'No EGR'!I13)))/('No EGR'!$B$1*6))*'Reference tables'!$B$51 -> 1.5464666e-08 | K13: =((((B35^(1.59-1))/(B34^(1.59-1)))*K12^(1.59)))^(1/1.59) -> 2772.3026 | L13: =((4170000000000*((('Reference tables'!$X$44)*('Reference tables'!$Y$44))^0.5)*EXP((-67837/'No EGR'!K13)))/('No EGR'!$B$1*6))*'Reference tables'!$B$51 -> 4.8738599e-08 | M13: =((((B35^(1.59-1))/(B34^(1.59-1)))*M12^(1.59)))^(1/1.59) -> 2907.4771 | N13: =((4170000000000*((('Reference tables'!$X$45)*('Reference tables'!$Y$45))^0.5)*EXP((-67837/'No EGR'!M13)))/('No EGR'!$B$1*6))*'Reference tables'!$B$51 -> 1.3155707e-07 | O13: =((((B35^(1.59-1))/(B34^(1.59-1)))*O12^(1.59)))^(1/1.59) -> 3041.5515 | P13: =((4170000000000*((('Reference tables'!$X$46)*('Reference tables'!$Y$46))^0.5)*EXP((-67837/'No EGR'!O13)))/('No EGR'!$B$1*6))*'Reference tables'!$B$51 -> 3.0017697e-07 | Q13: =((((B35^(1.59-1))/(B34^(1.59-1)))*Q12^(1.59)))^(1/1.59) -> 3175.3449 | R13: =((4170000000000*((('Reference tables'!$X$47)*('Reference tables'!$Y$47))^0.5)*EXP((-67837/'No EGR'!Q13)))/('No EGR'!$B$1*6))*'Reference tables'!$B$51 -> 5.4279299e-07 | S13: =((((B35^(1.59-1))/(B34^(1.59-1)))*S12^(1.59)))^(1/1.59) -> 3201.9339 | T13: =((4170000000000*((('Reference tables'!$X$48)*('Reference tables'!$Y$48))^0.5)*EXP((-67837/'No EGR'!S13)))/('No EGR'!$B$1*6))*'Reference tables'!$B$51 -> 5.7963342e-07 | U13: =((((B35^(1.59-1))/(B34^(1.59-1)))*U12^(1.59)))^(1/1.59) -> 3235.402 | V13: =((4170000000000*((('Reference tables'!$X$49)*('Reference tables'!$Y$49))^0.5)*EXP((-67837/'No EGR'!U13)))/('No EGR'!$B$1*6))*'Reference tables'!$B$51 -> 6.2487226e-07 | W13: =((((B35^(1.59-1))/(B34^(1.59-1)))*W12^(1.59)))^(1/1.59) -> 3255.0373 | X13: =((4170000000000*((('Reference tables'!$X$50)*('Reference tables'!$Y$50))^0.5)*EXP((-67837/'No EGR'!W13)))/('No EGR'!$B$1*6))*'Reference tables'!$B$51 -> 5.788993e-07 | Y13: =((((B35^(1.59-1))/(B34^(1.59-1)))*Y12^(1.59)))^(1/1.59) -> 3280.796 | Z13: =((4170000000000*((('Reference tables'!$X$51)*('Reference tables'!$Y$51))^0.5)*EXP((-67837/'No EGR'!Y13)))/('No EGR'!$B$1*6))*'Reference tables'!$B$51 -> 4.8203513e-07 | AA13: =((((B35^(1.86-1))/(B34^(1.86-1)))*AA12^(1.86)))^(1/1.86) -> 3528.7054 | AB13: =((4170000000000*((('Reference tables'!$X$52)*('Reference tables'!$Y$52))^0.5)*EXP((-67837/'No EGR'!AA13)))/('No EGR'!$B$1*6))*'Reference tables'!$B$51 -> 0
A14: =A13+1 -> 8 | B14: =B13+2 -> 26 | C14: =((((B36^(1.59-1))/(B35^(1.59-1)))*C13^(1.59)))^(1/1.59) -> 2290.4042 | D14: =((4170000000000*((('Reference tables'!$X$40)*('Reference tables'!$Y$40))^0.5)*EXP((-67837/'No EGR'!C14)))/('No EGR'!$B$1*6))*'Reference tables'!$B$51 -> 4.0171993e-10 | E14: =((((B36^(1.59-1))/(B35^(1.59-1)))*E13^(1.59)))^(1/1.59) -> 2433.4386 | F14: =((4170000000000*((('Reference tables'!$X$41)*('Reference tables'!$Y$41))^0.5)*EXP((-67837/'No EGR'!E14)))/('No EGR'!$B$1*6))*'Reference tables'!$B$51 -> 2.1410717e-09 | G14: =((((B36^(1.59-1))/(B35^(1.59-1)))*G13^(1.59)))^(1/1.59) -> 2575.1672 | H14: =((4170000000000*((('Reference tables'!$X$42)*('Reference tables'!$Y$42))^0.5)*EXP((-67837/'No EGR'!G14)))/('No EGR'!$B$1*6))*'Reference tables'!$B$51 -> 9.1857975e-09 | I14: =((((B36^(1.59-1))/(B35^(1.59-1)))*I13^(1.59)))^(1/1.59) -> 2715.9906 | J14: =((4170000000000*((('Reference tables'!$X$43)*('Reference tables'!$Y$43))^0.5)*EXP((-67837/'No EGR'!I14)))/('No EGR'!$B$1*6))*'Reference tables'!$B$51 -> 3.2836241e-08 | K14: =((((B36^(1.59-1))/(B35^(1.59-1)))*K13^(1.59)))^(1/1.59) -> 2855.8789 | L14: =((4170000000000*((('Reference tables'!$X$44)*('Reference tables'!$Y$44))^0.5)*EXP((-67837/'No EGR'!K14)))/('No EGR'!$B$1*6))*'Reference tables'!$B$51 -> 9.9739688e-08 | M14: =((((B36^(1.59-1))/(B35^(1.59-1)))*M13^(1.59)))^(1/1.59) -> 2995.1285 | N14: =((4170000000000*((('Reference tables'!$X$45)*('Reference tables'!$Y$45))^0.5)*EXP((-67837/'No EGR'!M14)))/('No EGR'!$B$1*6))*'Reference tables'!$B$51 -> 2.6040563e-07 | O14: =((((B36^(1.59-1))/(B35^(1.59-1)))*O13^(1.59)))^(1/1.59) -> 3133.2447 | P14: =((4170000000000*((('Reference tables'!$X$46)*('Reference tables'!$Y$46))^0.5)*EXP((-67837/'No EGR'!O14)))/('No EGR'!$B$1*6))*'Reference tables'!$B$51 -> 5.7655663e-07 | Q14: =((((B36^(1.59-1))/(B35^(1.59-1)))*Q13^(1.59)))^(1/1.59) -> 3271.0716 | R14: =((4170000000000*((('Reference tables'!$X$47)*('Reference tables'!$Y$47))^0.5)*EXP((-67837/'No EGR'!Q14)))/('No EGR'!$B$1*6))*'Reference tables'!$B$51 -> 1.0142734e-06 | S14: =((((B36^(1.59-1))/(B35^(1.59-1)))*S13^(1.59)))^(1/1.59) -> 3298.4622 | T14: =((4170000000000*((('Reference tables'!$X$48)*('Reference tables'!$Y$48))^0.5)*EXP((-67837/'No EGR'!S14)))/('No EGR'!$B$1*6))*'Reference tables'!$B$51 -> 1.0775055e-06 | U14: =((((B36^(1.59-1))/(B35^(1.59-1)))*U13^(1.59)))^(1/1.59) -> 3332.9393 | V14: =((4170000000000*((('Reference tables'!$X$49)*('Reference tables'!$Y$49))^0.5)*EXP((-67837/'No EGR'!U14)))/('No EGR'!$B$1*6))*'Reference tables'!$B$51 -> 1.1541757e-06 | W14: =((((B36^(1.59-1))/(B35^(1.59-1)))*W13^(1.59)))^(1/1.59) -> 3353.1665 | X14: =((4170000000000*((('Reference tables'!$X$50)*('Reference tables'!$Y$50))^0.5)*EXP((-67837/'No EGR'!W14)))/('No EGR'!$B$1*6))*'Reference tables'!$B$51 -> 1.0653105e-06 | Y14: =((((B36^(1.59-1))/(B35^(1.59-1)))*Y13^(1.59)))^(1/1.59) -> 3379.7017 | Z14: =((4170000000000*((('Reference tables'!$X$51)*('Reference tables'!$Y$51))^0.5)*EXP((-67837/'No EGR'!Y14)))/('No EGR'!$B$1*6))*'Reference tables'!$B$51 -> 8.8282024e-07 | AA14: =((((B36^(1.86-1))/(B35^(1.86-1)))*AA13^(1.86)))^(1/1.86) -> 3661.7459 | AB14: =((4170000000000*((('Reference tables'!$X$52)*('Reference tables'!$Y$52))^0.5)*EXP((-67837/'No EGR'!AA14)))/('No EGR'!$B$1*6))*'Reference tables'!$B$51 -> 0
A15: =A14+1 -> 9 | B15: =B14+2 -> 28 | C15: =((((B37^(1.59-1))/(B36^(1.59-1)))*C14^(1.59)))^(1/1.59) -> 2354.2624 | D15: =((4170000000000*((('Reference tables'!$X$40)*('Reference tables'!$Y$40))^0.5)*EXP((-67837/'No EGR'!C15)))/('No EGR'!$B$1*6))*'Reference tables'!$B$51 -> 8.9706387e-10 | E15: =((((B37^(1.59-1))/(B36^(1.59-1)))*E14^(1.59)))^(1/1.59) -> 2501.2848 | F15: =((4170000000000*((('Reference tables'!$X$41)*('Reference tables'!$Y$41))^0.5)*EXP((-67837/'No EGR'!E15)))/('No EGR'!$B$1*6))*'Reference tables'!$B$51 -> 4.5606138e-09 | G15: =((((B37^(1.59-1))/(B36^(1.59-1)))*G14^(1.59)))^(1/1.59) -> 2646.9649 | H15: =((4170000000000*((('Reference tables'!$X$42)*('Reference tables'!$Y$42))^0.5)*EXP((-67837/'No EGR'!G15)))/('No EGR'!$B$1*6))*'Reference tables'!$B$51 -> 1.876875e-08 | I15: =((((B37^(1.59-1))/(B36^(1.59-1)))*I14^(1.59)))^(1/1.59) -> 2791.7146 | J15: =((4170000000000*((('Reference tables'!$X$43)*('Reference tables'!$Y$43))^0.5)*EXP((-67837/'No EGR'!I15)))/('No EGR'!$B$1*6))*'Reference tables'!$B$51 -> 6.4652002e-08 | K15: =((((B37^(1.59-1))/(B36^(1.59-1)))*K14^(1.59)))^(1/1.59) -> 2935.503 | L15: =((4170000000000*((('Reference tables'!$X$44)*('Reference tables'!$Y$44))^0.5)*EXP((-67837/'No EGR'!K15)))/('No EGR'!$B$1*6))*'Reference tables'!$B$51 -> 1.8996976e-07 | M15: =((((B37^(1.59-1))/(B36^(1.59-1)))*M14^(1.59)))^(1/1.59) -> 3078.635 | N15: =((4170000000000*((('Reference tables'!$X$45)*('Reference tables'!$Y$45))^0.5)*EXP((-67837/'No EGR'!M15)))/('No EGR'!$B$1*6))*'Reference tables'!$B$51 -> 4.8134627e-07 | O15: =((((B37^(1.59-1))/(B36^(1.59-1)))*O14^(1.59)))^(1/1.59) -> 3220.602 | P15: =((4170000000000*((('Reference tables'!$X$46)*('Reference tables'!$Y$46))^0.5)*EXP((-67837/'No EGR'!O15)))/('No EGR'!$B$1*6))*'Reference tables'!$B$51 -> 1.0372611e-06 | Q15: =((((B37^(1.59-1))/(B36^(1.59-1)))*Q14^(1.59)))^(1/1.59) -> 3362.2716 | R15: =((4170000000000*((('Reference tables'!$X$47)*('Reference tables'!$Y$47))^0.5)*EXP((-67837/'No EGR'!Q15)))/('No EGR'!$B$1*6))*'Reference tables'!$B$51 -> 1.7801425e-06 | S15: =((((B37^(1.59-1))/(B36^(1.59-1)))*S14^(1.59)))^(1/1.59) -> 3390.4259 | T15: =((4170000000000*((('Reference tables'!$X$48)*('Reference tables'!$Y$48))^0.5)*EXP((-67837/'No EGR'!S15)))/('No EGR'!$B$1*6))*'Reference tables'!$B$51 -> 1.8823074e-06 | U15: =((((B37^(1.59-1))/(B36^(1.59-1)))*U14^(1.59)))^(1/1.59) -> 3425.8642 | V15: =((4170000000000*((('Reference tables'!$X$49)*('Reference tables'!$Y$49))^0.5)*EXP((-67837/'No EGR'!U15)))/('No EGR'!$B$1*6))*'Reference tables'!$B$51 -> 2.0046422e-06 | W15: =((((B37^(1.59-1))/(B36^(1.59-1)))*W14^(1.59)))^(1/1.59) -> 3446.6553 | X15: =((4170000000000*((('Reference tables'!$X$50)*('Reference tables'!$Y$50))^0.5)*EXP((-67837/'No EGR'!W15)))/('No EGR'!$B$1*6))*'Reference tables'!$B$51 -> 1.844144e-06 | Y15: =((((B37^(1.59-1))/(B36^(1.59-1)))*Y14^(1.59)))^(1/1.59) -> 3473.9304 | Z15: =((4170000000000*((('Reference tables'!$X$51)*('Reference tables'!$Y$51))^0.5)*EXP((-67837/'No EGR'!Y15)))/('No EGR'!$B$1*6))*'Reference tables'!$B$51 -> 1.5216675e-06 | AA15: =((((B37^(1.86-1))/(B36^(1.86-1)))*AA14^(1.86)))^(1/1.86) -> 3789.3899 | AB15: =((4170000000000*((('Reference tables'!$X$52)*('Reference tables'!$Y$52))^0.5)*EXP((-67837/'No EGR'!AA15)))/('No EGR'!$B$1*6))*'Reference tables'!$B$51 -> 0
A16: =A15+1 -> 10 | B16: =B15+2 -> 30 | C16: =((((B38^(1.59-1))/(B37^(1.59-1)))*C15^(1.59)))^(1/1.59) -> 2415.3123 | D16: =((4170000000000*((('Reference tables'!$X$40)*('Reference tables'!$Y$40))^0.5)*EXP((-67837/'No EGR'!C16)))/('No EGR'!$B$1*6))*'Reference tables'!$B$51 -> 1.8583592e-09 | E16: =((((B38^(1.59-1))/(B37^(1.59-1)))*E15^(1.59)))^(1/1.59) -> 2566.1472 | F16: =((4170000000000*((('Reference tables'!$X$41)*('Reference tables'!$Y$41))^0.5)*EXP((-67837/'No EGR'!E16)))/('No EGR'!$B$1*6))*'Reference tables'!$B$51 -> 9.0518532e-09 | G16: =((((B38^(1.59-1))/(B37^(1.59-1)))*G15^(1.59)))^(1/1.59) -> 2715.6051 | H16: =((4170000000000*((('Reference tables'!$X$42)*('Reference tables'!$Y$42))^0.5)*EXP((-67837/'No EGR'!G16)))/('No EGR'!$B$1*6))*'Reference tables'!$B$51 -> 3.5872724e-08 | I16: =((((B38^(1.59-1))/(B37^(1.59-1)))*I15^(1.59)))^(1/1.59) -> 2864.1083 | J16: =((4170000000000*((('Reference tables'!$X$43)*('Reference tables'!$Y$43))^0.5)*EXP((-67837/'No EGR'!I16)))/('No EGR'!$B$1*6))*'Reference tables'!$B$51 -> 1.1948796e-07 | K16: =((((B38^(1.59-1))/(B37^(1.59-1)))*K15^(1.59)))^(1/1.59) -> 3011.6254 | L16: =((4170000000000*((('Reference tables'!$X$44)*('Reference tables'!$Y$44))^0.5)*EXP((-67837/'No EGR'!K16)))/('No EGR'!$B$1*6))*'Reference tables'!$B$51 -> 3.4069122e-07 | M16: =((((B38^(1.59-1))/(B37^(1.59-1)))*M15^(1.59)))^(1/1.59) -> 3158.4691 | N16: =((4170000000000*((('Reference tables'!$X$45)*('Reference tables'!$Y$45))^0.5)*EXP((-67837/'No EGR'!M16)))/('No EGR'!$B$1*6))*'Reference tables'!$B$51 -> 8.401177e-07 | O16: =((((B38^(1.59-1))/(B37^(1.59-1)))*O15^(1.59)))^(1/1.59) -> 3304.1176 | P16: =((4170000000000*((('Reference tables'!$X$46)*('Reference tables'!$Y$46))^0.5)*EXP((-67837/'No EGR'!O16)))/('No EGR'!$B$1*6))*'Reference tables'!$B$51 -> 1.766478e-06 | Q16: =((((B38^(1.59-1))/(B37^(1.59-1)))*Q15^(1.59)))^(1/1.59) -> 3449.4609 | R16: =((4170000000000*((('Reference tables'!$X$47)*('Reference tables'!$Y$47))^0.5)*EXP((-67837/'No EGR'!Q16)))/('No EGR'!$B$1*6))*'Reference tables'!$B$51 -> 2.96437e-06 | S16: =((((B38^(1.59-1))/(B37^(1.59-1)))*S15^(1.59)))^(1/1.59) -> 3478.3453 | T16: =((4170000000000*((('Reference tables'!$X$48)*('Reference tables'!$Y$48))^0.5)*EXP((-67837/'No EGR'!S16)))/('No EGR'!$B$1*6))*'Reference tables'!$B$51 -> 3.1212535e-06 | U16: =((((B38^(1.59-1))/(B37^(1.59-1)))*U15^(1.59)))^(1/1.59) -> 3514.7025 | V16: =((4170000000000*((('Reference tables'!$X$49)*('Reference tables'!$Y$49))^0.5)*EXP((-67837/'No EGR'!U16)))/('No EGR'!$B$1*6))*'Reference tables'!$B$51 -> 3.3067651e-06 | W16: =((((B38^(1.59-1))/(B37^(1.59-1)))*W15^(1.59)))^(1/1.59) -> 3536.0328 | X16: =((4170000000000*((('Reference tables'!$X$50)*('Reference tables'!$Y$50))^0.5)*EXP((-67837/'No EGR'!W16)))/('No EGR'!$B$1*6))*'Reference tables'!$B$51 -> 3.0328442e-06 | Y16: =((((B38^(1.59-1))/(B37^(1.59-1)))*Y15^(1.59)))^(1/1.59) -> 3564.0152 | Z16: =((4170000000000*((('Reference tables'!$X$51)*('Reference tables'!$Y$51))^0.5)*EXP((-67837/'No EGR'!Y16)))/('No EGR'!$B$1*6))*'Reference tables'!$B$51 -> 2.4927499e-06 | AA16: =((((B38^(1.86-1))/(B37^(1.86-1)))*AA15^(1.86)))^(1/1.86) -> 3912.2199 | AB16: =((4170000000000*((('Reference tables'!$X$52)*('Reference tables'!$Y$52))^0.5)*EXP((-67837/'No EGR'!AA16)))/('No EGR'!$B$1*6))*'Reference tables'!$B$51 -> 0
A17: =A16+1 -> 11 | B17: =B16+2 -> 32 | C17: =((((B39^(1.59-1))/(B38^(1.59-1)))*C16^(1.59)))^(1/1.59) -> 2473.853 | D17: =((4170000000000*((('Reference tables'!$X$40)*('Reference tables'!$Y$40))^0.5)*EXP((-67837/'No EGR'!C17)))/('No EGR'!$B$1*6))*'Reference tables'!$B$51 -> 3.6122105e-09 | E17: =((((B39^(1.59-1))/(B38^(1.59-1)))*E16^(1.59)))^(1/1.59) -> 2628.3437 | F17: =((4170000000000*((('Reference tables'!$X$41)*('Reference tables'!$Y$41))^0.5)*EXP((-67837/'No EGR'!E17)))/('No EGR'!$B$1*6))*'Reference tables'!$B$51 -> 1.6920563e-08 | G17: =((((B39^(1.59-1))/(B38^(1.59-1)))*G16^(1.59)))^(1/1.59) -> 2781.4241 | H17: =((4170000000000*((('Reference tables'!$X$42)*('Reference tables'!$Y$42))^0.5)*EXP((-67837/'No EGR'!G17)))/('No EGR'!$B$1*6))*'Reference tables'!$B$51 -> 6.4787234e-08 | I17: =((((B39^(1.59-1))/(B38^(1.59-1)))*I16^(1.59)))^(1/1.59) -> 2933.5266 | J17: =((4170000000000*((('Reference tables'!$X$43)*('Reference tables'!$Y$43))^0.5)*EXP((-67837/'No EGR'!I17)))/('No EGR'!$B$1*6))*'Reference tables'!$B$51 -> 2.09285e-07 | K17: =((((B39^(1.59-1))/(B38^(1.59-1)))*K16^(1.59)))^(1/1.59) -> 3084.6192 | L17: =((4170000000000*((('Reference tables'!$X$44)*('Reference tables'!$Y$44))^0.5)*EXP((-67837/'No EGR'!K17)))/('No EGR'!$B$1*6))*'Reference tables'!$B$51 -> 5.8056636e-07 | M17: =((((B39^(1.59-1))/(B38^(1.59-1)))*M16^(1.59)))^(1/1.59) -> 3235.0219 | N17: =((4170000000000*((('Reference tables'!$X$45)*('Reference tables'!$Y$45))^0.5)*EXP((-67837/'No EGR'!M17)))/('No EGR'!$B$1*6))*'Reference tables'!$B$51 -> 1.3965889e-06 | O17: =((((B39^(1.59-1))/(B38^(1.59-1)))*O16^(1.59)))^(1/1.59) -> 3384.2005 | P17: =((4170000000000*((('Reference tables'!$X$46)*('Reference tables'!$Y$46))^0.5)*EXP((-67837/'No EGR'!O17)))/('No EGR'!$B$1*6))*'Reference tables'!$B$51 -> 2.8714864e-06 | Q17: =((((B39^(1.59-1))/(B38^(1.59-1)))*Q16^(1.59)))^(1/1.59) -> 3533.0666 | R17: =((4170000000000*((('Reference tables'!$X$47)*('Reference tables'!$Y$47))^0.5)*EXP((-67837/'No EGR'!Q17)))/('No EGR'!$B$1*6))*'Reference tables'!$B$51 -> 4.7210707e-06 | S17: =((((B39^(1.59-1))/(B38^(1.59-1)))*S16^(1.59)))^(1/1.59) -> 3562.651 | T17: =((4170000000000*((('Reference tables'!$X$48)*('Reference tables'!$Y$48))^0.5)*EXP((-67837/'No EGR'!S17)))/('No EGR'!$B$1*6))*'Reference tables'!$B$51 -> 4.9517512e-06 | U17: =((((B39^(1.59-1))/(B38^(1.59-1)))*U16^(1.59)))^(1/1.59) -> 3599.8895 | V17: =((4170000000000*((('Reference tables'!$X$49)*('Reference tables'!$Y$49))^0.5)*EXP((-67837/'No EGR'!U17)))/('No EGR'!$B$1*6))*'Reference tables'!$B$51 -> 5.2210735e-06 | W17: =((((B39^(1.59-1))/(B38^(1.59-1)))*W16^(1.59)))^(1/1.59) -> 3621.7368 | X17: =((4170000000000*((('Reference tables'!$X$50)*('Reference tables'!$Y$50))^0.5)*EXP((-67837/'No EGR'!W17)))/('No EGR'!$B$1*6))*'Reference tables'!$B$51 -> 4.7754029e-06 | Y17: =((((B39^(1.59-1))/(B38^(1.59-1)))*Y16^(1.59)))^(1/1.59) -> 3650.3974 | Z17: =((4170000000000*((('Reference tables'!$X$51)*('Reference tables'!$Y$51))^0.5)*EXP((-67837/'No EGR'!Y17)))/('No EGR'!$B$1*6))*'Reference tables'!$B$51 -> 3.9110255e-06 | AA17: =((((B39^(1.86-1))/(B38^(1.86-1)))*AA16^(1.86)))^(1/1.86) -> 4030.7213 | AB17: =((4170000000000*((('Reference tables'!$X$52)*('Reference tables'!$Y$52))^0.5)*EXP((-67837/'No EGR'!AA17)))/('No EGR'!$B$1*6))*'Reference tables'!$B$51 -> 0
A18: =A17+1 -> 12 | B18: =B17+2 -> 34 | C18: =((((B40^(1.59-1))/(B39^(1.59-1)))*C17^(1.59)))^(1/1.59) -> 2530.1353 | D18: =((4170000000000*((('Reference tables'!$X$40)*('Reference tables'!$Y$40))^0.5)*EXP((-67837/'No EGR'!C18)))/('No EGR'!$B$1*6))*'Reference tables'!$B$51 -> 6.6479421e-09 | E18: =((((B40^(1.59-1))/(B39^(1.59-1)))*E17^(1.59)))^(1/1.59) -> 2688.1409 | F18: =((4170000000000*((('Reference tables'!$X$41)*('Reference tables'!$Y$41))^0.5)*EXP((-67837/'No EGR'!E18)))/('No EGR'!$B$1*6))*'Reference tables'!$B$51 -> 3.0043994e-08 | G18: =((((B40^(1.59-1))/(B39^(1.59-1)))*G17^(1.59)))^(1/1.59) -> 2844.7039 | H18: =((4170000000000*((('Reference tables'!$X$42)*('Reference tables'!$Y$42))^0.5)*EXP((-67837/'No EGR'!G18)))/('No EGR'!$B$1*6))*'Reference tables'!$B$51 -> 1.114575e-07 | I18: =((((B40^(1.59-1))/(B39^(1.59-1)))*I17^(1.59)))^(1/1.59) -> 3000.2669 | J18: =((4170000000000*((('Reference tables'!$X$43)*('Reference tables'!$Y$43))^0.5)*EXP((-67837/'No EGR'!I18)))/('No EGR'!$B$1*6))*'Reference tables'!$B$51 -> 3.5005891e-07 | K18: =((((B40^(1.59-1))/(B39^(1.59-1)))*K17^(1.59)))^(1/1.59) -> 3154.7969 | L18: =((4170000000000*((('Reference tables'!$X$44)*('Reference tables'!$Y$44))^0.5)*EXP((-67837/'No EGR'!K18)))/('No EGR'!$B$1*6))*'Reference tables'!$B$51 -> 9.469173e-07 | M18: =((((B40^(1.59-1))/(B39^(1.59-1)))*M17^(1.59)))^(1/1.59) -> 3308.6214 | N18: =((4170000000000*((('Reference tables'!$X$45)*('Reference tables'!$Y$45))^0.5)*EXP((-67837/'No EGR'!M18)))/('No EGR'!$B$1*6))*'Reference tables'!$B$51 -> 2.2266454e-06 | O18: =((((B40^(1.59-1))/(B39^(1.59-1)))*O17^(1.59)))^(1/1.59) -> 3461.194 | P18: =((4170000000000*((('Reference tables'!$X$46)*('Reference tables'!$Y$46))^0.5)*EXP((-67837/'No EGR'!O18)))/('No EGR'!$B$1*6))*'Reference tables'!$B$51 -> 4.4849667e-06 | Q18: =((((B40^(1.59-1))/(B39^(1.59-1)))*Q17^(1.59)))^(1/1.59) -> 3613.4469 | R18: =((4170000000000*((('Reference tables'!$X$47)*('Reference tables'!$Y$47))^0.5)*EXP((-67837/'No EGR'!Q18)))/('No EGR'!$B$1*6))*'Reference tables'!$B$51 -> 7.2365805e-06 | S18: =((((B40^(1.59-1))/(B39^(1.59-1)))*S17^(1.59)))^(1/1.59) -> 3643.7044 | T18: =((4170000000000*((('Reference tables'!$X$48)*('Reference tables'!$Y$48))^0.5)*EXP((-67837/'No EGR'!S18)))/('No EGR'!$B$1*6))*'Reference tables'!$B$51 -> 7.5633007e-06 | U18: =((((B40^(1.59-1))/(B39^(1.59-1)))*U17^(1.59)))^(1/1.59) -> 3681.7901 | V18: =((4170000000000*((('Reference tables'!$X$49)*('Reference tables'!$Y$49))^0.5)*EXP((-67837/'No EGR'!U18)))/('No EGR'!$B$1*6))*'Reference tables'!$B$51 -> 7.9397987e-06 | W18: =((((B40^(1.59-1))/(B39^(1.59-1)))*W17^(1.59)))^(1/1.59) -> 3704.1344 | X18: =((4170000000000*((('Reference tables'!$X$50)*('Reference tables'!$Y$50))^0.5)*EXP((-67837/'No EGR'!W18)))/('No EGR'!$B$1*6))*'Reference tables'!$B$51 -> 7.243718e-06 | Y18: =((((B40^(1.59-1))/(B39^(1.59-1)))*Y17^(1.59)))^(1/1.59) -> 3733.4471 | Z18: =((4170000000000*((('Reference tables'!$X$51)*('Reference tables'!$Y$51))^0.5)*EXP((-67837/'No EGR'!Y18)))/('No EGR'!$B$1*6))*'Reference tables'!$B$51 -> 5.9131847e-06 | AA18: =((((B40^(1.86-1))/(B39^(1.86-1)))*AA17^(1.86)))^(1/1.86) -> 4145.3038 | AB18: =((4170000000000*((('Reference tables'!$X$52)*('Reference tables'!$Y$52))^0.5)*EXP((-67837/'No EGR'!AA18)))/('No EGR'!$B$1*6))*'Reference tables'!$B$51 -> 0
A19: =A18+1 -> 13 | B19: =B18+2 -> 36 | C19: =((((B41^(1.59-1))/(B40^(1.59-1)))*C18^(1.59)))^(1/1.59) -> 2584.372 | D19: =((4170000000000*((('Reference tables'!$X$40)*('Reference tables'!$Y$40))^0.5)*EXP((-67837/'No EGR'!C19)))/('No EGR'!$B$1*6))*'Reference tables'!$B$51 -> 1.1669586e-08 | E19: =((((B41^(1.59-1))/(B40^(1.59-1)))*E18^(1.59)))^(1/1.59) -> 2745.7645 | F19: =((4170000000000*((('Reference tables'!$X$41)*('Reference tables'!$Y$41))^0.5)*EXP((-67837/'No EGR'!E19)))/('No EGR'!$B$1*6))*'Reference tables'!$B$51 -> 5.102256e-08 | G19: =((((B41^(1.59-1))/(B40^(1.59-1)))*G18^(1.59)))^(1/1.59) -> 2905.6837 | H19: =((4170000000000*((('Reference tables'!$X$42)*('Reference tables'!$Y$42))^0.5)*EXP((-67837/'No EGR'!G19)))/('No EGR'!$B$1*6))*'Reference tables'!$B$51 -> 1.8384643e-07 | I19: =((((B41^(1.59-1))/(B40^(1.59-1)))*I18^(1.59)))^(1/1.59) -> 3064.5814 | J19: =((4170000000000*((('Reference tables'!$X$43)*('Reference tables'!$Y$43))^0.5)*EXP((-67837/'No EGR'!I19)))/('No EGR'!$B$1*6))*'Reference tables'!$B$51 -> 5.6262329e-07 | K19: =((((B41^(1.59-1))/(B40^(1.59-1)))*K18^(1.59)))^(1/1.59) -> 3222.424 | L19: =((4170000000000*((('Reference tables'!$X$44)*('Reference tables'!$Y$44))^0.5)*EXP((-67837/'No EGR'!K19)))/('No EGR'!$B$1*6))*'Reference tables'!$B$51 -> 1.4869435e-06 | M19: =((((B41^(1.59-1))/(B40^(1.59-1)))*M18^(1.59)))^(1/1.59) -> 3379.5459 | N19: =((4170000000000*((('Reference tables'!$X$45)*('Reference tables'!$Y$45))^0.5)*EXP((-67837/'No EGR'!M19)))/('No EGR'!$B$1*6))*'Reference tables'!$B$51 -> 3.4239061e-06 | O19: =((((B41^(1.59-1))/(B40^(1.59-1)))*O18^(1.59)))^(1/1.59) -> 3535.389 | P19: =((4170000000000*((('Reference tables'!$X$46)*('Reference tables'!$Y$46))^0.5)*EXP((-67837/'No EGR'!O19)))/('No EGR'!$B$1*6))*'Reference tables'!$B$51 -> 6.766944e-06 | Q19: =((((B41^(1.59-1))/(B40^(1.59-1)))*Q18^(1.59)))^(1/1.59) -> 3690.9057 | R19: =((4170000000000*((('Reference tables'!$X$47)*('Reference tables'!$Y$47))^0.5)*EXP((-67837/'No EGR'!Q19)))/('No EGR'!$B$1*6))*'Reference tables'!$B$51 -> 1.0730996e-05 | S19: =((((B41^(1.59-1))/(B40^(1.59-1)))*S18^(1.59)))^(1/1.59) -> 3721.8118 | T19: =((4170000000000*((('Reference tables'!$X$48)*('Reference tables'!$Y$48))^0.5)*EXP((-67837/'No EGR'!S19)))/('No EGR'!$B$1*6))*'Reference tables'!$B$51 -> 1.117885e-05 | U19: =((((B41^(1.59-1))/(B40^(1.59-1)))*U18^(1.59)))^(1/1.59) -> 3760.7139 | V19: =((4170000000000*((('Reference tables'!$X$49)*('Reference tables'!$Y$49))^0.5)*EXP((-67837/'No EGR'!U19)))/('No EGR'!$B$1*6))*'Reference tables'!$B$51 -> 1.1687993e-05 | W19: =((((B41^(1.59-1))/(B40^(1.59-1)))*W18^(1.59)))^(1/1.59) -> 3783.5372 | X19: =((4170000000000*((('Reference tables'!$X$50)*('Reference tables'!$Y$50))^0.5)*EXP((-67837/'No EGR'!W19)))/('No EGR'!$B$1*6))*'Reference tables'!$B$51 -> 1.0638466e-05 | Y19: =((((B41^(1.59-1))/(B40^(1.59-1)))*Y18^(1.59)))^(1/1.59) -> 3813.4782 | Z19: =((4170000000000*((('Reference tables'!$X$51)*('Reference tables'!$Y$51))^0.5)*EXP((-67837/'No EGR'!Y19)))/('No EGR'!$B$1*6))*'Reference tables'!$B$51 -> 8.6582152e-06 | AA19: =((((B41^(1.86-1))/(B40^(1.86-1)))*AA18^(1.86)))^(1/1.86) -> 4256.3167 | AB19: =((4170000000000*((('Reference tables'!$X$52)*('Reference tables'!$Y$52))^0.5)*EXP((-67837/'No EGR'!AA19)))/('No EGR'!$B$1*6))*'Reference tables'!$B$51 -> 0
... A21: =A20+1 -> 15 | B21: =B20+2 -> 40 | C21: =((((B43^(1.59-1))/(B42^(1.59-1)))*C20^(1.59)))^(1/1.59) -> 2687.4118 | D21: =((4170000000000*((('Reference tables'!$X$40)*('Reference tables'!$Y$40))^0.5)*EXP((-67837/'No EGR'!C21)))/('No EGR'!$B$1*6))*'Reference tables'!$B$51 -> 3.1925766e-08 | E21: =((((B43^(1.59-1))/(B42^(1.59-1)))*E20^(1.59)))^(1/1.59) -> 2855.2391 | F21: =((4170000000000*((('Reference tables'!$X$41)*('Reference tables'!$Y$41))^0.5)*EXP((-67837/'No EGR'!E21)))/('No EGR'!$B$1*6))*'Reference tables'!$B$51 -> 1.3156996e-07 | G21: =((((B43^(1.59-1))/(B42^(1.59-1)))*G20^(1.59)))^(1/1.59) -> 3021.5343 | H21: =((4170000000000*((('Reference tables'!$X$42)*('Reference tables'!$Y$42))^0.5)*EXP((-67837/'No EGR'!G21)))/('No EGR'!$B$1*6))*'Reference tables'!$B$51 -> 4.4999524e-07 | I21: =((((B43^(1.59-1))/(B42^(1.59-1)))*I20^(1.59)))^(1/1.59) -> 3186.7673 | J21: =((4170000000000*((('Reference tables'!$X$43)*('Reference tables'!$Y$43))^0.5)*EXP((-67837/'No EGR'!I21)))/('No EGR'!$B$1*6))*'Reference tables'!$B$51 -> 1.3146608e-06 | K21: =((((B43^(1.59-1))/(B42^(1.59-1)))*K20^(1.59)))^(1/1.59) -> 3350.9031 | L21: =((4170000000000*((('Reference tables'!$X$44)*('Reference tables'!$Y$44))^0.5)*EXP((-67837/'No EGR'!K21)))/('No EGR'!$B$1*6))*'Reference tables'!$B$51 -> 3.3330029e-06 | M21: =((((B43^(1.59-1))/(B42^(1.59-1)))*M20^(1.59)))^(1/1.59) -> 3514.2896 | N21: =((4170000000000*((('Reference tables'!$X$45)*('Reference tables'!$Y$45))^0.5)*EXP((-67837/'No EGR'!M21)))/('No EGR'!$B$1*6))*'Reference tables'!$B$51 -> 7.3920638e-06 | O21: =((((B43^(1.59-1))/(B42^(1.59-1)))*O20^(1.59)))^(1/1.59) -> 3676.3462 | P21: =((4170000000000*((('Reference tables'!$X$46)*('Reference tables'!$Y$46))^0.5)*EXP((-67837/'No EGR'!O21)))/('No EGR'!$B$1*6))*'Reference tables'!$B$51 -> 1.412221e-05 | Q21: =((((B43^(1.59-1))/(B42^(1.59-1)))*Q20^(1.59)))^(1/1.59) -> 3838.0634 | R21: =((4170000000000*((('Reference tables'!$X$47)*('Reference tables'!$Y$47))^0.5)*EXP((-67837/'No EGR'!Q21)))/('No EGR'!$B$1*6))*'Reference tables'!$B$51 -> 2.1711385e-05 | S21: =((((B43^(1.59-1))/(B42^(1.59-1)))*S20^(1.59)))^(1/1.59) -> 3870.2017 | T21: =((4170000000000*((('Reference tables'!$X$48)*('Reference tables'!$Y$48))^0.5)*EXP((-67837/'No EGR'!S21)))/('No EGR'!$B$1*6))*'Reference tables'!$B$51 -> 2.2485533e-05 | U21: =((((B43^(1.59-1))/(B42^(1.59-1)))*U20^(1.59)))^(1/1.59) -> 3910.6548 | V21: =((4170000000000*((('Reference tables'!$X$49)*('Reference tables'!$Y$49))^0.5)*EXP((-67837/'No EGR'!U21)))/('No EGR'!$B$1*6))*'Reference tables'!$B$51 -> 2.3340301e-05 | W21: =((((B43^(1.59-1))/(B42^(1.59-1)))*W20^(1.59)))^(1/1.59) -> 3934.3881 | X21: =((4170000000000*((('Reference tables'!$X$50)*('Reference tables'!$Y$50))^0.5)*EXP((-67837/'No EGR'!W21)))/('No EGR'!$B$1*6))*'Reference tables'!$B$51 -> 2.1156002e-05 | Y21: =((((B43^(1.59-1))/(B42^(1.59-1)))*Y20^(1.59)))^(1/1.59) -> 3965.5229 | Z21: =((4170000000000*((('Reference tables'!$X$51)*('Reference tables'!$Y$51))^0.5)*EXP((-67837/'No EGR'!Y21)))/('No EGR'!$B$1*6))*'Reference tables'!$B$51 -> 1.7125329e-05 | AA21: =((((B43^(1.86-1))/(B42^(1.86-1)))*AA20^(1.86)))^(1/1.86) -> 4468.797 | AB21: =((4170000000000*((('Reference tables'!$X$52)*('Reference tables'!$Y$52))^0.5)*EXP((-67837/'No EGR'!AA21)))/('No EGR'!$B$1*6))*'Reference tables'!$B$51 -> 0
C22: =(D22/'Reference tables'!Q48)*1000000 -> 3270.4391 | D22: =SUM(D6:D21) -> 7.6919286e-08 | E22: =(F22/'Reference tables'!Q49)*1000000 -> 14131.388 | F22: =SUM(F6:F21) -> 3.3011115e-07 | G22: =(H22/'Reference tables'!Q50)*1000000 -> 50556.526 | H22: =SUM(H6:H21) -> 1.1729608e-06 | I22: =(J22/'Reference tables'!Q51)*1000000 -> 154184.36 | J22: =SUM(J6:J21) -> 3.5527288e-06 | K22: =(L22/'Reference tables'!Q52)*1000000 -> 407295.87 | L22: =SUM(L6:L21) -> 9.3203349e-06 | M22: =(N22/'Reference tables'!Q53)*1000000 -> 939672.29 | N22: =SUM(N6:N21) -> 2.1354129e-05 | O22: =(P22/'Reference tables'!Q54)*1000000 -> 1864442.5 | P22: =SUM(P6:P21) -> 4.2074828e-05 | Q22: =(R22/'Reference tables'!Q55)*1000000 -> 2973053.6 | R22: =SUM(R6:R21) -> 6.6623543e-05 | S22: =(T22/'Reference tables'!Q56)*1000000 -> 3101096.4 | T22: =SUM(T6:T21) -> 6.9395069e-05 | U22: =(V22/'Reference tables'!Q57)*1000000 -> 3246612.9 | V22: =SUM(V6:V21) -> 7.2549022e-05 | W22: =(X22/'Reference tables'!Q58)*1000000 -> 2959201.8 | X22: =SUM(X6:X21) -> 6.6033249e-05 | Y22: =(Z22/'Reference tables'!Q59)*1000000 -> 2411814.6 | Z22: =SUM(Z6:Z21) -> 5.3742564e-05 | AA22: =(AB22/'Reference tables'!Q60)*1000000 -> 0 | AB22: =SUM(AB6:AB21) -> 0
C23: =VALUE(C22) -> 3270.4391 | E23: =VALUE(E22) -> 14131.388 | G23: =VALUE(G22) -> 50556.526 | I23: =VALUE(I22) -> 154184.36 | K23: =VALUE(K22) -> 407295.87 | M23: =VALUE(M22) -> 939672.29 | O23: =VALUE(O22) -> 1864442.5 | Q23: =VALUE(Q22) -> 2973053.6 | S23: =VALUE(S22) -> 3101096.4 | U23: =VALUE(U22) -> 3246612.9 | W23: =VALUE(W22) -> 2959201.8 | Y23: =VALUE(Y22) -> 2411814.6 | AA23: =VALUE(AA22) -> 0
A24: Methanol
B25: Φ | C25: 0.6 | E25: =C25+0.05 -> 0.65 | G25: 0.7 | I25: 0.75 | K25: 0.8 | M25: 0.85 | O25: 0.9 | Q25: 0.95 | S25: 0.96 | U25: 0.97 | W25: 0.98 | Y25: 0.99 | AA25: 1
A26: Crank Angle | B26: Pressure | C26: Temperature | D26: NoX | E26: Temperature | F26: NoX | G26: Temperature | H26: NoX | I26: Temperature | J26: NoX | K26: Temperature | L26: NoX | M26: Temperature | N26: NoX | O26: Temperature | P26: NoX | Q26: Temperature | R26: NoX | S26: Temperature | T26: NoX | U26: Temperature | V26: NoX | W26: Temperature | X26: NoX | Y26: Temperature | Z26: NoX | AA26: Temperature | AB26: NoX
A27: Degrees | B27: Bar | C27: K | D27: Kmol/° | E27: K | F27: Kmol/° | G27: K | H27: Kmol/° | I27: K | J27: Kmol/° | K27: K | L27: Kmol/° | M27: K | N27: Kmol/° | O27: K | P27: Kmol/° | Q27: K | R27: Kmol/° | S27: K | T27: Kmol/° | U27: K | V27: Kmol/° | W27: K | X27: Kmol/° | Y27: K | Z27: Kmol/° | AA27: K | AB27: Kmol/°
A28: 0 | B28: 10 | C28: 1635.028 | D28: =((4170000000000*((('Reference tables'!$T$40)*('Reference tables'!$U$40))^0.5)*EXP((-67837/'No EGR'!C28)))/('No EGR'!$B$1*6))*'Reference tables'!$B$51 -> 8.1619847e-17 | E28: 1728.261 | F28: =((4170000000000*((('Reference tables'!$T$41)*('Reference tables'!$U$41))^0.5)*EXP((-67837/'No EGR'!E28)))/('No EGR'!$B$1*6))*'Reference tables'!$B$51 -> 7.9145415e-16 | G28: 1819.161 | H28: =((4170000000000*((('Reference tables'!$T$42)*('Reference tables'!$U$42))^0.5)*EXP((-67837/'No EGR'!G28)))/('No EGR'!$B$1*6))*'Reference tables'!$B$51 -> 5.8014178e-15 | I28: 1908.667 | J28: =((4170000000000*((('Reference tables'!$T$43)*('Reference tables'!$U$43))^0.5)*EXP((-67837/'No EGR'!I28)))/('No EGR'!$B$1*6))*'Reference tables'!$B$51 -> 3.429339e-14 | K28: 1996.122 | L28: =((4170000000000*((('Reference tables'!$T$44)*('Reference tables'!$U$44))^0.5)*EXP((-67837/'No EGR'!K28)))/('No EGR'!$B$1*6))*'Reference tables'!$B$51 -> 1.6701272e-13 | M28: 2082.057 | N28: =((4170000000000*((('Reference tables'!$T$45)*('Reference tables'!$U$45))^0.5)*EXP((-67837/'No EGR'!M28)))/('No EGR'!$B$1*6))*'Reference tables'!$B$51 -> 6.9560506e-13 | O28: 2166.064 | P28: =((4170000000000*((('Reference tables'!$T$46)*('Reference tables'!$U$46))^0.5)*EXP((-67837/'No EGR'!O28)))/('No EGR'!$B$1*6))*'Reference tables'!$B$51 -> 2.516817e-12 | Q28: 2248.642 | R28: =((4170000000000*((('Reference tables'!$T$47)*('Reference tables'!$U$47))^0.5)*EXP((-67837/'No EGR'!Q28)))/('No EGR'!$B$1*6))*'Reference tables'!$B$51 -> 8.1168431e-12 | S28: 2264.947 | T28: =((4170000000000*((('Reference tables'!$T$48)*('Reference tables'!$U$48))^0.5)*EXP((-67837/'No EGR'!S28)))/('No EGR'!$B$1*6))*'Reference tables'!$B$51 -> 1.0126104e-11 | U28: 2281.233 | V28: =((4170000000000*((('Reference tables'!$T$49)*('Reference tables'!$U$49))^0.5)*EXP((-67837/'No EGR'!U28)))/('No EGR'!$B$1*6))*'Reference tables'!$B$51 -> 1.2589803e-11 | W28: 2297.458 | X28: =((4170000000000*((('Reference tables'!$T$50)*('Reference tables'!$U$50))^0.5)*EXP((-67837/'No EGR'!W28)))/('No EGR'!$B$1*6))*'Reference tables'!$B$51 -> 1.5592512e-11 | Y28: 2313.567 | Z28: =((4170000000000*((('Reference tables'!$T$51)*('Reference tables'!$U$51))^0.5)*EXP((-67837/'No EGR'!Y28)))/('No EGR'!$B$1*6))*'Reference tables'!$B$51 -> 1.9225324e-11 | AA28: 2329.619 | AB28: =((4170000000000*((('Reference tables'!$T$51)*('Reference tables'!$U$51))^0.5)*EXP((-67837/'No EGR'!AA28)))/('No EGR'!$B$1*6))*'Reference tables'!$B$51 -> 2.3529722e-11
A29: =A28+1 -> 1 | B29: =B28+2 -> 12 | C29: =((((B29^(1.86-1))/(B28^(1.86-1)))*C28^(1.86)))^(1/1.86) -> 1778.8359 | D29: =((4170000000000*((('Reference tables'!$T$40)*('Reference tables'!$U$40))^0.5)*EXP((-67837/'No EGR'!C29)))/('No EGR'!$B$1*6))*'Reference tables'!$B$51 -> 2.3361667e-15 | E29: =((((B29^(1.86-1))/(B28^(1.86-1)))*E28^(1.86)))^(1/1.86) -> 1880.2691 | F29: =((4170000000000*((('Reference tables'!$T$41)*('Reference tables'!$U$41))^0.5)*EXP((-67837/'No EGR'!E29)))/('No EGR'!$B$1*6))*'Reference tables'!$B$51 -> 1.8903841e-14 | G29: =((((B29^(1.86-1))/(B28^(1.86-1)))*G28^(1.86)))^(1/1.86) -> 1979.1642 | H29: =((4170000000000*((('Reference tables'!$T$42)*('Reference tables'!$U$42))^0.5)*EXP((-67837/'No EGR'!G29)))/('No EGR'!$B$1*6))*'Reference tables'!$B$51 -> 1.1824865e-13 | I29: =((((B29^(1.86-1))/(B28^(1.86-1)))*I28^(1.86)))^(1/1.86) -> 2076.5426 | J29: =((4170000000000*((('Reference tables'!$T$43)*('Reference tables'!$U$43))^0.5)*EXP((-67837/'No EGR'!I29)))/('No EGR'!$B$1*6))*'Reference tables'!$B$51 -> 6.068415e-13 | K29: =((((B29^(1.86-1))/(B28^(1.86-1)))*K28^(1.86)))^(1/1.86) -> 2171.6897 | L29: =((4170000000000*((('Reference tables'!$T$44)*('Reference tables'!$U$44))^0.5)*EXP((-67837/'No EGR'!K29)))/('No EGR'!$B$1*6))*'Reference tables'!$B$51 -> 2.6058078e-12 | M29: =((((B29^(1.86-1))/(B28^(1.86-1)))*M28^(1.86)))^(1/1.86) -> 2265.183 | N29: =((4170000000000*((('Reference tables'!$T$45)*('Reference tables'!$U$45))^0.5)*EXP((-67837/'No EGR'!M29)))/('No EGR'!$B$1*6))*'Reference tables'!$B$51 -> 9.6896395e-12 | O29: =((((B29^(1.86-1))/(B28^(1.86-1)))*O28^(1.86)))^(1/1.86) -> 2356.5788 | P29: =((4170000000000*((('Reference tables'!$T$46)*('Reference tables'!$U$46))^0.5)*EXP((-67837/'No EGR'!O29)))/('No EGR'!$B$1*6))*'Reference tables'!$B$51 -> 3.1654147e-11 | Q29: =((((B29^(1.86-1))/(B28^(1.86-1)))*Q28^(1.86)))^(1/1.86) -> 2446.4199 | R29: =((4170000000000*((('Reference tables'!$T$47)*('Reference tables'!$U$47))^0.5)*EXP((-67837/'No EGR'!Q29)))/('No EGR'!$B$1*6))*'Reference tables'!$B$51 -> 9.3022017e-11 | S29: =((((B29^(1.86-1))/(B28^(1.86-1)))*S28^(1.86)))^(1/1.86) -> 2464.159 | T29: =((4170000000000*((('Reference tables'!$T$48)*('Reference tables'!$U$48))^0.5)*EXP((-67837/'No EGR'!S29)))/('No EGR'!$B$1*6))*'Reference tables'!$B$51 -> 1.1402918e-10 | U29: =((((B29^(1.86-1))/(B28^(1.86-1)))*U28^(1.86)))^(1/1.86) -> 2481.8774 | V29: =((4170000000000*((('Reference tables'!$T$49)*('Reference tables'!$U$49))^0.5)*EXP((-67837/'No EGR'!U29)))/('No EGR'!$B$1*6))*'Reference tables'!$B$51 -> 1.3934302e-10 | W29: =((((B29^(1.86-1))/(B28^(1.86-1)))*W28^(1.86)))^(1/1.86) -> 2499.5295 | X29: =((4170000000000*((('Reference tables'!$T$50)*('Reference tables'!$U$50))^0.5)*EXP((-67837/'No EGR'!W29)))/('No EGR'!$B$1*6))*'Reference tables'!$B$51 -> 1.6967155e-10 | Y29: =((((B29^(1.86-1))/(B28^(1.86-1)))*Y28^(1.86)))^(1/1.86) -> 2517.0553 | Z29: =((4170000000000*((('Reference tables'!$T$51)*('Reference tables'!$U$51))^0.5)*EXP((-67837/'No EGR'!Y29)))/('No EGR'!$B$1*6))*'Reference tables'!$B$51 -> 2.0575399e-10 | AA29: =((((B29^(1.86-1))/(B28^(1.86-1)))*AA28^(1.86)))^(1/1.86) -> 2534.5192 | AB29: =((4170000000000*((('Reference tables'!$T$51)*('Reference tables'!$U$51))^0.5)*EXP((-67837/'No EGR'!AA29)))/('No EGR'!$B$1*6))*'Reference tables'!$B$51 -> 2.4774101e-10
A30: =A29+1 -> 2 | B30: =B29+2 -> 14 | C30: =((((B30^(1.86-1))/(B29^(1.86-1)))*C29^(1.86)))^(1/1.86) -> 1910.2481 | D30: =((4170000000000*((('Reference tables'!$T$40)*('Reference tables'!$U$40))^0.5)*EXP((-67837/'No EGR'!C30)))/('No EGR'!$B$1*6))*'Reference tables'!$B$51 -> 3.2200595e-14 | E30: =((((B30^(1.86-1))/(B29^(1.86-1)))*E29^(1.86)))^(1/1.86) -> 2019.1747 | F30: =((4170000000000*((('Reference tables'!$T$41)*('Reference tables'!$U$41))^0.5)*EXP((-67837/'No EGR'!E30)))/('No EGR'!$B$1*6))*'Reference tables'!$B$51 -> 2.2617575e-13 | G30: =((((B30^(1.86-1))/(B29^(1.86-1)))*G29^(1.86)))^(1/1.86) -> 2125.3757 | H30: =((4170000000000*((('Reference tables'!$T$42)*('Reference tables'!$U$42))^0.5)*EXP((-67837/'No EGR'!G30)))/('No EGR'!$B$1*6))*'Reference tables'!$B$51 -> 1.2497749e-12 | I30: =((((B30^(1.86-1))/(B29^(1.86-1)))*I29^(1.86)))^(1/1.86) -> 2229.948 | J30: =((4170000000000*((('Reference tables'!$T$43)*('Reference tables'!$U$43))^0.5)*EXP((-67837/'No EGR'!I30)))/('No EGR'!$B$1*6))*'Reference tables'!$B$51 -> 5.7423442e-12 | K30: =((((B30^(1.86-1))/(B29^(1.86-1)))*K29^(1.86)))^(1/1.86) -> 2332.1241 | L30: =((4170000000000*((('Reference tables'!$T$44)*('Reference tables'!$U$44))^0.5)*EXP((-67837/'No EGR'!K30)))/('No EGR'!$B$1*6))*'Reference tables'!$B$51 -> 2.2345741e-11 | M30: =((((B30^(1.86-1))/(B29^(1.86-1)))*M29^(1.86)))^(1/1.86) -> 2432.5243 | N30: =((4170000000000*((('Reference tables'!$T$45)*('Reference tables'!$U$45))^0.5)*EXP((-67837/'No EGR'!M30)))/('No EGR'!$B$1*6))*'Reference tables'!$B$51 -> 7.6039782e-11 | O30: =((((B30^(1.86-1))/(B29^(1.86-1)))*O29^(1.86)))^(1/1.86) -> 2530.672 | P30: =((4170000000000*((('Reference tables'!$T$46)*('Reference tables'!$U$46))^0.5)*EXP((-67837/'No EGR'!O30)))/('No EGR'!$B$1*6))*'Reference tables'!$B$51 -> 2.2933123e-10 | Q30: =((((B30^(1.86-1))/(B29^(1.86-1)))*Q29^(1.86)))^(1/1.86) -> 2627.1501 | R30: =((4170000000000*((('Reference tables'!$T$47)*('Reference tables'!$U$47))^0.5)*EXP((-67837/'No EGR'!Q30)))/('No EGR'!$B$1*6))*'Reference tables'!$B$51 -> 6.2666426e-10 | S30: =((((B30^(1.86-1))/(B29^(1.86-1)))*S29^(1.86)))^(1/1.86) -> 2646.1997 | T30: =((4170000000000*((('Reference tables'!$T$48)*('Reference tables'!$U$48))^0.5)*EXP((-67837/'No EGR'!S30)))/('No EGR'!$B$1*6))*'Reference tables'!$B$51 -> 7.57707e-10 | U30: =((((B30^(1.86-1))/(B29^(1.86-1)))*U29^(1.86)))^(1/1.86) -> 2665.2271 | V30: =((4170000000000*((('Reference tables'!$T$49)*('Reference tables'!$U$49))^0.5)*EXP((-67837/'No EGR'!U30)))/('No EGR'!$B$1*6))*'Reference tables'!$B$51 -> 9.1347929e-10 | W30: =((((B30^(1.86-1))/(B29^(1.86-1)))*W29^(1.86)))^(1/1.86) -> 2684.1832 | X30: =((4170000000000*((('Reference tables'!$T$50)*('Reference tables'!$U$50))^0.5)*EXP((-67837/'No EGR'!W30)))/('No EGR'!$B$1*6))*'Reference tables'!$B$51 -> 1.0976287e-09 | Y30: =((((B30^(1.86-1))/(B29^(1.86-1)))*Y29^(1.86)))^(1/1.86) -> 2703.0038 | Z30: =((4170000000000*((('Reference tables'!$T$51)*('Reference tables'!$U$51))^0.5)*EXP((-67837/'No EGR'!Y30)))/('No EGR'!$B$1*6))*'Reference tables'!$B$51 -> 1.3138594e-09 | AA30: =((((B30^(1.86-1))/(B29^(1.86-1)))*AA29^(1.86)))^(1/1.86) -> 2721.7578 | AB30: =((4170000000000*((('Reference tables'!$T$51)*('Reference tables'!$U$51))^0.5)*EXP((-67837/'No EGR'!AA30)))/('No EGR'!$B$1*6))*'Reference tables'!$B$51 -> 1.5618898e-09
A31: =A30+1 -> 3 | B31: =B30+2 -> 16 | C31: =((((B31^(1.86-1))/(B30^(1.86-1)))*C30^(1.86)))^(1/1.86) -> 2031.9043 | D31: =((4170000000000*((('Reference tables'!$T$40)*('Reference tables'!$U$40))^0.5)*EXP((-67837/'No EGR'!C31)))/('No EGR'!$B$1*6))*'Reference tables'!$B$51 -> 2.6994113e-13 | E31: =((((B31^(1.86-1))/(B30^(1.86-1)))*E30^(1.86)))^(1/1.86) -> 2147.7681 | F31: =((4170000000000*((('Reference tables'!$T$41)*('Reference tables'!$U$41))^0.5)*EXP((-67837/'No EGR'!E31)))/('No EGR'!$B$1*6))*'Reference tables'!$B$51 -> 1.6905852e-12 | G31: =((((B31^(1.86-1))/(B30^(1.86-1)))*G30^(1.86)))^(1/1.86) -> 2260.7326 | H31: =((4170000000000*((('Reference tables'!$T$42)*('Reference tables'!$U$42))^0.5)*EXP((-67837/'No EGR'!G31)))/('No EGR'!$B$1*6))*'Reference tables'!$B$51 -> 8.448335e-12 | I31: =((((B31^(1.86-1))/(B30^(1.86-1)))*I30^(1.86)))^(1/1.86) -> 2371.9647 | J31: =((4170000000000*((('Reference tables'!$T$43)*('Reference tables'!$U$43))^0.5)*EXP((-67837/'No EGR'!I31)))/('No EGR'!$B$1*6))*'Reference tables'!$B$51 -> 3.5490242e-11 | K31: =((((B31^(1.86-1))/(B30^(1.86-1)))*K30^(1.86)))^(1/1.86) -> 2480.648 | L31: =((4170000000000*((('Reference tables'!$T$44)*('Reference tables'!$U$44))^0.5)*EXP((-67837/'No EGR'!K31)))/('No EGR'!$B$1*6))*'Reference tables'!$B$51 -> 1.2751404e-10 | M31: =((((B31^(1.86-1))/(B30^(1.86-1)))*M30^(1.86)))^(1/1.86) -> 2587.4423 | N31: =((4170000000000*((('Reference tables'!$T$45)*('Reference tables'!$U$45))^0.5)*EXP((-67837/'No EGR'!M31)))/('No EGR'!$B$1*6))*'Reference tables'!$B$51 -> 4.038182e-10 | O31: =((((B31^(1.86-1))/(B30^(1.86-1)))*O30^(1.86)))^(1/1.86) -> 2691.8406 | P31: =((4170000000000*((('Reference tables'!$T$46)*('Reference tables'!$U$46))^0.5)*EXP((-67837/'No EGR'!O31)))/('No EGR'!$B$1*6))*'Reference tables'!$B$51 -> 1.1415232e-09 | Q31: =((((B31^(1.86-1))/(B30^(1.86-1)))*Q30^(1.86)))^(1/1.86) -> 2794.4631 | R31: =((4170000000000*((('Reference tables'!$T$47)*('Reference tables'!$U$47))^0.5)*EXP((-67837/'No EGR'!Q31)))/('No EGR'!$B$1*6))*'Reference tables'!$B$51 -> 2.9407588e-09 | S31: =((((B31^(1.86-1))/(B30^(1.86-1)))*S30^(1.86)))^(1/1.86) -> 2814.7258 | T31: =((4170000000000*((('Reference tables'!$T$48)*('Reference tables'!$U$48))^0.5)*EXP((-67837/'No EGR'!S31)))/('No EGR'!$B$1*6))*'Reference tables'!$B$51 -> 3.5163517e-09 | U31: =((((B31^(1.86-1))/(B30^(1.86-1)))*U30^(1.86)))^(1/1.86) -> 2834.965 | V31: =((4170000000000*((('Reference tables'!$T$49)*('Reference tables'!$U$49))^0.5)*EXP((-67837/'No EGR'!U31)))/('No EGR'!$B$1*6))*'Reference tables'!$B$51 -> 4.1930576e-09 | W31: =((((B31^(1.86-1))/(B30^(1.86-1)))*W30^(1.86)))^(1/1.86) -> 2855.1284 | X31: =((4170000000000*((('Reference tables'!$T$50)*('Reference tables'!$U$50))^0.5)*EXP((-67837/'No EGR'!W31)))/('No EGR'!$B$1*6))*'Reference tables'!$B$51 -> 4.9844083e-09 | Y31: =((((B31^(1.86-1))/(B30^(1.86-1)))*Y30^(1.86)))^(1/1.86) -> 2875.1476 | Z31: =((4170000000000*((('Reference tables'!$T$51)*('Reference tables'!$U$51))^0.5)*EXP((-67837/'No EGR'!Y31)))/('No EGR'!$B$1*6))*'Reference tables'!$B$51 -> 5.9037965e-09 | AA31: =((((B31^(1.86-1))/(B30^(1.86-1)))*AA30^(1.86)))^(1/1.86) -> 2895.0959 | AB31: =((4170000000000*((('Reference tables'!$T$51)*('Reference tables'!$U$51))^0.5)*EXP((-67837/'No EGR'!AA31)))/('No EGR'!$B$1*6))*'Reference tables'!$B$51 -> 6.9460245e-09
A32: =A31+1 -> 4 | B32: =B31+2 -> 18 | C32: =((((B32^(1.86-1))/(B31^(1.86-1)))*C31^(1.86)))^(1/1.86) -> 2145.6279 | D32: =((4170000000000*((('Reference tables'!$T$40)*('Reference tables'!$U$40))^0.5)*EXP((-67837/'No EGR'!C32)))/('No EGR'!$B$1*6))*'Reference tables'!$B$51 -> 1.5840516e-12 | E32: =((((B32^(1.86-1))/(B31^(1.86-1)))*E31^(1.86)))^(1/1.86) -> 2267.9765 | F32: =((4170000000000*((('Reference tables'!$T$41)*('Reference tables'!$U$41))^0.5)*EXP((-67837/'No EGR'!E32)))/('No EGR'!$B$1*6))*'Reference tables'!$B$51 -> 9.0173664e-12 | G32: =((((B32^(1.86-1))/(B31^(1.86-1)))*G31^(1.86)))^(1/1.86) -> 2387.2635 | H32: =((4170000000000*((('Reference tables'!$T$42)*('Reference tables'!$U$42))^0.5)*EXP((-67837/'No EGR'!G32)))/('No EGR'!$B$1*6))*'Reference tables'!$B$51 -> 4.1446213e-11 | I32: =((((B32^(1.86-1))/(B31^(1.86-1)))*I31^(1.86)))^(1/1.86) -> 2504.7212 | J32: =((4170000000000*((('Reference tables'!$T$43)*('Reference tables'!$U$43))^0.5)*EXP((-67837/'No EGR'!I32)))/('No EGR'!$B$1*6))*'Reference tables'!$B$51 -> 1.6159652e-10 | K32: =((((B32^(1.86-1))/(B31^(1.86-1)))*K31^(1.86)))^(1/1.86) -> 2619.4873 | L32: =((4170000000000*((('Reference tables'!$T$44)*('Reference tables'!$U$44))^0.5)*EXP((-67837/'No EGR'!K32)))/('No EGR'!$B$1*6))*'Reference tables'!$B$51 -> 5.4329824e-10 | M32: =((((B32^(1.86-1))/(B31^(1.86-1)))*M31^(1.86)))^(1/1.86) -> 2732.2588 | N32: =((4170000000000*((('Reference tables'!$T$45)*('Reference tables'!$U$45))^0.5)*EXP((-67837/'No EGR'!M32)))/('No EGR'!$B$1*6))*'Reference tables'!$B$51 -> 1.6206341e-09 | O32: =((((B32^(1.86-1))/(B31^(1.86-1)))*O31^(1.86)))^(1/1.86) -> 2842.5002 | P32: =((4170000000000*((('Reference tables'!$T$46)*('Reference tables'!$U$46))^0.5)*EXP((-67837/'No EGR'!O32)))/('No EGR'!$B$1*6))*'Reference tables'!$B$51 -> 4.3408839e-09 | Q32: =((((B32^(1.86-1))/(B31^(1.86-1)))*Q31^(1.86)))^(1/1.86) -> 2950.8664 | R32: =((4170000000000*((('Reference tables'!$T$47)*('Reference tables'!$U$47))^0.5)*EXP((-67837/'No EGR'!Q32)))/('No EGR'!$B$1*6))*'Reference tables'!$B$51 -> 1.0647552e-08 | S32: =((((B32^(1.86-1))/(B31^(1.86-1)))*S31^(1.86)))^(1/1.86) -> 2972.2632 | T32: =((4170000000000*((('Reference tables'!$T$48)*('Reference tables'!$U$48))^0.5)*EXP((-67837/'No EGR'!S32)))/('No EGR'!$B$1*6))*'Reference tables'!$B$51 -> 1.2614209e-08 | U32: =((((B32^(1.86-1))/(B31^(1.86-1)))*U31^(1.86)))^(1/1.86) -> 2993.6351 | V32: =((4170000000000*((('Reference tables'!$T$49)*('Reference tables'!$U$49))^0.5)*EXP((-67837/'No EGR'!U32)))/('No EGR'!$B$1*6))*'Reference tables'!$B$51 -> 1.4905206e-08 | W32: =((((B32^(1.86-1))/(B31^(1.86-1)))*W31^(1.86)))^(1/1.86) -> 3014.927 | X32: =((4170000000000*((('Reference tables'!$T$50)*('Reference tables'!$U$50))^0.5)*EXP((-67837/'No EGR'!W32)))/('No EGR'!$B$1*6))*'Reference tables'!$B$51 -> 1.7560258e-08 | Y32: =((((B32^(1.86-1))/(B31^(1.86-1)))*Y31^(1.86)))^(1/1.86) -> 3036.0667 | Z32: =((4170000000000*((('Reference tables'!$T$51)*('Reference tables'!$U$51))^0.5)*EXP((-67837/'No EGR'!Y32)))/('No EGR'!$B$1*6))*'Reference tables'!$B$51 -> 2.0617716e-08 | AA32: =((((B32^(1.86-1))/(B31^(1.86-1)))*AA31^(1.86)))^(1/1.86) -> 3057.1315 | AB32: =((4170000000000*((('Reference tables'!$T$51)*('Reference tables'!$U$51))^0.5)*EXP((-67837/'No EGR'!AA32)))/('No EGR'!$B$1*6))*'Reference tables'!$B$51 -> 2.4049345e-08
A33: =A32+1 -> 5 | B33: =B32+2 -> 20 | C33: =((((B33^(1.86-1))/(B32^(1.86-1)))*C32^(1.86)))^(1/1.86) -> 2252.7402 | D33: =((4170000000000*((('Reference tables'!$T$40)*('Reference tables'!$U$40))^0.5)*EXP((-67837/'No EGR'!C33)))/('No EGR'!$B$1*6))*'Reference tables'!$B$51 -> 7.1225587e-12 | E33: =((((B33^(1.86-1))/(B32^(1.86-1)))*E32^(1.86)))^(1/1.86) -> 2381.1965 | F33: =((4170000000000*((('Reference tables'!$T$41)*('Reference tables'!$U$41))^0.5)*EXP((-67837/'No EGR'!E33)))/('No EGR'!$B$1*6))*'Reference tables'!$B$51 -> 3.7387531e-11 | G33: =((((B33^(1.86-1))/(B32^(1.86-1)))*G32^(1.86)))^(1/1.86) -> 2506.4385 | H33: =((4170000000000*((('Reference tables'!$T$42)*('Reference tables'!$U$42))^0.5)*EXP((-67837/'No EGR'!G33)))/('No EGR'!$B$1*6))*'Reference tables'!$B$51 -> 1.6005501e-10 | I33: =((((B33^(1.86-1))/(B32^(1.86-1)))*I32^(1.86)))^(1/1.86) -> 2629.7598 | J33: =((4170000000000*((('Reference tables'!$T$43)*('Reference tables'!$U$43))^0.5)*EXP((-67837/'No EGR'!I33)))/('No EGR'!$B$1*6))*'Reference tables'!$B$51 -> 5.857327e-10 | K33: =((((B33^(1.86-1))/(B32^(1.86-1)))*K32^(1.86)))^(1/1.86) -> 2750.2552 | L33: =((4170000000000*((('Reference tables'!$T$44)*('Reference tables'!$U$44))^0.5)*EXP((-67837/'No EGR'!K33)))/('No EGR'!$B$1*6))*'Reference tables'!$B$51 -> 1.8612421e-09 | M33: =((((B33^(1.86-1))/(B32^(1.86-1)))*M32^(1.86)))^(1/1.86) -> 2868.6564 | N33: =((4170000000000*((('Reference tables'!$T$45)*('Reference tables'!$U$45))^0.5)*EXP((-67837/'No EGR'!M33)))/('No EGR'!$B$1*6))*'Reference tables'!$B$51 -> 5.2768849e-09 | O33: =((((B33^(1.86-1))/(B32^(1.86-1)))*O32^(1.86)))^(1/1.86) -> 2984.4011 | P33: =((4170000000000*((('Reference tables'!$T$46)*('Reference tables'!$U$46))^0.5)*EXP((-67837/'No EGR'!O33)))/('No EGR'!$B$1*6))*'Reference tables'!$B$51 -> 1.3501653e-08 | Q33: =((((B33^(1.86-1))/(B32^(1.86-1)))*Q32^(1.86)))^(1/1.86) -> 3098.177 | R33: =((4170000000000*((('Reference tables'!$T$47)*('Reference tables'!$U$47))^0.5)*EXP((-67837/'No EGR'!Q33)))/('No EGR'!$B$1*6))*'Reference tables'!$B$51 -> 3.1765879e-08 | S33: =((((B33^(1.86-1))/(B32^(1.86-1)))*S32^(1.86)))^(1/1.86) -> 3120.642 | T33: =((4170000000000*((('Reference tables'!$T$48)*('Reference tables'!$U$48))^0.5)*EXP((-67837/'No EGR'!S33)))/('No EGR'!$B$1*6))*'Reference tables'!$B$51 -> 3.7338232e-08 | U33: =((((B33^(1.86-1))/(B32^(1.86-1)))*U32^(1.86)))^(1/1.86) -> 3143.0809 | V33: =((4170000000000*((('Reference tables'!$T$49)*('Reference tables'!$U$49))^0.5)*EXP((-67837/'No EGR'!U33)))/('No EGR'!$B$1*6))*'Reference tables'!$B$51 -> 4.3779128e-08 | W33: =((((B33^(1.86-1))/(B32^(1.86-1)))*W32^(1.86)))^(1/1.86) -> 3165.4357 | X33: =((4170000000000*((('Reference tables'!$T$50)*('Reference tables'!$U$50))^0.5)*EXP((-67837/'No EGR'!W33)))/('No EGR'!$B$1*6))*'Reference tables'!$B$51 -> 5.1186498e-08 | Y33: =((((B33^(1.86-1))/(B32^(1.86-1)))*Y32^(1.86)))^(1/1.86) -> 3187.6306 | Z33: =((4170000000000*((('Reference tables'!$T$51)*('Reference tables'!$U$51))^0.5)*EXP((-67837/'No EGR'!Y33)))/('No EGR'!$B$1*6))*'Reference tables'!$B$51 -> 5.9652682e-08 | AA33: =((((B33^(1.86-1))/(B32^(1.86-1)))*AA32^(1.86)))^(1/1.86) -> 3209.7471 | AB33: =((4170000000000*((('Reference tables'!$T$51)*('Reference tables'!$U$51))^0.5)*EXP((-67837/'No EGR'!AA33)))/('No EGR'!$B$1*6))*'Reference tables'!$B$51 -> 6.9073827e-08
A34: =A33+1 -> 6 | B34: =B33+2 -> 22 | C34: =((((B34^(1.86-1))/(B33^(1.86-1)))*C33^(1.86)))^(1/1.86) -> 2354.2342 | D34: =((4170000000000*((('Reference tables'!$T$40)*('Reference tables'!$U$40))^0.5)*EXP((-67837/'No EGR'!C34)))/('No EGR'!$B$1*6))*'Reference tables'!$B$51 -> 2.6088138e-11 | E34: =((((B34^(1.86-1))/(B33^(1.86-1)))*E33^(1.86)))^(1/1.86) -> 2488.4779 | F34: =((4170000000000*((('Reference tables'!$T$41)*('Reference tables'!$U$41))^0.5)*EXP((-67837/'No EGR'!E34)))/('No EGR'!$B$1*6))*'Reference tables'!$B$51 -> 1.2767875e-10 | G34: =((((B34^(1.86-1))/(B33^(1.86-1)))*G33^(1.86)))^(1/1.86) -> 2619.3625 | H34: =((4170000000000*((('Reference tables'!$T$42)*('Reference tables'!$U$42))^0.5)*EXP((-67837/'No EGR'!G34)))/('No EGR'!$B$1*6))*'Reference tables'!$B$51 -> 5.1405376e-10 | I34: =((((B34^(1.86-1))/(B33^(1.86-1)))*I33^(1.86)))^(1/1.86) -> 2748.2398 | J34: =((4170000000000*((('Reference tables'!$T$43)*('Reference tables'!$U$43))^0.5)*EXP((-67837/'No EGR'!I34)))/('No EGR'!$B$1*6))*'Reference tables'!$B$51 -> 1.7810473e-09 | K34: =((((B34^(1.86-1))/(B33^(1.86-1)))*K33^(1.86)))^(1/1.86) -> 2874.164 | L34: =((4170000000000*((('Reference tables'!$T$44)*('Reference tables'!$U$44))^0.5)*EXP((-67837/'No EGR'!K34)))/('No EGR'!$B$1*6))*'Reference tables'!$B$51 -> 5.3903689e-09 | M34: =((((B34^(1.86-1))/(B33^(1.86-1)))*M33^(1.86)))^(1/1.86) -> 2997.8996 | N34: =((4170000000000*((('Reference tables'!$T$45)*('Reference tables'!$U$45))^0.5)*EXP((-67837/'No EGR'!M34)))/('No EGR'!$B$1*6))*'Reference tables'!$B$51 -> 1.4626224e-08 | O34: =((((B34^(1.86-1))/(B33^(1.86-1)))*O33^(1.86)))^(1/1.86) -> 3118.8591 | P34: =((4170000000000*((('Reference tables'!$T$46)*('Reference tables'!$U$46))^0.5)*EXP((-67837/'No EGR'!O34)))/('No EGR'!$B$1*6))*'Reference tables'!$B$51 -> 3.5972455e-08 | Q34: =((((B34^(1.86-1))/(B33^(1.86-1)))*Q33^(1.86)))^(1/1.86) -> 3237.761 | R34: =((4170000000000*((('Reference tables'!$T$47)*('Reference tables'!$U$47))^0.5)*EXP((-67837/'No EGR'!Q34)))/('No EGR'!$B$1*6))*'Reference tables'!$B$51 -> 8.1642277e-08 | S34: =((((B34^(1.86-1))/(B33^(1.86-1)))*S33^(1.86)))^(1/1.86) -> 3261.2381 | T34: =((4170000000000*((('Reference tables'!$T$48)*('Reference tables'!$U$48))^0.5)*EXP((-67837/'No EGR'!S34)))/('No EGR'!$B$1*6))*'Reference tables'!$B$51 -> 9.5314021e-08 | U34: =((((B34^(1.86-1))/(B33^(1.86-1)))*U33^(1.86)))^(1/1.86) -> 3284.6879 | V34: =((4170000000000*((('Reference tables'!$T$49)*('Reference tables'!$U$49))^0.5)*EXP((-67837/'No EGR'!U34)))/('No EGR'!$B$1*6))*'Reference tables'!$B$51 -> 1.1101061e-07 | W34: =((((B34^(1.86-1))/(B33^(1.86-1)))*W33^(1.86)))^(1/1.86) -> 3308.0499 | X34: =((4170000000000*((('Reference tables'!$T$50)*('Reference tables'!$U$50))^0.5)*EXP((-67837/'No EGR'!W34)))/('No EGR'!$B$1*6))*'Reference tables'!$B$51 -> 1.2894337e-07 | Y34: =((((B34^(1.86-1))/(B33^(1.86-1)))*Y33^(1.86)))^(1/1.86) -> 3331.2448 | Z34: =((4170000000000*((('Reference tables'!$T$51)*('Reference tables'!$U$51))^0.5)*EXP((-67837/'No EGR'!Y34)))/('No EGR'!$B$1*6))*'Reference tables'!$B$51 -> 1.4930686e-07 | AA34: =((((B34^(1.86-1))/(B33^(1.86-1)))*AA33^(1.86)))^(1/1.86) -> 3354.3576 | AB34: =((4170000000000*((('Reference tables'!$T$51)*('Reference tables'!$U$51))^0.5)*EXP((-67837/'No EGR'!AA34)))/('No EGR'!$B$1*6))*'Reference tables'!$B$51 -> 1.717979e-07
A35: =A34+1 -> 7 | B35: =B34+2 -> 24 | C35: =((((B35^(1.86-1))/(B34^(1.86-1)))*C34^(1.86)))^(1/1.86) -> 2450.8785 | D35: =((4170000000000*((('Reference tables'!$T$40)*('Reference tables'!$U$40))^0.5)*EXP((-67837/'No EGR'!C35)))/('No EGR'!$B$1*6))*'Reference tables'!$B$51 -> 8.1265786e-11 | E35: =((((B35^(1.86-1))/(B34^(1.86-1)))*E34^(1.86)))^(1/1.86) -> 2590.6332 | F35: =((4170000000000*((('Reference tables'!$T$41)*('Reference tables'!$U$41))^0.5)*EXP((-67837/'No EGR'!E35)))/('No EGR'!$B$1*6))*'Reference tables'!$B$51 -> 3.7407852e-10 | G35: =((((B35^(1.86-1))/(B34^(1.86-1)))*G34^(1.86)))^(1/1.86) -> 2726.8907 | H35: =((4170000000000*((('Reference tables'!$T$42)*('Reference tables'!$U$42))^0.5)*EXP((-67837/'No EGR'!G35)))/('No EGR'!$B$1*6))*'Reference tables'!$B$51 -> 1.4273332e-09 | I35: =((((B35^(1.86-1))/(B34^(1.86-1)))*I34^(1.86)))^(1/1.86) -> 2861.0586 | J35: =((4170000000000*((('Reference tables'!$T$43)*('Reference tables'!$U$43))^0.5)*EXP((-67837/'No EGR'!I35)))/('No EGR'!$B$1*6))*'Reference tables'!$B$51 -> 4.7140456e-09 | K35: =((((B35^(1.86-1))/(B34^(1.86-1)))*K34^(1.86)))^(1/1.86) -> 2992.1522 | L35: =((4170000000000*((('Reference tables'!$T$44)*('Reference tables'!$U$44))^0.5)*EXP((-67837/'No EGR'!K35)))/('No EGR'!$B$1*6))*'Reference tables'!$B$51 -> 1.367151e-08 | M35: =((((B35^(1.86-1))/(B34^(1.86-1)))*M34^(1.86)))^(1/1.86) -> 3120.9672 | N35: =((4170000000000*((('Reference tables'!$T$45)*('Reference tables'!$U$45))^0.5)*EXP((-67837/'No EGR'!M35)))/('No EGR'!$B$1*6))*'Reference tables'!$B$51 -> 3.5698283e-08 | O35: =((((B35^(1.86-1))/(B34^(1.86-1)))*O34^(1.86)))^(1/1.86) -> 3246.8923 | P35: =((4170000000000*((('Reference tables'!$T$46)*('Reference tables'!$U$46))^0.5)*EXP((-67837/'No EGR'!O35)))/('No EGR'!$B$1*6))*'Reference tables'!$B$51 -> 8.4811762e-08 | Q35: =((((B35^(1.86-1))/(B34^(1.86-1)))*Q34^(1.86)))^(1/1.86) -> 3370.6753 | R35: =((4170000000000*((('Reference tables'!$T$47)*('Reference tables'!$U$47))^0.5)*EXP((-67837/'No EGR'!Q35)))/('No EGR'!$B$1*6))*'Reference tables'!$B$51 -> 1.8651859e-07 | S35: =((((B35^(1.86-1))/(B34^(1.86-1)))*S34^(1.86)))^(1/1.86) -> 3395.1162 | T35: =((4170000000000*((('Reference tables'!$T$48)*('Reference tables'!$U$48))^0.5)*EXP((-67837/'No EGR'!S35)))/('No EGR'!$B$1*6))*'Reference tables'!$B$51 -> 2.1646158e-07 | U35: =((((B35^(1.86-1))/(B34^(1.86-1)))*U34^(1.86)))^(1/1.86) -> 3419.5286 | V35: =((4170000000000*((('Reference tables'!$T$49)*('Reference tables'!$U$49))^0.5)*EXP((-67837/'No EGR'!U35)))/('No EGR'!$B$1*6))*'Reference tables'!$B$51 -> 2.5063712e-07 | W35: =((((B35^(1.86-1))/(B34^(1.86-1)))*W34^(1.86)))^(1/1.86) -> 3443.8496 | X35: =((4170000000000*((('Reference tables'!$T$50)*('Reference tables'!$U$50))^0.5)*EXP((-67837/'No EGR'!W35)))/('No EGR'!$B$1*6))*'Reference tables'!$B$51 -> 2.8945574e-07 | Y35: =((((B35^(1.86-1))/(B34^(1.86-1)))*Y34^(1.86)))^(1/1.86) -> 3467.9967 | Z35: =((4170000000000*((('Reference tables'!$T$51)*('Reference tables'!$U$51))^0.5)*EXP((-67837/'No EGR'!Y35)))/('No EGR'!$B$1*6))*'Reference tables'!$B$51 -> 3.3328648e-07 | AA35: =((((B35^(1.86-1))/(B34^(1.86-1)))*AA34^(1.86)))^(1/1.86) -> 3492.0584 | AB35: =((4170000000000*((('Reference tables'!$T$51)*('Reference tables'!$U$51))^0.5)*EXP((-67837/'No EGR'!AA35)))/('No EGR'!$B$1*6))*'Reference tables'!$B$51 -> 3.8137552e-07
A36: =A35+1 -> 8 | B36: =B35+2 -> 26 | C36: =((((B36^(1.86-1))/(B35^(1.86-1)))*C35^(1.86)))^(1/1.86) -> 2543.2824 | D36: =((4170000000000*((('Reference tables'!$T$40)*('Reference tables'!$U$40))^0.5)*EXP((-67837/'No EGR'!C36)))/('No EGR'!$B$1*6))*'Reference tables'!$B$51 -> 2.2215168e-10 | E36: =((((B36^(1.86-1))/(B35^(1.86-1)))*E35^(1.86)))^(1/1.86) -> 2688.3062 | F36: =((4170000000000*((('Reference tables'!$T$41)*('Reference tables'!$U$41))^0.5)*EXP((-67837/'No EGR'!E36)))/('No EGR'!$B$1*6))*'Reference tables'!$B$51 -> 9.6859918e-10 | G36: =((((B36^(1.86-1))/(B35^(1.86-1)))*G35^(1.86)))^(1/1.86) -> 2829.7009 | H36: =((4170000000000*((('Reference tables'!$T$42)*('Reference tables'!$U$42))^0.5)*EXP((-67837/'No EGR'!G36)))/('No EGR'!$B$1*6))*'Reference tables'!$B$51 -> 3.5242022e-09 | I36: =((((B36^(1.86-1))/(B35^(1.86-1)))*I35^(1.86)))^(1/1.86) -> 2968.9273 | J36: =((4170000000000*((('Reference tables'!$T$43)*('Reference tables'!$U$43))^0.5)*EXP((-67837/'No EGR'!I36)))/('No EGR'!$B$1*6))*'Reference tables'!$B$51 -> 1.1156333e-08 | K36: =((((B36^(1.86-1))/(B35^(1.86-1)))*K35^(1.86)))^(1/1.86) -> 3104.9634 | L36: =((4170000000000*((('Reference tables'!$T$44)*('Reference tables'!$U$44))^0.5)*EXP((-67837/'No EGR'!K36)))/('No EGR'!$B$1*6))*'Reference tables'!$B$51 -> 3.1156792e-08 | M36: =((((B36^(1.86-1))/(B35^(1.86-1)))*M35^(1.86)))^(1/1.86) -> 3238.6351 | N36: =((4170000000000*((('Reference tables'!$T$45)*('Reference tables'!$U$45))^0.5)*EXP((-67837/'No EGR'!M36)))/('No EGR'!$B$1*6))*'Reference tables'!$B$51 -> 7.8635441e-08 | O36: =((((B36^(1.86-1))/(B35^(1.86-1)))*O35^(1.86)))^(1/1.86) -> 3369.3078 | P36: =((4170000000000*((('Reference tables'!$T$46)*('Reference tables'!$U$46))^0.5)*EXP((-67837/'No EGR'!O36)))/('No EGR'!$B$1*6))*'Reference tables'!$B$51 -> 1.8118638e-07 | Q36: =((((B36^(1.86-1))/(B35^(1.86-1)))*Q35^(1.86)))^(1/1.86) -> 3497.7577 | R36: =((4170000000000*((('Reference tables'!$T$47)*('Reference tables'!$U$47))^0.5)*EXP((-67837/'No EGR'!Q36)))/('No EGR'!$B$1*6))*'Reference tables'!$B$51 -> 3.8751184e-07 | S36: =((((B36^(1.86-1))/(B35^(1.86-1)))*S35^(1.86)))^(1/1.86) -> 3523.12 | T36: =((4170000000000*((('Reference tables'!$T$48)*('Reference tables'!$U$48))^0.5)*EXP((-67837/'No EGR'!S36)))/('No EGR'!$B$1*6))*'Reference tables'!$B$51 -> 4.4736044e-07 | U36: =((((B36^(1.86-1))/(B35^(1.86-1)))*U35^(1.86)))^(1/1.86) -> 3548.4529 | V36: =((4170000000000*((('Reference tables'!$T$49)*('Reference tables'!$U$49))^0.5)*EXP((-67837/'No EGR'!U36)))/('No EGR'!$B$1*6))*'Reference tables'!$B$51 -> 5.1531332e-07 | W36: =((((B36^(1.86-1))/(B35^(1.86-1)))*W35^(1.86)))^(1/1.86) -> 3573.6908 | X36: =((4170000000000*((('Reference tables'!$T$50)*('Reference tables'!$U$50))^0.5)*EXP((-67837/'No EGR'!W36)))/('No EGR'!$B$1*6))*'Reference tables'!$B$51 -> 5.9210331e-07 | Y36: =((((B36^(1.86-1))/(B35^(1.86-1)))*Y35^(1.86)))^(1/1.86) -> 3598.7483 | Z36: =((4170000000000*((('Reference tables'!$T$51)*('Reference tables'!$U$51))^0.5)*EXP((-67837/'No EGR'!Y36)))/('No EGR'!$B$1*6))*'Reference tables'!$B$51 -> 6.7837348e-07 | AA36: =((((B36^(1.86-1))/(B35^(1.86-1)))*AA35^(1.86)))^(1/1.86) -> 3623.7172 | AB36: =((4170000000000*((('Reference tables'!$T$51)*('Reference tables'!$U$51))^0.5)*EXP((-67837/'No EGR'!AA36)))/('No EGR'!$B$1*6))*'Reference tables'!$B$51 -> 7.7246223e-07
A37: =A36+1 -> 9 | B37: =B36+2 -> 28 | C37: =((((B37^(1.86-1))/(B36^(1.86-1)))*C36^(1.86)))^(1/1.86) -> 2631.9382 | D37: =((4170000000000*((('Reference tables'!$T$40)*('Reference tables'!$U$40))^0.5)*EXP((-67837/'No EGR'!C37)))/('No EGR'!$B$1*6))*'Reference tables'!$B$51 -> 5.4556915e-10 | E37: =((((B37^(1.86-1))/(B36^(1.86-1)))*E36^(1.86)))^(1/1.86) -> 2782.0172 | F37: =((4170000000000*((('Reference tables'!$T$41)*('Reference tables'!$U$41))^0.5)*EXP((-67837/'No EGR'!E37)))/('No EGR'!$B$1*6))*'Reference tables'!$B$51 -> 2.2661805e-09 | G37: =((((B37^(1.86-1))/(B36^(1.86-1)))*G36^(1.86)))^(1/1.86) -> 2928.3408 | H37: =((4170000000000*((('Reference tables'!$T$42)*('Reference tables'!$U$42))^0.5)*EXP((-67837/'No EGR'!G37)))/('No EGR'!$B$1*6))*'Reference tables'!$B$51 -> 7.9025179e-09 | I37: =((((B37^(1.86-1))/(B36^(1.86-1)))*I36^(1.86)))^(1/1.86) -> 3072.4205 | J37: =((4170000000000*((('Reference tables'!$T$43)*('Reference tables'!$U$43))^0.5)*EXP((-67837/'No EGR'!I37)))/('No EGR'!$B$1*6))*'Reference tables'!$B$51 -> 2.408685e-08 | K37: =((((B37^(1.86-1))/(B36^(1.86-1)))*K36^(1.86)))^(1/1.86) -> 3213.1986 | L37: =((4170000000000*((('Reference tables'!$T$44)*('Reference tables'!$U$44))^0.5)*EXP((-67837/'No EGR'!K37)))/('No EGR'!$B$1*6))*'Reference tables'!$B$51 -> 6.5037912e-08 | M37: =((((B37^(1.86-1))/(B36^(1.86-1)))*M36^(1.86)))^(1/1.86) -> 3351.5299 | N37: =((4170000000000*((('Reference tables'!$T$45)*('Reference tables'!$U$45))^0.5)*EXP((-67837/'No EGR'!M37)))/('No EGR'!$B$1*6))*'Reference tables'!$B$51 -> 1.5923569e-07 | O37: =((((B37^(1.86-1))/(B36^(1.86-1)))*O36^(1.86)))^(1/1.86) -> 3486.7577 | P37: =((4170000000000*((('Reference tables'!$T$46)*('Reference tables'!$U$46))^0.5)*EXP((-67837/'No EGR'!O37)))/('No EGR'!$B$1*6))*'Reference tables'!$B$51 -> 3.5699621e-07 | Q37: =((((B37^(1.86-1))/(B36^(1.86-1)))*Q36^(1.86)))^(1/1.86) -> 3619.6852 | R37: =((4170000000000*((('Reference tables'!$T$47)*('Reference tables'!$U$47))^0.5)*EXP((-67837/'No EGR'!Q37)))/('No EGR'!$B$1*6))*'Reference tables'!$B$51 -> 7.4474322e-07 | S37: =((((B37^(1.86-1))/(B36^(1.86-1)))*S36^(1.86)))^(1/1.86) -> 3645.9317 | T37: =((4170000000000*((('Reference tables'!$T$48)*('Reference tables'!$U$48))^0.5)*EXP((-67837/'No EGR'!S37)))/('No EGR'!$B$1*6))*'Reference tables'!$B$51 -> 8.5572987e-07 | U37: =((((B37^(1.86-1))/(B36^(1.86-1)))*U36^(1.86)))^(1/1.86) -> 3672.1476 | V37: =((4170000000000*((('Reference tables'!$T$49)*('Reference tables'!$U$49))^0.5)*EXP((-67837/'No EGR'!U37)))/('No EGR'!$B$1*6))*'Reference tables'!$B$51 -> 9.8115932e-07 | W37: =((((B37^(1.86-1))/(B36^(1.86-1)))*W36^(1.86)))^(1/1.86) -> 3698.2653 | X37: =((4170000000000*((('Reference tables'!$T$50)*('Reference tables'!$U$50))^0.5)*EXP((-67837/'No EGR'!W37)))/('No EGR'!$B$1*6))*'Reference tables'!$B$51 -> 1.1222525e-06 | Y37: =((((B37^(1.86-1))/(B36^(1.86-1)))*Y36^(1.86)))^(1/1.86) -> 3724.1963 | Z37: =((4170000000000*((('Reference tables'!$T$51)*('Reference tables'!$U$51))^0.5)*EXP((-67837/'No EGR'!Y37)))/('No EGR'!$B$1*6))*'Reference tables'!$B$51 -> 1.2800544e-06 | AA37: =((((B37^(1.86-1))/(B36^(1.86-1)))*AA36^(1.86)))^(1/1.86) -> 3750.0356 | AB37: =((4170000000000*((('Reference tables'!$T$51)*('Reference tables'!$U$51))^0.5)*EXP((-67837/'No EGR'!AA37)))/('No EGR'!$B$1*6))*'Reference tables'!$B$51 -> 1.4512316e-06
A38: =A37+1 -> 10 | B38: =B37+2 -> 30 | C38: =((((B38^(1.86-1))/(B37^(1.86-1)))*C37^(1.86)))^(1/1.86) -> 2717.2503 | D38: =((4170000000000*((('Reference tables'!$T$40)*('Reference tables'!$U$40))^0.5)*EXP((-67837/'No EGR'!C38)))/('No EGR'!$B$1*6))*'Reference tables'!$B$51 -> 1.2254456e-09 | E38: =((((B38^(1.86-1))/(B37^(1.86-1)))*E37^(1.86)))^(1/1.86) -> 2872.1941 | F38: =((4170000000000*((('Reference tables'!$T$41)*('Reference tables'!$U$41))^0.5)*EXP((-67837/'No EGR'!E38)))/('No EGR'!$B$1*6))*'Reference tables'!$B$51 -> 4.8728123e-09 | G38: =((((B38^(1.86-1))/(B37^(1.86-1)))*G37^(1.86)))^(1/1.86) -> 3023.2606 | H38: =((4170000000000*((('Reference tables'!$T$42)*('Reference tables'!$U$42))^0.5)*EXP((-67837/'No EGR'!G38)))/('No EGR'!$B$1*6))*'Reference tables'!$B$51 -> 1.635449e-08 | I38: =((((B38^(1.86-1))/(B37^(1.86-1)))*I37^(1.86)))^(1/1.86) -> 3172.0105 | J38: =((4170000000000*((('Reference tables'!$T$43)*('Reference tables'!$U$43))^0.5)*EXP((-67837/'No EGR'!I38)))/('No EGR'!$B$1*6))*'Reference tables'!$B$51 -> 4.8176905e-08 | K38: =((((B38^(1.86-1))/(B37^(1.86-1)))*K37^(1.86)))^(1/1.86) -> 3317.3518 | L38: =((4170000000000*((('Reference tables'!$T$44)*('Reference tables'!$U$44))^0.5)*EXP((-67837/'No EGR'!K38)))/('No EGR'!$B$1*6))*'Reference tables'!$B$51 -> 1.2619302e-07 | M38: =((((B38^(1.86-1))/(B37^(1.86-1)))*M37^(1.86)))^(1/1.86) -> 3460.167 | N38: =((4170000000000*((('Reference tables'!$T$45)*('Reference tables'!$U$45))^0.5)*EXP((-67837/'No EGR'!M38)))/('No EGR'!$B$1*6))*'Reference tables'!$B$51 -> 3.0062677e-07 | O38: =((((B38^(1.86-1))/(B37^(1.86-1)))*O37^(1.86)))^(1/1.86) -> 3599.7781 | P38: =((4170000000000*((('Reference tables'!$T$46)*('Reference tables'!$U$46))^0.5)*EXP((-67837/'No EGR'!O38)))/('No EGR'!$B$1*6))*'Reference tables'!$B$51 -> 6.5757782e-07 | Q38: =((((B38^(1.86-1))/(B37^(1.86-1)))*Q37^(1.86)))^(1/1.86) -> 3737.0144 | R38: =((4170000000000*((('Reference tables'!$T$47)*('Reference tables'!$U$47))^0.5)*EXP((-67837/'No EGR'!Q38)))/('No EGR'!$B$1*6))*'Reference tables'!$B$51 -> 1.3413681e-06 | S38: =((((B38^(1.86-1))/(B37^(1.86-1)))*S37^(1.86)))^(1/1.86) -> 3764.1116 | T38: =((4170000000000*((('Reference tables'!$T$48)*('Reference tables'!$U$48))^0.5)*EXP((-67837/'No EGR'!S38)))/('No EGR'!$B$1*6))*'Reference tables'!$B$51 -> 1.5347531e-06 | U38: =((((B38^(1.86-1))/(B37^(1.86-1)))*U37^(1.86)))^(1/1.86) -> 3791.1773 | V38: =((4170000000000*((('Reference tables'!$T$49)*('Reference tables'!$U$49))^0.5)*EXP((-67837/'No EGR'!U38)))/('No EGR'!$B$1*6))*'Reference tables'!$B$51 -> 1.7523875e-06 | W38: =((((B38^(1.86-1))/(B37^(1.86-1)))*W37^(1.86)))^(1/1.86) -> 3818.1416 | X38: =((4170000000000*((('Reference tables'!$T$50)*('Reference tables'!$U$50))^0.5)*EXP((-67837/'No EGR'!W38)))/('No EGR'!$B$1*6))*'Reference tables'!$B$51 -> 1.996192e-06 | Y38: =((((B38^(1.86-1))/(B37^(1.86-1)))*Y37^(1.86)))^(1/1.86) -> 3844.9131 | Z38: =((4170000000000*((('Reference tables'!$T$51)*('Reference tables'!$U$51))^0.5)*EXP((-67837/'No EGR'!Y38)))/('No EGR'!$B$1*6))*'Reference tables'!$B$51 -> 2.2677682e-06 | AA38: =((((B38^(1.86-1))/(B37^(1.86-1)))*AA37^(1.86)))^(1/1.86) -> 3871.5899 | AB38: =((4170000000000*((('Reference tables'!$T$51)*('Reference tables'!$U$51))^0.5)*EXP((-67837/'No EGR'!AA38)))/('No EGR'!$B$1*6))*'Reference tables'!$B$51 -> 2.5609176e-06
A39: =A38+1 -> 11 | B39: =B38+2 -> 32 | C39: =((((B39^(1.86-1))/(B38^(1.86-1)))*C38^(1.86)))^(1/1.86) -> 2799.556 | D39: =((4170000000000*((('Reference tables'!$T$40)*('Reference tables'!$U$40))^0.5)*EXP((-67837/'No EGR'!C39)))/('No EGR'!$B$1*6))*'Reference tables'!$B$51 -> 2.5530118e-09 | E39: =((((B39^(1.86-1))/(B38^(1.86-1)))*E38^(1.86)))^(1/1.86) -> 2959.193 | F39: =((4170000000000*((('Reference tables'!$T$41)*('Reference tables'!$U$41))^0.5)*EXP((-67837/'No EGR'!E39)))/('No EGR'!$B$1*6))*'Reference tables'!$B$51 -> 9.7575923e-09 | G39: =((((B39^(1.86-1))/(B38^(1.86-1)))*G38^(1.86)))^(1/1.86) -> 3114.8354 | H39: =((4170000000000*((('Reference tables'!$T$42)*('Reference tables'!$U$42))^0.5)*EXP((-67837/'No EGR'!G39)))/('No EGR'!$B$1*6))*'Reference tables'!$B$51 -> 3.1632351e-08 | I39: =((((B39^(1.86-1))/(B38^(1.86-1)))*I38^(1.86)))^(1/1.86) -> 3268.0909 | J39: =((4170000000000*((('Reference tables'!$T$43)*('Reference tables'!$U$43))^0.5)*EXP((-67837/'No EGR'!I39)))/('No EGR'!$B$1*6))*'Reference tables'!$B$51 -> 9.0343797e-08 | K39: =((((B39^(1.86-1))/(B38^(1.86-1)))*K38^(1.86)))^(1/1.86) -> 3417.8347 | L39: =((4170000000000*((('Reference tables'!$T$44)*('Reference tables'!$U$44))^0.5)*EXP((-67837/'No EGR'!K39)))/('No EGR'!$B$1*6))*'Reference tables'!$B$51 -> 2.3021382e-07 | M39: =((((B39^(1.86-1))/(B38^(1.86-1)))*M38^(1.86)))^(1/1.86) -> 3564.9758 | N39: =((4170000000000*((('Reference tables'!$T$45)*('Reference tables'!$U$45))^0.5)*EXP((-67837/'No EGR'!M39)))/('No EGR'!$B$1*6))*'Reference tables'!$B$51 -> 5.3499188e-07 | O39: =((((B39^(1.86-1))/(B38^(1.86-1)))*O38^(1.86)))^(1/1.86) -> 3708.8157 | P39: =((4170000000000*((('Reference tables'!$T$46)*('Reference tables'!$U$46))^0.5)*EXP((-67837/'No EGR'!O39)))/('No EGR'!$B$1*6))*'Reference tables'!$B$51 -> 1.144349e-06 | Q39: =((((B39^(1.86-1))/(B38^(1.86-1)))*Q38^(1.86)))^(1/1.86) -> 3850.2088 | R39: =((4170000000000*((('Reference tables'!$T$47)*('Reference tables'!$U$47))^0.5)*EXP((-67837/'No EGR'!Q39)))/('No EGR'!$B$1*6))*'Reference tables'!$B$51 -> 2.2873005e-06 | S39: =((((B39^(1.86-1))/(B38^(1.86-1)))*S38^(1.86)))^(1/1.86) -> 3878.1269 | T39: =((4170000000000*((('Reference tables'!$T$48)*('Reference tables'!$U$48))^0.5)*EXP((-67837/'No EGR'!S39)))/('No EGR'!$B$1*6))*'Reference tables'!$B$51 -> 2.6070252e-06 | U39: =((((B39^(1.86-1))/(B38^(1.86-1)))*U38^(1.86)))^(1/1.86) -> 3906.0124 | V39: =((4170000000000*((('Reference tables'!$T$49)*('Reference tables'!$U$49))^0.5)*EXP((-67837/'No EGR'!U39)))/('No EGR'!$B$1*6))*'Reference tables'!$B$51 -> 2.9654739e-06 | W39: =((((B39^(1.86-1))/(B38^(1.86-1)))*W38^(1.86)))^(1/1.86) -> 3933.7934 | X39: =((4170000000000*((('Reference tables'!$T$50)*('Reference tables'!$U$50))^0.5)*EXP((-67837/'No EGR'!W39)))/('No EGR'!$B$1*6))*'Reference tables'!$B$51 -> 3.3655251e-06 | Y39: =((((B39^(1.86-1))/(B38^(1.86-1)))*Y38^(1.86)))^(1/1.86) -> 3961.3758 | Z39: =((4170000000000*((('Reference tables'!$T$51)*('Reference tables'!$U$51))^0.5)*EXP((-67837/'No EGR'!Y39)))/('No EGR'!$B$1*6))*'Reference tables'!$B$51 -> 3.8095148e-06 | AA39: =((((B39^(1.86-1))/(B38^(1.86-1)))*AA38^(1.86)))^(1/1.86) -> 3988.8607 | AB39: =((4170000000000*((('Reference tables'!$T$51)*('Reference tables'!$U$51))^0.5)*EXP((-67837/'No EGR'!AA39)))/('No EGR'!$B$1*6))*'Reference tables'!$B$51 -> 4.2866141e-06
A40: =A39+1 -> 12 | B40: =B39+2 -> 34 | C40: =((((B40^(1.86-1))/(B39^(1.86-1)))*C39^(1.86)))^(1/1.86) -> 2879.1398 | D40: =((4170000000000*((('Reference tables'!$T$40)*('Reference tables'!$U$40))^0.5)*EXP((-67837/'No EGR'!C40)))/('No EGR'!$B$1*6))*'Reference tables'!$B$51 -> 4.9881494e-09 | E40: =((((B40^(1.86-1))/(B39^(1.86-1)))*E39^(1.86)))^(1/1.86) -> 3043.3149 | F40: =((4170000000000*((('Reference tables'!$T$41)*('Reference tables'!$U$41))^0.5)*EXP((-67837/'No EGR'!E40)))/('No EGR'!$B$1*6))*'Reference tables'!$B$51 -> 1.838811e-08 | G40: =((((B40^(1.86-1))/(B39^(1.86-1)))*G39^(1.86)))^(1/1.86) -> 3203.3818 | H40: =((4170000000000*((('Reference tables'!$T$42)*('Reference tables'!$U$42))^0.5)*EXP((-67837/'No EGR'!G40)))/('No EGR'!$B$1*6))*'Reference tables'!$B$51 -> 5.7753054e-08 | I40: =((((B40^(1.86-1))/(B39^(1.86-1)))*I39^(1.86)))^(1/1.86) -> 3360.9939 | J40: =((4170000000000*((('Reference tables'!$T$43)*('Reference tables'!$U$43))^0.5)*EXP((-67837/'No EGR'!I40)))/('No EGR'!$B$1*6))*'Reference tables'!$B$51 -> 1.6035465e-07 | K40: =((((B40^(1.86-1))/(B39^(1.86-1)))*K39^(1.86)))^(1/1.86) -> 3514.9945 | L40: =((4170000000000*((('Reference tables'!$T$44)*('Reference tables'!$U$44))^0.5)*EXP((-67837/'No EGR'!K40)))/('No EGR'!$B$1*6))*'Reference tables'!$B$51 -> 3.9847151e-07 | M40: =((((B40^(1.86-1))/(B39^(1.86-1)))*M39^(1.86)))^(1/1.86) -> 3666.3184 | N40: =((4170000000000*((('Reference tables'!$T$45)*('Reference tables'!$U$45))^0.5)*EXP((-67837/'No EGR'!M40)))/('No EGR'!$B$1*6))*'Reference tables'!$B$51 -> 9.0527155e-07 | O40: =((((B40^(1.86-1))/(B39^(1.86-1)))*O39^(1.86)))^(1/1.86) -> 3814.2473 | P40: =((4170000000000*((('Reference tables'!$T$46)*('Reference tables'!$U$46))^0.5)*EXP((-67837/'No EGR'!O40)))/('No EGR'!$B$1*6))*'Reference tables'!$B$51 -> 1.8972775e-06 | Q40: =((((B40^(1.86-1))/(B39^(1.86-1)))*Q39^(1.86)))^(1/1.86) -> 3959.6599 | R40: =((4170000000000*((('Reference tables'!$T$47)*('Reference tables'!$U$47))^0.5)*EXP((-67837/'No EGR'!Q40)))/('No EGR'!$B$1*6))*'Reference tables'!$B$51 -> 3.7224778e-06 | S40: =((((B40^(1.86-1))/(B39^(1.86-1)))*S39^(1.86)))^(1/1.86) -> 3988.3715 | T40: =((4170000000000*((('Reference tables'!$T$48)*('Reference tables'!$U$48))^0.5)*EXP((-67837/'No EGR'!S40)))/('No EGR'!$B$1*6))*'Reference tables'!$B$51 -> 4.2279662e-06 | U40: =((((B40^(1.86-1))/(B39^(1.86-1)))*U39^(1.86)))^(1/1.86) -> 4017.0497 | V40: =((4170000000000*((('Reference tables'!$T$49)*('Reference tables'!$U$49))^0.5)*EXP((-67837/'No EGR'!U40)))/('No EGR'!$B$1*6))*'Reference tables'!$B$51 -> 4.7927112e-06 | W40: =((((B40^(1.86-1))/(B39^(1.86-1)))*W39^(1.86)))^(1/1.86) -> 4045.6205 | X40: =((4170000000000*((('Reference tables'!$T$50)*('Reference tables'!$U$50))^0.5)*EXP((-67837/'No EGR'!W40)))/('No EGR'!$B$1*6))*'Reference tables'!$B$51 -> 5.4208529e-06 | Y40: =((((B40^(1.86-1))/(B39^(1.86-1)))*Y39^(1.86)))^(1/1.86) -> 4073.9871 | Z40: =((4170000000000*((('Reference tables'!$T$51)*('Reference tables'!$U$51))^0.5)*EXP((-67837/'No EGR'!Y40)))/('No EGR'!$B$1*6))*'Reference tables'!$B$51 -> 6.1156559e-06 | AA40: =((((B40^(1.86-1))/(B39^(1.86-1)))*AA39^(1.86)))^(1/1.86) -> 4102.2532 | AB40: =((4170000000000*((('Reference tables'!$T$51)*('Reference tables'!$U$51))^0.5)*EXP((-67837/'No EGR'!AA40)))/('No EGR'!$B$1*6))*'Reference tables'!$B$51 -> 6.8591655e-06
... A43: =A42+1 -> 15 | B43: =B42+2 -> 40 | C43: =((((B43^(1.86-1))/(B42^(1.86-1)))*C42^(1.86)))^(1/1.86) -> 3103.8235 | D43: =((4170000000000*((('Reference tables'!$T$40)*('Reference tables'!$U$40))^0.5)*EXP((-67837/'No EGR'!C43)))/('No EGR'!$B$1*6))*'Reference tables'!$B$51 -> 2.7458332e-08 | E43: =((((B43^(1.86-1))/(B42^(1.86-1)))*E42^(1.86)))^(1/1.86) -> 3280.8106 | F43: =((4170000000000*((('Reference tables'!$T$41)*('Reference tables'!$U$41))^0.5)*EXP((-67837/'No EGR'!E43)))/('No EGR'!$B$1*6))*'Reference tables'!$B$51 -> 9.2323446e-08 | G43: =((((B43^(1.86-1))/(B42^(1.86-1)))*G42^(1.86)))^(1/1.86) -> 3453.3688 | H43: =((4170000000000*((('Reference tables'!$T$42)*('Reference tables'!$U$42))^0.5)*EXP((-67837/'No EGR'!G43)))/('No EGR'!$B$1*6))*'Reference tables'!$B$51 -> 2.6750598e-07 | I43: =((((B43^(1.86-1))/(B42^(1.86-1)))*I42^(1.86)))^(1/1.86) -> 3623.2808 | J43: =((4170000000000*((('Reference tables'!$T$43)*('Reference tables'!$U$43))^0.5)*EXP((-67837/'No EGR'!I43)))/('No EGR'!$B$1*6))*'Reference tables'!$B$51 -> 6.9122538e-07 | K43: =((((B43^(1.86-1))/(B42^(1.86-1)))*K42^(1.86)))^(1/1.86) -> 3789.2993 | L43: =((4170000000000*((('Reference tables'!$T$44)*('Reference tables'!$U$44))^0.5)*EXP((-67837/'No EGR'!K43)))/('No EGR'!$B$1*6))*'Reference tables'!$B$51 -> 1.6111454e-06 | M43: =((((B43^(1.86-1))/(B42^(1.86-1)))*M42^(1.86)))^(1/1.86) -> 3952.4323 | N43: =((4170000000000*((('Reference tables'!$T$45)*('Reference tables'!$U$45))^0.5)*EXP((-67837/'No EGR'!M43)))/('No EGR'!$B$1*6))*'Reference tables'!$B$51 -> 3.4552047e-06 | O43: =((((B43^(1.86-1))/(B42^(1.86-1)))*O42^(1.86)))^(1/1.86) -> 4111.9053 | P43: =((4170000000000*((('Reference tables'!$T$46)*('Reference tables'!$U$46))^0.5)*EXP((-67837/'No EGR'!O43)))/('No EGR'!$B$1*6))*'Reference tables'!$B$51 -> 6.8748898e-06 | Q43: =((((B43^(1.86-1))/(B42^(1.86-1)))*Q42^(1.86)))^(1/1.86) -> 4268.6657 | R43: =((4170000000000*((('Reference tables'!$T$47)*('Reference tables'!$U$47))^0.5)*EXP((-67837/'No EGR'!Q43)))/('No EGR'!$B$1*6))*'Reference tables'!$B$51 -> 1.2865706e-05 | S43: =((((B43^(1.86-1))/(B42^(1.86-1)))*S42^(1.86)))^(1/1.86) -> 4299.618 | T43: =((4170000000000*((('Reference tables'!$T$48)*('Reference tables'!$U$48))^0.5)*EXP((-67837/'No EGR'!S43)))/('No EGR'!$B$1*6))*'Reference tables'!$B$51 -> 1.4482906e-05 | U43: =((((B43^(1.86-1))/(B42^(1.86-1)))*U42^(1.86)))^(1/1.86) -> 4330.5342 | V43: =((4170000000000*((('Reference tables'!$T$49)*('Reference tables'!$U$49))^0.5)*EXP((-67837/'No EGR'!U43)))/('No EGR'!$B$1*6))*'Reference tables'!$B$51 -> 1.6273764e-05 | W43: =((((B43^(1.86-1))/(B42^(1.86-1)))*W42^(1.86)))^(1/1.86) -> 4361.3346 | X43: =((4170000000000*((('Reference tables'!$T$50)*('Reference tables'!$U$50))^0.5)*EXP((-67837/'No EGR'!W43)))/('No EGR'!$B$1*6))*'Reference tables'!$B$51 -> 1.824841e-05 | Y43: =((((B43^(1.86-1))/(B42^(1.86-1)))*Y42^(1.86)))^(1/1.86) -> 4391.9148 | Z43: =((4170000000000*((('Reference tables'!$T$51)*('Reference tables'!$U$51))^0.5)*EXP((-67837/'No EGR'!Y43)))/('No EGR'!$B$1*6))*'Reference tables'!$B$51 -> 2.0414085e-05 | AA43: =((((B43^(1.86-1))/(B42^(1.86-1)))*AA42^(1.86)))^(1/1.86) -> 4422.3868 | AB43: =((4170000000000*((('Reference tables'!$T$51)*('Reference tables'!$U$51))^0.5)*EXP((-67837/'No EGR'!AA43)))/('No EGR'!$B$1*6))*'Reference tables'!$B$51 -> 2.2706549e-05
C44: =(D44/'Reference tables'!J48)*1000000 -> 85359.099 | D44: =SUM(D28:D43) -> 6.2581709e-08 | E44: =(F44/'Reference tables'!J49)*1000000 -> 291147.14 | F44: =SUM(F28:F43) -> 2.1822198e-07 | G44: =(H44/'Reference tables'!J50)*1000000 -> 854283.29 | H44: =SUM(H28:H43) -> 6.5410995e-07 | I44: =(J44/'Reference tables'!J51)*1000000 -> 2232658.1 | J44: =SUM(J28:J43) -> 1.745126e-06 | K44: =(L44/'Reference tables'!J52)*1000000 -> 5256474 | L44: =SUM(L28:L43) -> 4.1914517e-06 | M44: =(N44/'Reference tables'!J53)*1000000 -> 11374849 | N44: =SUM(N28:N43) -> 9.2471135e-06 | O44: =(P44/'Reference tables'!J54)*1000000 -> 22813454 | P44: =SUM(P28:P43) -> 1.8896516e-05 | Q44: =(R44/'Reference tables'!J55)*1000000 -> 42999307 | R44: =SUM(R28:R43) -> 3.6268967e-05 | S44: =(T44/'Reference tables'!J56)*1000000 -> 48468507 | T44: =SUM(T28:T43) -> 4.1028101e-05 | U44: =(V44/'Reference tables'!J57)*1000000 -> 54533134 | V44: =SUM(V28:V43) -> 4.6325594e-05 | W44: =(X44/'Reference tables'!J58)*1000000 -> 61228437 | X44: =SUM(X28:X43) -> 5.2196727e-05 | Y44: =(Z44/'Reference tables'!J59)*1000000 -> 68579479 | Z44: =SUM(Z28:Z43) -> 5.8668464e-05 | AA44: =(AB44/'Reference tables'!J60)*1000000 -> 76372975 | AB44: =SUM(AB28:AB43) -> 6.5563432e-05
C45: =C44 -> 85359.099 | E45: =E44 -> 291147.14 | G45: =G44 -> 854283.29 | I45: =I44 -> 2232658.1 | K45: =K44 -> 5256474 | M45: =M44 -> 11374849 | O45: =O44 -> 22813454 | Q45: =Q44 -> 42999307 | S45: =S44 -> 48468507 | U45: =U44 -> 54533134 | W45: =W44 -> 61228437 | Y45: =Y44 -> 68579479 | AA45: =AA44 -> 76372975

Sheet With EGR
A1: EGR @ 0.97Φ
A2: EGR % | B2: n₁ | C2: n₂ | D2: n₃ | E2: n₄ | F2: Total KMols | G2: Enthalpy | H2: N₂ | I2: O₂ | J2: T at start | K2: Fuel KMols | L2: Avg Nox
A3: 0 | B3: 7.76 | C3: 8.73 | D3: 0.75 | E3: 47 | F3: 2.2346065e-05 | G3: 4913.05 | H3: ='Reference tables'!X49 -> 0.40872705 | I3: ='Reference tables'!Y49 -> 0.0065222402 | J3: =C19 -> 2337.995 | K3: =(100000*0.00004)/(8314*J3) -> 2.0578153e-07 | L3: =C35 -> 4.5343139e-06
A4: =A3+2 -> 2 | B4: =$B$3*1.02 -> 7.9152 | C4: =$C$3*1.02 -> 8.9046 | D4: =$D$3*1.02 -> 0.765 | E4: =$E$3*1.02 -> 47.94 | F4: 2.2792986e-05 | G4: 4914.328 | H4: =('Reference tables'!$W$49*'With EGR'!E4)/'Reference tables'!$B$51 -> 0.4169016 | I4: =('Reference tables'!$W$49*'With EGR'!D4)/'Reference tables'!$B$51 -> 0.006652685 | J4: 2297.1427 | K4: =(100000*0.00004)/(8314*J4) -> 2.0944114e-07 | L4: =E35 -> 3.3564536e-06
A5: =A4+2 -> 4 | B5: =B4+($B$3*0.02) -> 8.0704 | C5: =C4+($C$3*0.02) -> 9.0792 | D5: =D4+($D$3*0.02) -> 0.78 | E5: =E4+($E$3*0.02) -> 48.88 | F5: 2.3239907e-05 | G5: 4915.363 | H5: =('Reference tables'!$W$49*'With EGR'!E5)/'Reference tables'!$B$51 -> 0.42507614 | I5: =('Reference tables'!$W$49*'With EGR'!D5)/'Reference tables'!$B$51 -> 0.0067831298 | J5: 2262.9604 | K5: =(100000*0.00004)/(8314*J5) -> 2.1260478e-07 | L5: =G35 -> 2.5943423e-06
A6: =A5+2 -> 6 | B6: =B5+($B$3*0.02) -> 8.2256 | C6: =C5+($C$3*0.02) -> 9.2538 | D6: =D5+($D$3*0.02) -> 0.795 | E6: =E5+($E$3*0.02) -> 49.82 | F6: 2.3686829e-05 | G6: 4917.034 | H6: =('Reference tables'!$W$49*'With EGR'!E6)/'Reference tables'!$B$51 -> 0.43325068 | I6: =('Reference tables'!$W$49*'With EGR'!D6)/'Reference tables'!$B$51 -> 0.0069135746 | J6: 2229.8852 | K6: =(100000*0.00004)/(8314*J6) -> 2.1575827e-07 | L6: =I35 -> 2.006626e-06
A7: =A6+2 -> 8 | B7: =B6+($B$3*0.02) -> 8.3808 | C7: =C6+($C$3*0.02) -> 9.4284 | D7: =D6+($D$3*0.02) -> 0.81 | E7: =E6+($E$3*0.02) -> 50.76 | F7: 2.413375e-05 | G7: 4918.07 | H7: =('Reference tables'!$W$49*'With EGR'!E7)/'Reference tables'!$B$51 -> 0.44142522 | I7: =('Reference tables'!$W$49*'With EGR'!D7)/'Reference tables'!$B$51 -> 0.0070440195 | J7: 2198.2022 | K7: =(100000*0.00004)/(8314*J7) -> 2.1886803e-07 | L7: =K35 -> 1.5576767e-06
A8: =A7+2 -> 10 | B8: =B7+($B$3*0.02) -> 8.536 | C8: =C7+($C$3*0.02) -> 9.603 | D8: =D7+($D$3*0.02) -> 0.825 | E8: =E7+($E$3*0.02) -> 51.7 | F8: 2.4580671e-05 | G8: 4919.347 | H8: =('Reference tables'!$W$49*'With EGR'!E8)/'Reference tables'!$B$51 -> 0.44959976 | I8: =('Reference tables'!$W$49*'With EGR'!D8)/'Reference tables'!$B$51 -> 0.0071744643 | J8: 2167.5548 | K8: =(100000*0.00004)/(8314*J8) -> 2.2196264e-07 | L8: =M35 -> 1.2105332e-06
A9: =A8+2 -> 12 | B9: =B8+($B$3*0.02) -> 8.6912 | C9: =C8+($C$3*0.02) -> 9.7776 | D9: =D8+($D$3*0.02) -> 0.84 | E9: =E8+($E$3*0.02) -> 52.64 | F9: 2.5027592e-05 | G9: 4920.625 | H9: =('Reference tables'!$W$49*'With EGR'!E9)/'Reference tables'!$B$51 -> 0.4577743 | I9: =('Reference tables'!$W$49*'With EGR'!D9)/'Reference tables'!$B$51 -> 0.0073049091 | J9: 2138.0092 | K9: =(100000*0.00004)/(8314*J9) -> 2.2502999e-07 | L9: =O35 -> 9.4281522e-07
A10: =A9+2 -> 14 | B10: =B9+($B$3*0.02) -> 8.8464 | C10: =C9+($C$3*0.02) -> 9.9522 | D10: =D9+($D$3*0.02) -> 0.855 | E10: =E9+($E$3*0.02) -> 53.58 | F10: 2.5474514e-05 | G10: 4719.267 | H10: =('Reference tables'!$W$49*'With EGR'!E10)/'Reference tables'!$B$51 -> 0.46594884 | I10: =('Reference tables'!$W$49*'With EGR'!D10)/'Reference tables'!$B$51 -> 0.0074353539 | J10: 2109.3963 | K10: =(100000*0.00004)/(8314*J10) -> 2.2808241e-07 | L10: =Q35 -> 7.3512619e-07
A11: =A10+2 -> 16 | B11: =B10+($B$3*0.02) -> 9.0016 | C11: =C10+($C$3*0.02) -> 10.1268 | D11: =D10+($D$3*0.02) -> 0.87 | E11: =E10+($E$3*0.02) -> 54.52 | F11: 2.5921435e-05 | G11: 4923.332 | H11: =('Reference tables'!$W$49*'With EGR'!E11)/'Reference tables'!$B$51 -> 0.47412338 | I11: =('Reference tables'!$W$49*'With EGR'!D11)/'Reference tables'!$B$51 -> 0.0075657987 | J11: 2082.2584 | K11: =(100000*0.00004)/(8314*J11) -> 2.3105499e-07 | L11: =S35 -> 5.7709162e-07
A12: =A11+2 -> 18 | B12: =B11+($B$3*0.02) -> 9.1568 | C12: =C11+($C$3*0.02) -> 10.3014 | D12: =D11+($D$3*0.02) -> 0.885 | E12: =E11+($E$3*0.02) -> 55.46 | F12: 2.6368356e-05 | G12: 4924.367 | H12: =('Reference tables'!$W$49*'With EGR'!E12)/'Reference tables'!$B$51 -> 0.48229792 | I12: =('Reference tables'!$W$49*'With EGR'!D12)/'Reference tables'!$B$51 -> 0.0076962435 | J12: 2055.1205 | K12: =(100000*0.00004)/(8314*J12) -> 2.3410608e-07 | L12: =U35 -> 4.4985937e-07
A13: =A12+2 -> 20 | B13: =B12+($B$3*0.02) -> 9.312 | C13: =C12+($C$3*0.02) -> 10.476 | D13: =D12+($D$3*0.02) -> 0.9 | E13: =E12+($E$3*0.02) -> 56.4 | F13: 2.6815278e-05 | G13: 4925.6448 | H13: =('Reference tables'!$W$49*'With EGR'!E13)/'Reference tables'!$B$51 -> 0.49047247 | I13: =('Reference tables'!$W$49*'With EGR'!D13)/'Reference tables'!$B$51 -> 0.0078266883 | J13: 2029.0181 | K13: =(100000*0.00004)/(8314*J13) -> 2.3711775e-07 | L13: =W35 -> 3.518274e-07
A15: Iso-octane
B16: EGR % | C16: 0 | E16: =C16+2 -> 2 | G16: =E16+2 -> 4 | I16: =G16+2 -> 6 | K16: =I16+2 -> 8 | M16: =K16+2 -> 10 | O16: =M16+2 -> 12 | Q16: =O16+2 -> 14 | S16: =Q16+2 -> 16 | U16: =S16+2 -> 18 | W16: =U16+2 -> 20
A17: Crank Angle | B17: Pressure | C17: Temperature | D17: NoX | E17: Temperature | F17: NoX | G17: Temperature | H17: NoX | I17: Temperature | J17: NoX | K17: Temperature | L17: NoX | M17: Temperature | N17: NoX | O17: Temperature | P17: NoX | Q17: Temperature | R17: NoX | S17: Temperature | T17: NoX | U17: Temperature | V17: NoX | W17: Temperature | X17: NoX
A18: Degrees | B18: Bar | C18: K | D18: Kmol/° | E18: K | F18: Kmol/° | G18: K | H18: Kmol/° | I18: K | J18: Kmol/° | K18: K | L18: Kmol/° | M18: K | N18: Kmol/° | O18: K | P18: Kmol/° | Q18: K | R18: Kmol/° | S18: K | T18: Kmol/° | U18: K | V18: Kmol/° | W18: K | X18: Kmol/°
A19: 0 | B19: 10 | C19: 2337.995 | D19: 1.9981084e-10 | E19: 2297.1427 | F19: =((4170000000000*((($H$4)*($I$4))^0.5)*EXP((-67837/E19)))/(1800*6))*0.00004 -> 1.2165293e-10 | G19: 2262.9604 | H19: =((4170000000000*((($H$5)*($I$5))^0.5)*EXP((-67837/G19)))/(1800*6))*0.00004 -> 7.9401694e-11 | I19: 2229.8852 | J19: =((4170000000000*((($H$6)*($I$6))^0.5)*EXP((-67837/I19)))/(1800*6))*0.00004 -> 5.1879686e-11 | K19: 2198.2022 | L19: =((4170000000000*((($H$7)*($I$7))^0.5)*EXP((-67837/K19)))/(1800*6))*0.00004 -> 3.4094825e-11 | M19: 2167.5548 | N19: =((4170000000000*((($H$8)*($I$8))^0.5)*EXP((-67837/M19)))/(1800*6))*0.00004 -> 2.2447013e-11 | O19: 2138.0092 | P19: =((4170000000000*((($H$9)*($I$9))^0.5)*EXP((-67837/O19)))/(1800*6))*0.00004 -> 1.4830443e-11 | Q19: 2109.3963 | R19: =((4170000000000*((($H$10)*($I$10))^0.5)*EXP((-67837/Q19)))/(1800*6))*0.00004 -> 9.8157977e-12 | S19: 2082.2584 | T19: =((4170000000000*((($H$11)*($I$11))^0.5)*EXP((-67837/S19)))/(1800*6))*0.00004 -> 6.5682885e-12 | U19: 2055.1205 | V19: =((4170000000000*((($H$12)*($I$12))^0.5)*EXP((-67837/U19)))/(1800*6))*0.00004 -> 4.3455264e-12 | W19: 2029.0181 | X19: =((4170000000000*((($H$13)*($I$13))^0.5)*EXP((-67837/W19)))/(1800*6))*0.00004 -> 2.8901577e-12
A20: =A19+1 -> 1 | B20: =B19+2 -> 12 | C20: =(((B20^(1.59-1))/(B19^(1.59-1)))*C19^(1.59))^(1/1.59) -> 2501.6428 | D20: 1.3333133e-09 | E20: =((((B20^(1.59-1))/(B19^(1.59-1)))*E19^(1.59)))^(1/1.59) -> 2457.9311 | F20: =((4170000000000*((($H$4)*($I$4))^0.5)*EXP((-67837/E20)))/(1800*6))*0.00004 -> 8.3964414e-10 | G20: =((((B20^(1.59-1))/(B19^(1.59-1)))*G19^(1.59)))^(1/1.59) -> 2421.3562 | H20: =((4170000000000*((($H$5)*($I$5))^0.5)*EXP((-67837/G20)))/(1800*6))*0.00004 -> 5.6425481e-10 | I20: =((((B20^(1.59-1))/(B19^(1.59-1)))*I19^(1.59)))^(1/1.59) -> 2385.9659 | J20: =((4170000000000*((($H$6)*($I$6))^0.5)*EXP((-67837/I20)))/(1800*6))*0.00004 -> 3.7955527e-10 | K20: =((((B20^(1.59-1))/(B19^(1.59-1)))*K19^(1.59)))^(1/1.59) -> 2352.0652 | L20: =((4170000000000*((($H$7)*($I$7))^0.5)*EXP((-67837/K20)))/(1800*6))*0.00004 -> 2.5669838e-10 | M20: =((((B20^(1.59-1))/(B19^(1.59-1)))*M19^(1.59)))^(1/1.59) -> 2319.2727 | N20: =((4170000000000*((($H$8)*($I$8))^0.5)*EXP((-67837/M20)))/(1800*6))*0.00004 -> 1.7389596e-10 | O20: =((((B20^(1.59-1))/(B19^(1.59-1)))*O19^(1.59)))^(1/1.59) -> 2287.659 | P20: =((4170000000000*((($H$9)*($I$9))^0.5)*EXP((-67837/O20)))/(1800*6))*0.00004 -> 1.1818767e-10 | Q20: =((((B20^(1.59-1))/(B19^(1.59-1)))*Q19^(1.59)))^(1/1.59) -> 2257.0433 | R20: =((4170000000000*((($H$10)*($I$10))^0.5)*EXP((-67837/Q20)))/(1800*6))*0.00004 -> 8.0458313e-11 | S20: =((((B20^(1.59-1))/(B19^(1.59-1)))*S19^(1.59)))^(1/1.59) -> 2228.0059 | T20: =((4170000000000*((($H$11)*($I$11))^0.5)*EXP((-67837/S20)))/(1800*6))*0.00004 -> 5.533565e-11 | U20: =((((B20^(1.59-1))/(B19^(1.59-1)))*U19^(1.59)))^(1/1.59) -> 2198.9685 | V20: =((4170000000000*((($H$12)*($I$12))^0.5)*EXP((-67837/U20)))/(1800*6))*0.00004 -> 3.7654522e-11 | W20: =((((B20^(1.59-1))/(B19^(1.59-1)))*W19^(1.59)))^(1/1.59) -> 2171.039 | X20: =((4170000000000*((($H$13)*($I$13))^0.5)*EXP((-67837/W20)))/(1800*6))*0.00004 -> 2.5748998e-11
A21: =A20+1 -> 2 | B21: =B20+2 -> 14 | C21: =(((B21^(1.59-1))/(B20^(1.59-1)))*C20^(1.59))^(1/1.59) -> 2648.9099 | D21: 6.0209527e-09 | E21: =((((B21^(1.59-1))/(B20^(1.59-1)))*E20^(1.59)))^(1/1.59) -> 2602.625 | F21: =((4170000000000*((($H$4)*($I$4))^0.5)*EXP((-67837/E21)))/(1800*6))*0.00004 -> 3.894682e-09 | G21: =((((B21^(1.59-1))/(B20^(1.59-1)))*G20^(1.59)))^(1/1.59) -> 2563.897 | H21: =((4170000000000*((($H$5)*($I$5))^0.5)*EXP((-67837/G21)))/(1800*6))*0.00004 -> 2.6786609e-09 | I21: =((((B21^(1.59-1))/(B20^(1.59-1)))*I20^(1.59)))^(1/1.59) -> 2526.4233 | J21: =((4170000000000*((($H$6)*($I$6))^0.5)*EXP((-67837/I21)))/(1800*6))*0.00004 -> 1.8439576e-09 | K21: =((((B21^(1.59-1))/(B20^(1.59-1)))*K20^(1.59)))^(1/1.59) -> 2490.527 | L21: =((4170000000000*((($H$7)*($I$7))^0.5)*EXP((-67837/K21)))/(1800*6))*0.00004 -> 1.2758316e-09 | M21: =((((B21^(1.59-1))/(B20^(1.59-1)))*M20^(1.59)))^(1/1.59) -> 2455.804 | N21: =((4170000000000*((($H$8)*($I$8))^0.5)*EXP((-67837/M21)))/(1800*6))*0.00004 -> 8.8410896e-10 | O21: =((((B21^(1.59-1))/(B20^(1.59-1)))*O20^(1.59)))^(1/1.59) -> 2422.3293 | P21: =((4170000000000*((($H$9)*($I$9))^0.5)*EXP((-67837/O21)))/(1800*6))*0.00004 -> 6.1453669e-10 | Q21: =((((B21^(1.59-1))/(B20^(1.59-1)))*Q20^(1.59)))^(1/1.59) -> 2389.9113 | R21: =((4170000000000*((($H$10)*($I$10))^0.5)*EXP((-67837/Q21)))/(1800*6))*0.00004 -> 4.2781737e-10 | S21: =((((B21^(1.59-1))/(B20^(1.59-1)))*S20^(1.59)))^(1/1.59) -> 2359.1645 | T21: =((4170000000000*((($H$11)*($I$11))^0.5)*EXP((-67837/S21)))/(1800*6))*0.00004 -> 3.0071171e-10 | U21: =((((B21^(1.59-1))/(B20^(1.59-1)))*U20^(1.59)))^(1/1.59) -> 2328.4177 | V21: =((4170000000000*((($H$12)*($I$12))^0.5)*EXP((-67837/U21)))/(1800*6))*0.00004 -> 2.0925222e-10 | W21: =((((B21^(1.59-1))/(B20^(1.59-1)))*W20^(1.59)))^(1/1.59) -> 2298.8441 | X21: =((4170000000000*((($H$13)*($I$13))^0.5)*EXP((-67837/W21)))/(1800*6))*0.00004 -> 1.4628354e-10
A22: =A21+1 -> 3 | B22: =B21+2 -> 16 | C22: =(((B22^(1.59-1))/(B21^(1.59-1)))*C21^(1.59))^(1/1.59) -> 2783.4679 | D22: 2.0764632e-08 | E22: =((((B22^(1.59-1))/(B21^(1.59-1)))*E21^(1.59)))^(1/1.59) -> 2734.8318 | F22: =((4170000000000*((($H$4)*($I$4))^0.5)*EXP((-67837/E22)))/(1800*6))*0.00004 -> 1.3730701e-08 | G22: =((((B22^(1.59-1))/(B21^(1.59-1)))*G21^(1.59)))^(1/1.59) -> 2694.1365 | H22: =((4170000000000*((($H$5)*($I$5))^0.5)*EXP((-67837/G22)))/(1800*6))*0.00004 -> 9.6250789e-09 | I22: =((((B22^(1.59-1))/(B21^(1.59-1)))*I21^(1.59)))^(1/1.59) -> 2654.7593 | J22: =((4170000000000*((($H$6)*($I$6))^0.5)*EXP((-67837/I22)))/(1800*6))*0.00004 -> 6.7526906e-09 | K22: =((((B22^(1.59-1))/(B21^(1.59-1)))*K21^(1.59)))^(1/1.59) -> 2617.0395 | L22: =((4170000000000*((($H$7)*($I$7))^0.5)*EXP((-67837/K22)))/(1800*6))*0.00004 -> 4.7604097e-09 | M22: =((((B22^(1.59-1))/(B21^(1.59-1)))*M21^(1.59)))^(1/1.59) -> 2580.5526 | N22: =((4170000000000*((($H$8)*($I$8))^0.5)*EXP((-67837/M22)))/(1800*6))*0.00004 -> 3.3607969e-09 | O22: =((((B22^(1.59-1))/(B21^(1.59-1)))*O21^(1.59)))^(1/1.59) -> 2545.3775 | P22: =((4170000000000*((($H$9)*($I$9))^0.5)*EXP((-67837/O22)))/(1800*6))*0.00004 -> 2.3795704e-09 | Q22: =((((B22^(1.59-1))/(B21^(1.59-1)))*Q21^(1.59)))^(1/1.59) -> 2511.3128 | R22: =((4170000000000*((($H$10)*($I$10))^0.5)*EXP((-67837/Q22)))/(1800*6))*0.00004 -> 1.6872694e-09 | S22: =((((B22^(1.59-1))/(B21^(1.59-1)))*S21^(1.59)))^(1/1.59) -> 2479.0041 | T22: =((4170000000000*((($H$11)*($I$11))^0.5)*EXP((-67837/S22)))/(1800*6))*0.00004 -> 1.2073773e-09 | U22: =((((B22^(1.59-1))/(B21^(1.59-1)))*U21^(1.59)))^(1/1.59) -> 2446.6955 | V22: =((4170000000000*((($H$12)*($I$12))^0.5)*EXP((-67837/U22)))/(1800*6))*0.00004 -> 8.5572558e-10 | W22: =((((B22^(1.59-1))/(B21^(1.59-1)))*W21^(1.59)))^(1/1.59) -> 2415.6196 | X22: =((4170000000000*((($H$13)*($I$13))^0.5)*EXP((-67837/W22)))/(1800*6))*0.00004 -> 6.0915624e-10
A23: =A22+1 -> 4 | B23: =B22+2 -> 18 | C23: =(((B23^(1.59-1))/(B22^(1.59-1)))*C22^(1.59))^(1/1.59) -> 2907.8188 | D23: 5.8878589e-08 | E23: =((((B23^(1.59-1))/(B22^(1.59-1)))*E22^(1.59)))^(1/1.59) -> 2857.0099 | F23: =((4170000000000*((($H$4)*($I$4))^0.5)*EXP((-67837/E23)))/(1800*6))*0.00004 -> 3.966208e-08 | G23: =((((B23^(1.59-1))/(B22^(1.59-1)))*G22^(1.59)))^(1/1.59) -> 2814.4965 | H23: =((4170000000000*((($H$5)*($I$5))^0.5)*EXP((-67837/G23)))/(1800*6))*0.00004 -> 2.8251775e-08 | I23: =((((B23^(1.59-1))/(B22^(1.59-1)))*I22^(1.59)))^(1/1.59) -> 2773.3602 | J23: =((4170000000000*((($H$6)*($I$6))^0.5)*EXP((-67837/I23)))/(1800*6))*0.00004 -> 2.0139777e-08 | K23: =((((B23^(1.59-1))/(B22^(1.59-1)))*K22^(1.59)))^(1/1.59) -> 2733.9552 | L23: =((4170000000000*((($H$7)*($I$7))^0.5)*EXP((-67837/K23)))/(1800*6))*0.00004 -> 1.4423223e-08 | M23: =((((B23^(1.59-1))/(B22^(1.59-1)))*M22^(1.59)))^(1/1.59) -> 2695.8383 | N23: =((4170000000000*((($H$8)*($I$8))^0.5)*EXP((-67837/M23)))/(1800*6))*0.00004 -> 1.034349e-08 | O23: =((((B23^(1.59-1))/(B22^(1.59-1)))*O22^(1.59)))^(1/1.59) -> 2659.0918 | P23: =((4170000000000*((($H$9)*($I$9))^0.5)*EXP((-67837/O23)))/(1800*6))*0.00004 -> 7.4382415e-09 | Q23: =((((B23^(1.59-1))/(B22^(1.59-1)))*Q22^(1.59)))^(1/1.59) -> 2623.5052 | R23: =((4170000000000*((($H$10)*($I$10))^0.5)*EXP((-67837/Q23)))/(1800*6))*0.00004 -> 5.3563651e-09 | S23: =((((B23^(1.59-1))/(B22^(1.59-1)))*S22^(1.59)))^(1/1.59) -> 2589.7532 | T23: =((4170000000000*((($H$11)*($I$11))^0.5)*EXP((-67837/S23)))/(1800*6))*0.00004 -> 3.8910534e-09 | U23: =((((B23^(1.59-1))/(B22^(1.59-1)))*U22^(1.59)))^(1/1.59) -> 2556.0011 | V23: =((4170000000000*((($H$12)*($I$12))^0.5)*EXP((-67837/U23)))/(1800*6))*0.00004 -> 2.8007208e-09 | W23: =((((B23^(1.59-1))/(B22^(1.59-1)))*W22^(1.59)))^(1/1.59) -> 2523.537 | X23: =((4170000000000*((($H$13)*($I$13))^0.5)*EXP((-67837/W23)))/(1800*6))*0.00004 -> 2.024363e-09
A24: =A23+1 -> 5 | B24: =B23+2 -> 20 | C24: =(((B24^(1.59-1))/(B23^(1.59-1)))*C23^(1.59))^(1/1.59) -> 3023.7545 | D24: 1.4402062e-07 | E24: =((((B24^(1.59-1))/(B23^(1.59-1)))*E23^(1.59)))^(1/1.59) -> 2970.9199 | F24: =((4170000000000*((($H$4)*($I$4))^0.5)*EXP((-67837/E24)))/(1800*6))*0.00004 -> 9.8571471e-08 | G24: =((((B24^(1.59-1))/(B23^(1.59-1)))*G23^(1.59)))^(1/1.59) -> 2926.7115 | H24: =((4170000000000*((($H$5)*($I$5))^0.5)*EXP((-67837/G24)))/(1800*6))*0.00004 -> 7.1185854e-08 | I24: =((((B24^(1.59-1))/(B23^(1.59-1)))*I23^(1.59)))^(1/1.59) -> 2883.935 | J24: =((4170000000000*((($H$6)*($I$6))^0.5)*EXP((-67837/I24)))/(1800*6))*0.00004 -> 5.1446483e-08 | K24: =((((B24^(1.59-1))/(B23^(1.59-1)))*K23^(1.59)))^(1/1.59) -> 2842.959 | L24: =((4170000000000*((($H$7)*($I$7))^0.5)*EXP((-67837/K24)))/(1800*6))*0.00004 -> 3.7345119e-08 | M24: =((((B24^(1.59-1))/(B23^(1.59-1)))*M23^(1.59)))^(1/1.59) -> 2803.3224 | N24: =((4170000000000*((($H$8)*($I$8))^0.5)*EXP((-67837/M24)))/(1800*6))*0.00004 -> 2.7144417e-08 | O24: =((((B24^(1.59-1))/(B23^(1.59-1)))*O23^(1.59)))^(1/1.59) -> 2765.1107 | P24: =((4170000000000*((($H$9)*($I$9))^0.5)*EXP((-67837/O24)))/(1800*6))*0.00004 -> 1.9782179e-08 | Q24: =((((B24^(1.59-1))/(B23^(1.59-1)))*Q23^(1.59)))^(1/1.59) -> 2728.1053 | R24: =((4170000000000*((($H$10)*($I$10))^0.5)*EXP((-67837/Q24)))/(1800*6))*0.00004 -> 1.4435648e-08 | S24: =((((B24^(1.59-1))/(B23^(1.59-1)))*S23^(1.59)))^(1/1.59) -> 2693.0076 | T24: =((4170000000000*((($H$11)*($I$11))^0.5)*EXP((-67837/S24)))/(1800*6))*0.00004 -> 1.0622943e-08 | U24: =((((B24^(1.59-1))/(B23^(1.59-1)))*U23^(1.59)))^(1/1.59) -> 2657.9098 | V24: =((4170000000000*((($H$12)*($I$12))^0.5)*EXP((-67837/U24)))/(1800*6))*0.00004 -> 7.7483137e-09 | W24: =((((B24^(1.59-1))/(B23^(1.59-1)))*W23^(1.59)))^(1/1.59) -> 2624.1513 | X24: =((4170000000000*((($H$13)*($I$13))^0.5)*EXP((-67837/W24)))/(1800*6))*0.00004 -> 5.6742845e-09
A25: =A24+1 -> 6 | B25: =B24+2 -> 22 | C25: =(((B25^(1.59-1))/(B24^(1.59-1)))*C24^(1.59))^(1/1.59) -> 3132.6082 | D25: 3.1404306e-07 | E25: =((((B25^(1.59-1))/(B24^(1.59-1)))*E24^(1.59)))^(1/1.59) -> 3077.8715 | F25: =((4170000000000*((($H$4)*($I$4))^0.5)*EXP((-67837/E25)))/(1800*6))*0.00004 -> 2.1793991e-07 | G25: =((((B25^(1.59-1))/(B24^(1.59-1)))*G24^(1.59)))^(1/1.59) -> 3032.0717 | H25: =((4170000000000*((($H$5)*($I$5))^0.5)*EXP((-67837/G25)))/(1800*6))*0.00004 -> 1.5928844e-07 | I25: =((((B25^(1.59-1))/(B24^(1.59-1)))*I24^(1.59)))^(1/1.59) -> 2987.7553 | J25: =((4170000000000*((($H$6)*($I$6))^0.5)*EXP((-67837/I25)))/(1800*6))*0.00004 -> 1.1650232e-07 | K25: =((((B25^(1.59-1))/(B24^(1.59-1)))*K24^(1.59)))^(1/1.59) -> 2945.3041 | L25: =((4170000000000*((($H$7)*($I$7))^0.5)*EXP((-67837/K25)))/(1800*6))*0.00004 -> 8.557149e-08 | M25: =((((B25^(1.59-1))/(B24^(1.59-1)))*M24^(1.59)))^(1/1.59) -> 2904.2406 | N25: =((4170000000000*((($H$8)*($I$8))^0.5)*EXP((-67837/M25)))/(1800*6))*0.00004 -> 6.2931372e-08 | O25: =((((B25^(1.59-1))/(B24^(1.59-1)))*O24^(1.59)))^(1/1.59) -> 2864.6533 | P25: =((4170000000000*((($H$9)*($I$9))^0.5)*EXP((-67837/O25)))/(1800*6))*0.00004 -> 4.6398872e-08 | Q25: =((((B25^(1.59-1))/(B24^(1.59-1)))*Q24^(1.59)))^(1/1.59) -> 2826.3158 | R25: =((4170000000000*((($H$10)*($I$10))^0.5)*EXP((-67837/Q25)))/(1800*6))*0.00004 -> 3.4252446e-08 | S25: =((((B25^(1.59-1))/(B24^(1.59-1)))*S24^(1.59)))^(1/1.59) -> 2789.9545 | T25: =((4170000000000*((($H$11)*($I$11))^0.5)*EXP((-67837/S25)))/(1800*6))*0.00004 -> 2.5491232e-08 | U25: =((((B25^(1.59-1))/(B24^(1.59-1)))*U24^(1.59)))^(1/1.59) -> 2753.5932 | V25: =((4170000000000*((($H$12)*($I$12))^0.5)*EXP((-67837/U25)))/(1800*6))*0.00004 -> 1.8809317e-08 | W25: =((((B25^(1.59-1))/(B24^(1.59-1)))*W24^(1.59)))^(1/1.59) -> 2718.6194 | X25: =((4170000000000*((($H$13)*($I$13))^0.5)*EXP((-67837/W25)))/(1800*6))*0.00004 -> 1.3932592e-08
A26: =A25+1 -> 7 | B26: =B25+2 -> 24 | C26: =(((B26^(1.59-1))/(B25^(1.59-1)))*C25^(1.59))^(1/1.59) -> 3235.402 | D26: 6.2487226e-07 | E26: =((((B26^(1.59-1))/(B25^(1.59-1)))*E25^(1.59)))^(1/1.59) -> 3178.8692 | F26: =((4170000000000*((($H$4)*($I$4))^0.5)*EXP((-67837/E26)))/(1800*6))*0.00004 -> 4.3898805e-07 | G26: =((((B26^(1.59-1))/(B25^(1.59-1)))*G25^(1.59)))^(1/1.59) -> 3131.5664 | H26: =((4170000000000*((($H$5)*($I$5))^0.5)*EXP((-67837/G26)))/(1800*6))*0.00004 -> 3.2426038e-07 | I26: =((((B26^(1.59-1))/(B25^(1.59-1)))*I25^(1.59)))^(1/1.59) -> 3085.7958 | J26: =((4170000000000*((($H$6)*($I$6))^0.5)*EXP((-67837/I26)))/(1800*6))*0.00004 -> 2.3967525e-07 | K26: =((((B26^(1.59-1))/(B25^(1.59-1)))*K25^(1.59)))^(1/1.59) -> 3041.9517 | L26: =((4170000000000*((($H$7)*($I$7))^0.5)*EXP((-67837/K26)))/(1800*6))*0.00004 -> 1.7788249e-07 | M26: =((((B26^(1.59-1))/(B25^(1.59-1)))*M25^(1.59)))^(1/1.59) -> 2999.5407 | N26: =((4170000000000*((($H$8)*($I$8))^0.5)*EXP((-67837/M26)))/(1800*6))*0.00004 -> 1.3217971e-07 | O26: =((((B26^(1.59-1))/(B25^(1.59-1)))*O25^(1.59)))^(1/1.59) -> 2958.6544 | P26: =((4170000000000*((($H$9)*($I$9))^0.5)*EXP((-67837/O26)))/(1800*6))*0.00004 -> 9.8459792e-08 | Q26: =((((B26^(1.59-1))/(B25^(1.59-1)))*Q25^(1.59)))^(1/1.59) -> 2919.0589 | R26: =((4170000000000*((($H$10)*($I$10))^0.5)*EXP((-67837/Q26)))/(1800*6))*0.00004 -> 7.3430301e-08 | S26: =((((B26^(1.59-1))/(B25^(1.59-1)))*S25^(1.59)))^(1/1.59) -> 2881.5044 | T26: =((4170000000000*((($H$11)*($I$11))^0.5)*EXP((-67837/S26)))/(1800*6))*0.00004 -> 5.5193867e-08 | U26: =((((B26^(1.59-1))/(B25^(1.59-1)))*U25^(1.59)))^(1/1.59) -> 2843.95 | V26: =((4170000000000*((($H$12)*($I$12))^0.5)*EXP((-67837/U26)))/(1800*6))*0.00004 -> 4.1143696e-08 | W26: =((((B26^(1.59-1))/(B25^(1.59-1)))*W25^(1.59)))^(1/1.59) -> 2807.8286 | X26: =((4170000000000*((($H$13)*($I$13))^0.5)*EXP((-67837/W26)))/(1800*6))*0.00004 -> 3.0784723e-08
A27: =A26+1 -> 8 | B27: =B26+2 -> 26 | C27: =(((B27^(1.59-1))/(B26^(1.59-1)))*C26^(1.59))^(1/1.59) -> 3332.9393 | D27: 1.1541757e-06 | E27: =((((B27^(1.59-1))/(B26^(1.59-1)))*E26^(1.59)))^(1/1.59) -> 3274.7022 | F27: =((4170000000000*((($H$4)*($I$4))^0.5)*EXP((-67837/E27)))/(1800*6))*0.00004 -> 8.1973309e-07 | G27: =((((B27^(1.59-1))/(B26^(1.59-1)))*G26^(1.59)))^(1/1.59) -> 3225.9734 | H27: =((4170000000000*((($H$5)*($I$5))^0.5)*EXP((-67837/G27)))/(1800*6))*0.00004 -> 6.1123817e-07 | I27: =((((B27^(1.59-1))/(B26^(1.59-1)))*I26^(1.59)))^(1/1.59) -> 3178.8229 | J27: =((4170000000000*((($H$6)*($I$6))^0.5)*EXP((-67837/I27)))/(1800*6))*0.00004 -> 4.5606155e-07 | K27: =((((B27^(1.59-1))/(B26^(1.59-1)))*K26^(1.59)))^(1/1.59) -> 3133.657 | L27: =((4170000000000*((($H$7)*($I$7))^0.5)*EXP((-67837/K27)))/(1800*6))*0.00004 -> 3.4163355e-07 | M27: =((((B27^(1.59-1))/(B26^(1.59-1)))*M26^(1.59)))^(1/1.59) -> 3089.9675 | N27: =((4170000000000*((($H$8)*($I$8))^0.5)*EXP((-67837/M27)))/(1800*6))*0.00004 -> 2.5621203e-07 | O27: =((((B27^(1.59-1))/(B26^(1.59-1)))*O26^(1.59)))^(1/1.59) -> 3047.8486 | P27: =((4170000000000*((($H$9)*($I$9))^0.5)*EXP((-67837/O27)))/(1800*6))*0.00004 -> 1.926042e-07 | Q27: =((((B27^(1.59-1))/(B26^(1.59-1)))*Q26^(1.59)))^(1/1.59) -> 3007.0593 | R27: =((4170000000000*((($H$10)*($I$10))^0.5)*EXP((-67837/Q27)))/(1800*6))*0.00004 -> 1.4495558e-07 | S27: =((((B27^(1.59-1))/(B26^(1.59-1)))*S26^(1.59)))^(1/1.59) -> 2968.3728 | T27: =((4170000000000*((($H$11)*($I$11))^0.5)*EXP((-67837/S27)))/(1800*6))*0.00004 -> 1.0992586e-07 | U27: =((((B27^(1.59-1))/(B26^(1.59-1)))*U26^(1.59)))^(1/1.59) -> 2929.6862 | V27: =((4170000000000*((($H$12)*($I$12))^0.5)*EXP((-67837/U27)))/(1800*6))*0.00004 -> 8.2691982e-08 | W27: =((((B27^(1.59-1))/(B26^(1.59-1)))*W26^(1.59)))^(1/1.59) -> 2892.4758 | X27: =((4170000000000*((($H$13)*($I$13))^0.5)*EXP((-67837/W27)))/(1800*6))*0.00004 -> 6.2430293e-08
A28: =A27+1 -> 9 | B28: =B27+2 -> 28 | C28: =(((B28^(1.59-1))/(B27^(1.59-1)))*C27^(1.59))^(1/1.59) -> 3425.8642 | D28: 2.0046422e-06 | E28: =((((B28^(1.59-1))/(B27^(1.59-1)))*E27^(1.59)))^(1/1.59) -> 3366.0034 | F28: =((4170000000000*((($H$4)*($I$4))^0.5)*EXP((-67837/E28)))/(1800*6))*0.00004 -> 1.4378096e-06 | G28: =((((B28^(1.59-1))/(B27^(1.59-1)))*G27^(1.59)))^(1/1.59) -> 3315.916 | H28: =((4170000000000*((($H$5)*($I$5))^0.5)*EXP((-67837/G28)))/(1800*6))*0.00004 -> 1.0812484e-06 | I28: =((((B28^(1.59-1))/(B27^(1.59-1)))*I27^(1.59)))^(1/1.59) -> 3267.451 | J28: =((4170000000000*((($H$6)*($I$6))^0.5)*EXP((-67837/I28)))/(1800*6))*0.00004 -> 8.1360335e-07 | K28: =((((B28^(1.59-1))/(B27^(1.59-1)))*K27^(1.59)))^(1/1.59) -> 3221.0258 | L28: =((4170000000000*((($H$7)*($I$7))^0.5)*EXP((-67837/K28)))/(1800*6))*0.00004 -> 6.1457246e-07 | M28: =((((B28^(1.59-1))/(B27^(1.59-1)))*M27^(1.59)))^(1/1.59) -> 3176.1182 | N28: =((4170000000000*((($H$8)*($I$8))^0.5)*EXP((-67837/M28)))/(1800*6))*0.00004 -> 4.6474825e-07 | O28: =((((B28^(1.59-1))/(B27^(1.59-1)))*O27^(1.59)))^(1/1.59) -> 3132.825 | P28: =((4170000000000*((($H$9)*($I$9))^0.5)*EXP((-67837/O28)))/(1800*6))*0.00004 -> 3.5225561e-07 | Q28: =((((B28^(1.59-1))/(B27^(1.59-1)))*Q27^(1.59)))^(1/1.59) -> 3090.8985 | R28: =((4170000000000*((($H$10)*($I$10))^0.5)*EXP((-67837/Q28)))/(1800*6))*0.00004 -> 2.6729054e-07 | S28: =((((B28^(1.59-1))/(B27^(1.59-1)))*S27^(1.59)))^(1/1.59) -> 3051.1333 | T28: =((4170000000000*((($H$11)*($I$11))^0.5)*EXP((-67837/S28)))/(1800*6))*0.00004 -> 2.0432052e-07 | U28: =((((B28^(1.59-1))/(B27^(1.59-1)))*U27^(1.59)))^(1/1.59) -> 3011.3681 | V28: =((4170000000000*((($H$12)*($I$12))^0.5)*EXP((-67837/U28)))/(1800*6))*0.00004 -> 1.5496388e-07 | W28: =((((B28^(1.59-1))/(B27^(1.59-1)))*W27^(1.59)))^(1/1.59) -> 2973.1203 | X28: =((4170000000000*((($H$13)*($I$13))^0.5)*EXP((-67837/W28)))/(1800*6))*0.00004 -> 1.1794281e-07
A29: =A28+1 -> 10 | B29: =B28+2 -> 30 | C29: =(((B29^(1.59-1))/(B28^(1.59-1)))*C28^(1.59))^(1/1.59) -> 3514.7025 | D29: 3.3067651e-06 | E29: =((((B29^(1.59-1))/(B28^(1.59-1)))*E28^(1.59)))^(1/1.59) -> 3453.2894 | F29: =((4170000000000*((($H$4)*($I$4))^0.5)*EXP((-67837/E29)))/(1800*6))*0.00004 -> 2.3929492e-06 | G29: =((((B29^(1.59-1))/(B28^(1.59-1)))*G28^(1.59)))^(1/1.59) -> 3401.9032 | H29: =((4170000000000*((($H$5)*($I$5))^0.5)*EXP((-67837/G29)))/(1800*6))*0.00004 -> 1.8134238e-06 | I29: =((((B29^(1.59-1))/(B28^(1.59-1)))*I28^(1.59)))^(1/1.59) -> 3352.1814 | J29: =((4170000000000*((($H$6)*($I$6))^0.5)*EXP((-67837/I29)))/(1800*6))*0.00004 -> 1.3750472e-06 | K29: =((((B29^(1.59-1))/(B28^(1.59-1)))*K28^(1.59)))^(1/1.59) -> 3304.5523 | L29: =((4170000000000*((($H$7)*($I$7))^0.5)*EXP((-67837/K29)))/(1800*6))*0.00004 -> 1.0465568e-06 | M29: =((((B29^(1.59-1))/(B28^(1.59-1)))*M28^(1.59)))^(1/1.59) -> 3258.4802 | N29: =((4170000000000*((($H$8)*($I$8))^0.5)*EXP((-67837/M29)))/(1800*6))*0.00004 -> 7.9740013e-07 | O29: =((((B29^(1.59-1))/(B28^(1.59-1)))*O28^(1.59)))^(1/1.59) -> 3214.0643 | P29: =((4170000000000*((($H$9)*($I$9))^0.5)*EXP((-67837/O29)))/(1800*6))*0.00004 -> 6.0891473e-07 | Q29: =((((B29^(1.59-1))/(B28^(1.59-1)))*Q28^(1.59)))^(1/1.59) -> 3171.0506 | R29: =((4170000000000*((($H$10)*($I$10))^0.5)*EXP((-67837/Q29)))/(1800*6))*0.00004 -> 4.6548579e-07 | S29: =((((B29^(1.59-1))/(B28^(1.59-1)))*S28^(1.59)))^(1/1.59) -> 3130.2542 | T29: =((4170000000000*((($H$11)*($I$11))^0.5)*EXP((-67837/S29)))/(1800*6))*0.00004 -> 3.5840557e-07 | U29: =((((B29^(1.59-1))/(B28^(1.59-1)))*U28^(1.59)))^(1/1.59) -> 3089.4579 | V29: =((4170000000000*((($H$12)*($I$12))^0.5)*EXP((-67837/U29)))/(1800*6))*0.00004 -> 2.7385212e-07 | W29: =((((B29^(1.59-1))/(B28^(1.59-1)))*W28^(1.59)))^(1/1.59) -> 3050.2182 | X29: =((4170000000000*((($H$13)*($I$13))^0.5)*EXP((-67837/W29)))/(1800*6))*0.00004 -> 2.0996085e-07
A30: =A29+1 -> 11 | B30: =B29+2 -> 32 | C30: =(((B30^(1.59-1))/(B29^(1.59-1)))*C29^(1.59))^(1/1.59) -> 3599.8895 | D30: 5.2210735e-06 | E30: =((((B30^(1.59-1))/(B29^(1.59-1)))*E29^(1.59)))^(1/1.59) -> 3536.9879 | F30: =((4170000000000*((($H$4)*($I$4))^0.5)*EXP((-67837/E30)))/(1800*6))*0.00004 -> 3.8090572e-06 | G30: =((((B30^(1.59-1))/(B29^(1.59-1)))*G29^(1.59)))^(1/1.59) -> 3484.3562 | H30: =((4170000000000*((($H$5)*($I$5))^0.5)*EXP((-67837/G30)))/(1800*6))*0.00004 -> 2.9069182e-06 | I30: =((((B30^(1.59-1))/(B29^(1.59-1)))*I29^(1.59)))^(1/1.59) -> 3433.4293 | J30: =((4170000000000*((($H$6)*($I$6))^0.5)*EXP((-67837/I30)))/(1800*6))*0.00004 -> 2.2196823e-06 | K30: =((((B30^(1.59-1))/(B29^(1.59-1)))*K29^(1.59)))^(1/1.59) -> 3384.6458 | L30: =((4170000000000*((($H$7)*($I$7))^0.5)*EXP((-67837/K30)))/(1800*6))*0.00004 -> 1.7011146e-06 | M30: =((((B30^(1.59-1))/(B29^(1.59-1)))*M29^(1.59)))^(1/1.59) -> 3337.457 | N30: =((4170000000000*((($H$8)*($I$8))^0.5)*EXP((-67837/M30)))/(1800*6))*0.00004 -> 1.3050586e-06 | O30: =((((B30^(1.59-1))/(B29^(1.59-1)))*O29^(1.59)))^(1/1.59) -> 3291.9646 | P30: =((4170000000000*((($H$9)*($I$9))^0.5)*EXP((-67837/O30)))/(1800*6))*0.00004 -> 1.0033833e-06 | Q30: =((((B30^(1.59-1))/(B29^(1.59-1)))*Q29^(1.59)))^(1/1.59) -> 3247.9084 | R30: =((4170000000000*((($H$10)*($I$10))^0.5)*EXP((-67837/Q30)))/(1800*6))*0.00004 -> 7.722521e-07 | S30: =((((B30^(1.59-1))/(B29^(1.59-1)))*S29^(1.59)))^(1/1.59) -> 3206.1232 | T30: =((4170000000000*((($H$11)*($I$11))^0.5)*EXP((-67837/S30)))/(1800*6))*0.00004 -> 5.9853941e-07 | U30: =((((B30^(1.59-1))/(B29^(1.59-1)))*U29^(1.59)))^(1/1.59) -> 3164.338 | V30: =((4170000000000*((($H$12)*($I$12))^0.5)*EXP((-67837/U30)))/(1800*6))*0.00004 -> 4.6044218e-07 | W30: =((((B30^(1.59-1))/(B29^(1.59-1)))*W29^(1.59)))^(1/1.59) -> 3124.1473 | X30: =((4170000000000*((($H$13)*($I$13))^0.5)*EXP((-67837/W30)))/(1800*6))*0.00004 -> 3.55386e-07
A31: =A30+1 -> 12 | B31: =B30+2 -> 34 | C31: =(((B31^(1.59-1))/(B30^(1.59-1)))*C30^(1.59))^(1/1.59) -> 3681.7901 | D31: 7.9397987e-06 | E31: =((((B31^(1.59-1))/(B30^(1.59-1)))*E30^(1.59)))^(1/1.59) -> 3617.4574 | F31: =((4170000000000*((($H$4)*($I$4))^0.5)*EXP((-67837/E31)))/(1800*6))*0.00004 -> 5.8358583e-06 | G31: =((((B31^(1.59-1))/(B30^(1.59-1)))*G30^(1.59)))^(1/1.59) -> 3563.6283 | H31: =((4170000000000*((($H$5)*($I$5))^0.5)*EXP((-67837/G31)))/(1800*6))*0.00004 -> 4.4824851e-06 | I31: =((((B31^(1.59-1))/(B30^(1.59-1)))*I30^(1.59)))^(1/1.59) -> 3511.5428 | J31: =((4170000000000*((($H$6)*($I$6))^0.5)*EXP((-67837/I31)))/(1800*6))*0.00004 -> 3.4448212e-06 | K31: =((((B31^(1.59-1))/(B30^(1.59-1)))*K30^(1.59)))^(1/1.59) -> 3461.6494 | L31: =((4170000000000*((($H$7)*($I$7))^0.5)*EXP((-67837/K31)))/(1800*6))*0.00004 -> 2.6568104e-06 | M31: =((((B31^(1.59-1))/(B30^(1.59-1)))*M30^(1.59)))^(1/1.59) -> 3413.387 | N31: =((4170000000000*((($H$8)*($I$8))^0.5)*EXP((-67837/M31)))/(1800*6))*0.00004 -> 2.0511373e-06 | O31: =((((B31^(1.59-1))/(B30^(1.59-1)))*O30^(1.59)))^(1/1.59) -> 3366.8597 | P31: =((4170000000000*((($H$9)*($I$9))^0.5)*EXP((-67837/O31)))/(1800*6))*0.00004 -> 1.586884e-06 | Q31: =((((B31^(1.59-1))/(B30^(1.59-1)))*Q30^(1.59)))^(1/1.59) -> 3321.8011 | R31: =((4170000000000*((($H$10)*($I$10))^0.5)*EXP((-67837/Q31)))/(1800*6))*0.00004 -> 1.2289602e-06 | S31: =((((B31^(1.59-1))/(B30^(1.59-1)))*S30^(1.59)))^(1/1.59) -> 3279.0653 | T31: =((4170000000000*((($H$11)*($I$11))^0.5)*EXP((-67837/S31)))/(1800*6))*0.00004 -> 9.5829942e-07 | U31: =((((B31^(1.59-1))/(B30^(1.59-1)))*U30^(1.59)))^(1/1.59) -> 3236.3295 | V31: =((4170000000000*((($H$12)*($I$12))^0.5)*EXP((-67837/U31)))/(1800*6))*0.00004 -> 7.4179311e-07 | W31: =((((B31^(1.59-1))/(B30^(1.59-1)))*W30^(1.59)))^(1/1.59) -> 3195.2244 | X31: =((4170000000000*((($H$13)*($I$13))^0.5)*EXP((-67837/W31)))/(1800*6))*0.00004 -> 5.7606615e-07
... A34: =A33+1 -> 15 | B34: =B33+2 -> 40 | C34: =(((B34^(1.59-1))/(B33^(1.59-1)))*C33^(1.59))^(1/1.59) -> 3910.6548 | D34: 2.3340301e-05 | E34: =((((B34^(1.59-1))/(B33^(1.59-1)))*E33^(1.59)))^(1/1.59) -> 3842.3232 | F34: =((4170000000000*((($H$4)*($I$4))^0.5)*EXP((-67837/E34)))/(1800*6))*0.00004 -> 1.7487586e-05 | G34: =((((B34^(1.59-1))/(B33^(1.59-1)))*G33^(1.59)))^(1/1.59) -> 3785.148 | H34: =((4170000000000*((($H$5)*($I$5))^0.5)*EXP((-67837/G34)))/(1800*6))*0.00004 -> 1.3656628e-05 | I34: =((((B34^(1.59-1))/(B33^(1.59-1)))*I33^(1.59)))^(1/1.59) -> 3729.8247 | J34: =((4170000000000*((($H$6)*($I$6))^0.5)*EXP((-67837/I34)))/(1800*6))*0.00004 -> 1.0670081e-05 | K34: =((((B34^(1.59-1))/(B33^(1.59-1)))*K33^(1.59)))^(1/1.59) -> 3676.8299 | L34: =((4170000000000*((($H$7)*($I$7))^0.5)*EXP((-67837/K34)))/(1800*6))*0.00004 -> 8.3644708e-06 | M34: =((((B34^(1.59-1))/(B33^(1.59-1)))*M33^(1.59)))^(1/1.59) -> 3625.5675 | N34: =((4170000000000*((($H$8)*($I$8))^0.5)*EXP((-67837/M34)))/(1800*6))*0.00004 -> 6.5631908e-06 | O34: =((((B34^(1.59-1))/(B33^(1.59-1)))*O33^(1.59)))^(1/1.59) -> 3576.1479 | P34: =((4170000000000*((($H$9)*($I$9))^0.5)*EXP((-67837/O34)))/(1800*6))*0.00004 -> 5.1599544e-06 | Q34: =((((B34^(1.59-1))/(B33^(1.59-1)))*Q33^(1.59)))^(1/1.59) -> 3528.2885 | R34: =((4170000000000*((($H$10)*($I$10))^0.5)*EXP((-67837/Q34)))/(1800*6))*0.00004 -> 4.06055e-06 | S34: =((((B34^(1.59-1))/(B33^(1.59-1)))*S33^(1.59)))^(1/1.59) -> 3482.8962 | T34: =((4170000000000*((($H$11)*($I$11))^0.5)*EXP((-67837/S34)))/(1800*6))*0.00004 -> 3.2159774e-06 | U34: =((((B34^(1.59-1))/(B33^(1.59-1)))*U33^(1.59)))^(1/1.59) -> 3437.5038 | V34: =((4170000000000*((($H$12)*($I$12))^0.5)*EXP((-67837/U34)))/(1800*6))*0.00004 -> 2.5295188e-06 | W34: =((((B34^(1.59-1))/(B33^(1.59-1)))*W33^(1.59)))^(1/1.59) -> 3393.8436 | X34: =((4170000000000*((($H$13)*($I$13))^0.5)*EXP((-67837/W34)))/(1800*6))*0.00004 -> 1.9956351e-06
A35: AVG | B35: Total | C35: =AVERAGE(D19:D34) -> 4.5343139e-06 | D35: =SUM(D19:D34) -> 7.2549022e-05 | E35: =AVERAGE(F19:F34) -> 3.3564536e-06 | F35: =SUM(F19:F34) -> 5.3703258e-05 | G35: =AVERAGE(H19:H34) -> 2.5943423e-06 | H35: =SUM(H19:H34) -> 4.1509477e-05 | I35: =AVERAGE(J19:J34) -> 2.006626e-06 | J35: =SUM(J19:J34) -> 3.2106016e-05 | K35: =AVERAGE(L19:L34) -> 1.5576767e-06 | L35: =SUM(L19:L34) -> 2.4922827e-05 | M35: =AVERAGE(N19:N34) -> 1.2105332e-06 | N35: =SUM(N19:N34) -> 1.936853e-05 | O35: =AVERAGE(P19:P34) -> 9.4281522e-07 | P35: =SUM(P19:P34) -> 1.5085043e-05 | Q35: =AVERAGE(R19:R34) -> 7.3512619e-07 | R35: =SUM(R19:R34) -> 1.1762019e-05 | S35: =AVERAGE(T19:T34) -> 5.7709162e-07 | T35: =SUM(T19:T34) -> 9.2334659e-06 | U35: =AVERAGE(V19:V34) -> 4.4985937e-07 | V35: =SUM(V19:V34) -> 7.1977499e-06 | W35: =AVERAGE(X19:X34) -> 3.518274e-07 | X35: =SUM(X19:X34) -> 5.6292384e-06
D36: =(D35/F3)*1000000 -> 3246612.9 | F36: =(F35/F4)*1000000 -> 2356130.9 | H36: =(H35/F5)*1000000 -> 1786129.2 | J36: =(J35/F6)*1000000 -> 1355437.5 | L36: =(L35/F7)*1000000 -> 1032696 | N36: =(N35/F8)*1000000 -> 787957.76 | P36: =(P35/F9)*1000000 -> 602736.5 | R36: =(R35/F10)*1000000 -> 461717.12 | T36: =(T35/F11)*1000000 -> 356209.68 | V36: =(V35/F12)*1000000 -> 272969.23 | X36: =(X35/F13)*1000000 -> 209926.54

Sheet Reference tables
A1: Carbon Dioxide (CO₂) | E1: Water (H₂O) | I1: Nitrogen (N₂) | M1: Oxygen(O₂) | Q1: Enthalpy of formation | V1: Kmols in 40cc @ 1 bar & 293K
A2: Temp | B2: Spec heat | C2: Enthalpy | E2: Temp | F2: Spec heat | G2: Enthalpy | I2: Temp | J2: Spec heat | K2: Enthalpy | M2: Temp | N2: Spec heat | O2: Enthalpy | Q2: Fuel | R2: Formula | S2: Energy | T2: Units | V2: Fuel | W2: Formula | X2: value | Y2: Units
A3: K | B3: KJ/Kmol-K | C3: MJ/Kmol | E3: K | F3: KJ/Kmol-K | G3: MJ/Kmol | I3: K | J3: KJ/Kmol-K | K3: MJ/Kmol | M3: K | N3: KJ/Kmol-K | O3: MJ/Kmol | Q3: Methanol | R3: CH₄O | S3: 675.6 | T3: MJ | V3: Methanol | W3: CH₄O | X3: =((B49*(B51*0.4))/((B53*293))) -> 2.1043356e-05 | Y3: Kmol
A4: 1000 | B4: 54.36 | C4: 33.42 | E4: 1000 | F4: 41.31 | G4: 25.99 | I4: 1000 | J4: 32.76 | K4: 21.47 | M4: 1000 | N4: 34.93 | O4: 22.72 | Q4: Iso-octane | R4: C₈H₁₈ | S4: 5065 | T4: MJ | V4: Iso-octane | W4: C₈H₁₈ | X4: =((B49*(B51*0.4))/((B52*293))) -> 6.5681391e-07 | Y4: Kmol
A5: =A4+50 -> 1050 | B5: 54.86 | C5: 36.15 | E5: =E4+50 -> 1050 | F5: 41.99 | G5: 28.07 | I5: =I4+50 -> 1050 | J5: 33.01 | K5: 23.11 | M5: =M4+50 -> 1050 | N5: 35.1 | O5: 24.47
A6: =A5+50 -> 1100 | B6: 55.33 | C6: 38.91 | E6: =E5+50 -> 1100 | F6: 42.64 | G6: 30.19 | I6: =I5+50 -> 1100 | J6: 33.26 | K6: 24.77 | M6: =M5+50 -> 1100 | N6: 35.27 | O6: 26.23 | Q6: Chemical reactants by fuel equivalence ratio
A7: =A6+50 -> 1150 | B7: 55.78 | C7: 41.69 | E7: =E6+50 -> 1150 | F7: 43.26 | G7: 32.34 | I7: =I6+50 -> 1150 | J7: 33.49 | K7: 26.44 | M7: =M6+50 -> 1150 | N7: 35.43 | O7: 28 | Q7: Φ | R7: Methanol (CH₄O+1.5(O₂+3.762N₂)) | V7: Iso-octane (C₈H₁₈+12.5(O₂+3.762N₂))
A8: =A7+50 -> 1200 | B8: 56.2 | C8: 44.49 | E8: =E7+50 -> 1200 | F8: 43.87 | G8: 34.52 | I8: =I7+50 -> 1200 | J8: 33.71 | K8: 28.12 | M8: =M7+50 -> 1200 | N8: 35.59 | O8: 29.77 | Q8: 0.6 | R8: 0.6CO₂+1.2H₂O+1.2O₂+5.643N₂ | V8: 4.8CO₂+5.4H₂O+10O₂+47N₂
A9: =A8+50 -> 1250 | B9: 56.6 | C9: 47.31 | E9: =E8+50 -> 1250 | F9: 44.46 | G9: 36.72 | I9: =I8+50 -> 1250 | J9: 33.91 | K9: 29.81 | M9: =M8+50 -> 1250 | N9: 35.75 | O9: 31.56 | Q9: =Q8+0.05 -> 0.65 | R9: 0.65CO₂+1.3H₂O+1.05O₂+5.643N₂ | V9: 5.2CO₂+5.85H₂O+8.75O₂+47N₂
A10: =A9+50 -> 1300 | B10: 56.98 | C10: 50.15 | E10: =E9+50 -> 1300 | F10: 45.02 | G10: 38.96 | I10: =I9+50 -> 1300 | J10: 34.11 | K10: 31.51 | M10: =M9+50 -> 1300 | N10: 35.9 | O10: 33.35 | Q10: =Q9+0.05 -> 0.7 | R10: 0.7CO₂+1.4H₂O+0.9O₂+5.643N₂ | V10: 5.6CO₂+6.3H₂O+7.5O₂+47N₂
A11: =A10+50 -> 1350 | B11: 57.34 | C11: 53 | E11: =E10+50 -> 1350 | F11: 45.57 | G11: 41.23 | I11: =I10+50 -> 1350 | J11: 34.3 | K11: 33.22 | M11: =M10+50 -> 1350 | N11: 36.05 | O11: 35.15 | Q11: =Q10+0.05 -> 0.75 | R11: 0.75CO₂+1.5H₂O+0.75O₂+5.643N₂ | V11: 6CO₂+6.75H₂O+6.25O₂+47N₂
A12: =A11+50 -> 1400 | B12: 57.67 | C12: 55.88 | E12: =E11+50 -> 1400 | F12: 46.1 | G12: 43.52 | I12: =I11+50 -> 1400 | J12: 34.48 | K12: 34.94 | M12: =M11+50 -> 1400 | N12: 36.2 | O12: 36.95 | Q12: =Q11+0.05 -> 0.8 | R12: 0.8CO₂+1.6H₂O+0.6O₂+5.643N₂ | V12: 6.4CO₂+7.2H₂O+5O₂+47N₂
A13: =A12+50 -> 1450 | B13: 57.99 | C13: 58.77 | E13: =E12+50 -> 1450 | F13: 46.61 | G13: 45.84 | I13: =I12+50 -> 1450 | J13: 34.64 | K13: 36.67 | M13: =M12+50 -> 1450 | N13: 36.35 | O13: 38.77 | Q13: =Q12+0.05 -> 0.85 | R13: 0.85CO₂+1.7H₂O+0.45O₂+5.643N₂ | V13: 6.8CO₂+7.65H₂O+3.75O₂+47N₂
A14: =A13+50 -> 1500 | B14: 58.29 | C14: 61.68 | E14: =E13+50 -> 1500 | F14: 47.1 | G14: 48.18 | I14: =I13+50 -> 1500 | J14: 34.8 | K14: 38.4 | M14: =M13+50 -> 1500 | N14: 36.49 | O14: 40.59 | Q14: =Q13+0.05 -> 0.9 | R14: 0.9CO₂+1.8H₂O+0.3O₂+5.643N₂ | V14: 7.2CO₂+8.1H₂O+2.5O₂+47N₂
A15: =A14+50 -> 1550 | B15: 58.57 | C15: 64.6 | E15: =E14+50 -> 1550 | F15: 47.58 | G15: 50.55 | I15: =I14+50 -> 1550 | J15: 34.95 | K15: 40.15 | M15: =M14+50 -> 1550 | N15: 36.63 | O15: 42.42 | Q15: =Q14+0.05 -> 0.95 | R15: 0.95CO₂+1.9H₂O+0.15O₂+5.643N₂ | V15: 7.6CO₂+8.55H₂O+1.25O₂+47N₂
A16: =A15+50 -> 1600 | B16: 58.83 | C16: 67.54 | E16: =E15+50 -> 1600 | F16: 48.03 | G16: 52.94 | I16: =I15+50 -> 1600 | J16: 35.1 | K16: 41.9 | M16: =M15+50 -> 1600 | N16: 36.77 | O16: 44.25 | Q16: =Q15+0.01 -> 0.96 | R16: 0.96CO₂+1.92H₂O+0.12O₂+5.643N₂ | V16: 7.68CO₂+8.64H₂O+1O₂+47N₂
A17: =A16+50 -> 1650 | B17: 59.08 | C17: 70.48 | E17: =E16+50 -> 1650 | F17: 48.47 | G17: 55.35 | I17: =I16+50 -> 1650 | J17: 35.23 | K17: 43.66 | M17: =M16+50 -> 1650 | N17: 36.9 | O17: 46.09 | Q17: =Q16+0.01 -> 0.97 | R17: 0.97CO₂+1.94H₂O+0.09O₂+5.643N₂ | V17: 7.76CO₂+8.73H₂O+0.75O₂+47N₂
A18: =A17+50 -> 1700 | B18: 59.31 | C18: 73.44 | E18: =E17+50 -> 1700 | F18: 48.9 | G18: 57.78 | I18: =I17+50 -> 1700 | J18: 35.36 | K18: 45.42 | M18: =M17+50 -> 1700 | N18: 37.03 | O18: 47.94 | Q18: =Q17+0.01 -> 0.98 | R18: 0.98CO₂+1.96H₂O+0.06O₂+5.643N₂ | V18: 7.84CO₂+8.82H₂O+0.5O₂+47N₂
A19: =A18+50 -> 1750 | B19: 59.53 | C19: 76.41 | E19: =E18+50 -> 1750 | F19: 49.31 | G19: 60.24 | I19: =I18+50 -> 1750 | J19: 35.48 | K19: 47.19 | M19: =M18+50 -> 1750 | N19: 37.17 | O19: 49.8 | Q19: =Q18+0.01 -> 0.99 | R19: 0.99CO₂+1.98H₂O+0.03O₂+5.643N₂ | V19: 7.92CO₂+8.91H₂O+0.25O₂+47N₂
A20: =A19+50 -> 1800 | B20: 59.73 | C20: 79.4 | E20: =E19+50 -> 1800 | F20: 49.7 | G20: 62.71 | I20: =I19+50 -> 1800 | J20: 35.59 | K20: 48.97 | M20: =M19+50 -> 1800 | N20: 37.29 | O20: 51.66 | Q20: =Q19+0.01 -> 1 | R20: 1.0CO₂+2.0H₂O+0.0O₂+5.643N₂ | V20: 8CO₂+9H₂O+0.0O₂+47N₂
A21: =A20+50 -> 1850 | B21: 59.93 | C21: 82.39 | E21: =E20+50 -> 1850 | F21: 50.08 | G21: 65.21 | I21: =I20+50 -> 1850 | J21: 35.7 | K21: 50.75 | M21: =M20+50 -> 1850 | N21: 37.42 | O21: 53.53
A22: =A21+50 -> 1900 | B22: 60.11 | C22: 85.39 | E22: =E21+50 -> 1900 | F22: 50.45 | G22: 67.72 | I22: =I21+50 -> 1900 | J22: 35.8 | K22: 52.54 | M22: =M21+50 -> 1900 | N22: 37.54 | O22: 55.4 | Q22: Enthalpy of formation by fuel equivalence ratio in MJ
A23: =A22+50 -> 1950 | B23: 60.27 | C23: 88.4 | E23: =E22+50 -> 1950 | F23: 50.8 | G23: 70.25 | I23: =I22+50 -> 1950 | J23: 35.9 | K23: 54.33 | M23: =M22+50 -> 1950 | N23: 37.67 | O23: 57.28 | Q23: Φ | R23: Methanol (CH₄O) | V23: Iso-octane (C₈H₁₈)
A24: 2000 | B24: 60.43 | C24: 91.42 | E24: 2000 | F24: 51.14 | G24: 72.8 | I24: 2000 | J24: 35.99 | K24: 56.13 | M24: 2000 | N24: 37.79 | O24: 59.17 | Q24: 0.6 | R24: 405.36 | V24: 3039
A25: =A24+50 -> 2050 | B25: 60.58 | C25: 94.44 | E25: =E24+50 -> 2050 | F25: 51.47 | G25: 75.3 | I25: =I24+50 -> 2050 | J25: 36.07 | K25: 57.93 | M25: =M24+50 -> 2050 | N25: 37.9 | O25: 61.06 | Q25: =Q24+0.05 -> 0.65 | R25: 439.14 | V25: 3292.25
A26: =A25+50 -> 2100 | B26: 60.71 | C26: 97.47 | E26: =E25+50 -> 2100 | F26: 51.78 | G26: 77.95 | I26: =I25+50 -> 2100 | J26: 36.15 | K26: 59.73 | M26: =M25+50 -> 2100 | N26: 38.02 | O26: 62.96 | Q26: =Q25+0.05 -> 0.7 | R26: 472.92 | V26: 3545.5
A27: =A26+50 -> 2150 | B27: 60.84 | C27: 100.51 | E27: =E26+50 -> 2150 | F27: 52.08 | G27: 80.54 | I27: =I26+50 -> 2150 | J27: 36.23 | K27: 61.54 | M27: =M26+50 -> 2150 | N27: 38.14 | O27: 64.86 | Q27: =Q26+0.05 -> 0.75 | R27: 506.7 | V27: 3798.75
A28: =A27+50 -> 2200 | B28: 60.96 | C28: 103.56 | E28: =E27+50 -> 2200 | F28: 52.38 | G28: 83.16 | I28: =I27+50 -> 2200 | J28: 36.3 | K28: 63.36 | M28: =M27+50 -> 2200 | N28: 38.25 | O28: 66.77 | Q28: =Q27+0.05 -> 0.8 | R28: 540.48 | V28: 4052
A29: =A28+50 -> 2250 | B29: 61.08 | C29: 106.61 | E29: =E28+50 -> 2250 | F29: 52.66 | G29: 85.78 | I29: =I28+50 -> 2250 | J29: 36.36 | K29: 65.17 | M29: =M28+50 -> 2250 | N29: 38.36 | O29: 68.69 | Q29: =Q28+0.05 -> 0.85 | R29: 574.26 | V29: 4305.25
A30: =A29+50 -> 2300 | B30: 61.18 | C30: 109.66 | E30: =E29+50 -> 2300 | F30: 52.92 | G30: 88.42 | I30: =I29+50 -> 2300 | J30: 36.43 | K30: 66.99 | M30: =M29+50 -> 2300 | N30: 38.47 | O30: 70.61 | Q30: =Q29+0.05 -> 0.9 | R30: 608.04 | V30: 4558.5
A31: =A30+50 -> 2350 | B31: 61.28 | C31: 112.73 | E31: =E30+50 -> 2350 | F31: 53.18 | G31: 91.07 | I31: =I30+50 -> 2350 | J31: 36.49 | K31: 68.82 | M31: =M30+50 -> 2350 | N31: 38.58 | O31: 72.53 | Q31: =Q30+0.05 -> 0.95 | R31: 641.82 | V31: 4811.75
A32: =A31+50 -> 2400 | B32: 61.37 | C32: 115.79 | E32: =E31+50 -> 2400 | F32: 53.43 | G32: 93.74 | I32: =I31+50 -> 2400 | J32: 36.54 | K32: 70.64 | M32: =M31+50 -> 2400 | N32: 38.68 | O32: 74.46 | Q32: =Q31+0.01 -> 0.96 | R32: 648.576 | V32: 4862.4
A33: =A32+50 -> 2450 | B33: 61.46 | C33: 118.86 | E33: =E32+50 -> 2450 | F33: 53.67 | G33: 96.42 | I33: =I32+50 -> 2450 | J33: 36.59 | K33: 72.47 | M33: =M32+50 -> 2450 | N33: 38.79 | O33: 76.4 | Q33: =Q32+0.01 -> 0.97 | R33: 655.332 | V33: 4913.05
A34: =A33+50 -> 2500 | B34: 61.55 | C34: 121.94 | E34: =E33+50 -> 2500 | F34: 53.9 | G34: 99.11 | I34: =I33+50 -> 2500 | J34: 36.64 | K34: 74.3 | M34: =M33+50 -> 2500 | N34: 38.89 | O34: 78.34 | Q34: =Q33+0.01 -> 0.98 | R34: 662.088 | V34: 4963.7
A35: =A34+50 -> 2550 | B35: 61.62 | C35: 125.02 | E35: =E34+50 -> 2550 | F35: 54.12 | G35: 101.81 | I35: =I34+50 -> 2550 | J35: 36.69 | K35: 76.13 | M35: =M34+50 -> 2550 | N35: 38.99 | O35: 80.29 | Q35: =Q34+0.01 -> 0.99 | R35: 668.844 | V35: 5014.35
A36: =A35+50 -> 2600 | B36: 61.7 | C36: 128.1 | E36: =E35+50 -> 2600 | F36: 54.34 | G36: 104.52 | I36: =I35+50 -> 2600 | J36: 36.74 | K36: 77.97 | M36: =M35+50 -> 2600 | N36: 39.09 | O36: 82.24 | Q36: =Q35+0.01 -> 1 | R36: 675.6 | V36: 5065
A37: =A36+50 -> 2650 | B37: 61.77 | C37: 131.19 | E37: =E36+50 -> 2650 | F37: 54.54 | G37: 107.24 | I37: =I36+50 -> 2650 | J37: 36.78 | K37: 79.81 | M37: =M36+50 -> 2650 | N37: 39.19 | O37: 84.2
A38: =A37+50 -> 2700 | B38: 61.84 | C38: 134.28 | E38: =E37+50 -> 2700 | F38: 54.74 | G38: 109.97 | I38: =I37+50 -> 2700 | J38: 36.82 | K38: 81.65 | M38: =M37+50 -> 2700 | N38: 39.29 | O38: 86.16 | R38: α Values for Methanol | V38: α Values for Iso-octane
A39: =A38+50 -> 2750 | B39: 61.9 | C39: 137.37 | E39: =E38+50 -> 2750 | F39: 54.93 | G39: 112.72 | I39: =I38+50 -> 2750 | J39: 36.86 | K39: 83.49 | M39: =M38+50 -> 2750 | N39: 39.38 | O39: 88.13 | R39: Φ | S39: α | T39: N₂ | U39: O₂ | V39: Φ | W39: α | X39: N₂ | Y39: O₂
A40: =A39+50 -> 2800 | B40: 61.96 | C40: 140.47 | E40: =E39+50 -> 2800 | F40: 55.11 | G40: 115.47 | I40: =I39+50 -> 2800 | J40: 36.89 | K40: 85.33 | M40: =M39+50 -> 2800 | N40: 39.48 | O40: 90.1 | R40: 0.6 | S40: =$X$4/(R40+(1.5*(1+3.762))) -> 8.48268e-08 | T40: =(I48*S40)/$B$51 -> 0.011966941 | U40: =(S40*H48)/$B$51 -> 0.002544804 | V40: 0.6 | W40: =$X$3/(V40+(12.5*(1+3.762))) -> 3.4999345e-07 | X40: =(W40*P48)/$B$51 -> 0.4112423 | Y40: =(W40*O48)/$B$51 -> 0.087498361
A41: =A40+50 -> 2850 | B41: 62.02 | C41: 143.57 | E41: =E40+50 -> 2850 | F41: 55.29 | G41: 118.23 | I41: =I40+50 -> 2850 | J41: 36.93 | K41: 87.18 | M41: =M40+50 -> 2850 | N41: 39.57 | O41: 92.07 | R41: =R40+0.05 -> 0.65 | S41: =$X$4/(R41+(1.5*(1+3.762))) -> 8.428255e-08 | T41: =(I49*S41)/$B$51 -> 0.011890161 | U41: =(S41*H49)/$B$51 -> 0.0027391829 | V41: =V40+0.05 -> 0.65 | W41: =$X$3/(V41+(12.5*(1+3.762))) -> 3.4970263e-07 | X41: =(W41*P49)/$B$51 -> 0.41090059 | Y41: =(W41*O49)/$B$51 -> 0.076497451
A42: =A41+50 -> 2900 | B42: 62.08 | C42: 246.67 | E42: =E41+50 -> 2900 | F42: 55.46 | G42: 120.99 | I42: =I41+50 -> 2900 | J42: 36.96 | K42: 89.03 | M42: =M41+50 -> 2900 | N42: 39.66 | O42: 94.06 | R42: =R41+0.05 -> 0.7 | S42: =$X$4/(R42+(1.5*(1+3.762))) -> 8.3745239e-08 | T42: =(I50*S42)/$B$51 -> 0.01181436 | U42: =(S42*H50)/$B$51 -> 0.0029310834 | V42: =V41+0.05 -> 0.7 | W42: =$X$3/(V42+(12.5*(1+3.762))) -> 3.494123e-07 | X42: =(W42*P50)/$B$51 -> 0.41055945 | Y42: =(W42*O50)/$B$51 -> 0.065514807
A43: =A42+50 -> 2950 | B43: 62.14 | C43: 149.78 | E43: =E42+50 -> 2950 | F43: 55.62 | G43: 123.77 | I43: =I42+50 -> 2950 | J43: 36.99 | K43: 90.88 | M43: =M42+50 -> 2950 | N43: 39.75 | O43: 96.04 | R43: =R42+0.05 -> 0.75 | S43: =$X$4/(R43+(1.5*(1+3.762))) -> 8.3214736e-08 | T43: =(I51*S43)/$B$51 -> 0.011739519 | U43: =(S43*H51)/$B$51 -> 0.0031205526 | V43: =V42+0.05 -> 0.75 | W43: =$X$3/(V43+(12.5*(1+3.762))) -> 3.4912245e-07 | X43: =(W43*P51)/$B$51 -> 0.41021888 | Y43: =(W43*O51)/$B$51 -> 0.054550383
A44: =A43+50 -> 3000 | B44: 62.19 | C44: 152.88 | E44: =E43+50 -> 3000 | F44: 55.78 | G44: 126.56 | I44: =I43+50 -> 3000 | J44: 37.03 | K44: 92.73 | M44: =M43+50 -> 3000 | N44: 39.84 | O44: 98.03 | R44: =R43+0.05 -> 0.8 | S44: =$X$4/(R44+(1.5*(1+3.762))) -> 8.2690912e-08 | T44: =(I52*S44)/$B$51 -> 0.01166562 | U44: =(S44*H52)/$B$51 -> 0.0033076365 | V44: =V43+0.05 -> 0.8 | W44: =$X$3/(V44+(12.5*(1+3.762))) -> 3.4883309e-07 | X44: =(W44*P52)/$B$51 -> 0.40987888 | Y44: =(W44*O52)/$B$51 -> 0.043604136
R45: =R44+0.05 -> 0.85 | S45: =$X$4/(R45+(1.5*(1+3.762))) -> 8.2173641e-08 | T45: =(I53*S45)/$B$51 -> 0.011592646 | U45: =(S45*H53)/$B$51 -> 0.0034923797 | V45: =V44+0.05 -> 0.85 | W45: =$X$3/(V45+(12.5*(1+3.762))) -> 3.485442e-07 | X45: =(W45*P53)/$B$51 -> 0.40953943 | Y45: =(W45*O53)/$B$51 -> 0.032676018
A46: External information | E46: n Values for Methanol | L46: n Values for Iso-octane | R46: =R45+0.05 -> 0.9 | S46: =$X$4/(R46+(1.5*(1+3.762))) -> 8.1662801e-08 | T46: =(I54*S46)/$B$51 -> 0.01152058 | U46: =(S46*H54)/$B$51 -> 0.0036748261 | V46: =V45+0.05 -> 0.9 | W46: =$X$3/(V46+(12.5*(1+3.762))) -> 3.4825579e-07 | X46: =(W46*P54)/$B$51 -> 0.40920055 | Y46: =(W46*O54)/$B$51 -> 0.021765987
A47: Variable | B47: Value | C47: Unit | E47: Φ | F47: n₁ | G47: n₂ | H47: n₃ | I47: n₄ | J47: EX Kmols | L47: Φ | M47: n₁ | N47: n₂ | O47: n₃ | P47: n₄ | Q47: EX Kmols | R47: =R46+0.05 -> 0.95 | S47: =$X$4/(R47+(1.5*(1+3.762))) -> 8.1158274e-08 | T47: =(I55*S47)/$B$51 -> 0.011449403 | U47: =(S47*H55)/$B$51 -> 0.003855018 | V47: =V46+0.05 -> 0.95 | W47: =$X$3/(V47+(12.5*(1+3.762))) -> 3.4796785e-07 | X47: =(W47*P55)/$B$51 -> 0.40886223 | Y47: =(W47*O55)/$B$51 -> 0.010873995
A48: pressure | B48: 1 | C48: Bar | E48: 0.6 | F48: =E48 -> 0.6 | G48: =F48*2 -> 1.2 | H48: =1.2 -> 1.2 | I48: 5.643 | J48: =S40*(F48+G48+H48+I48) -> 7.3315803e-07 | L48: 0.6 | M48: 4.8 | N48: 5.4 | O48: 10 | P48: 47 | Q48: =W40*(M48+N48+O48+P48) -> 2.351956e-05 | R48: =R47+0.01 -> 0.96 | S48: =$X$4/(R48+(1.5*(1+3.762))) -> 8.1058116e-08 | T48: =(I56*S48)/$B$51 -> 0.011435274 | U48: =(S48*H56)/$B$51 -> 0.0038907895 | V48: =V47+0.01 -> 0.96 | W48: =$X$3/(V48+(12.5*(1+3.762))) -> 3.4791032e-07 | X48: =(W48*P56)/$B$51 -> 0.40879463 | Y48: =(W48*O56)/$B$51 -> 0.0086977581
A49: Pressure | B49: 100000 | C49: N/m^2 | E49: =E48+0.05 -> 0.65 | F49: =E49 -> 0.65 | G49: =F49*2 -> 1.3 | H49: =H48+0.1 -> 1.3 | I49: 5.643 | J49: =S41*(F49+G49+H49+I49) -> 7.4952472e-07 | L49: =L48+0.05 -> 0.65 | M49: =M48+0.4 -> 5.2 | N49: =N48+0.45 -> 5.85 | O49: =O48-1.25 -> 8.75 | P49: 47 | Q49: =W41*(M49+N49+O49+P49) -> 2.3360136e-05 | R49: =R48+0.01 -> 0.97 | S49: =$X$4/(R49+(1.5*(1+3.762))) -> 8.0958204e-08 | T49: =(I57*S49)/$B$51 -> 0.011421179 | U49: =(S49*H57)/$B$51 -> 0.0039264729 | V49: =V48+0.01 -> 0.97 | W49: =$X$3/(V49+(12.5*(1+3.762))) -> 3.4785281e-07 | X49: =(W49*P57)/$B$51 -> 0.40872705 | Y49: =(W49*O57)/$B$51 -> 0.0065222402
A50: volume | B50: 40 | C50: cc | E50: =E49+0.05 -> 0.7 | F50: =E50 -> 0.7 | G50: =F50*2 -> 1.4 | H50: =H49+0.1 -> 1.4 | I50: 5.643 | J50: =S42*(F50+G50+H50+I50) -> 7.6568272e-07 | L50: =L49+0.05 -> 0.7 | M50: =M49+0.4 -> 5.6 | N50: =N49+0.45 -> 6.3 | O50: =O49-1.25 -> 7.5 | P50: 47 | Q50: =W42*(M50+N50+O50+P50) -> 2.3200977e-05 | R50: =R49+0.01 -> 0.98 | S50: =$X$4/(R50+(1.5*(1+3.762))) -> 8.0858539e-08 | T50: =(I58*S50)/$B$51 -> 0.011407118 | U50: =(S50*H58)/$B$51 -> 0.0039620684 | V50: =V49+0.01 -> 0.98 | W50: =$X$3/(V50+(12.5*(1+3.762))) -> 3.4779532e-07 | X50: =(W50*P58)/$B$51 -> 0.4086595 | Y50: =(W50*O58)/$B$51 -> 0.0043474415
A51: volume | B51: =1/25000 -> 4e-05 | C51: m^3 | E51: =E50+0.05 -> 0.75 | F51: =E51 -> 0.75 | G51: =F51*2 -> 1.5 | H51: =H50+0.1 -> 1.5 | I51: 5.643 | J51: =S43*(F51+G51+H51+I51) -> 7.8163601e-07 | L51: =L50+0.05 -> 0.75 | M51: =M50+0.4 -> 6 | N51: =N50+0.45 -> 6.75 | O51: =O50-1.25 -> 6.25 | P51: 47 | Q51: =W43*(M51+N51+O51+P51) -> 2.3042082e-05 | R51: =R50+0.01 -> 0.99 | S51: =$X$4/(R51+(1.5*(1+3.762))) -> 8.0759118e-08 | T51: =(I59*S51)/$B$51 -> 0.011393093 | U51: =(S51*H59)/$B$51 -> 0.0039975764 | V51: =V50+0.01 -> 0.99 | W51: =$X$3/(V51+(12.5*(1+3.762))) -> 3.4773785e-07 | X51: =(W51*P59)/$B$51 -> 0.40859197 | Y51: =(W51*O59)/$B$51 -> 0.0021733616
A52: GC | B52: 8314 | C52: J/Kmol/K | E52: =E51+0.05 -> 0.8 | F52: =E52 -> 0.8 | G52: =F52*2 -> 1.6 | H52: =H51+0.1 -> 1.6 | I52: 5.643 | J52: =S44*(F52+G52+H52+I52) -> 7.9738846e-07 | L52: =L51+0.05 -> 0.8 | M52: =M51+0.4 -> 6.4 | N52: =N51+0.45 -> 7.2 | O52: =O51-1.25 -> 5 | P52: 47 | Q52: =W44*(M52+N52+O52+P52) -> 2.288345e-05 | R52: =R51+0.01 -> 1 | S52: =$X$4/(R52+(1.5*(1+3.762))) -> 8.0659942e-08 | T52: =(I60*S52)/$B$51 -> 0.011379101 | U52: =(S52*H60)/$B$51 -> 0.0040329971 | V52: =V51+0.01 -> 1 | W52: =$X$3/(V52+(12.5*(1+3.762))) -> 3.4768039e-07 | X52: =(W52*P60)/$B$51 -> 0.40852446 | Y52: =(W52*O60)/$B$51 -> 0
A53: GC | B53: 259.5 | C53: J/Kg/K | E53: =E52+0.05 -> 0.85 | F53: =E53 -> 0.85 | G53: =F53*2 -> 1.7 | H53: =H52+0.1 -> 1.7 | I53: 5.643 | J53: =S45*(F53+G53+H53+I53) -> 8.1294383e-07 | L53: =L52+0.05 -> 0.85 | M53: =M52+0.4 -> 6.8 | N53: =N52+0.45 -> 7.65 | O53: =O52-1.25 -> 3.75 | P53: 47 | Q53: =W45*(M53+N53+O53+P53) -> 2.2725082e-05
A54: Density | B54: 690 | C54: Kg/m^3 | E54: =E53+0.05 -> 0.9 | F54: =E54 -> 0.9 | G54: =F54*2 -> 1.8 | H54: =H53+0.1 -> 1.8 | I54: 5.643 | J54: =S46*(F54+G54+H54+I54) -> 8.2830579e-07 | L54: =L53+0.05 -> 0.9 | M54: =M53+0.4 -> 7.2 | N54: =N53+0.45 -> 8.1 | O54: =O53-1.25 -> 2.5 | P54: 47 | Q54: =W46*(M54+N54+O54+P54) -> 2.2566975e-05 | T54: Iso-octane | W54: Calculations
A55: Density | B55: 792 | C55: Kg/m^3 | E55: =E54+0.05 -> 0.95 | F55: =E55 -> 0.95 | G55: =F55*2 -> 1.9 | H55: =H54+0.1 -> 1.9 | I55: 5.643 | J55: =S47*(F55+G55+H55+I55) -> 8.4347794e-07 | L55: =L54+0.05 -> 0.95 | M55: =M54+0.4 -> 7.6 | N55: =N54+0.45 -> 8.55 | O55: =O54-1.25 -> 1.25 | P55: 47 | Q55: =W47*(M55+N55+O55+P55) -> 2.240913e-05 | T55: Methanol
A56: Vol Eff | B56: 40 | C56: % | E56: =E55+0.01 -> 0.96 | F56: =E56 -> 0.96 | G56: =F56*2 -> 1.92 | H56: =H55+0.02 -> 1.92 | I56: 5.643 | J56: =S48*(F56+G56+H56+I56) -> 8.464899e-07 | L56: =L55+0.01 -> 0.96 | M56: =M55+0.08 -> 7.68 | N56: =N55+0.09 -> 8.64 | O56: =O55-0.25 -> 1 | P56: 47 | Q56: =W48*(M56+N56+O56+P56) -> 2.2377592e-05 | T56: Titles | W56: Key
A57: Mol mass | B57: 114.22 | C57: g/mol | E57: =E56+0.01 -> 0.97 | F57: =E57 -> 0.97 | G57: =F57*2 -> 1.94 | H57: =H56+0.02 -> 1.94 | I57: 5.643 | J57: =S49*(F57+G57+H57+I57) -> 8.4949444e-07 | L57: =L56+0.01 -> 0.97 | M57: =M56+0.08 -> 7.76 | N57: =N56+0.09 -> 8.73 | O57: =O56-0.25 -> 0.75 | P57: 47 | Q57: =W49*(M57+N57+O57+P57) -> 2.2346065e-05 | T57: Identities
A58: Mol mass | B58: 32.04 | C58: g/mol | E58: =E57+0.01 -> 0.98 | F58: =E58 -> 0.98 | G58: =F58*2 -> 1.96 | H58: =H57+0.02 -> 1.96 | I58: 5.643 | J58: =S50*(F58+G58+H58+I58) -> 8.5249157e-07 | L58: =L57+0.01 -> 0.98 | M58: =M57+0.08 -> 7.84 | N58: =N57+0.09 -> 8.82 | O58: =O57-0.25 -> 0.5 | P58: 47 | Q58: =W50*(M58+N58+O58+P58) -> 2.2314548e-05 | T58: Units
A59: Iso-octane | E59: =E58+0.01 -> 0.99 | F59: =E59 -> 0.99 | G59: =F59*2 -> 1.98 | H59: =H58+0.02 -> 1.98 | I59: 5.643 | J59: =S51*(F59+G59+H59+I59) -> 8.5548134e-07 | L59: =L58+0.01 -> 0.99 | M59: =M58+0.08 -> 7.92 | N59: =N58+0.09 -> 8.91 | O59: =O58-0.25 -> 0.25 | P59: 47 | Q59: =W51*(M59+N59+O59+P59) -> 2.2283041e-05 | T59: Chemical formula
A60: Methanol | E60: =E59+0.01 -> 1 | F60: =E60 -> 1 | G60: =F60*2 -> 2 | H60: =H59+0.02 -> 2 | I60: 5.643 | J60: =S52*(F60+G60+H60+I60) -> 8.5846377e-07 | L60: =L59+0.01 -> 1 | M60: =M59+0.08 -> 8 | N60: =N59+0.09 -> 9 | O60: =O59-0.25 -> 0 | P60: 47 | Q60: =W52*(M60+N60+O60+P60) -> 2.2251545e-05 | T60: Transcribed data
