Workbook

Sheet No EGR
A1: RPM | B1: 1800
A2: Iso-Ethanol
B3: Φ | C3: 0.6 | E3: =C3+0.05 -> 0.65 | G3: 0.7 | I3: 0.75 | K3: 0.8 | M3: 0.85 | O3: 0.9 | Q3: 0.95 | S3: 0.96 | U3: 0.97 | W3: 0.98 | Y3: 0.99 | AA3: 1
A4: Crank Angle | B4: Pressure | C4: Temperature | D4: NoX | E4: Temperature | F4: NoX | G4: Temperature | H4: NoX | I4: Temperature | J4: NoX | K4: Temperature | L4: NoX | M4: Temperature | N4: NoX | O4: Temperature | P4: NoX | Q4: Temperature | R4: NoX | S4: Temperature | T4: NoX | U4: Temperature | V4: NoX | W4: Temperature | X4: NoX | Y4: Temperature | Z4: NoX | AA4: Temperature | AB4: NoX
A5: Degrees | B5: Bar | C5: K | D5: Kmol/° | E5: K | F5: Kmol/° | G5: K | H5: Kmol/° | I5: K | J5: Kmol/° | K5: K | L5: Kmol/° | M5: K | N5: Kmol/° | O5: K | P5: Kmol/° | Q5: K | R5: Kmol/° | S5: K | T5: Kmol/° | U5: K | V5: Kmol/° | W5: K | X5: Kmol/° | Y5: K | Z5: Kmol/° | AA5: K | AB5: Kmol/°
A6: 0 | B6: 10 | C6: 1606.676 | D6: =((4170000000000*((('Reference tables'!$X$40)*('Reference tables'!$Y$40))^0.5)*EXP((-67837/'No EGR'!C6)))/('No EGR'!$B$1*6))*'Reference tables'!$B$51 -> 1.3491479e-15 | E6: 1707.012 | F6: =((4170000000000*((('Reference tables'!$X$41)*('Reference tables'!$Y$41))^0.5)*EXP((-67837/'No EGR'!E6)))/('No EGR'!$B$1*6))*'Reference tables'!$B$51 -> 1.5083918e-14 | G6: 1806.432 | H6: =((4170000000000*((('Reference tables'!$X$42)*('Reference tables'!$Y$42))^0.5)*EXP((-67837/'No EGR'!G6)))/('No EGR'!$B$1*6))*'Reference tables'!$B$51 -> 1.2432405e-13 | I6: 1905.217 | J6: =((4170000000000*((('Reference tables'!$X$43)*('Reference tables'!$Y$43))^0.5)*EXP((-67837/'No EGR'!I6)))/('No EGR'!$B$1*6))*'Reference tables'!$B$51 -> 7.9474055e-13 | K6: 2003.346 | L6: =((4170000000000*((('Reference tables'!$X$44)*('Reference tables'!$Y$44))^0.5)*EXP((-67837/'No EGR'!K6)))/('No EGR'!$B$1*6))*'Reference tables'!$B$51 -> 4.0630267e-12 | M6: 2101.027 | N6: =((4170000000000*((('Reference tables'!$X$45)*('Reference tables'!$Y$45))^0.5)*EXP((-67837/'No EGR'!M6)))/('No EGR'!$B$1*6))*'Reference tables'!$B$51 -> 1.6971994e-11 | O6: 2197.913 | P6: =((4170000000000*((('Reference tables'!$X$46)*('Reference tables'!$Y$46))^0.5)*EXP((-67837/'No EGR'!O6)))/('No EGR'!$B$1*6))*'Reference tables'!$B$51 -> 5.7470308e-11 | Q6: 2294.596 | R6: =((4170000000000*((('Reference tables'!$X$47)*('Reference tables'!$Y$47))^0.5)*EXP((-67837/'No EGR'!Q6)))/('No EGR'!$B$1*6))*'Reference tables'!$B$51 -> 1.4905819e-10 | S6: 2313.81 | T6: =((4170000000000*((('Reference tables'!$X$48)*('Reference tables'!$Y$48))^0.5)*EXP((-67837/'No EGR'!S6)))/('No EGR'!$B$1*6))*'Reference tables'!$B$51 -> 1.7039156e-10 | U6: 2337.995 | V6: =((4170000000000*((('Reference tables'!$X$49)*('Reference tables'!$Y$49))^0.5)*EXP((-67837/'No EGR'!U6)))/('No EGR'!$B$1*6))*'Reference tables'!$B$51 -> 1.9981084e-10 | W6: 2352.184 | X6: =((4170000000000*((('Reference tables'!$X$50)*('Reference tables'!$Y$50))^0.5)*EXP((-67837/'No EGR'!W6)))/('No EGR'!$B$1*6))*'Reference tables'!$B$51 -> 1.9431871e-10 | Y6: 2370.798 | Z6: =((4170000000000*((('Reference tables'!$X$51)*('Reference tables'!$Y$51))^0.5)*EXP((-67837/'No EGR'!Y6)))/('No EGR'!$B$1*6))*'Reference tables'!$B$51 -> 1.722926e-10 | AA6: 2393.579 | AB6: =((4170000000000*((('Reference tables'!$X$52)*('Reference tables'!$Y$52))^0.5)*EXP((-67837/'No EGR'!AA6)))/('No EGR'!$B$1*6))*'Reference tables'!$B$51 -> 0
A7: =A6+1 -> 1 | B7: =B6+2 -> 12 | C7: =((((B29^(1.59-1))/(B28^(1.59-1)))*C6^(1.59)))^(1/1.59) -> 1719.1352 | D7: =((4170000000000*((('Reference tables'!$X$40)*('Reference tables'!$Y$40))^0.5)*EXP((-67837/'No EGR'!C7)))/('No EGR'!$B$1*6))*'Reference tables'!$B$51 -> 2.1358935e-14 | E7: =((((B29^(1.59-1))/(B28^(1.59-1)))*E6^(1.59)))^(1/1.59) -> 1826.4942 | F7: =((4170000000000*((('Reference tables'!$X$41)*('Reference tables'!$Y$41))^0.5)*EXP((-67837/'No EGR'!E7)))/('No EGR'!$B$1*6))*'Reference tables'!$B$51 -> 2.030149e-13 | G7: =((((B29^(1.59-1))/(B28^(1.59-1)))*G6^(1.59)))^(1/1.59) -> 1932.8731 | H7: =((4170000000000*((('Reference tables'!$X$42)*('Reference tables'!$Y$42))^0.5)*EXP((-67837/'No EGR'!G7)))/('No EGR'!$B$1*6))*'Reference tables'!$B$51 -> 1.4502129e-12 | I7: =((((B29^(1.59-1))/(B28^(1.59-1)))*I6^(1.59)))^(1/1.59) -> 2038.5725 | J7: =((4170000000000*((('Reference tables'!$X$43)*('Reference tables'!$Y$43))^0.5)*EXP((-67837/'No EGR'!I7)))/('No EGR'!$B$1*6))*'Reference tables'!$B$51 -> 8.1617768e-12 | K7: =((((B29^(1.59-1))/(B28^(1.59-1)))*K6^(1.59)))^(1/1.59) -> 2143.5701 | L7: =((4170000000000*((('Reference tables'!$X$44)*('Reference tables'!$Y$44))^0.5)*EXP((-67837/'No EGR'!K7)))/('No EGR'!$B$1*6))*'Reference tables'!$B$51 -> 3.7227191e-11 | M7: =((((B29^(1.59-1))/(B28^(1.59-1)))*M6^(1.59)))^(1/1.59) -> 2248.0882 | N7: =((4170000000000*((('Reference tables'!$X$45)*('Reference tables'!$Y$45))^0.5)*EXP((-67837/'No EGR'!M7)))/('No EGR'!$B$1*6))*'Reference tables'!$B$51 -> 1.4028707e-10 | O7: =((((B29^(1.59-1))/(B28^(1.59-1)))*O6^(1.59)))^(1/1.59) -> 2351.7558 | P7: =((4170000000000*((('Reference tables'!$X$46)*('Reference tables'!$Y$46))^0.5)*EXP((-67837/'No EGR'!O7)))/('No EGR'!$B$1*6))*'Reference tables'!$B$51 -> 4.3280627e-10 | Q7: =((((B29^(1.59-1))/(B28^(1.59-1)))*Q6^(1.59)))^(1/1.59) -> 2455.2061 | R7: =((4170000000000*((('Reference tables'!$X$47)*('Reference tables'!$Y$47))^0.5)*EXP((-67837/'No EGR'!Q7)))/('No EGR'!$B$1*6))*'Reference tables'!$B$51 -> 1.0310025e-09 | S7: =((((B29^(1.59-1))/(B28^(1.59-1)))*S6^(1.59)))^(1/1.59) -> 2475.765 | T7: =((4170000000000*((('Reference tables'!$X$48)*('Reference tables'!$Y$48))^0.5)*EXP((-67837/'No EGR'!S7)))/('No EGR'!$B$1*6))*'Reference tables'!$B$51 -> 1.1597846e-09 | U7: =((((B29^(1.59-1))/(B28^(1.59-1)))*U6^(1.59)))^(1/1.59) -> 2501.6428 | V7: =((4170000000000*((('Reference tables'!$X$49)*('Reference tables'!$Y$49))^0.5)*EXP((-67837/'No EGR'!U7)))/('No EGR'!$B$1*6))*'Reference tables'!$B$51 -> 1.3333133e-09 | W7: =((((B29^(1.59-1))/(B28^(1.59-1)))*W6^(1.59)))^(1/1.59) -> 2516.825 | X7: =((4170000000000*((('Reference tables'!$X$50)*('Reference tables'!$Y$50))^0.5)*EXP((-67837/'No EGR'!W7)))/('No EGR'!$B$1*6))*'Reference tables'!$B$51 -> 1.2819034e-09 | Y7: =((((B29^(1.59-1))/(B28^(1.59-1)))*Y6^(1.59)))^(1/1.59) -> 2536.7418 | Z7: =((4170000000000*((('Reference tables'!$X$51)*('Reference tables'!$Y$51))^0.5)*EXP((-67837/'No EGR'!Y7)))/('No EGR'!$B$1*6))*'Reference tables'!$B$51 -> 1.1198875e-09 | AA7: =((((B29^(1.59-1))/(B28^(1.59-1)))*AA6^(1.59)))^(1/1.59) -> 2561.1174 | AB7: =((4170000000000*((('Reference tables'!$X$52)*('Reference tables'!$Y$52))^0.5)*EXP((-67837/'No EGR'!AA7)))/('No EGR'!$B$1*6))*'Reference tables'!$B$51 -> 0
A8: =A7+1 -> 2 | B8: =B7+2 -> 14 | C8: =((((B30^(1.59-1))/(B29^(1.59-1)))*C7^(1.59)))^(1/1.59) -> 1820.3375 | D8: =((4170000000000*((('Reference tables'!$X$40)*('Reference tables'!$Y$40))^0.5)*EXP((-67837/'No EGR'!C8)))/('No EGR'!$B$1*6))*'Reference tables'!$B$51 -> 1.9157146e-13 | E8: =((((B30^(1.59-1))/(B29^(1.59-1)))*E7^(1.59)))^(1/1.59) -> 1934.0165 | F8: =((4170000000000*((('Reference tables'!$X$41)*('Reference tables'!$Y$41))^0.5)*EXP((-67837/'No EGR'!E8)))/('No EGR'!$B$1*6))*'Reference tables'!$B$51 -> 1.6005809e-12 | G8: =((((B30^(1.59-1))/(B29^(1.59-1)))*G7^(1.59)))^(1/1.59) -> 2046.6578 | H8: =((4170000000000*((('Reference tables'!$X$42)*('Reference tables'!$Y$42))^0.5)*EXP((-67837/'No EGR'!G8)))/('No EGR'!$B$1*6))*'Reference tables'!$B$51 -> 1.0205337e-11 | I8: =((((B30^(1.59-1))/(B29^(1.59-1)))*I7^(1.59)))^(1/1.59) -> 2158.5796 | J8: =((4170000000000*((('Reference tables'!$X$43)*('Reference tables'!$Y$43))^0.5)*EXP((-67837/'No EGR'!I8)))/('No EGR'!$B$1*6))*'Reference tables'!$B$51 -> 5.1909048e-11 | K8: =((((B30^(1.59-1))/(B29^(1.59-1)))*K7^(1.59)))^(1/1.59) -> 2269.7581 | L8: =((4170000000000*((('Reference tables'!$X$44)*('Reference tables'!$Y$44))^0.5)*EXP((-67837/'No EGR'!K8)))/('No EGR'!$B$1*6))*'Reference tables'!$B$51 -> 2.1625351e-10 | M8: =((((B30^(1.59-1))/(B29^(1.59-1)))*M7^(1.59)))^(1/1.59) -> 2380.4291 | N8: =((4170000000000*((('Reference tables'!$X$45)*('Reference tables'!$Y$45))^0.5)*EXP((-67837/'No EGR'!M8)))/('No EGR'!$B$1*6))*'Reference tables'!$B$51 -> 7.5092379e-10 | O8: =((((B30^(1.59-1))/(B29^(1.59-1)))*O7^(1.59)))^(1/1.59) -> 2490.1993 | P8: =((4170000000000*((('Reference tables'!$X$46)*('Reference tables'!$Y$46))^0.5)*EXP((-67837/'No EGR'!O8)))/('No EGR'!$B$1*6))*'Reference tables'!$B$51 -> 2.1515695e-09 | Q8: =((((B30^(1.59-1))/(B29^(1.59-1)))*Q7^(1.59)))^(1/1.59) -> 2599.7396 | R8: =((4170000000000*((('Reference tables'!$X$47)*('Reference tables'!$Y$47))^0.5)*EXP((-67837/'No EGR'!Q8)))/('No EGR'!$B$1*6))*'Reference tables'!$B$51 -> 4.7904472e-09 | S8: =((((B30^(1.59-1))/(B29^(1.59-1)))*S7^(1.59)))^(1/1.59) -> 2621.5087 | T8: =((4170000000000*((('Reference tables'!$X$48)*('Reference tables'!$Y$48))^0.5)*EXP((-67837/'No EGR'!S8)))/('No EGR'!$B$1*6))*'Reference tables'!$B$51 -> 5.3205181e-09 | U8: =((((B30^(1.59-1))/(B29^(1.59-1)))*U7^(1.59)))^(1/1.59) -> 2648.9099 | V8: =((4170000000000*((('Reference tables'!$X$49)*('Reference tables'!$Y$49))^0.5)*EXP((-67837/'No EGR'!U8)))/('No EGR'!$B$1*6))*'Reference tables'!$B$51 -> 6.0209527e-09 | W8: =((((B30^(1.59-1))/(B29^(1.59-1)))*W7^(1.59)))^(1/1.59) -> 2664.9858 | X8: =((4170000000000*((('Reference tables'!$X$50)*('Reference tables'!$Y$50))^0.5)*EXP((-67837/'No EGR'!W8)))/('No EGR'!$B$1*6))*'Reference tables'!$B$51 -> 5.7363917e-09 | Y8: =((((B30^(1.59-1))/(B29^(1.59-1)))*Y7^(1.59)))^(1/1.59) -> 2686.0752 | Z8: =((4170000000000*((('Reference tables'!$X$51)*('Reference tables'!$Y$51))^0.5)*EXP((-67837/'No EGR'!Y8)))/('No EGR'!$B$1*6))*'Reference tables'!$B$51 -> 4.9527719e-09 | AA8: =((((B30^(1.86-1))/(B29^(1.86-1)))*AA7^(1.86)))^(1/1.86) -> 2750.321 | AB8: =((4170000000000*((('Reference tables'!$X$52)*('Reference tables'!$Y$52))^0.5)*EXP((-67837/'No EGR'!AA8)))/('No EGR'!$B$1*6))*'Reference tables'!$B$51 -> 0
A9: =A8+1 -> 3 | B9: =B8+2 -> 16 | C9: =((((B31^(1.59-1))/(B30^(1.59-1)))*C8^(1.59)))^(1/1.59) -> 1912.8061 | D9: =((4170000000000*((('Reference tables'!$X$40)*('Reference tables'!$Y$40))^0.5)*EXP((-67837/'No EGR'!C9)))/('No EGR'!$B$1*6))*'Reference tables'!$B$51 -> 1.160697e-12 | E9: =((((B31^(1.59-1))/(B30^(1.59-1)))*E8^(1.59)))^(1/1.59) -> 2032.2597 | F9: =((4170000000000*((('Reference tables'!$X$41)*('Reference tables'!$Y$41))^0.5)*EXP((-67837/'No EGR'!E9)))/('No EGR'!$B$1*6))*'Reference tables'!$B$51 -> 8.7232415e-12 | G9: =((((B31^(1.59-1))/(B30^(1.59-1)))*G8^(1.59)))^(1/1.59) -> 2150.6228 | H9: =((4170000000000*((('Reference tables'!$X$42)*('Reference tables'!$Y$42))^0.5)*EXP((-67837/'No EGR'!G9)))/('No EGR'!$B$1*6))*'Reference tables'!$B$51 -> 5.06639e-11 | I9: =((((B31^(1.59-1))/(B30^(1.59-1)))*I8^(1.59)))^(1/1.59) -> 2268.23 | J9: =((4170000000000*((('Reference tables'!$X$43)*('Reference tables'!$Y$43))^0.5)*EXP((-67837/'No EGR'!I9)))/('No EGR'!$B$1*6))*'Reference tables'!$B$51 -> 2.371557e-10 | K9: =((((B31^(1.59-1))/(B30^(1.59-1)))*K8^(1.59)))^(1/1.59) -> 2385.0561 | L9: =((4170000000000*((('Reference tables'!$X$44)*('Reference tables'!$Y$44))^0.5)*EXP((-67837/'No EGR'!K9)))/('No EGR'!$B$1*6))*'Reference tables'!$B$51 -> 9.1713963e-10 | M9: =((((B31^(1.59-1))/(B30^(1.59-1)))*M8^(1.59)))^(1/1.59) -> 2501.3489 | N9: =((4170000000000*((('Reference tables'!$X$45)*('Reference tables'!$Y$45))^0.5)*EXP((-67837/'No EGR'!M9)))/('No EGR'!$B$1*6))*'Reference tables'!$B$51 -> 2.9778011e-09 | O9: =((((B31^(1.59-1))/(B30^(1.59-1)))*O8^(1.59)))^(1/1.59) -> 2616.6952 | P9: =((4170000000000*((('Reference tables'!$X$46)*('Reference tables'!$Y$46))^0.5)*EXP((-67837/'No EGR'!O9)))/('No EGR'!$B$1*6))*'Reference tables'!$B$51 -> 8.0293725e-09 | Q9: =((((B31^(1.59-1))/(B30^(1.59-1)))*Q8^(1.59)))^(1/1.59) -> 2731.7998 | R9: =((4170000000000*((('Reference tables'!$X$47)*('Reference tables'!$Y$47))^0.5)*EXP((-67837/'No EGR'!Q9)))/('No EGR'!$B$1*6))*'Reference tables'!$B$51 -> 1.6912357e-08 | S9: =((((B31^(1.59-1))/(B30^(1.59-1)))*S8^(1.59)))^(1/1.59) -> 2754.6748 | T9: =((4170000000000*((('Reference tables'!$X$48)*('Reference tables'!$Y$48))^0.5)*EXP((-67837/'No EGR'!S9)))/('No EGR'!$B$1*6))*'Reference tables'!$B$51 -> 1.8588006e-08 | U9: =((((B31^(1.59-1))/(B30^(1.59-1)))*U8^(1.59)))^(1/1.59) -> 2783.4679 | V9: =((4170000000000*((('Reference tables'!$X$49)*('Reference tables'!$Y$49))^0.5)*EXP((-67837/'No EGR'!U9)))/('No EGR'!$B$1*6))*'Reference tables'!$B$51 -> 2.0764632e-08 | W9: =((((B31^(1.59-1))/(B30^(1.59-1)))*W8^(1.59)))^(1/1.59) -> 2800.3604 | X9: =((4170000000000*((('Reference tables'!$X$50)*('Reference tables'!$Y$50))^0.5)*EXP((-67837/'No EGR'!W9)))/('No EGR'!$B$1*6))*'Reference tables'!$B$51 -> 1.9636068e-08 | Y9: =((((B31^(1.59-1))/(B30^(1.59-1)))*Y8^(1.59)))^(1/1.59) -> 2822.521 | Z9: =((4170000000000*((('Reference tables'!$X$51)*('Reference tables'!$Y$51))^0.5)*EXP((-67837/'No EGR'!Y9)))/('No EGR'!$B$1*6))*'Reference tables'!$B$51 -> 1.6790675e-08 | AA9: =((((B31^(1.86-1))/(B30^(1.86-1)))*AA8^(1.86)))^(1/1.86) -> 2925.4782 | AB9: =((4170000000000*((('Reference tables'!$X$52)*('Reference tables'!$Y$52))^0.5)*EXP((-67837/'No EGR'!AA9)))/('No EGR'!$B$1*6))*'Reference tables'!$B$51 -> 0
A10: =A9+1 -> 4 | B10: =B9+2 -> 18 | C10: =((((B32^(1.59-1))/(B31^(1.59-1)))*C9^(1.59)))^(1/1.59) -> 1998.2603 | D10: =((4170000000000*((('Reference tables'!$X$40)*('Reference tables'!$Y$40))^0.5)*EXP((-67837/'No EGR'!C10)))/('No EGR'!$B$1*6))*'Reference tables'!$B$51 -> 5.2890707e-12 | E10: =((((B32^(1.59-1))/(B31^(1.59-1)))*E9^(1.59)))^(1/1.59) -> 2123.0505 | F10: =((4170000000000*((('Reference tables'!$X$41)*('Reference tables'!$Y$41))^0.5)*EXP((-67837/'No EGR'!E10)))/('No EGR'!$B$1*6))*'Reference tables'!$B$51 -> 3.6359943e-11 | G10: =((((B32^(1.59-1))/(B31^(1.59-1)))*G9^(1.59)))^(1/1.59) -> 2246.7015 | H10: =((4170000000000*((('Reference tables'!$X$42)*('Reference tables'!$Y$42))^0.5)*EXP((-67837/'No EGR'!G10)))/('No EGR'!$B$1*6))*'Reference tables'!$B$51 -> 1.9521995e-10 | I10: =((((B32^(1.59-1))/(B31^(1.59-1)))*I9^(1.59)))^(1/1.59) -> 2369.5627 | J10: =((4170000000000*((('Reference tables'!$X$43)*('Reference tables'!$Y$43))^0.5)*EXP((-67837/'No EGR'!I10)))/('No EGR'!$B$1*6))*'Reference tables'!$B$51 -> 8.520876e-10 | K10: =((((B32^(1.59-1))/(B31^(1.59-1)))*K9^(1.59)))^(1/1.59) -> 2491.608 | L10: =((4170000000000*((('Reference tables'!$X$44)*('Reference tables'!$Y$44))^0.5)*EXP((-67837/'No EGR'!K10)))/('No EGR'!$B$1*6))*'Reference tables'!$B$51 -> 3.0951289e-09 | M10: =((((B32^(1.59-1))/(B31^(1.59-1)))*M9^(1.59)))^(1/1.59) -> 2613.0962 | N10: =((4170000000000*((('Reference tables'!$X$45)*('Reference tables'!$Y$45))^0.5)*EXP((-67837/'No EGR'!M10)))/('No EGR'!$B$1*6))*'Reference tables'!$B$51 -> 9.4968564e-09 | O10: =((((B32^(1.59-1))/(B31^(1.59-1)))*O9^(1.59)))^(1/1.59) -> 2733.5955 | P10: =((4170000000000*((('Reference tables'!$X$46)*('Reference tables'!$Y$46))^0.5)*EXP((-67837/'No EGR'!O10)))/('No EGR'!$B$1*6))*'Reference tables'!$B$51 -> 2.4331166e-08 | Q10: =((((B32^(1.59-1))/(B31^(1.59-1)))*Q9^(1.59)))^(1/1.59) -> 2853.8424 | R10: =((4170000000000*((('Reference tables'!$X$47)*('Reference tables'!$Y$47))^0.5)*EXP((-67837/'No EGR'!Q10)))/('No EGR'!$B$1*6))*'Reference tables'!$B$51 -> 4.891006e-08 | S10: =((((B32^(1.59-1))/(B31^(1.59-1)))*S9^(1.59)))^(1/1.59) -> 2877.7393 | T10: =((4170000000000*((('Reference tables'!$X$48)*('Reference tables'!$Y$48))^0.5)*EXP((-67837/'No EGR'!S10)))/('No EGR'!$B$1*6))*'Reference tables'!$B$51 -> 5.3284033e-08 | U10: =((((B32^(1.59-1))/(B31^(1.59-1)))*U9^(1.59)))^(1/1.59) -> 2907.8188 | V10: =((4170000000000*((('Reference tables'!$X$49)*('Reference tables'!$Y$49))^0.5)*EXP((-67837/'No EGR'!U10)))/('No EGR'!$B$1*6))*'Reference tables'!$B$51 -> 5.8878589e-08 | W10: =((((B32^(1.59-1))/(B31^(1.59-1)))*W9^(1.59)))^(1/1.59) -> 2925.466 | X10: =((4170000000000*((('Reference tables'!$X$50)*('Reference tables'!$Y$50))^0.5)*EXP((-67837/'No EGR'!W10)))/('No EGR'!$B$1*6))*'Reference tables'!$B$51 -> 5.5329567e-08 | Y10: =((((B32^(1.59-1))/(B31^(1.59-1)))*Y9^(1.59)))^(1/1.59) -> 2948.6166 | Z10: =((4170000000000*((('Reference tables'!$X$51)*('Reference tables'!$Y$51))^0.5)*EXP((-67837/'No EGR'!Y10)))/('No EGR'!$B$1*6))*'Reference tables'!$B$51 -> 4.6928704e-08 | AA10: =((((B32^(1.86-1))/(B31^(1.86-1)))*AA9^(1.86)))^(1/1.86) -> 3089.2142 | AB10: =((4170000000000*((('Reference tables'!$X$52)*('Reference tables'!$Y$52))^0.5)*EXP((-67837/'No EGR'!AA10)))/('No EGR'!$B$1*6))*'Reference tables'!$B$51 -> 0
A11: =A10+1 -> 5 | B11: =B10+2 -> 20 | C11: =((((B33^(1.59-1))/(B32^(1.59-1)))*C10^(1.59)))^(1/1.59) -> 2077.9317 | D11: =((4170000000000*((('Reference tables'!$X$40)*('Reference tables'!$Y$40))^0.5)*EXP((-67837/'No EGR'!C11)))/('No EGR'!$B$1*6))*'Reference tables'!$B$51 -> 1.9438704e-11 | E11: =((((B33^(1.59-1))/(B32^(1.59-1)))*E10^(1.59)))^(1/1.59) -> 2207.6973 | F11: =((4170000000000*((('Reference tables'!$X$41)*('Reference tables'!$Y$41))^0.5)*EXP((-67837/'No EGR'!E11)))/('No EGR'!$B$1*6))*'Reference tables'!$B$51 -> 1.2378962e-10 | G11: =((((B33^(1.59-1))/(B32^(1.59-1)))*G10^(1.59)))^(1/1.59) -> 2336.2783 | H11: =((4170000000000*((('Reference tables'!$X$42)*('Reference tables'!$Y$42))^0.5)*EXP((-67837/'No EGR'!G11)))/('No EGR'!$B$1*6))*'Reference tables'!$B$51 -> 6.2130143e-10 | I11: =((((B33^(1.59-1))/(B32^(1.59-1)))*I10^(1.59)))^(1/1.59) -> 2464.038 | J11: =((4170000000000*((('Reference tables'!$X$43)*('Reference tables'!$Y$43))^0.5)*EXP((-67837/'No EGR'!I11)))/('No EGR'!$B$1*6))*'Reference tables'!$B$51 -> 2.5538389e-09 | K11: =((((B33^(1.59-1))/(B32^(1.59-1)))*K10^(1.59)))^(1/1.59) -> 2590.9493 | L11: =((4170000000000*((('Reference tables'!$X$44)*('Reference tables'!$Y$44))^0.5)*EXP((-67837/'No EGR'!K11)))/('No EGR'!$B$1*6))*'Reference tables'!$B$51 -> 8.7909852e-09 | M11: =((((B33^(1.59-1))/(B32^(1.59-1)))*M10^(1.59)))^(1/1.59) -> 2717.2812 | N11: =((4170000000000*((('Reference tables'!$X$45)*('Reference tables'!$Y$45))^0.5)*EXP((-67837/'No EGR'!M11)))/('No EGR'!$B$1*6))*'Reference tables'!$B$51 -> 2.5695739e-08 | O11: =((((B33^(1.59-1))/(B32^(1.59-1)))*O10^(1.59)))^(1/1.59) -> 2842.5849 | P11: =((4170000000000*((('Reference tables'!$X$46)*('Reference tables'!$Y$46))^0.5)*EXP((-67837/'No EGR'!O11)))/('No EGR'!$B$1*6))*'Reference tables'!$B$51 -> 6.3007003e-08 | Q11: =((((B33^(1.59-1))/(B32^(1.59-1)))*Q10^(1.59)))^(1/1.59) -> 2967.6261 | R11: =((4170000000000*((('Reference tables'!$X$47)*('Reference tables'!$Y$47))^0.5)*EXP((-67837/'No EGR'!Q11)))/('No EGR'!$B$1*6))*'Reference tables'!$B$51 -> 1.216782e-07 | S11: =((((B33^(1.59-1))/(B32^(1.59-1)))*S10^(1.59)))^(1/1.59) -> 2992.4758 | T11: =((4170000000000*((('Reference tables'!$X$48)*('Reference tables'!$Y$48))^0.5)*EXP((-67837/'No EGR'!S11)))/('No EGR'!$B$1*6))*'Reference tables'!$B$51 -> 1.3156028e-07 | U11: =((((B33^(1.59-1))/(B32^(1.59-1)))*U10^(1.59)))^(1/1.59) -> 3023.7545 | V11: =((4170000000000*((('Reference tables'!$X$49)*('Reference tables'!$Y$49))^0.5)*EXP((-67837/'No EGR'!U11)))/('No EGR'!$B$1*6))*'Reference tables'!$B$51 -> 1.4402062e-07 | W11: =((((B33^(1.59-1))/(B32^(1.59-1)))*W10^(1.59)))^(1/1.59) -> 3042.1053 | X11: =((4170000000000*((('Reference tables'!$X$50)*('Reference tables'!$Y$50))^0.5)*EXP((-67837/'No EGR'!W11)))/('No EGR'!$B$1*6))*'Reference tables'!$B$51 -> 1.3461121e-07 | Y11: =((((B33^(1.59-1))/(B32^(1.59-1)))*Y10^(1.59)))^(1/1.59) -> 3066.179 | Z11: =((4170000000000*((('Reference tables'!$X$51)*('Reference tables'!$Y$51))^0.5)*EXP((-67837/'No EGR'!Y11)))/('No EGR'!$B$1*6))*'Reference tables'!$B$51 -> 1.1337855e-07 | AA11: =((((B33^(1.86-1))/(B32^(1.86-1)))*AA10^(1.86)))^(1/1.86) -> 3243.4314 | AB11: =((4170000000000*((('Reference tables'!$X$52)*('Reference tables'!$Y$52))^0.5)*EXP((-67837/'No EGR'!AA11)))/('No EGR'!$B$1*6))*'Reference tables'!$B$51 -> 0
A12: =A11+1 -> 6 | B12: =B11+2 -> 22 | C12: =((((B34^(1.59-1))/(B33^(1.59-1)))*C11^(1.59)))^(1/1.59) -> 2152.7362 | D12: =((4170000000000*((('Reference tables'!$X$40)*('Reference tables'!$Y$40))^0.5)*EXP((-67837/'No EGR'!C12)))/('No EGR'!$B$1*6))*'Reference tables'!$B$51 -> 6.0441883e-11 | E12: =((((B34^(1.59-1))/(B33^(1.59-1)))*E11^(1.59)))^(1/1.59) -> 2287.1733 | F12: =((4170000000000*((('Reference tables'!$X$41)*('Reference tables'!$Y$41))^0.5)*EXP((-67837/'No EGR'!E12)))/('No EGR'!$B$1*6))*'Reference tables'!$B$51 -> 3.600778e-10 | G12: =((((B34^(1.59-1))/(B33^(1.59-1)))*G11^(1.59)))^(1/1.59) -> 2420.3832 | H12: =((4170000000000*((('Reference tables'!$X$42)*('Reference tables'!$Y$42))^0.5)*EXP((-67837/'No EGR'!G12)))/('No EGR'!$B$1*6))*'Reference tables'!$B$51 -> 1.7040931e-09 | I12: =((((B34^(1.59-1))/(B33^(1.59-1)))*I11^(1.59)))^(1/1.59) -> 2552.7422 | J12: =((4170000000000*((('Reference tables'!$X$43)*('Reference tables'!$Y$43))^0.5)*EXP((-67837/'No EGR'!I12)))/('No EGR'!$B$1*6))*'Reference tables'!$B$51 -> 6.647592e-09 | K12: =((((B34^(1.59-1))/(B33^(1.59-1)))*K11^(1.59)))^(1/1.59) -> 2684.2222 | L12: =((4170000000000*((('Reference tables'!$X$44)*('Reference tables'!$Y$44))^0.5)*EXP((-67837/'No EGR'!K12)))/('No EGR'!$B$1*6))*'Reference tables'!$B$51 -> 2.1835221e-08 | M12: =((((B34^(1.59-1))/(B33^(1.59-1)))*M11^(1.59)))^(1/1.59) -> 2815.102 | N12: =((4170000000000*((('Reference tables'!$X$45)*('Reference tables'!$Y$45))^0.5)*EXP((-67837/'No EGR'!M12)))/('No EGR'!$B$1*6))*'Reference tables'!$B$51 -> 6.1180247e-08 | O12: =((((B34^(1.59-1))/(B33^(1.59-1)))*O11^(1.59)))^(1/1.59) -> 2944.9166 | P12: =((4170000000000*((('Reference tables'!$X$46)*('Reference tables'!$Y$46))^0.5)*EXP((-67837/'No EGR'!O12)))/('No EGR'!$B$1*6))*'Reference tables'!$B$51 -> 1.4438812e-07 | Q12: =((((B34^(1.59-1))/(B33^(1.59-1)))*Q11^(1.59)))^(1/1.59) -> 3074.4592 | R12: =((4170000000000*((('Reference tables'!$X$47)*('Reference tables'!$Y$47))^0.5)*EXP((-67837/'No EGR'!Q12)))/('No EGR'!$B$1*6))*'Reference tables'!$B$51 -> 2.6926553e-07 | S12: =((((B34^(1.59-1))/(B33^(1.59-1)))*S11^(1.59)))^(1/1.59) -> 3100.2035 | T12: =((4170000000000*((('Reference tables'!$X$48)*('Reference tables'!$Y$48))^0.5)*EXP((-67837/'No EGR'!S12)))/('No EGR'!$B$1*6))*'Reference tables'!$B$51 -> 2.8921989e-07 | U12: =((((B34^(1.59-1))/(B33^(1.59-1)))*U11^(1.59)))^(1/1.59) -> 3132.6082 | V12: =((4170000000000*((('Reference tables'!$X$49)*('Reference tables'!$Y$49))^0.5)*EXP((-67837/'No EGR'!U12)))/('No EGR'!$B$1*6))*'Reference tables'!$B$51 -> 3.1404306e-07 | W12: =((((B34^(1.59-1))/(B33^(1.59-1)))*W11^(1.59)))^(1/1.59) -> 3151.6196 | X12: =((4170000000000*((('Reference tables'!$X$50)*('Reference tables'!$Y$50))^0.5)*EXP((-67837/'No EGR'!W12)))/('No EGR'!$B$1*6))*'Reference tables'!$B$51 -> 2.9214834e-07 | Y12: =((((B34^(1.59-1))/(B33^(1.59-1)))*Y11^(1.59)))^(1/1.59) -> 3176.56 | Z12: =((4170000000000*((('Reference tables'!$X$51)*('Reference tables'!$Y$51))^0.5)*EXP((-67837/'No EGR'!Y12)))/('No EGR'!$B$1*6))*'Reference tables'!$B$51 -> 2.4457437e-07 | AA12: =((((B34^(1.86-1))/(B33^(1.86-1)))*AA11^(1.86)))^(1/1.86) -> 3389.5595 | AB12: =((4170000000000*((('Reference tables'!$X$52)*('Reference tables'!$Y$52))^0.5)*EXP((-67837/'No EGR'!AA12)))/('No EGR'!$B$1*6))*'Reference tables'!$B$51 -> 0
A13: =A12+1 -> 7 | B13: =B12+2 -> 24 | C13: =((((B35^(1.59-1))/(B34^(1.59-1)))*C12^(1.59)))^(1/1.59) -> 2223.3763 | D13: =((4170000000000*((('Reference tables'!$X$40)*('Reference tables'!$Y$40))^0.5)*EXP((-67837/'No EGR'!C13)))/('No EGR'!$B$1*6))*'Reference tables'!$B$51 -> 1.6449296e-10 | E13: =((((B35^(1.59-1))/(B34^(1.59-1)))*E12^(1.59)))^(1/1.59) -> 2362.2249 | F13: =((4170000000000*((('Reference tables'!$X$41)*('Reference tables'!$Y$41))^0.5)*EXP((-67837/'No EGR'!E13)))/('No EGR'!$B$1*6))*'Reference tables'!$B$51 -> 9.2394926e-10 | G13: =((((B35^(1.59-1))/(B34^(1.59-1)))*G12^(1.59)))^(1/1.59) -> 2499.8059 | H13: =((4170000000000*((('Reference tables'!$X$42)*('Reference tables'!$Y$42))^0.5)*EXP((-67837/'No EGR'!G13)))/('No EGR'!$B$1*6))*'Reference tables'!$B$51 -> 4.1516547e-09 | I13: =((((B35^(1.59-1))/(B34^(1.59-1)))*I12^(1.59)))^(1/1.59) -> 2636.5082 | J13: =((4170000000000*((('Reference tables'!$X$43)*('Reference tables'!$Y$43))^0.5)*EXP((-67837/'No EGR'!I13)))/('No EGR'!$B$1*6))*'Reference tables'!$B$51 -> 1.5464666e-08 | K13: =((((B35^(1.59-1))/(B34^(1.59-1)))*K12^(1.59)))^(1/1.59) -> 2772.3026 | L13: =((4170000000000*((('Reference tables'!$X$44)*('Reference tables'!$Y$44))^0.5)*EXP((-67837/'No EGR'!K13)))/('No EGR'!$B$1*6))*'Reference tables'!$B$51 -> 4.8738599e-08 | M13: =((((B35^(1.59-1))/(B34^(1.59-1)))*M12^(1.59)))^(1/1.59) -> 2907.4771 | N13: =((4170000000000*((('Reference tables'!$X$45)*('Reference tables'!$Y$45))^0.5)*EXP((-67837/'No EGR'!M13)))/('No EGR'!$B$1*6))*'Reference tables'!$B$51 -> 1.3155707e-07 | O13: =((((B35^(1.59-1))/(B34^(1.59-1)))*O12^(1.59)))^(1/1.59) -> 3041.5515 | P13: =((4170000000000*((('Reference tables'!$X$46)*('Reference tables'!$Y$46))^0.5)*EXP((-67837/'No EGR'!O13)))/('No EGR'!$B$1*6))*'Reference tables'!$B$51 -> 3.0017697e-07 | Q13: =((((B35^(1.59-1))/(B34^(1.59-1)))*Q12^(1.59)))^(1/1.59) -> 3175.3449 | R13: =((4170000000000*((('Reference tables'!$X$47)*('Reference tables'!$Y$47))^0.5)*EXP((-67837/'No EGR'!Q13)))/('No EGR'!$B$1*6))*'Reference tables'!$B$51 -> 5.4279299e-07 | S13: =((((B35^(1.59-1))/(B34^(1.59-1)))*S12^(1.59)))^(1/1.59) -> 3201.9339 | T13: =((4170000000000*((('Reference tables'!$X$48)*('Reference tables'!$Y$48))^0.5)*EXP((-67837/'No EGR'!S13)))/('No EGR'!$B$1*6))*'Reference tables'!$B$51 -> 5.7963342e-07 | U13: =((((B35^(1.59-1))/(B34^(1.59-1)))*U12^(1.59)))^(1/1.59) -> 3235.402 | V13: =((4170000000000*((('Reference tables'!$X$49)*('Reference tables'!$Y$49))^0.5)*EXP((-67837/'No EGR'!U13)))/('No EGR'!$B$1*6))*'Reference tables'!$B$51 -> 6.2487226e-07 | W13: =((((B35^(1.59-1))/(B34^(1.59-1)))*W12^(1.59)))^(1/1.59) -> 3255.0373 | X13: =((4170000000000*((('Reference tables'!$X$50)*('Reference tables'!$Y$50))^0.5)*EXP((-67837/'No EGR'!W13)))/('No EGR'!$B$1*6))*'Reference tables'!$B$51 -> 5.788993e-07 | Y13: =((((B35^(1.59-1))/(B34^(1.59-1)))*Y12^(1.59)))^(1/1.59) -> 3280.796 | Z13: =((4170000000000*((('Reference tables'!$X$51)*('Reference tables'!$Y$51))^0.5)*EXP((-67837/'No EGR'!Y13)))/('No EGR'!$B$1*6))*'Reference tables'!$B$51 -> 4.8203513e-07 | AA13: =((((B35^(1.86-1))/(B34^(1.86-1)))*AA12^(1.86)))^(1/1.86) -> 3528.7054 | AB13: =((4170000000000*((('Reference tables'!$X$52)*('Reference tables'!$Y$52))^0.5)*EXP((-67837/'No EGR'!AA13)))/('No EGR'!$B$1*6))*'Reference tables'!$B$51 -> 0
A14: =A13+1 -> 8 | B14: =B13+2 -> 26 | C14: =((((B36^(1.59-1))/(B35^(1.59-1)))*C13^(1.59)))^(1/1.59) -> 2290.4042 | D14: =((4170000000000*((('Reference tables'!$X$40)*('Reference tables'!$Y$40))^0.5)*EXP((-67837/'No EGR'!C14)))/('No EGR'!$B$1*6))*'Reference tables'!$B$51 -> 4.0171993e-10 | E14: =((((B36^(1.59-1))/(B35^(1.59-1)))*E13^(1.59)))^(1/1.59) -> 2433.4386 | F14: =((4170000000000*((('Reference tables'!$X$41)*('Reference tables'!$Y$41))^0.5)*EXP((-67837/'No EGR'!E14)))/('No EGR'!$B$1*6))*'Reference tables'!$B$51 -> 2.1410717e-09 | G14: =((((B36^(1.59-1))/(B35^(1.59-1)))*G13^(1.59)))^(1/1.59) -> 2575.1672 | H14: =((4170000000000*((('Reference tables'!$X$42)*('Reference tables'!$Y$42))^0.5)*EXP((-67837/'No EGR'!G14)))/('No EGR'!$B$1*6))*'Reference tables'!$B$51 -> 9.1857975e-09 | I14: =((((B36^(1.59-1))/(B35^(1.59-1)))*I13^(1.59)))^(1/1.59) -> 2715.9906 | J14: =((4170000000000*((('Reference tables'!$X$43)*('Reference tables'!$Y$43))^0.5)*EXP((-67837/'No EGR'!I14)))/('No EGR'!$B$1*6))*'Reference tables'!$B$51 -> 3.2836241e-08 | K14: =((((B36^(1.59-1))/(B35^(1.59-1)))*K13^(1.59)))^(1/1.59) -> 2855.8789 | L14: =((4170000000000*((('Reference tables'!$X$44)*('Reference tables'!$Y$44))^0.5)*EXP((-67837/'No EGR'!K14)))/('No EGR'!$B$1*6))*'Reference tables'!$B$51 -> 9.9739688e-08 | M14: =((((B36^(1.59-1))/(B35^(1.59-1)))*M13^(1.59)))^(1/1.59) -> 2995.1285 | N14: =((4170000000000*((('Reference tables'!$X$45)*('Reference tables'!$Y$45))^0.5)*EXP((-67837/'No EGR'!M14)))/('No EGR'!$B$1*6))*'Reference tables'!$B$51 -> 2.6040563e-07 | O14: =((((B36^(1.59-1))/(B35^(1.59-1)))*O13^(1.59)))^(1/1.59) -> 3133.2447 | P14: =((4170000000000*((('Reference tables'!$X$46)*('Reference tables'!$Y$46))^0.5)*EXP((-67837/'No EGR'!O14)))/('No EGR'!$B$1*6))*'Reference tables'!$B$51 -> 5.7655663e-07 | Q14: =((((B36^(1.59-1))/(B35^(1.59-1)))*Q13^(1.59)))^(1/1.59) -> 3271.0716 | R14: =((4170000000000*((('Reference tables'!$X$47)*('Reference tables'!$Y$47))^0.5)*EXP((-67837/'No EGR'!Q14)))/('No EGR'!$B$1*6))*'Reference tables'!$B$51 -> 1.0142734e-06 | S14: =((((B36^(1.59-1))/(B35^(1.59-1)))*S13^(1.59)))^(1/1.59) -> 3298.4622 | T14: =((4170000000000*((('Reference tables'!$X$48)*('Reference tables'!$Y$48))^0.5)*EXP((-67837/'No EGR'!S14)))/('No EGR'!$B$1*6))*'Reference tables'!$B$51 -> 1.0775055e-06 | U14: =((((B36^(1.59-1))/(B35^(1.59-1)))*U13^(1.59)))^(1/1.59) -> 3332.9393 | V14: =((4170000000000*((('Reference tables'!$X$49)*('Reference tables'!$Y$49))^0.5)*EXP((-67837/'No EGR'!U14)))/('No EGR'!$B$1*6))*'Reference tables'!$B$51 -> 1.1541757e-06 | W14: =((((B36^(1.59-1))/(B35^(1.59-1)))*W13^(1.59)))^(1/1.59) -> 3353.1665 | X14: =((4170000000000*((('Reference tables'!$X$50)*('Reference tables'!$Y$50))^0.5)*EXP((-67837/'No EGR'!W14)))/('No EGR'!$B$1*6))*'Reference tables'!$B$51 -> 1.0653105e-06 | Y14: =((((B36^(1.59-1))/(B35^(1.59-1)))*Y13^(1.59)))^(1/1.59) -> 3379.7017 | Z14: =((4170000000000*((('Reference tables'!$X$51)*('Reference tables'!$Y$51))^0.5)*EXP((-67837/'No EGR'!Y14)))/('No EGR'!$B$1*6))*'Reference tables'!$B$51 -> 8.8282024e-07 | AA14: =((((B36^(1.86-1))/(B35^(1.86-1)))*AA13^(1.86)))^(1/1.86) -> 3661.7459 | AB14: =((4170000000000*((('Reference tables'!$X$52)*('Reference tables'!$Y$52))^0.5)*EXP((-67837/'No EGR'!AA14)))/('No EGR'!$B$1*6))*'Reference tables'!$B$51 -> 0
A15: =A14+1 -> 9 | B15: =B14+2 -> 28 | C15: =((((B37^(1.59-1))/(B36^(1.59-1)))*C14^(1.59)))^(1/1.59) -> 2354.2624 | D15: =((4170000000000*((('Reference tables'!$X$40)*('Reference tables'!$Y$40))^0.5)*EXP((-67837/'No EGR'!C15)))/('No EGR'!$B$1*6))*'Reference tables'!$B$51 -> 8.9706387e-10 | E15: =((((B37^(1.59-1))/(B36^(1.59-1)))*E14^(1.59)))^(1/1.59) -> 2501.2848 | F15: =((4170000000000*((('Reference tables'!$X$41)*('Reference tables'!$Y$41))^0.5)*EXP((-67837/'No EGR'!E15)))/('No EGR'!$B$1*6))*'Reference tables'!$B$51 -> 4.5606138e-09 | G15: =((((B37^(1.59-1))/(B36^(1.59-1)))*G14^(1.59)))^(1/1.59) -> 2646.9649 | H15: =((4170000000000*((('Reference tables'!$X$42)*('Reference tables'!$Y$42))^0.5)*EXP((-67837/'No EGR'!G15)))/('No EGR'!$B$1*6))*'Reference tables'!$B$51 -> 1.876875e-08 | I15: =((((B37^(1.59-1))/(B36^(1.59-1)))*I14^(1.59)))^(1/1.59) -> 2791.7146 | J15: =((4170000000000*((('Reference tables'!$X$43)*('Reference tables'!$Y$43))^0.5)*EXP((-67837/'No EGR'!I15)))/('No EGR'!$B$1*6))*'Reference tables'!$B$51 -> 6.4652002e-08 | K15: =((((B37^(1.59-1))/(B36^(1.59-1)))*K14^(1.59)))^(1/1.59) -> 2935.503 | L15: =((4170000000000*((('Reference tables'!$X$44)*('Reference tables'!$Y$44))^0.5)*EXP((-67837/'No EGR'!K15)))/('No EGR'!$B$1*6))*'Reference tables'!$B$51 -> 1.8996976e-07 | M15: =((((B37^(1.59-1))/(B36^(1.59-1)))*M14^(1.59)))^(1/1.59) -> 3078.635 | N15: =((4170000000000*((('Reference tables'!$X$45)*('Reference tables'!$Y$45))^0.5)*EXP((-67837/'No EGR'!M15)))/('No EGR'!$B$1*6))*'Reference tables'!$B$51 -> 4.8134627e-07 | O15: =((((B37^(1.59-1))/(B36^(1.59-1)))*O14^(1.59)))^(1/1.59) -> 3220.602 | P15: =((4170000000000*((('Reference tables'!$X$46)*('Reference tables'!$Y$46))^0.5)*EXP((-67837/'No EGR'!O15)))/('No EGR'!$B$1*6))*'Reference tables'!$B$51 -> 1.0372611e-06 | Q15: =((((B37^(1.59-1))/(B36^(1.59-1)))*Q14^(1.59)))^(1/1.59) -> 3362.2716 | R15: =((4170000000000*((('Reference tables'!$X$47)*('Reference tables'!$Y$47))^0.5)*EXP((-67837/'No EGR'!Q15)))/('No EGR'!$B$1*6))*'Reference tables'!$B$51 -> 1.7801425e-06 | S15: =((((B37^(1.59-1))/(B36^(1.59-1)))*S14^(1.59)))^(1/1.59) -> 3390.4259 | T15: =((4170000000000*((('Reference tables'!$X$48)*('Reference tables'!$Y$48))^0.5)*EXP((-67837/'No EGR'!S15)))/('No EGR'!$B$1*6))*'Reference tables'!$B$51 -> 1.8823074e-06 | U15: =((((B37^(1.59-1))/(B36^(1.59-1)))*U14^(1.59)))^(1/1.59) -> 3425.8642 | V15: =((4170000000000*((('Reference tables'!$X$49)*('Reference tables'!$Y$49))^0.5)*EXP((-67837/'No EGR'!U15)))/('No EGR'!$B$1*6))*'Reference tables'!$B$51 -> 2.0046422e-06 | W15: =((((B37^(1.59-1))/(B36^(1.59-1)))*W14^(1.59)))^(1/1.59) -> 3446.6553 | X15: =((4170000000000*((('Reference tables'!$X$50)*('Reference tables'!$Y$50))^0.5)*EXP((-67837/'No EGR'!W15)))/('No EGR'!$B$1*6))*'Reference tables'!$B$51 -> 1.844144e-06 | Y15: =((((B37^(1.59-1))/(B36^(1.59-1)))*Y14^(1.59)))^(1/1.59) -> 3473.9304 | Z15: =((4170000000000*((('Reference tables'!$X$51)*('Reference tables'!$Y$51))^0.5)*EXP((-67837/'No EGR'!Y15)))/('No EGR'!$B$1*6))*'Reference tables'!$B$51 -> 1.5216675e-06 | AA15: =((((B37^(1.86-1))/(B36^(1.86-1)))*AA14^(1.86)))^(1/1.86) -> 3789.3899 | AB15: =((4170000000000*((('Reference tables'!$X$52)*('Reference tables'!$Y$52))^0.5)*EXP((-67837/'No EGR'!AA15)))/('No EGR'!$B$1*6))*'Reference tables'!$B$51 -> 0
A16: =A15+1 -> 10 | B16: =B15+2 -> 30 | C16: =((((B38^(1.59-1))/(B37^(1.59-1)))*C15^(1.59)))^(1/1.59) -> 2415.3123 | D16: =((4170000000000*((('Reference tables'!$X$40)*('Reference tables'!$Y$40))^0.5)*EXP((-67837/'No EGR'!C16)))/('No EGR'!$B$1*6))*'Reference tables'!$B$51 -> 1.8583592e-09 | E16: =((((B38^(1.59-1))/(B37^(1.59-1)))*E15^(1.59)))^(1/1.59) -> 2566.1472 | F16: =((4170000000000*((('Reference tables'!$X$41)*('Reference tables'!$Y$41))^0.5)*EXP((-67837/'No EGR'!E16)))/('No EGR'!$B$1*6))*'Reference tables'!$B$51 -> 9.0518532e-09 | G16: =((((B38^(1.59-1))/(B37^(1.59-1)))*G15^(1.59)))^(1/1.59) -> 2715.6051 | H16: =((4170000000000*((('Reference tables'!$X$42)*('Reference tables'!$Y$42))^0.5)*EXP((-67837/'No EGR'!G16)))/('No EGR'!$B$1*6))*'Reference tables'!$B$51 -> 3.5872724e-08 | I16: =((((B38^(1.59-1))/(B37^(1.59-1)))*I15^(1.59)))^(1/1.59) -> 2864.1083 | J16: =((4170000000000*((('Reference tables'!$X$43)*('Reference tables'!$Y$43))^0.5)*EXP((-67837/'No EGR'!I16)))/('No EGR'!$B$1*6))*'Reference tables'!$B$51 -> 1.1948796e-07 | K16: =((((B38^(1.59-1))/(B37^(1.59-1)))*K15^(1.59)))^(1/1.59) -> 3011.6254 | L16: =((4170000000000*((('Reference tables'!$X$44)*('Reference tables'!$Y$44))^0.5)*EXP((-67837/'No EGR'!K16)))/('No EGR'!$B$1*6))*'Reference tables'!$B$51 -> 3.4069122e-07 | M16: =((((B38^(1.59-1))/(B37^(1.59-1)))*M15^(1.59)))^(1/1.59) -> 3158.4691 | N16: =((4170000000000*((('Reference tables'!$X$45)*('Reference tables'!$Y$45))^0.5)*EXP((-67837/'No EGR'!M16)))/('No EGR'!$B$1*6))*'Reference tables'!$B$51 -> 8.401177e-07 | O16: =((((B38^(1.59-1))/(B37^(1.59-1)))*O15^(1.59)))^(1/1.59) -> 3304.1176 | P16: =((4170000000000*((('Reference tables'!$X$46)*('Reference tables'!$Y$46))^0.5)*EXP((-67837/'No EGR'!O16)))/('No EGR'!$B$1*6))*'Reference tables'!$B$51 -> 1.766478e-06 | Q16: =((((B38^(1.59-1))/(B37^(1.59-1)))*Q15^(1.59)))^(1/1.59) -> 3449.4609 | R16: =((4170000000000*((('Reference tables'!$X$47)*('Reference tables'!$Y$47))^0.5)*EXP((-67837/'No EGR'!Q16)))/('No EGR'!$B$1*6))*'Reference tables'!$B$51 -> 2.96437e-06 | S16: =((((B38^(1.59-1))/(B37^(1.59-1)))*S15^(1.59)))^(1/1.59) -> 3478.3453 | T16: =((4170000000000*((('Reference tables'!$X$48)*('Reference tables'!$Y$48))^0.5)*EXP((-67837/'No EGR'!S16)))/('No EGR'!$B$1*6))*'Reference tables'!$B$51 -> 3.1212535e-06 | U16: =((((B38^(1.59-1))/(B37^(1.59-1)))*U15^(1.59)))^(1/1.59) -> 3514.7025 | V16: =((4170000000000*((('Reference tables'!$X$49)*('Reference tables'!$Y$49))^0.5)*EXP((-67837/'No EGR'!U16)))/('No EGR'!$B$1*6))*'Reference tables'!$B$51 -> 3.3067651e-06 | W16: =((((B38^(1.59-1))/(B37^(1.59-1)))*W15^(1.59)))^(1/1.59) -> 3536.0328 | X16: =((4170000000000*((('Reference tables'!$X$50)*('Reference tables'!$Y$50))^0.5)*EXP((-67837/'No EGR'!W16)))/('No EGR'!$B$1*6))*'Reference tables'!$B$51 -> 3.0328442e-06 | Y16: =((((B38^(1.59-1))/(B37^(1.59-1)))*Y15^(1.59)))^(1/1.59) -> 3564.0152 | Z16: =((4170000000000*((('Reference tables'!$X$51)*('Reference tables'!$Y$51))^0.5)*EXP((-67837/'No EGR'!Y16)))/('No EGR'!$B$1*6))*'Reference tables'!$B$51 -> 2.4927499e-06 | AA16: =((((B38^(1.86-1))/(B37^(1.86-1)))*AA15^(1.86)))^(1/1.86) -> 3912.2199 | AB16: =((4170000000000*((('Reference tables'!$X$52)*('Reference tables'!$Y$52))^0.5)*EXP((-67837/'No EGR'!AA16)))/('No EGR'!$B$1*6))*'Reference tables'!$B$51 -> 0
A17: =A16+1 -> 11 | B17: =B16+2 -> 32 | C17: =((((B39^(1.59-1))/(B38^(1.59-1)))*C16^(1.59)))^(1/1.59) -> 2473.853 | D17: =((4170000000000*((('Reference tables'!$X$40)*('Reference tables'!$Y$40))^0.5)*EXP((-67837/'No EGR'!C17)))/('No EGR'!$B$1*6))*'Reference tables'!$B$51 -> 3.6122105e-09 | E17: =((((B39^(1.59-1))/(B38^(1.59-1)))*E16^(1.59)))^(1/1.59) -> 2628.3437 | F17: =((4170000000000*((('Reference tables'!$X$41)*('Reference tables'!$Y$41))^0.5)*EXP((-67837/'No EGR'!E17)))/('No EGR'!$B$1*6))*'Reference tables'!$B$51 -> 1.6920563e-08 | G17: =((((B39^(1.59-1))/(B38^(1.59-1)))*G16^(1.59)))^(1/1.59) -> 2781.4241 | H17: =((4170000000000*((('Reference tables'!$X$42)*('Reference tables'!$Y$42))^0.5)*EXP((-67837/'No EGR'!G17)))/('No EGR'!$B$1*6))*'Reference tables'!$B$51 -> 6.4787234e-08 | I17: =((((B39^(1.59-1))/(B38^(1.59-1)))*I16^(1.59)))^(1/1.59) -> 2933.5266 | J17: =((4170000000000*((('Reference tables'!$X$43)*('Reference tables'!$Y$43))^0.5)*EXP((-67837/'No EGR'!I17)))/('No EGR'!$B$1*6))*'Reference tables'!$B$51 -> 2.09285e-07 | K17: =((((B39^(1.59-1))/(B38^(1.59-1)))*K16^(1.59)))^(1/1.59) -> 3084.6192 | L17: =((4170000000000*((('Reference tables'!$X$44)*('Reference tables'!$Y$44))^0.5)*EXP((-67837/'No EGR'!K17)))/('No EGR'!$B$1*6))*'Reference tables'!$B$51 -> 5.8056636e-07 | M17: =((((B39^(1.59-1))/(B38^(1.59-1)))*M16^(1.59)))^(1/1.59) -> 3235.0219 | N17: =((4170000000000*((('Reference tables'!$X$45)*('Reference tables'!$Y$45))^0.5)*EXP((-67837/'No EGR'!M17)))/('No EGR'!$B$1*6))*'Reference tables'!$B$51 -> 1.3965889e-06 | O17: =((((B39^(1.59-1))/(B38^(1.59-1)))*O16^(1.59)))^(1/1.59) -> 3384.2005 | P17: =((4170000000000*((('Reference tables'!$X$46)*('Reference tables'!$Y$46))^0.5)*EXP((-67837/'No EGR'!O17)))/('No EGR'!$B$1*6))*'Reference tables'!$B$51 -> 2.8714864e-06 | Q17: =((((B39^(1.59-1))/(B38^(1.59-1)))*Q16^(1.59)))^(1/1.59) -> 3533.0666 | R17: =((4170000000000*((('Reference tables'!$X$47)*('Reference tables'!$Y$47))^0.5)*EXP((-67837/'No EGR'!Q17)))/('No EGR'!$B$1*6))*'Reference tables'!$B$51 -> 4.7210707e-06 | S17: =((((B39^(1.59-1))/(B38^(1.59-1)))*S16^(1.59)))^(1/1.59) -> 3562.651 | T17: =((4170000000000*((('Reference tables'!$X$48)*('Reference tables'!$Y$48))^0.5)*EXP((-67837/'No EGR'!S17)))/('No EGR'!$B$1*6))*'Reference tables'!$B$51 -> 4.9517512e-06 | U17: =((((B39^(1.59-1))/(B38^(1.59-1)))*U16^(1.59)))^(1/1.59) -> 3599.8895 | V17: =((4170000000000*((('Reference tables'!$X$49)*('Reference tables'!$Y$49))^0.5)*EXP((-67837/'No EGR'!U17)))/('No EGR'!$B$1*6))*'Reference tables'!$B$51 -> 5.2210735e-06 | W17: =((((B39^(1.59-1))/(B38^(1.59-1)))*W16^(1.59)))^(1/1.59) -> 3621.7368 | X17: =((4170000000000*((('Reference tables'!$X$50)*('Reference tables'!$Y$50))^0.5)*EXP((-67837/'No EGR'!W17)))/('No EGR'!$B$1*6))*'Reference tables'!$B$51 -> 4.7754029e-06 | Y17: =((((B39^(1.59-1))/(B38^(1.59-1)))*Y16^(1.59)))^(1/1.59) -> 3650.3974 | Z17: =((4170000000000*((('Reference tables'!$X$51)*('Reference tables'!$Y$51))^0.5)*EXP((-67837/'No EGR'!Y17)))/('No EGR'!$B$1*6))*'Reference tables'!$B$51 -> 3.9110255e-06 | AA17: =((((B39^(1.86-1))/(B38^(1.86-1)))*AA16^(1.86)))^(1/1.86) -> 4030.7213 | AB17: =((4170000000000*((('Reference tables'!$X$52)*('Reference tables'!$Y$52))^0.5)*EXP((-67837/'No EGR'!AA17)))/('No EGR'!$B$1*6))*'Reference tables'!$B$51 -> 0
A18: =A17+1 -> 12 | B18: =B17+2 -> 34 | C18: =((((B40^(1.59-1))/(B39^(1.59-1)))*C17^(1.59)))^(1/1.59) -> 2530.1353 | D18: =((4170000000000*((('Reference tables'!$X$40)*('Reference tables'!$Y$40))^0.5)*EXP((-67837/'No EGR'!C18)))/('No EGR'!$B$1*6))*'Reference tables'!$B$51 -> 6.6479421e-09 | E18: =((((B40^(1.59-1))/(B39^(1.59-1)))*E17^(1.59)))^(1/1.59) -> 2688.1409 | F18: =((4170000000000*((('Reference tables'!$X$41)*('Reference tables'!$Y$41))^0.5)*EXP((-67837/'No EGR'!E18)))/('No EGR'!$B$1*6))*'Reference tables'!$B$51 -> 3.0043994e-08 | G18: =((((B40^(1.59-1))/(B39^(1.59-1)))*G17^(1.59)))^(1/1.59) -> 2844.7039 | H18: =((4170000000000*((('Reference tables'!$X$42)*('Reference tables'!$Y$42))^0.5)*EXP((-67837/'No EGR'!G18)))/('No EGR'!$B$1*6))*'Reference tables'!$B$51 -> 1.114575e-07 | I18: =((((B40^(1.59-1))/(B39^(1.59-1)))*I17^(1.59)))^(1/1.59) -> 3000.2669 | J18: =((4170000000000*((('Reference tables'!$X$43)*('Reference tables'!$Y$43))^0.5)*EXP((-67837/'No EGR'!I18)))/('No EGR'!$B$1*6))*'Reference tables'!$B$51 -> 3.5005891e-07 | K18: =((((B40^(1.59-1))/(B39^(1.59-1)))*K17^(1.59)))^(1/1.59) -> 3154.7969 | L18: =((4170000000000*((('Reference tables'!$X$44)*('Reference tables'!$Y$44))^0.5)*EXP((-67837/'No EGR'!K18)))/('No EGR'!$B$1*6))*'Reference tables'!$B$51 -> 9.469173e-07 | M18: =((((B40^(1.59-1))/(B39^(1.59-1)))*M17^(1.59)))^(1/1.59) -> 3308.6214 | N18: =((4170000000000*((('Reference tables'!$X$45)*('Reference tables'!$Y$45))^0.5)*EXP((-67837/'No EGR'!M18)))/('No EGR'!$B$1*6))*'Reference tables'!$B$51 -> 2.2266454e-06 | O18: =((((B40^(1.59-1))/(B39^(1.59-1)))*O17^(1.59)))^(1/1.59) -> 3461.194 | P18: =((4170000000000*((('Reference tables'!$X$46)*('Reference tables'!$Y$46))^0.5)*EXP((-67837/'No EGR'!O18)))/('No EGR'!$B$1*6))*'Reference tables'!$B$51 -> 4.4849667e-06 | Q18: =((((B40^(1.59-1))/(B39^(1.59-1)))*Q17^(1.59)))^(1/1.59) -> 3613.4469 | R18: =((4170000000000*((('Reference tables'!$X$47)*('Reference tables'!$Y$47))^0.5)*EXP((-67837/'No EGR'!Q18)))/('No EGR'!$B$1*6))*'Reference tables'!$B$51 -> 7.2365805e-06 | S18: =((((B40^(1.59-1))/(B39^(1.59-1)))*S17^(1.59)))^(1/1.59) -> 3643.7044 | T18: =((4170000000000*((('Reference tables'!$X$48)*('Reference tables'!$Y$48))^0.5)*EXP((-67837/'No EGR'!S18)))/('No EGR'!$B$1*6))*'Reference tables'!$B$51 -> 7.5633007e-06 | U18: =((((B40^(1.59-1))/(B39^(1.59-1)))*U17^(1.59)))^(1/1.59) -> 3681.7901 | V18: =((4170000000000*((('Reference tables'!$X$49)*('Reference tables'!$Y$49))^0.5)*EXP((-67837/'No EGR'!U18)))/('No EGR'!$B$1*6))*'Reference tables'!$B$51 -> 7.9397987e-06 | W18: =((((B40^(1.59-1))/(B39^(1.59-1)))*W17^(1.59)))^(1/1.59) -> 3704.1344 | X18: =((4170000000000*((('Reference tables'!$X$50)*('Reference tables'!$Y$50))^0.5)*EXP((-67837/'No EGR'!W18)))/('No EGR'!$B$1*6))*'Reference tables'!$B$51 -> 7.243718e-06 | Y18: =((((B40^(1.59-1))/(B39^(1.59-1)))*Y17^(1.59)))^(1/1.59) -> 3733.4471 | Z18: =((4170000000000*((('Reference tables'!$X$51)*('Reference tables'!$Y$51))^0.5)*EXP((-67837/'No EGR'!Y18)))/('No EGR'!$B$1*6))*'Reference tables'!$B$51 -> 5.9131847e-06 | AA18: =((((B40^(1.86-1))/(B39^(1.86-1)))*AA17^(1.86)))^(1/1.86) -> 4145.3038 | AB18: =((4170000000000*((('Reference tables'!$X$52)*('Reference tables'!$Y$52))^0.5)*EXP((-67837/'No EGR'!AA18)))/('No EGR'!$B$1*6))*'Reference tables'!$B$51 -> 0
A19: =A18+1 -> 13 | B19: =B18+2 -> 36 | C19: =((((B41^(1.59-1))/(B40^(1.59-1)))*C18^(1.59)))^(1/1.59) -> 2584.372 | D19: =((4170000000000*((('Reference tables'!$X$40)*('Reference tables'!$Y$40))^0.5)*EXP((-67837/'No EGR'!C19)))/('No EGR'!$B$1*6))*'Reference tables'!$B$51 -> 1.1669586e-08 | E19: =((((B41^(1.59-1))/(B40^(1.59-1)))*E18^(1.59)))^(1/1.59) -> 2745.7645 | F19: =((4170000000000*((('Reference tables'!$X$41)*('Reference tables'!$Y$41))^0.5)*EXP((-67837/'No EGR'!E19)))/('No EGR'!$B$1*6))*'Reference tables'!$B$51 -> 5.102256e-08 | G19: =((((B41^(1.59-1))/(B40^(1.59-1)))*G18^(1.59)))^(1/1.59) -> 2905.6837 | H19: =((4170000000000*((('Reference tables'!$X$42)*('Reference tables'!$Y$42))^0.5)*EXP((-67837/'No EGR'!G19)))/('No EGR'!$B$1*6))*'Reference tables'!$B$51 -> 1.8384643e-07 | I19: =((((B41^(1.59-1))/(B40^(1.59-1)))*I18^(1.59)))^(1/1.59) -> 3064.5814 | J19: =((4170000000000*((('Reference tables'!$X$43)*('Reference tables'!$Y$43))^0.5)*EXP((-67837/'No EGR'!I19)))/('No EGR'!$B$1*6))*'Reference tables'!$B$51 -> 5.6262329e-07 | K19: =((((B41^(1.59-1))/(B40^(1.59-1)))*K18^(1.59)))^(1/1.59) -> 3222.424 | L19: =((4170000000000*((('Reference tables'!$X$44)*('Reference tables'!$Y$44))^0.5)*EXP((-67837/'No EGR'!K19)))/('No EGR'!$B$1*6))*'Reference tables'!$B$51 -> 1.4869435e-06 | M19: =((((B41^(1.59-1))/(B40^(1.59-1)))*M18^(1.59)))^(1/1.59) -> 3379.5459 | N19: =((4170000000000*((('Reference tables'!$X$45)*('Reference tables'!$Y$45))^0.5)*EXP((-67837/'No EGR'!M19)))/('No EGR'!$B$1*6))*'Reference tables'!$B$51 -> 3.4239061e-06 | O19: =((((B41^(1.59-1))/(B40^(1.59-1)))*O18^(1.59)))^(1/1.59) -> 3535.389 | P19: =((4170000000000*((('Reference tables'!$X$46)*('Reference tables'!$Y$46))^0.5)*EXP((-67837/'No EGR'!O19)))/('No EGR'!$B$1*6))*'Reference tables'!$B$51 -> 6.766944e-06 | Q19: =((((B41^(1.59-1))/(B40^(1.59-1)))*Q18^(1.59)))^(1/1.59) -> 3690.9057 | R19: =((4170000000000*((('Reference tables'!$X$47)*('Reference tables'!$Y$47))^0.5)*EXP((-67837/'No EGR'!Q19)))/('No EGR'!$B$1*6))*'Reference tables'!$B$51 -> 1.0730996e-05 | S19: =((((B41^(1.59-1))/(B40^(1.59-1)))*S18^(1.59)))^(1/1.59) -> 3721.8118 | T19: =((4170000000000*((('Reference tables'!$X$48)*('Reference tables'!$Y$48))^0.5)*EXP((-67837/'No EGR'!S19)))/('No EGR'!$B$1*6))*'Reference tables'!$B$51 -> 1.117885e-05 | U19: =((((B41^(1.59-1))/(B40^(1.59-1)))*U18^(1.59)))^(1/1.59) -> 3760.7139 | V19: =((4170000000000*((('Reference tables'!$X$49)*('Reference tables'!$Y$49))^0.5)*EXP((-67837/'No EGR'!U19)))/('No EGR'!$B$1*6))*'Reference tables'!$B$51 -> 1.1687993e-05 | W19: =((((B41^(1.59-1))/(B40^(1.59-1)))*W18^(1.59)))^(1/1.59) -> 3783.5372 | X19: =((4170000000000*((('Reference tables'!$X$50)*('Reference tables'!$Y$50))^0.5)*EXP((-67837/'No EGR'!W19)))/('No EGR'!$B$1*6))*'Reference tables'!$B$51 -> 1.0638466e-05 | Y19: =((((B41^(1.59-1))/(B40^(1.59-1)))*Y18^(1.59)))^(1/1.59) -> 3813.4782 | Z19: =((4170000000000*((('Reference tables'!$X$51)*('Reference tables'!$Y$51))^0.5)*EXP((-67837/'No EGR'!Y19)))/('No EGR'!$B$1*6))*'Reference tables'!$B$51 -> 8.6582152e-06 | AA19: =((((B41^(1.86-1))/(B40^(1.86-1)))*AA18^(1.86)))^(1/1.86) -> 4256.3167 | AB19: =((4170000000000*((('Reference tables'!$X$52)*('Reference tables'!$Y$52))^0.5)*EXP((-67837/'No EGR'!AA19)))/('No EGR'!$B$1*6))*'Reference tables'!$B$51 -> 0
... A21: =A20+1 -> 15 | B21: =B20+2 -> 40 | C21: =((((B43^(1.59-1))/(B42^(1.59-1)))*C20^(1.59)))^(1/1.59) -> 2687.4118 | D21: =((4170000000000*((('Reference tables'!$X$40)*('Reference tables'!$Y$40))^0.5)*EXP((-67837/'No EGR'!C21)))/('No EGR'!$B$1*6))*'Reference tables'!$B$51 -> 3.1925766e-08 | E21: =((((B43^(1.59-1))/(B42^(1.59-1)))*E20^(1.59)))^(1/1.59) -> 2855.2391 | F21: =((4170000000000*((('Reference tables'!$X$41)*('Reference tables'!$Y$41))^0.5)*EXP((-67837/'No EGR'!E21)))/('No EGR'!$B$1*6))*'Reference tables'!$B$51 -> 1.3156996e-07 | G21: =((((B43^(1.59-1))/(B42^(1.59-1)))*G20^(1.59)))^(1/1.59) -> 3021.5343 | H21: =((4170000000000*((('Reference tables'!$X$42)*('Reference tables'!$Y$42))^0.5)*EXP((-67837/'No EGR'!G21)))/('No EGR'!$B$1*6))*'Reference tables'!$B$51 -> 4.4999524e-07 | I21: =((((B43^(1.59-1))/(B42^(1.59-1)))*I20^(1.59)))^(1/1.59) -> 3186.7673 | J21: =((4170000000000*((('Reference tables'!$X$43)*('Reference tables'!$Y$43))^0.5)*EXP((-67837/'No EGR'!I21)))/('No EGR'!$B$1*6))*'Reference tables'!$B$51 -> 1.3146608e-06 | K21: =((((B43^(1.59-1))/(B42^(1.59-1)))*K20^(1.59)))^(1/1.59) -> 3350.9031 | L21: =((4170000000000*((('Reference tables'!$X$44)*('Reference tables'!$Y$44))^0.5)*EXP((-67837/'No EGR'!K21)))/('No EGR'!$B$1*6))*'Reference tables'!$B$51 -> 3.3330029e-06 | M21: =((((B43^(1.59-1))/(B42^(1.59-1)))*M20^(1.59)))^(1/1.59) -> 3514.2896 | N21: =((4170000000000*((('Reference tables'!$X$45)*('Reference tables'!$Y$45))^0.5)*EXP((-67837/'No EGR'!M21)))/('No EGR'!$B$1*6))*'Reference tables'!$B$51 -> 7.3920638e-06 | O21: =((((B43^(1.59-1))/(B42^(1.59-1)))*O20^(1.59)))^(1/1.59) -> 3676.3462 | P21: =((4170000000000*((('Reference tables'!$X$46)*('Reference tables'!$Y$46))^0.5)*EXP((-67837/'No EGR'!O21)))/('No EGR'!$B$1*6))*'Reference tables'!$B$51 -> 1.412221e-05 | Q21: =((((B43^(1.59-1))/(B42^(1.59-1)))*Q20^(1.59)))^(1/1.59) -> 3838.0634 | R21: =((4170000000000*((('Reference tables'!$X$47)*('Reference tables'!$Y$47))^0.5)*EXP((-67837/'No EGR'!Q21)))/('No EGR'!$B$1*6))*'Reference tables'!$B$51 -> 2.1711385e-05 | S21: =((((B43^(1.59-1))/(B42^(1.59-1)))*S20^(1.59)))^(1/1.59) -> 3870.2017 | T21: =((4170000000000*((('Reference tables'!$X$48)*('Reference tables'!$Y$48))^0.5)*EXP((-67837/'No EGR'!S21)))/('No EGR'!$B$1*6))*'Reference tables'!$B$51 -> 2.2485533e-05 | U21: =((((B43^(1.59-1))/(B42^(1.59-1)))*U20^(1.59)))^(1/1.59) -> 3910.6548 | V21: =((4170000000000*((('Reference tables'!$X$49)*('Reference tables'!$Y$49))^0.5)*EXP((-67837/'No EGR'!U21)))/('No EGR'!$B$1*6))*'Reference tables'!$B$51 -> 2.3340301e-05 | W21: =((((B43^(1.59-1))/(B42^(1.59-1)))*W20^(1.59)))^(1/1.59) -> 3934.3881 | X21: =((4170000000000*((('Reference tables'!$X$50)*('Reference tables'!$Y$50))^0.5)*EXP((-67837/'No EGR'!W21)))/('No EGR'!$B$1*6))*'Reference tables'!$B$51 -> 2.1156002e-05 | Y21: =((((B43^(1.59-1))/(B42^(1.59-1)))*Y20^(1.59)))^(1/1.59) -> 3965.5229 | Z21: =((4170000000000*((('Reference tables'!$X$51)*('Reference tables'!$Y$51))^0.5)*EXP((-67837/'No EGR'!Y21)))/('No EGR'!$B$1*6))*'Reference tables'!$B$51 -> 1.7125329e-05 | AA21: =((((B43^(1.86-1))/(B42^(1.86-1)))*AA20^(1.86)))^(1/1.86) -> 4468.797 | AB21: =((4170000000000*((('Reference tables'!$X$52)*('Reference tables'!$Y$52))^0.5)*EXP((-67837/'No EGR'!AA21)))/('No EGR'!$B$1*6))*'Reference tables'!$B$51 -> 0
C22: =(D22/'Reference tables'!Q48)*1000000 -> 3270.4391 | D22: =SUM(D6:D21) -> 7.6919286e-08 | E22: =(F22/'Reference tables'!Q49)*1000000 -> 14131.388 | F22: =SUM(F6:F21) -> 3.3011115e-07 | G22: =(H22/'Reference tables'!Q50)*1000000 -> 50556.526 | H22: =SUM(H6:H21) -> 1.1729608e-06 | I22: =(J22/'Reference tables'!Q51)*1000000 -> 154184.36 | J22: =SUM(J6:J21) -> 3.5527288e-06 | K22: =(L22/'Reference tables'!Q52)*1000000 -> 407295.87 | L22: =SUM(L6:L21) -> 9.3203349e-06 | M22: =(N22/'Reference tables'!Q53)*1000000 -> 939672.29 | N22: =SUM(N6:N21) -> 2.1354129e-05 | O22: =(P22/'Reference tables'!Q54)*1000000 -> 1864442.5 | P22: =SUM(P6:P21) -> 4.2074828e-05 | Q22: =(R22/'Reference tables'!Q55)*1000000 -> 2973053.6 | R22: =SUM(R6:R21) -> 6.6623543e-05 | S22: =(T22/'Reference tables'!Q56)*1000000 -> 3101096.4 | T22: =SUM(T6:T21) -> 6.9395069e-05 | U22: =(V22/'Reference tables'!Q57)*1000000 -> 3246612.9 | V22: =SUM(V6:V21) -> 7.2549022e-05 | W22: =(X22/'Reference tables'!Q58)*1000000 -> 2959201.8 | X22: =SUM(X6:X21) -> 6.6033249e-05 | Y22: =(Z22/'Reference tables'!Q59)*1000000 -> 2411814.6 | Z22: =SUM(Z6:Z21) -> 5.3742564e-05 | AA22: =(AB22/'Reference tables'!Q60)*1000000 -> 0 | AB22: =SUM(AB6:AB21) -> 0
C23: =VALUE(C22) -> 3270.4391 | E23: =VALUE(E22) -> 14131.388 | G23: =VALUE(G22) -> 50556.526 | I23: =VALUE(I22) -> 154184.36 | K23: =VALUE(K22) -> 407295.87 | M23: =VALUE(M22) -> 939672.29 | O23: =VALUE(O22) -> 1864442.5 | Q23: =VALUE(Q22) -> 2973053.6 | S23: =VALUE(S22) -> 3101096.4 | U23: =VALUE(U22) -> 3246612.9 | W23: =VALUE(W22) -> 2959201.8 | Y23: =VALUE(Y22) -> 2411814.6 | AA23: =VALUE(AA22) -> 0
A24: Methanol
B25: Φ | C25: 0.6 | E25: =C25+0.05 -> 0.65 | G25: 0.7 | I25: 0.75 | K25: 0.8 | M25: 0.85 | O25: 0.9 | Q25: 0.95 | S25: 0.96 | U25: 0.97 | W25: 0.98 | Y25: 0.99 | AA25: 1
A26: Crank Angle | B26: Pressure | C26: Temperature | D26: NoX | E26: Temperature | F26: NoX | G26: Temperature | H26: NoX | I26: Temperature | J26: NoX | K26: Temperature | L26: NoX | M26: Temperature | N26: NoX | O26: Temperature | P26: NoX | Q26: Temperature | R26: NoX | S26: Temperature | T26: NoX | U26: Temperature | V26: NoX | W26: Temperature | X26: NoX | Y26: Temperature | Z26: NoX | AA26: Temperature | AB26: NoX
A27: Degrees | B27: Bar | C27: K | D27: Kmol/° | E27: K | F27: Kmol/° | G27: K | H27: Kmol/° | I27: K | J27: Kmol/° | K27: K | L27: Kmol/° | M27: K | N27: Kmol/° | O27: K | P27: Kmol/° | Q27: K | R27: Kmol/° | S27: K | T27: Kmol/° | U27: K | V27: Kmol/° | W27: K | X27: Kmol/° | Y27: K | Z27: Kmol/° | AA27: K | AB27: Kmol/°
A28: 0 | B28: 10 | C28: 1635.028 | D28: =((4170000000000*((('Reference tables'!$T$40)*('Reference tables'!$U$40))^0.5)*EXP((-67837/'No EGR'!C28)))/('No EGR'!$B$1*6))*'Reference tables'!$B$51 -> 8.1619847e-17 | E28: 1728.261 | F28: =((4170000000000*((('Reference tables'!$T$41)*('Reference tables'!$U$41))^0.5)*EXP((-67837/'No EGR'!E28)))/('No EGR'!$B$1*6))*'Reference tables'!$B$51 -> 7.9145415e-16 | G28: 1819.161 | H28: =((4170000000000*((('Reference tables'!$T$42)*('Reference tables'!$U$42))^0.5)*EXP((-67837/'No EGR'!G28)))/('No EGR'!$B$1*6))*'Reference tables'!$B$51 -> 5.8014178e-15 | I28: 1908.667 | J28: =((4170000000000*((('Reference tables'!$T$43)*('Reference tables'!$U$43))^0.5)*EXP((-67837/'No EGR'!I28)))/('No EGR'!$B$1*6))*'Reference tables'!$B$51 -> 3.429339e-14 | K28: 1996.122 | L28: =((4170000000000*((('Reference tables'!$T$44)*('Reference tables'!$U$44))^0.5)*EXP((-67837/'No EGR'!K28)))/('No EGR'!$B$1*6))*'Reference tables'!$B$51 -> 1.6701272e-13 | M28: 2082.057 | N28: =((4170000000000*((('Reference tables'!$T$45)*('Reference tables'!$U$45))^0.5)*EXP((-67837/'No EGR'!M28)))/('No EGR'!$B$1*6))*'Reference tables'!$B$51 -> 6.9560506e-13 | O28: 2166.064 | P28: =((4170000000000*((('Reference tables'!$T$46)*('Reference tables'!$U$46))^0.5)*EXP((-67837/'No EGR'!O28)))/('No EGR'!$B$1*6))*'Reference tables'!$B$51 -> 2.516817e-12 | Q28: 2248.642 | R28: =((4170000000000*((('Reference tables'!$T$47)*('Reference tables'!$U$47))^0.5)*EXP((-67837/'No EGR'!Q28)))/('No EGR'!$B$1*6))*'Reference tables'!$B$51 -> 8.1168431e-12 | S28: 2264.947 | T28: =((4170000000000*((('Reference tables'!$T$48)*('Reference tables'!$U$48))^0.5)*EXP((-67837/'No EGR'!S28)))/('No EGR'!$B$1*6))*'Reference tables'!$B$51 -> 1.0126104e-11 | U28: 2281.233 | V28: =((4170000000000*((('Reference tables'!$T$49)*('Reference tables'!$U$49))^0.5)*EXP((-67837/'No EGR'!U28)))/('No EGR'!$B$1*6))*'Reference tables'!$B$51 -> 1.2589803e-11 | W28: 2297.458 | X28: =((4170000000000*((('Reference tables'!$T$50)*('Reference tables'!$U$50))^0.5)*EXP((-67837/'No EGR'!W28)))/('No EGR'!$B$1*6))*'Reference tables'!$B$51 -> 1.5592512e-11 | Y28: 2313.567 | Z28: =((4170000000000*((('Reference tables'!$T$51)*('Reference tables'!$U$51))^0.5)*EXP((-67837/'No EGR'!Y28)))/('No EGR'!$B$1*6))*'Reference tables'!$B$51 -> 1.9225324e-11 | AA28: 2329.619 | AB28: =((4170000000000*((('Reference tables'!$T$51)*('Reference tables'!$U$51))^0.5)*EXP((-67837/'No EGR'!AA28)))/('No EGR'!$B$1*6))*'Reference tables'!$B$51 -> 2.3529722e-11
A29: =A28+1 -> 1 | B29: =B28+2 -> 12 | C29: =((((B29^(1.86-1))/(B28^(1.86-1)))*C28^(1.86)))^(1/1.86) -> 1778.8359 | D29: =((4170000000000*((('Reference tables'!$T$40)*('Reference tables'!$U$40))^0.5)*EXP((-67837/'No EGR'!C29)))/('No EGR'!$B$1*6))*'Reference tables'!$B$51 -> 2.3361667e-15 | E29: =((((B29^(1.86-1))/(B28^(1.86-1)))*E28^(1.86)))^(1/1.86) -> 1880.2691 | F29: =((4170000000000*((('Reference tables'!$T$41)*('Reference tables'!$U$41))^0.5)*EXP((-67837/'No EGR'!E29)))/('No EGR'!$B$1*6))*'Reference tables'!$B$51 -> 1.8903841e-14 | G29: =((((B29^(1.86-1))/(B28^(1.86-1)))*G28^(1.86)))^(1/1.86) -> 1979.1642 | H29: =((4170000000000*((('Reference tables'!$T$42)*('Reference tables'!$U$42))^0.5)*EXP((-67837/'No EGR'!G29)))/('No EGR'!$B$1*6))*'Reference tables'!$B$51 -> 1.1824865e-13 | I29: =((((B29^(1.86-1))/(B28^(1.86-1)))*I28^(1.86)))^(1/1.86) -> 2076.5426 | J29: =((4170000000000*((('Reference tables'!$T$43)*('Reference tables'!$U$43))^0.5)*EXP((-67837/'No EGR'!I29)))/('No EGR'!$B$1*6))*'Reference tables'!$B$51 -> 6.068415e-13 | K29: =((((B29^(1.86-1))/(B28^(1.86-1)))*K28^(1.86)))^(1/1.86) -> 2171.6897 | L29: =((4170000000000*((('Reference tables'!$T$44)*('Reference tables'!$U$44))^0.5)*EXP((-67837/'No EGR'!K29)))/('No EGR'!$B$1*6))*'Reference tables'!$B$51 -> 2.6058078e-12 | M29: =((((B29^(1.86-1))/(B28^(1.86-1)))*M28^(1.86)))^(1/1.86) -> 2265.183 | N29: =((4170000000000*((('Reference tables'!$T$45)*('Reference tables'!$U$45))^0.5)*EXP((-67837/'No EGR'!M29)))/('No EGR'!$B$1*6))*'Reference tables'!$B$51 -> 9.6896395e-12 | O29: =((((B29^(1.86-1))/(B28^(1.86-1)))*O28^(1.86)))^(1/1.86) -> 2356.5788 | P29: =((4170000000000*((('Reference tables'!$T$46)*('Reference tables'!$U$46))^0.5)*EXP((-67837/'No EGR'!O29)))/('No EGR'!$B$1*6))*'Reference tables'!$B$51 -> 3.1654147e-11 | Q29: =((((B29^(1.86-1))/(B28^(1.86-1)))*Q28^(1.86)))^(1/1.86) -> 2446.4199 | R29: =((4170000000000*((('Reference tables'!$T$47)*('Reference tables'!$U$47))^0.5)*EXP((-67837/'No EGR'!Q29)))/('No EGR'!$B$1*6))*'Reference tables'!$B$51 -> 9.3022017e-11 | S29: =((((B29^(1.86-1))/(B28^(1.86-1)))*S28^(1.86)))^(1/1.86) -> 2464.159 | T29: =((4170000000000*((('Reference tables'!$T$48)*('Reference tables'!$U$48))^0.5)*EXP((-67837/'No EGR'!S29)))/('No EGR'!$B$1*6))*'Reference tables'!$B$51 -> 1.1402918e-10 | U29: =((((B29^(1.86-1))/(B28^(1.86-1)))*U28^(1.86)))^(1/1.86) -> 2481.8774 | V29: =((4170000000000*((('Reference tables'!$T$49)*('Reference tables'!$U$49))^0.5)*EXP((-67837/'No EGR'!U29)))/('No EGR'!$B$1*6))*'Reference tables'!$B$51 -> 1.3934302e-10 | W29: =((((B29^(1.86-1))/(B28^(1.86-1)))*W28^(1.86)))^(1/1.86) -> 2499.5295 | X29: =((4170000000000*((('Reference tables'!$T$50)*('Reference tables'!$U$50))^0.5)*EXP((-67837/'No EGR'!W29)))/('No EGR'!$B$1*6))*'Reference tables'!$B$51 -> 1.6967155e-10 | Y29: =((((B29^(1.86-1))/(B28^(1.86-1)))*Y28^(1.86)))^(1/1.86) -> 2517.0553 | Z29: =((4170000000000*((('Reference tables'!$T$51)*('Reference tables'!$U$51))^0.5)*EXP((-67837/'No EGR'!Y29)))/('No EGR'!$B$1*6))*'Reference tables'!$B$51 -> 2.0575399e-10 | AA29: =((((B29^(1.86-1))/(B28^(1.86-1)))*AA28^(1.86)))^(1/1.86) -> 2534.5192 | AB29: =((4170000000000*((('Reference tables'!$T$51)*('Reference tables'!$U$51))^0.5)*EXP((-67837/'No EGR'!AA29)))/('No EGR'!$B$1*6))*'Reference tables'!$B$51 -> 2.4774101e-10
