Workbook

Sheet HYB SPECS
B3: Specs | E3: Gear | K3: RPM | L3: POWER | M3: Power
B4: Engine cc | C4: 278 | F4: INPUT | G4: OUTPUT | H4: RATIO | I4: FINAL RATIO | L4: BHP | M4: KW | N4: VELOCITY | O4: VELOCITY | P4: FORCE | Q4: ACCELERATION
B5: Power (hp) | C5: 18 | E5: PRIMARY | F5: 19 | G5: 47 | H5: 2.4736842 | N5: m/s | O5: mph | P5: N | Q5: m/s²
B6: Torque (Nm) | C6: 22 | E6: FIRST | F6: 24 | G6: 38 | H6: 0.63157895 | I6: 20 | K6: 625 | L6: =L7-0.375 -> 3.875 | M6: =L6*0.7457 -> 2.8895875 | N6: =((($K6/$I$6)*($C$37))/(60))*2.24*0.44704 -> 1.015862 | O6: =N6*2.237 -> 2.2724834 | P6: =(($L6*0.746)*1000)/N6 -> 2845.6127 | Q6: =P6/$G$25 -> 4.0420582
B7: Top Speed (mph) | C7: 30 | K7: 750 | L7: =L8-0.75 -> 4.25 | M7: =L7*0.7457 -> 3.169225 | N7: =((($K7/$I$6)*($C$37))/(60))*2.24*0.44704 -> 1.2190345 | O7: =N7*2.237 -> 2.7269801 | P7: =(($L7*0.746)*1000)/N7 -> 2600.8289 | Q7: =P7/$G$25 -> 3.6943542
B8: Length (mm) | C8: 2620 | K8: 1000 | L8: =L9-0.75 -> 5 | M8: =L8*0.7457 -> 3.7285 | N8: =((($K8/$I$6)*($C$37))/(60))*2.24*0.44704 -> 1.6253793 | O8: =N8*2.237 -> 3.6359734 | P8: =(($L8*0.746)*1000)/N8 -> 2294.849 | Q8: =P8/$G$25 -> 3.2597243
B9: Width (mm) | C9: 1650 | F9: Drive Torque at Shaft | G9: =C6*H6*0.97 -> 13.477895 | K9: 1250 | L9: =L10-0.75 -> 5.75 | M9: =L9*0.7457 -> 4.287775 | N9: =((($K9/$I$6)*($C$37))/(60))*2.24*0.44704 -> 2.0317241 | O9: =N9*2.237 -> 4.5449668 | P9: =(($L9*0.746)*1000)/N9 -> 2111.2611 | Q9: =P9/$G$25 -> 2.9989464
B10: Height (mm) | C10: 1620 | F10: Drive Torque at Rear Wheels | G10: =$I$6*0.94*G9 -> 253.38442 | K10: 1500 | L10: =L11-0.75 -> 6.5 | M10: =L10*0.7457 -> 4.84705 | N10: =((($K10/$I$6)*($C$37))/(60))*2.24*0.44704 -> 2.4380689 | O10: =N10*2.237 -> 5.4539602 | P10: =(($L10*0.746)*1000)/N10 -> 1988.8691 | Q10: =P10/$G$25 -> 2.8250944
B11: Weight (Car) (hyb) | C11: 450 | F11: Force | G11: =(G10/('Specifications (ICE)'!M4)) -> 886.73463 | K11: 1750 | L11: =L12-0.75 -> 7.25 | M11: =L11*0.7457 -> 5.406325 | N11: =((($K11/$I$6)*($C$37))/(60))*2.24*0.44704 -> 2.8444137 | O11: =N11*2.237 -> 6.3629535 | P11: =(($L11*0.746)*1000)/N11 -> 1901.4463 | Q11: =P11/$G$25 -> 2.7009144
B12: Weight (Driver + Kit) *2 (kg) | C12: 175 | K12: 2000 | L12: =L13-0.75 -> 8 | M12: =L12*0.7457 -> 5.9656 | N12: =((($K12/$I$6)*($C$37))/(60))*2.24*0.44704 -> 3.2507586 | O12: =N12*2.237 -> 7.2719469 | P12: =(($L12*0.746)*1000)/N12 -> 1835.8792 | Q12: =P12/$G$25 -> 2.6077795
B13: Weight Combined (kg) | C13: =C11+C12 -> 625 | K13: 2250 | L13: =L14-0.75 -> 8.75 | M13: =L13*0.7457 -> 6.524875 | N13: =((($K13/$I$6)*($C$37))/(60))*2.24*0.44704 -> 3.6571034 | O13: =N13*2.237 -> 8.1809403 | P13: =(($L13*0.746)*1000)/N13 -> 1784.8825 | Q13: =P13/$G$25 -> 2.5353411
B14: Fuel Tank (l) | C14: 29 | K14: 2500 | L14: =L15-0.75 -> 9.5 | M14: =L14*0.7457 -> 7.08415 | N14: =((($K14/$I$6)*($C$37))/(60))*2.24*0.44704 -> 4.0634482 | O14: =N14*2.237 -> 9.0899336 | P14: =(($L14*0.746)*1000)/N14 -> 1744.0852 | Q14: =P14/$G$25 -> 2.4773905
B15: Fuel Weight | C15: =C14*0.755 -> 21.895 | K15: 2750 | L15: =L16-0.75 -> 10.25 | M15: =L15*0.7457 -> 7.643425 | N15: =((($K15/$I$6)*($C$37))/(60))*2.24*0.44704 -> 4.469793 | O15: =N15*2.237 -> 9.998927 | P15: =(($L15*0.746)*1000)/N15 -> 1710.7056 | Q15: =P15/$G$25 -> 2.4299763
B16: Weight Combined With Fuel (kg) | C16: =C15+C13 -> 646.895 | K16: 3000 | L16: =L17-0.75 -> 11 | M16: =L16*0.7457 -> 8.2027 | N16: =((($K16/$I$6)*($C$37))/(60))*2.24*0.44704 -> 4.8761378 | O16: =N16*2.237 -> 10.90792 | P16: =(($L16*0.746)*1000)/N16 -> 1682.8893 | Q16: =P16/$G$25 -> 2.3904645
B17: Ground Clearance (mm) | C17: 300 | K17: 3250 | L17: =L18-0.75 -> 11.75 | M17: =L17*0.7457 -> 8.761975 | N17: =((($K17/$I$6)*($C$37))/(60))*2.24*0.44704 -> 5.2824827 | O17: =N17*2.237 -> 11.816914 | P17: =(($L17*0.746)*1000)/N17 -> 1659.3523 | Q17: =P17/$G$25 -> 2.3570314
B18: Ground Clearance (m) | C18: 0.3 | K18: 3500 | L18: =L19-0.75 -> 12.5 | M18: =L18*0.7457 -> 9.32125 | N18: =((($K18/$I$6)*($C$37))/(60))*2.24*0.44704 -> 5.6888275 | O18: =N18*2.237 -> 12.725907 | P18: =(($L18*0.746)*1000)/N18 -> 1639.1779 | Q18: =P18/$G$25 -> 2.3283745
K19: 3750 | L19: =L20-0.75 -> 13.25 | M19: =L19*0.7457 -> 9.880525 | N19: =((($K19/$I$6)*($C$37))/(60))*2.24*0.44704 -> 6.0951723 | O19: =N19*2.237 -> 13.6349 | P19: =(($L19*0.746)*1000)/N19 -> 1621.6933 | Q19: =P19/$G$25 -> 2.3035385
B20: rr front | C20: 0.254 | E20: Frontal Area | F20: 1.458018 | K20: 4000 | L20: 14 | M20: =L20*0.7457 -> 10.4398 | N20: =((($K20/$I$6)*($C$37))/(60))*2.24*0.44704 -> 6.5015171 | O20: =N20*2.237 -> 14.543894 | P20: =(($L20*0.746)*1000)/N20 -> 1606.3943 | Q20: =P20/$G$25 -> 2.281807
B21: rr rear | C21: 0.28575 | E21: cd | F21: 0.35 | K21: 4250 | L21: =L20+0.75 -> 14.75 | M21: =L21*0.7457 -> 10.999075 | N21: =((($K21/$I$6)*($C$37))/(60))*2.24*0.44704 -> 6.9078619 | O21: =N21*2.237 -> 15.452887 | P21: =(($L21*0.746)*1000)/N21 -> 1592.8952 | Q21: =P21/$G$25 -> 2.2626322
E22: rho | F22: 1.225 | K22: 4500 | L22: =L21+0.75 -> 15.5 | M22: =L22*0.7457 -> 11.55835 | N22: =((($K22/$I$6)*($C$37))/(60))*2.24*0.44704 -> 7.3142068 | O22: =N22*2.237 -> 16.361881 | P22: =(($L22*0.746)*1000)/N22 -> 1580.896 | Q22: =P22/$G$25 -> 2.2455879
K23: 4750 | L23: =L22+0.75 -> 16.25 | M23: =L23*0.7457 -> 12.117625 | N23: =((($K23/$I$6)*($C$37))/(60))*2.24*0.44704 -> 7.7205516 | O23: =N23*2.237 -> 17.270874 | P23: =(($L23*0.746)*1000)/N23 -> 1570.1598 | Q23: =P23/$G$25 -> 2.2303377
K24: 5000 | L24: =L23+0.75 -> 17 | M24: =L24*0.7457 -> 12.6769 | N24: =((($K24/$I$6)*($C$37))/(60))*2.24*0.44704 -> 8.1268964 | O24: =N24*2.237 -> 18.179867 | P24: =(($L24*0.746)*1000)/N24 -> 1560.4973 | Q24: =P24/$G$25 -> 2.2166125
B25: Tyre Mass | C25: 10 | D25: kg | F25: EQ Mass | G25: =$C$16+(4*(($C$33/$C$21^2)+$C$34*(H6^2/C21^2))) -> 704.00094 | K25: 5250 | L25: =L24+0.75 -> 17.75 | M25: =L25*0.7457 -> 13.236175 | N25: =((($K25/$I$6)*($C$37))/(60))*2.24*0.44704 -> 8.5332412 | O25: =N25*2.237 -> 19.088861 | P25: =(($L25*0.746)*1000)/N25 -> 1551.755 | Q25: =P25/$G$25 -> 2.2041945
B26: Wheel Mass | C26: 6.6 | D26: kg | K26: 5500 | L26: =L25+0.75 -> 18.5 | M26: =L26*0.7457 -> 13.79545 | N26: =((($K26/$I$6)*($C$37))/(60))*2.24*0.44704 -> 8.939586 | O26: =N26*2.237 -> 19.997854 | P26: =(($L26*0.746)*1000)/N26 -> 1543.8075 | Q26: =P26/$G$25 -> 2.1929055
B27: Total Wheel Mass | C27: =C26+C25 -> 16.6 | D27: kg | K27: 5750 | L27: =L26+0.75 -> 19.25 | M27: =L27*0.7457 -> 14.354725 | N27: =((($K27/$I$6)*($C$37))/(60))*2.24*0.44704 -> 9.3459309 | O27: =N27*2.237 -> 20.906847 | P27: =(($L27*0.746)*1000)/N27 -> 1536.5511 | Q27: =P27/$G$25 -> 2.182598
K28: 6000 | L28: =L27+0.75 -> 20 | M28: =L28*0.7457 -> 14.914 | N28: =((($K28/$I$6)*($C$37))/(60))*2.24*0.44704 -> 9.7522757 | O28: =N28*2.237 -> 21.815841 | P28: =(($L28*0.746)*1000)/N28 -> 1529.8993 | Q28: =P28/$G$25 -> 2.1731496
B29: k(front) = 0.9r | C29: 0.2286 | K29: 6250 | L29: =L28+0.75 -> 20.75 | M29: =L29*0.7457 -> 15.473275 | N29: =((($K29/$I$6)*($C$37))/(60))*2.24*0.44704 -> 10.15862 | O29: =N29*2.237 -> 22.724834 | P29: =(($L29*0.746)*1000)/N29 -> 1523.7797 | Q29: =P29/$G$25 -> 2.164457
B30: k(rear) = 0.9r | C30: 0.257175 | K30: 6500 | L30: =L29+0.75 -> 21.5 | M30: =L30*0.7457 -> 16.03255 | N30: =((($K30/$I$6)*($C$37))/(60))*2.24*0.44704 -> 10.564965 | O30: =N30*2.237 -> 23.633827 | P30: =(($L30*0.746)*1000)/N30 -> 1518.1309 | Q30: =P30/$G$25 -> 2.156433
K31: 6750 | L31: =L30+0.75 -> 22.25 | M31: =L31*0.7457 -> 16.591825 | N31: =((($K31/$I$6)*($C$37))/(60))*2.24*0.44704 -> 10.97131 | O31: =N31*2.237 -> 24.542821 | P31: =(($L31*0.746)*1000)/N31 -> 1512.9004 | Q31: =P31/$G$25 -> 2.1490034
B32: I (Front) | C32: 0.86748214 | K32: 7000 | L32: =L31+0.75 -> 23 | M32: =L32*0.7457 -> 17.1511 | N32: =((($K32/$I$6)*($C$37))/(60))*2.24*0.44704 -> 11.377655 | O32: =N32*2.237 -> 25.451814 | P32: =(($L32*0.746)*1000)/N32 -> 1508.0436 | Q32: =P32/$G$25 -> 2.1421046
B33: I (Rear) | C33: 1.0979071 | K33: 7250 | L33: =L32+0.75 -> 23.75 | M33: =L33*0.7457 -> 17.710375 | N33: =((($K33/$I$6)*($C$37))/(60))*2.24*0.44704 -> 11.784 | O33: =N33*2.237 -> 26.360807 | P33: =(($L33*0.746)*1000)/N33 -> 1503.5218 | Q33: =P33/$G$25 -> 2.1356815
B34: I (Engine) | C34: 0.17 | K34: 7500 | L34: =L33+0.75 -> 24.5 | M34: =L34*0.7457 -> 18.26965 | N34: =((($K34/$I$6)*($C$37))/(60))*2.24*0.44704 -> 12.190345 | O34: =N34*2.237 -> 27.269801 | P34: =(($L34*0.746)*1000)/N34 -> 1499.3013 | Q34: =P34/$G$25 -> 2.1296866
K35: 7750 | L35: =L34+0.75 -> 25.25 | M35: =L35*0.7457 -> 18.828925 | N35: =((($K35/$I$6)*($C$37))/(60))*2.24*0.44704 -> 12.596689 | O35: =N35*2.237 -> 28.178794 | P35: =(($L35*0.746)*1000)/N35 -> 1495.3532 | Q35: =P35/$G$25 -> 2.1240784
B36: WHEEL TRAVEL | K36: 8000 | L36: =L35+0.75 -> 26 | M36: =L36*0.7457 -> 19.3882 | N36: =((($K36/$I$6)*($C$37))/(60))*2.24*0.44704 -> 13.003034 | O36: =N36*2.237 -> 29.087788 | P36: =(($L36*0.746)*1000)/N36 -> 1491.6518 | Q36: =P36/$G$25 -> 2.1188208
B37: φ | C37: 1.9477874 | D37: m | K37: 8500 | L37: =L36+0.75 -> 26.75 | M37: =L37*0.7457 -> 19.947475 | N37: =((($K37/$I$6)*($C$37))/(60))*2.24*0.44704 -> 13.815724 | O37: =N37*2.237 -> 30.905774 | P37: =(($L37*0.746)*1000)/N37 -> 1444.405 | Q37: =P37/$G$25 -> 2.0517088
B38: REAR WHEEL TRAVEL | C38: 0.15409671 | D38: m

Sheet Main Data (HYB)
B2: HYBRID VEHICLE | X2: AVG Power Required (KW) | Y2: =AVERAGE(X6:X1506) -> 8.9282954 | Z2: Total Fuel Comsumption (g) | AA2: =SUM(AC6:AC1506) -> 81.945116
W3: 13.422819 | X3: Peak Power Required (KW) | Y3: =MAX(X6:X1506) -> 21.222701 | Z3: Total Fuel Comsumption (L) | AA3: =SUM(AD6:AD1506) -> 0.10853658
B5: Surface | C5: Distance | D5: Time (s) | E5: Equivalent Mass | F5: Gradient Change | G5: Resitive Force | H5: Gradient(rads) | I5: ICE Torque | J5: ICE RPM | K5: Speed (m/s) | L5: Speed (mph) | M5: Gear | N5: Motor RPM | O5: Aero Resistance (N) | P5: Rolling Resistance (N) | Q5: A, B or S | R5: Driving Force - Aero-RR (N) | S5: Acceleration (m/s) | T5: Accel Force (N) | U5: Total Resistance (N) | V5: Resistive Power (Kw) | W5: Power left (Kw) | X5: Power Required (Kw) | Y5: Torque Required (Nm) | Z5: BSFC | AA5: Fuel Flow | AB5: Energy (kwh) | AC5: Fuel Usage (g) | AD5: Fuel Usage (L) | AE5: Total Fuel Usage
A6: 1 | B6: A | C6: 0 | D6: 0 | E6: 704.00094 | F6: 0 | G6: =C6*9.81*TAN(F6) -> 0 | H6: =RADIANS(F6) -> 0 | I6: 14 | J6: 4000 | K6: 0 | L6: 0 | M6: 1 | N6: =IF(M6=1,_xlfn.XLOOKUP(L6,'HYB SPECS'!$O$6:$O$37,'HYB SPECS'!$K$6:$K$37,,1)) -> 625 | O6: =0.5*('Specifications (ICE)'!$P$4*'Specifications (ICE)'!$P$3)*'Specifications (ICE)'!$P$5*K6^2 -> 0 | P6: =IF(B6="A",'Specifications (ICE)'!$M$12,IF(B6="G",'Specifications (ICE)'!$M$13)) -> 84.271039 | Q6: 1 | R6: ='HYB SPECS'!$G$11-O6-P6-G6 -> 802.46359 | S6: =IF(A6=1,(R6/E6),IF(A6=2,0,IF(A6=3,(1.2*(-R6/E6))))) -> 1.1398615 | T6: =E6*S6 -> 802.46359 | U6: =T6+P6+O6+G6 -> 886.73463 | V6: =ABS(((+U6)*(+K6))/1000) -> 0 | W6: =(($W$3*1000)-V6*1000)/1000 -> 13.422819 | X6: =V6 -> 0 | Y6: =ABS((X6*1000)/((2*PI()*N6)/60)) -> 0 | Z6: 0 | AA6: 0 | AB6: 0 | AC6: 0 | AD6: =((Z6*AB6)/1000)/0.755 -> 0 | AE6: 0
A7: 1 | B7: A | C7: 1 | D7: 0.80413058 | E7: 704.00094 | F7: 0 | G7: =C7*9.81*TAN(F7) -> 0 | H7: =RADIANS(F7) -> 0 | I7: 14 | J7: 4000 | K7: 1.2435791 | L7: 2.7818119 | M7: 1 | N7: =IF(M7=1,_xlfn.XLOOKUP(L7,'HYB SPECS'!$O$6:$O$37,'HYB SPECS'!$K$6:$K$37,,1)) -> 1000 | O7: =0.5*('Specifications (ICE)'!$P$4*'Specifications (ICE)'!$P$3)*'Specifications (ICE)'!$P$5*K7^2 -> 0.48337464 | P7: =IF(B7="A",'Specifications (ICE)'!$M$12,IF(B7="G",'Specifications (ICE)'!$M$13)) -> 84.271039 | Q7: 1 | R7: ='HYB SPECS'!$G$11-O7-P7-G7 -> 801.98022 | S7: =IF(A7=1,(R7/E7),IF(A7=2,0,IF(A7=3,(1.2*(-R7/E7))))) -> 1.1391749 | T7: =E7*S7 -> 801.98022 | U7: =T7+P7+O7+G7 -> 886.73463 | V7: =ABS(((+U7)*(+K7))/1000) -> 1.1027247 | W7: =(($W$3*1000)-V7*1000)/1000 -> 12.320094 | X7: =V7 -> 1.1027247 | Y7: =ABS((X7*1000)/((2*PI()*N7)/60)) -> 10.530245 | Z7: 474.1423 | AA7: =(Z7*W7)/(60*60) -> 1.6226327 | AB7: =((D7-D6)/3600)*W7 -> 0.0027519346 | AC7: =AB7*Z7 -> 1.3048086 | AD7: =((Z7*AB7)/1000)/0.755 -> 0.0017282233 | AE7: =AE6+AC7 -> 1.3048086
A8: 1 | B8: A | C8: 2 | D8: 1.3729117 | E8: 704.00094 | F8: 0 | G8: =C8*9.81*TAN(F8) -> 0 | H8: =RADIANS(F8) -> 0 | I8: 14 | J8: 4000 | K8: 1.7583424 | L8: 3.9333064 | M8: 1 | N8: =IF(M8=1,_xlfn.XLOOKUP(L8,'HYB SPECS'!$O$6:$O$37,'HYB SPECS'!$K$6:$K$37,,1)) -> 1250 | O8: =0.5*('Specifications (ICE)'!$P$4*'Specifications (ICE)'!$P$3)*'Specifications (ICE)'!$P$5*K8^2 -> 0.96637104 | P8: =IF(B8="A",'Specifications (ICE)'!$M$12,IF(B8="G",'Specifications (ICE)'!$M$13)) -> 84.271039 | Q8: 1 | R8: ='HYB SPECS'!$G$11-O8-P8-G8 -> 801.49722 | S8: =IF(A8=1,(R8/E8),IF(A8=2,0,IF(A8=3,(1.2*(-R8/E8))))) -> 1.1384889 | T8: =E8*S8 -> 801.49722 | U8: =T8+P8+O8+G8 -> 886.73463 | V8: =ABS(((+U8)*(+K8))/1000) -> 1.5591831 | W8: =(($W$3*1000)-V8*1000)/1000 -> 11.863636 | X8: =V8 -> 1.5591831 | Y8: =ABS((X8*1000)/((2*PI()*N8)/60)) -> 11.911281 | Z8: 474.1423 | AA8: =(Z8*W8)/(60*60) -> 1.5625143 | AB8: =((D8-D7)/3600)*W8 -> 0.001874392 | AC8: =AB8*Z8 -> 0.88872856 | AD8: =((Z8*AB8)/1000)/0.755 -> 0.0011771239 | AE8: =AE7+AC8 -> 2.1935372
A9: 1 | B9: A | C9: 3 | D9: 1.8374622 | E9: 704.00094 | F9: 0 | G9: =C9*9.81*TAN(F9) -> 0 | H9: =RADIANS(F9) -> 0 | I9: 14 | J9: 4000 | K9: 2.1530995 | L9: 4.8163545 | M9: 1 | N9: =IF(M9=1,_xlfn.XLOOKUP(L9,'HYB SPECS'!$O$6:$O$37,'HYB SPECS'!$K$6:$K$37,,1)) -> 1500 | O9: =0.5*('Specifications (ICE)'!$P$4*'Specifications (ICE)'!$P$3)*'Specifications (ICE)'!$P$5*K9^2 -> 1.4489895 | P9: =IF(B9="A",'Specifications (ICE)'!$M$12,IF(B9="G",'Specifications (ICE)'!$M$13)) -> 84.271039 | Q9: 1 | R9: ='HYB SPECS'!$G$11-O9-P9-G9 -> 801.0146 | S9: =IF(A9=1,(R9/E9),IF(A9=2,0,IF(A9=3,(1.2*(-R9/E9))))) -> 1.1378033 | T9: =E9*S9 -> 801.0146 | U9: =T9+P9+O9+G9 -> 886.73463 | V9: =ABS(((+U9)*(+K9))/1000) -> 1.9092279 | W9: =(($W$3*1000)-V9*1000)/1000 -> 11.513591 | X9: =V9 -> 1.9092279 | Y9: =ABS((X9*1000)/((2*PI()*N9)/60)) -> 12.154522 | Z9: 474.1423 | AA9: =(Z9*W9)/(60*60) -> 1.5164112 | AB9: =((D9-D8)/3600)*W9 -> 0.0014857349 | AC9: =AB9*Z9 -> 0.70444975 | AD9: =((Z9*AB9)/1000)/0.755 -> 0.00093304602 | AE9: =AE8+AC9 -> 2.8979869
A10: 1 | B10: A | C10: 4 | D10: 2.2398985 | E10: 704.00094 | F10: 0 | G10: =C10*9.81*TAN(F10) -> 0 | H10: =RADIANS(F10) -> 0 | I10: 14 | J10: 4000 | K10: 2.4856989 | L10: 5.5603593 | M10: 1 | N10: =IF(M10=1,_xlfn.XLOOKUP(L10,'HYB SPECS'!$O$6:$O$37,'HYB SPECS'!$K$6:$K$37,,1)) -> 1750 | O10: =0.5*('Specifications (ICE)'!$P$4*'Specifications (ICE)'!$P$3)*'Specifications (ICE)'!$P$5*K10^2 -> 1.9312303 | P10: =IF(B10="A",'Specifications (ICE)'!$M$12,IF(B10="G",'Specifications (ICE)'!$M$13)) -> 84.271039 | Q10: 1 | R10: ='HYB SPECS'!$G$11-O10-P10-G10 -> 800.53236 | S10: =IF(A10=1,(R10/E10),IF(A10=2,0,IF(A10=3,(1.2*(-R10/E10))))) -> 1.1371183 | T10: =E10*S10 -> 800.53236 | U10: =T10+P10+O10+G10 -> 886.73463 | V10: =ABS(((+U10)*(+K10))/1000) -> 2.2041553 | W10: =(($W$3*1000)-V10*1000)/1000 -> 11.218663 | X10: =V10 -> 2.2041553 | Y10: =ABS((X10*1000)/((2*PI()*N10)/60)) -> 12.027504 | Z10: 474.1423 | AA10: =(Z10*W10)/(60*60) -> 1.4775675 | AB10: =((D10-D9)/3600)*W10 -> 0.0012541104 | AC10: =AB10*Z10 -> 0.59462679 | AD10: =((Z10*AB10)/1000)/0.755 -> 0.00078758515 | AE10: =AE9+AC10 -> 3.4926137
A11: 1 | B11: A | C11: 5 | D11: 2.5999592 | E11: 704.00094 | F11: 0 | G11: =C11*9.81*TAN(F11) -> 0 | H11: =RADIANS(F11) -> 0 | I11: 14 | J11: 4000 | K11: 2.7785524 | L11: 6.2154549 | M11: 1 | N11: =IF(M11=1,_xlfn.XLOOKUP(L11,'HYB SPECS'!$O$6:$O$37,'HYB SPECS'!$K$6:$K$37,,1)) -> 1750 | O11: =0.5*('Specifications (ICE)'!$P$4*'Specifications (ICE)'!$P$3)*'Specifications (ICE)'!$P$5*K11^2 -> 2.4130937 | P11: =IF(B11="A",'Specifications (ICE)'!$M$12,IF(B11="G",'Specifications (ICE)'!$M$13)) -> 84.271039 | Q11: 1 | R11: ='HYB SPECS'!$G$11-O11-P11-G11 -> 800.0505 | S11: =IF(A11=1,(R11/E11),IF(A11=2,0,IF(A11=3,(1.2*(-R11/E11))))) -> 1.1364339 | T11: =E11*S11 -> 800.0505 | U11: =T11+P11+O11+G11 -> 886.73463 | V11: =ABS(((+U11)*(+K11))/1000) -> 2.4638386 | W11: =(($W$3*1000)-V11*1000)/1000 -> 10.95898 | X11: =V11 -> 2.4638386 | Y11: =ABS((X11*1000)/((2*PI()*N11)/60)) -> 13.444529 | Z11: 474.1423 | AA11: =(Z11*W11)/(60*60) -> 1.4433656 | AB11: =((D11-D10)/3600)*W11 -> 0.0010960825 | AC11: =AB11*Z11 -> 0.51969909 | AD11: =((Z11*AB11)/1000)/0.755 -> 0.00068834316 | AE11: =AE10+AC11 -> 4.0123128
A12: 1 | B12: A | C12: 6 | D12: 2.928749 | E12: 704.00094 | F12: 0 | G12: =C12*9.81*TAN(F12) -> 0 | H12: =RADIANS(F12) -> 0 | I12: 14 | J12: 4000 | K12: 3.0431564 | L12: 6.8073583 | M12: 1 | N12: =IF(M12=1,_xlfn.XLOOKUP(L12,'HYB SPECS'!$O$6:$O$37,'HYB SPECS'!$K$6:$K$37,,1)) -> 2000 | O12: =0.5*('Specifications (ICE)'!$P$4*'Specifications (ICE)'!$P$3)*'Specifications (ICE)'!$P$5*K12^2 -> 2.8945801 | P12: =IF(B12="A",'Specifications (ICE)'!$M$12,IF(B12="G",'Specifications (ICE)'!$M$13)) -> 84.271039 | Q12: 1 | R12: ='HYB SPECS'!$G$11-O12-P12-G12 -> 799.56901 | S12: =IF(A12=1,(R12/E12),IF(A12=2,0,IF(A12=3,(1.2*(-R12/E12))))) -> 1.1357499 | T12: =E12*S12 -> 799.56901 | U12: =T12+P12+O12+G12 -> 886.73463 | V12: =ABS(((+U12)*(+K12))/1000) -> 2.6984722 | W12: =(($W$3*1000)-V12*1000)/1000 -> 10.724347 | X12: =V12 -> 2.6984722 | Y12: =ABS((X12*1000)/((2*PI()*N12)/60)) -> 12.884256 | Z12: 474.1423 | AA12: =(Z12*W12)/(60*60) -> 1.4124629 | AB12: =((D12-D11)/3600)*W12 -> 0.00097946014 | AC12: =AB12*Z12 -> 0.46440348 | AD12: =((Z12*AB12)/1000)/0.755 -> 0.00061510395 | AE12: =AE11+AC12 -> 4.4767163
A13: 1 | B13: A | C13: 7 | D13: 3.2332428 | E13: 704.00094 | F13: 0 | G13: =C13*9.81*TAN(F13) -> 0 | H13: =RADIANS(F13) -> 0 | I13: 14 | J13: 4000 | K13: 3.2863419 | L13: 7.3513497 | M13: 1 | N13: =IF(M13=1,_xlfn.XLOOKUP(L13,'HYB SPECS'!$O$6:$O$37,'HYB SPECS'!$K$6:$K$37,,1)) -> 2250 | O13: =0.5*('Specifications (ICE)'!$P$4*'Specifications (ICE)'!$P$3)*'Specifications (ICE)'!$P$5*K13^2 -> 3.3756897 | P13: =IF(B13="A",'Specifications (ICE)'!$M$12,IF(B13="G",'Specifications (ICE)'!$M$13)) -> 84.271039 | Q13: 1 | R13: ='HYB SPECS'!$G$11-O13-P13-G13 -> 799.0879 | S13: =IF(A13=1,(R13/E13),IF(A13=2,0,IF(A13=3,(1.2*(-R13/E13))))) -> 1.1350665 | T13: =E13*S13 -> 799.0879 | U13: =T13+P13+O13+G13 -> 886.73463 | V13: =ABS(((+U13)*(+K13))/1000) -> 2.9141132 | W13: =(($W$3*1000)-V13*1000)/1000 -> 10.508706 | X13: =V13 -> 2.9141132 | Y13: =ABS((X13*1000)/((2*PI()*N13)/60)) -> 12.367881 | Z13: 474.1423 | AA13: =(Z13*W13)/(60*60) -> 1.3840616 | AB13: =((D13-D12)/3600)*W13 -> 0.00088884322 | AC13: =AB13*Z13 -> 0.42143817 | AD13: =((Z13*AB13)/1000)/0.755 -> 0.00055819625 | AE13: =AE12+AC13 -> 4.8981544
A14: 1 | B14: A | C14: 8 | D14: 3.5181582 | E14: 704.00094 | F14: 0 | G14: =C14*9.81*TAN(F14) -> 0 | H14: =RADIANS(F14) -> 0 | I14: 14 | J14: 4000 | K14: 3.5125605 | L14: 7.8573871 | M14: 1 | N14: =IF(M14=1,_xlfn.XLOOKUP(L14,'HYB SPECS'!$O$6:$O$37,'HYB SPECS'!$K$6:$K$37,,1)) -> 2250 | O14: =0.5*('Specifications (ICE)'!$P$4*'Specifications (ICE)'!$P$3)*'Specifications (ICE)'!$P$5*K14^2 -> 3.8564229 | P14: =IF(B14="A",'Specifications (ICE)'!$M$12,IF(B14="G",'Specifications (ICE)'!$M$13)) -> 84.271039 | Q14: 1 | R14: ='HYB SPECS'!$G$11-O14-P14-G14 -> 798.60717 | S14: =IF(A14=1,(R14/E14),IF(A14=2,0,IF(A14=3,(1.2*(-R14/E14))))) -> 1.1343837 | T14: =E14*S14 -> 798.60717 | U14: =T14+P14+O14+G14 -> 886.73463 | V14: =ABS(((+U14)*(+K14))/1000) -> 3.114709 | W14: =(($W$3*1000)-V14*1000)/1000 -> 10.30811 | X14: =V14 -> 3.114709 | Y14: =ABS((X14*1000)/((2*PI()*N14)/60)) -> 13.219236 | Z14: 474.1423 | AA14: =(Z14*W14)/(60*60) -> 1.3576419 | AB14: =((D14-D13)/3600)*W14 -> 0.00081581631 | AC14: =AB14*Z14 -> 0.38681302 | AD14: =((Z14*AB14)/1000)/0.755 -> 0.00051233513 | AE14: =AE13+AC14 -> 5.2849675
A15: 1 | B15: A | C15: 9 | D15: 3.7778156 | E15: 704.00094 | F15: 0 | G15: =C15*9.81*TAN(F15) -> 0 | H15: =RADIANS(F15) -> 0 | I15: 14 | J15: 4000 | K15: 3.8544434 | L15: 8.6221586 | M15: 1 | N15: =IF(M15=1,_xlfn.XLOOKUP(L15,'HYB SPECS'!$O$6:$O$37,'HYB SPECS'!$K$6:$K$37,,1)) -> 2500 | O15: =0.5*('Specifications (ICE)'!$P$4*'Specifications (ICE)'!$P$3)*'Specifications (ICE)'!$P$5*K15^2 -> 4.6436595 | P15: =IF(B15="A",'Specifications (ICE)'!$M$12,IF(B15="G",'Specifications (ICE)'!$M$13)) -> 84.271039 | Q15: 1 | R15: ='HYB SPECS'!$G$11-O15-P15-G15 -> 797.81993 | S15: =IF(A15=1,(R15/E15),IF(A15=2,0,IF(A15=3,(1.2*(-R15/E15))))) -> 1.1332654 | T15: =E15*S15 -> 797.81993 | U15: =T15+P15+O15+G15 -> 886.73463 | V15: =ABS(((+U15)*(+K15))/1000) -> 3.4178685 | W15: =(($W$3*1000)-V15*1000)/1000 -> 10.00495 | X15: =V15 -> 3.4178685 | Y15: =ABS((X15*1000)/((2*PI()*N15)/60)) -> 13.055296 | Z15: 474.1423 | AA15: =(Z15*W15)/(60*60) -> 1.3177139 | AB15: =((D15-D14)/3600)*W15 -> 0.00072162773 | AC15: =AB15*Z15 -> 0.34215423 | AD15: =((Z15*AB15)/1000)/0.755 -> 0.00045318442 | AE15: =AE14+AC15 -> 5.6271217
A16: 1 | B16: A | C16: 10 | D16: 4.0179476 | E16: 704.00094 | F16: 0 | G16: =C16*9.81*TAN(F16) -> 0 | H16: =RADIANS(F16) -> 0 | I16: 14 | J16: 4000 | K16: 4.168143 | L16: 9.3238858 | M16: 1 | N16: =IF(M16=1,_xlfn.XLOOKUP(L16,'HYB SPECS'!$O$6:$O$37,'HYB SPECS'!$K$6:$K$37,,1)) -> 2750 | O16: =0.5*('Specifications (ICE)'!$P$4*'Specifications (ICE)'!$P$3)*'Specifications (ICE)'!$P$5*K16^2 -> 5.4302802 | P16: =IF(B16="A",'Specifications (ICE)'!$M$12,IF(B16="G",'Specifications (ICE)'!$M$13)) -> 84.271039 | Q16: 1 | R16: ='HYB SPECS'!$G$11-O16-P16-G16 -> 797.03331 | S16: =IF(A16=1,(R16/E16),IF(A16=2,0,IF(A16=3,(1.2*(-R16/E16))))) -> 1.1321481 | T16: =E16*S16 -> 797.03331 | U16: =T16+P16+O16+G16 -> 886.73463 | V16: =ABS(((+U16)*(+K16))/1000) -> 3.6960367 | W16: =(($W$3*1000)-V16*1000)/1000 -> 9.7267821 | X16: =V16 -> 3.6960367 | Y16: =ABS((X16*1000)/((2*PI()*N16)/60)) -> 12.834382 | Z16: 474.1423 | AA16: =(Z16*W16)/(60*60) -> 1.2810775 | AB16: =((D16-D15)/3600)*W16 -> 0.00064880886 | AC16: =AB16*Z16 -> 0.30762773 | AD16: =((Z16*AB16)/1000)/0.755 -> 0.00040745394 | AE16: =AE15+AC16 -> 5.9347494
A17: 1 | B17: A | C17: 11 | D17: 4.2424033 | E17: 704.00094 | F17: 0 | G17: =C17*9.81*TAN(F17) -> 0 | H17: =RADIANS(F17) -> 0 | I17: 14 | J17: 4000 | K17: 4.4596108 | L17: 9.9758818 | M17: 1 | N17: =IF(M17=1,_xlfn.XLOOKUP(L17,'HYB SPECS'!$O$6:$O$37,'HYB SPECS'!$K$6:$K$37,,1)) -> 2750 | O17: =0.5*('Specifications (ICE)'!$P$4*'Specifications (ICE)'!$P$3)*'Specifications (ICE)'!$P$5*K17^2 -> 6.2162853 | P17: =IF(B17="A",'Specifications (ICE)'!$M$12,IF(B17="G",'Specifications (ICE)'!$M$13)) -> 84.271039 | Q17: 1 | R17: ='HYB SPECS'!$G$11-O17-P17-G17 -> 796.24731 | S17: =IF(A17=1,(R17/E17),IF(A17=2,0,IF(A17=3,(1.2*(-R17/E17))))) -> 1.1310316 | T17: =E17*S17 -> 796.24731 | U17: =T17+P17+O17+G17 -> 886.73463 | V17: =ABS(((+U17)*(+K17))/1000) -> 3.9544913 | W17: =(($W$3*1000)-V17*1000)/1000 -> 9.4683275 | X17: =V17 -> 3.9544913 | Y17: =ABS((X17*1000)/((2*PI()*N17)/60)) -> 13.731858 | Z17: 474.1423 | AA17: =(Z17*W17)/(60*60) -> 1.2470374 | AB17: =((D17-D16)/3600)*W17 -> 0.00059033885 | AC17: =AB17*Z17 -> 0.27990462 | AD17: =((Z17*AB17)/1000)/0.755 -> 0.00037073459 | AE17: =AE16+AC17 -> 6.214654
A18: 1 | B18: A | C18: 12 | D18: 4.4539143 | E18: 704.00094 | F18: 0 | G18: =C18*9.81*TAN(F18) -> 0 | H18: =RADIANS(F18) -> 0 | I18: 14 | J18: 4000 | K18: 4.7329561 | L18: 10.587339 | M18: 1 | N18: =IF(M18=1,_xlfn.XLOOKUP(L18,'HYB SPECS'!$O$6:$O$37,'HYB SPECS'!$K$6:$K$37,,1)) -> 3000 | O18: =0.5*('Specifications (ICE)'!$P$4*'Specifications (ICE)'!$P$3)*'Specifications (ICE)'!$P$5*K18^2 -> 7.0016754 | P18: =IF(B18="A",'Specifications (ICE)'!$M$12,IF(B18="G",'Specifications (ICE)'!$M$13)) -> 84.271039 | Q18: 1 | R18: ='HYB SPECS'!$G$11-O18-P18-G18 -> 795.46192 | S18: =IF(A18=1,(R18/E18),IF(A18=2,0,IF(A18=3,(1.2*(-R18/E18))))) -> 1.129916 | T18: =E18*S18 -> 795.46192 | U18: =T18+P18+O18+G18 -> 886.73463 | V18: =ABS(((+U18)*(+K18))/1000) -> 4.1968761 | W18: =(($W$3*1000)-V18*1000)/1000 -> 9.2259427 | X18: =V18 -> 4.1968761 | Y18: =ABS((X18*1000)/((2*PI()*N18)/60)) -> 13.359071 | Z18: 474.1423 | AA18: =(Z18*W18)/(60*60) -> 1.2151138 | AB18: =((D18-D17)/3600)*W18 -> 0.00054205235 | AC18: =AB18*Z18 -> 0.25700995 | AD18: =((Z18*AB18)/1000)/0.755 -> 0.00034041053 | AE18: =AE17+AC18 -> 6.471664
... A490: 1 | B490: A | C490: 484 | D490: 43.132249 | E490: 704.00094 | F490: 0 | G490: =C490*9.81*TAN(F490) -> 0 | H490: =RADIANS(F490) -> 0 | I490: 14 | J490: 4000 | K490: 13.4112 | L490: 30.00005 | M490: 1 | N490: =IF(M490=1,_xlfn.XLOOKUP(L490,'HYB SPECS'!$O$6:$O$37,'HYB SPECS'!$K$6:$K$37,,1)) -> 8500 | O490: =0.5*('Specifications (ICE)'!$P$4*'Specifications (ICE)'!$P$3)*'Specifications (ICE)'!$P$5*K490^2 -> 56.2176 | P490: =IF(B490="A",'Specifications (ICE)'!$M$12,IF(B490="G",'Specifications (ICE)'!$M$13)) -> 84.271039 | Q490: 1 | R490: ='HYB SPECS'!$G$11-O490-P490-G490 -> 746.24599 | S490: =IF(A490=1,(R490/E490),IF(A490=2,0,IF(A490=3,(1.2*(-R490/E490))))) -> 1.0600071 | T490: =E490*S490 -> 746.24599 | U490: =T490+P490+O490+G490 -> 886.73463 | V490: =ABS(((+U490)*(+K490))/1000) -> 11.892175 | W490: =(($W$3*1000)-V490*1000)/1000 -> 1.5306433 | X490: =V490 -> 11.892175 | Y490: =ABS((X490*1000)/((2*PI()*N490)/60)) -> 13.360225 | Z490: 474.1423 | AA490: =(Z490*W490)/(60*60) -> 0.2015952 | AB490: =((D490-D489)/3600)*W490 -> 3.1703255e-05 | AC490: =AB490*Z490 -> 0.015031854 | AD490: =((Z490*AB490)/1000)/0.755 -> 1.9909741e-05 | AE490: =AE489+AC490 -> 24.637986
A491: 1 | B491: A | C491: 485 | D491: 43.206813 | E491: 704.00094 | F491: 0.2 | G491: ='Specifications (ICE)'!$E$16*9.81*SIN(F491-F490) -> 1046.3794 | H491: =RADIANS(F491) -> 0.0034906585 | I491: 14 | J491: 4000 | K491: 13.4112 | L491: 30.00005 | M491: 1 | N491: =IF(M491=1,_xlfn.XLOOKUP(L491,'HYB SPECS'!$O$6:$O$37,'HYB SPECS'!$K$6:$K$37,,1)) -> 8500 | O491: =0.5*('Specifications (ICE)'!$P$4*'Specifications (ICE)'!$P$3)*'Specifications (ICE)'!$P$5*K491^2 -> 56.2176 | P491: =IF(B491="A",'Specifications (ICE)'!$M$12,IF(B491="G",'Specifications (ICE)'!$M$13)) -> 84.271039 | Q491: 1 | R491: ='HYB SPECS'!$G$11-O491-P491-G491 -> -300.13344 | S491: =IF(A491=1,(R491/E491),IF(A491=2,0,IF(A491=3,(1.2*(-R491/E491))))) -> -0.42632534 | T491: =E491*S491 -> -300.13344 | U491: =T491+P491+O491+G491 -> 886.73463 | V491: =ABS(((+U491)*(+K491))/1000) -> 11.892175 | W491: =(($W$3*1000)-V491*1000)/1000 -> 1.5306433 | X491: =V491 -> 11.892175 | Y491: =ABS((X491*1000)/((2*PI()*N491)/60)) -> 13.360225 | Z491: 474.1423 | AA491: =(Z491*W491)/(60*60) -> 0.2015952 | AB491: =((D491-D490)/3600)*W491 -> 3.1703255e-05 | AC491: =AB491*Z491 -> 0.015031854 | AD491: =((Z491*AB491)/1000)/0.755 -> 1.9909741e-05 | AE491: =AE490+AC491 -> 24.653018
A492: 1 | B492: A | C492: 486 | D492: 43.281378 | E492: 704.00094 | F492: 0.4 | G492: ='Specifications (ICE)'!$E$16*9.81*SIN(F492-F491) -> 1046.3794 | H492: =RADIANS(F492) -> 0.006981317 | I492: 14 | J492: 4000 | K492: 13.4112 | L492: 30.00005 | M492: 1 | N492: =IF(M492=1,_xlfn.XLOOKUP(L492,'HYB SPECS'!$O$6:$O$37,'HYB SPECS'!$K$6:$K$37,,1)) -> 8500 | O492: =0.5*('Specifications (ICE)'!$P$4*'Specifications (ICE)'!$P$3)*'Specifications (ICE)'!$P$5*K492^2 -> 56.2176 | P492: =IF(B492="A",'Specifications (ICE)'!$M$12,IF(B492="G",'Specifications (ICE)'!$M$13)) -> 84.271039 | Q492: 1 | R492: ='HYB SPECS'!$G$11-O492-P492-G492 -> -300.13344 | S492: =IF(A492=1,(R492/E492),IF(A492=2,0,IF(A492=3,(1.2*(-R492/E492))))) -> -0.42632534 | T492: =E492*S492 -> -300.13344 | U492: =T492+P492+O492+G492 -> 886.73463 | V492: =ABS(((+U492)*(+K492))/1000) -> 11.892175 | W492: =(($W$3*1000)-V492*1000)/1000 -> 1.5306433 | X492: =V492 -> 11.892175 | Y492: =ABS((X492*1000)/((2*PI()*N492)/60)) -> 13.360225 | Z492: 474.1423 | AA492: =(Z492*W492)/(60*60) -> 0.2015952 | AB492: =((D492-D491)/3600)*W492 -> 3.1703255e-05 | AC492: =AB492*Z492 -> 0.015031854 | AD492: =((Z492*AB492)/1000)/0.755 -> 1.9909741e-05 | AE492: =AE491+AC492 -> 24.668049
A493: 1 | B493: A | C493: 487 | D493: 43.355942 | E493: 704.00094 | F493: 0.6 | G493: ='Specifications (ICE)'!$E$16*9.81*SIN(F493-F492) -> 1046.3794 | H493: =RADIANS(F493) -> 0.010471976 | I493: 14 | J493: 4000 | K493: 13.4112 | L493: 30.00005 | M493: 1 | N493: =IF(M493=1,_xlfn.XLOOKUP(L493,'HYB SPECS'!$O$6:$O$37,'HYB SPECS'!$K$6:$K$37,,1)) -> 8500 | O493: =0.5*('Specifications (ICE)'!$P$4*'Specifications (ICE)'!$P$3)*'Specifications (ICE)'!$P$5*K493^2 -> 56.2176 | P493: =IF(B493="A",'Specifications (ICE)'!$M$12,IF(B493="G",'Specifications (ICE)'!$M$13)) -> 84.271039 | Q493: 1 | R493: ='HYB SPECS'!$G$11-O493-P493-G493 -> -300.13344 | S493: =IF(A493=1,(R493/E493),IF(A493=2,0,IF(A493=3,(1.2*(-R493/E493))))) -> -0.42632534 | T493: =E493*S493 -> -300.13344 | U493: =T493+P493+O493+G493 -> 886.73463 | V493: =ABS(((+U493)*(+K493))/1000) -> 11.892175 | W493: =(($W$3*1000)-V493*1000)/1000 -> 1.5306433 | X493: =V493 -> 11.892175 | Y493: =ABS((X493*1000)/((2*PI()*N493)/60)) -> 13.360225 | Z493: 474.1423 | AA493: =(Z493*W493)/(60*60) -> 0.2015952 | AB493: =((D493-D492)/3600)*W493 -> 3.1703255e-05 | AC493: =AB493*Z493 -> 0.015031854 | AD493: =((Z493*AB493)/1000)/0.755 -> 1.9909741e-05 | AE493: =AE492+AC493 -> 24.683081
A494: 1 | B494: A | C494: 488 | D494: 43.430507 | E494: 704.00094 | F494: 0.8 | G494: ='Specifications (ICE)'!$E$16*9.81*SIN(F494-F493) -> 1046.3794 | H494: =RADIANS(F494) -> 0.013962634 | I494: 14 | J494: 4000 | K494: 13.4112 | L494: 30.00005 | M494: 1 | N494: =IF(M494=1,_xlfn.XLOOKUP(L494,'HYB SPECS'!$O$6:$O$37,'HYB SPECS'!$K$6:$K$37,,1)) -> 8500 | O494: =0.5*('Specifications (ICE)'!$P$4*'Specifications (ICE)'!$P$3)*'Specifications (ICE)'!$P$5*K494^2 -> 56.2176 | P494: =IF(B494="A",'Specifications (ICE)'!$M$12,IF(B494="G",'Specifications (ICE)'!$M$13)) -> 84.271039 | Q494: 1 | R494: ='HYB SPECS'!$G$11-O494-P494-G494 -> -300.13344 | S494: =IF(A494=1,(R494/E494),IF(A494=2,0,IF(A494=3,(1.2*(-R494/E494))))) -> -0.42632534 | T494: =E494*S494 -> -300.13344 | U494: =T494+P494+O494+G494 -> 886.73463 | V494: =ABS(((+U494)*(+K494))/1000) -> 11.892175 | W494: =(($W$3*1000)-V494*1000)/1000 -> 1.5306433 | X494: =V494 -> 11.892175 | Y494: =ABS((X494*1000)/((2*PI()*N494)/60)) -> 13.360225 | Z494: 474.1423 | AA494: =(Z494*W494)/(60*60) -> 0.2015952 | AB494: =((D494-D493)/3600)*W494 -> 3.1703255e-05 | AC494: =AB494*Z494 -> 0.015031854 | AD494: =((Z494*AB494)/1000)/0.755 -> 1.9909741e-05 | AE494: =AE493+AC494 -> 24.698113
A495: 1 | B495: A | C495: 489 | D495: 43.505071 | E495: 704.00094 | F495: 1 | G495: ='Specifications (ICE)'!$E$16*9.81*SIN(F495-F494) -> 1046.3794 | H495: =RADIANS(F495) -> 0.017453293 | I495: 14 | J495: 4000 | K495: 13.4112 | L495: 30.00005 | M495: 1 | N495: =IF(M495=1,_xlfn.XLOOKUP(L495,'HYB SPECS'!$O$6:$O$37,'HYB SPECS'!$K$6:$K$37,,1)) -> 8500 | O495: =0.5*('Specifications (ICE)'!$P$4*'Specifications (ICE)'!$P$3)*'Specifications (ICE)'!$P$5*K495^2 -> 56.2176 | P495: =IF(B495="A",'Specifications (ICE)'!$M$12,IF(B495="G",'Specifications (ICE)'!$M$13)) -> 84.271039 | Q495: 1 | R495: ='HYB SPECS'!$G$11-O495-P495-G495 -> -300.13344 | S495: =IF(A495=1,(R495/E495),IF(A495=2,0,IF(A495=3,(1.2*(-R495/E495))))) -> -0.42632534 | T495: =E495*S495 -> -300.13344 | U495: =T495+P495+O495+G495 -> 886.73463 | V495: =ABS(((+U495)*(+K495))/1000) -> 11.892175 | W495: =(($W$3*1000)-V495*1000)/1000 -> 1.5306433 | X495: =V495 -> 11.892175 | Y495: =ABS((X495*1000)/((2*PI()*N495)/60)) -> 13.360225 | Z495: 474.1423 | AA495: =(Z495*W495)/(60*60) -> 0.2015952 | AB495: =((D495-D494)/3600)*W495 -> 3.1703255e-05 | AC495: =AB495*Z495 -> 0.015031854 | AD495: =((Z495*AB495)/1000)/0.755 -> 1.9909741e-05 | AE495: =AE494+AC495 -> 24.713145
A496: 1 | B496: A | C496: 490 | D496: 43.579636 | E496: 704.00094 | F496: 1.2 | G496: ='Specifications (ICE)'!$E$16*9.81*SIN(F496-F495) -> 1046.3794 | H496: =RADIANS(F496) -> 0.020943951 | I496: 14 | J496: 4000 | K496: 13.4112 | L496: 30.00005 | M496: 1 | N496: =IF(M496=1,_xlfn.XLOOKUP(L496,'HYB SPECS'!$O$6:$O$37,'HYB SPECS'!$K$6:$K$37,,1)) -> 8500 | O496: =0.5*('Specifications (ICE)'!$P$4*'Specifications (ICE)'!$P$3)*'Specifications (ICE)'!$P$5*K496^2 -> 56.2176 | P496: =IF(B496="A",'Specifications (ICE)'!$M$12,IF(B496="G",'Specifications (ICE)'!$M$13)) -> 84.271039 | Q496: 1 | R496: ='HYB SPECS'!$G$11-O496-P496-G496 -> -300.13344 | S496: =IF(A496=1,(R496/E496),IF(A496=2,0,IF(A496=3,(1.2*(-R496/E496))))) -> -0.42632534 | T496: =E496*S496 -> -300.13344 | U496: =T496+P496+O496+G496 -> 886.73463 | V496: =ABS(((+U496)*(+K496))/1000) -> 11.892175 | W496: =(($W$3*1000)-V496*1000)/1000 -> 1.5306433 | X496: =V496 -> 11.892175 | Y496: =ABS((X496*1000)/((2*PI()*N496)/60)) -> 13.360225 | Z496: 474.1423 | AA496: =(Z496*W496)/(60*60) -> 0.2015952 | AB496: =((D496-D495)/3600)*W496 -> 3.1703255e-05 | AC496: =AB496*Z496 -> 0.015031854 | AD496: =((Z496*AB496)/1000)/0.755 -> 1.9909741e-05 | AE496: =AE495+AC496 -> 24.728177
A497: 1 | B497: A | C497: 491 | D497: 43.654201 | E497: 704.00094 | F497: 1.4 | G497: ='Specifications (ICE)'!$E$16*9.81*SIN(F497-F496) -> 1046.3794 | H497: =RADIANS(F497) -> 0.02443461 | I497: 14 | J497: 4000 | K497: 13.4112 | L497: 30.00005 | M497: 1 | N497: =IF(M497=1,_xlfn.XLOOKUP(L497,'HYB SPECS'!$O$6:$O$37,'HYB SPECS'!$K$6:$K$37,,1)) -> 8500 | O497: =0.5*('Specifications (ICE)'!$P$4*'Specifications (ICE)'!$P$3)*'Specifications (ICE)'!$P$5*K497^2 -> 56.2176 | P497: =IF(B497="A",'Specifications (ICE)'!$M$12,IF(B497="G",'Specifications (ICE)'!$M$13)) -> 84.271039 | Q497: 1 | R497: ='HYB SPECS'!$G$11-O497-P497-G497 -> -300.13344 | S497: =IF(A497=1,(R497/E497),IF(A497=2,0,IF(A497=3,(1.2*(-R497/E497))))) -> -0.42632534 | T497: =E497*S497 -> -300.13344 | U497: =T497+P497+O497+G497 -> 886.73463 | V497: =ABS(((+U497)*(+K497))/1000) -> 11.892175 | W497: =(($W$3*1000)-V497*1000)/1000 -> 1.5306433 | X497: =V497 -> 11.892175 | Y497: =ABS((X497*1000)/((2*PI()*N497)/60)) -> 13.360225 | Z497: 474.1423 | AA497: =(Z497*W497)/(60*60) -> 0.2015952 | AB497: =((D497-D496)/3600)*W497 -> 3.1703255e-05 | AC497: =AB497*Z497 -> 0.015031854 | AD497: =((Z497*AB497)/1000)/0.755 -> 1.9909741e-05 | AE497: =AE496+AC497 -> 24.743209
A498: 1 | B498: A | C498: 492 | D498: 43.728765 | E498: 704.00094 | F498: 1.6 | G498: ='Specifications (ICE)'!$E$16*9.81*SIN(F498-F497) -> 1046.3794 | H498: =RADIANS(F498) -> 0.027925268 | I498: 14 | J498: 4000 | K498: 13.4112 | L498: 30.00005 | M498: 1 | N498: =IF(M498=1,_xlfn.XLOOKUP(L498,'HYB SPECS'!$O$6:$O$37,'HYB SPECS'!$K$6:$K$37,,1)) -> 8500 | O498: =0.5*('Specifications (ICE)'!$P$4*'Specifications (ICE)'!$P$3)*'Specifications (ICE)'!$P$5*K498^2 -> 56.2176 | P498: =IF(B498="A",'Specifications (ICE)'!$M$12,IF(B498="G",'Specifications (ICE)'!$M$13)) -> 84.271039 | Q498: 1 | R498: ='HYB SPECS'!$G$11-O498-P498-G498 -> -300.13344 | S498: =IF(A498=1,(R498/E498),IF(A498=2,0,IF(A498=3,(1.2*(-R498/E498))))) -> -0.42632534 | T498: =E498*S498 -> -300.13344 | U498: =T498+P498+O498+G498 -> 886.73463 | V498: =ABS(((+U498)*(+K498))/1000) -> 11.892175 | W498: =(($W$3*1000)-V498*1000)/1000 -> 1.5306433 | X498: =V498 -> 11.892175 | Y498: =ABS((X498*1000)/((2*PI()*N498)/60)) -> 13.360225 | Z498: 474.1423 | AA498: =(Z498*W498)/(60*60) -> 0.2015952 | AB498: =((D498-D497)/3600)*W498 -> 3.1703255e-05 | AC498: =AB498*Z498 -> 0.015031854 | AD498: =((Z498*AB498)/1000)/0.755 -> 1.9909741e-05 | AE498: =AE497+AC498 -> 24.758241
A499: 1 | B499: A | C499: 493 | D499: 43.80333 | E499: 704.00094 | F499: 1.8 | G499: ='Specifications (ICE)'!$E$16*9.81*SIN(F499-F498) -> 1046.3794 | H499: =RADIANS(F499) -> 0.031415927 | I499: 14 | J499: 4000 | K499: 13.4112 | L499: 30.00005 | M499: 1 | N499: =IF(M499=1,_xlfn.XLOOKUP(L499,'HYB SPECS'!$O$6:$O$37,'HYB SPECS'!$K$6:$K$37,,1)) -> 8500 | O499: =0.5*('Specifications (ICE)'!$P$4*'Specifications (ICE)'!$P$3)*'Specifications (ICE)'!$P$5*K499^2 -> 56.2176 | P499: =IF(B499="A",'Specifications (ICE)'!$M$12,IF(B499="G",'Specifications (ICE)'!$M$13)) -> 84.271039 | Q499: 1 | R499: ='HYB SPECS'!$G$11-O499-P499-G499 -> -300.13344 | S499: =IF(A499=1,(R499/E499),IF(A499=2,0,IF(A499=3,(1.2*(-R499/E499))))) -> -0.42632534 | T499: =E499*S499 -> -300.13344 | U499: =T499+P499+O499+G499 -> 886.73463 | V499: =ABS(((+U499)*(+K499))/1000) -> 11.892175 | W499: =(($W$3*1000)-V499*1000)/1000 -> 1.5306433 | X499: =V499 -> 11.892175 | Y499: =ABS((X499*1000)/((2*PI()*N499)/60)) -> 13.360225 | Z499: 474.1423 | AA499: =(Z499*W499)/(60*60) -> 0.2015952 | AB499: =((D499-D498)/3600)*W499 -> 3.1703255e-05 | AC499: =AB499*Z499 -> 0.015031854 | AD499: =((Z499*AB499)/1000)/0.755 -> 1.9909741e-05 | AE499: =AE498+AC499 -> 24.773272
A500: 1 | B500: A | C500: 494 | D500: 43.877894 | E500: 704.00094 | F500: 2 | G500: ='Specifications (ICE)'!$E$16*9.81*SIN(F500-F499) -> 1046.3794 | H500: =RADIANS(F500) -> 0.034906585 | I500: 14 | J500: 4000 | K500: 13.4112 | L500: 30.00005 | M500: 1 | N500: =IF(M500=1,_xlfn.XLOOKUP(L500,'HYB SPECS'!$O$6:$O$37,'HYB SPECS'!$K$6:$K$37,,1)) -> 8500 | O500: =0.5*('Specifications (ICE)'!$P$4*'Specifications (ICE)'!$P$3)*'Specifications (ICE)'!$P$5*K500^2 -> 56.2176 | P500: =IF(B500="A",'Specifications (ICE)'!$M$12,IF(B500="G",'Specifications (ICE)'!$M$13)) -> 84.271039 | Q500: 1 | R500: ='HYB SPECS'!$G$11-O500-P500-G500 -> -300.13344 | S500: =IF(A500=1,(R500/E500),IF(A500=2,0,IF(A500=3,(1.2*(-R500/E500))))) -> -0.42632534 | T500: =E500*S500 -> -300.13344 | U500: =T500+P500+O500+G500 -> 886.73463 | V500: =ABS(((+U500)*(+K500))/1000) -> 11.892175 | W500: =(($W$3*1000)-V500*1000)/1000 -> 1.5306433 | X500: =V500 -> 11.892175 | Y500: =ABS((X500*1000)/((2*PI()*N500)/60)) -> 13.360225 | Z500: 474.1423 | AA500: =(Z500*W500)/(60*60) -> 0.2015952 | AB500: =((D500-D499)/3600)*W500 -> 3.1703255e-05 | AC500: =AB500*Z500 -> 0.015031854 | AD500: =((Z500*AB500)/1000)/0.755 -> 1.9909741e-05 | AE500: =AE499+AC500 -> 24.788304
A501: 1 | B501: A | C501: 495 | D501: 43.952459 | E501: 704.00094 | F501: 2.2 | G501: ='Specifications (ICE)'!$E$16*9.81*SIN(F501-F500) -> 1046.3794 | H501: =RADIANS(F501) -> 0.038397244 | I501: 14 | J501: 4000 | K501: 13.4112 | L501: 30.00005 | M501: 1 | N501: =IF(M501=1,_xlfn.XLOOKUP(L501,'HYB SPECS'!$O$6:$O$37,'HYB SPECS'!$K$6:$K$37,,1)) -> 8500 | O501: =0.5*('Specifications (ICE)'!$P$4*'Specifications (ICE)'!$P$3)*'Specifications (ICE)'!$P$5*K501^2 -> 56.2176 | P501: =IF(B501="A",'Specifications (ICE)'!$M$12,IF(B501="G",'Specifications (ICE)'!$M$13)) -> 84.271039 | Q501: 1 | R501: ='HYB SPECS'!$G$11-O501-P501-G501 -> -300.13344 | S501: =IF(A501=1,(R501/E501),IF(A501=2,0,IF(A501=3,(1.2*(-R501/E501))))) -> -0.42632534 | T501: =E501*S501 -> -300.13344 | U501: =T501+P501+O501+G501 -> 886.73463 | V501: =ABS(((+U501)*(+K501))/1000) -> 11.892175 | W501: =(($W$3*1000)-V501*1000)/1000 -> 1.5306433 | X501: =V501 -> 11.892175 | Y501: =ABS((X501*1000)/((2*PI()*N501)/60)) -> 13.360225 | Z501: 474.1423 | AA501: =(Z501*W501)/(60*60) -> 0.2015952 | AB501: =((D501-D500)/3600)*W501 -> 3.1703255e-05 | AC501: =AB501*Z501 -> 0.015031854 | AD501: =((Z501*AB501)/1000)/0.755 -> 1.9909741e-05 | AE501: =AE500+AC501 -> 24.803336
A502: 1 | B502: A | C502: 496 | D502: 44.027023 | E502: 704.00094 | F502: 2.4 | G502: ='Specifications (ICE)'!$E$16*9.81*SIN(F502-F501) -> 1046.3794 | H502: =RADIANS(F502) -> 0.041887902 | I502: 14 | J502: 4000 | K502: 13.4112 | L502: 30.00005 | M502: 1 | N502: =IF(M502=1,_xlfn.XLOOKUP(L502,'HYB SPECS'!$O$6:$O$37,'HYB SPECS'!$K$6:$K$37,,1)) -> 8500 | O502: =0.5*('Specifications (ICE)'!$P$4*'Specifications (ICE)'!$P$3)*'Specifications (ICE)'!$P$5*K502^2 -> 56.2176 | P502: =IF(B502="A",'Specifications (ICE)'!$M$12,IF(B502="G",'Specifications (ICE)'!$M$13)) -> 84.271039 | Q502: 1 | R502: ='HYB SPECS'!$G$11-O502-P502-G502 -> -300.13344 | S502: =IF(A502=1,(R502/E502),IF(A502=2,0,IF(A502=3,(1.2*(-R502/E502))))) -> -0.42632534 | T502: =E502*S502 -> -300.13344 | U502: =T502+P502+O502+G502 -> 886.73463 | V502: =ABS(((+U502)*(+K502))/1000) -> 11.892175 | W502: =(($W$3*1000)-V502*1000)/1000 -> 1.5306433 | X502: =V502 -> 11.892175 | Y502: =ABS((X502*1000)/((2*PI()*N502)/60)) -> 13.360225 | Z502: 474.1423 | AA502: =(Z502*W502)/(60*60) -> 0.2015952 | AB502: =((D502-D501)/3600)*W502 -> 3.1703255e-05 | AC502: =AB502*Z502 -> 0.015031854 | AD502: =((Z502*AB502)/1000)/0.755 -> 1.9909741e-05 | AE502: =AE501+AC502 -> 24.818368
... A617: 1 | B617: G | C617: 611 | D617: 53.461911 | E617: 704.00094 | F617: 20 | G617: ='Specifications (ICE)'!$E$16*9.81*SIN(F617-F616) -> 1046.3794 | H617: =RADIANS(F617) -> 0.34906585 | I617: 14 | J617: 4000 | K617: 13.4112 | L617: 30.00005 | M617: 1 | N617: =IF(M617=1,_xlfn.XLOOKUP(L617,'HYB SPECS'!$O$6:$O$37,'HYB SPECS'!$K$6:$K$37,,1)) -> 8500 | O617: =0.5*('Specifications (ICE)'!$P$4*'Specifications (ICE)'!$P$3)*'Specifications (ICE)'!$P$5*K617^2 -> 56.2176 | P617: =IF(B617="A",'Specifications (ICE)'!$M$12,IF(B617="G",'Specifications (ICE)'!$M$13)) -> 105.3388 | Q617: 1 | R617: ='HYB SPECS'!$G$11-O617-P617-G617 -> -321.2012 | S617: =IF(A617=1,(R617/E617),IF(A617=2,0,IF(A617=3,(1.2*(-R617/E617))))) -> -0.4562511 | T617: =E617*S617 -> -321.2012 | U617: =T617+P617+O617+G617 -> 886.73463 | V617: =ABS(((+U617)*(+K617))/1000) -> 11.892175 | W617: =(($W$3*1000)-V617*1000)/1000 -> 1.5306433 | X617: =V617 -> 11.892175 | Y617: =ABS((X617*1000)/((2*PI()*N617)/60)) -> 13.360225 | Z617: 474.1423 | AA617: =(Z617*W617)/(60*60) -> 0.2015952 | AB617: =((D617-D616)/3600)*W617 -> 3.1703255e-05 | AC617: =AB617*Z617 -> 0.015031854 | AD617: =((Z617*AB617)/1000)/0.755 -> 1.9909741e-05 | AE617: =AE616+AC617 -> 25.232391
A618: 1 | B618: G | C618: 612 | D618: 53.536476 | E618: 704.00094 | F618: 0 | G618: 0 | H618: =RADIANS(F618) -> 0 | I618: 14 | J618: 4000 | K618: 13.4112 | L618: 30.00005 | M618: 1 | N618: =IF(M618=1,_xlfn.XLOOKUP(L618,'HYB SPECS'!$O$6:$O$37,'HYB SPECS'!$K$6:$K$37,,1)) -> 8500 | O618: =0.5*('Specifications (ICE)'!$P$4*'Specifications (ICE)'!$P$3)*'Specifications (ICE)'!$P$5*K618^2 -> 56.2176 | P618: =IF(B618="A",'Specifications (ICE)'!$M$12,IF(B618="G",'Specifications (ICE)'!$M$13)) -> 105.3388 | Q618: 1 | R618: ='HYB SPECS'!$G$11-O618-P618-G618 -> 725.17823 | S618: =IF(A618=1,(R618/E618),IF(A618=2,0,IF(A618=3,(1.2*(-R618/E618))))) -> 1.0300813 | T618: =E618*S618 -> 725.17823 | U618: =T618+P618+O618+G618 -> 886.73463 | V618: =ABS(((+U618)*(+K618))/1000) -> 11.892175 | W618: =(($W$3*1000)-V618*1000)/1000 -> 1.5306433 | X618: =V618 -> 11.892175 | Y618: =ABS((X618*1000)/((2*PI()*N618)/60)) -> 13.360225 | Z618: 474.1423 | AA618: =(Z618*W618)/(60*60) -> 0.2015952 | AB618: =((D618-D617)/3600)*W618 -> 3.1703255e-05 | AC618: =AB618*Z618 -> 0.015031854 | AD618: =((Z618*AB618)/1000)/0.755 -> 1.9909741e-05 | AE618: =AE617+AC618 -> 25.247423
A619: 1 | B619: G | C619: 613 | D619: 53.61104 | E619: 704.00094 | F619: 0 | G619: ='Specifications (ICE)'!$E$16*9.81*SIN(F619-F618) -> 0 | H619: =RADIANS(F619) -> 0 | I619: 14 | J619: 4000 | K619: 13.4112 | L619: 30.00005 | M619: 1 | N619: =IF(M619=1,_xlfn.XLOOKUP(L619,'HYB SPECS'!$O$6:$O$37,'HYB SPECS'!$K$6:$K$37,,1)) -> 8500 | O619: =0.5*('Specifications (ICE)'!$P$4*'Specifications (ICE)'!$P$3)*'Specifications (ICE)'!$P$5*K619^2 -> 56.2176 | P619: =IF(B619="A",'Specifications (ICE)'!$M$12,IF(B619="G",'Specifications (ICE)'!$M$13)) -> 105.3388 | Q619: 1 | R619: ='HYB SPECS'!$G$11-O619-P619-G619 -> 725.17823 | S619: =IF(A619=1,(R619/E619),IF(A619=2,0,IF(A619=3,(1.2*(-R619/E619))))) -> 1.0300813 | T619: =E619*S619 -> 725.17823 | U619: =T619+P619+O619+G619 -> 886.73463 | V619: =ABS(((+U619)*(+K619))/1000) -> 11.892175 | W619: =(($W$3*1000)-V619*1000)/1000 -> 1.5306433 | X619: =V619 -> 11.892175 | Y619: =ABS((X619*1000)/((2*PI()*N619)/60)) -> 13.360225 | Z619: 474.1423 | AA619: =(Z619*W619)/(60*60) -> 0.2015952 | AB619: =((D619-D618)/3600)*W619 -> 3.1703255e-05 | AC619: =AB619*Z619 -> 0.015031854 | AD619: =((Z619*AB619)/1000)/0.755 -> 1.9909741e-05 | AE619: =AE618+AC619 -> 25.262455
A620: 1 | B620: G | C620: 614 | D620: 53.685605 | E620: 704.00094 | F620: 0 | G620: ='Specifications (ICE)'!$E$16*9.81*SIN(F620-F619) -> 0 | H620: =RADIANS(F620) -> 0 | I620: 14 | J620: 4000 | K620: 13.4112 | L620: 30.00005 | M620: 1 | N620: =IF(M620=1,_xlfn.XLOOKUP(L620,'HYB SPECS'!$O$6:$O$37,'HYB SPECS'!$K$6:$K$37,,1)) -> 8500 | O620: =0.5*('Specifications (ICE)'!$P$4*'Specifications (ICE)'!$P$3)*'Specifications (ICE)'!$P$5*K620^2 -> 56.2176 | P620: =IF(B620="A",'Specifications (ICE)'!$M$12,IF(B620="G",'Specifications (ICE)'!$M$13)) -> 105.3388 | Q620: 1 | R620: ='HYB SPECS'!$G$11-O620-P620-G620 -> 725.17823 | S620: =IF(A620=1,(R620/E620),IF(A620=2,0,IF(A620=3,(1.2*(-R620/E620))))) -> 1.0300813 | T620: =E620*S620 -> 725.17823 | U620: =T620+P620+O620+G620 -> 886.73463 | V620: =ABS(((+U620)*(+K620))/1000) -> 11.892175 | W620: =(($W$3*1000)-V620*1000)/1000 -> 1.5306433 | X620: =V620 -> 11.892175 | Y620: =ABS((X620*1000)/((2*PI()*N620)/60)) -> 13.360225 | Z620: 474.1423 | AA620: =(Z620*W620)/(60*60) -> 0.2015952 | AB620: =((D620-D619)/3600)*W620 -> 3.1703255e-05 | AC620: =AB620*Z620 -> 0.015031854 | AD620: =((Z620*AB620)/1000)/0.755 -> 1.9909741e-05 | AE620: =AE619+AC620 -> 25.277486
A621: 1 | B621: G | C621: 615 | D621: 53.760169 | E621: 704.00094 | F621: 0 | G621: ='Specifications (ICE)'!$E$16*9.81*SIN(F621-F620) -> 0 | H621: =RADIANS(F621) -> 0 | I621: 14 | J621: 4000 | K621: 13.4112 | L621: 30.00005 | M621: 1 | N621: =IF(M621=1,_xlfn.XLOOKUP(L621,'HYB SPECS'!$O$6:$O$37,'HYB SPECS'!$K$6:$K$37,,1)) -> 8500 | O621: =0.5*('Specifications (ICE)'!$P$4*'Specifications (ICE)'!$P$3)*'Specifications (ICE)'!$P$5*K621^2 -> 56.2176 | P621: =IF(B621="A",'Specifications (ICE)'!$M$12,IF(B621="G",'Specifications (ICE)'!$M$13)) -> 105.3388 | Q621: 1 | R621: ='HYB SPECS'!$G$11-O621-P621-G621 -> 725.17823 | S621: =IF(A621=1,(R621/E621),IF(A621=2,0,IF(A621=3,(1.2*(-R621/E621))))) -> 1.0300813 | T621: =E621*S621 -> 725.17823 | U621: =T621+P621+O621+G621 -> 886.73463 | V621: =ABS(((+U621)*(+K621))/1000) -> 11.892175 | W621: =(($W$3*1000)-V621*1000)/1000 -> 1.5306433 | X621: =V621 -> 11.892175 | Y621: =ABS((X621*1000)/((2*PI()*N621)/60)) -> 13.360225 | Z621: 474.1423 | AA621: =(Z621*W621)/(60*60) -> 0.2015952 | AB621: =((D621-D620)/3600)*W621 -> 3.1703255e-05 | AC621: =AB621*Z621 -> 0.015031854 | AD621: =((Z621*AB621)/1000)/0.755 -> 1.9909741e-05 | AE621: =AE620+AC621 -> 25.292518
A622: 1 | B622: G | C622: 616 | D622: 53.834734 | E622: 704.00094 | F622: 0 | G622: ='Specifications (ICE)'!$E$16*9.81*SIN(F622-F621) -> 0 | H622: =RADIANS(F622) -> 0 | I622: 14 | J622: 4000 | K622: 13.4112 | L622: 30.00005 | M622: 1 | N622: =IF(M622=1,_xlfn.XLOOKUP(L622,'HYB SPECS'!$O$6:$O$37,'HYB SPECS'!$K$6:$K$37,,1)) -> 8500 | O622: =0.5*('Specifications (ICE)'!$P$4*'Specifications (ICE)'!$P$3)*'Specifications (ICE)'!$P$5*K622^2 -> 56.2176 | P622: =IF(B622="A",'Specifications (ICE)'!$M$12,IF(B622="G",'Specifications (ICE)'!$M$13)) -> 105.3388 | Q622: 1 | R622: ='HYB SPECS'!$G$11-O622-P622-G622 -> 725.17823 | S622: =IF(A622=1,(R622/E622),IF(A622=2,0,IF(A622=3,(1.2*(-R622/E622))))) -> 1.0300813 | T622: =E622*S622 -> 725.17823 | U622: =T622+P622+O622+G622 -> 886.73463 | V622: =ABS(((+U622)*(+K622))/1000) -> 11.892175 | W622: =(($W$3*1000)-V622*1000)/1000 -> 1.5306433 | X622: =V622 -> 11.892175 | Y622: =ABS((X622*1000)/((2*PI()*N622)/60)) -> 13.360225 | Z622: 474.1423 | AA622: =(Z622*W622)/(60*60) -> 0.2015952 | AB622: =((D622-D621)/3600)*W622 -> 3.1703255e-05 | AC622: =AB622*Z622 -> 0.015031854 | AD622: =((Z622*AB622)/1000)/0.755 -> 1.9909741e-05 | AE622: =AE621+AC622 -> 25.30755
A623: 1 | B623: G | C623: 617 | D623: 53.909298 | E623: 704.00094 | F623: 0 | G623: ='Specifications (ICE)'!$E$16*9.81*SIN(F623-F622) -> 0 | H623: =RADIANS(F623) -> 0 | I623: 14 | J623: 4000 | K623: 13.4112 | L623: 30.00005 | M623: 1 | N623: =IF(M623=1,_xlfn.XLOOKUP(L623,'HYB SPECS'!$O$6:$O$37,'HYB SPECS'!$K$6:$K$37,,1)) -> 8500 | O623: =0.5*('Specifications (ICE)'!$P$4*'Specifications (ICE)'!$P$3)*'Specifications (ICE)'!$P$5*K623^2 -> 56.2176 | P623: =IF(B623="A",'Specifications (ICE)'!$M$12,IF(B623="G",'Specifications (ICE)'!$M$13)) -> 105.3388 | Q623: 1 | R623: ='HYB SPECS'!$G$11-O623-P623-G623 -> 725.17823 | S623: =IF(A623=1,(R623/E623),IF(A623=2,0,IF(A623=3,(1.2*(-R623/E623))))) -> 1.0300813 | T623: =E623*S623 -> 725.17823 | U623: =T623+P623+O623+G623 -> 886.73463 | V623: =ABS(((+U623)*(+K623))/1000) -> 11.892175 | W623: =(($W$3*1000)-V623*1000)/1000 -> 1.5306433 | X623: =V623 -> 11.892175 | Y623: =ABS((X623*1000)/((2*PI()*N623)/60)) -> 13.360225 | Z623: 474.1423 | AA623: =(Z623*W623)/(60*60) -> 0.2015952 | AB623: =((D623-D622)/3600)*W623 -> 3.1703255e-05 | AC623: =AB623*Z623 -> 0.015031854 | AD623: =((Z623*AB623)/1000)/0.755 -> 1.9909741e-05 | AE623: =AE622+AC623 -> 25.322582
A624: 1 | B624: G | C624: 618 | D624: 53.983863 | E624: 704.00094 | F624: 0 | G624: ='Specifications (ICE)'!$E$16*9.81*SIN(F624-F623) -> 0 | H624: =RADIANS(F624) -> 0 | I624: 14 | J624: 4000 | K624: 13.4112 | L624: 30.00005 | M624: 1 | N624: =IF(M624=1,_xlfn.XLOOKUP(L624,'HYB SPECS'!$O$6:$O$37,'HYB SPECS'!$K$6:$K$37,,1)) -> 8500 | O624: =0.5*('Specifications (ICE)'!$P$4*'Specifications (ICE)'!$P$3)*'Specifications (ICE)'!$P$5*K624^2 -> 56.2176 | P624: =IF(B624="A",'Specifications (ICE)'!$M$12,IF(B624="G",'Specifications (ICE)'!$M$13)) -> 105.3388 | Q624: 1 | R624: ='HYB SPECS'!$G$11-O624-P624-G624 -> 725.17823 | S624: =IF(A624=1,(R624/E624),IF(A624=2,0,IF(A624=3,(1.2*(-R624/E624))))) -> 1.0300813 | T624: =E624*S624 -> 725.17823 | U624: =T624+P624+O624+G624 -> 886.73463 | V624: =ABS(((+U624)*(+K624))/1000) -> 11.892175 | W624: =(($W$3*1000)-V624*1000)/1000 -> 1.5306433 | X624: =V624 -> 11.892175 | Y624: =ABS((X624*1000)/((2*PI()*N624)/60)) -> 13.360225 | Z624: 474.1423 | AA624: =(Z624*W624)/(60*60) -> 0.2015952 | AB624: =((D624-D623)/3600)*W624 -> 3.1703255e-05 | AC624: =AB624*Z624 -> 0.015031854 | AD624: =((Z624*AB624)/1000)/0.755 -> 1.9909741e-05 | AE624: =AE623+AC624 -> 25.337614
A625: 1 | B625: G | C625: 619 | D625: 54.058427 | E625: 704.00094 | F625: 0 | G625: ='Specifications (ICE)'!$E$16*9.81*SIN(F625-F624) -> 0 | H625: =RADIANS(F625) -> 0 | I625: 14 | J625: 4000 | K625: 13.4112 | L625: 30.00005 | M625: 1 | N625: =IF(M625=1,_xlfn.XLOOKUP(L625,'HYB SPECS'!$O$6:$O$37,'HYB SPECS'!$K$6:$K$37,,1)) -> 8500 | O625: =0.5*('Specifications (ICE)'!$P$4*'Specifications (ICE)'!$P$3)*'Specifications (ICE)'!$P$5*K625^2 -> 56.2176 | P625: =IF(B625="A",'Specifications (ICE)'!$M$12,IF(B625="G",'Specifications (ICE)'!$M$13)) -> 105.3388 | Q625: 1 | R625: ='HYB SPECS'!$G$11-O625-P625-G625 -> 725.17823 | S625: =IF(A625=1,(R625/E625),IF(A625=2,0,IF(A625=3,(1.2*(-R625/E625))))) -> 1.0300813 | T625: =E625*S625 -> 725.17823 | U625: =T625+P625+O625+G625 -> 886.73463 | V625: =ABS(((+U625)*(+K625))/1000) -> 11.892175 | W625: =(($W$3*1000)-V625*1000)/1000 -> 1.5306433 | X625: =V625 -> 11.892175 | Y625: =ABS((X625*1000)/((2*PI()*N625)/60)) -> 13.360225 | Z625: 474.1423 | AA625: =(Z625*W625)/(60*60) -> 0.2015952 | AB625: =((D625-D624)/3600)*W625 -> 3.1703255e-05 | AC625: =AB625*Z625 -> 0.015031854 | AD625: =((Z625*AB625)/1000)/0.755 -> 1.9909741e-05 | AE625: =AE624+AC625 -> 25.352646
A626: 1 | B626: G | C626: 620 | D626: 54.132992 | E626: 704.00094 | F626: 0 | G626: ='Specifications (ICE)'!$E$16*9.81*SIN(F626-F625) -> 0 | H626: =RADIANS(F626) -> 0 | I626: 14 | J626: 4000 | K626: 13.4112 | L626: 30.00005 | M626: 1 | N626: =IF(M626=1,_xlfn.XLOOKUP(L626,'HYB SPECS'!$O$6:$O$37,'HYB SPECS'!$K$6:$K$37,,1)) -> 8500 | O626: =0.5*('Specifications (ICE)'!$P$4*'Specifications (ICE)'!$P$3)*'Specifications (ICE)'!$P$5*K626^2 -> 56.2176 | P626: =IF(B626="A",'Specifications (ICE)'!$M$12,IF(B626="G",'Specifications (ICE)'!$M$13)) -> 105.3388 | Q626: 1 | R626: ='HYB SPECS'!$G$11-O626-P626-G626 -> 725.17823 | S626: =IF(A626=1,(R626/E626),IF(A626=2,0,IF(A626=3,(1.2*(-R626/E626))))) -> 1.0300813 | T626: =E626*S626 -> 725.17823 | U626: =T626+P626+O626+G626 -> 886.73463 | V626: =ABS(((+U626)*(+K626))/1000) -> 11.892175 | W626: =(($W$3*1000)-V626*1000)/1000 -> 1.5306433 | X626: =V626 -> 11.892175 | Y626: =ABS((X626*1000)/((2*PI()*N626)/60)) -> 13.360225 | Z626: 474.1423 | AA626: =(Z626*W626)/(60*60) -> 0.2015952 | AB626: =((D626-D625)/3600)*W626 -> 3.1703255e-05 | AC626: =AB626*Z626 -> 0.015031854 | AD626: =((Z626*AB626)/1000)/0.755 -> 1.9909741e-05 | AE626: =AE625+AC626 -> 25.367678
A627: 1 | B627: G | C627: 621 | D627: 54.207557 | E627: 704.00094 | F627: 0 | G627: ='Specifications (ICE)'!$E$16*9.81*SIN(F627-F626) -> 0 | H627: =RADIANS(F627) -> 0 | I627: 14 | J627: 4000 | K627: 13.4112 | L627: 30.00005 | M627: 1 | N627: =IF(M627=1,_xlfn.XLOOKUP(L627,'HYB SPECS'!$O$6:$O$37,'HYB SPECS'!$K$6:$K$37,,1)) -> 8500 | O627: =0.5*('Specifications (ICE)'!$P$4*'Specifications (ICE)'!$P$3)*'Specifications (ICE)'!$P$5*K627^2 -> 56.2176 | P627: =IF(B627="A",'Specifications (ICE)'!$M$12,IF(B627="G",'Specifications (ICE)'!$M$13)) -> 105.3388 | Q627: 1 | R627: ='HYB SPECS'!$G$11-O627-P627-G627 -> 725.17823 | S627: =IF(A627=1,(R627/E627),IF(A627=2,0,IF(A627=3,(1.2*(-R627/E627))))) -> 1.0300813 | T627: =E627*S627 -> 725.17823 | U627: =T627+P627+O627+G627 -> 886.73463 | V627: =ABS(((+U627)*(+K627))/1000) -> 11.892175 | W627: =(($W$3*1000)-V627*1000)/1000 -> 1.5306433 | X627: =V627 -> 11.892175 | Y627: =ABS((X627*1000)/((2*PI()*N627)/60)) -> 13.360225 | Z627: 474.1423 | AA627: =(Z627*W627)/(60*60) -> 0.2015952 | AB627: =((D627-D626)/3600)*W627 -> 3.1703255e-05 | AC627: =AB627*Z627 -> 0.015031854 | AD627: =((Z627*AB627)/1000)/0.755 -> 1.9909741e-05 | AE627: =AE626+AC627 -> 25.382709
...

Sheet Main Data (ICE)
AJ2: Fuel Used Per Lap (g) | AK2: Fuel Used (L) | AL2: Laps on Full Tank | AM2: Distance on one tank (km) | AN2: km/L
AJ3: =SUM(AI6:AI1506) -> 174.23001 | AK3: =SUM(AK6:AK1506) -> 0.23076823 | AL3: =29/AK3 -> 125.66721 | AM3: =(AL3*1500)/1000 -> 188.50082 | AN3: =AM3/29 -> 6.5000283
C5: Distance | D5: Speed (mph) | E5: Speed (m/s) | F5: Time (s) | G5: Aero Resistance (N) | H5: Rolling Resistance (N) | I5: Driving Force - Aero-RR (N) | J5: Max Acceleration (m/s) | K5: Linear Inertia | L5: Angular velocity (Wheel) | M5: Gear | N5: Equivalent Mass | O5: KE (kJ) | P5: Acceleration (m/s) | Q5: Gradient Change | R5: Resitive Force | S5: Gradient(rads) | U5: Power (hp) | V5: Power (Kw) | W5: RPM | X5: Torque (Nm) | AC5: Power (hp) | AD5: Power (kw) | AE5: Torque (Nm) | AF5: BSFC | AG5: Fuel Flow | AH5: Energy (kwh) | AI5: Fuel Usage (g) | AJ5: Total Fuel Usage(g) | AK5: Fuel Usage (l) | AL5: Total Fuel Usage (l)
A6: 1 | B6: A | C6: 0 | D6: 0 | E6: 0 | F6: 0 | G6: =0.5*('Specifications (ICE)'!$P$4*'Specifications (ICE)'!$P$3)*'Specifications (ICE)'!$P$5*E6^2 -> 0 | H6: =IF(B6="A",'Specifications (ICE)'!$M$12,IF(B6="G",'Specifications (ICE)'!$M$13)) -> 84.271039 | I6: ='Specifications (ICE)'!$H$11-G6-H6-R6 -> 617.72721 | J6: =I6/N6 -> 0.77324451 | K6: =0.5*'Specifications (ICE)'!$E$16*E6^2 -> 0 | L6: =E6/'Specifications (ICE)'!$M$4 -> 0 | M6: =IF(D6<11,1,IF(D6<21,2,IF(D6>21,3))) -> 1 | N6: =IF(M6=1,'Specifications (ICE)'!$M$19,IF(M6=2,'Specifications (ICE)'!$M$20,IF(M6=3,'Specifications (ICE)'!$M$21))) -> 798.87695 | O6: =(0.5*N6*E6^2)/1000 -> 0 | P6: =IF(A6=1,(I6/N6),IF(A6=2,0,IF(A6=3,(1.2*(-I6/N6))))) -> 0.77324451 | Q6: 0 | R6: =N6*9.81*TAN(Q6) -> 0 | S6: =RADIANS(Q6) -> 0 | T6: =((63360/(PI()*12)*D6))/60 -> 0 | U6: =IF((ABS(I6)*D6)/746>18,18,(ABS(I6)*D6)/746) -> 0 | V6: =U6*0.7457 -> 0 | W6: =IF(M6=1,_xlfn.XLOOKUP(D6,' RPM (ICE)'!$E$3:$E$63,' RPM (ICE)'!$B$3:$B$63,,1),IF(M6=2,_xlfn.XLOOKUP(D6,' RPM (ICE)'!$F$3:$F$63,' RPM (ICE)'!$B$3:$B$63,,1),IF(M6=3,_xlfn.XLOOKUP(D6,' RPM (ICE)'!$G$3:$G$63,' RPM (ICE)'!$B$3:$B$63,,1)))) -> 1000 | X6: =(9548.8*V6)/W6 -> 0 | Y6: =ROUND(X6,0) -> 0 | Z6: =IF(Y6<0,0,X6) -> 0 | AC6: 0 | AD6: =AC6*0.7457 -> 0 | AE6: =(9548.8*AD6)/W6 -> 0 | AF6: 0 | AG6: =(AF6*AD6)/(60*60) -> 0 | AH6: 0 | AI6: 0 | AJ6: 0 | AK6: 0 | AL6: 0
A7: 1 | B7: A | C7: 1 | D7: =E7*2.23694 -> 2.7818119 | E7: =MIN(13.4112,(SQRT((E6^2)+2*P6*$C$7))) -> 1.2435791 | F7: =$C$7/E7 -> 0.80413058 | G7: =0.5*('Specifications (ICE)'!$P$4*'Specifications (ICE)'!$P$3)*'Specifications (ICE)'!$P$5*E7^2 -> 0.48337464 | H7: =IF(B7="A",'Specifications (ICE)'!$M$12,IF(B7="G",'Specifications (ICE)'!$M$13)) -> 84.271039 | I7: ='Specifications (ICE)'!$H$11-G7-H7-R7 -> 617.24384 | J7: =I7/N7 -> 0.77263944 | K7: =0.5*'Specifications (ICE)'!$E$16*E7^2 -> 415.15111 | L7: =E7/'Specifications (ICE)'!$M$4 -> 4.3519829 | M7: =IF(D7<11,1,IF(D7<21,2,IF(D7>21,3))) -> 1 | N7: =IF(M7=1,'Specifications (ICE)'!$M$19,IF(M7=2,'Specifications (ICE)'!$M$20,IF(M7=3,'Specifications (ICE)'!$M$21))) -> 798.87695 | O7: =(0.5*N7*E7^2)/1000 -> 0.61772721 | P7: =IF(A7=1,(I7/N7),IF(A7=2,0,IF(A7=3,(1.2*(-I7/N7))))) -> 0.77263944 | Q7: 0 | R7: =N7*9.81*TAN(Q7) -> 0 | S7: =RADIANS(Q7) -> 0 | T7: =((63360/(PI()*12)*D7))/60 -> 77.922083 | U7: =IF((ABS(I7)*D7)/746>18,18,(ABS(I7)*D7)/746) -> 2.301684 | V7: =U7*0.7457 -> 1.7163657 | W7: =IF(M7=1,_xlfn.XLOOKUP(D7,' RPM (ICE)'!$E$3:$E$63,' RPM (ICE)'!$B$3:$B$63,,1),IF(M7=2,_xlfn.XLOOKUP(D7,' RPM (ICE)'!$F$3:$F$63,' RPM (ICE)'!$B$3:$B$63,,1),IF(M7=3,_xlfn.XLOOKUP(D7,' RPM (ICE)'!$G$3:$G$63,' RPM (ICE)'!$B$3:$B$63,,1)))) -> 1800 | X7: =(9548.8*V7)/W7 -> 9.1051294 | Y7: =ROUND(X7,0) -> 9 | Z7: =IF(Y7<0,0,Y7) -> 9 | AA7: =IF(Z7>22,22,Z7) -> 9 | AC7: =IF(M7=1,_xlfn.XLOOKUP(D7,' RPM (ICE)'!$E$3:$E$63,' RPM (ICE)'!$C$3:$C$63,,-1),IF(M7=2,_xlfn.XLOOKUP(D7,' RPM (ICE)'!$F$3:$F$63,' RPM (ICE)'!$C$3:$C$63,,-1),IF(M7=3,_xlfn.XLOOKUP(D7,' RPM (ICE)'!$G$3:$G$63,' RPM (ICE)'!$C$3:$C$63,,-1)))) -> 2.822 | AD7: =AC7*0.7457 -> 2.1043654 | AE7: =(9548.8*AD7)/W7 -> 11.163425 | AF7: 601.42151 | AG7: =(AF7*AD7)/(60*60) -> 0.35155851 | AH7: =((F7-F6)/3600)*AD7 -> 0.00047005127 | AI7: =AH7*AF7 -> 0.28269895 | AJ7: =AI7+AI6 -> 0.28269895 | AK7: =((AF7*AH7)/1000)/0.755 -> 0.00037443569 | AL7: =AL6+AK7 -> 0.00037443569
A8: 1 | B8: A | C8: 2 | D8: =E8*2.23694 -> 3.9333064 | E8: =MIN(13.4112,(SQRT((E7^2)+2*P7*$C$7))) -> 1.7583424 | F8: =($C$7/E8)+F7 -> 1.372848 | G8: =0.5*('Specifications (ICE)'!$P$4*'Specifications (ICE)'!$P$3)*'Specifications (ICE)'!$P$5*E8^2 -> 0.96637104 | H8: =IF(B8="A",'Specifications (ICE)'!$M$12,IF(B8="G",'Specifications (ICE)'!$M$13)) -> 84.271039 | I8: ='Specifications (ICE)'!$H$11-G8-H8-R8 -> 616.76084 | J8: =I8/N8 -> 0.77203484 | K8: =0.5*'Specifications (ICE)'!$E$16*E8^2 -> 829.97736 | L8: =E8/'Specifications (ICE)'!$M$4 -> 6.1534291 | M8: =IF(D8<11,1,IF(D8<21,2,IF(D8>21,3))) -> 1 | N8: =IF(M8=1,'Specifications (ICE)'!$M$19,IF(M8=2,'Specifications (ICE)'!$M$20,IF(M8=3,'Specifications (ICE)'!$M$21))) -> 798.87695 | O8: =(0.5*N8*E8^2)/1000 -> 1.234971 | P8: =IF(A8=1,(I8/N8),IF(A8=2,0,IF(A8=3,(1.2*(-I8/N8))))) -> 0.77203484 | Q8: 0 | R8: =N8*9.81*TAN(Q8) -> 0 | S8: =RADIANS(Q8) -> 0 | T8: =((63360/(PI()*12)*D8))/60 -> 110.17691 | U8: =IF((ABS(I8)*D8)/746>18,18,(ABS(I8)*D8)/746) -> 3.2518892 | V8: =U8*0.7457 -> 2.4249338 | W8: =IF(M8=1,_xlfn.XLOOKUP(D8,' RPM (ICE)'!$E$3:$E$63,' RPM (ICE)'!$B$3:$B$63,,1),IF(M8=2,_xlfn.XLOOKUP(D8,' RPM (ICE)'!$F$3:$F$63,' RPM (ICE)'!$B$3:$B$63,,1),IF(M8=3,_xlfn.XLOOKUP(D8,' RPM (ICE)'!$G$3:$G$63,' RPM (ICE)'!$B$3:$B$63,,1)))) -> 2500 | X8: =(9548.8*V8)/W8 -> 9.2620831 | Y8: =ROUND(X8,0) -> 9 | Z8: =IF(Y8<0,0,Y8) -> 9 | AA8: =IF(Z8>22,22,Z8) -> 9 | AC8: =IF(M8=1,_xlfn.XLOOKUP(D8,' RPM (ICE)'!$E$3:$E$63,' RPM (ICE)'!$C$3:$C$63,,-1),IF(M8=2,_xlfn.XLOOKUP(D8,' RPM (ICE)'!$F$3:$F$63,' RPM (ICE)'!$C$3:$C$63,,-1),IF(M8=3,_xlfn.XLOOKUP(D8,' RPM (ICE)'!$G$3:$G$63,' RPM (ICE)'!$C$3:$C$63,,-1)))) -> 4.886 | AD8: =AC8*0.7457 -> 3.6434902 | AE8: =(9548.8*AD8)/W8 -> 13.916384 | AF8: {=_xlfn.XLOOKUP(AE8,BSFC!$I$11:$I$33,_xlfn.XLOOKUP('Main Data (ICE)'!W8,BSFC!$J$10:$W$10,BSFC!$J$11:$W$33,,-1),,-1)} -> 537.83024 | AG8: =(AF8*AD8)/(60*60) -> 0.54432755 | AH8: =((F8-F7)/3600)*AD8 -> 0.00057558791 | AI8: =AH8*AF8 -> 0.30956858 | AJ8: =AI8+AJ7 -> 0.59226753 | AK8: =((AF8*AH8)/1000)/0.755 -> 0.00041002461 | AL8: =AL7+AK8 -> 0.0007844603
