Workbook

Sheet HYB SPECS
B3: Specs | E3: Gear | K3: RPM | L3: POWER | M3: Power
B4: Engine cc | C4: 278 | F4: INPUT | G4: OUTPUT | H4: RATIO | I4: FINAL RATIO | L4: BHP | M4: KW | N4: VELOCITY | O4: VELOCITY | P4: FORCE | Q4: ACCELERATION
B5: Power (hp) | C5: 18 | E5: PRIMARY | F5: 19 | G5: 47 | H5: 2.4736842 | N5: m/s | O5: mph | P5: N | Q5: m/s²
B6: Torque (Nm) | C6: 22 | E6: FIRST | F6: 24 | G6: 38 | H6: 0.63157895 | I6: 20 | K6: 625 | L6: =L7-0.375 -> 3.875 | M6: =L6*0.7457 -> 2.8895875 | N6: =((($K6/$I$6)*($C$37))/(60))*2.24*0.44704 -> 1.015862 | O6: =N6*2.237 -> 2.2724834 | P6: =(($L6*0.746)*1000)/N6 -> 2845.6127 | Q6: =P6/$G$25 -> 4.0420582
B7: Top Speed (mph) | C7: 30 | K7: 750 | L7: =L8-0.75 -> 4.25 | M7: =L7*0.7457 -> 3.169225 | N7: =((($K7/$I$6)*($C$37))/(60))*2.24*0.44704 -> 1.2190345 | O7: =N7*2.237 -> 2.7269801 | P7: =(($L7*0.746)*1000)/N7 -> 2600.8289 | Q7: =P7/$G$25 -> 3.6943542
B8: Length (mm) | C8: 2620 | K8: 1000 | L8: =L9-0.75 -> 5 | M8: =L8*0.7457 -> 3.7285 | N8: =((($K8/$I$6)*($C$37))/(60))*2.24*0.44704 -> 1.6253793 | O8: =N8*2.237 -> 3.6359734 | P8: =(($L8*0.746)*1000)/N8 -> 2294.849 | Q8: =P8/$G$25 -> 3.2597243
B9: Width (mm) | C9: 1650 | F9: Drive Torque at Shaft | G9: =C6*H6*0.97 -> 13.477895 | K9: 1250 | L9: =L10-0.75 -> 5.75 | M9: =L9*0.7457 -> 4.287775 | N9: =((($K9/$I$6)*($C$37))/(60))*2.24*0.44704 -> 2.0317241 | O9: =N9*2.237 -> 4.5449668 | P9: =(($L9*0.746)*1000)/N9 -> 2111.2611 | Q9: =P9/$G$25 -> 2.9989464
B10: Height (mm) | C10: 1620 | F10: Drive Torque at Rear Wheels | G10: =$I$6*0.94*G9 -> 253.38442 | K10: 1500 | L10: =L11-0.75 -> 6.5 | M10: =L10*0.7457 -> 4.84705 | N10: =((($K10/$I$6)*($C$37))/(60))*2.24*0.44704 -> 2.4380689 | O10: =N10*2.237 -> 5.4539602 | P10: =(($L10*0.746)*1000)/N10 -> 1988.8691 | Q10: =P10/$G$25 -> 2.8250944
B11: Weight (Car) (hyb) | C11: 450 | F11: Force | G11: =(G10/('Specifications (ICE)'!M4)) -> 886.73463 | K11: 1750 | L11: =L12-0.75 -> 7.25 | M11: =L11*0.7457 -> 5.406325 | N11: =((($K11/$I$6)*($C$37))/(60))*2.24*0.44704 -> 2.8444137 | O11: =N11*2.237 -> 6.3629535 | P11: =(($L11*0.746)*1000)/N11 -> 1901.4463 | Q11: =P11/$G$25 -> 2.7009144
B12: Weight (Driver + Kit) *2 (kg) | C12: 175 | K12: 2000 | L12: =L13-0.75 -> 8 | M12: =L12*0.7457 -> 5.9656 | N12: =((($K12/$I$6)*($C$37))/(60))*2.24*0.44704 -> 3.2507586 | O12: =N12*2.237 -> 7.2719469 | P12: =(($L12*0.746)*1000)/N12 -> 1835.8792 | Q12: =P12/$G$25 -> 2.6077795
B13: Weight Combined (kg) | C13: =C11+C12 -> 625 | K13: 2250 | L13: =L14-0.75 -> 8.75 | M13: =L13*0.7457 -> 6.524875 | N13: =((($K13/$I$6)*($C$37))/(60))*2.24*0.44704 -> 3.6571034 | O13: =N13*2.237 -> 8.1809403 | P13: =(($L13*0.746)*1000)/N13 -> 1784.8825 | Q13: =P13/$G$25 -> 2.5353411
B14: Fuel Tank (l) | C14: 29 | K14: 2500 | L14: =L15-0.75 -> 9.5 | M14: =L14*0.7457 -> 7.08415 | N14: =((($K14/$I$6)*($C$37))/(60))*2.24*0.44704 -> 4.0634482 | O14: =N14*2.237 -> 9.0899336 | P14: =(($L14*0.746)*1000)/N14 -> 1744.0852 | Q14: =P14/$G$25 -> 2.4773905
B15: Fuel Weight | C15: =C14*0.755 -> 21.895 | K15: 2750 | L15: =L16-0.75 -> 10.25 | M15: =L15*0.7457 -> 7.643425 | N15: =((($K15/$I$6)*($C$37))/(60))*2.24*0.44704 -> 4.469793 | O15: =N15*2.237 -> 9.998927 | P15: =(($L15*0.746)*1000)/N15 -> 1710.7056 | Q15: =P15/$G$25 -> 2.4299763
B16: Weight Combined With Fuel (kg) | C16: =C15+C13 -> 646.895 | K16: 3000 | L16: =L17-0.75 -> 11 | M16: =L16*0.7457 -> 8.2027 | N16: =((($K16/$I$6)*($C$37))/(60))*2.24*0.44704 -> 4.8761378 | O16: =N16*2.237 -> 10.90792 | P16: =(($L16*0.746)*1000)/N16 -> 1682.8893 | Q16: =P16/$G$25 -> 2.3904645
B17: Ground Clearance (mm) | C17: 300 | K17: 3250 | L17: =L18-0.75 -> 11.75 | M17: =L17*0.7457 -> 8.761975 | N17: =((($K17/$I$6)*($C$37))/(60))*2.24*0.44704 -> 5.2824827 | O17: =N17*2.237 -> 11.816914 | P17: =(($L17*0.746)*1000)/N17 -> 1659.3523 | Q17: =P17/$G$25 -> 2.3570314
B18: Ground Clearance (m) | C18: 0.3 | K18: 3500 | L18: =L19-0.75 -> 12.5 | M18: =L18*0.7457 -> 9.32125 | N18: =((($K18/$I$6)*($C$37))/(60))*2.24*0.44704 -> 5.6888275 | O18: =N18*2.237 -> 12.725907 | P18: =(($L18*0.746)*1000)/N18 -> 1639.1779 | Q18: =P18/$G$25 -> 2.3283745
K19: 3750 | L19: =L20-0.75 -> 13.25 | M19: =L19*0.7457 -> 9.880525 | N19: =((($K19/$I$6)*($C$37))/(60))*2.24*0.44704 -> 6.0951723 | O19: =N19*2.237 -> 13.6349 | P19: =(($L19*0.746)*1000)/N19 -> 1621.6933 | Q19: =P19/$G$25 -> 2.3035385
B20: rr front | C20: 0.254 | E20: Frontal Area | F20: 1.458018 | K20: 4000 | L20: 14 | M20: =L20*0.7457 -> 10.4398 | N20: =((($K20/$I$6)*($C$37))/(60))*2.24*0.44704 -> 6.5015171 | O20: =N20*2.237 -> 14.543894 | P20: =(($L20*0.746)*1000)/N20 -> 1606.3943 | Q20: =P20/$G$25 -> 2.281807
B21: rr rear | C21: 0.28575 | E21: cd | F21: 0.35 | K21: 4250 | L21: =L20+0.75 -> 14.75 | M21: =L21*0.7457 -> 10.999075 | N21: =((($K21/$I$6)*($C$37))/(60))*2.24*0.44704 -> 6.9078619 | O21: =N21*2.237 -> 15.452887 | P21: =(($L21*0.746)*1000)/N21 -> 1592.8952 | Q21: =P21/$G$25 -> 2.2626322
E22: rho | F22: 1.225 | K22: 4500 | L22: =L21+0.75 -> 15.5 | M22: =L22*0.7457 -> 11.55835 | N22: =((($K22/$I$6)*($C$37))/(60))*2.24*0.44704 -> 7.3142068 | O22: =N22*2.237 -> 16.361881 | P22: =(($L22*0.746)*1000)/N22 -> 1580.896 | Q22: =P22/$G$25 -> 2.2455879
K23: 4750 | L23: =L22+0.75 -> 16.25 | M23: =L23*0.7457 -> 12.117625 | N23: =((($K23/$I$6)*($C$37))/(60))*2.24*0.44704 -> 7.7205516 | O23: =N23*2.237 -> 17.270874 | P23: =(($L23*0.746)*1000)/N23 -> 1570.1598 | Q23: =P23/$G$25 -> 2.2303377
K24: 5000 | L24: =L23+0.75 -> 17 | M24: =L24*0.7457 -> 12.6769 | N24: =((($K24/$I$6)*($C$37))/(60))*2.24*0.44704 -> 8.1268964 | O24: =N24*2.237 -> 18.179867 | P24: =(($L24*0.746)*1000)/N24 -> 1560.4973 | Q24: =P24/$G$25 -> 2.2166125
B25: Tyre Mass | C25: 10 | D25: kg | F25: EQ Mass | G25: =$C$16+(4*(($C$33/$C$21^2)+$C$34*(H6^2/C21^2))) -> 704.00094 | K25: 5250 | L25: =L24+0.75 -> 17.75 | M25: =L25*0.7457 -> 13.236175 | N25: =((($K25/$I$6)*($C$37))/(60))*2.24*0.44704 -> 8.5332412 | O25: =N25*2.237 -> 19.088861 | P25: =(($L25*0.746)*1000)/N25 -> 1551.755 | Q25: =P25/$G$25 -> 2.2041945
B26: Wheel Mass | C26: 6.6 | D26: kg | K26: 5500 | L26: =L25+0.75 -> 18.5 | M26: =L26*0.7457 -> 13.79545 | N26: =((($K26/$I$6)*($C$37))/(60))*2.24*0.44704 -> 8.939586 | O26: =N26*2.237 -> 19.997854 | P26: =(($L26*0.746)*1000)/N26 -> 1543.8075 | Q26: =P26/$G$25 -> 2.1929055
B27: Total Wheel Mass | C27: =C26+C25 -> 16.6 | D27: kg | K27: 5750 | L27: =L26+0.75 -> 19.25 | M27: =L27*0.7457 -> 14.354725 | N27: =((($K27/$I$6)*($C$37))/(60))*2.24*0.44704 -> 9.3459309 | O27: =N27*2.237 -> 20.906847 | P27: =(($L27*0.746)*1000)/N27 -> 1536.5511 | Q27: =P27/$G$25 -> 2.182598
K28: 6000 | L28: =L27+0.75 -> 20 | M28: =L28*0.7457 -> 14.914 | N28: =((($K28/$I$6)*($C$37))/(60))*2.24*0.44704 -> 9.7522757 | O28: =N28*2.237 -> 21.815841 | P28: =(($L28*0.746)*1000)/N28 -> 1529.8993 | Q28: =P28/$G$25 -> 2.1731496
B29: k(front) = 0.9r | C29: 0.2286 | K29: 6250 | L29: =L28+0.75 -> 20.75 | M29: =L29*0.7457 -> 15.473275 | N29: =((($K29/$I$6)*($C$37))/(60))*2.24*0.44704 -> 10.15862 | O29: =N29*2.237 -> 22.724834 | P29: =(($L29*0.746)*1000)/N29 -> 1523.7797 | Q29: =P29/$G$25 -> 2.164457
B30: k(rear) = 0.9r | C30: 0.257175 | K30: 6500 | L30: =L29+0.75 -> 21.5 | M30: =L30*0.7457 -> 16.03255 | N30: =((($K30/$I$6)*($C$37))/(60))*2.24*0.44704 -> 10.564965 | O30: =N30*2.237 -> 23.633827 | P30: =(($L30*0.746)*1000)/N30 -> 1518.1309 | Q30: =P30/$G$25 -> 2.156433
K31: 6750 | L31: =L30+0.75 -> 22.25 | M31: =L31*0.7457 -> 16.591825 | N31: =((($K31/$I$6)*($C$37))/(60))*2.24*0.44704 -> 10.97131 | O31: =N31*2.237 -> 24.542821 | P31: =(($L31*0.746)*1000)/N31 -> 1512.9004 | Q31: =P31/$G$25 -> 2.1490034
B32: I (Front) | C32: 0.86748214 | K32: 7000 | L32: =L31+0.75 -> 23 | M32: =L32*0.7457 -> 17.1511 | N32: =((($K32/$I$6)*($C$37))/(60))*2.24*0.44704 -> 11.377655 | O32: =N32*2.237 -> 25.451814 | P32: =(($L32*0.746)*1000)/N32 -> 1508.0436 | Q32: =P32/$G$25 -> 2.1421046
B33: I (Rear) | C33: 1.0979071 | K33: 7250 | L33: =L32+0.75 -> 23.75 | M33: =L33*0.7457 -> 17.710375 | N33: =((($K33/$I$6)*($C$37))/(60))*2.24*0.44704 -> 11.784 | O33: =N33*2.237 -> 26.360807 | P33: =(($L33*0.746)*1000)/N33 -> 1503.5218 | Q33: =P33/$G$25 -> 2.1356815
B34: I (Engine) | C34: 0.17 | K34: 7500 | L34: =L33+0.75 -> 24.5 | M34: =L34*0.7457 -> 18.26965 | N34: =((($K34/$I$6)*($C$37))/(60))*2.24*0.44704 -> 12.190345 | O34: =N34*2.237 -> 27.269801 | P34: =(($L34*0.746)*1000)/N34 -> 1499.3013 | Q34: =P34/$G$25 -> 2.1296866
K35: 7750 | L35: =L34+0.75 -> 25.25 | M35: =L35*0.7457 -> 18.828925 | N35: =((($K35/$I$6)*($C$37))/(60))*2.24*0.44704 -> 12.596689 | O35: =N35*2.237 -> 28.178794 | P35: =(($L35*0.746)*1000)/N35 -> 1495.3532 | Q35: =P35/$G$25 -> 2.1240784
B36: WHEEL TRAVEL | K36: 8000 | L36: =L35+0.75 -> 26 | M36: =L36*0.7457 -> 19.3882 | N36: =((($K36/$I$6)*($C$37))/(60))*2.24*0.44704 -> 13.003034 | O36: =N36*2.237 -> 29.087788 | P36: =(($L36*0.746)*1000)/N36 -> 1491.6518 | Q36: =P36/$G$25 -> 2.1188208
B37: φ | C37: 1.9477874 | D37: m | K37: 8500 | L37: =L36+0.75 -> 26.75 | M37: =L37*0.7457 -> 19.947475 | N37: =((($K37/$I$6)*($C$37))/(60))*2.24*0.44704 -> 13.815724 | O37: =N37*2.237 -> 30.905774 | P37: =(($L37*0.746)*1000)/N37 -> 1444.405 | Q37: =P37/$G$25 -> 2.0517088
B38: REAR WHEEL TRAVEL | C38: 0.15409671 | D38: m

Sheet Main Data (HYB)
B2: HYBRID VEHICLE | X2: AVG Power Required (KW) | Y2: =AVERAGE(X6:X1506) -> 8.9282954 | Z2: Total Fuel Comsumption (g) | AA2: =SUM(AC6:AC1506) -> 81.945116
W3: 13.422819 | X3: Peak Power Required (KW) | Y3: =MAX(X6:X1506) -> 21.222701 | Z3: Total Fuel Comsumption (L) | AA3: =SUM(AD6:AD1506) -> 0.10853658
B5: Surface | C5: Distance | D5: Time (s) | E5: Equivalent Mass | F5: Gradient Change | G5: Resitive Force | H5: Gradient(rads) | I5: ICE Torque | J5: ICE RPM | K5: Speed (m/s) | L5: Speed (mph) | M5: Gear | N5: Motor RPM | O5: Aero Resistance (N) | P5: Rolling Resistance (N) | Q5: A, B or S | R5: Driving Force - Aero-RR (N) | S5: Acceleration (m/s) | T5: Accel Force (N) | U5: Total Resistance (N) | V5: Resistive Power (Kw) | W5: Power left (Kw) | X5: Power Required (Kw) | Y5: Torque Required (Nm) | Z5: BSFC | AA5: Fuel Flow | AB5: Energy (kwh) | AC5: Fuel Usage (g) | AD5: Fuel Usage (L) | AE5: Total Fuel Usage
A6: 1 | B6: A | C6: 0 | D6: 0 | E6: 704.00094 | F6: 0 | G6: =C6*9.81*TAN(F6) -> 0 | H6: =RADIANS(F6) -> 0 | I6: 14 | J6: 4000 | K6: 0 | L6: 0 | M6: 1 | N6: =IF(M6=1,_xlfn.XLOOKUP(L6,'HYB SPECS'!$O$6:$O$37,'HYB SPECS'!$K$6:$K$37,,1)) -> 625 | O6: =0.5*('Specifications (ICE)'!$P$4*'Specifications (ICE)'!$P$3)*'Specifications (ICE)'!$P$5*K6^2 -> 0 | P6: =IF(B6="A",'Specifications (ICE)'!$M$12,IF(B6="G",'Specifications (ICE)'!$M$13)) -> 84.271039 | Q6: 1 | R6: ='HYB SPECS'!$G$11-O6-P6-G6 -> 802.46359 | S6: =IF(A6=1,(R6/E6),IF(A6=2,0,IF(A6=3,(1.2*(-R6/E6))))) -> 1.1398615 | T6: =E6*S6 -> 802.46359 | U6: =T6+P6+O6+G6 -> 886.73463 | V6: =ABS(((+U6)*(+K6))/1000) -> 0 | W6: =(($W$3*1000)-V6*1000)/1000 -> 13.422819 | X6: =V6 -> 0 | Y6: =ABS((X6*1000)/((2*PI()*N6)/60)) -> 0 | Z6: 0 | AA6: 0 | AB6: 0 | AC6: 0 | AD6: =((Z6*AB6)/1000)/0.755 -> 0 | AE6: 0
A7: 1 | B7: A | C7: 1 | D7: 0.80413058 | E7: 704.00094 | F7: 0 | G7: =C7*9.81*TAN(F7) -> 0 | H7: =RADIANS(F7) -> 0 | I7: 14 | J7: 4000 | K7: 1.2435791 | L7: 2.7818119 | M7: 1 | N7: =IF(M7=1,_xlfn.XLOOKUP(L7,'HYB SPECS'!$O$6:$O$37,'HYB SPECS'!$K$6:$K$37,,1)) -> 1000 | O7: =0.5*('Specifications (ICE)'!$P$4*'Specifications (ICE)'!$P$3)*'Specifications (ICE)'!$P$5*K7^2 -> 0.48337464 | P7: =IF(B7="A",'Specifications (ICE)'!$M$12,IF(B7="G",'Specifications (ICE)'!$M$13)) -> 84.271039 | Q7: 1 | R7: ='HYB SPECS'!$G$11-O7-P7-G7 -> 801.98022 | S7: =IF(A7=1,(R7/E7),IF(A7=2,0,IF(A7=3,(1.2*(-R7/E7))))) -> 1.1391749 | T7: =E7*S7 -> 801.98022 | U7: =T7+P7+O7+G7 -> 886.73463 | V7: =ABS(((+U7)*(+K7))/1000) -> 1.1027247 | W7: =(($W$3*1000)-V7*1000)/1000 -> 12.320094 | X7: =V7 -> 1.1027247 | Y7: =ABS((X7*1000)/((2*PI()*N7)/60)) -> 10.530245 | Z7: 474.1423 | AA7: =(Z7*W7)/(60*60) -> 1.6226327 | AB7: =((D7-D6)/3600)*W7 -> 0.0027519346 | AC7: =AB7*Z7 -> 1.3048086 | AD7: =((Z7*AB7)/1000)/0.755 -> 0.0017282233 | AE7: =AE6+AC7 -> 1.3048086
A8: 1 | B8: A | C8: 2 | D8: 1.3729117 | E8: 704.00094 | F8: 0 | G8: =C8*9.81*TAN(F8) -> 0 | H8: =RADIANS(F8) -> 0 | I8: 14 | J8: 4000 | K8: 1.7583424 | L8: 3.9333064 | M8: 1 | N8: =IF(M8=1,_xlfn.XLOOKUP(L8,'HYB SPECS'!$O$6:$O$37,'HYB SPECS'!$K$6:$K$37,,1)) -> 1250 | O8: =0.5*('Specifications (ICE)'!$P$4*'Specifications (ICE)'!$P$3)*'Specifications (ICE)'!$P$5*K8^2 -> 0.96637104 | P8: =IF(B8="A",'Specifications (ICE)'!$M$12,IF(B8="G",'Specifications (ICE)'!$M$13)) -> 84.271039 | Q8: 1 | R8: ='HYB SPECS'!$G$11-O8-P8-G8 -> 801.49722 | S8: =IF(A8=1,(R8/E8),IF(A8=2,0,IF(A8=3,(1.2*(-R8/E8))))) -> 1.1384889 | T8: =E8*S8 -> 801.49722 | U8: =T8+P8+O8+G8 -> 886.73463 | V8: =ABS(((+U8)*(+K8))/1000) -> 1.5591831 | W8: =(($W$3*1000)-V8*1000)/1000 -> 11.863636 | X8: =V8 -> 1.5591831 | Y8: =ABS((X8*1000)/((2*PI()*N8)/60)) -> 11.911281 | Z8: 474.1423 | AA8: =(Z8*W8)/(60*60) -> 1.5625143 | AB8: =((D8-D7)/3600)*W8 -> 0.001874392 | AC8: =AB8*Z8 -> 0.88872856 | AD8: =((Z8*AB8)/1000)/0.755 -> 0.0011771239 | AE8: =AE7+AC8 -> 2.1935372
A9: 1 | B9: A | C9: 3 | D9: 1.8374622 | E9: 704.00094 | F9: 0 | G9: =C9*9.81*TAN(F9) -> 0 | H9: =RADIANS(F9) -> 0 | I9: 14 | J9: 4000 | K9: 2.1530995 | L9: 4.8163545 | M9: 1 | N9: =IF(M9=1,_xlfn.XLOOKUP(L9,'HYB SPECS'!$O$6:$O$37,'HYB SPECS'!$K$6:$K$37,,1)) -> 1500 | O9: =0.5*('Specifications (ICE)'!$P$4*'Specifications (ICE)'!$P$3)*'Specifications (ICE)'!$P$5*K9^2 -> 1.4489895 | P9: =IF(B9="A",'Specifications (ICE)'!$M$12,IF(B9="G",'Specifications (ICE)'!$M$13)) -> 84.271039 | Q9: 1 | R9: ='HYB SPECS'!$G$11-O9-P9-G9 -> 801.0146 | S9: =IF(A9=1,(R9/E9),IF(A9=2,0,IF(A9=3,(1.2*(-R9/E9))))) -> 1.1378033 | T9: =E9*S9 -> 801.0146 | U9: =T9+P9+O9+G9 -> 886.73463 | V9: =ABS(((+U9)*(+K9))/1000) -> 1.9092279 | W9: =(($W$3*1000)-V9*1000)/1000 -> 11.513591 | X9: =V9 -> 1.9092279 | Y9: =ABS((X9*1000)/((2*PI()*N9)/60)) -> 12.154522 | Z9: 474.1423 | AA9: =(Z9*W9)/(60*60) -> 1.5164112 | AB9: =((D9-D8)/3600)*W9 -> 0.0014857349 | AC9: =AB9*Z9 -> 0.70444975 | AD9: =((Z9*AB9)/1000)/0.755 -> 0.00093304602 | AE9: =AE8+AC9 -> 2.8979869
A10: 1 | B10: A | C10: 4 | D10: 2.2398985 | E10: 704.00094 | F10: 0 | G10: =C10*9.81*TAN(F10) -> 0 | H10: =RADIANS(F10) -> 0 | I10: 14 | J10: 4000 | K10: 2.4856989 | L10: 5.5603593 | M10: 1 | N10: =IF(M10=1,_xlfn.XLOOKUP(L10,'HYB SPECS'!$O$6:$O$37,'HYB SPECS'!$K$6:$K$37,,1)) -> 1750 | O10: =0.5*('Specifications (ICE)'!$P$4*'Specifications (ICE)'!$P$3)*'Specifications (ICE)'!$P$5*K10^2 -> 1.9312303 | P10: =IF(B10="A",'Specifications (ICE)'!$M$12,IF(B10="G",'Specifications (ICE)'!$M$13)) -> 84.271039 | Q10: 1 | R10: ='HYB SPECS'!$G$11-O10-P10-G10 -> 800.53236 | S10: =IF(A10=1,(R10/E10),IF(A10=2,0,IF(A10=3,(1.2*(-R10/E10))))) -> 1.1371183 | T10: =E10*S10 -> 800.53236 | U10: =T10+P10+O10+G10 -> 886.73463 | V10: =ABS(((+U10)*(+K10))/1000) -> 2.2041553 | W10: =(($W$3*1000)-V10*1000)/1000 -> 11.218663 | X10: =V10 -> 2.2041553 | Y10: =ABS((X10*1000)/((2*PI()*N10)/60)) -> 12.027504 | Z10: 474.1423 | AA10: =(Z10*W10)/(60*60) -> 1.4775675 | AB10: =((D10-D9)/3600)*W10 -> 0.0012541104 | AC10: =AB10*Z10 -> 0.59462679 | AD10: =((Z10*AB10)/1000)/0.755 -> 0.00078758515 | AE10: =AE9+AC10 -> 3.4926137
A11: 1 | B11: A | C11: 5 | D11: 2.5999592 | E11: 704.00094 | F11: 0 | G11: =C11*9.81*TAN(F11) -> 0 | H11: =RADIANS(F11) -> 0 | I11: 14 | J11: 4000 | K11: 2.7785524 | L11: 6.2154549 | M11: 1 | N11: =IF(M11=1,_xlfn.XLOOKUP(L11,'HYB SPECS'!$O$6:$O$37,'HYB SPECS'!$K$6:$K$37,,1)) -> 1750 | O11: =0.5*('Specifications (ICE)'!$P$4*'Specifications (ICE)'!$P$3)*'Specifications (ICE)'!$P$5*K11^2 -> 2.4130937 | P11: =IF(B11="A",'Specifications (ICE)'!$M$12,IF(B11="G",'Specifications (ICE)'!$M$13)) -> 84.271039 | Q11: 1 | R11: ='HYB SPECS'!$G$11-O11-P11-G11 -> 800.0505 | S11: =IF(A11=1,(R11/E11),IF(A11=2,0,IF(A11=3,(1.2*(-R11/E11))))) -> 1.1364339 | T11: =E11*S11 -> 800.0505 | U11: =T11+P11+O11+G11 -> 886.73463 | V11: =ABS(((+U11)*(+K11))/1000) -> 2.4638386 | W11: =(($W$3*1000)-V11*1000)/1000 -> 10.95898 | X11: =V11 -> 2.4638386 | Y11: =ABS((X11*1000)/((2*PI()*N11)/60)) -> 13.444529 | Z11: 474.1423 | AA11: =(Z11*W11)/(60*60) -> 1.4433656 | AB11: =((D11-D10)/3600)*W11 -> 0.0010960825 | AC11: =AB11*Z11 -> 0.51969909 | AD11: =((Z11*AB11)/1000)/0.755 -> 0.00068834316 | AE11: =AE10+AC11 -> 4.0123128
A12: 1 | B12: A | C12: 6 | D12: 2.928749 | E12: 704.00094 | F12: 0 | G12: =C12*9.81*TAN(F12) -> 0 | H12: =RADIANS(F12) -> 0 | I12: 14 | J12: 4000 | K12: 3.0431564 | L12: 6.8073583 | M12: 1 | N12: =IF(M12=1,_xlfn.XLOOKUP(L12,'HYB SPECS'!$O$6:$O$37,'HYB SPECS'!$K$6:$K$37,,1)) -> 2000 | O12: =0.5*('Specifications (ICE)'!$P$4*'Specifications (ICE)'!$P$3)*'Specifications (ICE)'!$P$5*K12^2 -> 2.8945801 | P12: =IF(B12="A",'Specifications (ICE)'!$M$12,IF(B12="G",'Specifications (ICE)'!$M$13)) -> 84.271039 | Q12: 1 | R12: ='HYB SPECS'!$G$11-O12-P12-G12 -> 799.56901 | S12: =IF(A12=1,(R12/E12),IF(A12=2,0,IF(A12=3,(1.2*(-R12/E12))))) -> 1.1357499 | T12: =E12*S12 -> 799.56901 | U12: =T12+P12+O12+G12 -> 886.73463 | V12: =ABS(((+U12)*(+K12))/1000) -> 2.6984722 | W12: =(($W$3*1000)-V12*1000)/1000 -> 10.724347 | X12: =V12 -> 2.6984722 | Y12: =ABS((X12*1000)/((2*PI()*N12)/60)) -> 12.884256 | Z12: 474.1423 | AA12: =(Z12*W12)/(60*60) -> 1.4124629 | AB12: =((D12-D11)/3600)*W12 -> 0.00097946014 | AC12: =AB12*Z12 -> 0.46440348 | AD12: =((Z12*AB12)/1000)/0.755 -> 0.00061510395 | AE12: =AE11+AC12 -> 4.4767163
A13: 1 | B13: A | C13: 7 | D13: 3.2332428 | E13: 704.00094 | F13: 0 | G13: =C13*9.81*TAN(F13) -> 0 | H13: =RADIANS(F13) -> 0 | I13: 14 | J13: 4000 | K13: 3.2863419 | L13: 7.3513497 | M13: 1 | N13: =IF(M13=1,_xlfn.XLOOKUP(L13,'HYB SPECS'!$O$6:$O$37,'HYB SPECS'!$K$6:$K$37,,1)) -> 2250 | O13: =0.5*('Specifications (ICE)'!$P$4*'Specifications (ICE)'!$P$3)*'Specifications (ICE)'!$P$5*K13^2 -> 3.3756897 | P13: =IF(B13="A",'Specifications (ICE)'!$M$12,IF(B13="G",'Specifications (ICE)'!$M$13)) -> 84.271039 | Q13: 1 | R13: ='HYB SPECS'!$G$11-O13-P13-G13 -> 799.0879 | S13: =IF(A13=1,(R13/E13),IF(A13=2,0,IF(A13=3,(1.2*(-R13/E13))))) -> 1.1350665 | T13: =E13*S13 -> 799.0879 | U13: =T13+P13+O13+G13 -> 886.73463 | V13: =ABS(((+U13)*(+K13))/1000) -> 2.9141132 | W13: =(($W$3*1000)-V13*1000)/1000 -> 10.508706 | X13: =V13 -> 2.9141132 | Y13: =ABS((X13*1000)/((2*PI()*N13)/60)) -> 12.367881 | Z13: 474.1423 | AA13: =(Z13*W13)/(60*60) -> 1.3840616 | AB13: =((D13-D12)/3600)*W13 -> 0.00088884322 | AC13: =AB13*Z13 -> 0.42143817 | AD13: =((Z13*AB13)/1000)/0.755 -> 0.00055819625 | AE13: =AE12+AC13 -> 4.8981544
A14: 1 | B14: A | C14: 8 | D14: 3.5181582 | E14: 704.00094 | F14: 0 | G14: =C14*9.81*TAN(F14) -> 0 | H14: =RADIANS(F14) -> 0 | I14: 14 | J14: 4000 | K14: 3.5125605 | L14: 7.8573871 | M14: 1 | N14: =IF(M14=1,_xlfn.XLOOKUP(L14,'HYB SPECS'!$O$6:$O$37,'HYB SPECS'!$K$6:$K$37,,1)) -> 2250 | O14: =0.5*('Specifications (ICE)'!$P$4*'Specifications (ICE)'!$P$3)*'Specifications (ICE)'!$P$5*K14^2 -> 3.8564229 | P14: =IF(B14="A",'Specifications (ICE)'!$M$12,IF(B14="G",'Specifications (ICE)'!$M$13)) -> 84.271039 | Q14: 1 | R14: ='HYB SPECS'!$G$11-O14-P14-G14 -> 798.60717 | S14: =IF(A14=1,(R14/E14),IF(A14=2,0,IF(A14=3,(1.2*(-R14/E14))))) -> 1.1343837 | T14: =E14*S14 -> 798.60717 | U14: =T14+P14+O14+G14 -> 886.73463 | V14: =ABS(((+U14)*(+K14))/1000) -> 3.114709 | W14: =(($W$3*1000)-V14*1000)/1000 -> 10.30811 | X14: =V14 -> 3.114709 | Y14: =ABS((X14*1000)/((2*PI()*N14)/60)) -> 13.219236 | Z14: 474.1423 | AA14: =(Z14*W14)/(60*60) -> 1.3576419 | AB14: =((D14-D13)/3600)*W14 -> 0.00081581631 | AC14: =AB14*Z14 -> 0.38681302 | AD14: =((Z14*AB14)/1000)/0.755 -> 0.00051233513 | AE14: =AE13+AC14 -> 5.2849675
A15: 1 | B15: A | C15: 9 | D15: 3.7778156 | E15: 704.00094 | F15: 0 | G15: =C15*9.81*TAN(F15) -> 0 | H15: =RADIANS(F15) -> 0 | I15: 14 | J15: 4000 | K15: 3.8544434 | L15: 8.6221586 | M15: 1 | N15: =IF(M15=1,_xlfn.XLOOKUP(L15,'HYB SPECS'!$O$6:$O$37,'HYB SPECS'!$K$6:$K$37,,1)) -> 2500 | O15: =0.5*('Specifications (ICE)'!$P$4*'Specifications (ICE)'!$P$3)*'Specifications (ICE)'!$P$5*K15^2 -> 4.6436595 | P15: =IF(B15="A",'Specifications (ICE)'!$M$12,IF(B15="G",'Specifications (ICE)'!$M$13)) -> 84.271039 | Q15: 1 | R15: ='HYB SPECS'!$G$11-O15-P15-G15 -> 797.81993 | S15: =IF(A15=1,(R15/E15),IF(A15=2,0,IF(A15=3,(1.2*(-R15/E15))))) -> 1.1332654 | T15: =E15*S15 -> 797.81993 | U15: =T15+P15+O15+G15 -> 886.73463 | V15: =ABS(((+U15)*(+K15))/1000) -> 3.4178685 | W15: =(($W$3*1000)-V15*1000)/1000 -> 10.00495 | X15: =V15 -> 3.4178685 | Y15: =ABS((X15*1000)/((2*PI()*N15)/60)) -> 13.055296 | Z15: 474.1423 | AA15: =(Z15*W15)/(60*60) -> 1.3177139 | AB15: =((D15-D14)/3600)*W15 -> 0.00072162773 | AC15: =AB15*Z15 -> 0.34215423 | AD15: =((Z15*AB15)/1000)/0.755 -> 0.00045318442 | AE15: =AE14+AC15 -> 5.6271217
A16: 1 | B16: A | C16: 10 | D16: 4.0179476 | E16: 704.00094 | F16: 0 | G16: =C16*9.81*TAN(F16) -> 0 | H16: =RADIANS(F16) -> 0 | I16: 14 | J16: 4000 | K16: 4.168143 | L16: 9.3238858 | M16: 1 | N16: =IF(M16=1,_xlfn.XLOOKUP(L16,'HYB SPECS'!$O$6:$O$37,'HYB SPECS'!$K$6:$K$37,,1)) -> 2750 | O16: =0.5*('Specifications (ICE)'!$P$4*'Specifications (ICE)'!$P$3)*'Specifications (ICE)'!$P$5*K16^2 -> 5.4302802 | P16: =IF(B16="A",'Specifications (ICE)'!$M$12,IF(B16="G",'Specifications (ICE)'!$M$13)) -> 84.271039 | Q16: 1 | R16: ='HYB SPECS'!$G$11-O16-P16-G16 -> 797.03331 | S16: =IF(A16=1,(R16/E16),IF(A16=2,0,IF(A16=3,(1.2*(-R16/E16))))) -> 1.1321481 | T16: =E16*S16 -> 797.03331 | U16: =T16+P16+O16+G16 -> 886.73463 | V16: =ABS(((+U16)*(+K16))/1000) -> 3.6960367 | W16: =(($W$3*1000)-V16*1000)/1000 -> 9.7267821 | X16: =V16 -> 3.6960367 | Y16: =ABS((X16*1000)/((2*PI()*N16)/60)) -> 12.834382 | Z16: 474.1423 | AA16: =(Z16*W16)/(60*60) -> 1.2810775 | AB16: =((D16-D15)/3600)*W16 -> 0.00064880886 | AC16: =AB16*Z16 -> 0.30762773 | AD16: =((Z16*AB16)/1000)/0.755 -> 0.00040745394 | AE16: =AE15+AC16 -> 5.9347494
A17: 1 | B17: A | C17: 11 | D17: 4.2424033 | E17: 704.00094 | F17: 0 | G17: =C17*9.81*TAN(F17) -> 0 | H17: =RADIANS(F17) -> 0 | I17: 14 | J17: 4000 | K17: 4.4596108 | L17: 9.9758818 | M17: 1 | N17: =IF(M17=1,_xlfn.XLOOKUP(L17,'HYB SPECS'!$O$6:$O$37,'HYB SPECS'!$K$6:$K$37,,1)) -> 2750 | O17: =0.5*('Specifications (ICE)'!$P$4*'Specifications (ICE)'!$P$3)*'Specifications (ICE)'!$P$5*K17^2 -> 6.2162853 | P17: =IF(B17="A",'Specifications (ICE)'!$M$12,IF(B17="G",'Specifications (ICE)'!$M$13)) -> 84.271039 | Q17: 1 | R17: ='HYB SPECS'!$G$11-O17-P17-G17 -> 796.24731 | S17: =IF(A17=1,(R17/E17),IF(A17=2,0,IF(A17=3,(1.2*(-R17/E17))))) -> 1.1310316 | T17: =E17*S17 -> 796.24731 | U17: =T17+P17+O17+G17 -> 886.73463 | V17: =ABS(((+U17)*(+K17))/1000) -> 3.9544913 | W17: =(($W$3*1000)-V17*1000)/1000 -> 9.4683275 | X17: =V17 -> 3.9544913 | Y17: =ABS((X17*1000)/((2*PI()*N17)/60)) -> 13.731858 | Z17: 474.1423 | AA17: =(Z17*W17)/(60*60) -> 1.2470374 | AB17: =((D17-D16)/3600)*W17 -> 0.00059033885 | AC17: =AB17*Z17 -> 0.27990462 | AD17: =((Z17*AB17)/1000)/0.755 -> 0.00037073459 | AE17: =AE16+AC17 -> 6.214654
A18: 1 | B18: A | C18: 12 | D18: 4.4539143 | E18: 704.00094 | F18: 0 | G18: =C18*9.81*TAN(F18) -> 0 | H18: =RADIANS(F18) -> 0 | I18: 14 | J18: 4000 | K18: 4.7329561 | L18: 10.587339 | M18: 1 | N18: =IF(M18=1,_xlfn.XLOOKUP(L18,'HYB SPECS'!$O$6:$O$37,'HYB SPECS'!$K$6:$K$37,,1)) -> 3000 | O18: =0.5*('Specifications (ICE)'!$P$4*'Specifications (ICE)'!$P$3)*'Specifications (ICE)'!$P$5*K18^2 -> 7.0016754 | P18: =IF(B18="A",'Specifications (ICE)'!$M$12,IF(B18="G",'Specifications (ICE)'!$M$13)) -> 84.271039 | Q18: 1 | R18: ='HYB SPECS'!$G$11-O18-P18-G18 -> 795.46192 | S18: =IF(A18=1,(R18/E18),IF(A18=2,0,IF(A18=3,(1.2*(-R18/E18))))) -> 1.129916 | T18: =E18*S18 -> 795.46192 | U18: =T18+P18+O18+G18 -> 886.73463 | V18: =ABS(((+U18)*(+K18))/1000) -> 4.1968761 | W18: =(($W$3*1000)-V18*1000)/1000 -> 9.2259427 | X18: =V18 -> 4.1968761 | Y18: =ABS((X18*1000)/((2*PI()*N18)/60)) -> 13.359071 | Z18: 474.1423 | AA18: =(Z18*W18)/(60*60) -> 1.2151138 | AB18: =((D18-D17)/3600)*W18 -> 0.00054205235 | AC18: =AB18*Z18 -> 0.25700995 | AD18: =((Z18*AB18)/1000)/0.755 -> 0.00034041053 | AE18: =AE17+AC18 -> 6.471664
... A490: 1 | B490: A | C490: 484 | D490: 43.132249 | E490: 704.00094 | F490: 0 | G490: =C490*9.81*TAN(F490) -> 0 | H490: =RADIANS(F490) -> 0 | I490: 14 | J490: 4000 | K490: 13.4112 | L490: 30.00005 | M490: 1 | N490: =IF(M490=1,_xlfn.XLOOKUP(L490,'HYB SPECS'!$O$6:$O$37,'HYB SPECS'!$K$6:$K$37,,1)) -> 8500 | O490: =0.5*('Specifications (ICE)'!$P$4*'Specifications (ICE)'!$P$3)*'Specifications (ICE)'!$P$5*K490^2 -> 56.2176 | P490: =IF(B490="A",'Specifications (ICE)'!$M$12,IF(B490="G",'Specifications (ICE)'!$M$13)) -> 84.271039 | Q490: 1 | R490: ='HYB SPECS'!$G$11-O490-P490-G490 -> 746.24599 | S490: =IF(A490=1,(R490/E490),IF(A490=2,0,IF(A490=3,(1.2*(-R490/E490))))) -> 1.0600071 | T490: =E490*S490 -> 746.24599 | U490: =T490+P490+O490+G490 -> 886.73463 | V490: =ABS(((+U490)*(+K490))/1000) -> 11.892175 | W490: =(($W$3*1000)-V490*1000)/1000 -> 1.5306433 | X490: =V490 -> 11.892175 | Y490: =ABS((X490*1000)/((2*PI()*N490)/60)) -> 13.360225 | Z490: 474.1423 | AA490: =(Z490*W490)/(60*60) -> 0.2015952 | AB490: =((D490-D489)/3600)*W490 -> 3.1703255e-05 | AC490: =AB490*Z490 -> 0.015031854 | AD490: =((Z490*AB490)/1000)/0.755 -> 1.9909741e-05 | AE490: =AE489+AC490 -> 24.637986
A491: 1 | B491: A | C491: 485 | D491: 43.206813 | E491: 704.00094 | F491: 0.2 | G491: ='Specifications (ICE)'!$E$16*9.81*SIN(F491-F490) -> 1046.3794 | H491: =RADIANS(F491) -> 0.0034906585 | I491: 14 | J491: 4000 | K491: 13.4112 | L491: 30.00005 | M491: 1 | N491: =IF(M491=1,_xlfn.XLOOKUP(L491,'HYB SPECS'!$O$6:$O$37,'HYB SPECS'!$K$6:$K$37,,1)) -> 8500 | O491: =0.5*('Specifications (ICE)'!$P$4*'Specifications (ICE)'!$P$3)*'Specifications (ICE)'!$P$5*K491^2 -> 56.2176 | P491: =IF(B491="A",'Specifications (ICE)'!$M$12,IF(B491="G",'Specifications (ICE)'!$M$13)) -> 84.271039 | Q491: 1 | R491: ='HYB SPECS'!$G$11-O491-P491-G491 -> -300.13344 | S491: =IF(A491=1,(R491/E491),IF(A491=2,0,IF(A491=3,(1.2*(-R491/E491))))) -> -0.42632534 | T491: =E491*S491 -> -300.13344 | U491: =T491+P491+O491+G491 -> 886.73463 | V491: =ABS(((+U491)*(+K491))/1000) -> 11.892175 | W491: =(($W$3*1000)-V491*1000)/1000 -> 1.5306433 | X491: =V491 -> 11.892175 | Y491: =ABS((X491*1000)/((2*PI()*N491)/60)) -> 13.360225 | Z491: 474.1423 | AA491: =(Z491*W491)/(60*60) -> 0.2015952 | AB491: =((D491-D490)/3600)*W491 -> 3.1703255e-05 | AC491: =AB491*Z491 -> 0.015031854 | AD491: =((Z491*AB491)/1000)/0.755 -> 1.9909741e-05 | AE491: =AE490+AC491 -> 24.653018
A492: 1 | B492: A | C492: 486 | D492: 43.281378 | E492: 704.00094 | F492: 0.4 | G492: ='Specifications (ICE)'!$E$16*9.81*SIN(F492-F491) -> 1046.3794 | H492: =RADIANS(F492) -> 0.006981317 | I492: 14 | J492: 4000 | K492: 13.4112 | L492: 30.00005 | M492: 1 | N492: =IF(M492=1,_xlfn.XLOOKUP(L492,'HYB SPECS'!$O$6:$O$37,'HYB SPECS'!$K$6:$K$37,,1)) -> 8500 | O492: =0.5*('Specifications (ICE)'!$P$4*'Specifications (ICE)'!$P$3)*'Specifications (ICE)'!$P$5*K492^2 -> 56.2176 | P492: =IF(B492="A",'Specifications (ICE)'!$M$12,IF(B492="G",'Specifications (ICE)'!$M$13)) -> 84.271039 | Q492: 1 | R492: ='HYB SPECS'!$G$11-O492-P492-G492 -> -300.13344 | S492: =IF(A492=1,(R492/E492),IF(A492=2,0,IF(A492=3,(1.2*(-R492/E492))))) -> -0.42632534 | T492: =E492*S492 -> -300.13344 | U492: =T492+P492+O492+G492 -> 886.73463 | V492: =ABS(((+U492)*(+K492))/1000) -> 11.892175 | W492: =(($W$3*1000)-V492*1000)/1000 -> 1.5306433 | X492: =V492 -> 11.892175 | Y492: =ABS((X492*1000)/((2*PI()*N492)/60)) -> 13.360225 | Z492: 474.1423 | AA492: =(Z492*W492)/(60*60) -> 0.2015952 | AB492: =((D492-D491)/3600)*W492 -> 3.1703255e-05 | AC492: =AB492*Z492 -> 0.015031854 | AD492: =((Z492*AB492)/1000)/0.755 -> 1.9909741e-05 | AE492: =AE491+AC492 -> 24.668049
A493: 1 | B493: A | C493: 487 | D493: 43.355942 | E493: 704.00094 | F493: 0.6 | G493: ='Specifications (ICE)'!$E$16*9.81*SIN(F493-F492) -> 1046.3794 | H493: =RADIANS(F493) -> 0.010471976 | I493: 14 | J493: 4000 | K493: 13.4112 | L493: 30.00005 | M493: 1 | N493: =IF(M493=1,_xlfn.XLOOKUP(L493,'HYB SPECS'!$O$6:$O$37,'HYB SPECS'!$K$6:$K$37,,1)) -> 8500 | O493: =0.5*('Specifications (ICE)'!$P$4*'Specifications (ICE)'!$P$3)*'Specifications (ICE)'!$P$5*K493^2 -> 56.2176 | P493: =IF(B493="A",'Specifications (ICE)'!$M$12,IF(B493="G",'Specifications (ICE)'!$M$13)) -> 84.271039 | Q493: 1 | R493: ='HYB SPECS'!$G$11-O493-P493-G493 -> -300.13344 | S493: =IF(A493=1,(R493/E493),IF(A493=2,0,IF(A493=3,(1.2*(-R493/E493))))) -> -0.42632534 | T493: =E493*S493 -> -300.13344 | U493: =T493+P493+O493+G493 -> 886.73463 | V493: =ABS(((+U493)*(+K493))/1000) -> 11.892175 | W493: =(($W$3*1000)-V493*1000)/1000 -> 1.5306433 | X493: =V493 -> 11.892175 | Y493: =ABS((X493*1000)/((2*PI()*N493)/60)) -> 13.360225 | Z493: 474.1423 | AA493: =(Z493*W493)/(60*60) -> 0.2015952 | AB493: =((D493-D492)/3600)*W493 -> 3.1703255e-05 | AC493: =AB493*Z493 -> 0.015031854 | AD493: =((Z493*AB493)/1000)/0.755 -> 1.9909741e-05 | AE493: =AE492+AC493 -> 24.683081
A494: 1 | B494: A | C494: 488 | D494: 43.430507 | E494: 704.00094 | F494: 0.8 | G494: ='Specifications (ICE)'!$E$16*9.81*SIN(F494-F493) -> 1046.3794 | H494: =RADIANS(F494) -> 0.013962634 | I494: 14 | J494: 4000 | K494: 13.4112 | L494: 30.00005 | M494: 1 | N494: =IF(M494=1,_xlfn.XLOOKUP(L494,'HYB SPECS'!$O$6:$O$37,'HYB SPECS'!$K$6:$K$37,,1)) -> 8500 | O494: =0.5*('Specifications (ICE)'!$P$4*'Specifications (ICE)'!$P$3)*'Specifications (ICE)'!$P$5*K494^2 -> 56.2176 | P494: =IF(B494="A",'Specifications (ICE)'!$M$12,IF(B494="G",'Specifications (ICE)'!$M$13)) -> 84.271039 | Q494: 1 | R494: ='HYB SPECS'!$G$11-O494-P494-G494 -> -300.13344 | S494: =IF(A494=1,(R494/E494),IF(A494=2,0,IF(A494=3,(1.2*(-R494/E494))))) -> -0.42632534 | T494: =E494*S494 -> -300.13344 | U494: =T494+P494+O494+G494 -> 886.73463 | V494: =ABS(((+U494)*(+K494))/1000) -> 11.892175 | W494: =(($W$3*1000)-V494*1000)/1000 -> 1.5306433 | X494: =V494 -> 11.892175 | Y494: =ABS((X494*1000)/((2*PI()*N494)/60)) -> 13.360225 | Z494: 474.1423 | AA494: =(Z494*W494)/(60*60) -> 0.2015952 | AB494: =((D494-D493)/3600)*W494 -> 3.1703255e-05 | AC494: =AB494*Z494 -> 0.015031854 | AD494: =((Z494*AB494)/1000)/0.755 -> 1.9909741e-05 | AE494: =AE493+AC494 -> 24.698113
A495: 1 | B495: A | C495: 489 | D495: 43.505071 | E495: 704.00094 | F495: 1 | G495: ='Specifications (ICE)'!$E$16*9.81*SIN(F495-F494) -> 1046.3794 | H495: =RADIANS(F495) -> 0.017453293 | I495: 14 | J495: 4000 | K495: 13.4112 | L495: 30.00005 | M495: 1 | N495: =IF(M495=1,_xlfn.XLOOKUP(L495,'HYB SPECS'!$O$6:$O$37,'HYB SPECS'!$K$6:$K$37,,1)) -> 8500 | O495: =0.5*('Specifications (ICE)'!$P$4*'Specifications (ICE)'!$P$3)*'Specifications (ICE)'!$P$5*K495^2 -> 56.2176 | P495: =IF(B495="A",'Specifications (ICE)'!$M$12,IF(B495="G",'Specifications (ICE)'!$M$13)) -> 84.271039 | Q495: 1 | R495: ='HYB SPECS'!$G$11-O495-P495-G495 -> -300.13344 | S495: =IF(A495=1,(R495/E495),IF(A495=2,0,IF(A495=3,(1.2*(-R495/E495))))) -> -0.42632534 | T495: =E495*S495 -> -300.13344 | U495: =T495+P495+O495+G495 -> 886.73463 | V495: =ABS(((+U495)*(+K495))/1000) -> 11.892175 | W495: =(($W$3*1000)-V495*1000)/1000 -> 1.5306433 | X495: =V495 -> 11.892175 | Y495: =ABS((X495*1000)/((2*PI()*N495)/60)) -> 13.360225 | Z495: 474.1423 | AA495: =(Z495*W495)/(60*60) -> 0.2015952 | AB495: =((D495-D494)/3600)*W495 -> 3.1703255e-05 | AC495: =AB495*Z495 -> 0.015031854 | AD495: =((Z495*AB495)/1000)/0.755 -> 1.9909741e-05 | AE495: =AE494+AC495 -> 24.713145
A496: 1 | B496: A | C496: 490 | D496: 43.579636 | E496: 704.00094 | F496: 1.2 | G496: ='Specifications (ICE)'!$E$16*9.81*SIN(F496-F495) -> 1046.3794 | H496: =RADIANS(F496) -> 0.020943951 | I496: 14 | J496: 4000 | K496: 13.4112 | L496: 30.00005 | M496: 1 | N496: =IF(M496=1,_xlfn.XLOOKUP(L496,'HYB SPECS'!$O$6:$O$37,'HYB SPECS'!$K$6:$K$37,,1)) -> 8500 | O496: =0.5*('Specifications (ICE)'!$P$4*'Specifications (ICE)'!$P$3)*'Specifications (ICE)'!$P$5*K496^2 -> 56.2176 | P496: =IF(B496="A",'Specifications (ICE)'!$M$12,IF(B496="G",'Specifications (ICE)'!$M$13)) -> 84.271039 | Q496: 1 | R496: ='HYB SPECS'!$G$11-O496-P496-G496 -> -300.13344 | S496: =IF(A496=1,(R496/E496),IF(A496=2,0,IF(A496=3,(1.2*(-R496/E496))))) -> -0.42632534 | T496: =E496*S496 -> -300.13344 | U496: =T496+P496+O496+G496 -> 886.73463 | V496: =ABS(((+U496)*(+K496))/1000) -> 11.892175 | W496: =(($W$3*1000)-V496*1000)/1000 -> 1.5306433 | X496: =V496 -> 11.892175 | Y496: =ABS((X496*1000)/((2*PI()*N496)/60)) -> 13.360225 | Z496: 474.1423 | AA496: =(Z496*W496)/(60*60) -> 0.2015952 | AB496: =((D496-D495)/3600)*W496 -> 3.1703255e-05 | AC496: =AB496*Z496 -> 0.015031854 | AD496: =((Z496*AB496)/1000)/0.755 -> 1.9909741e-05 | AE496: =AE495+AC496 -> 24.728177
A497: 1 | B497: A | C497: 491 | D497: 43.654201 | E497: 704.00094 | F497: 1.4 | G497: ='Specifications (ICE)'!$E$16*9.81*SIN(F497-F496) -> 1046.3794 | H497: =RADIANS(F497) -> 0.02443461 | I497: 14 | J497: 4000 | K497: 13.4112 | L497: 30.00005 | M497: 1 | N497: =IF(M497=1,_xlfn.XLOOKUP(L497,'HYB SPECS'!$O$6:$O$37,'HYB SPECS'!$K$6:$K$37,,1)) -> 8500 | O497: =0.5*('Specifications (ICE)'!$P$4*'Specifications (ICE)'!$P$3)*'Specifications (ICE)'!$P$5*K497^2 -> 56.2176 | P497: =IF(B497="A",'Specifications (ICE)'!$M$12,IF(B497="G",'Specifications (ICE)'!$M$13)) -> 84.271039 | Q497: 1 | R497: ='HYB SPECS'!$G$11-O497-P497-G497 -> -300.13344 | S497: =IF(A497=1,(R497/E497),IF(A497=2,0,IF(A497=3,(1.2*(-R497/E497))))) -> -0.42632534 | T497: =E497*S497 -> -300.13344 | U497: =T497+P497+O497+G497 -> 886.73463 | V497: =ABS(((+U497)*(+K497))/1000) -> 11.892175 | W497: =(($W$3*1000)-V497*1000)/1000 -> 1.5306433 | X497: =V497 -> 11.892175 | Y497: =ABS((X497*1000)/((2*PI()*N497)/60)) -> 13.360225 | Z497: 474.1423 | AA497: =(Z497*W497)/(60*60) -> 0.2015952 | AB497: =((D497-D496)/3600)*W497 -> 3.1703255e-05 | AC497: =AB497*Z497 -> 0.015031854 | AD497: =((Z497*AB497)/1000)/0.755 -> 1.9909741e-05 | AE497: =AE496+AC497 -> 24.743209
A498: 1 | B498: A | C498: 492 | D498: 43.728765 | E498: 704.00094 | F498: 1.6 | G498: ='Specifications (ICE)'!$E$16*9.81*SIN(F498-F497) -> 1046.3794 | H498: =RADIANS(F498) -> 0.027925268 | I498: 14 | J498: 4000 | K498: 13.4112 | L498: 30.00005 | M498: 1 | N498: =IF(M498=1,_xlfn.XLOOKUP(L498,'HYB SPECS'!$O$6:$O$37,'HYB SPECS'!$K$6:$K$37,,1)) -> 8500 | O498: =0.5*('Specifications (ICE)'!$P$4*'Specifications (ICE)'!$P$3)*'Specifications (ICE)'!$P$5*K498^2 -> 56.2176 | P498: =IF(B498="A",'Specifications (ICE)'!$M$12,IF(B498="G",'Specifications (ICE)'!$M$13)) -> 84.271039 | Q498: 1 | R498: ='HYB SPECS'!$G$11-O498-P498-G498 -> -300.13344 | S498: =IF(A498=1,(R498/E498),IF(A498=2,0,IF(A498=3,(1.2*(-R498/E498))))) -> -0.42632534 | T498: =E498*S498 -> -300.13344 | U498: =T498+P498+O498+G498 -> 886.73463 | V498: =ABS(((+U498)*(+K498))/1000) -> 11.892175 | W498: =(($W$3*1000)-V498*1000)/1000 -> 1.5306433 | X498: =V498 -> 11.892175 | Y498: =ABS((X498*1000)/((2*PI()*N498)/60)) -> 13.360225 | Z498: 474.1423 | AA498: =(Z498*W498)/(60*60) -> 0.2015952 | AB498: =((D498-D497)/3600)*W498 -> 3.1703255e-05 | AC498: =AB498*Z498 -> 0.015031854 | AD498: =((Z498*AB498)/1000)/0.755 -> 1.9909741e-05 | AE498: =AE497+AC498 -> 24.758241
A499: 1 | B499: A | C499: 493 | D499: 43.80333 | E499: 704.00094 | F499: 1.8 | G499: ='Specifications (ICE)'!$E$16*9.81*SIN(F499-F498) -> 1046.3794 | H499: =RADIANS(F499) -> 0.031415927 | I499: 14 | J499: 4000 | K499: 13.4112 | L499: 30.00005 | M499: 1 | N499: =IF(M499=1,_xlfn.XLOOKUP(L499,'HYB SPECS'!$O$6:$O$37,'HYB SPECS'!$K$6:$K$37,,1)) -> 8500 | O499: =0.5*('Specifications (ICE)'!$P$4*'Specifications (ICE)'!$P$3)*'Specifications (ICE)'!$P$5*K499^2 -> 56.2176 | P499: =IF(B499="A",'Specifications (ICE)'!$M$12,IF(B499="G",'Specifications (ICE)'!$M$13)) -> 84.271039 | Q499: 1 | R499: ='HYB SPECS'!$G$11-O499-P499-G499 -> -300.13344 | S499: =IF(A499=1,(R499/E499),IF(A499=2,0,IF(A499=3,(1.2*(-R499/E499))))) -> -0.42632534 | T499: =E499*S499 -> -300.13344 | U499: =T499+P499+O499+G499 -> 886.73463 | V499: =ABS(((+U499)*(+K499))/1000) -> 11.892175 | W499: =(($W$3*1000)-V499*1000)/1000 -> 1.5306433 | X499: =V499 -> 11.892175 | Y499: =ABS((X499*1000)/((2*PI()*N499)/60)) -> 13.360225 | Z499: 474.1423 | AA499: =(Z499*W499)/(60*60) -> 0.2015952 | AB499: =((D499-D498)/3600)*W499 -> 3.1703255e-05 | AC499: =AB499*Z499 -> 0.015031854 | AD499: =((Z499*AB499)/1000)/0.755 -> 1.9909741e-05 | AE499: =AE498+AC499 -> 24.773272
A500: 1 | B500: A | C500: 494 | D500: 43.877894 | E500: 704.00094 | F500: 2 | G500: ='Specifications (ICE)'!$E$16*9.81*SIN(F500-F499) -> 1046.3794 | H500: =RADIANS(F500) -> 0.034906585 | I500: 14 | J500: 4000 | K500: 13.4112 | L500: 30.00005 | M500: 1 | N500: =IF(M500=1,_xlfn.XLOOKUP(L500,'HYB SPECS'!$O$6:$O$37,'HYB SPECS'!$K$6:$K$37,,1)) -> 8500 | O500: =0.5*('Specifications (ICE)'!$P$4*'Specifications (ICE)'!$P$3)*'Specifications (ICE)'!$P$5*K500^2 -> 56.2176 | P500: =IF(B500="A",'Specifications (ICE)'!$M$12,IF(B500="G",'Specifications (ICE)'!$M$13)) -> 84.271039 | Q500: 1 | R500: ='HYB SPECS'!$G$11-O500-P500-G500 -> -300.13344 | S500: =IF(A500=1,(R500/E500),IF(A500=2,0,IF(A500=3,(1.2*(-R500/E500))))) -> -0.42632534 | T500: =E500*S500 -> -300.13344 | U500: =T500+P500+O500+G500 -> 886.73463 | V500: =ABS(((+U500)*(+K500))/1000) -> 11.892175 | W500: =(($W$3*1000)-V500*1000)/1000 -> 1.5306433 | X500: =V500 -> 11.892175 | Y500: =ABS((X500*1000)/((2*PI()*N500)/60)) -> 13.360225 | Z500: 474.1423 | AA500: =(Z500*W500)/(60*60) -> 0.2015952 | AB500: =((D500-D499)/3600)*W500 -> 3.1703255e-05 | AC500: =AB500*Z500 -> 0.015031854 | AD500: =((Z500*AB500)/1000)/0.755 -> 1.9909741e-05 | AE500: =AE499+AC500 -> 24.788304
A501: 1 | B501: A | C501: 495 | D501: 43.952459 | E501: 704.00094 | F501: 2.2 | G501: ='Specifications (ICE)'!$E$16*9.81*SIN(F501-F500) -> 1046.3794 | H501: =RADIANS(F501) -> 0.038397244 | I501: 14 | J501: 4000 | K501: 13.4112 | L501: 30.00005 | M501: 1 | N501: =IF(M501=1,_xlfn.XLOOKUP(L501,'HYB SPECS'!$O$6:$O$37,'HYB SPECS'!$K$6:$K$37,,1)) -> 8500 | O501: =0.5*('Specifications (ICE)'!$P$4*'Specifications (ICE)'!$P$3)*'Specifications (ICE)'!$P$5*K501^2 -> 56.2176 | P501: =IF(B501="A",'Specifications (ICE)'!$M$12,IF(B501="G",'Specifications (ICE)'!$M$13)) -> 84.271039 | Q501: 1 | R501: ='HYB SPECS'!$G$11-O501-P501-G501 -> -300.13344 | S501: =IF(A501=1,(R501/E501),IF(A501=2,0,IF(A501=3,(1.2*(-R501/E501))))) -> -0.42632534 | T501: =E501*S501 -> -300.13344 | U501: =T501+P501+O501+G501 -> 886.73463 | V501: =ABS(((+U501)*(+K501))/1000) -> 11.892175 | W501: =(($W$3*1000)-V501*1000)/1000 -> 1.5306433 | X501: =V501 -> 11.892175 | Y501: =ABS((X501*1000)/((2*PI()*N501)/60)) -> 13.360225 | Z501: 474.1423 | AA501: =(Z501*W501)/(60*60) -> 0.2015952 | AB501: =((D501-D500)/3600)*W501 -> 3.1703255e-05 | AC501: =AB501*Z501 -> 0.015031854 | AD501: =((Z501*AB501)/1000)/0.755 -> 1.9909741e-05 | AE501: =AE500+AC501 -> 24.803336
A502: 1 | B502: A | C502: 496 | D502: 44.027023 | E502: 704.00094 | F502: 2.4 | G502: ='Specifications (ICE)'!$E$16*9.81*SIN(F502-F501) -> 1046.3794 | H502: =RADIANS(F502) -> 0.041887902 | I502: 14 | J502: 4000 | K502: 13.4112 | L502: 30.00005 | M502: 1 | N502: =IF(M502=1,_xlfn.XLOOKUP(L502,'HYB SPECS'!$O$6:$O$37,'HYB SPECS'!$K$6:$K$37,,1)) -> 8500 | O502: =0.5*('Specifications (ICE)'!$P$4*'Specifications (ICE)'!$P$3)*'Specifications (ICE)'!$P$5*K502^2 -> 56.2176 | P502: =IF(B502="A",'Specifications (ICE)'!$M$12,IF(B502="G",'Specifications (ICE)'!$M$13)) -> 84.271039 | Q502: 1 | R502: ='HYB SPECS'!$G$11-O502-P502-G502 -> -300.13344 | S502: =IF(A502=1,(R502/E502),IF(A502=2,0,IF(A502=3,(1.2*(-R502/E502))))) -> -0.42632534 | T502: =E502*S502 -> -300.13344 | U502: =T502+P502+O502+G502 -> 886.73463 | V502: =ABS(((+U502)*(+K502))/1000) -> 11.892175 | W502: =(($W$3*1000)-V502*1000)/1000 -> 1.5306433 | X502: =V502 -> 11.892175 | Y502: =ABS((X502*1000)/((2*PI()*N502)/60)) -> 13.360225 | Z502: 474.1423 | AA502: =(Z502*W502)/(60*60) -> 0.2015952 | AB502: =((D502-D501)/3600)*W502 -> 3.1703255e-05 | AC502: =AB502*Z502 -> 0.015031854 | AD502: =((Z502*AB502)/1000)/0.755 -> 1.9909741e-05 | AE502: =AE501+AC502 -> 24.818368
... A617: 1 | B617: G | C617: 611 | D617: 53.461911 | E617: 704.00094 | F617: 20 | G617: ='Specifications (ICE)'!$E$16*9.81*SIN(F617-F616) -> 1046.3794 | H617: =RADIANS(F617) -> 0.34906585 | I617: 14 | J617: 4000 | K617: 13.4112 | L617: 30.00005 | M617: 1 | N617: =IF(M617=1,_xlfn.XLOOKUP(L617,'HYB SPECS'!$O$6:$O$37,'HYB SPECS'!$K$6:$K$37,,1)) -> 8500 | O617: =0.5*('Specifications (ICE)'!$P$4*'Specifications (ICE)'!$P$3)*'Specifications (ICE)'!$P$5*K617^2 -> 56.2176 | P617: =IF(B617="A",'Specifications (ICE)'!$M$12,IF(B617="G",'Specifications (ICE)'!$M$13)) -> 105.3388 | Q617: 1 | R617: ='HYB SPECS'!$G$11-O617-P617-G617 -> -321.2012 | S617: =IF(A617=1,(R617/E617),IF(A617=2,0,IF(A617=3,(1.2*(-R617/E617))))) -> -0.4562511 | T617: =E617*S617 -> -321.2012 | U617: =T617+P617+O617+G617 -> 886.73463 | V617: =ABS(((+U617)*(+K617))/1000) -> 11.892175 | W617: =(($W$3*1000)-V617*1000)/1000 -> 1.5306433 | X617: =V617 -> 11.892175 | Y617: =ABS((X617*1000)/((2*PI()*N617)/60)) -> 13.360225 | Z617: 474.1423 | AA617: =(Z617*W617)/(60*60) -> 0.2015952 | AB617: =((D617-D616)/3600)*W617 -> 3.1703255e-05 | AC617: =AB617*Z617 -> 0.015031854 | AD617: =((Z617*AB617)/1000)/0.755 -> 1.9909741e-05 | AE617: =AE616+AC617 -> 25.232391
A618: 1 | B618: G | C618: 612 | D618: 53.536476 | E618: 704.00094 | F618: 0 | G618: 0 | H618: =RADIANS(F618) -> 0 | I618: 14 | J618: 4000 | K618: 13.4112 | L618: 30.00005 | M618: 1 | N618: =IF(M618=1,_xlfn.XLOOKUP(L618,'HYB SPECS'!$O$6:$O$37,'HYB SPECS'!$K$6:$K$37,,1)) -> 8500 | O618: =0.5*('Specifications (ICE)'!$P$4*'Specifications (ICE)'!$P$3)*'Specifications (ICE)'!$P$5*K618^2 -> 56.2176 | P618: =IF(B618="A",'Specifications (ICE)'!$M$12,IF(B618="G",'Specifications (ICE)'!$M$13)) -> 105.3388 | Q618: 1 | R618: ='HYB SPECS'!$G$11-O618-P618-G618 -> 725.17823 | S618: =IF(A618=1,(R618/E618),IF(A618=2,0,IF(A618=3,(1.2*(-R618/E618))))) -> 1.0300813 | T618: =E618*S618 -> 725.17823 | U618: =T618+P618+O618+G618 -> 886.73463 | V618: =ABS(((+U618)*(+K618))/1000) -> 11.892175 | W618: =(($W$3*1000)-V618*1000)/1000 -> 1.5306433 | X618: =V618 -> 11.892175 | Y618: =ABS((X618*1000)/((2*PI()*N618)/60)) -> 13.360225 | Z618: 474.1423 | AA618: =(Z618*W618)/(60*60) -> 0.2015952 | AB618: =((D618-D617)/3600)*W618 -> 3.1703255e-05 | AC618: =AB618*Z618 -> 0.015031854 | AD618: =((Z618*AB618)/1000)/0.755 -> 1.9909741e-05 | AE618: =AE617+AC618 -> 25.247423
A619: 1 | B619: G | C619: 613 | D619: 53.61104 | E619: 704.00094 | F619: 0 | G619: ='Specifications (ICE)'!$E$16*9.81*SIN(F619-F618) -> 0 | H619: =RADIANS(F619) -> 0 | I619: 14 | J619: 4000 | K619: 13.4112 | L619: 30.00005 | M619: 1 | N619: =IF(M619=1,_xlfn.XLOOKUP(L619,'HYB SPECS'!$O$6:$O$37,'HYB SPECS'!$K$6:$K$37,,1)) -> 8500 | O619: =0.5*('Specifications (ICE)'!$P$4*'Specifications (ICE)'!$P$3)*'Specifications (ICE)'!$P$5*K619^2 -> 56.2176 | P619: =IF(B619="A",'Specifications (ICE)'!$M$12,IF(B619="G",'Specifications (ICE)'!$M$13)) -> 105.3388 | Q619: 1 | R619: ='HYB SPECS'!$G$11-O619-P619-G619 -> 725.17823 | S619: =IF(A619=1,(R619/E619),IF(A619=2,0,IF(A619=3,(1.2*(-R619/E619))))) -> 1.0300813 | T619: =E619*S619 -> 725.17823 | U619: =T619+P619+O619+G619 -> 886.73463 | V619: =ABS(((+U619)*(+K619))/1000) -> 11.892175 | W619: =(($W$3*1000)-V619*1000)/1000 -> 1.5306433 | X619: =V619 -> 11.892175 | Y619: =ABS((X619*1000)/((2*PI()*N619)/60)) -> 13.360225 | Z619: 474.1423 | AA619: =(Z619*W619)/(60*60) -> 0.2015952 | AB619: =((D619-D618)/3600)*W619 -> 3.1703255e-05 | AC619: =AB619*Z619 -> 0.015031854 | AD619: =((Z619*AB619)/1000)/0.755 -> 1.9909741e-05 | AE619: =AE618+AC619 -> 25.262455
A620: 1 | B620: G | C620: 614 | D620: 53.685605 | E620: 704.00094 | F620: 0 | G620: ='Specifications (ICE)'!$E$16*9.81*SIN(F620-F619) -> 0 | H620: =RADIANS(F620) -> 0 | I620: 14 | J620: 4000 | K620: 13.4112 | L620: 30.00005 | M620: 1 | N620: =IF(M620=1,_xlfn.XLOOKUP(L620,'HYB SPECS'!$O$6:$O$37,'HYB SPECS'!$K$6:$K$37,,1)) -> 8500 | O620: =0.5*('Specifications (ICE)'!$P$4*'Specifications (ICE)'!$P$3)*'Specifications (ICE)'!$P$5*K620^2 -> 56.2176 | P620: =IF(B620="A",'Specifications (ICE)'!$M$12,IF(B620="G",'Specifications (ICE)'!$M$13)) -> 105.3388 | Q620: 1 | R620: ='HYB SPECS'!$G$11-O620-P620-G620 -> 725.17823 | S620: =IF(A620=1,(R620/E620),IF(A620=2,0,IF(A620=3,(1.2*(-R620/E620))))) -> 1.0300813 | T620: =E620*S620 -> 725.17823 | U620: =T620+P620+O620+G620 -> 886.73463 | V620: =ABS(((+U620)*(+K620))/1000) -> 11.892175 | W620: =(($W$3*1000)-V620*1000)/1000 -> 1.5306433 | X620: =V620 -> 11.892175 | Y620: =ABS((X620*1000)/((2*PI()*N620)/60)) -> 13.360225 | Z620: 474.1423 | AA620: =(Z620*W620)/(60*60) -> 0.2015952 | AB620: =((D620-D619)/3600)*W620 -> 3.1703255e-05 | AC620: =AB620*Z620 -> 0.015031854 | AD620: =((Z620*AB620)/1000)/0.755 -> 1.9909741e-05 | AE620: =AE619+AC620 -> 25.277486
A621: 1 | B621: G | C621: 615 | D621: 53.760169 | E621: 704.00094 | F621: 0 | G621: ='Specifications (ICE)'!$E$16*9.81*SIN(F621-F620) -> 0 | H621: =RADIANS(F621) -> 0 | I621: 14 | J621: 4000 | K621: 13.4112 | L621: 30.00005 | M621: 1 | N621: =IF(M621=1,_xlfn.XLOOKUP(L621,'HYB SPECS'!$O$6:$O$37,'HYB SPECS'!$K$6:$K$37,,1)) -> 8500 | O621: =0.5*('Specifications (ICE)'!$P$4*'Specifications (ICE)'!$P$3)*'Specifications (ICE)'!$P$5*K621^2 -> 56.2176 | P621: =IF(B621="A",'Specifications (ICE)'!$M$12,IF(B621="G",'Specifications (ICE)'!$M$13)) -> 105.3388 | Q621: 1 | R621: ='HYB SPECS'!$G$11-O621-P621-G621 -> 725.17823 | S621: =IF(A621=1,(R621/E621),IF(A621=2,0,IF(A621=3,(1.2*(-R621/E621))))) -> 1.0300813 | T621: =E621*S621 -> 725.17823 | U621: =T621+P621+O621+G621 -> 886.73463 | V621: =ABS(((+U621)*(+K621))/1000) -> 11.892175 | W621: =(($W$3*1000)-V621*1000)/1000 -> 1.5306433 | X621: =V621 -> 11.892175 | Y621: =ABS((X621*1000)/((2*PI()*N621)/60)) -> 13.360225 | Z621: 474.1423 | AA621: =(Z621*W621)/(60*60) -> 0.2015952 | AB621: =((D621-D620)/3600)*W621 -> 3.1703255e-05 | AC621: =AB621*Z621 -> 0.015031854 | AD621: =((Z621*AB621)/1000)/0.755 -> 1.9909741e-05 | AE621: =AE620+AC621 -> 25.292518
A622: 1 | B622: G | C622: 616 | D622: 53.834734 | E622: 704.00094 | F622: 0 | G622: ='Specifications (ICE)'!$E$16*9.81*SIN(F622-F621) -> 0 | H622: =RADIANS(F622) -> 0 | I622: 14 | J622: 4000 | K622: 13.4112 | L622: 30.00005 | M622: 1 | N622: =IF(M622=1,_xlfn.XLOOKUP(L622,'HYB SPECS'!$O$6:$O$37,'HYB SPECS'!$K$6:$K$37,,1)) -> 8500 | O622: =0.5*('Specifications (ICE)'!$P$4*'Specifications (ICE)'!$P$3)*'Specifications (ICE)'!$P$5*K622^2 -> 56.2176 | P622: =IF(B622="A",'Specifications (ICE)'!$M$12,IF(B622="G",'Specifications (ICE)'!$M$13)) -> 105.3388 | Q622: 1 | R622: ='HYB SPECS'!$G$11-O622-P622-G622 -> 725.17823 | S622: =IF(A622=1,(R622/E622),IF(A622=2,0,IF(A622=3,(1.2*(-R622/E622))))) -> 1.0300813 | T622: =E622*S622 -> 725.17823 | U622: =T622+P622+O622+G622 -> 886.73463 | V622: =ABS(((+U622)*(+K622))/1000) -> 11.892175 | W622: =(($W$3*1000)-V622*1000)/1000 -> 1.5306433 | X622: =V622 -> 11.892175 | Y622: =ABS((X622*1000)/((2*PI()*N622)/60)) -> 13.360225 | Z622: 474.1423 | AA622: =(Z622*W622)/(60*60) -> 0.2015952 | AB622: =((D622-D621)/3600)*W622 -> 3.1703255e-05 | AC622: =AB622*Z622 -> 0.015031854 | AD622: =((Z622*AB622)/1000)/0.755 -> 1.9909741e-05 | AE622: =AE621+AC622 -> 25.30755
A623: 1 | B623: G | C623: 617 | D623: 53.909298 | E623: 704.00094 | F623: 0 | G623: ='Specifications (ICE)'!$E$16*9.81*SIN(F623-F622) -> 0 | H623: =RADIANS(F623) -> 0 | I623: 14 | J623: 4000 | K623: 13.4112 | L623: 30.00005 | M623: 1 | N623: =IF(M623=1,_xlfn.XLOOKUP(L623,'HYB SPECS'!$O$6:$O$37,'HYB SPECS'!$K$6:$K$37,,1)) -> 8500 | O623: =0.5*('Specifications (ICE)'!$P$4*'Specifications (ICE)'!$P$3)*'Specifications (ICE)'!$P$5*K623^2 -> 56.2176 | P623: =IF(B623="A",'Specifications (ICE)'!$M$12,IF(B623="G",'Specifications (ICE)'!$M$13)) -> 105.3388 | Q623: 1 | R623: ='HYB SPECS'!$G$11-O623-P623-G623 -> 725.17823 | S623: =IF(A623=1,(R623/E623),IF(A623=2,0,IF(A623=3,(1.2*(-R623/E623))))) -> 1.0300813 | T623: =E623*S623 -> 725.17823 | U623: =T623+P623+O623+G623 -> 886.73463 | V623: =ABS(((+U623)*(+K623))/1000) -> 11.892175 | W623: =(($W$3*1000)-V623*1000)/1000 -> 1.5306433 | X623: =V623 -> 11.892175 | Y623: =ABS((X623*1000)/((2*PI()*N623)/60)) -> 13.360225 | Z623: 474.1423 | AA623: =(Z623*W623)/(60*60) -> 0.2015952 | AB623: =((D623-D622)/3600)*W623 -> 3.1703255e-05 | AC623: =AB623*Z623 -> 0.015031854 | AD623: =((Z623*AB623)/1000)/0.755 -> 1.9909741e-05 | AE623: =AE622+AC623 -> 25.322582
A624: 1 | B624: G | C624: 618 | D624: 53.983863 | E624: 704.00094 | F624: 0 | G624: ='Specifications (ICE)'!$E$16*9.81*SIN(F624-F623) -> 0 | H624: =RADIANS(F624) -> 0 | I624: 14 | J624: 4000 | K624: 13.4112 | L624: 30.00005 | M624: 1 | N624: =IF(M624=1,_xlfn.XLOOKUP(L624,'HYB SPECS'!$O$6:$O$37,'HYB SPECS'!$K$6:$K$37,,1)) -> 8500 | O624: =0.5*('Specifications (ICE)'!$P$4*'Specifications (ICE)'!$P$3)*'Specifications (ICE)'!$P$5*K624^2 -> 56.2176 | P624: =IF(B624="A",'Specifications (ICE)'!$M$12,IF(B624="G",'Specifications (ICE)'!$M$13)) -> 105.3388 | Q624: 1 | R624: ='HYB SPECS'!$G$11-O624-P624-G624 -> 725.17823 | S624: =IF(A624=1,(R624/E624),IF(A624=2,0,IF(A624=3,(1.2*(-R624/E624))))) -> 1.0300813 | T624: =E624*S624 -> 725.17823 | U624: =T624+P624+O624+G624 -> 886.73463 | V624: =ABS(((+U624)*(+K624))/1000) -> 11.892175 | W624: =(($W$3*1000)-V624*1000)/1000 -> 1.5306433 | X624: =V624 -> 11.892175 | Y624: =ABS((X624*1000)/((2*PI()*N624)/60)) -> 13.360225 | Z624: 474.1423 | AA624: =(Z624*W624)/(60*60) -> 0.2015952 | AB624: =((D624-D623)/3600)*W624 -> 3.1703255e-05 | AC624: =AB624*Z624 -> 0.015031854 | AD624: =((Z624*AB624)/1000)/0.755 -> 1.9909741e-05 | AE624: =AE623+AC624 -> 25.337614
A625: 1 | B625: G | C625: 619 | D625: 54.058427 | E625: 704.00094 | F625: 0 | G625: ='Specifications (ICE)'!$E$16*9.81*SIN(F625-F624) -> 0 | H625: =RADIANS(F625) -> 0 | I625: 14 | J625: 4000 | K625: 13.4112 | L625: 30.00005 | M625: 1 | N625: =IF(M625=1,_xlfn.XLOOKUP(L625,'HYB SPECS'!$O$6:$O$37,'HYB SPECS'!$K$6:$K$37,,1)) -> 8500 | O625: =0.5*('Specifications (ICE)'!$P$4*'Specifications (ICE)'!$P$3)*'Specifications (ICE)'!$P$5*K625^2 -> 56.2176 | P625: =IF(B625="A",'Specifications (ICE)'!$M$12,IF(B625="G",'Specifications (ICE)'!$M$13)) -> 105.3388 | Q625: 1 | R625: ='HYB SPECS'!$G$11-O625-P625-G625 -> 725.17823 | S625: =IF(A625=1,(R625/E625),IF(A625=2,0,IF(A625=3,(1.2*(-R625/E625))))) -> 1.0300813 | T625: =E625*S625 -> 725.17823 | U625: =T625+P625+O625+G625 -> 886.73463 | V625: =ABS(((+U625)*(+K625))/1000) -> 11.892175 | W625: =(($W$3*1000)-V625*1000)/1000 -> 1.5306433 | X625: =V625 -> 11.892175 | Y625: =ABS((X625*1000)/((2*PI()*N625)/60)) -> 13.360225 | Z625: 474.1423 | AA625: =(Z625*W625)/(60*60) -> 0.2015952 | AB625: =((D625-D624)/3600)*W625 -> 3.1703255e-05 | AC625: =AB625*Z625 -> 0.015031854 | AD625: =((Z625*AB625)/1000)/0.755 -> 1.9909741e-05 | AE625: =AE624+AC625 -> 25.352646
A626: 1 | B626: G | C626: 620 | D626: 54.132992 | E626: 704.00094 | F626: 0 | G626: ='Specifications (ICE)'!$E$16*9.81*SIN(F626-F625) -> 0 | H626: =RADIANS(F626) -> 0 | I626: 14 | J626: 4000 | K626: 13.4112 | L626: 30.00005 | M626: 1 | N626: =IF(M626=1,_xlfn.XLOOKUP(L626,'HYB SPECS'!$O$6:$O$37,'HYB SPECS'!$K$6:$K$37,,1)) -> 8500 | O626: =0.5*('Specifications (ICE)'!$P$4*'Specifications (ICE)'!$P$3)*'Specifications (ICE)'!$P$5*K626^2 -> 56.2176 | P626: =IF(B626="A",'Specifications (ICE)'!$M$12,IF(B626="G",'Specifications (ICE)'!$M$13)) -> 105.3388 | Q626: 1 | R626: ='HYB SPECS'!$G$11-O626-P626-G626 -> 725.17823 | S626: =IF(A626=1,(R626/E626),IF(A626=2,0,IF(A626=3,(1.2*(-R626/E626))))) -> 1.0300813 | T626: =E626*S626 -> 725.17823 | U626: =T626+P626+O626+G626 -> 886.73463 | V626: =ABS(((+U626)*(+K626))/1000) -> 11.892175 | W626: =(($W$3*1000)-V626*1000)/1000 -> 1.5306433 | X626: =V626 -> 11.892175 | Y626: =ABS((X626*1000)/((2*PI()*N626)/60)) -> 13.360225 | Z626: 474.1423 | AA626: =(Z626*W626)/(60*60) -> 0.2015952 | AB626: =((D626-D625)/3600)*W626 -> 3.1703255e-05 | AC626: =AB626*Z626 -> 0.015031854 | AD626: =((Z626*AB626)/1000)/0.755 -> 1.9909741e-05 | AE626: =AE625+AC626 -> 25.367678
A627: 1 | B627: G | C627: 621 | D627: 54.207557 | E627: 704.00094 | F627: 0 | G627: ='Specifications (ICE)'!$E$16*9.81*SIN(F627-F626) -> 0 | H627: =RADIANS(F627) -> 0 | I627: 14 | J627: 4000 | K627: 13.4112 | L627: 30.00005 | M627: 1 | N627: =IF(M627=1,_xlfn.XLOOKUP(L627,'HYB SPECS'!$O$6:$O$37,'HYB SPECS'!$K$6:$K$37,,1)) -> 8500 | O627: =0.5*('Specifications (ICE)'!$P$4*'Specifications (ICE)'!$P$3)*'Specifications (ICE)'!$P$5*K627^2 -> 56.2176 | P627: =IF(B627="A",'Specifications (ICE)'!$M$12,IF(B627="G",'Specifications (ICE)'!$M$13)) -> 105.3388 | Q627: 1 | R627: ='HYB SPECS'!$G$11-O627-P627-G627 -> 725.17823 | S627: =IF(A627=1,(R627/E627),IF(A627=2,0,IF(A627=3,(1.2*(-R627/E627))))) -> 1.0300813 | T627: =E627*S627 -> 725.17823 | U627: =T627+P627+O627+G627 -> 886.73463 | V627: =ABS(((+U627)*(+K627))/1000) -> 11.892175 | W627: =(($W$3*1000)-V627*1000)/1000 -> 1.5306433 | X627: =V627 -> 11.892175 | Y627: =ABS((X627*1000)/((2*PI()*N627)/60)) -> 13.360225 | Z627: 474.1423 | AA627: =(Z627*W627)/(60*60) -> 0.2015952 | AB627: =((D627-D626)/3600)*W627 -> 3.1703255e-05 | AC627: =AB627*Z627 -> 0.015031854 | AD627: =((Z627*AB627)/1000)/0.755 -> 1.9909741e-05 | AE627: =AE626+AC627 -> 25.382709
A628: 1 | B628: G | C628: 622 | D628: 54.282121 | E628: 704.00094 | F628: 0 | G628: ='Specifications (ICE)'!$E$16*9.81*SIN(F628-F627) -> 0 | H628: =RADIANS(F628) -> 0 | I628: 14 | J628: 4000 | K628: 13.4112 | L628: 30.00005 | M628: 1 | N628: =IF(M628=1,_xlfn.XLOOKUP(L628,'HYB SPECS'!$O$6:$O$37,'HYB SPECS'!$K$6:$K$37,,1)) -> 8500 | O628: =0.5*('Specifications (ICE)'!$P$4*'Specifications (ICE)'!$P$3)*'Specifications (ICE)'!$P$5*K628^2 -> 56.2176 | P628: =IF(B628="A",'Specifications (ICE)'!$M$12,IF(B628="G",'Specifications (ICE)'!$M$13)) -> 105.3388 | Q628: 1 | R628: ='HYB SPECS'!$G$11-O628-P628-G628 -> 725.17823 | S628: =IF(A628=1,(R628/E628),IF(A628=2,0,IF(A628=3,(1.2*(-R628/E628))))) -> 1.0300813 | T628: =E628*S628 -> 725.17823 | U628: =T628+P628+O628+G628 -> 886.73463 | V628: =ABS(((+U628)*(+K628))/1000) -> 11.892175 | W628: =(($W$3*1000)-V628*1000)/1000 -> 1.5306433 | X628: =V628 -> 11.892175 | Y628: =ABS((X628*1000)/((2*PI()*N628)/60)) -> 13.360225 | Z628: 474.1423 | AA628: =(Z628*W628)/(60*60) -> 0.2015952 | AB628: =((D628-D627)/3600)*W628 -> 3.1703255e-05 | AC628: =AB628*Z628 -> 0.015031854 | AD628: =((Z628*AB628)/1000)/0.755 -> 1.9909741e-05 | AE628: =AE627+AC628 -> 25.397741
A629: 1 | B629: G | C629: 623 | D629: 54.356686 | E629: 704.00094 | F629: 0 | G629: ='Specifications (ICE)'!$E$16*9.81*SIN(F629-F628) -> 0 | H629: =RADIANS(F629) -> 0 | I629: 14 | J629: 4000 | K629: 13.4112 | L629: 30.00005 | M629: 1 | N629: =IF(M629=1,_xlfn.XLOOKUP(L629,'HYB SPECS'!$O$6:$O$37,'HYB SPECS'!$K$6:$K$37,,1)) -> 8500 | O629: =0.5*('Specifications (ICE)'!$P$4*'Specifications (ICE)'!$P$3)*'Specifications (ICE)'!$P$5*K629^2 -> 56.2176 | P629: =IF(B629="A",'Specifications (ICE)'!$M$12,IF(B629="G",'Specifications (ICE)'!$M$13)) -> 105.3388 | Q629: 1 | R629: ='HYB SPECS'!$G$11-O629-P629-G629 -> 725.17823 | S629: =IF(A629=1,(R629/E629),IF(A629=2,0,IF(A629=3,(1.2*(-R629/E629))))) -> 1.0300813 | T629: =E629*S629 -> 725.17823 | U629: =T629+P629+O629+G629 -> 886.73463 | V629: =ABS(((+U629)*(+K629))/1000) -> 11.892175 | W629: =(($W$3*1000)-V629*1000)/1000 -> 1.5306433 | X629: =V629 -> 11.892175 | Y629: =ABS((X629*1000)/((2*PI()*N629)/60)) -> 13.360225 | Z629: 474.1423 | AA629: =(Z629*W629)/(60*60) -> 0.2015952 | AB629: =((D629-D628)/3600)*W629 -> 3.1703255e-05 | AC629: =AB629*Z629 -> 0.015031854 | AD629: =((Z629*AB629)/1000)/0.755 -> 1.9909741e-05 | AE629: =AE628+AC629 -> 25.412773
A630: 1 | B630: G | C630: 624 | D630: 54.43125 | E630: 704.00094 | F630: 0 | G630: ='Specifications (ICE)'!$E$16*9.81*SIN(F630-F629) -> 0 | H630: =RADIANS(F630) -> 0 | I630: 14 | J630: 4000 | K630: 13.4112 | L630: 30.00005 | M630: 1 | N630: =IF(M630=1,_xlfn.XLOOKUP(L630,'HYB SPECS'!$O$6:$O$37,'HYB SPECS'!$K$6:$K$37,,1)) -> 8500 | O630: =0.5*('Specifications (ICE)'!$P$4*'Specifications (ICE)'!$P$3)*'Specifications (ICE)'!$P$5*K630^2 -> 56.2176 | P630: =IF(B630="A",'Specifications (ICE)'!$M$12,IF(B630="G",'Specifications (ICE)'!$M$13)) -> 105.3388 | Q630: 1 | R630: ='HYB SPECS'!$G$11-O630-P630-G630 -> 725.17823 | S630: =IF(A630=1,(R630/E630),IF(A630=2,0,IF(A630=3,(1.2*(-R630/E630))))) -> 1.0300813 | T630: =E630*S630 -> 725.17823 | U630: =T630+P630+O630+G630 -> 886.73463 | V630: =ABS(((+U630)*(+K630))/1000) -> 11.892175 | W630: =(($W$3*1000)-V630*1000)/1000 -> 1.5306433 | X630: =V630 -> 11.892175 | Y630: =ABS((X630*1000)/((2*PI()*N630)/60)) -> 13.360225 | Z630: 474.1423 | AA630: =(Z630*W630)/(60*60) -> 0.2015952 | AB630: =((D630-D629)/3600)*W630 -> 3.1703255e-05 | AC630: =AB630*Z630 -> 0.015031854 | AD630: =((Z630*AB630)/1000)/0.755 -> 1.9909741e-05 | AE630: =AE629+AC630 -> 25.427805
... A680: 1 | B680: G | C680: 674 | D680: 58.159477 | E680: 704.00094 | F680: -9 | G680: ='Specifications (ICE)'!$E$16*9.81*SIN(F680-F679) -> -1046.3794 | H680: =RADIANS(F680) -> -0.15707963 | I680: 14 | J680: 4000 | K680: 13.4112 | L680: 30.00005 | M680: 1 | N680: =IF(M680=1,_xlfn.XLOOKUP(L680,'HYB SPECS'!$O$6:$O$37,'HYB SPECS'!$K$6:$K$37,,1)) -> 8500 | O680: =0.5*('Specifications (ICE)'!$P$4*'Specifications (ICE)'!$P$3)*'Specifications (ICE)'!$P$5*K680^2 -> 56.2176 | P680: =IF(B680="A",'Specifications (ICE)'!$M$12,IF(B680="G",'Specifications (ICE)'!$M$13)) -> 105.3388 | Q680: 1 | R680: ='HYB SPECS'!$G$11-O680-P680-G680 -> 1771.5577 | S680: =IF(A680=1,(R680/E680),IF(A680=2,0,IF(A680=3,(1.2*(-R680/E680))))) -> 2.5164138 | T680: =E680*S680 -> 1771.5577 | U680: =T680+P680+O680+G680 -> 886.73463 | V680: =ABS(((+U680)*(+K680))/1000) -> 11.892175 | W680: =(($W$3*1000)-V680*1000)/1000 -> 1.5306433 | X680: =V680 -> 11.892175 | Y680: =ABS((X680*1000)/((2*PI()*N680)/60)) -> 13.360225 | Z680: 474.1423 | AA680: =(Z680*W680)/(60*60) -> 0.2015952 | AB680: =((D680-D679)/3600)*W680 -> 3.1703255e-05 | AC680: =AB680*Z680 -> 0.015031854 | AD680: =((Z680*AB680)/1000)/0.755 -> 1.9909741e-05 | AE680: =AE679+AC680 -> 26.179398
A681: 1 | B681: G | C681: 675 | D681: 58.234042 | E681: 704.00094 | F681: 0 | G681: 0 | H681: =RADIANS(F681) -> 0 | I681: 14 | J681: 4000 | K681: 13.4112 | L681: 30.00005 | M681: 1 | N681: =IF(M681=1,_xlfn.XLOOKUP(L681,'HYB SPECS'!$O$6:$O$37,'HYB SPECS'!$K$6:$K$37,,1)) -> 8500 | O681: =0.5*('Specifications (ICE)'!$P$4*'Specifications (ICE)'!$P$3)*'Specifications (ICE)'!$P$5*K681^2 -> 56.2176 | P681: =IF(B681="A",'Specifications (ICE)'!$M$12,IF(B681="G",'Specifications (ICE)'!$M$13)) -> 105.3388 | Q681: 1 | R681: ='HYB SPECS'!$G$11-O681-P681-G681 -> 725.17823 | S681: =IF(A681=1,(R681/E681),IF(A681=2,0,IF(A681=3,(1.2*(-R681/E681))))) -> 1.0300813 | T681: =E681*S681 -> 725.17823 | U681: =T681+P681+O681+G681 -> 886.73463 | V681: =ABS(((+U681)*(+K681))/1000) -> 11.892175 | W681: =(($W$3*1000)-V681*1000)/1000 -> 1.5306433 | X681: =V681 -> 11.892175 | Y681: =ABS((X681*1000)/((2*PI()*N681)/60)) -> 13.360225 | Z681: 474.1423 | AA681: =(Z681*W681)/(60*60) -> 0.2015952 | AB681: =((D681-D680)/3600)*W681 -> 3.1703255e-05 | AC681: =AB681*Z681 -> 0.015031854 | AD681: =((Z681*AB681)/1000)/0.755 -> 1.9909741e-05 | AE681: =AE680+AC681 -> 26.19443
A682: 1 | B682: G | C682: 676 | D682: 58.308606 | E682: 704.00094 | F682: 0 | G682: ='Specifications (ICE)'!$E$16*9.81*SIN(F682-F681) -> 0 | H682: =RADIANS(F682) -> 0 | I682: 14 | J682: 4000 | K682: 13.4112 | L682: 30.00005 | M682: 1 | N682: =IF(M682=1,_xlfn.XLOOKUP(L682,'HYB SPECS'!$O$6:$O$37,'HYB SPECS'!$K$6:$K$37,,1)) -> 8500 | O682: =0.5*('Specifications (ICE)'!$P$4*'Specifications (ICE)'!$P$3)*'Specifications (ICE)'!$P$5*K682^2 -> 56.2176 | P682: =IF(B682="A",'Specifications (ICE)'!$M$12,IF(B682="G",'Specifications (ICE)'!$M$13)) -> 105.3388 | Q682: 1 | R682: ='HYB SPECS'!$G$11-O682-P682-G682 -> 725.17823 | S682: =IF(A682=1,(R682/E682),IF(A682=2,0,IF(A682=3,(1.2*(-R682/E682))))) -> 1.0300813 | T682: =E682*S682 -> 725.17823 | U682: =T682+P682+O682+G682 -> 886.73463 | V682: =ABS(((+U682)*(+K682))/1000) -> 11.892175 | W682: =(($W$3*1000)-V682*1000)/1000 -> 1.5306433 | X682: =V682 -> 11.892175 | Y682: =ABS((X682*1000)/((2*PI()*N682)/60)) -> 13.360225 | Z682: 474.1423 | AA682: =(Z682*W682)/(60*60) -> 0.2015952 | AB682: =((D682-D681)/3600)*W682 -> 3.1703255e-05 | AC682: =AB682*Z682 -> 0.015031854 | AD682: =((Z682*AB682)/1000)/0.755 -> 1.9909741e-05 | AE682: =AE681+AC682 -> 26.209461
A683: 1 | B683: G | C683: 677 | D683: 58.383171 | E683: 704.00094 | F683: 0 | G683: ='Specifications (ICE)'!$E$16*9.81*SIN(F683-F682) -> 0 | H683: =RADIANS(F683) -> 0 | I683: 14 | J683: 4000 | K683: 13.4112 | L683: 30.00005 | M683: 1 | N683: =IF(M683=1,_xlfn.XLOOKUP(L683,'HYB SPECS'!$O$6:$O$37,'HYB SPECS'!$K$6:$K$37,,1)) -> 8500 | O683: =0.5*('Specifications (ICE)'!$P$4*'Specifications (ICE)'!$P$3)*'Specifications (ICE)'!$P$5*K683^2 -> 56.2176 | P683: =IF(B683="A",'Specifications (ICE)'!$M$12,IF(B683="G",'Specifications (ICE)'!$M$13)) -> 105.3388 | Q683: 1 | R683: ='HYB SPECS'!$G$11-O683-P683-G683 -> 725.17823 | S683: =IF(A683=1,(R683/E683),IF(A683=2,0,IF(A683=3,(1.2*(-R683/E683))))) -> 1.0300813 | T683: =E683*S683 -> 725.17823 | U683: =T683+P683+O683+G683 -> 886.73463 | V683: =ABS(((+U683)*(+K683))/1000) -> 11.892175 | W683: =(($W$3*1000)-V683*1000)/1000 -> 1.5306433 | X683: =V683 -> 11.892175 | Y683: =ABS((X683*1000)/((2*PI()*N683)/60)) -> 13.360225 | Z683: 474.1423 | AA683: =(Z683*W683)/(60*60) -> 0.2015952 | AB683: =((D683-D682)/3600)*W683 -> 3.1703255e-05 | AC683: =AB683*Z683 -> 0.015031854 | AD683: =((Z683*AB683)/1000)/0.755 -> 1.9909741e-05 | AE683: =AE682+AC683 -> 26.224493
A684: 1 | B684: G | C684: 678 | D684: 58.457735 | E684: 704.00094 | F684: 0 | G684: ='Specifications (ICE)'!$E$16*9.81*SIN(F684-F683) -> 0 | H684: =RADIANS(F684) -> 0 | I684: 14 | J684: 4000 | K684: 13.4112 | L684: 30.00005 | M684: 1 | N684: =IF(M684=1,_xlfn.XLOOKUP(L684,'HYB SPECS'!$O$6:$O$37,'HYB SPECS'!$K$6:$K$37,,1)) -> 8500 | O684: =0.5*('Specifications (ICE)'!$P$4*'Specifications (ICE)'!$P$3)*'Specifications (ICE)'!$P$5*K684^2 -> 56.2176 | P684: =IF(B684="A",'Specifications (ICE)'!$M$12,IF(B684="G",'Specifications (ICE)'!$M$13)) -> 105.3388 | Q684: 1 | R684: ='HYB SPECS'!$G$11-O684-P684-G684 -> 725.17823 | S684: =IF(A684=1,(R684/E684),IF(A684=2,0,IF(A684=3,(1.2*(-R684/E684))))) -> 1.0300813 | T684: =E684*S684 -> 725.17823 | U684: =T684+P684+O684+G684 -> 886.73463 | V684: =ABS(((+U684)*(+K684))/1000) -> 11.892175 | W684: =(($W$3*1000)-V684*1000)/1000 -> 1.5306433 | X684: =V684 -> 11.892175 | Y684: =ABS((X684*1000)/((2*PI()*N684)/60)) -> 13.360225 | Z684: 474.1423 | AA684: =(Z684*W684)/(60*60) -> 0.2015952 | AB684: =((D684-D683)/3600)*W684 -> 3.1703255e-05 | AC684: =AB684*Z684 -> 0.015031854 | AD684: =((Z684*AB684)/1000)/0.755 -> 1.9909741e-05 | AE684: =AE683+AC684 -> 26.239525
A685: 1 | B685: G | C685: 679 | D685: 58.5323 | E685: 704.00094 | F685: 0 | G685: ='Specifications (ICE)'!$E$16*9.81*SIN(F685-F684) -> 0 | H685: =RADIANS(F685) -> 0 | I685: 14 | J685: 4000 | K685: 13.4112 | L685: 30.00005 | M685: 1 | N685: =IF(M685=1,_xlfn.XLOOKUP(L685,'HYB SPECS'!$O$6:$O$37,'HYB SPECS'!$K$6:$K$37,,1)) -> 8500 | O685: =0.5*('Specifications (ICE)'!$P$4*'Specifications (ICE)'!$P$3)*'Specifications (ICE)'!$P$5*K685^2 -> 56.2176 | P685: =IF(B685="A",'Specifications (ICE)'!$M$12,IF(B685="G",'Specifications (ICE)'!$M$13)) -> 105.3388 | Q685: 1 | R685: ='HYB SPECS'!$G$11-O685-P685-G685 -> 725.17823 | S685: =IF(A685=1,(R685/E685),IF(A685=2,0,IF(A685=3,(1.2*(-R685/E685))))) -> 1.0300813 | T685: =E685*S685 -> 725.17823 | U685: =T685+P685+O685+G685 -> 886.73463 | V685: =ABS(((+U685)*(+K685))/1000) -> 11.892175 | W685: =(($W$3*1000)-V685*1000)/1000 -> 1.5306433 | X685: =V685 -> 11.892175 | Y685: =ABS((X685*1000)/((2*PI()*N685)/60)) -> 13.360225 | Z685: 474.1423 | AA685: =(Z685*W685)/(60*60) -> 0.2015952 | AB685: =((D685-D684)/3600)*W685 -> 3.1703255e-05 | AC685: =AB685*Z685 -> 0.015031854 | AD685: =((Z685*AB685)/1000)/0.755 -> 1.9909741e-05 | AE685: =AE684+AC685 -> 26.254557
A686: 1 | B686: G | C686: 680 | D686: 58.606865 | E686: 704.00094 | F686: 0 | G686: ='Specifications (ICE)'!$E$16*9.81*SIN(F686-F685) -> 0 | H686: =RADIANS(F686) -> 0 | I686: 14 | J686: 4000 | K686: 13.4112 | L686: 30.00005 | M686: 1 | N686: =IF(M686=1,_xlfn.XLOOKUP(L686,'HYB SPECS'!$O$6:$O$37,'HYB SPECS'!$K$6:$K$37,,1)) -> 8500 | O686: =0.5*('Specifications (ICE)'!$P$4*'Specifications (ICE)'!$P$3)*'Specifications (ICE)'!$P$5*K686^2 -> 56.2176 | P686: =IF(B686="A",'Specifications (ICE)'!$M$12,IF(B686="G",'Specifications (ICE)'!$M$13)) -> 105.3388 | Q686: 1 | R686: ='HYB SPECS'!$G$11-O686-P686-G686 -> 725.17823 | S686: =IF(A686=1,(R686/E686),IF(A686=2,0,IF(A686=3,(1.2*(-R686/E686))))) -> 1.0300813 | T686: =E686*S686 -> 725.17823 | U686: =T686+P686+O686+G686 -> 886.73463 | V686: =ABS(((+U686)*(+K686))/1000) -> 11.892175 | W686: =(($W$3*1000)-V686*1000)/1000 -> 1.5306433 | X686: =V686 -> 11.892175 | Y686: =ABS((X686*1000)/((2*PI()*N686)/60)) -> 13.360225 | Z686: 474.1423 | AA686: =(Z686*W686)/(60*60) -> 0.2015952 | AB686: =((D686-D685)/3600)*W686 -> 3.1703255e-05 | AC686: =AB686*Z686 -> 0.015031854 | AD686: =((Z686*AB686)/1000)/0.755 -> 1.9909741e-05 | AE686: =AE685+AC686 -> 26.269589
A687: 1 | B687: G | C687: 681 | D687: 58.681429 | E687: 704.00094 | F687: 0 | G687: ='Specifications (ICE)'!$E$16*9.81*SIN(F687-F686) -> 0 | H687: =RADIANS(F687) -> 0 | I687: 14 | J687: 4000 | K687: 13.4112 | L687: 30.00005 | M687: 1 | N687: =IF(M687=1,_xlfn.XLOOKUP(L687,'HYB SPECS'!$O$6:$O$37,'HYB SPECS'!$K$6:$K$37,,1)) -> 8500 | O687: =0.5*('Specifications (ICE)'!$P$4*'Specifications (ICE)'!$P$3)*'Specifications (ICE)'!$P$5*K687^2 -> 56.2176 | P687: =IF(B687="A",'Specifications (ICE)'!$M$12,IF(B687="G",'Specifications (ICE)'!$M$13)) -> 105.3388 | Q687: 1 | R687: ='HYB SPECS'!$G$11-O687-P687-G687 -> 725.17823 | S687: =IF(A687=1,(R687/E687),IF(A687=2,0,IF(A687=3,(1.2*(-R687/E687))))) -> 1.0300813 | T687: =E687*S687 -> 725.17823 | U687: =T687+P687+O687+G687 -> 886.73463 | V687: =ABS(((+U687)*(+K687))/1000) -> 11.892175 | W687: =(($W$3*1000)-V687*1000)/1000 -> 1.5306433 | X687: =V687 -> 11.892175 | Y687: =ABS((X687*1000)/((2*PI()*N687)/60)) -> 13.360225 | Z687: 474.1423 | AA687: =(Z687*W687)/(60*60) -> 0.2015952 | AB687: =((D687-D686)/3600)*W687 -> 3.1703255e-05 | AC687: =AB687*Z687 -> 0.015031854 | AD687: =((Z687*AB687)/1000)/0.755 -> 1.9909741e-05 | AE687: =AE686+AC687 -> 26.284621
A688: 1 | B688: G | C688: 682 | D688: 58.755994 | E688: 704.00094 | F688: 0 | G688: ='Specifications (ICE)'!$E$16*9.81*SIN(F688-F687) -> 0 | H688: =RADIANS(F688) -> 0 | I688: 14 | J688: 4000 | K688: 13.4112 | L688: 30.00005 | M688: 1 | N688: =IF(M688=1,_xlfn.XLOOKUP(L688,'HYB SPECS'!$O$6:$O$37,'HYB SPECS'!$K$6:$K$37,,1)) -> 8500 | O688: =0.5*('Specifications (ICE)'!$P$4*'Specifications (ICE)'!$P$3)*'Specifications (ICE)'!$P$5*K688^2 -> 56.2176 | P688: =IF(B688="A",'Specifications (ICE)'!$M$12,IF(B688="G",'Specifications (ICE)'!$M$13)) -> 105.3388 | Q688: 1 | R688: ='HYB SPECS'!$G$11-O688-P688-G688 -> 725.17823 | S688: =IF(A688=1,(R688/E688),IF(A688=2,0,IF(A688=3,(1.2*(-R688/E688))))) -> 1.0300813 | T688: =E688*S688 -> 725.17823 | U688: =T688+P688+O688+G688 -> 886.73463 | V688: =ABS(((+U688)*(+K688))/1000) -> 11.892175 | W688: =(($W$3*1000)-V688*1000)/1000 -> 1.5306433 | X688: =V688 -> 11.892175 | Y688: =ABS((X688*1000)/((2*PI()*N688)/60)) -> 13.360225 | Z688: 474.1423 | AA688: =(Z688*W688)/(60*60) -> 0.2015952 | AB688: =((D688-D687)/3600)*W688 -> 3.1703255e-05 | AC688: =AB688*Z688 -> 0.015031854 | AD688: =((Z688*AB688)/1000)/0.755 -> 1.9909741e-05 | AE688: =AE687+AC688 -> 26.299653
A689: 1 | B689: G | C689: 683 | D689: 58.830558 | E689: 704.00094 | F689: 0 | G689: ='Specifications (ICE)'!$E$16*9.81*SIN(F689-F688) -> 0 | H689: =RADIANS(F689) -> 0 | I689: 14 | J689: 4000 | K689: 13.4112 | L689: 30.00005 | M689: 1 | N689: =IF(M689=1,_xlfn.XLOOKUP(L689,'HYB SPECS'!$O$6:$O$37,'HYB SPECS'!$K$6:$K$37,,1)) -> 8500 | O689: =0.5*('Specifications (ICE)'!$P$4*'Specifications (ICE)'!$P$3)*'Specifications (ICE)'!$P$5*K689^2 -> 56.2176 | P689: =IF(B689="A",'Specifications (ICE)'!$M$12,IF(B689="G",'Specifications (ICE)'!$M$13)) -> 105.3388 | Q689: 1 | R689: ='HYB SPECS'!$G$11-O689-P689-G689 -> 725.17823 | S689: =IF(A689=1,(R689/E689),IF(A689=2,0,IF(A689=3,(1.2*(-R689/E689))))) -> 1.0300813 | T689: =E689*S689 -> 725.17823 | U689: =T689+P689+O689+G689 -> 886.73463 | V689: =ABS(((+U689)*(+K689))/1000) -> 11.892175 | W689: =(($W$3*1000)-V689*1000)/1000 -> 1.5306433 | X689: =V689 -> 11.892175 | Y689: =ABS((X689*1000)/((2*PI()*N689)/60)) -> 13.360225 | Z689: 474.1423 | AA689: =(Z689*W689)/(60*60) -> 0.2015952 | AB689: =((D689-D688)/3600)*W689 -> 3.1703255e-05 | AC689: =AB689*Z689 -> 0.015031854 | AD689: =((Z689*AB689)/1000)/0.755 -> 1.9909741e-05 | AE689: =AE688+AC689 -> 26.314684
A690: 1 | B690: G | C690: 684 | D690: 58.905123 | E690: 704.00094 | F690: 0 | G690: ='Specifications (ICE)'!$E$16*9.81*SIN(F690-F689) -> 0 | H690: =RADIANS(F690) -> 0 | I690: 14 | J690: 4000 | K690: 13.4112 | L690: 30.00005 | M690: 1 | N690: =IF(M690=1,_xlfn.XLOOKUP(L690,'HYB SPECS'!$O$6:$O$37,'HYB SPECS'!$K$6:$K$37,,1)) -> 8500 | O690: =0.5*('Specifications (ICE)'!$P$4*'Specifications (ICE)'!$P$3)*'Specifications (ICE)'!$P$5*K690^2 -> 56.2176 | P690: =IF(B690="A",'Specifications (ICE)'!$M$12,IF(B690="G",'Specifications (ICE)'!$M$13)) -> 105.3388 | Q690: 1 | R690: ='HYB SPECS'!$G$11-O690-P690-G690 -> 725.17823 | S690: =IF(A690=1,(R690/E690),IF(A690=2,0,IF(A690=3,(1.2*(-R690/E690))))) -> 1.0300813 | T690: =E690*S690 -> 725.17823 | U690: =T690+P690+O690+G690 -> 886.73463 | V690: =ABS(((+U690)*(+K690))/1000) -> 11.892175 | W690: =(($W$3*1000)-V690*1000)/1000 -> 1.5306433 | X690: =V690 -> 11.892175 | Y690: =ABS((X690*1000)/((2*PI()*N690)/60)) -> 13.360225 | Z690: 474.1423 | AA690: =(Z690*W690)/(60*60) -> 0.2015952 | AB690: =((D690-D689)/3600)*W690 -> 3.1703255e-05 | AC690: =AB690*Z690 -> 0.015031854 | AD690: =((Z690*AB690)/1000)/0.755 -> 1.9909741e-05 | AE690: =AE689+AC690 -> 26.329716
A691: 1 | B691: G | C691: 685 | D691: 58.979687 | E691: 704.00094 | F691: 0 | G691: ='Specifications (ICE)'!$E$16*9.81*SIN(F691-F690) -> 0 | H691: =RADIANS(F691) -> 0 | I691: 14 | J691: 4000 | K691: 13.4112 | L691: 30.00005 | M691: 1 | N691: =IF(M691=1,_xlfn.XLOOKUP(L691,'HYB SPECS'!$O$6:$O$37,'HYB SPECS'!$K$6:$K$37,,1)) -> 8500 | O691: =0.5*('Specifications (ICE)'!$P$4*'Specifications (ICE)'!$P$3)*'Specifications (ICE)'!$P$5*K691^2 -> 56.2176 | P691: =IF(B691="A",'Specifications (ICE)'!$M$12,IF(B691="G",'Specifications (ICE)'!$M$13)) -> 105.3388 | Q691: 1 | R691: ='HYB SPECS'!$G$11-O691-P691-G691 -> 725.17823 | S691: =IF(A691=1,(R691/E691),IF(A691=2,0,IF(A691=3,(1.2*(-R691/E691))))) -> 1.0300813 | T691: =E691*S691 -> 725.17823 | U691: =T691+P691+O691+G691 -> 886.73463 | V691: =ABS(((+U691)*(+K691))/1000) -> 11.892175 | W691: =(($W$3*1000)-V691*1000)/1000 -> 1.5306433 | X691: =V691 -> 11.892175 | Y691: =ABS((X691*1000)/((2*PI()*N691)/60)) -> 13.360225 | Z691: 474.1423 | AA691: =(Z691*W691)/(60*60) -> 0.2015952 | AB691: =((D691-D690)/3600)*W691 -> 3.1703255e-05 | AC691: =AB691*Z691 -> 0.015031854 | AD691: =((Z691*AB691)/1000)/0.755 -> 1.9909741e-05 | AE691: =AE690+AC691 -> 26.344748
A692: 1 | B692: G | C692: 686 | D692: 59.054252 | E692: 704.00094 | F692: 0 | G692: ='Specifications (ICE)'!$E$16*9.81*SIN(F692-F691) -> 0 | H692: =RADIANS(F692) -> 0 | I692: 14 | J692: 4000 | K692: 13.4112 | L692: 30.00005 | M692: 1 | N692: =IF(M692=1,_xlfn.XLOOKUP(L692,'HYB SPECS'!$O$6:$O$37,'HYB SPECS'!$K$6:$K$37,,1)) -> 8500 | O692: =0.5*('Specifications (ICE)'!$P$4*'Specifications (ICE)'!$P$3)*'Specifications (ICE)'!$P$5*K692^2 -> 56.2176 | P692: =IF(B692="A",'Specifications (ICE)'!$M$12,IF(B692="G",'Specifications (ICE)'!$M$13)) -> 105.3388 | Q692: 1 | R692: ='HYB SPECS'!$G$11-O692-P692-G692 -> 725.17823 | S692: =IF(A692=1,(R692/E692),IF(A692=2,0,IF(A692=3,(1.2*(-R692/E692))))) -> 1.0300813 | T692: =E692*S692 -> 725.17823 | U692: =T692+P692+O692+G692 -> 886.73463 | V692: =ABS(((+U692)*(+K692))/1000) -> 11.892175 | W692: =(($W$3*1000)-V692*1000)/1000 -> 1.5306433 | X692: =V692 -> 11.892175 | Y692: =ABS((X692*1000)/((2*PI()*N692)/60)) -> 13.360225 | Z692: 474.1423 | AA692: =(Z692*W692)/(60*60) -> 0.2015952 | AB692: =((D692-D691)/3600)*W692 -> 3.1703255e-05 | AC692: =AB692*Z692 -> 0.015031854 | AD692: =((Z692*AB692)/1000)/0.755 -> 1.9909741e-05 | AE692: =AE691+AC692 -> 26.35978
A693: 1 | B693: G | C693: 687 | D693: 59.128816 | E693: 704.00094 | F693: 0 | G693: ='Specifications (ICE)'!$E$16*9.81*SIN(F693-F692) -> 0 | H693: =RADIANS(F693) -> 0 | I693: 14 | J693: 4000 | K693: 13.4112 | L693: 30.00005 | M693: 1 | N693: =IF(M693=1,_xlfn.XLOOKUP(L693,'HYB SPECS'!$O$6:$O$37,'HYB SPECS'!$K$6:$K$37,,1)) -> 8500 | O693: =0.5*('Specifications (ICE)'!$P$4*'Specifications (ICE)'!$P$3)*'Specifications (ICE)'!$P$5*K693^2 -> 56.2176 | P693: =IF(B693="A",'Specifications (ICE)'!$M$12,IF(B693="G",'Specifications (ICE)'!$M$13)) -> 105.3388 | Q693: 1 | R693: ='HYB SPECS'!$G$11-O693-P693-G693 -> 725.17823 | S693: =IF(A693=1,(R693/E693),IF(A693=2,0,IF(A693=3,(1.2*(-R693/E693))))) -> 1.0300813 | T693: =E693*S693 -> 725.17823 | U693: =T693+P693+O693+G693 -> 886.73463 | V693: =ABS(((+U693)*(+K693))/1000) -> 11.892175 | W693: =(($W$3*1000)-V693*1000)/1000 -> 1.5306433 | X693: =V693 -> 11.892175 | Y693: =ABS((X693*1000)/((2*PI()*N693)/60)) -> 13.360225 | Z693: 474.1423 | AA693: =(Z693*W693)/(60*60) -> 0.2015952 | AB693: =((D693-D692)/3600)*W693 -> 3.1703255e-05 | AC693: =AB693*Z693 -> 0.015031854 | AD693: =((Z693*AB693)/1000)/0.755 -> 1.9909741e-05 | AE693: =AE692+AC693 -> 26.374812
... A895: 2 | B895: G | C895: 889 | D895: 74.190854 | E895: 704.00094 | F895: -11 | G895: ='Specifications (ICE)'!$E$16*9.81*SIN(F895-F894) -> -1046.3794 | H895: =RADIANS(F895) -> -0.19198622 | I895: 14 | J895: 4000 | K895: 13.4112 | L895: 30.00005 | M895: 1 | N895: =IF(M895=1,_xlfn.XLOOKUP(L895,'HYB SPECS'!$O$6:$O$37,'HYB SPECS'!$K$6:$K$37,,1)) -> 8500 | O895: =0.5*('Specifications (ICE)'!$P$4*'Specifications (ICE)'!$P$3)*'Specifications (ICE)'!$P$5*K895^2 -> 56.2176 | P895: =IF(B895="A",'Specifications (ICE)'!$M$12,IF(B895="G",'Specifications (ICE)'!$M$13)) -> 105.3388 | Q895: 2 | R895: ='HYB SPECS'!$G$11-O895-P895-G895 -> 1771.5577 | S895: =IF(A895=1,(R895/E895),IF(A895=2,0,IF(A895=3,(1.2*(-R895/E895))))) -> 0 | T895: =E895*S895 -> 0 | U895: =T895+P895+O895+G895 -> -884.82304 | V895: =ABS(((+U895)*(+K895))/1000) -> 11.866539 | W895: =(($W$3*1000)-V895*1000)/1000 -> 1.5562801 | X895: =V895 -> 11.866539 | Y895: =ABS((X895*1000)/((2*PI()*N895)/60)) -> 13.331423 | Z895: 474.1423 | AA895: =(Z895*W895)/(60*60) -> 0.20497173 | AB895: =((D895-D894)/3600)*W895 -> 3.2234254e-05 | AC895: =AB895*Z895 -> 0.015283623 | AD895: =((Z895*AB895)/1000)/0.755 -> 2.024321e-05 | AE895: =AE894+AC895 -> 39.358182
A896: 2 | B896: G | C896: 890 | D896: 74.265419 | E896: 704.00094 | F896: 0 | G896: 0 | H896: =RADIANS(F896) -> 0 | I896: 14 | J896: 4000 | K896: 13.4112 | L896: 30.00005 | M896: 1 | N896: =IF(M896=1,_xlfn.XLOOKUP(L896,'HYB SPECS'!$O$6:$O$37,'HYB SPECS'!$K$6:$K$37,,1)) -> 8500 | O896: =0.5*('Specifications (ICE)'!$P$4*'Specifications (ICE)'!$P$3)*'Specifications (ICE)'!$P$5*K896^2 -> 56.2176 | P896: =IF(B896="A",'Specifications (ICE)'!$M$12,IF(B896="G",'Specifications (ICE)'!$M$13)) -> 105.3388 | Q896: 2 | R896: ='HYB SPECS'!$G$11-O896-P896-G896 -> 725.17823 | S896: =IF(A896=1,(R896/E896),IF(A896=2,0,IF(A896=3,(1.2*(-R896/E896))))) -> 0 | T896: =E896*S896 -> 0 | U896: =T896+P896+O896+G896 -> 161.5564 | V896: =ABS(((+U896)*(+K896))/1000) -> 2.1666652 | W896: =(($W$3*1000)-V896*1000)/1000 -> 11.256154 | X896: =V896 -> 2.1666652 | Y896: =ABS((X896*1000)/((2*PI()*N896)/60)) -> 2.4341328 | Z896: 474.1423 | AA896: =(Z896*W896)/(60*60) -> 1.4825052 | AB896: =((D896-D895)/3600)*W896 -> 0.00023314165 | AC896: =AB896*Z896 -> 0.11054232 | AD896: =((Z896*AB896)/1000)/0.755 -> 0.00014641367 | AE896: =AE895+AC896 -> 39.468724
A897: 2 | B897: G | C897: 891 | D897: 74.339983 | E897: 704.00094 | F897: 0 | G897: ='Specifications (ICE)'!$E$16*9.81*SIN(F897-F896) -> 0 | H897: =RADIANS(F897) -> 0 | I897: 14 | J897: 4000 | K897: 13.4112 | L897: 30.00005 | M897: 1 | N897: =IF(M897=1,_xlfn.XLOOKUP(L897,'HYB SPECS'!$O$6:$O$37,'HYB SPECS'!$K$6:$K$37,,1)) -> 8500 | O897: =0.5*('Specifications (ICE)'!$P$4*'Specifications (ICE)'!$P$3)*'Specifications (ICE)'!$P$5*K897^2 -> 56.2176 | P897: =IF(B897="A",'Specifications (ICE)'!$M$12,IF(B897="G",'Specifications (ICE)'!$M$13)) -> 105.3388 | Q897: 2 | R897: ='HYB SPECS'!$G$11-O897-P897-G897 -> 725.17823 | S897: =IF(A897=1,(R897/E897),IF(A897=2,0,IF(A897=3,(1.2*(-R897/E897))))) -> 0 | T897: =E897*S897 -> 0 | U897: =T897+P897+O897+G897 -> 161.5564 | V897: =ABS(((+U897)*(+K897))/1000) -> 2.1666652 | W897: =(($W$3*1000)-V897*1000)/1000 -> 11.256154 | X897: =V897 -> 2.1666652 | Y897: =ABS((X897*1000)/((2*PI()*N897)/60)) -> 2.4341328 | Z897: 474.1423 | AA897: =(Z897*W897)/(60*60) -> 1.4825052 | AB897: =((D897-D896)/3600)*W897 -> 0.00023314165 | AC897: =AB897*Z897 -> 0.11054232 | AD897: =((Z897*AB897)/1000)/0.755 -> 0.00014641367 | AE897: =AE896+AC897 -> 39.579267
A898: 2 | B898: G | C898: 892 | D898: 74.414548 | E898: 704.00094 | F898: 0 | G898: ='Specifications (ICE)'!$E$16*9.81*SIN(F898-F897) -> 0 | H898: =RADIANS(F898) -> 0 | I898: 14 | J898: 4000 | K898: 13.4112 | L898: 30.00005 | M898: 1 | N898: =IF(M898=1,_xlfn.XLOOKUP(L898,'HYB SPECS'!$O$6:$O$37,'HYB SPECS'!$K$6:$K$37,,1)) -> 8500 | O898: =0.5*('Specifications (ICE)'!$P$4*'Specifications (ICE)'!$P$3)*'Specifications (ICE)'!$P$5*K898^2 -> 56.2176 | P898: =IF(B898="A",'Specifications (ICE)'!$M$12,IF(B898="G",'Specifications (ICE)'!$M$13)) -> 105.3388 | Q898: 2 | R898: ='HYB SPECS'!$G$11-O898-P898-G898 -> 725.17823 | S898: =IF(A898=1,(R898/E898),IF(A898=2,0,IF(A898=3,(1.2*(-R898/E898))))) -> 0 | T898: =E898*S898 -> 0 | U898: =T898+P898+O898+G898 -> 161.5564 | V898: =ABS(((+U898)*(+K898))/1000) -> 2.1666652 | W898: =(($W$3*1000)-V898*1000)/1000 -> 11.256154 | X898: =V898 -> 2.1666652 | Y898: =ABS((X898*1000)/((2*PI()*N898)/60)) -> 2.4341328 | Z898: 474.1423 | AA898: =(Z898*W898)/(60*60) -> 1.4825052 | AB898: =((D898-D897)/3600)*W898 -> 0.00023314165 | AC898: =AB898*Z898 -> 0.11054232 | AD898: =((Z898*AB898)/1000)/0.755 -> 0.00014641367 | AE898: =AE897+AC898 -> 39.689809
A899: 2 | B899: G | C899: 893 | D899: 74.489112 | E899: 704.00094 | F899: 0 | G899: ='Specifications (ICE)'!$E$16*9.81*SIN(F899-F898) -> 0 | H899: =RADIANS(F899) -> 0 | I899: 14 | J899: 4000 | K899: 13.4112 | L899: 30.00005 | M899: 1 | N899: =IF(M899=1,_xlfn.XLOOKUP(L899,'HYB SPECS'!$O$6:$O$37,'HYB SPECS'!$K$6:$K$37,,1)) -> 8500 | O899: =0.5*('Specifications (ICE)'!$P$4*'Specifications (ICE)'!$P$3)*'Specifications (ICE)'!$P$5*K899^2 -> 56.2176 | P899: =IF(B899="A",'Specifications (ICE)'!$M$12,IF(B899="G",'Specifications (ICE)'!$M$13)) -> 105.3388 | Q899: 2 | R899: ='HYB SPECS'!$G$11-O899-P899-G899 -> 725.17823 | S899: =IF(A899=1,(R899/E899),IF(A899=2,0,IF(A899=3,(1.2*(-R899/E899))))) -> 0 | T899: =E899*S899 -> 0 | U899: =T899+P899+O899+G899 -> 161.5564 | V899: =ABS(((+U899)*(+K899))/1000) -> 2.1666652 | W899: =(($W$3*1000)-V899*1000)/1000 -> 11.256154 | X899: =V899 -> 2.1666652 | Y899: =ABS((X899*1000)/((2*PI()*N899)/60)) -> 2.4341328 | Z899: 474.1423 | AA899: =(Z899*W899)/(60*60) -> 1.4825052 | AB899: =((D899-D898)/3600)*W899 -> 0.00023314165 | AC899: =AB899*Z899 -> 0.11054232 | AD899: =((Z899*AB899)/1000)/0.755 -> 0.00014641367 | AE899: =AE898+AC899 -> 39.800351
A900: 2 | B900: G | C900: 894 | D900: 74.563677 | E900: 704.00094 | F900: 0 | G900: ='Specifications (ICE)'!$E$16*9.81*SIN(F900-F899) -> 0 | H900: =RADIANS(F900) -> 0 | I900: 14 | J900: 4000 | K900: 13.4112 | L900: 30.00005 | M900: 1 | N900: =IF(M900=1,_xlfn.XLOOKUP(L900,'HYB SPECS'!$O$6:$O$37,'HYB SPECS'!$K$6:$K$37,,1)) -> 8500 | O900: =0.5*('Specifications (ICE)'!$P$4*'Specifications (ICE)'!$P$3)*'Specifications (ICE)'!$P$5*K900^2 -> 56.2176 | P900: =IF(B900="A",'Specifications (ICE)'!$M$12,IF(B900="G",'Specifications (ICE)'!$M$13)) -> 105.3388 | Q900: 2 | R900: ='HYB SPECS'!$G$11-O900-P900-G900 -> 725.17823 | S900: =IF(A900=1,(R900/E900),IF(A900=2,0,IF(A900=3,(1.2*(-R900/E900))))) -> 0 | T900: =E900*S900 -> 0 | U900: =T900+P900+O900+G900 -> 161.5564 | V900: =ABS(((+U900)*(+K900))/1000) -> 2.1666652 | W900: =(($W$3*1000)-V900*1000)/1000 -> 11.256154 | X900: =V900 -> 2.1666652 | Y900: =ABS((X900*1000)/((2*PI()*N900)/60)) -> 2.4341328 | Z900: 474.1423 | AA900: =(Z900*W900)/(60*60) -> 1.4825052 | AB900: =((D900-D899)/3600)*W900 -> 0.00023314165 | AC900: =AB900*Z900 -> 0.11054232 | AD900: =((Z900*AB900)/1000)/0.755 -> 0.00014641367 | AE900: =AE899+AC900 -> 39.910894
A901: 2 | B901: G | C901: 895 | D901: 74.638241 | E901: 704.00094 | F901: 0 | G901: ='Specifications (ICE)'!$E$16*9.81*SIN(F901-F900) -> 0 | H901: =RADIANS(F901) -> 0 | I901: 14 | J901: 4000 | K901: 13.4112 | L901: 30.00005 | M901: 1 | N901: =IF(M901=1,_xlfn.XLOOKUP(L901,'HYB SPECS'!$O$6:$O$37,'HYB SPECS'!$K$6:$K$37,,1)) -> 8500 | O901: =0.5*('Specifications (ICE)'!$P$4*'Specifications (ICE)'!$P$3)*'Specifications (ICE)'!$P$5*K901^2 -> 56.2176 | P901: =IF(B901="A",'Specifications (ICE)'!$M$12,IF(B901="G",'Specifications (ICE)'!$M$13)) -> 105.3388 | Q901: 2 | R901: ='HYB SPECS'!$G$11-O901-P901-G901 -> 725.17823 | S901: =IF(A901=1,(R901/E901),IF(A901=2,0,IF(A901=3,(1.2*(-R901/E901))))) -> 0 | T901: =E901*S901 -> 0 | U901: =T901+P901+O901+G901 -> 161.5564 | V901: =ABS(((+U901)*(+K901))/1000) -> 2.1666652 | W901: =(($W$3*1000)-V901*1000)/1000 -> 11.256154 | X901: =V901 -> 2.1666652 | Y901: =ABS((X901*1000)/((2*PI()*N901)/60)) -> 2.4341328 | Z901: 474.1423 | AA901: =(Z901*W901)/(60*60) -> 1.4825052 | AB901: =((D901-D900)/3600)*W901 -> 0.00023314165 | AC901: =AB901*Z901 -> 0.11054232 | AD901: =((Z901*AB901)/1000)/0.755 -> 0.00014641367 | AE901: =AE900+AC901 -> 40.021436
A902: 2 | B902: G | C902: 896 | D902: 74.712806 | E902: 704.00094 | F902: 0 | G902: ='Specifications (ICE)'!$E$16*9.81*SIN(F902-F901) -> 0 | H902: =RADIANS(F902) -> 0 | I902: 14 | J902: 4000 | K902: 13.4112 | L902: 30.00005 | M902: 1 | N902: =IF(M902=1,_xlfn.XLOOKUP(L902,'HYB SPECS'!$O$6:$O$37,'HYB SPECS'!$K$6:$K$37,,1)) -> 8500 | O902: =0.5*('Specifications (ICE)'!$P$4*'Specifications (ICE)'!$P$3)*'Specifications (ICE)'!$P$5*K902^2 -> 56.2176 | P902: =IF(B902="A",'Specifications (ICE)'!$M$12,IF(B902="G",'Specifications (ICE)'!$M$13)) -> 105.3388 | Q902: 2 | R902: ='HYB SPECS'!$G$11-O902-P902-G902 -> 725.17823 | S902: =IF(A902=1,(R902/E902),IF(A902=2,0,IF(A902=3,(1.2*(-R902/E902))))) -> 0 | T902: =E902*S902 -> 0 | U902: =T902+P902+O902+G902 -> 161.5564 | V902: =ABS(((+U902)*(+K902))/1000) -> 2.1666652 | W902: =(($W$3*1000)-V902*1000)/1000 -> 11.256154 | X902: =V902 -> 2.1666652 | Y902: =ABS((X902*1000)/((2*PI()*N902)/60)) -> 2.4341328 | Z902: 474.1423 | AA902: =(Z902*W902)/(60*60) -> 1.4825052 | AB902: =((D902-D901)/3600)*W902 -> 0.00023314165 | AC902: =AB902*Z902 -> 0.11054232 | AD902: =((Z902*AB902)/1000)/0.755 -> 0.00014641367 | AE902: =AE901+AC902 -> 40.131978
A903: 2 | B903: G | C903: 897 | D903: 74.78737 | E903: 704.00094 | F903: 0 | G903: ='Specifications (ICE)'!$E$16*9.81*SIN(F903-F902) -> 0 | H903: =RADIANS(F903) -> 0 | I903: 14 | J903: 4000 | K903: 13.4112 | L903: 30.00005 | M903: 1 | N903: =IF(M903=1,_xlfn.XLOOKUP(L903,'HYB SPECS'!$O$6:$O$37,'HYB SPECS'!$K$6:$K$37,,1)) -> 8500 | O903: =0.5*('Specifications (ICE)'!$P$4*'Specifications (ICE)'!$P$3)*'Specifications (ICE)'!$P$5*K903^2 -> 56.2176 | P903: =IF(B903="A",'Specifications (ICE)'!$M$12,IF(B903="G",'Specifications (ICE)'!$M$13)) -> 105.3388 | Q903: 2 | R903: ='HYB SPECS'!$G$11-O903-P903-G903 -> 725.17823 | S903: =IF(A903=1,(R903/E903),IF(A903=2,0,IF(A903=3,(1.2*(-R903/E903))))) -> 0 | T903: =E903*S903 -> 0 | U903: =T903+P903+O903+G903 -> 161.5564 | V903: =ABS(((+U903)*(+K903))/1000) -> 2.1666652 | W903: =(($W$3*1000)-V903*1000)/1000 -> 11.256154 | X903: =V903 -> 2.1666652 | Y903: =ABS((X903*1000)/((2*PI()*N903)/60)) -> 2.4341328 | Z903: 474.1423 | AA903: =(Z903*W903)/(60*60) -> 1.4825052 | AB903: =((D903-D902)/3600)*W903 -> 0.00023314165 | AC903: =AB903*Z903 -> 0.11054232 | AD903: =((Z903*AB903)/1000)/0.755 -> 0.00014641367 | AE903: =AE902+AC903 -> 40.242521
A904: 2 | B904: G | C904: 898 | D904: 74.861935 | E904: 704.00094 | F904: 0 | G904: ='Specifications (ICE)'!$E$16*9.81*SIN(F904-F903) -> 0 | H904: =RADIANS(F904) -> 0 | I904: 14 | J904: 4000 | K904: 13.4112 | L904: 30.00005 | M904: 1 | N904: =IF(M904=1,_xlfn.XLOOKUP(L904,'HYB SPECS'!$O$6:$O$37,'HYB SPECS'!$K$6:$K$37,,1)) -> 8500 | O904: =0.5*('Specifications (ICE)'!$P$4*'Specifications (ICE)'!$P$3)*'Specifications (ICE)'!$P$5*K904^2 -> 56.2176 | P904: =IF(B904="A",'Specifications (ICE)'!$M$12,IF(B904="G",'Specifications (ICE)'!$M$13)) -> 105.3388 | Q904: 2 | R904: ='HYB SPECS'!$G$11-O904-P904-G904 -> 725.17823 | S904: =IF(A904=1,(R904/E904),IF(A904=2,0,IF(A904=3,(1.2*(-R904/E904))))) -> 0 | T904: =E904*S904 -> 0 | U904: =T904+P904+O904+G904 -> 161.5564 | V904: =ABS(((+U904)*(+K904))/1000) -> 2.1666652 | W904: =(($W$3*1000)-V904*1000)/1000 -> 11.256154 | X904: =V904 -> 2.1666652 | Y904: =ABS((X904*1000)/((2*PI()*N904)/60)) -> 2.4341328 | Z904: 474.1423 | AA904: =(Z904*W904)/(60*60) -> 1.4825052 | AB904: =((D904-D903)/3600)*W904 -> 0.00023314165 | AC904: =AB904*Z904 -> 0.11054232 | AD904: =((Z904*AB904)/1000)/0.755 -> 0.00014641367 | AE904: =AE903+AC904 -> 40.353063
A905: 2 | B905: G | C905: 899 | D905: 74.936499 | E905: 704.00094 | F905: 0 | G905: ='Specifications (ICE)'!$E$16*9.81*SIN(F905-F904) -> 0 | H905: =RADIANS(F905) -> 0 | I905: 14 | J905: 4000 | K905: 13.4112 | L905: 30.00005 | M905: 1 | N905: =IF(M905=1,_xlfn.XLOOKUP(L905,'HYB SPECS'!$O$6:$O$37,'HYB SPECS'!$K$6:$K$37,,1)) -> 8500 | O905: =0.5*('Specifications (ICE)'!$P$4*'Specifications (ICE)'!$P$3)*'Specifications (ICE)'!$P$5*K905^2 -> 56.2176 | P905: =IF(B905="A",'Specifications (ICE)'!$M$12,IF(B905="G",'Specifications (ICE)'!$M$13)) -> 105.3388 | Q905: 2 | R905: ='HYB SPECS'!$G$11-O905-P905-G905 -> 725.17823 | S905: =IF(A905=1,(R905/E905),IF(A905=2,0,IF(A905=3,(1.2*(-R905/E905))))) -> 0 | T905: =E905*S905 -> 0 | U905: =T905+P905+O905+G905 -> 161.5564 | V905: =ABS(((+U905)*(+K905))/1000) -> 2.1666652 | W905: =(($W$3*1000)-V905*1000)/1000 -> 11.256154 | X905: =V905 -> 2.1666652 | Y905: =ABS((X905*1000)/((2*PI()*N905)/60)) -> 2.4341328 | Z905: 474.1423 | AA905: =(Z905*W905)/(60*60) -> 1.4825052 | AB905: =((D905-D904)/3600)*W905 -> 0.00023314165 | AC905: =AB905*Z905 -> 0.11054232 | AD905: =((Z905*AB905)/1000)/0.755 -> 0.00014641367 | AE905: =AE904+AC905 -> 40.463605
A906: 2 | B906: G | C906: 900 | D906: 75.011064 | E906: 704.00094 | F906: 0 | G906: ='Specifications (ICE)'!$E$16*9.81*SIN(F906-F905) -> 0 | H906: =RADIANS(F906) -> 0 | I906: 14 | J906: 4000 | K906: 13.4112 | L906: 30.00005 | M906: 1 | N906: =IF(M906=1,_xlfn.XLOOKUP(L906,'HYB SPECS'!$O$6:$O$37,'HYB SPECS'!$K$6:$K$37,,1)) -> 8500 | O906: =0.5*('Specifications (ICE)'!$P$4*'Specifications (ICE)'!$P$3)*'Specifications (ICE)'!$P$5*K906^2 -> 56.2176 | P906: =IF(B906="A",'Specifications (ICE)'!$M$12,IF(B906="G",'Specifications (ICE)'!$M$13)) -> 105.3388 | Q906: 2 | R906: ='HYB SPECS'!$G$11-O906-P906-G906 -> 725.17823 | S906: =IF(A906=1,(R906/E906),IF(A906=2,0,IF(A906=3,(1.2*(-R906/E906))))) -> 0 | T906: =E906*S906 -> 0 | U906: =T906+P906+O906+G906 -> 161.5564 | V906: =ABS(((+U906)*(+K906))/1000) -> 2.1666652 | W906: =(($W$3*1000)-V906*1000)/1000 -> 11.256154 | X906: =V906 -> 2.1666652 | Y906: =ABS((X906*1000)/((2*PI()*N906)/60)) -> 2.4341328 | Z906: 474.1423 | AA906: =(Z906*W906)/(60*60) -> 1.4825052 | AB906: =((D906-D905)/3600)*W906 -> 0.00023314165 | AC906: =AB906*Z906 -> 0.11054232 | AD906: =((Z906*AB906)/1000)/0.755 -> 0.00014641367 | AE906: =AE905+AC906 -> 40.574148
A907: 2 | B907: G | C907: 901 | D907: 75.085629 | E907: 704.00094 | F907: 0 | G907: ='Specifications (ICE)'!$E$16*9.81*SIN(F907-F906) -> 0 | H907: =RADIANS(F907) -> 0 | I907: 14 | J907: 4000 | K907: 13.4112 | L907: 30.00005 | M907: 1 | N907: =IF(M907=1,_xlfn.XLOOKUP(L907,'HYB SPECS'!$O$6:$O$37,'HYB SPECS'!$K$6:$K$37,,1)) -> 8500 | O907: =0.5*('Specifications (ICE)'!$P$4*'Specifications (ICE)'!$P$3)*'Specifications (ICE)'!$P$5*K907^2 -> 56.2176 | P907: =IF(B907="A",'Specifications (ICE)'!$M$12,IF(B907="G",'Specifications (ICE)'!$M$13)) -> 105.3388 | Q907: 2 | R907: ='HYB SPECS'!$G$11-O907-P907-G907 -> 725.17823 | S907: =IF(A907=1,(R907/E907),IF(A907=2,0,IF(A907=3,(1.2*(-R907/E907))))) -> 0 | T907: =E907*S907 -> 0 | U907: =T907+P907+O907+G907 -> 161.5564 | V907: =ABS(((+U907)*(+K907))/1000) -> 2.1666652 | W907: =(($W$3*1000)-V907*1000)/1000 -> 11.256154 | X907: =V907 -> 2.1666652 | Y907: =ABS((X907*1000)/((2*PI()*N907)/60)) -> 2.4341328 | Z907: 474.1423 | AA907: =(Z907*W907)/(60*60) -> 1.4825052 | AB907: =((D907-D906)/3600)*W907 -> 0.00023314165 | AC907: =AB907*Z907 -> 0.11054232 | AD907: =((Z907*AB907)/1000)/0.755 -> 0.00014641367 | AE907: =AE906+AC907 -> 40.68469
A908: 2 | B908: G | C908: 902 | D908: 75.160193 | E908: 704.00094 | F908: 0 | G908: ='Specifications (ICE)'!$E$16*9.81*SIN(F908-F907) -> 0 | H908: =RADIANS(F908) -> 0 | I908: 14 | J908: 4000 | K908: 13.4112 | L908: 30.00005 | M908: 1 | N908: =IF(M908=1,_xlfn.XLOOKUP(L908,'HYB SPECS'!$O$6:$O$37,'HYB SPECS'!$K$6:$K$37,,1)) -> 8500 | O908: =0.5*('Specifications (ICE)'!$P$4*'Specifications (ICE)'!$P$3)*'Specifications (ICE)'!$P$5*K908^2 -> 56.2176 | P908: =IF(B908="A",'Specifications (ICE)'!$M$12,IF(B908="G",'Specifications (ICE)'!$M$13)) -> 105.3388 | Q908: 2 | R908: ='HYB SPECS'!$G$11-O908-P908-G908 -> 725.17823 | S908: =IF(A908=1,(R908/E908),IF(A908=2,0,IF(A908=3,(1.2*(-R908/E908))))) -> 0 | T908: =E908*S908 -> 0 | U908: =T908+P908+O908+G908 -> 161.5564 | V908: =ABS(((+U908)*(+K908))/1000) -> 2.1666652 | W908: =(($W$3*1000)-V908*1000)/1000 -> 11.256154 | X908: =V908 -> 2.1666652 | Y908: =ABS((X908*1000)/((2*PI()*N908)/60)) -> 2.4341328 | Z908: 474.1423 | AA908: =(Z908*W908)/(60*60) -> 1.4825052 | AB908: =((D908-D907)/3600)*W908 -> 0.00023314165 | AC908: =AB908*Z908 -> 0.11054232 | AD908: =((Z908*AB908)/1000)/0.755 -> 0.00014641367 | AE908: =AE907+AC908 -> 40.795232
... A1356: 1 | B1356: A | C1356: 1350 | D1356: 116.30475 | E1356: 704.00094 | F1356: 0 | G1356: ='Specifications (ICE)'!$E$16*9.81*SIN(F1356-F1355) -> 0 | H1356: =RADIANS(F1356) -> 0 | I1356: 14 | J1356: 4000 | K1356: 13.4112 | L1356: 30.00005 | M1356: 1 | N1356: =IF(M1356=1,_xlfn.XLOOKUP(L1356,'HYB SPECS'!$O$6:$O$37,'HYB SPECS'!$K$6:$K$37,,1)) -> 8500 | O1356: =0.5*('Specifications (ICE)'!$P$4*'Specifications (ICE)'!$P$3)*'Specifications (ICE)'!$P$5*K1356^2 -> 56.2176 | P1356: =IF(B1356="A",'Specifications (ICE)'!$M$12,IF(B1356="G",'Specifications (ICE)'!$M$13)) -> 84.271039 | Q1356: 1 | R1356: ='HYB SPECS'!$G$11-O1356-P1356-G1356 -> 746.24599 | S1356: =IF(A1356=1,(R1356/E1356),IF(A1356=2,0,IF(A1356=3,(1.2*(-R1356/E1356))))) -> 1.0600071 | T1356: =E1356*S1356 -> 746.24599 | U1356: =T1356+P1356+O1356+G1356 -> 886.73463 | V1356: =ABS(((+U1356)*(+K1356))/1000) -> 11.892175 | W1356: =(($W$3*1000)-V1356*1000)/1000 -> 1.5306433 | X1356: =V1356 -> 11.892175 | Y1356: =ABS((X1356*1000)/((2*PI()*N1356)/60)) -> 13.360225 | Z1356: 474.1423 | AA1356: =(Z1356*W1356)/(60*60) -> 0.2015952 | AB1356: =((D1356-D1355)/3600)*W1356 -> 3.1703255e-05 | AC1356: =AB1356*Z1356 -> 0.015031854 | AD1356: =((Z1356*AB1356)/1000)/0.755 -> 1.9909741e-05 | AE1356: =AE1355+AC1356 -> 71.532665
A1357: 1 | B1357: A | C1357: =C1356+1 -> 1351 | D1357: 116.37932 | E1357: 704.00094 | F1357: 0 | G1357: ='Specifications (ICE)'!$E$16*9.81*SIN(F1357-F1356) -> 0 | H1357: =RADIANS(F1357) -> 0 | I1357: 14 | J1357: 4000 | K1357: 13.4112 | L1357: 30.00005 | M1357: 1 | N1357: =IF(M1357=1,_xlfn.XLOOKUP(L1357,'HYB SPECS'!$O$6:$O$37,'HYB SPECS'!$K$6:$K$37,,1)) -> 8500 | O1357: =0.5*('Specifications (ICE)'!$P$4*'Specifications (ICE)'!$P$3)*'Specifications (ICE)'!$P$5*K1357^2 -> 56.2176 | P1357: =IF(B1357="A",'Specifications (ICE)'!$M$12,IF(B1357="G",'Specifications (ICE)'!$M$13)) -> 84.271039 | Q1357: 1 | R1357: ='HYB SPECS'!$G$11-O1357-P1357-G1357 -> 746.24599 | S1357: =IF(A1357=1,(R1357/E1357),IF(A1357=2,0,IF(A1357=3,(1.2*(-R1357/E1357))))) -> 1.0600071 | T1357: =E1357*S1357 -> 746.24599 | U1357: =T1357+P1357+O1357+G1357 -> 886.73463 | V1357: =ABS(((+U1357)*(+K1357))/1000) -> 11.892175 | W1357: =(($W$3*1000)-V1357*1000)/1000 -> 1.5306433 | X1357: =V1357 -> 11.892175 | Y1357: =ABS((X1357*1000)/((2*PI()*N1357)/60)) -> 13.360225 | Z1357: 474.1423 | AA1357: =(Z1357*W1357)/(60*60) -> 0.2015952 | AB1357: =((D1357-D1356)/3600)*W1357 -> 3.1703255e-05 | AC1357: =AB1357*Z1357 -> 0.015031854 | AD1357: =((Z1357*AB1357)/1000)/0.755 -> 1.9909741e-05 | AE1357: =AE1356+AC1357 -> 71.547697
A1358: 1 | B1358: A | C1358: =C1357+1 -> 1352 | D1358: 116.45388 | E1358: 704.00094 | F1358: 0 | G1358: ='Specifications (ICE)'!$E$16*9.81*SIN(F1358-F1357) -> 0 | H1358: =RADIANS(F1358) -> 0 | I1358: 14 | J1358: 4000 | K1358: 13.4112 | L1358: 30.00005 | M1358: 1 | N1358: =IF(M1358=1,_xlfn.XLOOKUP(L1358,'HYB SPECS'!$O$6:$O$37,'HYB SPECS'!$K$6:$K$37,,1)) -> 8500 | O1358: =0.5*('Specifications (ICE)'!$P$4*'Specifications (ICE)'!$P$3)*'Specifications (ICE)'!$P$5*K1358^2 -> 56.2176 | P1358: =IF(B1358="A",'Specifications (ICE)'!$M$12,IF(B1358="G",'Specifications (ICE)'!$M$13)) -> 84.271039 | Q1358: 1 | R1358: ='HYB SPECS'!$G$11-O1358-P1358-G1358 -> 746.24599 | S1358: =IF(A1358=1,(R1358/E1358),IF(A1358=2,0,IF(A1358=3,(1.2*(-R1358/E1358))))) -> 1.0600071 | T1358: =E1358*S1358 -> 746.24599 | U1358: =T1358+P1358+O1358+G1358 -> 886.73463 | V1358: =ABS(((+U1358)*(+K1358))/1000) -> 11.892175 | W1358: =(($W$3*1000)-V1358*1000)/1000 -> 1.5306433 | X1358: =V1358 -> 11.892175 | Y1358: =ABS((X1358*1000)/((2*PI()*N1358)/60)) -> 13.360225 | Z1358: 474.1423 | AA1358: =(Z1358*W1358)/(60*60) -> 0.2015952 | AB1358: =((D1358-D1357)/3600)*W1358 -> 3.1703255e-05 | AC1358: =AB1358*Z1358 -> 0.015031854 | AD1358: =((Z1358*AB1358)/1000)/0.755 -> 1.9909741e-05 | AE1358: =AE1357+AC1358 -> 71.562729
A1359: 1 | B1359: A | C1359: =C1358+1 -> 1353 | D1359: 116.52845 | E1359: 704.00094 | F1359: 0 | G1359: ='Specifications (ICE)'!$E$16*9.81*SIN(F1359-F1358) -> 0 | H1359: =RADIANS(F1359) -> 0 | I1359: 14 | J1359: 4000 | K1359: 13.4112 | L1359: 30.00005 | M1359: 1 | N1359: =IF(M1359=1,_xlfn.XLOOKUP(L1359,'HYB SPECS'!$O$6:$O$37,'HYB SPECS'!$K$6:$K$37,,1)) -> 8500 | O1359: =0.5*('Specifications (ICE)'!$P$4*'Specifications (ICE)'!$P$3)*'Specifications (ICE)'!$P$5*K1359^2 -> 56.2176 | P1359: =IF(B1359="A",'Specifications (ICE)'!$M$12,IF(B1359="G",'Specifications (ICE)'!$M$13)) -> 84.271039 | Q1359: 1 | R1359: ='HYB SPECS'!$G$11-O1359-P1359-G1359 -> 746.24599 | S1359: =IF(A1359=1,(R1359/E1359),IF(A1359=2,0,IF(A1359=3,(1.2*(-R1359/E1359))))) -> 1.0600071 | T1359: =E1359*S1359 -> 746.24599 | U1359: =T1359+P1359+O1359+G1359 -> 886.73463 | V1359: =ABS(((+U1359)*(+K1359))/1000) -> 11.892175 | W1359: =(($W$3*1000)-V1359*1000)/1000 -> 1.5306433 | X1359: =V1359 -> 11.892175 | Y1359: =ABS((X1359*1000)/((2*PI()*N1359)/60)) -> 13.360225 | Z1359: 474.1423 | AA1359: =(Z1359*W1359)/(60*60) -> 0.2015952 | AB1359: =((D1359-D1358)/3600)*W1359 -> 3.1703255e-05 | AC1359: =AB1359*Z1359 -> 0.015031854 | AD1359: =((Z1359*AB1359)/1000)/0.755 -> 1.9909741e-05 | AE1359: =AE1358+AC1359 -> 71.57776
A1360: 1 | B1360: A | C1360: =C1359+1 -> 1354 | D1360: 116.60301 | E1360: 704.00094 | F1360: 0 | G1360: ='Specifications (ICE)'!$E$16*9.81*SIN(F1360-F1359) -> 0 | H1360: =RADIANS(F1360) -> 0 | I1360: 14 | J1360: 4000 | K1360: 13.4112 | L1360: 30.00005 | M1360: 1 | N1360: =IF(M1360=1,_xlfn.XLOOKUP(L1360,'HYB SPECS'!$O$6:$O$37,'HYB SPECS'!$K$6:$K$37,,1)) -> 8500 | O1360: =0.5*('Specifications (ICE)'!$P$4*'Specifications (ICE)'!$P$3)*'Specifications (ICE)'!$P$5*K1360^2 -> 56.2176 | P1360: =IF(B1360="A",'Specifications (ICE)'!$M$12,IF(B1360="G",'Specifications (ICE)'!$M$13)) -> 84.271039 | Q1360: 1 | R1360: ='HYB SPECS'!$G$11-O1360-P1360-G1360 -> 746.24599 | S1360: =IF(A1360=1,(R1360/E1360),IF(A1360=2,0,IF(A1360=3,(1.2*(-R1360/E1360))))) -> 1.0600071 | T1360: =E1360*S1360 -> 746.24599 | U1360: =T1360+P1360+O1360+G1360 -> 886.73463 | V1360: =ABS(((+U1360)*(+K1360))/1000) -> 11.892175 | W1360: =(($W$3*1000)-V1360*1000)/1000 -> 1.5306433 | X1360: =V1360 -> 11.892175 | Y1360: =ABS((X1360*1000)/((2*PI()*N1360)/60)) -> 13.360225 | Z1360: 474.1423 | AA1360: =(Z1360*W1360)/(60*60) -> 0.2015952 | AB1360: =((D1360-D1359)/3600)*W1360 -> 3.1703255e-05 | AC1360: =AB1360*Z1360 -> 0.015031854 | AD1360: =((Z1360*AB1360)/1000)/0.755 -> 1.9909741e-05 | AE1360: =AE1359+AC1360 -> 71.592792
A1361: 1 | B1361: A | C1361: =C1360+1 -> 1355 | D1361: 116.67758 | E1361: 704.00094 | F1361: 0 | G1361: ='Specifications (ICE)'!$E$16*9.81*SIN(F1361-F1360) -> 0 | H1361: =RADIANS(F1361) -> 0 | I1361: 14 | J1361: 4000 | K1361: 13.4112 | L1361: 30.00005 | M1361: 1 | N1361: =IF(M1361=1,_xlfn.XLOOKUP(L1361,'HYB SPECS'!$O$6:$O$37,'HYB SPECS'!$K$6:$K$37,,1)) -> 8500 | O1361: =0.5*('Specifications (ICE)'!$P$4*'Specifications (ICE)'!$P$3)*'Specifications (ICE)'!$P$5*K1361^2 -> 56.2176 | P1361: =IF(B1361="A",'Specifications (ICE)'!$M$12,IF(B1361="G",'Specifications (ICE)'!$M$13)) -> 84.271039 | Q1361: 1 | R1361: ='HYB SPECS'!$G$11-O1361-P1361-G1361 -> 746.24599 | S1361: =IF(A1361=1,(R1361/E1361),IF(A1361=2,0,IF(A1361=3,(1.2*(-R1361/E1361))))) -> 1.0600071 | T1361: =E1361*S1361 -> 746.24599 | U1361: =T1361+P1361+O1361+G1361 -> 886.73463 | V1361: =ABS(((+U1361)*(+K1361))/1000) -> 11.892175 | W1361: =(($W$3*1000)-V1361*1000)/1000 -> 1.5306433 | X1361: =V1361 -> 11.892175 | Y1361: =ABS((X1361*1000)/((2*PI()*N1361)/60)) -> 13.360225 | Z1361: 474.1423 | AA1361: =(Z1361*W1361)/(60*60) -> 0.2015952 | AB1361: =((D1361-D1360)/3600)*W1361 -> 3.1703255e-05 | AC1361: =AB1361*Z1361 -> 0.015031854 | AD1361: =((Z1361*AB1361)/1000)/0.755 -> 1.9909741e-05 | AE1361: =AE1360+AC1361 -> 71.607824
A1362: 1 | B1362: A | C1362: =C1361+1 -> 1356 | D1362: 116.75214 | E1362: 704.00094 | F1362: 0 | G1362: ='Specifications (ICE)'!$E$16*9.81*SIN(F1362-F1361) -> 0 | H1362: =RADIANS(F1362) -> 0 | I1362: 14 | J1362: 4000 | K1362: 13.4112 | L1362: 30.00005 | M1362: 1 | N1362: =IF(M1362=1,_xlfn.XLOOKUP(L1362,'HYB SPECS'!$O$6:$O$37,'HYB SPECS'!$K$6:$K$37,,1)) -> 8500 | O1362: =0.5*('Specifications (ICE)'!$P$4*'Specifications (ICE)'!$P$3)*'Specifications (ICE)'!$P$5*K1362^2 -> 56.2176 | P1362: =IF(B1362="A",'Specifications (ICE)'!$M$12,IF(B1362="G",'Specifications (ICE)'!$M$13)) -> 84.271039 | Q1362: 1 | R1362: ='HYB SPECS'!$G$11-O1362-P1362-G1362 -> 746.24599 | S1362: =IF(A1362=1,(R1362/E1362),IF(A1362=2,0,IF(A1362=3,(1.2*(-R1362/E1362))))) -> 1.0600071 | T1362: =E1362*S1362 -> 746.24599 | U1362: =T1362+P1362+O1362+G1362 -> 886.73463 | V1362: =ABS(((+U1362)*(+K1362))/1000) -> 11.892175 | W1362: =(($W$3*1000)-V1362*1000)/1000 -> 1.5306433 | X1362: =V1362 -> 11.892175 | Y1362: =ABS((X1362*1000)/((2*PI()*N1362)/60)) -> 13.360225 | Z1362: 474.1423 | AA1362: =(Z1362*W1362)/(60*60) -> 0.2015952 | AB1362: =((D1362-D1361)/3600)*W1362 -> 3.1703255e-05 | AC1362: =AB1362*Z1362 -> 0.015031854 | AD1362: =((Z1362*AB1362)/1000)/0.755 -> 1.9909741e-05 | AE1362: =AE1361+AC1362 -> 71.622856
A1363: 1 | B1363: A | C1363: =C1362+1 -> 1357 | D1363: 116.8267 | E1363: 704.00094 | F1363: 0 | G1363: ='Specifications (ICE)'!$E$16*9.81*SIN(F1363-F1362) -> 0 | H1363: =RADIANS(F1363) -> 0 | I1363: 14 | J1363: 4000 | K1363: 13.4112 | L1363: 30.00005 | M1363: 1 | N1363: =IF(M1363=1,_xlfn.XLOOKUP(L1363,'HYB SPECS'!$O$6:$O$37,'HYB SPECS'!$K$6:$K$37,,1)) -> 8500 | O1363: =0.5*('Specifications (ICE)'!$P$4*'Specifications (ICE)'!$P$3)*'Specifications (ICE)'!$P$5*K1363^2 -> 56.2176 | P1363: =IF(B1363="A",'Specifications (ICE)'!$M$12,IF(B1363="G",'Specifications (ICE)'!$M$13)) -> 84.271039 | Q1363: 1 | R1363: ='HYB SPECS'!$G$11-O1363-P1363-G1363 -> 746.24599 | S1363: =IF(A1363=1,(R1363/E1363),IF(A1363=2,0,IF(A1363=3,(1.2*(-R1363/E1363))))) -> 1.0600071 | T1363: =E1363*S1363 -> 746.24599 | U1363: =T1363+P1363+O1363+G1363 -> 886.73463 | V1363: =ABS(((+U1363)*(+K1363))/1000) -> 11.892175 | W1363: =(($W$3*1000)-V1363*1000)/1000 -> 1.5306433 | X1363: =V1363 -> 11.892175 | Y1363: =ABS((X1363*1000)/((2*PI()*N1363)/60)) -> 13.360225 | Z1363: 474.1423 | AA1363: =(Z1363*W1363)/(60*60) -> 0.2015952 | AB1363: =((D1363-D1362)/3600)*W1363 -> 3.1703255e-05 | AC1363: =AB1363*Z1363 -> 0.015031854 | AD1363: =((Z1363*AB1363)/1000)/0.755 -> 1.9909741e-05 | AE1363: =AE1362+AC1363 -> 71.637888
A1364: 1 | B1364: A | C1364: =C1363+1 -> 1358 | D1364: 116.90127 | E1364: 704.00094 | F1364: 0 | G1364: ='Specifications (ICE)'!$E$16*9.81*SIN(F1364-F1363) -> 0 | H1364: =RADIANS(F1364) -> 0 | I1364: 14 | J1364: 4000 | K1364: 13.4112 | L1364: 30.00005 | M1364: 1 | N1364: =IF(M1364=1,_xlfn.XLOOKUP(L1364,'HYB SPECS'!$O$6:$O$37,'HYB SPECS'!$K$6:$K$37,,1)) -> 8500 | O1364: =0.5*('Specifications (ICE)'!$P$4*'Specifications (ICE)'!$P$3)*'Specifications (ICE)'!$P$5*K1364^2 -> 56.2176 | P1364: =IF(B1364="A",'Specifications (ICE)'!$M$12,IF(B1364="G",'Specifications (ICE)'!$M$13)) -> 84.271039 | Q1364: 1 | R1364: ='HYB SPECS'!$G$11-O1364-P1364-G1364 -> 746.24599 | S1364: =IF(A1364=1,(R1364/E1364),IF(A1364=2,0,IF(A1364=3,(1.2*(-R1364/E1364))))) -> 1.0600071 | T1364: =E1364*S1364 -> 746.24599 | U1364: =T1364+P1364+O1364+G1364 -> 886.73463 | V1364: =ABS(((+U1364)*(+K1364))/1000) -> 11.892175 | W1364: =(($W$3*1000)-V1364*1000)/1000 -> 1.5306433 | X1364: =V1364 -> 11.892175 | Y1364: =ABS((X1364*1000)/((2*PI()*N1364)/60)) -> 13.360225 | Z1364: 474.1423 | AA1364: =(Z1364*W1364)/(60*60) -> 0.2015952 | AB1364: =((D1364-D1363)/3600)*W1364 -> 3.1703255e-05 | AC1364: =AB1364*Z1364 -> 0.015031854 | AD1364: =((Z1364*AB1364)/1000)/0.755 -> 1.9909741e-05 | AE1364: =AE1363+AC1364 -> 71.65292
A1365: 1 | B1365: A | C1365: =C1364+1 -> 1359 | D1365: 116.97583 | E1365: 704.00094 | F1365: 0 | G1365: ='Specifications (ICE)'!$E$16*9.81*SIN(F1365-F1364) -> 0 | H1365: =RADIANS(F1365) -> 0 | I1365: 14 | J1365: 4000 | K1365: 13.4112 | L1365: 30.00005 | M1365: 1 | N1365: =IF(M1365=1,_xlfn.XLOOKUP(L1365,'HYB SPECS'!$O$6:$O$37,'HYB SPECS'!$K$6:$K$37,,1)) -> 8500 | O1365: =0.5*('Specifications (ICE)'!$P$4*'Specifications (ICE)'!$P$3)*'Specifications (ICE)'!$P$5*K1365^2 -> 56.2176 | P1365: =IF(B1365="A",'Specifications (ICE)'!$M$12,IF(B1365="G",'Specifications (ICE)'!$M$13)) -> 84.271039 | Q1365: 1 | R1365: ='HYB SPECS'!$G$11-O1365-P1365-G1365 -> 746.24599 | S1365: =IF(A1365=1,(R1365/E1365),IF(A1365=2,0,IF(A1365=3,(1.2*(-R1365/E1365))))) -> 1.0600071 | T1365: =E1365*S1365 -> 746.24599 | U1365: =T1365+P1365+O1365+G1365 -> 886.73463 | V1365: =ABS(((+U1365)*(+K1365))/1000) -> 11.892175 | W1365: =(($W$3*1000)-V1365*1000)/1000 -> 1.5306433 | X1365: =V1365 -> 11.892175 | Y1365: =ABS((X1365*1000)/((2*PI()*N1365)/60)) -> 13.360225 | Z1365: 474.1423 | AA1365: =(Z1365*W1365)/(60*60) -> 0.2015952 | AB1365: =((D1365-D1364)/3600)*W1365 -> 3.1703255e-05 | AC1365: =AB1365*Z1365 -> 0.015031854 | AD1365: =((Z1365*AB1365)/1000)/0.755 -> 1.9909741e-05 | AE1365: =AE1364+AC1365 -> 71.667952
A1366: 1 | B1366: A | C1366: =C1365+1 -> 1360 | D1366: 117.0504 | E1366: 704.00094 | F1366: 0 | G1366: ='Specifications (ICE)'!$E$16*9.81*SIN(F1366-F1365) -> 0 | H1366: =RADIANS(F1366) -> 0 | I1366: 14 | J1366: 4000 | K1366: 13.4112 | L1366: 30.00005 | M1366: 1 | N1366: =IF(M1366=1,_xlfn.XLOOKUP(L1366,'HYB SPECS'!$O$6:$O$37,'HYB SPECS'!$K$6:$K$37,,1)) -> 8500 | O1366: =0.5*('Specifications (ICE)'!$P$4*'Specifications (ICE)'!$P$3)*'Specifications (ICE)'!$P$5*K1366^2 -> 56.2176 | P1366: =IF(B1366="A",'Specifications (ICE)'!$M$12,IF(B1366="G",'Specifications (ICE)'!$M$13)) -> 84.271039 | Q1366: 1 | R1366: ='HYB SPECS'!$G$11-O1366-P1366-G1366 -> 746.24599 | S1366: =IF(A1366=1,(R1366/E1366),IF(A1366=2,0,IF(A1366=3,(1.2*(-R1366/E1366))))) -> 1.0600071 | T1366: =E1366*S1366 -> 746.24599 | U1366: =T1366+P1366+O1366+G1366 -> 886.73463 | V1366: =ABS(((+U1366)*(+K1366))/1000) -> 11.892175 | W1366: =(($W$3*1000)-V1366*1000)/1000 -> 1.5306433 | X1366: =V1366 -> 11.892175 | Y1366: =ABS((X1366*1000)/((2*PI()*N1366)/60)) -> 13.360225 | Z1366: 474.1423 | AA1366: =(Z1366*W1366)/(60*60) -> 0.2015952 | AB1366: =((D1366-D1365)/3600)*W1366 -> 3.1703255e-05 | AC1366: =AB1366*Z1366 -> 0.015031854 | AD1366: =((Z1366*AB1366)/1000)/0.755 -> 1.9909741e-05 | AE1366: =AE1365+AC1366 -> 71.682983
A1367: 1 | B1367: A | C1367: =C1366+1 -> 1361 | D1367: 117.12496 | E1367: 704.00094 | F1367: 0 | G1367: ='Specifications (ICE)'!$E$16*9.81*SIN(F1367-F1366) -> 0 | H1367: =RADIANS(F1367) -> 0 | I1367: 14 | J1367: 4000 | K1367: 13.4112 | L1367: 30.00005 | M1367: 1 | N1367: =IF(M1367=1,_xlfn.XLOOKUP(L1367,'HYB SPECS'!$O$6:$O$37,'HYB SPECS'!$K$6:$K$37,,1)) -> 8500 | O1367: =0.5*('Specifications (ICE)'!$P$4*'Specifications (ICE)'!$P$3)*'Specifications (ICE)'!$P$5*K1367^2 -> 56.2176 | P1367: =IF(B1367="A",'Specifications (ICE)'!$M$12,IF(B1367="G",'Specifications (ICE)'!$M$13)) -> 84.271039 | Q1367: 1 | R1367: ='HYB SPECS'!$G$11-O1367-P1367-G1367 -> 746.24599 | S1367: =IF(A1367=1,(R1367/E1367),IF(A1367=2,0,IF(A1367=3,(1.2*(-R1367/E1367))))) -> 1.0600071 | T1367: =E1367*S1367 -> 746.24599 | U1367: =T1367+P1367+O1367+G1367 -> 886.73463 | V1367: =ABS(((+U1367)*(+K1367))/1000) -> 11.892175 | W1367: =(($W$3*1000)-V1367*1000)/1000 -> 1.5306433 | X1367: =V1367 -> 11.892175 | Y1367: =ABS((X1367*1000)/((2*PI()*N1367)/60)) -> 13.360225 | Z1367: 474.1423 | AA1367: =(Z1367*W1367)/(60*60) -> 0.2015952 | AB1367: =((D1367-D1366)/3600)*W1367 -> 3.1703255e-05 | AC1367: =AB1367*Z1367 -> 0.015031854 | AD1367: =((Z1367*AB1367)/1000)/0.755 -> 1.9909741e-05 | AE1367: =AE1366+AC1367 -> 71.698015
A1368: 1 | B1368: A | C1368: =C1367+1 -> 1362 | D1368: 117.19953 | E1368: 704.00094 | F1368: 0 | G1368: ='Specifications (ICE)'!$E$16*9.81*SIN(F1368-F1367) -> 0 | H1368: =RADIANS(F1368) -> 0 | I1368: 14 | J1368: 4000 | K1368: 13.4112 | L1368: 30.00005 | M1368: 1 | N1368: =IF(M1368=1,_xlfn.XLOOKUP(L1368,'HYB SPECS'!$O$6:$O$37,'HYB SPECS'!$K$6:$K$37,,1)) -> 8500 | O1368: =0.5*('Specifications (ICE)'!$P$4*'Specifications (ICE)'!$P$3)*'Specifications (ICE)'!$P$5*K1368^2 -> 56.2176 | P1368: =IF(B1368="A",'Specifications (ICE)'!$M$12,IF(B1368="G",'Specifications (ICE)'!$M$13)) -> 84.271039 | Q1368: 1 | R1368: ='HYB SPECS'!$G$11-O1368-P1368-G1368 -> 746.24599 | S1368: =IF(A1368=1,(R1368/E1368),IF(A1368=2,0,IF(A1368=3,(1.2*(-R1368/E1368))))) -> 1.0600071 | T1368: =E1368*S1368 -> 746.24599 | U1368: =T1368+P1368+O1368+G1368 -> 886.73463 | V1368: =ABS(((+U1368)*(+K1368))/1000) -> 11.892175 | W1368: =(($W$3*1000)-V1368*1000)/1000 -> 1.5306433 | X1368: =V1368 -> 11.892175 | Y1368: =ABS((X1368*1000)/((2*PI()*N1368)/60)) -> 13.360225 | Z1368: 474.1423 | AA1368: =(Z1368*W1368)/(60*60) -> 0.2015952 | AB1368: =((D1368-D1367)/3600)*W1368 -> 3.1703255e-05 | AC1368: =AB1368*Z1368 -> 0.015031854 | AD1368: =((Z1368*AB1368)/1000)/0.755 -> 1.9909741e-05 | AE1368: =AE1367+AC1368 -> 71.713047
... A1506: 2 | B1506: A | C1506: =C1505+1 -> 1500 | D1506: 127.48943 | E1506: 704.00094 | F1506: 0 | G1506: ='Specifications (ICE)'!$E$16*9.81*SIN(F1506-F1505) -> 0 | H1506: =RADIANS(F1506) -> 0 | I1506: 14 | J1506: 4000 | K1506: 13.4112 | L1506: 30.00005 | M1506: 1 | N1506: =IF(M1506=1,_xlfn.XLOOKUP(L1506,'HYB SPECS'!$O$6:$O$37,'HYB SPECS'!$K$6:$K$37,,1)) -> 8500 | O1506: =0.5*('Specifications (ICE)'!$P$4*'Specifications (ICE)'!$P$3)*'Specifications (ICE)'!$P$5*K1506^2 -> 56.2176 | P1506: =IF(B1506="A",'Specifications (ICE)'!$M$12,IF(B1506="G",'Specifications (ICE)'!$M$13)) -> 84.271039 | Q1506: 2 | R1506: ='HYB SPECS'!$G$11-O1506-P1506-G1506 -> 746.24599 | S1506: =IF(A1506=1,(R1506/E1506),IF(A1506=2,0,IF(A1506=3,(1.2*(-R1506/E1506))))) -> 0 | T1506: =E1506*S1506 -> 0 | U1506: =T1506+P1506+O1506+G1506 -> 140.48864 | V1506: =ABS(((+U1506)*(+K1506))/1000) -> 1.8841212 | W1506: =(($W$3*1000)-V1506*1000)/1000 -> 11.538698 | X1506: =V1506 -> 1.8841212 | Y1506: =ABS((X1506*1000)/((2*PI()*N1506)/60)) -> 2.1167097 | Z1506: 474.1423 | AA1506: =(Z1506*W1506)/(60*60) -> 1.5197179 | AB1506: =((D1506-D1505)/3600)*W1506 -> 0.00023899381 | AC1506: =AB1506*Z1506 -> 0.11331707 | AD1506: =((Z1506*AB1506)/1000)/0.755 -> 0.00015008884 | AE1506: =AE1505+AC1506 -> 81.945116

Sheet Main Data (ICE)
AJ2: Fuel Used Per Lap (g) | AK2: Fuel Used (L) | AL2: Laps on Full Tank | AM2: Distance on one tank (km) | AN2: km/L
AJ3: =SUM(AI6:AI1506) -> 174.23001 | AK3: =SUM(AK6:AK1506) -> 0.23076823 | AL3: =29/AK3 -> 125.66721 | AM3: =(AL3*1500)/1000 -> 188.50082 | AN3: =AM3/29 -> 6.5000283
C5: Distance | D5: Speed (mph) | E5: Speed (m/s) | F5: Time (s) | G5: Aero Resistance (N) | H5: Rolling Resistance (N) | I5: Driving Force - Aero-RR (N) | J5: Max Acceleration (m/s) | K5: Linear Inertia | L5: Angular velocity (Wheel) | M5: Gear | N5: Equivalent Mass | O5: KE (kJ) | P5: Acceleration (m/s) | Q5: Gradient Change | R5: Resitive Force | S5: Gradient(rads) | U5: Power (hp) | V5: Power (Kw) | W5: RPM | X5: Torque (Nm) | AC5: Power (hp) | AD5: Power (kw) | AE5: Torque (Nm) | AF5: BSFC | AG5: Fuel Flow | AH5: Energy (kwh) | AI5: Fuel Usage (g) | AJ5: Total Fuel Usage(g) | AK5: Fuel Usage (l) | AL5: Total Fuel Usage (l)
A6: 1 | B6: A | C6: 0 | D6: 0 | E6: 0 | F6: 0 | G6: =0.5*('Specifications (ICE)'!$P$4*'Specifications (ICE)'!$P$3)*'Specifications (ICE)'!$P$5*E6^2 -> 0 | H6: =IF(B6="A",'Specifications (ICE)'!$M$12,IF(B6="G",'Specifications (ICE)'!$M$13)) -> 84.271039 | I6: ='Specifications (ICE)'!$H$11-G6-H6-R6 -> 617.72721 | J6: =I6/N6 -> 0.77324451 | K6: =0.5*'Specifications (ICE)'!$E$16*E6^2 -> 0 | L6: =E6/'Specifications (ICE)'!$M$4 -> 0 | M6: =IF(D6<11,1,IF(D6<21,2,IF(D6>21,3))) -> 1 | N6: =IF(M6=1,'Specifications (ICE)'!$M$19,IF(M6=2,'Specifications (ICE)'!$M$20,IF(M6=3,'Specifications (ICE)'!$M$21))) -> 798.87695 | O6: =(0.5*N6*E6^2)/1000 -> 0 | P6: =IF(A6=1,(I6/N6),IF(A6=2,0,IF(A6=3,(1.2*(-I6/N6))))) -> 0.77324451 | Q6: 0 | R6: =N6*9.81*TAN(Q6) -> 0 | S6: =RADIANS(Q6) -> 0 | T6: =((63360/(PI()*12)*D6))/60 -> 0 | U6: =IF((ABS(I6)*D6)/746>18,18,(ABS(I6)*D6)/746) -> 0 | V6: =U6*0.7457 -> 0 | W6: =IF(M6=1,_xlfn.XLOOKUP(D6,' RPM (ICE)'!$E$3:$E$63,' RPM (ICE)'!$B$3:$B$63,,1),IF(M6=2,_xlfn.XLOOKUP(D6,' RPM (ICE)'!$F$3:$F$63,' RPM (ICE)'!$B$3:$B$63,,1),IF(M6=3,_xlfn.XLOOKUP(D6,' RPM (ICE)'!$G$3:$G$63,' RPM (ICE)'!$B$3:$B$63,,1)))) -> 1000 | X6: =(9548.8*V6)/W6 -> 0 | Y6: =ROUND(X6,0) -> 0 | Z6: =IF(Y6<0,0,X6) -> 0 | AC6: 0 | AD6: =AC6*0.7457 -> 0 | AE6: =(9548.8*AD6)/W6 -> 0 | AF6: 0 | AG6: =(AF6*AD6)/(60*60) -> 0 | AH6: 0 | AI6: 0 | AJ6: 0 | AK6: 0 | AL6: 0
A7: 1 | B7: A | C7: 1 | D7: =E7*2.23694 -> 2.7818119 | E7: =MIN(13.4112,(SQRT((E6^2)+2*P6*$C$7))) -> 1.2435791 | F7: =$C$7/E7 -> 0.80413058 | G7: =0.5*('Specifications (ICE)'!$P$4*'Specifications (ICE)'!$P$3)*'Specifications (ICE)'!$P$5*E7^2 -> 0.48337464 | H7: =IF(B7="A",'Specifications (ICE)'!$M$12,IF(B7="G",'Specifications (ICE)'!$M$13)) -> 84.271039 | I7: ='Specifications (ICE)'!$H$11-G7-H7-R7 -> 617.24384 | J7: =I7/N7 -> 0.77263944 | K7: =0.5*'Specifications (ICE)'!$E$16*E7^2 -> 415.15111 | L7: =E7/'Specifications (ICE)'!$M$4 -> 4.3519829 | M7: =IF(D7<11,1,IF(D7<21,2,IF(D7>21,3))) -> 1 | N7: =IF(M7=1,'Specifications (ICE)'!$M$19,IF(M7=2,'Specifications (ICE)'!$M$20,IF(M7=3,'Specifications (ICE)'!$M$21))) -> 798.87695 | O7: =(0.5*N7*E7^2)/1000 -> 0.61772721 | P7: =IF(A7=1,(I7/N7),IF(A7=2,0,IF(A7=3,(1.2*(-I7/N7))))) -> 0.77263944 | Q7: 0 | R7: =N7*9.81*TAN(Q7) -> 0 | S7: =RADIANS(Q7) -> 0 | T7: =((63360/(PI()*12)*D7))/60 -> 77.922083 | U7: =IF((ABS(I7)*D7)/746>18,18,(ABS(I7)*D7)/746) -> 2.301684 | V7: =U7*0.7457 -> 1.7163657 | W7: =IF(M7=1,_xlfn.XLOOKUP(D7,' RPM (ICE)'!$E$3:$E$63,' RPM (ICE)'!$B$3:$B$63,,1),IF(M7=2,_xlfn.XLOOKUP(D7,' RPM (ICE)'!$F$3:$F$63,' RPM (ICE)'!$B$3:$B$63,,1),IF(M7=3,_xlfn.XLOOKUP(D7,' RPM (ICE)'!$G$3:$G$63,' RPM (ICE)'!$B$3:$B$63,,1)))) -> 1800 | X7: =(9548.8*V7)/W7 -> 9.1051294 | Y7: =ROUND(X7,0) -> 9 | Z7: =IF(Y7<0,0,Y7) -> 9 | AA7: =IF(Z7>22,22,Z7) -> 9 | AC7: =IF(M7=1,_xlfn.XLOOKUP(D7,' RPM (ICE)'!$E$3:$E$63,' RPM (ICE)'!$C$3:$C$63,,-1),IF(M7=2,_xlfn.XLOOKUP(D7,' RPM (ICE)'!$F$3:$F$63,' RPM (ICE)'!$C$3:$C$63,,-1),IF(M7=3,_xlfn.XLOOKUP(D7,' RPM (ICE)'!$G$3:$G$63,' RPM (ICE)'!$C$3:$C$63,,-1)))) -> 2.822 | AD7: =AC7*0.7457 -> 2.1043654 | AE7: =(9548.8*AD7)/W7 -> 11.163425 | AF7: 601.42151 | AG7: =(AF7*AD7)/(60*60) -> 0.35155851 | AH7: =((F7-F6)/3600)*AD7 -> 0.00047005127 | AI7: =AH7*AF7 -> 0.28269895 | AJ7: =AI7+AI6 -> 0.28269895 | AK7: =((AF7*AH7)/1000)/0.755 -> 0.00037443569 | AL7: =AL6+AK7 -> 0.00037443569
A8: 1 | B8: A | C8: 2 | D8: =E8*2.23694 -> 3.9333064 | E8: =MIN(13.4112,(SQRT((E7^2)+2*P7*$C$7))) -> 1.7583424 | F8: =($C$7/E8)+F7 -> 1.372848 | G8: =0.5*('Specifications (ICE)'!$P$4*'Specifications (ICE)'!$P$3)*'Specifications (ICE)'!$P$5*E8^2 -> 0.96637104 | H8: =IF(B8="A",'Specifications (ICE)'!$M$12,IF(B8="G",'Specifications (ICE)'!$M$13)) -> 84.271039 | I8: ='Specifications (ICE)'!$H$11-G8-H8-R8 -> 616.76084 | J8: =I8/N8 -> 0.77203484 | K8: =0.5*'Specifications (ICE)'!$E$16*E8^2 -> 829.97736 | L8: =E8/'Specifications (ICE)'!$M$4 -> 6.1534291 | M8: =IF(D8<11,1,IF(D8<21,2,IF(D8>21,3))) -> 1 | N8: =IF(M8=1,'Specifications (ICE)'!$M$19,IF(M8=2,'Specifications (ICE)'!$M$20,IF(M8=3,'Specifications (ICE)'!$M$21))) -> 798.87695 | O8: =(0.5*N8*E8^2)/1000 -> 1.234971 | P8: =IF(A8=1,(I8/N8),IF(A8=2,0,IF(A8=3,(1.2*(-I8/N8))))) -> 0.77203484 | Q8: 0 | R8: =N8*9.81*TAN(Q8) -> 0 | S8: =RADIANS(Q8) -> 0 | T8: =((63360/(PI()*12)*D8))/60 -> 110.17691 | U8: =IF((ABS(I8)*D8)/746>18,18,(ABS(I8)*D8)/746) -> 3.2518892 | V8: =U8*0.7457 -> 2.4249338 | W8: =IF(M8=1,_xlfn.XLOOKUP(D8,' RPM (ICE)'!$E$3:$E$63,' RPM (ICE)'!$B$3:$B$63,,1),IF(M8=2,_xlfn.XLOOKUP(D8,' RPM (ICE)'!$F$3:$F$63,' RPM (ICE)'!$B$3:$B$63,,1),IF(M8=3,_xlfn.XLOOKUP(D8,' RPM (ICE)'!$G$3:$G$63,' RPM (ICE)'!$B$3:$B$63,,1)))) -> 2500 | X8: =(9548.8*V8)/W8 -> 9.2620831 | Y8: =ROUND(X8,0) -> 9 | Z8: =IF(Y8<0,0,Y8) -> 9 | AA8: =IF(Z8>22,22,Z8) -> 9 | AC8: =IF(M8=1,_xlfn.XLOOKUP(D8,' RPM (ICE)'!$E$3:$E$63,' RPM (ICE)'!$C$3:$C$63,,-1),IF(M8=2,_xlfn.XLOOKUP(D8,' RPM (ICE)'!$F$3:$F$63,' RPM (ICE)'!$C$3:$C$63,,-1),IF(M8=3,_xlfn.XLOOKUP(D8,' RPM (ICE)'!$G$3:$G$63,' RPM (ICE)'!$C$3:$C$63,,-1)))) -> 4.886 | AD8: =AC8*0.7457 -> 3.6434902 | AE8: =(9548.8*AD8)/W8 -> 13.916384 | AF8: {=_xlfn.XLOOKUP(AE8,BSFC!$I$11:$I$33,_xlfn.XLOOKUP('Main Data (ICE)'!W8,BSFC!$J$10:$W$10,BSFC!$J$11:$W$33,,-1),,-1)} -> 537.83024 | AG8: =(AF8*AD8)/(60*60) -> 0.54432755 | AH8: =((F8-F7)/3600)*AD8 -> 0.00057558791 | AI8: =AH8*AF8 -> 0.30956858 | AJ8: =AI8+AJ7 -> 0.59226753 | AK8: =((AF8*AH8)/1000)/0.755 -> 0.00041002461 | AL8: =AL7+AK8 -> 0.0007844603
A9: 1 | B9: A | C9: 3 | D9: =E9*2.23694 -> 4.8163545 | E9: =MIN(13.4112,(SQRT((E8^2)+2*P8*$C$7))) -> 2.1530995 | F9: =($C$7/E9)+F8 -> 1.8372948 | G9: =0.5*('Specifications (ICE)'!$P$4*'Specifications (ICE)'!$P$3)*'Specifications (ICE)'!$P$5*E9^2 -> 1.4489895 | H9: =IF(B9="A",'Specifications (ICE)'!$M$12,IF(B9="G",'Specifications (ICE)'!$M$13)) -> 84.271039 | I9: ='Specifications (ICE)'!$H$11-G9-H9-R9 -> 616.27822 | J9: =I9/N9 -> 0.77143072 | K9: =0.5*'Specifications (ICE)'!$E$16*E9^2 -> 1244.479 | L9: =E9/'Specifications (ICE)'!$M$4 -> 7.5349065 | M9: =IF(D9<11,1,IF(D9<21,2,IF(D9>21,3))) -> 1 | N9: =IF(M9=1,'Specifications (ICE)'!$M$19,IF(M9=2,'Specifications (ICE)'!$M$20,IF(M9=3,'Specifications (ICE)'!$M$21))) -> 798.87695 | O9: =(0.5*N9*E9^2)/1000 -> 1.8517319 | P9: =IF(A9=1,(I9/N9),IF(A9=2,0,IF(A9=3,(1.2*(-I9/N9))))) -> 0.77143072 | Q9: 0 | R9: =N9*9.81*TAN(Q9) -> 0 | S9: =RADIANS(Q9) -> 0 | T9: =((63360/(PI()*12)*D9))/60 -> 134.91221 | U9: =IF((ABS(I9)*D9)/746>18,18,(ABS(I9)*D9)/746) -> 3.9788396 | V9: =U9*0.7457 -> 2.9670207 | W9: =IF(M9=1,_xlfn.XLOOKUP(D9,' RPM (ICE)'!$E$3:$E$63,' RPM (ICE)'!$B$3:$B$63,,1),IF(M9=2,_xlfn.XLOOKUP(D9,' RPM (ICE)'!$F$3:$F$63,' RPM (ICE)'!$B$3:$B$63,,1),IF(M9=3,_xlfn.XLOOKUP(D9,' RPM (ICE)'!$G$3:$G$63,' RPM (ICE)'!$B$3:$B$63,,1)))) -> 3000 | X9: =(9548.8*V9)/W9 -> 9.4438291 | Y9: =ROUND(X9,0) -> 9 | Z9: =IF(Y9<0,0,Y9) -> 9 | AA9: =IF(Z9>22,22,Z9) -> 9 | AC9: =IF(M9=1,_xlfn.XLOOKUP(D9,' RPM (ICE)'!$E$3:$E$63,' RPM (ICE)'!$C$3:$C$63,,-1),IF(M9=2,_xlfn.XLOOKUP(D9,' RPM (ICE)'!$F$3:$F$63,' RPM (ICE)'!$C$3:$C$63,,-1),IF(M9=3,_xlfn.XLOOKUP(D9,' RPM (ICE)'!$G$3:$G$63,' RPM (ICE)'!$C$3:$C$63,,-1)))) -> 6.718 | AD9: =AC9*0.7457 -> 5.0096126 | AE9: =(9548.8*AD9)/W9 -> 15.945263 | AF9: {=_xlfn.XLOOKUP(AE9,BSFC!$I$11:$I$33,_xlfn.XLOOKUP('Main Data (ICE)'!W9,BSFC!$J$10:$W$10,BSFC!$J$11:$W$33,,-1),,-1)} -> 506.4151 | AG9: =(AF9*AD9)/(60*60) -> 0.70470651 | AH9: =((F9-F8)/3600)*AD9 -> 0.00064630503 | AI9: =AH9*AF9 -> 0.32729862 | AJ9: =AI9+AJ8 -> 0.91956615 | AK9: =((AF9*AH9)/1000)/0.755 -> 0.00043350811 | AL9: =AL8+AK9 -> 0.0012179684
A10: 1 | B10: A | C10: 4 | D10: =E10*2.23694 -> 5.5603593 | E10: =MIN(13.4112,(SQRT((E9^2)+2*P9*$C$7))) -> 2.4856989 | F10: =($C$7/E10)+F9 -> 2.2395961 | G10: =0.5*('Specifications (ICE)'!$P$4*'Specifications (ICE)'!$P$3)*'Specifications (ICE)'!$P$5*E10^2 -> 1.9312303 | H10: =IF(B10="A",'Specifications (ICE)'!$M$12,IF(B10="G",'Specifications (ICE)'!$M$13)) -> 84.271039 | I10: ='Specifications (ICE)'!$H$11-G10-H10-R10 -> 615.79598 | J10: =I10/N10 -> 0.77082708 | K10: =0.5*'Specifications (ICE)'!$E$16*E10^2 -> 1658.6563 | L10: =E10/'Specifications (ICE)'!$M$4 -> 8.6988588 | M10: =IF(D10<11,1,IF(D10<21,2,IF(D10>21,3))) -> 1 | N10: =IF(M10=1,'Specifications (ICE)'!$M$19,IF(M10=2,'Specifications (ICE)'!$M$20,IF(M10=3,'Specifications (ICE)'!$M$21))) -> 798.87695 | O10: =(0.5*N10*E10^2)/1000 -> 2.4680101 | P10: =IF(A10=1,(I10/N10),IF(A10=2,0,IF(A10=3,(1.2*(-I10/N10))))) -> 0.77082708 | Q10: 0 | R10: =N10*9.81*TAN(Q10) -> 0 | S10: =RADIANS(Q10) -> 0 | T10: =((63360/(PI()*12)*D10))/60 -> 155.75273 | U10: =IF((ABS(I10)*D10)/746>18,18,(ABS(I10)*D10)/746) -> 4.5898752 | V10: =U10*0.7457 -> 3.4226699 | W10: =IF(M10=1,_xlfn.XLOOKUP(D10,' RPM (ICE)'!$E$3:$E$63,' RPM (ICE)'!$B$3:$B$63,,1),IF(M10=2,_xlfn.XLOOKUP(D10,' RPM (ICE)'!$F$3:$F$63,' RPM (ICE)'!$B$3:$B$63,,1),IF(M10=3,_xlfn.XLOOKUP(D10,' RPM (ICE)'!$G$3:$G$63,' RPM (ICE)'!$B$3:$B$63,,1)))) -> 3500 | X10: =(9548.8*V10)/W10 -> 9.3378259 | Y10: =ROUND(X10,0) -> 9 | Z10: =IF(Y10<0,0,Y10) -> 9 | AA10: =IF(Z10>22,22,Z10) -> 9 | AC10: =IF(M10=1,_xlfn.XLOOKUP(D10,' RPM (ICE)'!$E$3:$E$63,' RPM (ICE)'!$C$3:$C$63,,-1),IF(M10=2,_xlfn.XLOOKUP(D10,' RPM (ICE)'!$F$3:$F$63,' RPM (ICE)'!$C$3:$C$63,,-1),IF(M10=3,_xlfn.XLOOKUP(D10,' RPM (ICE)'!$G$3:$G$63,' RPM (ICE)'!$C$3:$C$63,,-1)))) -> 8.958 | AD10: =AC10*0.7457 -> 6.6799806 | AE10: =(9548.8*AD10)/W10 -> 18.224514 | AF10: {=_xlfn.XLOOKUP(AE10,BSFC!$I$11:$I$33,_xlfn.XLOOKUP('Main Data (ICE)'!W10,BSFC!$J$10:$W$10,BSFC!$J$11:$W$33,,-1),,-1)} -> 492.74344 | AG10: =(AF10*AD10)/(60*60) -> 0.91431017 | AH10: =((F10-F9)/3600)*AD10 -> 0.00074649032 | AI10: =AH10*AF10 -> 0.36782821 | AJ10: =AI10+AJ9 -> 1.2873944 | AK10: =((AF10*AH10)/1000)/0.755 -> 0.00048718968 | AL10: =AL9+AK10 -> 0.0017051581
A11: 1 | B11: A | C11: 5 | D11: =E11*2.23694 -> 6.2154549 | E11: =MIN(13.4112,(SQRT((E10^2)+2*P10*$C$7))) -> 2.7785524 | F11: =($C$7/E11)+F10 -> 2.5994957 | G11: =0.5*('Specifications (ICE)'!$P$4*'Specifications (ICE)'!$P$3)*'Specifications (ICE)'!$P$5*E11^2 -> 2.4130937 | H11: =IF(B11="A",'Specifications (ICE)'!$M$12,IF(B11="G",'Specifications (ICE)'!$M$13)) -> 84.271039 | I11: ='Specifications (ICE)'!$H$11-G11-H11-R11 -> 615.31412 | J11: =I11/N11 -> 0.7702239 | K11: =0.5*'Specifications (ICE)'!$E$16*E11^2 -> 2072.5095 | L11: =E11/'Specifications (ICE)'!$M$4 -> 9.7237178 | M11: =IF(D11<11,1,IF(D11<21,2,IF(D11>21,3))) -> 1 | N11: =IF(M11=1,'Specifications (ICE)'!$M$19,IF(M11=2,'Specifications (ICE)'!$M$20,IF(M11=3,'Specifications (ICE)'!$M$21))) -> 798.87695 | O11: =(0.5*N11*E11^2)/1000 -> 3.0838061 | P11: =IF(A11=1,(I11/N11),IF(A11=2,0,IF(A11=3,(1.2*(-I11/N11))))) -> 0.7702239 | Q11: 0 | R11: =N11*9.81*TAN(Q11) -> 0 | S11: =RADIANS(Q11) -> 0 | T11: =((63360/(PI()*12)*D11))/60 -> 174.10279 | U11: =IF((ABS(I11)*D11)/746>18,18,(ABS(I11)*D11)/746) -> 5.1266182 | V11: =U11*0.7457 -> 3.8229192 | W11: =IF(M11=1,_xlfn.XLOOKUP(D11,' RPM (ICE)'!$E$3:$E$63,' RPM (ICE)'!$B$3:$B$63,,1),IF(M11=2,_xlfn.XLOOKUP(D11,' RPM (ICE)'!$F$3:$F$63,' RPM (ICE)'!$B$3:$B$63,,1),IF(M11=3,_xlfn.XLOOKUP(D11,' RPM (ICE)'!$G$3:$G$63,' RPM (ICE)'!$B$3:$B$63,,1)))) -> 3900 | X11: =(9548.8*V11)/W11 -> 9.3600745 | Y11: =ROUND(X11,0) -> 9 | Z11: =IF(Y11<0,0,Y11) -> 9 | AA11: =IF(Z11>22,22,Z11) -> 9 | AC11: =IF(M11=1,_xlfn.XLOOKUP(D11,' RPM (ICE)'!$E$3:$E$63,' RPM (ICE)'!$C$3:$C$63,,-1),IF(M11=2,_xlfn.XLOOKUP(D11,' RPM (ICE)'!$F$3:$F$63,' RPM (ICE)'!$C$3:$C$63,,-1),IF(M11=3,_xlfn.XLOOKUP(D11,' RPM (ICE)'!$G$3:$G$63,' RPM (ICE)'!$C$3:$C$63,,-1)))) -> 10.068 | AD11: =AC11*0.7457 -> 7.5077076 | AE11: =(9548.8*AD11)/W11 -> 18.381948 | AF11: {=_xlfn.XLOOKUP(AE11,BSFC!$I$11:$I$33,_xlfn.XLOOKUP('Main Data (ICE)'!W11,BSFC!$J$10:$W$10,BSFC!$J$11:$W$33,,-1),,-1)} -> 492.74344 | AG11: =(AF11*AD11)/(60*60) -> 1.0276038 | AH11: =((F11-F10)/3600)*AD11 -> 0.00075056147 | AI11: =AH11*AF11 -> 0.36983424 | AJ11: =AI11+AJ10 -> 1.6572286 | AK11: =((AF11*AH11)/1000)/0.755 -> 0.00048984667 | AL11: =AL10+AK11 -> 0.0021950048
A12: 1 | B12: A | C12: 6 | D12: =E12*2.23694 -> 6.8073583 | E12: =MIN(13.4112,(SQRT((E11^2)+2*P11*$C$7))) -> 3.0431564 | F12: =($C$7/E12)+F11 -> 2.9281019 | G12: =0.5*('Specifications (ICE)'!$P$4*'Specifications (ICE)'!$P$3)*'Specifications (ICE)'!$P$5*E12^2 -> 2.8945801 | H12: =IF(B12="A",'Specifications (ICE)'!$M$12,IF(B12="G",'Specifications (ICE)'!$M$13)) -> 84.271039 | I12: ='Specifications (ICE)'!$H$11-G12-H12-R12 -> 614.83263 | J12: =I12/N12 -> 0.7696212 | K12: =0.5*'Specifications (ICE)'!$E$16*E12^2 -> 2486.0389 | L12: =E12/'Specifications (ICE)'!$M$4 -> 10.649716 | M12: =IF(D12<11,1,IF(D12<21,2,IF(D12>21,3))) -> 1 | N12: =IF(M12=1,'Specifications (ICE)'!$M$19,IF(M12=2,'Specifications (ICE)'!$M$20,IF(M12=3,'Specifications (ICE)'!$M$21))) -> 798.87695 | O12: =(0.5*N12*E12^2)/1000 -> 3.6991202 | P12: =IF(A12=1,(I12/N12),IF(A12=2,0,IF(A12=3,(1.2*(-I12/N12))))) -> 0.7696212 | Q12: 0 | R12: =N12*9.81*TAN(Q12) -> 0 | S12: =RADIANS(Q12) -> 0 | T12: =((63360/(PI()*12)*D12))/60 -> 190.68275 | U12: =IF((ABS(I12)*D12)/746>18,18,(ABS(I12)*D12)/746) -> 5.610437 | V12: =U12*0.7457 -> 4.1837029 | W12: =IF(M12=1,_xlfn.XLOOKUP(D12,' RPM (ICE)'!$E$3:$E$63,' RPM (ICE)'!$B$3:$B$63,,1),IF(M12=2,_xlfn.XLOOKUP(D12,' RPM (ICE)'!$F$3:$F$63,' RPM (ICE)'!$B$3:$B$63,,1),IF(M12=3,_xlfn.XLOOKUP(D12,' RPM (ICE)'!$G$3:$G$63,' RPM (ICE)'!$B$3:$B$63,,1)))) -> 4300 | X12: =(9548.8*V12)/W12 -> 9.2905447 | Y12: =ROUND(X12,0) -> 9 | Z12: =IF(Y12<0,0,Y12) -> 9 | AA12: =IF(Z12>22,22,Z12) -> 9 | AC12: =IF(M12=1,_xlfn.XLOOKUP(D12,' RPM (ICE)'!$E$3:$E$63,' RPM (ICE)'!$C$3:$C$63,,-1),IF(M12=2,_xlfn.XLOOKUP(D12,' RPM (ICE)'!$F$3:$F$63,' RPM (ICE)'!$C$3:$C$63,,-1),IF(M12=3,_xlfn.XLOOKUP(D12,' RPM (ICE)'!$G$3:$G$63,' RPM (ICE)'!$C$3:$C$63,,-1)))) -> 11.02 | AD12: =AC12*0.7457 -> 8.217614 | AE12: =(9548.8*AD12)/W12 -> 18.248454 | AF12: {=_xlfn.XLOOKUP(AE12,BSFC!$I$11:$I$33,_xlfn.XLOOKUP('Main Data (ICE)'!W12,BSFC!$J$10:$W$10,BSFC!$J$11:$W$33,,-1),,-1)} -> 483.62212 | AG12: =(AF12*AD12)/(60*60) -> 1.10395 | AH12: =((F12-F11)/3600)*AD12 -> 0.00075009965 | AI12: =AH12*AF12 -> 0.36276478 | AJ12: =AI12+AJ11 -> 2.0199934 | AK12: =((AF12*AH12)/1000)/0.755 -> 0.00048048316 | AL12: =AL11+AK12 -> 0.0026754879
A13: 1 | B13: A | C13: 7 | D13: =E13*2.23694 -> 7.3513497 | E13: =MIN(13.4112,(SQRT((E12^2)+2*P12*$C$7))) -> 3.2863419 | F13: =($C$7/E13)+F12 -> 3.2323916 | G13: =0.5*('Specifications (ICE)'!$P$4*'Specifications (ICE)'!$P$3)*'Specifications (ICE)'!$P$5*E13^2 -> 3.3756897 | H13: =IF(B13="A",'Specifications (ICE)'!$M$12,IF(B13="G",'Specifications (ICE)'!$M$13)) -> 84.271039 | I13: ='Specifications (ICE)'!$H$11-G13-H13-R13 -> 614.35152 | J13: =I13/N13 -> 0.76901896 | K13: =0.5*'Specifications (ICE)'!$E$16*E13^2 -> 2899.2446 | L13: =E13/'Specifications (ICE)'!$M$4 -> 11.500759 | M13: =IF(D13<11,1,IF(D13<21,2,IF(D13>21,3))) -> 1 | N13: =IF(M13=1,'Specifications (ICE)'!$M$19,IF(M13=2,'Specifications (ICE)'!$M$20,IF(M13=3,'Specifications (ICE)'!$M$21))) -> 798.87695 | O13: =(0.5*N13*E13^2)/1000 -> 4.3139528 | P13: =IF(A13=1,(I13/N13),IF(A13=2,0,IF(A13=3,(1.2*(-I13/N13))))) -> 0.76901896 | Q13: 0 | R13: =N13*9.81*TAN(Q13) -> 0 | S13: =RADIANS(Q13) -> 0 | T13: =((63360/(PI()*12)*D13))/60 -> 205.92064 | U13: =IF((ABS(I13)*D13)/746>18,18,(ABS(I13)*D13)/746) -> 6.0540387 | V13: =U13*0.7457 -> 4.5144967 | W13: =IF(M13=1,_xlfn.XLOOKUP(D13,' RPM (ICE)'!$E$3:$E$63,' RPM (ICE)'!$B$3:$B$63,,1),IF(M13=2,_xlfn.XLOOKUP(D13,' RPM (ICE)'!$F$3:$F$63,' RPM (ICE)'!$B$3:$B$63,,1),IF(M13=3,_xlfn.XLOOKUP(D13,' RPM (ICE)'!$G$3:$G$63,' RPM (ICE)'!$B$3:$B$63,,1)))) -> 4600 | X13: =(9548.8*V13)/W13 -> 9.37131 | Y13: =ROUND(X13,0) -> 9 | Z13: =IF(Y13<0,0,Y13) -> 9 | AA13: =IF(Z13>22,22,Z13) -> 9 | AC13: =IF(M13=1,_xlfn.XLOOKUP(D13,' RPM (ICE)'!$E$3:$E$63,' RPM (ICE)'!$C$3:$C$63,,-1),IF(M13=2,_xlfn.XLOOKUP(D13,' RPM (ICE)'!$F$3:$F$63,' RPM (ICE)'!$C$3:$C$63,,-1),IF(M13=3,_xlfn.XLOOKUP(D13,' RPM (ICE)'!$G$3:$G$63,' RPM (ICE)'!$C$3:$C$63,,-1)))) -> 11.8 | AD13: =AC13*0.7457 -> 8.79926 | AE13: =(9548.8*AD13)/W13 -> 18.265733 | AF13: {=_xlfn.XLOOKUP(AE13,BSFC!$I$11:$I$33,_xlfn.XLOOKUP('Main Data (ICE)'!W13,BSFC!$J$10:$W$10,BSFC!$J$11:$W$33,,-1),,-1)} -> 467.51182 | AG13: =(AF13*AD13)/(60*60) -> 1.1427106 | AH13: =((F13-F12)/3600)*AD13 -> 0.00074375672 | AI13: =AH13*AF13 -> 0.34771505 | AJ13: =AI13+AJ12 -> 2.3677084 | AK13: =((AF13*AH13)/1000)/0.755 -> 0.00046054974 | AL13: =AL12+AK13 -> 0.0031360377
A14: 1 | B14: A | C14: 8 | D14: =E14*2.23694 -> 7.8573871 | E14: =MIN(13.4112,(SQRT((E13^2)+2*P13*$C$7))) -> 3.5125605 | F14: =($C$7/E14)+F13 -> 3.5170842 | G14: =0.5*('Specifications (ICE)'!$P$4*'Specifications (ICE)'!$P$3)*'Specifications (ICE)'!$P$5*E14^2 -> 3.8564229 | H14: =IF(B14="A",'Specifications (ICE)'!$M$12,IF(B14="G",'Specifications (ICE)'!$M$13)) -> 84.271039 | I14: ='Specifications (ICE)'!$H$11-G14-H14-R14 -> 613.87079 | J14: =I14/N14 -> 0.7684172 | K14: =0.5*'Specifications (ICE)'!$E$16*E14^2 -> 3312.1271 | L14: =E14/'Specifications (ICE)'!$M$4 -> 12.292425 | M14: =IF(D14<11,1,IF(D14<21,2,IF(D14>21,3))) -> 1 | N14: =IF(M14=1,'Specifications (ICE)'!$M$19,IF(M14=2,'Specifications (ICE)'!$M$20,IF(M14=3,'Specifications (ICE)'!$M$21))) -> 798.87695 | O14: =(0.5*N14*E14^2)/1000 -> 4.9283044 | P14: =IF(A14=1,(I14/N14),IF(A14=2,0,IF(A14=3,(1.2*(-I14/N14))))) -> 0.7684172 | Q14: 0 | R14: =N14*9.81*TAN(Q14) -> 0 | S14: =RADIANS(Q14) -> 0 | T14: =((63360/(PI()*12)*D14))/60 -> 220.09539 | U14: =IF((ABS(I14)*D14)/746>18,18,(ABS(I14)*D14)/746) -> 6.465711 | V14: =U14*0.7457 -> 4.8214807 | W14: =IF(M14=1,_xlfn.XLOOKUP(D14,' RPM (ICE)'!$E$3:$E$63,' RPM (ICE)'!$B$3:$B$63,,1),IF(M14=2,_xlfn.XLOOKUP(D14,' RPM (ICE)'!$F$3:$F$63,' RPM (ICE)'!$B$3:$B$63,,1),IF(M14=3,_xlfn.XLOOKUP(D14,' RPM (ICE)'!$G$3:$G$63,' RPM (ICE)'!$B$3:$B$63,,1)))) -> 4900 | X14: =(9548.8*V14)/W14 -> 9.3957867 | Y14: =ROUND(X14,0) -> 9 | Z14: =IF(Y14<0,0,Y14) -> 9 | AA14: =IF(Z14>22,22,Z14) -> 9 | AC14: =IF(M14=1,_xlfn.XLOOKUP(D14,' RPM (ICE)'!$E$3:$E$63,' RPM (ICE)'!$C$3:$C$63,,-1),IF(M14=2,_xlfn.XLOOKUP(D14,' RPM (ICE)'!$F$3:$F$63,' RPM (ICE)'!$C$3:$C$63,,-1),IF(M14=3,_xlfn.XLOOKUP(D14,' RPM (ICE)'!$G$3:$G$63,' RPM (ICE)'!$C$3:$C$63,,-1)))) -> 12.7 | AD14: =AC14*0.7457 -> 9.47039 | AE14: =(9548.8*AD14)/W14 -> 18.455278 | AF14: {=_xlfn.XLOOKUP(AE14,BSFC!$I$11:$I$33,_xlfn.XLOOKUP('Main Data (ICE)'!W14,BSFC!$J$10:$W$10,BSFC!$J$11:$W$33,,-1),,-1)} -> 467.51182 | AG14: =(AF14*AD14)/(60*60) -> 1.2298665 | AH14: =((F14-F13)/3600)*AD14 -> 0.00074893056 | AI14: =AH14*AF14 -> 0.35013389 | AJ14: =AI14+AJ13 -> 2.7178423 | AK14: =((AF14*AH14)/1000)/0.755 -> 0.00046375349 | AL14: =AL13+AK14 -> 0.0035997912
A15: 1 | B15: A | C15: 9 | D15: =E15*2.23694 -> 8.3323885 | E15: =MIN(13.4112,(SQRT((E14^2)+2*P14*$C$7))) -> 3.7249048 | F15: =($C$7/E15)+F14 -> 3.7855475 | G15: =0.5*('Specifications (ICE)'!$P$4*'Specifications (ICE)'!$P$3)*'Specifications (ICE)'!$P$5*E15^2 -> 4.3367798 | H15: =IF(B15="A",'Specifications (ICE)'!$M$12,IF(B15="G",'Specifications (ICE)'!$M$13)) -> 84.271039 | I15: ='Specifications (ICE)'!$H$11-G15-H15-R15 -> 613.39043 | J15: =I15/N15 -> 0.76781591 | K15: =0.5*'Specifications (ICE)'!$E$16*E15^2 -> 3724.6864 | L15: =E15/'Specifications (ICE)'!$M$4 -> 13.035537 | M15: =IF(D15<11,1,IF(D15<21,2,IF(D15>21,3))) -> 1 | N15: =IF(M15=1,'Specifications (ICE)'!$M$19,IF(M15=2,'Specifications (ICE)'!$M$20,IF(M15=3,'Specifications (ICE)'!$M$21))) -> 798.87695 | O15: =(0.5*N15*E15^2)/1000 -> 5.5421751 | P15: =IF(A15=1,(I15/N15),IF(A15=2,0,IF(A15=3,(1.2*(-I15/N15))))) -> 0.76781591 | Q15: 0 | R15: =N15*9.81*TAN(Q15) -> 0 | S15: =RADIANS(Q15) -> 0 | T15: =((63360/(PI()*12)*D15))/60 -> 233.40078 | U15: =IF((ABS(I15)*D15)/746>18,18,(ABS(I15)*D15)/746) -> 6.8512163 | V15: =U15*0.7457 -> 5.108952 | W15: =IF(M15=1,_xlfn.XLOOKUP(D15,' RPM (ICE)'!$E$3:$E$63,' RPM (ICE)'!$B$3:$B$63,,1),IF(M15=2,_xlfn.XLOOKUP(D15,' RPM (ICE)'!$F$3:$F$63,' RPM (ICE)'!$B$3:$B$63,,1),IF(M15=3,_xlfn.XLOOKUP(D15,' RPM (ICE)'!$G$3:$G$63,' RPM (ICE)'!$B$3:$B$63,,1)))) -> 5200 | X15: =(9548.8*V15)/W15 -> 9.3816079 | Y15: =ROUND(X15,0) -> 9 | Z15: =IF(Y15<0,0,Y15) -> 9 | AA15: =IF(Z15>22,22,Z15) -> 9 | AC15: =IF(M15=1,_xlfn.XLOOKUP(D15,' RPM (ICE)'!$E$3:$E$63,' RPM (ICE)'!$C$3:$C$63,,-1),IF(M15=2,_xlfn.XLOOKUP(D15,' RPM (ICE)'!$F$3:$F$63,' RPM (ICE)'!$C$3:$C$63,,-1),IF(M15=3,_xlfn.XLOOKUP(D15,' RPM (ICE)'!$G$3:$G$63,' RPM (ICE)'!$C$3:$C$63,,-1)))) -> 14.036 | AD15: =AC15*0.7457 -> 10.466645 | AE15: =(9548.8*AD15)/W15 -> 19.219981 | AF15: {=_xlfn.XLOOKUP(AE15,BSFC!$I$11:$I$33,_xlfn.XLOOKUP('Main Data (ICE)'!W15,BSFC!$J$10:$W$10,BSFC!$J$11:$W$33,,-1),,-1)} -> 443.04624 | AG15: =(AF15*AD15)/(60*60) -> 1.2881133 | AH15: =((F15-F14)/3600)*AD15 -> 0.0007805304 | AI15: =AH15*AF15 -> 0.34581106 | AJ15: =AI15+AJ14 -> 3.0636534 | AK15: =((AF15*AH15)/1000)/0.755 -> 0.0004580279 | AL15: =AL14+AK15 -> 0.004057819
A16: 1 | B16: A | C16: 10 | D16: =E16*2.23694 -> 8.7813921 | E16: =MIN(13.4112,(SQRT((E15^2)+2*P15*$C$7))) -> 3.925627 | F16: =($C$7/E16)+F15 -> 4.0402838 | G16: =0.5*('Specifications (ICE)'!$P$4*'Specifications (ICE)'!$P$3)*'Specifications (ICE)'!$P$5*E16^2 -> 4.8167609 | H16: =IF(B16="A",'Specifications (ICE)'!$M$12,IF(B16="G",'Specifications (ICE)'!$M$13)) -> 84.271039 | I16: ='Specifications (ICE)'!$H$11-G16-H16-R16 -> 612.91045 | J16: =I16/N16 -> 0.76721509 | K16: =0.5*'Specifications (ICE)'!$E$16*E16^2 -> 4136.923 | L16: =E16/'Specifications (ICE)'!$M$4 -> 13.737977 | M16: =IF(D16<11,1,IF(D16<21,2,IF(D16>21,3))) -> 1 | N16: =IF(M16=1,'Specifications (ICE)'!$M$19,IF(M16=2,'Specifications (ICE)'!$M$20,IF(M16=3,'Specifications (ICE)'!$M$21))) -> 798.87695 | O16: =(0.5*N16*E16^2)/1000 -> 6.1555656 | P16: =IF(A16=1,(I16/N16),IF(A16=2,0,IF(A16=3,(1.2*(-I16/N16))))) -> 0.76721509 | Q16: 0 | R16: =N16*9.81*TAN(Q16) -> 0 | S16: =RADIANS(Q16) -> 0 | T16: =((63360/(PI()*12)*D16))/60 -> 245.97795 | U16: =IF((ABS(I16)*D16)/746>18,18,(ABS(I16)*D16)/746) -> 7.2147547 | V16: =U16*0.7457 -> 5.3800426 | W16: =IF(M16=1,_xlfn.XLOOKUP(D16,' RPM (ICE)'!$E$3:$E$63,' RPM (ICE)'!$B$3:$B$63,,1),IF(M16=2,_xlfn.XLOOKUP(D16,' RPM (ICE)'!$F$3:$F$63,' RPM (ICE)'!$B$3:$B$63,,1),IF(M16=3,_xlfn.XLOOKUP(D16,' RPM (ICE)'!$G$3:$G$63,' RPM (ICE)'!$B$3:$B$63,,1)))) -> 5500 | X16: =(9548.8*V16)/W16 -> 9.3405364 | Y16: =ROUND(X16,0) -> 9 | Z16: =IF(Y16<0,0,Y16) -> 9 | AA16: =IF(Z16>22,22,Z16) -> 9 | AC16: =IF(M16=1,_xlfn.XLOOKUP(D16,' RPM (ICE)'!$E$3:$E$63,' RPM (ICE)'!$C$3:$C$63,,-1),IF(M16=2,_xlfn.XLOOKUP(D16,' RPM (ICE)'!$F$3:$F$63,' RPM (ICE)'!$C$3:$C$63,,-1),IF(M16=3,_xlfn.XLOOKUP(D16,' RPM (ICE)'!$G$3:$G$63,' RPM (ICE)'!$C$3:$C$63,,-1)))) -> 16.244 | AD16: =AC16*0.7457 -> 12.113151 | AE16: =(9548.8*AD16)/W16 -> 21.030192 | AF16: {=_xlfn.XLOOKUP(AE16,BSFC!$I$11:$I$33,_xlfn.XLOOKUP('Main Data (ICE)'!W16,BSFC!$J$10:$W$10,BSFC!$J$11:$W$33,,-1),,-1)} -> 435.88071 | AG16: =(AF16*AD16)/(60*60) -> 1.4666358 | AH16: =((F16-F15)/3600)*AD16 -> 0.00085712781 | AI16: =AH16*AF16 -> 0.37360548 | AJ16: =AI16+AJ15 -> 3.4372589 | AK16: =((AF16*AH16)/1000)/0.755 -> 0.00049484169 | AL16: =AL15+AK16 -> 0.0045526607
A17: 1 | B17: A | C17: 11 | D17: =E17*2.23694 -> 9.208202 | E17: =MIN(13.4112,(SQRT((E16^2)+2*P16*$C$7))) -> 4.1164278 | F17: =($C$7/E17)+F16 -> 4.2832129 | G17: =0.5*('Specifications (ICE)'!$P$4*'Specifications (ICE)'!$P$3)*'Specifications (ICE)'!$P$5*E17^2 -> 5.2963664 | H17: =IF(B17="A",'Specifications (ICE)'!$M$12,IF(B17="G",'Specifications (ICE)'!$M$13)) -> 84.271039 | I17: ='Specifications (ICE)'!$H$11-G17-H17-R17 -> 612.43084 | J17: =I17/N17 -> 0.76661474 | K17: =0.5*'Specifications (ICE)'!$E$16*E17^2 -> 4548.8369 | L17: =E17/'Specifications (ICE)'!$M$4 -> 14.405697 | M17: =IF(D17<11,1,IF(D17<21,2,IF(D17>21,3))) -> 1 | N17: =IF(M17=1,'Specifications (ICE)'!$M$19,IF(M17=2,'Specifications (ICE)'!$M$20,IF(M17=3,'Specifications (ICE)'!$M$21))) -> 798.87695 | O17: =(0.5*N17*E17^2)/1000 -> 6.768476 | P17: =IF(A17=1,(I17/N17),IF(A17=2,0,IF(A17=3,(1.2*(-I17/N17))))) -> 0.76661474 | Q17: 0 | R17: =N17*9.81*TAN(Q17) -> 0 | S17: =RADIANS(Q17) -> 0 | T17: =((63360/(PI()*12)*D17))/60 -> 257.93343 | U17: =IF((ABS(I17)*D17)/746>18,18,(ABS(I17)*D17)/746) -> 7.5594999 | V17: =U17*0.7457 -> 5.6371191 | W17: =IF(M17=1,_xlfn.XLOOKUP(D17,' RPM (ICE)'!$E$3:$E$63,' RPM (ICE)'!$B$3:$B$63,,1),IF(M17=2,_xlfn.XLOOKUP(D17,' RPM (ICE)'!$F$3:$F$63,' RPM (ICE)'!$B$3:$B$63,,1),IF(M17=3,_xlfn.XLOOKUP(D17,' RPM (ICE)'!$G$3:$G$63,' RPM (ICE)'!$B$3:$B$63,,1)))) -> 5800 | X17: =(9548.8*V17)/W17 -> 9.2806418 | Y17: =ROUND(X17,0) -> 9 | Z17: =IF(Y17<0,0,Y17) -> 9 | AA17: =IF(Z17>22,22,Z17) -> 9 | AC17: =IF(M17=1,_xlfn.XLOOKUP(D17,' RPM (ICE)'!$E$3:$E$63,' RPM (ICE)'!$C$3:$C$63,,-1),IF(M17=2,_xlfn.XLOOKUP(D17,' RPM (ICE)'!$F$3:$F$63,' RPM (ICE)'!$C$3:$C$63,,-1),IF(M17=3,_xlfn.XLOOKUP(D17,' RPM (ICE)'!$G$3:$G$63,' RPM (ICE)'!$C$3:$C$63,,-1)))) -> 17.11 | AD17: =AC17*0.7457 -> 12.758927 | AE17: =(9548.8*AD17)/W17 -> 21.005593 | AF17: {=_xlfn.XLOOKUP(AE17,BSFC!$I$11:$I$33,_xlfn.XLOOKUP('Main Data (ICE)'!W17,BSFC!$J$10:$W$10,BSFC!$J$11:$W$33,,-1),,-1)} -> 435.88071 | AG17: =(AF17*AD17)/(60*60) -> 1.544825 | AH17: =((F17-F16)/3600)*AD17 -> 0.00086097621 | AI17: =AH17*AF17 -> 0.37528292 | AJ17: =AI17+AJ16 -> 3.8125418 | AK17: =((AF17*AH17)/1000)/0.755 -> 0.00049706347 | AL17: =AL16+AK17 -> 0.0050497242
A18: 1 | B18: A | C18: 12 | D18: =E18*2.23694 -> 9.6157741 | E18: =MIN(13.4112,(SQRT((E17^2)+2*P17*$C$7))) -> 4.2986285 | F18: =($C$7/E18)+F17 -> 4.5158452 | G18: =0.5*('Specifications (ICE)'!$P$4*'Specifications (ICE)'!$P$3)*'Specifications (ICE)'!$P$5*E18^2 -> 5.7755966 | H18: =IF(B18="A",'Specifications (ICE)'!$M$12,IF(B18="G",'Specifications (ICE)'!$M$13)) -> 84.271039 | I18: ='Specifications (ICE)'!$H$11-G18-H18-R18 -> 611.95161 | J18: =I18/N18 -> 0.76601486 | K18: =0.5*'Specifications (ICE)'!$E$16*E18^2 -> 4960.4285 | L18: =E18/'Specifications (ICE)'!$M$4 -> 15.043319 | M18: =IF(D18<11,1,IF(D18<21,2,IF(D18>21,3))) -> 1 | N18: =IF(M18=1,'Specifications (ICE)'!$M$19,IF(M18=2,'Specifications (ICE)'!$M$20,IF(M18=3,'Specifications (ICE)'!$M$21))) -> 798.87695 | O18: =(0.5*N18*E18^2)/1000 -> 7.3809069 | P18: =IF(A18=1,(I18/N18),IF(A18=2,0,IF(A18=3,(1.2*(-I18/N18))))) -> 0.76601486 | Q18: 0 | R18: =N18*9.81*TAN(Q18) -> 0 | S18: =RADIANS(Q18) -> 0 | T18: =((63360/(PI()*12)*D18))/60 -> 269.35004 | U18: =IF((ABS(I18)*D18)/746>18,18,(ABS(I18)*D18)/746) -> 7.8879202 | V18: =U18*0.7457 -> 5.8820221 | W18: =IF(M18=1,_xlfn.XLOOKUP(D18,' RPM (ICE)'!$E$3:$E$63,' RPM (ICE)'!$B$3:$B$63,,1),IF(M18=2,_xlfn.XLOOKUP(D18,' RPM (ICE)'!$F$3:$F$63,' RPM (ICE)'!$B$3:$B$63,,1),IF(M18=3,_xlfn.XLOOKUP(D18,' RPM (ICE)'!$G$3:$G$63,' RPM (ICE)'!$B$3:$B$63,,1)))) -> 6000 | X18: =(9548.8*V18)/W18 -> 9.3610421 | Y18: =ROUND(X18,0) -> 9 | Z18: =IF(Y18<0,0,Y18) -> 9 | AA18: =IF(Z18>22,22,Z18) -> 9 | AC18: =IF(M18=1,_xlfn.XLOOKUP(D18,' RPM (ICE)'!$E$3:$E$63,' RPM (ICE)'!$C$3:$C$63,,-1),IF(M18=2,_xlfn.XLOOKUP(D18,' RPM (ICE)'!$F$3:$F$63,' RPM (ICE)'!$C$3:$C$63,,-1),IF(M18=3,_xlfn.XLOOKUP(D18,' RPM (ICE)'!$G$3:$G$63,' RPM (ICE)'!$C$3:$C$63,,-1)))) -> 17.24 | AD18: =AC18*0.7457 -> 12.855868 | AE18: =(9548.8*AD18)/W18 -> 20.459685 | AF18: {=_xlfn.XLOOKUP(AE18,BSFC!$I$11:$I$33,_xlfn.XLOOKUP('Main Data (ICE)'!W18,BSFC!$J$10:$W$10,BSFC!$J$11:$W$33,,-1),,-1)} -> 469.19732 | AG18: =(AF18*AD18)/(60*60) -> 1.6755386 | AH18: =((F18-F17)/3600)*AD18 -> 0.00083074739 | AI18: =AH18*AF18 -> 0.38978445 | AJ18: =AI18+AJ17 -> 4.2023262 | AK18: =((AF18*AH18)/1000)/0.755 -> 0.0005162708 | AL18: =AL17+AK18 -> 0.005565995
A19: 1 | B19: A | C19: 13 | D19: =E19*2.23694 -> 10.00646 | E19: =MIN(13.4112,(SQRT((E18^2)+2*P18*$C$7))) -> 4.4732803 | F19: =($C$7/E19)+F18 -> 4.7393948 | G19: =0.5*('Specifications (ICE)'!$P$4*'Specifications (ICE)'!$P$3)*'Specifications (ICE)'!$P$5*E19^2 -> 6.2544518 | H19: =IF(B19="A",'Specifications (ICE)'!$M$12,IF(B19="G",'Specifications (ICE)'!$M$13)) -> 84.271039 | I19: ='Specifications (ICE)'!$H$11-G19-H19-R19 -> 611.47276 | J19: =I19/N19 -> 0.76541545 | K19: =0.5*'Specifications (ICE)'!$E$16*E19^2 -> 5371.6981 | L19: =E19/'Specifications (ICE)'!$M$4 -> 15.654524 | M19: =IF(D19<11,1,IF(D19<21,2,IF(D19>21,3))) -> 1 | N19: =IF(M19=1,'Specifications (ICE)'!$M$19,IF(M19=2,'Specifications (ICE)'!$M$20,IF(M19=3,'Specifications (ICE)'!$M$21))) -> 798.87695 | O19: =(0.5*N19*E19^2)/1000 -> 7.9928585 | P19: =IF(A19=1,(I19/N19),IF(A19=2,0,IF(A19=3,(1.2*(-I19/N19))))) -> 0.76541545 | Q19: 0 | R19: =N19*9.81*TAN(Q19) -> 0 | S19: =RADIANS(Q19) -> 0 | T19: =((63360/(PI()*12)*D19))/60 -> 280.29364 | U19: =IF((ABS(I19)*D19)/746>18,18,(ABS(I19)*D19)/746) -> 8.2019806 | V19: =U19*0.7457 -> 6.1162169 | W19: =IF(M19=1,_xlfn.XLOOKUP(D19,' RPM (ICE)'!$E$3:$E$63,' RPM (ICE)'!$B$3:$B$63,,1),IF(M19=2,_xlfn.XLOOKUP(D19,' RPM (ICE)'!$F$3:$F$63,' RPM (ICE)'!$B$3:$B$63,,1),IF(M19=3,_xlfn.XLOOKUP(D19,' RPM (ICE)'!$G$3:$G$63,' RPM (ICE)'!$B$3:$B$63,,1)))) -> 6300 | X19: =(9548.8*V19)/W19 -> 9.2702432 | Y19: =ROUND(X19,0) -> 9 | Z19: =IF(Y19<0,0,Y19) -> 9 | AA19: =IF(Z19>22,22,Z19) -> 9 | AC19: =IF(M19=1,_xlfn.XLOOKUP(D19,' RPM (ICE)'!$E$3:$E$63,' RPM (ICE)'!$C$3:$C$63,,-1),IF(M19=2,_xlfn.XLOOKUP(D19,' RPM (ICE)'!$F$3:$F$63,' RPM (ICE)'!$C$3:$C$63,,-1),IF(M19=3,_xlfn.XLOOKUP(D19,' RPM (ICE)'!$G$3:$G$63,' RPM (ICE)'!$C$3:$C$63,,-1)))) -> 17.435 | AD19: =AC19*0.7457 -> 13.001279 | AE19: =(9548.8*AD19)/W19 -> 19.705812 | AF19: {=_xlfn.XLOOKUP(AE19,BSFC!$I$11:$I$33,_xlfn.XLOOKUP('Main Data (ICE)'!W19,BSFC!$J$10:$W$10,BSFC!$J$11:$W$33,,-1),,-1)} -> 457.16662 | AG19: =(AF19*AD19)/(60*60) -> 1.6510419 | AH19: =((F19-F18)/3600)*AD19 -> 0.00080734187 | AI19: =AH19*AF19 -> 0.36908976 | AJ19: =AI19+AJ18 -> 4.571416 | AK19: =((AF19*AH19)/1000)/0.755 -> 0.0004888606 | AL19: =AL18+AK19 -> 0.0060548556
... A490: 1 | B490: A | C490: 484 | D490: =E490*2.23694 -> 30.00005 | E490: =MIN(13.4112,(SQRT((E489^2)+2*P489*$C$7))) -> 13.4112 | F490: =($C$7/E490)+F489 -> 44.09815 | G490: =0.5*('Specifications (ICE)'!$P$4*'Specifications (ICE)'!$P$3)*'Specifications (ICE)'!$P$5*E490^2 -> 56.2176 | H490: =IF(B490="A",'Specifications (ICE)'!$M$12,IF(B490="G",'Specifications (ICE)'!$M$13)) -> 84.271039 | I490: ='Specifications (ICE)'!$H$11-G490-H490-R490 -> 561.50961 | J490: =I490/N490 -> 0.88728655 | K490: =0.5*'Specifications (ICE)'!$E$16*E490^2 -> 48283.044 | L490: =E490/'Specifications (ICE)'!$M$4 -> 46.933333 | M490: =IF(D490<11,1,IF(D490<21,2,IF(D490>21,3))) -> 3 | N490: =IF(M490=1,'Specifications (ICE)'!$M$19,IF(M490=2,'Specifications (ICE)'!$M$20,IF(M490=3,'Specifications (ICE)'!$M$21))) -> 632.83908 | O490: =(0.5*N490*E490^2)/1000 -> 56.911309 | P490: =IF(A490=1,(I490/N490),IF(A490=2,0,IF(A490=3,(1.2*(-I490/N490))))) -> 0.88728655 | Q490: 0 | R490: =N490*9.81*TAN(Q490) -> 0 | S490: =RADIANS(Q490) -> 0 | T490: =((63360/(PI()*12)*D490))/60 -> 840.33949 | U490: =IF((ABS(I490)*D490)/746>18,18,(ABS(I490)*D490)/746) -> 18 | V490: =U490*0.7457 -> 13.4226 | W490: =IF(M490=1,_xlfn.XLOOKUP(D490,' RPM (ICE)'!$E$3:$E$63,' RPM (ICE)'!$B$3:$B$63,,1),IF(M490=2,_xlfn.XLOOKUP(D490,' RPM (ICE)'!$F$3:$F$63,' RPM (ICE)'!$B$3:$B$63,,1),IF(M490=3,_xlfn.XLOOKUP(D490,' RPM (ICE)'!$G$3:$G$63,' RPM (ICE)'!$B$3:$B$63,,1)))) -> 6900 | X490: =(9548.8*V490)/W490 -> 18.575322 | Y490: =ROUND(X490,0) -> 19 | Z490: =IF(Y490<0,0,Y490) -> 19 | AA490: =IF(Z490>22,22,Z490) -> 19 | AC490: =IF(M490=1,_xlfn.XLOOKUP(D490,' RPM (ICE)'!$E$3:$E$63,' RPM (ICE)'!$C$3:$C$63,,-1),IF(M490=2,_xlfn.XLOOKUP(D490,' RPM (ICE)'!$F$3:$F$63,' RPM (ICE)'!$C$3:$C$63,,-1),IF(M490=3,_xlfn.XLOOKUP(D490,' RPM (ICE)'!$G$3:$G$63,' RPM (ICE)'!$C$3:$C$63,,-1)))) -> 13.483333 | AD490: =AC490*0.7457 -> 10.054522 | AE490: =(9548.8*AD490)/W490 -> 13.914292 | AF490: {=_xlfn.XLOOKUP(AE490,BSFC!$I$11:$I$33,_xlfn.XLOOKUP('Main Data (ICE)'!W490,BSFC!$J$10:$W$10,BSFC!$J$11:$W$33,,-1),,-1)} -> 450.79009 | AG490: =(AF490*AD490)/(60*60) -> 1.2590219 | AH490: =((F490-F489)/3600)*AD490 -> 0.000208253 | AI490: =AH490*AF490 -> 0.09387839 | AJ490: =AI490+AJ489 -> 59.987325 | AK490: =((AF490*AH490)/1000)/0.755 -> 0.00012434224 | AL490: =AL489+AK490 -> 0.079453411
A491: 1 | B491: A | C491: 485 | D491: =E491*2.23694 -> 30.00005 | E491: =MIN(13.4112,(SQRT((E490^2)+2*P490*$C$7))) -> 13.4112 | F491: =($C$7/E491)+F490 -> 44.172714 | G491: =0.5*('Specifications (ICE)'!$P$4*'Specifications (ICE)'!$P$3)*'Specifications (ICE)'!$P$5*E491^2 -> 56.2176 | H491: =IF(B491="A",'Specifications (ICE)'!$M$12,IF(B491="G",'Specifications (ICE)'!$M$13)) -> 84.271039 | I491: ='Specifications (ICE)'!$H$11-G491-H491-R491 -> -484.86982 | J491: =I491/N491 -> -0.76618186 | K491: =0.5*'Specifications (ICE)'!$E$16*E491^2 -> 48283.044 | L491: =E491/'Specifications (ICE)'!$M$4 -> 46.933333 | M491: =IF(D491<11,1,IF(D491<21,2,IF(D491>21,3))) -> 3 | N491: =IF(M491=1,'Specifications (ICE)'!$M$19,IF(M491=2,'Specifications (ICE)'!$M$20,IF(M491=3,'Specifications (ICE)'!$M$21))) -> 632.83908 | O491: =(0.5*N491*E491^2)/1000 -> 56.911309 | P491: =IF(A491=1,(I491/N491),IF(A491=2,0,IF(A491=3,(1.2*(-I491/N491))))) -> -0.76618186 | Q491: 0.2 | R491: ='Specifications (ICE)'!$E$16*9.81*SIN(Q491-Q490) -> 1046.3794 | S491: =RADIANS(Q491) -> 0.0034906585 | T491: =((63360/(PI()*12)*D491))/60 -> 840.33949 | U491: =IF((ABS(I491)*D491)/746>18,18,(ABS(I491)*D491)/746) -> 18 | V491: =U491*0.7457 -> 13.4226 | W491: =IF(M491=1,_xlfn.XLOOKUP(D491,' RPM (ICE)'!$E$3:$E$63,' RPM (ICE)'!$B$3:$B$63,,1),IF(M491=2,_xlfn.XLOOKUP(D491,' RPM (ICE)'!$F$3:$F$63,' RPM (ICE)'!$B$3:$B$63,,1),IF(M491=3,_xlfn.XLOOKUP(D491,' RPM (ICE)'!$G$3:$G$63,' RPM (ICE)'!$B$3:$B$63,,1)))) -> 6900 | X491: =(9548.8*V491)/W491 -> 18.575322 | Y491: =ROUND(X491,0) -> 19 | Z491: =IF(Y491<0,0,Y491) -> 19 | AA491: =IF(Z491>22,22,Z491) -> 19 | AC491: =IF(M491=1,_xlfn.XLOOKUP(D491,' RPM (ICE)'!$E$3:$E$63,' RPM (ICE)'!$C$3:$C$63,,-1),IF(M491=2,_xlfn.XLOOKUP(D491,' RPM (ICE)'!$F$3:$F$63,' RPM (ICE)'!$C$3:$C$63,,-1),IF(M491=3,_xlfn.XLOOKUP(D491,' RPM (ICE)'!$G$3:$G$63,' RPM (ICE)'!$C$3:$C$63,,-1)))) -> 13.483333 | AD491: =AC491*0.7457 -> 10.054522 | AE491: =(9548.8*AD491)/W491 -> 13.914292 | AF491: {=_xlfn.XLOOKUP(AE491,BSFC!$I$11:$I$33,_xlfn.XLOOKUP('Main Data (ICE)'!W491,BSFC!$J$10:$W$10,BSFC!$J$11:$W$33,,-1),,-1)} -> 450.79009 | AG491: =(AF491*AD491)/(60*60) -> 1.2590219 | AH491: =((F491-F490)/3600)*AD491 -> 0.000208253 | AI491: =AH491*AF491 -> 0.09387839 | AJ491: =AI491+AJ490 -> 60.081204 | AK491: =((AF491*AH491)/1000)/0.755 -> 0.00012434224 | AL491: =AL490+AK491 -> 0.079577753
A492: 1 | B492: A | C492: 486 | D492: =E492*2.23694 -> 29.87198 | E492: =MIN(13.4112,(SQRT((E491^2)+2*P491*$C$7))) -> 13.353948 | F492: =($C$7/E492)+F491 -> 44.247598 | G492: =0.5*('Specifications (ICE)'!$P$4*'Specifications (ICE)'!$P$3)*'Specifications (ICE)'!$P$5*E492^2 -> 55.73864 | H492: =IF(B492="A",'Specifications (ICE)'!$M$12,IF(B492="G",'Specifications (ICE)'!$M$13)) -> 84.271039 | I492: ='Specifications (ICE)'!$H$11-G492-H492-R492 -> -484.39086 | J492: =I492/N492 -> -0.76542501 | K492: =0.5*'Specifications (ICE)'!$E$16*E492^2 -> 47871.685 | L492: =E492/'Specifications (ICE)'!$M$4 -> 46.732976 | M492: =IF(D492<11,1,IF(D492<21,2,IF(D492>21,3))) -> 3 | N492: =IF(M492=1,'Specifications (ICE)'!$M$19,IF(M492=2,'Specifications (ICE)'!$M$20,IF(M492=3,'Specifications (ICE)'!$M$21))) -> 632.83908 | O492: =(0.5*N492*E492^2)/1000 -> 56.426439 | P492: =IF(A492=1,(I492/N492),IF(A492=2,0,IF(A492=3,(1.2*(-I492/N492))))) -> -0.76542501 | Q492: 0.4 | R492: ='Specifications (ICE)'!$E$16*9.81*SIN(Q492-Q491) -> 1046.3794 | S492: =RADIANS(Q492) -> 0.006981317 | T492: =((63360/(PI()*12)*D492))/60 -> 836.7521 | U492: =IF((ABS(I492)*D492)/746>18,18,(ABS(I492)*D492)/746) -> 18 | V492: =U492*0.7457 -> 13.4226 | W492: =IF(M492=1,_xlfn.XLOOKUP(D492,' RPM (ICE)'!$E$3:$E$63,' RPM (ICE)'!$B$3:$B$63,,1),IF(M492=2,_xlfn.XLOOKUP(D492,' RPM (ICE)'!$F$3:$F$63,' RPM (ICE)'!$B$3:$B$63,,1),IF(M492=3,_xlfn.XLOOKUP(D492,' RPM (ICE)'!$G$3:$G$63,' RPM (ICE)'!$B$3:$B$63,,1)))) -> 6900 | X492: =(9548.8*V492)/W492 -> 18.575322 | Y492: =ROUND(X492,0) -> 19 | Z492: =IF(Y492<0,0,Y492) -> 19 | AA492: =IF(Z492>22,22,Z492) -> 19 | AC492: =IF(M492=1,_xlfn.XLOOKUP(D492,' RPM (ICE)'!$E$3:$E$63,' RPM (ICE)'!$C$3:$C$63,,-1),IF(M492=2,_xlfn.XLOOKUP(D492,' RPM (ICE)'!$F$3:$F$63,' RPM (ICE)'!$C$3:$C$63,,-1),IF(M492=3,_xlfn.XLOOKUP(D492,' RPM (ICE)'!$G$3:$G$63,' RPM (ICE)'!$C$3:$C$63,,-1)))) -> 13.483333 | AD492: =AC492*0.7457 -> 10.054522 | AE492: =(9548.8*AD492)/W492 -> 13.914292 | AF492: {=_xlfn.XLOOKUP(AE492,BSFC!$I$11:$I$33,_xlfn.XLOOKUP('Main Data (ICE)'!W492,BSFC!$J$10:$W$10,BSFC!$J$11:$W$33,,-1),,-1)} -> 450.79009 | AG492: =(AF492*AD492)/(60*60) -> 1.2590219 | AH492: =((F492-F491)/3600)*AD492 -> 0.00020914584 | AI492: =AH492*AF492 -> 0.094280874 | AJ492: =AI492+AJ491 -> 60.175485 | AK492: =((AF492*AH492)/1000)/0.755 -> 0.00012487533 | AL492: =AL491+AK492 -> 0.079702629
A493: 1 | B493: A | C493: 487 | D493: =E493*2.23694 -> 29.743486 | E493: =MIN(13.4112,(SQRT((E492^2)+2*P492*$C$7))) -> 13.296506 | F493: =($C$7/E493)+F492 -> 44.322806 | G493: =0.5*('Specifications (ICE)'!$P$4*'Specifications (ICE)'!$P$3)*'Specifications (ICE)'!$P$5*E493^2 -> 55.260154 | H493: =IF(B493="A",'Specifications (ICE)'!$M$12,IF(B493="G",'Specifications (ICE)'!$M$13)) -> 84.271039 | I493: ='Specifications (ICE)'!$H$11-G493-H493-R493 -> -483.91238 | J493: =I493/N493 -> -0.76466892 | K493: =0.5*'Specifications (ICE)'!$E$16*E493^2 -> 47460.732 | L493: =E493/'Specifications (ICE)'!$M$4 -> 46.531954 | M493: =IF(D493<11,1,IF(D493<21,2,IF(D493>21,3))) -> 3 | N493: =IF(M493=1,'Specifications (ICE)'!$M$19,IF(M493=2,'Specifications (ICE)'!$M$20,IF(M493=3,'Specifications (ICE)'!$M$21))) -> 632.83908 | O493: =(0.5*N493*E493^2)/1000 -> 55.942048 | P493: =IF(A493=1,(I493/N493),IF(A493=2,0,IF(A493=3,(1.2*(-I493/N493))))) -> -0.76466892 | Q493: 0.6 | R493: ='Specifications (ICE)'!$E$16*9.81*SIN(Q493-Q492) -> 1046.3794 | S493: =RADIANS(Q493) -> 0.010471976 | T493: =((63360/(PI()*12)*D493))/60 -> 833.15282 | U493: =IF((ABS(I493)*D493)/746>18,18,(ABS(I493)*D493)/746) -> 18 | V493: =U493*0.7457 -> 13.4226 | W493: =IF(M493=1,_xlfn.XLOOKUP(D493,' RPM (ICE)'!$E$3:$E$63,' RPM (ICE)'!$B$3:$B$63,,1),IF(M493=2,_xlfn.XLOOKUP(D493,' RPM (ICE)'!$F$3:$F$63,' RPM (ICE)'!$B$3:$B$63,,1),IF(M493=3,_xlfn.XLOOKUP(D493,' RPM (ICE)'!$G$3:$G$63,' RPM (ICE)'!$B$3:$B$63,,1)))) -> 6800 | X493: =(9548.8*V493)/W493 -> 18.848489 | Y493: =ROUND(X493,0) -> 19 | Z493: =IF(Y493<0,0,Y493) -> 19 | AA493: =IF(Z493>22,22,Z493) -> 19 | AC493: =IF(M493=1,_xlfn.XLOOKUP(D493,' RPM (ICE)'!$E$3:$E$63,' RPM (ICE)'!$C$3:$C$63,,-1),IF(M493=2,_xlfn.XLOOKUP(D493,' RPM (ICE)'!$F$3:$F$63,' RPM (ICE)'!$C$3:$C$63,,-1),IF(M493=3,_xlfn.XLOOKUP(D493,' RPM (ICE)'!$G$3:$G$63,' RPM (ICE)'!$C$3:$C$63,,-1)))) -> 14 | AD493: =AC493*0.7457 -> 10.4398 | AE493: =(9548.8*AD493)/W493 -> 14.659936 | AF493: {=_xlfn.XLOOKUP(AE493,BSFC!$I$11:$I$33,_xlfn.XLOOKUP('Main Data (ICE)'!W493,BSFC!$J$10:$W$10,BSFC!$J$11:$W$33,,-1),,-1)} -> 426.97377 | AG493: =(AF493*AD493)/(60*60) -> 1.2382002 | AH493: =((F493-F492)/3600)*AD493 -> 0.00021809823 | AI493: =AH493*AF493 -> 0.093122225 | AJ493: =AI493+AJ492 -> 60.268607 | AK493: =((AF493*AH493)/1000)/0.755 -> 0.0001233407 | AL493: =AL492+AK493 -> 0.079825969
A494: 1 | B494: A | C494: 488 | D494: =E494*2.23694 -> 29.614563 | E494: =MIN(13.4112,(SQRT((E493^2)+2*P493*$C$7))) -> 13.238872 | F494: =($C$7/E494)+F493 -> 44.398341 | G494: =0.5*('Specifications (ICE)'!$P$4*'Specifications (ICE)'!$P$3)*'Specifications (ICE)'!$P$5*E494^2 -> 54.78214 | H494: =IF(B494="A",'Specifications (ICE)'!$M$12,IF(B494="G",'Specifications (ICE)'!$M$13)) -> 84.271039 | I494: ='Specifications (ICE)'!$H$11-G494-H494-R494 -> -483.43436 | J494: =I494/N494 -> -0.76391357 | K494: =0.5*'Specifications (ICE)'!$E$16*E494^2 -> 47050.185 | L494: =E494/'Specifications (ICE)'!$M$4 -> 46.330261 | M494: =IF(D494<11,1,IF(D494<21,2,IF(D494>21,3))) -> 3 | N494: =IF(M494=1,'Specifications (ICE)'!$M$19,IF(M494=2,'Specifications (ICE)'!$M$20,IF(M494=3,'Specifications (ICE)'!$M$21))) -> 632.83908 | O494: =(0.5*N494*E494^2)/1000 -> 55.458136 | P494: =IF(A494=1,(I494/N494),IF(A494=2,0,IF(A494=3,(1.2*(-I494/N494))))) -> -0.76391357 | Q494: 0.8 | R494: ='Specifications (ICE)'!$E$16*9.81*SIN(Q494-Q493) -> 1046.3794 | S494: =RADIANS(Q494) -> 0.013962634 | T494: =((63360/(PI()*12)*D494))/60 -> 829.54151 | U494: =IF((ABS(I494)*D494)/746>18,18,(ABS(I494)*D494)/746) -> 18 | V494: =U494*0.7457 -> 13.4226 | W494: =IF(M494=1,_xlfn.XLOOKUP(D494,' RPM (ICE)'!$E$3:$E$63,' RPM (ICE)'!$B$3:$B$63,,1),IF(M494=2,_xlfn.XLOOKUP(D494,' RPM (ICE)'!$F$3:$F$63,' RPM (ICE)'!$B$3:$B$63,,1),IF(M494=3,_xlfn.XLOOKUP(D494,' RPM (ICE)'!$G$3:$G$63,' RPM (ICE)'!$B$3:$B$63,,1)))) -> 6800 | X494: =(9548.8*V494)/W494 -> 18.848489 | Y494: =ROUND(X494,0) -> 19 | Z494: =IF(Y494<0,0,Y494) -> 19 | AA494: =IF(Z494>22,22,Z494) -> 19 | AC494: =IF(M494=1,_xlfn.XLOOKUP(D494,' RPM (ICE)'!$E$3:$E$63,' RPM (ICE)'!$C$3:$C$63,,-1),IF(M494=2,_xlfn.XLOOKUP(D494,' RPM (ICE)'!$F$3:$F$63,' RPM (ICE)'!$C$3:$C$63,,-1),IF(M494=3,_xlfn.XLOOKUP(D494,' RPM (ICE)'!$G$3:$G$63,' RPM (ICE)'!$C$3:$C$63,,-1)))) -> 14 | AD494: =AC494*0.7457 -> 10.4398 | AE494: =(9548.8*AD494)/W494 -> 14.659936 | AF494: {=_xlfn.XLOOKUP(AE494,BSFC!$I$11:$I$33,_xlfn.XLOOKUP('Main Data (ICE)'!W494,BSFC!$J$10:$W$10,BSFC!$J$11:$W$33,,-1),,-1)} -> 426.97377 | AG494: =(AF494*AD494)/(60*60) -> 1.2382002 | AH494: =((F494-F493)/3600)*AD494 -> 0.0002190477 | AI494: =AH494*AF494 -> 0.093527622 | AJ494: =AI494+AJ493 -> 60.362135 | AK494: =((AF494*AH494)/1000)/0.755 -> 0.00012387765 | AL494: =AL493+AK494 -> 0.079949847
A495: 1 | B495: A | C495: 489 | D495: =E495*2.23694 -> 29.485203 | E495: =MIN(13.4112,(SQRT((E494^2)+2*P494*$C$7))) -> 13.181043 | F495: =($C$7/E495)+F494 -> 44.474208 | G495: =0.5*('Specifications (ICE)'!$P$4*'Specifications (ICE)'!$P$3)*'Specifications (ICE)'!$P$5*E495^2 -> 54.304598 | H495: =IF(B495="A",'Specifications (ICE)'!$M$12,IF(B495="G",'Specifications (ICE)'!$M$13)) -> 84.271039 | I495: ='Specifications (ICE)'!$H$11-G495-H495-R495 -> -482.95682 | J495: =I495/N495 -> -0.76315897 | K495: =0.5*'Specifications (ICE)'!$E$16*E495^2 -> 46640.044 | L495: =E495/'Specifications (ICE)'!$M$4 -> 46.127886 | M495: =IF(D495<11,1,IF(D495<21,2,IF(D495>21,3))) -> 3 | N495: =IF(M495=1,'Specifications (ICE)'!$M$19,IF(M495=2,'Specifications (ICE)'!$M$20,IF(M495=3,'Specifications (ICE)'!$M$21))) -> 632.83908 | O495: =(0.5*N495*E495^2)/1000 -> 54.974702 | P495: =IF(A495=1,(I495/N495),IF(A495=2,0,IF(A495=3,(1.2*(-I495/N495))))) -> -0.76315897 | Q495: 1 | R495: ='Specifications (ICE)'!$E$16*9.81*SIN(Q495-Q494) -> 1046.3794 | S495: =RADIANS(Q495) -> 0.017453293 | T495: =((63360/(PI()*12)*D495))/60 -> 825.91799 | U495: =IF((ABS(I495)*D495)/746>18,18,(ABS(I495)*D495)/746) -> 18 | V495: =U495*0.7457 -> 13.4226 | W495: =IF(M495=1,_xlfn.XLOOKUP(D495,' RPM (ICE)'!$E$3:$E$63,' RPM (ICE)'!$B$3:$B$63,,1),IF(M495=2,_xlfn.XLOOKUP(D495,' RPM (ICE)'!$F$3:$F$63,' RPM (ICE)'!$B$3:$B$63,,1),IF(M495=3,_xlfn.XLOOKUP(D495,' RPM (ICE)'!$G$3:$G$63,' RPM (ICE)'!$B$3:$B$63,,1)))) -> 6800 | X495: =(9548.8*V495)/W495 -> 18.848489 | Y495: =ROUND(X495,0) -> 19 | Z495: =IF(Y495<0,0,Y495) -> 19 | AA495: =IF(Z495>22,22,Z495) -> 19 | AC495: =IF(M495=1,_xlfn.XLOOKUP(D495,' RPM (ICE)'!$E$3:$E$63,' RPM (ICE)'!$C$3:$C$63,,-1),IF(M495=2,_xlfn.XLOOKUP(D495,' RPM (ICE)'!$F$3:$F$63,' RPM (ICE)'!$C$3:$C$63,,-1),IF(M495=3,_xlfn.XLOOKUP(D495,' RPM (ICE)'!$G$3:$G$63,' RPM (ICE)'!$C$3:$C$63,,-1)))) -> 14 | AD495: =AC495*0.7457 -> 10.4398 | AE495: =(9548.8*AD495)/W495 -> 14.659936 | AF495: {=_xlfn.XLOOKUP(AE495,BSFC!$I$11:$I$33,_xlfn.XLOOKUP('Main Data (ICE)'!W495,BSFC!$J$10:$W$10,BSFC!$J$11:$W$33,,-1),,-1)} -> 426.97377 | AG495: =(AF495*AD495)/(60*60) -> 1.2382002 | AH495: =((F495-F494)/3600)*AD495 -> 0.00022000872 | AI495: =AH495*AF495 -> 0.093937952 | AJ495: =AI495+AJ494 -> 60.456073 | AK495: =((AF495*AH495)/1000)/0.755 -> 0.00012442113 | AL495: =AL494+AK495 -> 0.080074268
A496: 1 | B496: A | C496: 490 | D496: =E496*2.23694 -> 29.355403 | E496: =MIN(13.4112,(SQRT((E495^2)+2*P495*$C$7))) -> 13.123018 | F496: =($C$7/E496)+F495 -> 44.55041 | G496: =0.5*('Specifications (ICE)'!$P$4*'Specifications (ICE)'!$P$3)*'Specifications (ICE)'!$P$5*E496^2 -> 53.827529 | H496: =IF(B496="A",'Specifications (ICE)'!$M$12,IF(B496="G",'Specifications (ICE)'!$M$13)) -> 84.271039 | I496: ='Specifications (ICE)'!$H$11-G496-H496-R496 -> -482.47975 | J496: =I496/N496 -> -0.76240511 | K496: =0.5*'Specifications (ICE)'!$E$16*E496^2 -> 46230.307 | L496: =E496/'Specifications (ICE)'!$M$4 -> 45.924821 | M496: =IF(D496<11,1,IF(D496<21,2,IF(D496>21,3))) -> 3 | N496: =IF(M496=1,'Specifications (ICE)'!$M$19,IF(M496=2,'Specifications (ICE)'!$M$20,IF(M496=3,'Specifications (ICE)'!$M$21))) -> 632.83908 | O496: =(0.5*N496*E496^2)/1000 -> 54.491745 | P496: =IF(A496=1,(I496/N496),IF(A496=2,0,IF(A496=3,(1.2*(-I496/N496))))) -> -0.76240511 | Q496: 1.2 | R496: ='Specifications (ICE)'!$E$16*9.81*SIN(Q496-Q495) -> 1046.3794 | S496: =RADIANS(Q496) -> 0.020943951 | T496: =((63360/(PI()*12)*D496))/60 -> 822.28211 | U496: =IF((ABS(I496)*D496)/746>18,18,(ABS(I496)*D496)/746) -> 18 | V496: =U496*0.7457 -> 13.4226 | W496: =IF(M496=1,_xlfn.XLOOKUP(D496,' RPM (ICE)'!$E$3:$E$63,' RPM (ICE)'!$B$3:$B$63,,1),IF(M496=2,_xlfn.XLOOKUP(D496,' RPM (ICE)'!$F$3:$F$63,' RPM (ICE)'!$B$3:$B$63,,1),IF(M496=3,_xlfn.XLOOKUP(D496,' RPM (ICE)'!$G$3:$G$63,' RPM (ICE)'!$B$3:$B$63,,1)))) -> 6700 | X496: =(9548.8*V496)/W496 -> 19.129809 | Y496: =ROUND(X496,0) -> 19 | Z496: =IF(Y496<0,0,Y496) -> 19 | AA496: =IF(Z496>22,22,Z496) -> 19 | AC496: =IF(M496=1,_xlfn.XLOOKUP(D496,' RPM (ICE)'!$E$3:$E$63,' RPM (ICE)'!$C$3:$C$63,,-1),IF(M496=2,_xlfn.XLOOKUP(D496,' RPM (ICE)'!$F$3:$F$63,' RPM (ICE)'!$C$3:$C$63,,-1),IF(M496=3,_xlfn.XLOOKUP(D496,' RPM (ICE)'!$G$3:$G$63,' RPM (ICE)'!$C$3:$C$63,,-1)))) -> 16.8 | AD496: =AC496*0.7457 -> 12.52776 | AE496: =(9548.8*AD496)/W496 -> 17.854489 | AF496: {=_xlfn.XLOOKUP(AE496,BSFC!$I$11:$I$33,_xlfn.XLOOKUP('Main Data (ICE)'!W496,BSFC!$J$10:$W$10,BSFC!$J$11:$W$33,,-1),,-1)} -> 484.72802 | AG496: =(AF496*AD496)/(60*60) -> 1.6868212 | AH496: =((F496-F495)/3600)*AD496 -> 0.00026517783 | AI496: =AH496*AF496 -> 0.12853912 | AJ496: =AI496+AJ495 -> 60.584612 | AK496: =((AF496*AH496)/1000)/0.755 -> 0.0001702505 | AL496: =AL495+AK496 -> 0.080244519
A497: 1 | B497: A | C497: 491 | D497: =E497*2.23694 -> 29.225155 | E497: =MIN(13.4112,(SQRT((E496^2)+2*P496*$C$7))) -> 13.064792 | F497: =($C$7/E497)+F496 -> 44.626951 | G497: =0.5*('Specifications (ICE)'!$P$4*'Specifications (ICE)'!$P$3)*'Specifications (ICE)'!$P$5*E497^2 -> 53.35093 | H497: =IF(B497="A",'Specifications (ICE)'!$M$12,IF(B497="G",'Specifications (ICE)'!$M$13)) -> 84.271039 | I497: ='Specifications (ICE)'!$H$11-G497-H497-R497 -> -482.00315 | J497: =I497/N497 -> -0.761652 | K497: =0.5*'Specifications (ICE)'!$E$16*E497^2 -> 45820.976 | L497: =E497/'Specifications (ICE)'!$M$4 -> 45.721055 | M497: =IF(D497<11,1,IF(D497<21,2,IF(D497>21,3))) -> 3 | N497: =IF(M497=1,'Specifications (ICE)'!$M$19,IF(M497=2,'Specifications (ICE)'!$M$20,IF(M497=3,'Specifications (ICE)'!$M$21))) -> 632.83908 | O497: =(0.5*N497*E497^2)/1000 -> 54.009265 | P497: =IF(A497=1,(I497/N497),IF(A497=2,0,IF(A497=3,(1.2*(-I497/N497))))) -> -0.761652 | Q497: 1.4 | R497: ='Specifications (ICE)'!$E$16*9.81*SIN(Q497-Q496) -> 1046.3794 | S497: =RADIANS(Q497) -> 0.02443461 | T497: =((63360/(PI()*12)*D497))/60 -> 818.6337 | U497: =IF((ABS(I497)*D497)/746>18,18,(ABS(I497)*D497)/746) -> 18 | V497: =U497*0.7457 -> 13.4226 | W497: =IF(M497=1,_xlfn.XLOOKUP(D497,' RPM (ICE)'!$E$3:$E$63,' RPM (ICE)'!$B$3:$B$63,,1),IF(M497=2,_xlfn.XLOOKUP(D497,' RPM (ICE)'!$F$3:$F$63,' RPM (ICE)'!$B$3:$B$63,,1),IF(M497=3,_xlfn.XLOOKUP(D497,' RPM (ICE)'!$G$3:$G$63,' RPM (ICE)'!$B$3:$B$63,,1)))) -> 6700 | X497: =(9548.8*V497)/W497 -> 19.129809 | Y497: =ROUND(X497,0) -> 19 | Z497: =IF(Y497<0,0,Y497) -> 19 | AA497: =IF(Z497>22,22,Z497) -> 19 | AC497: =IF(M497=1,_xlfn.XLOOKUP(D497,' RPM (ICE)'!$E$3:$E$63,' RPM (ICE)'!$C$3:$C$63,,-1),IF(M497=2,_xlfn.XLOOKUP(D497,' RPM (ICE)'!$F$3:$F$63,' RPM (ICE)'!$C$3:$C$63,,-1),IF(M497=3,_xlfn.XLOOKUP(D497,' RPM (ICE)'!$G$3:$G$63,' RPM (ICE)'!$C$3:$C$63,,-1)))) -> 16.8 | AD497: =AC497*0.7457 -> 12.52776 | AE497: =(9548.8*AD497)/W497 -> 17.854489 | AF497: {=_xlfn.XLOOKUP(AE497,BSFC!$I$11:$I$33,_xlfn.XLOOKUP('Main Data (ICE)'!W497,BSFC!$J$10:$W$10,BSFC!$J$11:$W$33,,-1),,-1)} -> 484.72802 | AG497: =(AF497*AD497)/(60*60) -> 1.6868212 | AH497: =((F497-F496)/3600)*AD497 -> 0.00026635965 | AI497: =AH497*AF497 -> 0.12911199 | AJ497: =AI497+AJ496 -> 60.713724 | AK497: =((AF497*AH497)/1000)/0.755 -> 0.00017100925 | AL497: =AL496+AK497 -> 0.080415528
A498: 1 | B498: A | C498: 492 | D498: =E498*2.23694 -> 29.094453 | E498: =MIN(13.4112,(SQRT((E497^2)+2*P497*$C$7))) -> 13.006363 | F498: =($C$7/E498)+F497 -> 44.703837 | G498: =0.5*('Specifications (ICE)'!$P$4*'Specifications (ICE)'!$P$3)*'Specifications (ICE)'!$P$5*E498^2 -> 52.874802 | H498: =IF(B498="A",'Specifications (ICE)'!$M$12,IF(B498="G",'Specifications (ICE)'!$M$13)) -> 84.271039 | I498: ='Specifications (ICE)'!$H$11-G498-H498-R498 -> -481.52703 | J498: =I498/N498 -> -0.76089963 | K498: =0.5*'Specifications (ICE)'!$E$16*E498^2 -> 45412.049 | L498: =E498/'Specifications (ICE)'!$M$4 -> 45.51658 | M498: =IF(D498<11,1,IF(D498<21,2,IF(D498>21,3))) -> 3 | N498: =IF(M498=1,'Specifications (ICE)'!$M$19,IF(M498=2,'Specifications (ICE)'!$M$20,IF(M498=3,'Specifications (ICE)'!$M$21))) -> 632.83908 | O498: =(0.5*N498*E498^2)/1000 -> 53.527262 | P498: =IF(A498=1,(I498/N498),IF(A498=2,0,IF(A498=3,(1.2*(-I498/N498))))) -> -0.76089963 | Q498: 1.6 | R498: ='Specifications (ICE)'!$E$16*9.81*SIN(Q498-Q497) -> 1046.3794 | S498: =RADIANS(Q498) -> 0.027925268 | T498: =((63360/(PI()*12)*D498))/60 -> 814.97259 | U498: =IF((ABS(I498)*D498)/746>18,18,(ABS(I498)*D498)/746) -> 18 | V498: =U498*0.7457 -> 13.4226 | W498: =IF(M498=1,_xlfn.XLOOKUP(D498,' RPM (ICE)'!$E$3:$E$63,' RPM (ICE)'!$B$3:$B$63,,1),IF(M498=2,_xlfn.XLOOKUP(D498,' RPM (ICE)'!$F$3:$F$63,' RPM (ICE)'!$B$3:$B$63,,1),IF(M498=3,_xlfn.XLOOKUP(D498,' RPM (ICE)'!$G$3:$G$63,' RPM (ICE)'!$B$3:$B$63,,1)))) -> 6700 | X498: =(9548.8*V498)/W498 -> 19.129809 | Y498: =ROUND(X498,0) -> 19 | Z498: =IF(Y498<0,0,Y498) -> 19 | AA498: =IF(Z498>22,22,Z498) -> 19 | AC498: =IF(M498=1,_xlfn.XLOOKUP(D498,' RPM (ICE)'!$E$3:$E$63,' RPM (ICE)'!$C$3:$C$63,,-1),IF(M498=2,_xlfn.XLOOKUP(D498,' RPM (ICE)'!$F$3:$F$63,' RPM (ICE)'!$C$3:$C$63,,-1),IF(M498=3,_xlfn.XLOOKUP(D498,' RPM (ICE)'!$G$3:$G$63,' RPM (ICE)'!$C$3:$C$63,,-1)))) -> 16.8 | AD498: =AC498*0.7457 -> 12.52776 | AE498: =(9548.8*AD498)/W498 -> 17.854489 | AF498: {=_xlfn.XLOOKUP(AE498,BSFC!$I$11:$I$33,_xlfn.XLOOKUP('Main Data (ICE)'!W498,BSFC!$J$10:$W$10,BSFC!$J$11:$W$33,,-1),,-1)} -> 484.72802 | AG498: =(AF498*AD498)/(60*60) -> 1.6868212 | AH498: =((F498-F497)/3600)*AD498 -> 0.00026755622 | AI498: =AH498*AF498 -> 0.129692 | AJ498: =AI498+AJ497 -> 60.843416 | AK498: =((AF498*AH498)/1000)/0.755 -> 0.00017177748 | AL498: =AL497+AK498 -> 0.080587305
A499: 1 | B499: A | C499: 493 | D499: =E499*2.23694 -> 28.963292 | E499: =MIN(13.4112,(SQRT((E498^2)+2*P498*$C$7))) -> 12.947729 | F499: =($C$7/E499)+F498 -> 44.78107 | G499: =0.5*('Specifications (ICE)'!$P$4*'Specifications (ICE)'!$P$3)*'Specifications (ICE)'!$P$5*E499^2 -> 52.399144 | H499: =IF(B499="A",'Specifications (ICE)'!$M$12,IF(B499="G",'Specifications (ICE)'!$M$13)) -> 84.271039 | I499: ='Specifications (ICE)'!$H$11-G499-H499-R499 -> -481.05137 | J499: =I499/N499 -> -0.76014801 | K499: =0.5*'Specifications (ICE)'!$E$16*E499^2 -> 45003.526 | L499: =E499/'Specifications (ICE)'!$M$4 -> 45.311386 | M499: =IF(D499<11,1,IF(D499<21,2,IF(D499>21,3))) -> 3 | N499: =IF(M499=1,'Specifications (ICE)'!$M$19,IF(M499=2,'Specifications (ICE)'!$M$20,IF(M499=3,'Specifications (ICE)'!$M$21))) -> 632.83908 | O499: =(0.5*N499*E499^2)/1000 -> 53.045735 | P499: =IF(A499=1,(I499/N499),IF(A499=2,0,IF(A499=3,(1.2*(-I499/N499))))) -> -0.76014801 | Q499: 1.8 | R499: ='Specifications (ICE)'!$E$16*9.81*SIN(Q499-Q498) -> 1046.3794 | S499: =RADIANS(Q499) -> 0.031415927 | T499: =((63360/(PI()*12)*D499))/60 -> 811.29859 | U499: =IF((ABS(I499)*D499)/746>18,18,(ABS(I499)*D499)/746) -> 18 | V499: =U499*0.7457 -> 13.4226 | W499: =IF(M499=1,_xlfn.XLOOKUP(D499,' RPM (ICE)'!$E$3:$E$63,' RPM (ICE)'!$B$3:$B$63,,1),IF(M499=2,_xlfn.XLOOKUP(D499,' RPM (ICE)'!$F$3:$F$63,' RPM (ICE)'!$B$3:$B$63,,1),IF(M499=3,_xlfn.XLOOKUP(D499,' RPM (ICE)'!$G$3:$G$63,' RPM (ICE)'!$B$3:$B$63,,1)))) -> 6700 | X499: =(9548.8*V499)/W499 -> 19.129809 | Y499: =ROUND(X499,0) -> 19 | Z499: =IF(Y499<0,0,Y499) -> 19 | AA499: =IF(Z499>22,22,Z499) -> 19 | AC499: =IF(M499=1,_xlfn.XLOOKUP(D499,' RPM (ICE)'!$E$3:$E$63,' RPM (ICE)'!$C$3:$C$63,,-1),IF(M499=2,_xlfn.XLOOKUP(D499,' RPM (ICE)'!$F$3:$F$63,' RPM (ICE)'!$C$3:$C$63,,-1),IF(M499=3,_xlfn.XLOOKUP(D499,' RPM (ICE)'!$G$3:$G$63,' RPM (ICE)'!$C$3:$C$63,,-1)))) -> 16.8 | AD499: =AC499*0.7457 -> 12.52776 | AE499: =(9548.8*AD499)/W499 -> 17.854489 | AF499: {=_xlfn.XLOOKUP(AE499,BSFC!$I$11:$I$33,_xlfn.XLOOKUP('Main Data (ICE)'!W499,BSFC!$J$10:$W$10,BSFC!$J$11:$W$33,,-1),,-1)} -> 484.72802 | AG499: =(AF499*AD499)/(60*60) -> 1.6868212 | AH499: =((F499-F498)/3600)*AD499 -> 0.00026876786 | AI499: =AH499*AF499 -> 0.13027931 | AJ499: =AI499+AJ498 -> 60.973695 | AK499: =((AF499*AH499)/1000)/0.755 -> 0.00017255538 | AL499: =AL498+AK499 -> 0.080759861
A500: 1 | B500: A | C500: 494 | D500: =E500*2.23694 -> 28.831664 | E500: =MIN(13.4112,(SQRT((E499^2)+2*P499*$C$7))) -> 12.888886 | F500: =($C$7/E500)+F499 -> 44.858657 | G500: =0.5*('Specifications (ICE)'!$P$4*'Specifications (ICE)'!$P$3)*'Specifications (ICE)'!$P$5*E500^2 -> 51.923957 | H500: =IF(B500="A",'Specifications (ICE)'!$M$12,IF(B500="G",'Specifications (ICE)'!$M$13)) -> 84.271039 | I500: ='Specifications (ICE)'!$H$11-G500-H500-R500 -> -480.57618 | J500: =I500/N500 -> -0.75939712 | K500: =0.5*'Specifications (ICE)'!$E$16*E500^2 -> 44595.406 | L500: =E500/'Specifications (ICE)'!$M$4 -> 45.105462 | M500: =IF(D500<11,1,IF(D500<21,2,IF(D500>21,3))) -> 3 | N500: =IF(M500=1,'Specifications (ICE)'!$M$19,IF(M500=2,'Specifications (ICE)'!$M$20,IF(M500=3,'Specifications (ICE)'!$M$21))) -> 632.83908 | O500: =(0.5*N500*E500^2)/1000 -> 52.564684 | P500: =IF(A500=1,(I500/N500),IF(A500=2,0,IF(A500=3,(1.2*(-I500/N500))))) -> -0.75939712 | Q500: 2 | R500: ='Specifications (ICE)'!$E$16*9.81*SIN(Q500-Q499) -> 1046.3794 | S500: =RADIANS(Q500) -> 0.034906585 | T500: =((63360/(PI()*12)*D500))/60 -> 807.61154 | U500: =IF((ABS(I500)*D500)/746>18,18,(ABS(I500)*D500)/746) -> 18 | V500: =U500*0.7457 -> 13.4226 | W500: =IF(M500=1,_xlfn.XLOOKUP(D500,' RPM (ICE)'!$E$3:$E$63,' RPM (ICE)'!$B$3:$B$63,,1),IF(M500=2,_xlfn.XLOOKUP(D500,' RPM (ICE)'!$F$3:$F$63,' RPM (ICE)'!$B$3:$B$63,,1),IF(M500=3,_xlfn.XLOOKUP(D500,' RPM (ICE)'!$G$3:$G$63,' RPM (ICE)'!$B$3:$B$63,,1)))) -> 6600 | X500: =(9548.8*V500)/W500 -> 19.419655 | Y500: =ROUND(X500,0) -> 19 | Z500: =IF(Y500<0,0,Y500) -> 19 | AA500: =IF(Z500>22,22,Z500) -> 19 | AC500: =IF(M500=1,_xlfn.XLOOKUP(D500,' RPM (ICE)'!$E$3:$E$63,' RPM (ICE)'!$C$3:$C$63,,-1),IF(M500=2,_xlfn.XLOOKUP(D500,' RPM (ICE)'!$F$3:$F$63,' RPM (ICE)'!$C$3:$C$63,,-1),IF(M500=3,_xlfn.XLOOKUP(D500,' RPM (ICE)'!$G$3:$G$63,' RPM (ICE)'!$C$3:$C$63,,-1)))) -> 18 | AD500: =AC500*0.7457 -> 13.4226 | AE500: =(9548.8*AD500)/W500 -> 19.419655 | AF500: {=_xlfn.XLOOKUP(AE500,BSFC!$I$11:$I$33,_xlfn.XLOOKUP('Main Data (ICE)'!W500,BSFC!$J$10:$W$10,BSFC!$J$11:$W$33,,-1),,-1)} -> 504.47247 | AG500: =(AF500*AD500)/(60*60) -> 1.8809256 | AH500: =((F500-F499)/3600)*AD500 -> 0.00028928024 | AI500: =AH500*AF500 -> 0.14593392 | AJ500: =AI500+AJ499 -> 61.119629 | AK500: =((AF500*AH500)/1000)/0.755 -> 0.00019328996 | AL500: =AL499+AK500 -> 0.080953151
A501: 1 | B501: A | C501: 495 | D501: =E501*2.23694 -> 28.699564 | E501: =MIN(13.4112,(SQRT((E500^2)+2*P500*$C$7))) -> 12.829832 | F501: =($C$7/E501)+F500 -> 44.9366 | G501: =0.5*('Specifications (ICE)'!$P$4*'Specifications (ICE)'!$P$3)*'Specifications (ICE)'!$P$5*E501^2 -> 51.449239 | H501: =IF(B501="A",'Specifications (ICE)'!$M$12,IF(B501="G",'Specifications (ICE)'!$M$13)) -> 84.271039 | I501: ='Specifications (ICE)'!$H$11-G501-H501-R501 -> -480.10146 | J501: =I501/N501 -> -0.75864698 | K501: =0.5*'Specifications (ICE)'!$E$16*E501^2 -> 44187.689 | L501: =E501/'Specifications (ICE)'!$M$4 -> 44.898799 | M501: =IF(D501<11,1,IF(D501<21,2,IF(D501>21,3))) -> 3 | N501: =IF(M501=1,'Specifications (ICE)'!$M$19,IF(M501=2,'Specifications (ICE)'!$M$20,IF(M501=3,'Specifications (ICE)'!$M$21))) -> 632.83908 | O501: =(0.5*N501*E501^2)/1000 -> 52.084107 | P501: =IF(A501=1,(I501/N501),IF(A501=2,0,IF(A501=3,(1.2*(-I501/N501))))) -> -0.75864698 | Q501: 2.2 | R501: ='Specifications (ICE)'!$E$16*9.81*SIN(Q501-Q500) -> 1046.3794 | S501: =RADIANS(Q501) -> 0.038397244 | T501: =((63360/(PI()*12)*D501))/60 -> 803.91124 | U501: =IF((ABS(I501)*D501)/746>18,18,(ABS(I501)*D501)/746) -> 18 | V501: =U501*0.7457 -> 13.4226 | W501: =IF(M501=1,_xlfn.XLOOKUP(D501,' RPM (ICE)'!$E$3:$E$63,' RPM (ICE)'!$B$3:$B$63,,1),IF(M501=2,_xlfn.XLOOKUP(D501,' RPM (ICE)'!$F$3:$F$63,' RPM (ICE)'!$B$3:$B$63,,1),IF(M501=3,_xlfn.XLOOKUP(D501,' RPM (ICE)'!$G$3:$G$63,' RPM (ICE)'!$B$3:$B$63,,1)))) -> 6600 | X501: =(9548.8*V501)/W501 -> 19.419655 | Y501: =ROUND(X501,0) -> 19 | Z501: =IF(Y501<0,0,Y501) -> 19 | AA501: =IF(Z501>22,22,Z501) -> 19 | AC501: =IF(M501=1,_xlfn.XLOOKUP(D501,' RPM (ICE)'!$E$3:$E$63,' RPM (ICE)'!$C$3:$C$63,,-1),IF(M501=2,_xlfn.XLOOKUP(D501,' RPM (ICE)'!$F$3:$F$63,' RPM (ICE)'!$C$3:$C$63,,-1),IF(M501=3,_xlfn.XLOOKUP(D501,' RPM (ICE)'!$G$3:$G$63,' RPM (ICE)'!$C$3:$C$63,,-1)))) -> 18 | AD501: =AC501*0.7457 -> 13.4226 | AE501: =(9548.8*AD501)/W501 -> 19.419655 | AF501: {=_xlfn.XLOOKUP(AE501,BSFC!$I$11:$I$33,_xlfn.XLOOKUP('Main Data (ICE)'!W501,BSFC!$J$10:$W$10,BSFC!$J$11:$W$33,,-1),,-1)} -> 504.47247 | AG501: =(AF501*AD501)/(60*60) -> 1.8809256 | AH501: =((F501-F500)/3600)*AD501 -> 0.00029061176 | AI501: =AH501*AF501 -> 0.14660563 | AJ501: =AI501+AJ500 -> 61.266234 | AK501: =((AF501*AH501)/1000)/0.755 -> 0.00019417964 | AL501: =AL500+AK501 -> 0.08114733
A502: 1 | B502: A | C502: 496 | D502: =E502*2.23694 -> 28.566984 | E502: =MIN(13.4112,(SQRT((E501^2)+2*P501*$C$7))) -> 12.770563 | F502: =($C$7/E502)+F501 -> 45.014905 | G502: =0.5*('Specifications (ICE)'!$P$4*'Specifications (ICE)'!$P$3)*'Specifications (ICE)'!$P$5*E502^2 -> 50.974989 | H502: =IF(B502="A",'Specifications (ICE)'!$M$12,IF(B502="G",'Specifications (ICE)'!$M$13)) -> 84.271039 | I502: ='Specifications (ICE)'!$H$11-G502-H502-R502 -> -479.62721 | J502: =I502/N502 -> -0.75789758 | K502: =0.5*'Specifications (ICE)'!$E$16*E502^2 -> 43780.376 | L502: =E502/'Specifications (ICE)'!$M$4 -> 44.691386 | M502: =IF(D502<11,1,IF(D502<21,2,IF(D502>21,3))) -> 3 | N502: =IF(M502=1,'Specifications (ICE)'!$M$19,IF(M502=2,'Specifications (ICE)'!$M$20,IF(M502=3,'Specifications (ICE)'!$M$21))) -> 632.83908 | O502: =(0.5*N502*E502^2)/1000 -> 51.604006 | P502: =IF(A502=1,(I502/N502),IF(A502=2,0,IF(A502=3,(1.2*(-I502/N502))))) -> -0.75789758 | Q502: 2.4 | R502: ='Specifications (ICE)'!$E$16*9.81*SIN(Q502-Q501) -> 1046.3794 | S502: =RADIANS(Q502) -> 0.041887902 | T502: =((63360/(PI()*12)*D502))/60 -> 800.19751 | U502: =IF((ABS(I502)*D502)/746>18,18,(ABS(I502)*D502)/746) -> 18 | V502: =U502*0.7457 -> 13.4226 | W502: =IF(M502=1,_xlfn.XLOOKUP(D502,' RPM (ICE)'!$E$3:$E$63,' RPM (ICE)'!$B$3:$B$63,,1),IF(M502=2,_xlfn.XLOOKUP(D502,' RPM (ICE)'!$F$3:$F$63,' RPM (ICE)'!$B$3:$B$63,,1),IF(M502=3,_xlfn.XLOOKUP(D502,' RPM (ICE)'!$G$3:$G$63,' RPM (ICE)'!$B$3:$B$63,,1)))) -> 6600 | X502: =(9548.8*V502)/W502 -> 19.419655 | Y502: =ROUND(X502,0) -> 19 | Z502: =IF(Y502<0,0,Y502) -> 19 | AA502: =IF(Z502>22,22,Z502) -> 19 | AC502: =IF(M502=1,_xlfn.XLOOKUP(D502,' RPM (ICE)'!$E$3:$E$63,' RPM (ICE)'!$C$3:$C$63,,-1),IF(M502=2,_xlfn.XLOOKUP(D502,' RPM (ICE)'!$F$3:$F$63,' RPM (ICE)'!$C$3:$C$63,,-1),IF(M502=3,_xlfn.XLOOKUP(D502,' RPM (ICE)'!$G$3:$G$63,' RPM (ICE)'!$C$3:$C$63,,-1)))) -> 18 | AD502: =AC502*0.7457 -> 13.4226 | AE502: =(9548.8*AD502)/W502 -> 19.419655 | AF502: {=_xlfn.XLOOKUP(AE502,BSFC!$I$11:$I$33,_xlfn.XLOOKUP('Main Data (ICE)'!W502,BSFC!$J$10:$W$10,BSFC!$J$11:$W$33,,-1),,-1)} -> 504.47247 | AG502: =(AF502*AD502)/(60*60) -> 1.8809256 | AH502: =((F502-F501)/3600)*AD502 -> 0.00029196049 | AI502: =AH502*AF502 -> 0.14728603 | AJ502: =AI502+AJ501 -> 61.413521 | AK502: =((AF502*AH502)/1000)/0.755 -> 0.00019508084 | AL502: =AL501+AK502 -> 0.081342411
... A617: 1 | B617: G | C617: 611 | D617: =E617*2.23694 -> 25.906669 | E617: =MIN(13.4112,(SQRT((E616^2)+2*P616*$C$7))) -> 11.581298 | F617: =($C$7/E617)+F616 -> 53.811351 | G617: =0.5*('Specifications (ICE)'!$P$4*'Specifications (ICE)'!$P$3)*'Specifications (ICE)'!$P$5*E617^2 -> 41.922917 | H617: =IF(B617="A",'Specifications (ICE)'!$M$12,IF(B617="G",'Specifications (ICE)'!$M$13)) -> 105.3388 | I617: ='Specifications (ICE)'!$H$11-G617-H617-R617 -> -491.6429 | J617: =I617/N617 -> -0.77688454 | K617: =0.5*'Specifications (ICE)'!$E$16*E617^2 -> 36005.913 | L617: =E617/'Specifications (ICE)'!$M$4 -> 40.529477 | M617: =IF(D617<11,1,IF(D617<21,2,IF(D617>21,3))) -> 3 | N617: =IF(M617=1,'Specifications (ICE)'!$M$19,IF(M617=2,'Specifications (ICE)'!$M$20,IF(M617=3,'Specifications (ICE)'!$M$21))) -> 632.83908 | O617: =(0.5*N617*E617^2)/1000 -> 42.440234 | P617: =IF(A617=1,(I617/N617),IF(A617=2,0,IF(A617=3,(1.2*(-I617/N617))))) -> -0.77688454 | Q617: 20 | R617: ='Specifications (ICE)'!$E$16*9.81*SIN(Q617-Q616) -> 1046.3794 | S617: =RADIANS(Q617) -> 0.34906585 | T617: =((63360/(PI()*12)*D617))/60 -> 725.67869 | U617: =IF((ABS(I617)*D617)/746>18,18,(ABS(I617)*D617)/746) -> 17.073498 | V617: =U617*0.7457 -> 12.731708 | W617: =IF(M617=1,_xlfn.XLOOKUP(D617,' RPM (ICE)'!$E$3:$E$63,' RPM (ICE)'!$B$3:$B$63,,1),IF(M617=2,_xlfn.XLOOKUP(D617,' RPM (ICE)'!$F$3:$F$63,' RPM (ICE)'!$B$3:$B$63,,1),IF(M617=3,_xlfn.XLOOKUP(D617,' RPM (ICE)'!$G$3:$G$63,' RPM (ICE)'!$B$3:$B$63,,1)))) -> 6000 | X617: =(9548.8*V617)/W617 -> 20.262088 | Y617: =ROUND(X617,0) -> 20 | Z617: =IF(Y617<0,0,Y617) -> 20 | AA617: =IF(Z617>22,22,Z617) -> 20 | AC617: =IF(M617=1,_xlfn.XLOOKUP(D617,' RPM (ICE)'!$E$3:$E$63,' RPM (ICE)'!$C$3:$C$63,,-1),IF(M617=2,_xlfn.XLOOKUP(D617,' RPM (ICE)'!$F$3:$F$63,' RPM (ICE)'!$C$3:$C$63,,-1),IF(M617=3,_xlfn.XLOOKUP(D617,' RPM (ICE)'!$G$3:$G$63,' RPM (ICE)'!$C$3:$C$63,,-1)))) -> 17.24 | AD617: =AC617*0.7457 -> 12.855868 | AE617: =(9548.8*AD617)/W617 -> 20.459685 | AF617: {=_xlfn.XLOOKUP(AE617,BSFC!$I$11:$I$33,_xlfn.XLOOKUP('Main Data (ICE)'!W617,BSFC!$J$10:$W$10,BSFC!$J$11:$W$33,,-1),,-1)} -> 469.19732 | AG617: =(AF617*AD617)/(60*60) -> 1.6755386 | AH617: =((F617-F616)/3600)*AD617 -> 0.00030834838 | AI617: =AH617*AF617 -> 0.14467623 | AJ617: =AI617+AJ616 -> 73.960676 | AK617: =((AF617*AH617)/1000)/0.755 -> 0.00019162415 | AL617: =AL616+AK617 -> 0.09796116
A618: 1 | B618: G | C618: 612 | D618: =E618*2.23694 -> 25.756175 | E618: =MIN(13.4112,(SQRT((E617^2)+2*P617*$C$7))) -> 11.514022 | F618: =($C$7/E618)+F617 -> 53.898201 | G618: =0.5*('Specifications (ICE)'!$P$4*'Specifications (ICE)'!$P$3)*'Specifications (ICE)'!$P$5*E618^2 -> 41.437267 | H618: =IF(B618="A",'Specifications (ICE)'!$M$12,IF(B618="G",'Specifications (ICE)'!$M$13)) -> 105.3388 | I618: ='Specifications (ICE)'!$H$11-G618-H618-R618 -> 555.22218 | J618: =I618/N618 -> 0.87735129 | K618: =0.5*'Specifications (ICE)'!$E$16*E618^2 -> 35588.808 | L618: =E618/'Specifications (ICE)'!$M$4 -> 40.294039 | M618: =IF(D618<11,1,IF(D618<21,2,IF(D618>21,3))) -> 3 | N618: =IF(M618=1,'Specifications (ICE)'!$M$19,IF(M618=2,'Specifications (ICE)'!$M$20,IF(M618=3,'Specifications (ICE)'!$M$21))) -> 632.83908 | O618: =(0.5*N618*E618^2)/1000 -> 41.948591 | P618: =IF(A618=1,(I618/N618),IF(A618=2,0,IF(A618=3,(1.2*(-I618/N618))))) -> 0.87735129 | Q618: 0 | R618: 0 | S618: =RADIANS(Q618) -> 0 | T618: =((63360/(PI()*12)*D618))/60 -> 721.46318 | U618: =IF((ABS(I618)*D618)/746>18,18,(ABS(I618)*D618)/746) -> 18 | V618: =U618*0.7457 -> 13.4226 | W618: =IF(M618=1,_xlfn.XLOOKUP(D618,' RPM (ICE)'!$E$3:$E$63,' RPM (ICE)'!$B$3:$B$63,,1),IF(M618=2,_xlfn.XLOOKUP(D618,' RPM (ICE)'!$F$3:$F$63,' RPM (ICE)'!$B$3:$B$63,,1),IF(M618=3,_xlfn.XLOOKUP(D618,' RPM (ICE)'!$G$3:$G$63,' RPM (ICE)'!$B$3:$B$63,,1)))) -> 5900 | X618: =(9548.8*V618)/W618 -> 21.723682 | Y618: =ROUND(X618,0) -> 22 | Z618: =IF(Y618<0,0,Y618) -> 22 | AA618: =IF(Z618>22,22,Z618) -> 22 | AC618: =IF(M618=1,_xlfn.XLOOKUP(D618,' RPM (ICE)'!$E$3:$E$63,' RPM (ICE)'!$C$3:$C$63,,-1),IF(M618=2,_xlfn.XLOOKUP(D618,' RPM (ICE)'!$F$3:$F$63,' RPM (ICE)'!$C$3:$C$63,,-1),IF(M618=3,_xlfn.XLOOKUP(D618,' RPM (ICE)'!$G$3:$G$63,' RPM (ICE)'!$C$3:$C$63,,-1)))) -> 17.175 | AD618: =AC618*0.7457 -> 12.807398 | AE618: =(9548.8*AD618)/W618 -> 20.728013 | AF618: {=_xlfn.XLOOKUP(AE618,BSFC!$I$11:$I$33,_xlfn.XLOOKUP('Main Data (ICE)'!W618,BSFC!$J$10:$W$10,BSFC!$J$11:$W$33,,-1),,-1)} -> 414.10462 | AG618: =(AF618*AD618)/(60*60) -> 1.4732229 | AH618: =((F618-F617)/3600)*AD618 -> 0.0003089807 | AI618: =AH618*AF618 -> 0.12795034 | AJ618: =AI618+AJ617 -> 74.088626 | AK618: =((AF618*AH618)/1000)/0.755 -> 0.00016947064 | AL618: =AL617+AK618 -> 0.098130631
A619: 1 | B619: G | C619: 613 | D619: =E619*2.23694 -> 25.926067 | E619: =MIN(13.4112,(SQRT((E618^2)+2*P618*$C$7))) -> 11.58997 | F619: =($C$7/E619)+F618 -> 53.984483 | G619: =0.5*('Specifications (ICE)'!$P$4*'Specifications (ICE)'!$P$3)*'Specifications (ICE)'!$P$5*E619^2 -> 41.985721 | H619: =IF(B619="A",'Specifications (ICE)'!$M$12,IF(B619="G",'Specifications (ICE)'!$M$13)) -> 105.3388 | I619: ='Specifications (ICE)'!$H$11-G619-H619-R619 -> 554.67373 | J619: =I619/N619 -> 0.87648463 | K619: =0.5*'Specifications (ICE)'!$E$16*E619^2 -> 36059.854 | L619: =E619/'Specifications (ICE)'!$M$4 -> 40.559824 | M619: =IF(D619<11,1,IF(D619<21,2,IF(D619>21,3))) -> 3 | N619: =IF(M619=1,'Specifications (ICE)'!$M$19,IF(M619=2,'Specifications (ICE)'!$M$20,IF(M619=3,'Specifications (ICE)'!$M$21))) -> 632.83908 | O619: =(0.5*N619*E619^2)/1000 -> 42.503813 | P619: =IF(A619=1,(I619/N619),IF(A619=2,0,IF(A619=3,(1.2*(-I619/N619))))) -> 0.87648463 | Q619: 0 | R619: ='Specifications (ICE)'!$E$16*9.81*SIN(Q619-Q618) -> 0 | S619: =RADIANS(Q619) -> 0 | T619: =((63360/(PI()*12)*D619))/60 -> 726.22205 | U619: =IF((ABS(I619)*D619)/746>18,18,(ABS(I619)*D619)/746) -> 18 | V619: =U619*0.7457 -> 13.4226 | W619: =IF(M619=1,_xlfn.XLOOKUP(D619,' RPM (ICE)'!$E$3:$E$63,' RPM (ICE)'!$B$3:$B$63,,1),IF(M619=2,_xlfn.XLOOKUP(D619,' RPM (ICE)'!$F$3:$F$63,' RPM (ICE)'!$B$3:$B$63,,1),IF(M619=3,_xlfn.XLOOKUP(D619,' RPM (ICE)'!$G$3:$G$63,' RPM (ICE)'!$B$3:$B$63,,1)))) -> 6000 | X619: =(9548.8*V619)/W619 -> 21.36162 | Y619: =ROUND(X619,0) -> 21 | Z619: =IF(Y619<0,0,Y619) -> 21 | AA619: =IF(Z619>22,22,Z619) -> 21 | AC619: =IF(M619=1,_xlfn.XLOOKUP(D619,' RPM (ICE)'!$E$3:$E$63,' RPM (ICE)'!$C$3:$C$63,,-1),IF(M619=2,_xlfn.XLOOKUP(D619,' RPM (ICE)'!$F$3:$F$63,' RPM (ICE)'!$C$3:$C$63,,-1),IF(M619=3,_xlfn.XLOOKUP(D619,' RPM (ICE)'!$G$3:$G$63,' RPM (ICE)'!$C$3:$C$63,,-1)))) -> 17.24 | AD619: =AC619*0.7457 -> 12.855868 | AE619: =(9548.8*AD619)/W619 -> 20.459685 | AF619: {=_xlfn.XLOOKUP(AE619,BSFC!$I$11:$I$33,_xlfn.XLOOKUP('Main Data (ICE)'!W619,BSFC!$J$10:$W$10,BSFC!$J$11:$W$33,,-1),,-1)} -> 469.19732 | AG619: =(AF619*AD619)/(60*60) -> 1.6755386 | AH619: =((F619-F618)/3600)*AD619 -> 0.00030811767 | AI619: =AH619*AF619 -> 0.14456799 | AJ619: =AI619+AJ618 -> 74.233194 | AK619: =((AF619*AH619)/1000)/0.755 -> 0.00019148078 | AL619: =AL618+AK619 -> 0.098322111
A620: 1 | B620: G | C620: 614 | D620: =E620*2.23694 -> 26.094686 | E620: =MIN(13.4112,(SQRT((E619^2)+2*P619*$C$7))) -> 11.665349 | F620: =($C$7/E620)+F619 -> 54.070207 | G620: =0.5*('Specifications (ICE)'!$P$4*'Specifications (ICE)'!$P$3)*'Specifications (ICE)'!$P$5*E620^2 -> 42.533634 | H620: =IF(B620="A",'Specifications (ICE)'!$M$12,IF(B620="G",'Specifications (ICE)'!$M$13)) -> 105.3388 | I620: ='Specifications (ICE)'!$H$11-G620-H620-R620 -> 554.12582 | J620: =I620/N620 -> 0.87561883 | K620: =0.5*'Specifications (ICE)'!$E$16*E620^2 -> 36530.434 | L620: =E620/'Specifications (ICE)'!$M$4 -> 40.823618 | M620: =IF(D620<11,1,IF(D620<21,2,IF(D620>21,3))) -> 3 | N620: =IF(M620=1,'Specifications (ICE)'!$M$19,IF(M620=2,'Specifications (ICE)'!$M$20,IF(M620=3,'Specifications (ICE)'!$M$21))) -> 632.83908 | O620: =(0.5*N620*E620^2)/1000 -> 43.058487 | P620: =IF(A620=1,(I620/N620),IF(A620=2,0,IF(A620=3,(1.2*(-I620/N620))))) -> 0.87561883 | Q620: 0 | R620: ='Specifications (ICE)'!$E$16*9.81*SIN(Q620-Q619) -> 0 | S620: =RADIANS(Q620) -> 0 | T620: =((63360/(PI()*12)*D620))/60 -> 730.94528 | U620: =IF((ABS(I620)*D620)/746>18,18,(ABS(I620)*D620)/746) -> 18 | V620: =U620*0.7457 -> 13.4226 | W620: =IF(M620=1,_xlfn.XLOOKUP(D620,' RPM (ICE)'!$E$3:$E$63,' RPM (ICE)'!$B$3:$B$63,,1),IF(M620=2,_xlfn.XLOOKUP(D620,' RPM (ICE)'!$F$3:$F$63,' RPM (ICE)'!$B$3:$B$63,,1),IF(M620=3,_xlfn.XLOOKUP(D620,' RPM (ICE)'!$G$3:$G$63,' RPM (ICE)'!$B$3:$B$63,,1)))) -> 6000 | X620: =(9548.8*V620)/W620 -> 21.36162 | Y620: =ROUND(X620,0) -> 21 | Z620: =IF(Y620<0,0,Y620) -> 21 | AA620: =IF(Z620>22,22,Z620) -> 21 | AC620: =IF(M620=1,_xlfn.XLOOKUP(D620,' RPM (ICE)'!$E$3:$E$63,' RPM (ICE)'!$C$3:$C$63,,-1),IF(M620=2,_xlfn.XLOOKUP(D620,' RPM (ICE)'!$F$3:$F$63,' RPM (ICE)'!$C$3:$C$63,,-1),IF(M620=3,_xlfn.XLOOKUP(D620,' RPM (ICE)'!$G$3:$G$63,' RPM (ICE)'!$C$3:$C$63,,-1)))) -> 17.24 | AD620: =AC620*0.7457 -> 12.855868 | AE620: =(9548.8*AD620)/W620 -> 20.459685 | AF620: {=_xlfn.XLOOKUP(AE620,BSFC!$I$11:$I$33,_xlfn.XLOOKUP('Main Data (ICE)'!W620,BSFC!$J$10:$W$10,BSFC!$J$11:$W$33,,-1),,-1)} -> 469.19732 | AG620: =(AF620*AD620)/(60*60) -> 1.6755386 | AH620: =((F620-F619)/3600)*AD620 -> 0.00030612667 | AI620: =AH620*AF620 -> 0.14363381 | AJ620: =AI620+AJ619 -> 74.376828 | AK620: =((AF620*AH620)/1000)/0.755 -> 0.00019024346 | AL620: =AL619+AK620 -> 0.098512355
A621: 1 | B621: G | C621: 615 | D621: =E621*2.23694 -> 26.262057 | E621: =MIN(13.4112,(SQRT((E620^2)+2*P620*$C$7))) -> 11.74017 | F621: =($C$7/E621)+F620 -> 54.155385 | G621: =0.5*('Specifications (ICE)'!$P$4*'Specifications (ICE)'!$P$3)*'Specifications (ICE)'!$P$5*E621^2 -> 43.081005 | H621: =IF(B621="A",'Specifications (ICE)'!$M$12,IF(B621="G",'Specifications (ICE)'!$M$13)) -> 105.3388 | I621: ='Specifications (ICE)'!$H$11-G621-H621-R621 -> 553.57845 | J621: =I621/N621 -> 0.87475388 | K621: =0.5*'Specifications (ICE)'!$E$16*E621^2 -> 37000.549 | L621: =E621/'Specifications (ICE)'!$M$4 -> 41.085461 | M621: =IF(D621<11,1,IF(D621<21,2,IF(D621>21,3))) -> 3 | N621: =IF(M621=1,'Specifications (ICE)'!$M$19,IF(M621=2,'Specifications (ICE)'!$M$20,IF(M621=3,'Specifications (ICE)'!$M$21))) -> 632.83908 | O621: =(0.5*N621*E621^2)/1000 -> 43.612613 | P621: =IF(A621=1,(I621/N621),IF(A621=2,0,IF(A621=3,(1.2*(-I621/N621))))) -> 0.87475388 | Q621: 0 | R621: ='Specifications (ICE)'!$E$16*9.81*SIN(Q621-Q620) -> 0 | S621: =RADIANS(Q621) -> 0 | T621: =((63360/(PI()*12)*D621))/60 -> 735.63357 | U621: =IF((ABS(I621)*D621)/746>18,18,(ABS(I621)*D621)/746) -> 18 | V621: =U621*0.7457 -> 13.4226 | W621: =IF(M621=1,_xlfn.XLOOKUP(D621,' RPM (ICE)'!$E$3:$E$63,' RPM (ICE)'!$B$3:$B$63,,1),IF(M621=2,_xlfn.XLOOKUP(D621,' RPM (ICE)'!$F$3:$F$63,' RPM (ICE)'!$B$3:$B$63,,1),IF(M621=3,_xlfn.XLOOKUP(D621,' RPM (ICE)'!$G$3:$G$63,' RPM (ICE)'!$B$3:$B$63,,1)))) -> 6000 | X621: =(9548.8*V621)/W621 -> 21.36162 | Y621: =ROUND(X621,0) -> 21 | Z621: =IF(Y621<0,0,Y621) -> 21 | AA621: =IF(Z621>22,22,Z621) -> 21 | AC621: =IF(M621=1,_xlfn.XLOOKUP(D621,' RPM (ICE)'!$E$3:$E$63,' RPM (ICE)'!$C$3:$C$63,,-1),IF(M621=2,_xlfn.XLOOKUP(D621,' RPM (ICE)'!$F$3:$F$63,' RPM (ICE)'!$C$3:$C$63,,-1),IF(M621=3,_xlfn.XLOOKUP(D621,' RPM (ICE)'!$G$3:$G$63,' RPM (ICE)'!$C$3:$C$63,,-1)))) -> 17.24 | AD621: =AC621*0.7457 -> 12.855868 | AE621: =(9548.8*AD621)/W621 -> 20.459685 | AF621: {=_xlfn.XLOOKUP(AE621,BSFC!$I$11:$I$33,_xlfn.XLOOKUP('Main Data (ICE)'!W621,BSFC!$J$10:$W$10,BSFC!$J$11:$W$33,,-1),,-1)} -> 469.19732 | AG621: =(AF621*AD621)/(60*60) -> 1.6755386 | AH621: =((F621-F620)/3600)*AD621 -> 0.00030417569 | AI621: =AH621*AF621 -> 0.14271842 | AJ621: =AI621+AJ620 -> 74.519546 | AK621: =((AF621*AH621)/1000)/0.755 -> 0.00018903102 | AL621: =AL620+AK621 -> 0.098701386
A622: 1 | B622: G | C622: 616 | D622: =E622*2.23694 -> 26.428205 | E622: =MIN(13.4112,(SQRT((E621^2)+2*P621*$C$7))) -> 11.814445 | F622: =($C$7/E622)+F621 -> 54.240027 | G622: =0.5*('Specifications (ICE)'!$P$4*'Specifications (ICE)'!$P$3)*'Specifications (ICE)'!$P$5*E622^2 -> 43.627836 | H622: =IF(B622="A",'Specifications (ICE)'!$M$12,IF(B622="G",'Specifications (ICE)'!$M$13)) -> 105.3388 | I622: ='Specifications (ICE)'!$H$11-G622-H622-R622 -> 553.03162 | J622: =I622/N622 -> 0.87388979 | K622: =0.5*'Specifications (ICE)'!$E$16*E622^2 -> 37470.2 | L622: =E622/'Specifications (ICE)'!$M$4 -> 41.345389 | M622: =IF(D622<11,1,IF(D622<21,2,IF(D622>21,3))) -> 3 | N622: =IF(M622=1,'Specifications (ICE)'!$M$19,IF(M622=2,'Specifications (ICE)'!$M$20,IF(M622=3,'Specifications (ICE)'!$M$21))) -> 632.83908 | O622: =(0.5*N622*E622^2)/1000 -> 44.166191 | P622: =IF(A622=1,(I622/N622),IF(A622=2,0,IF(A622=3,(1.2*(-I622/N622))))) -> 0.87388979 | Q622: 0 | R622: ='Specifications (ICE)'!$E$16*9.81*SIN(Q622-Q621) -> 0 | S622: =RADIANS(Q622) -> 0 | T622: =((63360/(PI()*12)*D622))/60 -> 740.28757 | U622: =IF((ABS(I622)*D622)/746>18,18,(ABS(I622)*D622)/746) -> 18 | V622: =U622*0.7457 -> 13.4226 | W622: =IF(M622=1,_xlfn.XLOOKUP(D622,' RPM (ICE)'!$E$3:$E$63,' RPM (ICE)'!$B$3:$B$63,,1),IF(M622=2,_xlfn.XLOOKUP(D622,' RPM (ICE)'!$F$3:$F$63,' RPM (ICE)'!$B$3:$B$63,,1),IF(M622=3,_xlfn.XLOOKUP(D622,' RPM (ICE)'!$G$3:$G$63,' RPM (ICE)'!$B$3:$B$63,,1)))) -> 6100 | X622: =(9548.8*V622)/W622 -> 21.01143 | Y622: =ROUND(X622,0) -> 21 | Z622: =IF(Y622<0,0,Y622) -> 21 | AA622: =IF(Z622>22,22,Z622) -> 21 | AC622: =IF(M622=1,_xlfn.XLOOKUP(D622,' RPM (ICE)'!$E$3:$E$63,' RPM (ICE)'!$C$3:$C$63,,-1),IF(M622=2,_xlfn.XLOOKUP(D622,' RPM (ICE)'!$F$3:$F$63,' RPM (ICE)'!$C$3:$C$63,,-1),IF(M622=3,_xlfn.XLOOKUP(D622,' RPM (ICE)'!$G$3:$G$63,' RPM (ICE)'!$C$3:$C$63,,-1)))) -> 17.305 | AD622: =AC622*0.7457 -> 12.904338 | AE622: =(9548.8*AD622)/W622 -> 20.200155 | AF622: {=_xlfn.XLOOKUP(AE622,BSFC!$I$11:$I$33,_xlfn.XLOOKUP('Main Data (ICE)'!W622,BSFC!$J$10:$W$10,BSFC!$J$11:$W$33,,-1),,-1)} -> 469.19732 | AG622: =(AF622*AD622)/(60*60) -> 1.6818558 | AH622: =((F622-F621)/3600)*AD622 -> 0.00030340304 | AI622: =AH622*AF622 -> 0.14235589 | AJ622: =AI622+AJ621 -> 74.661902 | AK622: =((AF622*AH622)/1000)/0.755 -> 0.00018855085 | AL622: =AL621+AK622 -> 0.098889937
A623: 1 | B623: G | C623: 617 | D623: =E623*2.23694 -> 26.593152 | E623: =MIN(13.4112,(SQRT((E622^2)+2*P622*$C$7))) -> 11.888183 | F623: =($C$7/E623)+F622 -> 54.324144 | G623: =0.5*('Specifications (ICE)'!$P$4*'Specifications (ICE)'!$P$3)*'Specifications (ICE)'!$P$5*E623^2 -> 44.174126 | H623: =IF(B623="A",'Specifications (ICE)'!$M$12,IF(B623="G",'Specifications (ICE)'!$M$13)) -> 105.3388 | I623: ='Specifications (ICE)'!$H$11-G623-H623-R623 -> 552.48532 | J623: =I623/N623 -> 0.87302655 | K623: =0.5*'Specifications (ICE)'!$E$16*E623^2 -> 37939.387 | L623: =E623/'Specifications (ICE)'!$M$4 -> 41.603439 | M623: =IF(D623<11,1,IF(D623<21,2,IF(D623>21,3))) -> 3 | N623: =IF(M623=1,'Specifications (ICE)'!$M$19,IF(M623=2,'Specifications (ICE)'!$M$20,IF(M623=3,'Specifications (ICE)'!$M$21))) -> 632.83908 | O623: =(0.5*N623*E623^2)/1000 -> 44.719223 | P623: =IF(A623=1,(I623/N623),IF(A623=2,0,IF(A623=3,(1.2*(-I623/N623))))) -> 0.87302655 | Q623: 0 | R623: ='Specifications (ICE)'!$E$16*9.81*SIN(Q623-Q622) -> 0 | S623: =RADIANS(Q623) -> 0 | T623: =((63360/(PI()*12)*D623))/60 -> 744.90795 | U623: =IF((ABS(I623)*D623)/746>18,18,(ABS(I623)*D623)/746) -> 18 | V623: =U623*0.7457 -> 13.4226 | W623: =IF(M623=1,_xlfn.XLOOKUP(D623,' RPM (ICE)'!$E$3:$E$63,' RPM (ICE)'!$B$3:$B$63,,1),IF(M623=2,_xlfn.XLOOKUP(D623,' RPM (ICE)'!$F$3:$F$63,' RPM (ICE)'!$B$3:$B$63,,1),IF(M623=3,_xlfn.XLOOKUP(D623,' RPM (ICE)'!$G$3:$G$63,' RPM (ICE)'!$B$3:$B$63,,1)))) -> 6100 | X623: =(9548.8*V623)/W623 -> 21.01143 | Y623: =ROUND(X623,0) -> 21 | Z623: =IF(Y623<0,0,Y623) -> 21 | AA623: =IF(Z623>22,22,Z623) -> 21 | AC623: =IF(M623=1,_xlfn.XLOOKUP(D623,' RPM (ICE)'!$E$3:$E$63,' RPM (ICE)'!$C$3:$C$63,,-1),IF(M623=2,_xlfn.XLOOKUP(D623,' RPM (ICE)'!$F$3:$F$63,' RPM (ICE)'!$C$3:$C$63,,-1),IF(M623=3,_xlfn.XLOOKUP(D623,' RPM (ICE)'!$G$3:$G$63,' RPM (ICE)'!$C$3:$C$63,,-1)))) -> 17.305 | AD623: =AC623*0.7457 -> 12.904338 | AE623: =(9548.8*AD623)/W623 -> 20.200155 | AF623: {=_xlfn.XLOOKUP(AE623,BSFC!$I$11:$I$33,_xlfn.XLOOKUP('Main Data (ICE)'!W623,BSFC!$J$10:$W$10,BSFC!$J$11:$W$33,,-1),,-1)} -> 469.19732 | AG623: =(AF623*AD623)/(60*60) -> 1.6818558 | AH623: =((F623-F622)/3600)*AD623 -> 0.00030152114 | AI623: =AH623*AF623 -> 0.14147291 | AJ623: =AI623+AJ622 -> 74.803375 | AK623: =((AF623*AH623)/1000)/0.755 -> 0.00018738134 | AL623: =AL622+AK623 -> 0.099077318
A624: 1 | B624: G | C624: 618 | D624: =E624*2.23694 -> 26.75692 | E624: =MIN(13.4112,(SQRT((E623^2)+2*P623*$C$7))) -> 11.961394 | F624: =($C$7/E624)+F623 -> 54.407746 | G624: =0.5*('Specifications (ICE)'!$P$4*'Specifications (ICE)'!$P$3)*'Specifications (ICE)'!$P$5*E624^2 -> 44.719877 | H624: =IF(B624="A",'Specifications (ICE)'!$M$12,IF(B624="G",'Specifications (ICE)'!$M$13)) -> 105.3388 | I624: ='Specifications (ICE)'!$H$11-G624-H624-R624 -> 551.93957 | J624: =I624/N624 -> 0.87216417 | K624: =0.5*'Specifications (ICE)'!$E$16*E624^2 -> 38408.111 | L624: =E624/'Specifications (ICE)'!$M$4 -> 41.859646 | M624: =IF(D624<11,1,IF(D624<21,2,IF(D624>21,3))) -> 3 | N624: =IF(M624=1,'Specifications (ICE)'!$M$19,IF(M624=2,'Specifications (ICE)'!$M$20,IF(M624=3,'Specifications (ICE)'!$M$21))) -> 632.83908 | O624: =(0.5*N624*E624^2)/1000 -> 45.271708 | P624: =IF(A624=1,(I624/N624),IF(A624=2,0,IF(A624=3,(1.2*(-I624/N624))))) -> 0.87216417 | Q624: 0 | R624: ='Specifications (ICE)'!$E$16*9.81*SIN(Q624-Q623) -> 0 | S624: =RADIANS(Q624) -> 0 | T624: =((63360/(PI()*12)*D624))/60 -> 749.49532 | U624: =IF((ABS(I624)*D624)/746>18,18,(ABS(I624)*D624)/746) -> 18 | V624: =U624*0.7457 -> 13.4226 | W624: =IF(M624=1,_xlfn.XLOOKUP(D624,' RPM (ICE)'!$E$3:$E$63,' RPM (ICE)'!$B$3:$B$63,,1),IF(M624=2,_xlfn.XLOOKUP(D624,' RPM (ICE)'!$F$3:$F$63,' RPM (ICE)'!$B$3:$B$63,,1),IF(M624=3,_xlfn.XLOOKUP(D624,' RPM (ICE)'!$G$3:$G$63,' RPM (ICE)'!$B$3:$B$63,,1)))) -> 6200 | X624: =(9548.8*V624)/W624 -> 20.672536 | Y624: =ROUND(X624,0) -> 21 | Z624: =IF(Y624<0,0,Y624) -> 21 | AA624: =IF(Z624>22,22,Z624) -> 21 | AC624: =IF(M624=1,_xlfn.XLOOKUP(D624,' RPM (ICE)'!$E$3:$E$63,' RPM (ICE)'!$C$3:$C$63,,-1),IF(M624=2,_xlfn.XLOOKUP(D624,' RPM (ICE)'!$F$3:$F$63,' RPM (ICE)'!$C$3:$C$63,,-1),IF(M624=3,_xlfn.XLOOKUP(D624,' RPM (ICE)'!$G$3:$G$63,' RPM (ICE)'!$C$3:$C$63,,-1)))) -> 17.37 | AD624: =AC624*0.7457 -> 12.952809 | AE624: =(9548.8*AD624)/W624 -> 19.948997 | AF624: {=_xlfn.XLOOKUP(AE624,BSFC!$I$11:$I$33,_xlfn.XLOOKUP('Main Data (ICE)'!W624,BSFC!$J$10:$W$10,BSFC!$J$11:$W$33,,-1),,-1)} -> 457.16662 | AG624: =(AF624*AD624)/(60*60) -> 1.6448866 | AH624: =((F624-F623)/3600)*AD624 -> 0.00030080127 | AI624: =AH624*AF624 -> 0.1375163 | AJ624: =AI624+AJ623 -> 74.940891 | AK624: =((AF624*AH624)/1000)/0.755 -> 0.0001821408 | AL624: =AL623+AK624 -> 0.099259459
A625: 1 | B625: G | C625: 619 | D625: =E625*2.23694 -> 26.919533 | E625: =MIN(13.4112,(SQRT((E624^2)+2*P624*$C$7))) -> 12.034088 | F625: =($C$7/E625)+F624 -> 54.490843 | G625: =0.5*('Specifications (ICE)'!$P$4*'Specifications (ICE)'!$P$3)*'Specifications (ICE)'!$P$5*E625^2 -> 45.265089 | H625: =IF(B625="A",'Specifications (ICE)'!$M$12,IF(B625="G",'Specifications (ICE)'!$M$13)) -> 105.3388 | I625: ='Specifications (ICE)'!$H$11-G625-H625-R625 -> 551.39436 | J625: =I625/N625 -> 0.87130264 | K625: =0.5*'Specifications (ICE)'!$E$16*E625^2 -> 38876.371 | L625: =E625/'Specifications (ICE)'!$M$4 -> 42.114043 | M625: =IF(D625<11,1,IF(D625<21,2,IF(D625>21,3))) -> 3 | N625: =IF(M625=1,'Specifications (ICE)'!$M$19,IF(M625=2,'Specifications (ICE)'!$M$20,IF(M625=3,'Specifications (ICE)'!$M$21))) -> 632.83908 | O625: =(0.5*N625*E625^2)/1000 -> 45.823647 | P625: =IF(A625=1,(I625/N625),IF(A625=2,0,IF(A625=3,(1.2*(-I625/N625))))) -> 0.87130264 | Q625: 0 | R625: ='Specifications (ICE)'!$E$16*9.81*SIN(Q625-Q624) -> 0 | S625: =RADIANS(Q625) -> 0 | T625: =((63360/(PI()*12)*D625))/60 -> 754.05029 | U625: =IF((ABS(I625)*D625)/746>18,18,(ABS(I625)*D625)/746) -> 18 | V625: =U625*0.7457 -> 13.4226 | W625: =IF(M625=1,_xlfn.XLOOKUP(D625,' RPM (ICE)'!$E$3:$E$63,' RPM (ICE)'!$B$3:$B$63,,1),IF(M625=2,_xlfn.XLOOKUP(D625,' RPM (ICE)'!$F$3:$F$63,' RPM (ICE)'!$B$3:$B$63,,1),IF(M625=3,_xlfn.XLOOKUP(D625,' RPM (ICE)'!$G$3:$G$63,' RPM (ICE)'!$B$3:$B$63,,1)))) -> 6200 | X625: =(9548.8*V625)/W625 -> 20.672536 | Y625: =ROUND(X625,0) -> 21 | Z625: =IF(Y625<0,0,Y625) -> 21 | AA625: =IF(Z625>22,22,Z625) -> 21 | AC625: =IF(M625=1,_xlfn.XLOOKUP(D625,' RPM (ICE)'!$E$3:$E$63,' RPM (ICE)'!$C$3:$C$63,,-1),IF(M625=2,_xlfn.XLOOKUP(D625,' RPM (ICE)'!$F$3:$F$63,' RPM (ICE)'!$C$3:$C$63,,-1),IF(M625=3,_xlfn.XLOOKUP(D625,' RPM (ICE)'!$G$3:$G$63,' RPM (ICE)'!$C$3:$C$63,,-1)))) -> 17.37 | AD625: =AC625*0.7457 -> 12.952809 | AE625: =(9548.8*AD625)/W625 -> 19.948997 | AF625: {=_xlfn.XLOOKUP(AE625,BSFC!$I$11:$I$33,_xlfn.XLOOKUP('Main Data (ICE)'!W625,BSFC!$J$10:$W$10,BSFC!$J$11:$W$33,,-1),,-1)} -> 457.16662 | AG625: =(AF625*AD625)/(60*60) -> 1.6448866 | AH625: =((F625-F624)/3600)*AD625 -> 0.00029898423 | AI625: =AH625*AF625 -> 0.13668561 | AJ625: =AI625+AJ624 -> 75.077577 | AK625: =((AF625*AH625)/1000)/0.755 -> 0.00018104054 | AL625: =AL624+AK625 -> 0.099440499
A626: 1 | B626: G | C626: 620 | D626: =E626*2.23694 -> 27.081009 | E626: =MIN(13.4112,(SQRT((E625^2)+2*P625*$C$7))) -> 12.106274 | F626: =($C$7/E626)+F625 -> 54.573445 | G626: =0.5*('Specifications (ICE)'!$P$4*'Specifications (ICE)'!$P$3)*'Specifications (ICE)'!$P$5*E626^2 -> 45.809762 | H626: =IF(B626="A",'Specifications (ICE)'!$M$12,IF(B626="G",'Specifications (ICE)'!$M$13)) -> 105.3388 | I626: ='Specifications (ICE)'!$H$11-G626-H626-R626 -> 550.84969 | J626: =I626/N626 -> 0.87044195 | K626: =0.5*'Specifications (ICE)'!$E$16*E626^2 -> 39344.169 | L626: =E626/'Specifications (ICE)'!$M$4 -> 42.366664 | M626: =IF(D626<11,1,IF(D626<21,2,IF(D626>21,3))) -> 3 | N626: =IF(M626=1,'Specifications (ICE)'!$M$19,IF(M626=2,'Specifications (ICE)'!$M$20,IF(M626=3,'Specifications (ICE)'!$M$21))) -> 632.83908 | O626: =(0.5*N626*E626^2)/1000 -> 46.375042 | P626: =IF(A626=1,(I626/N626),IF(A626=2,0,IF(A626=3,(1.2*(-I626/N626))))) -> 0.87044195 | Q626: 0 | R626: ='Specifications (ICE)'!$E$16*9.81*SIN(Q626-Q625) -> 0 | S626: =RADIANS(Q626) -> 0 | T626: =((63360/(PI()*12)*D626))/60 -> 758.57346 | U626: =IF((ABS(I626)*D626)/746>18,18,(ABS(I626)*D626)/746) -> 18 | V626: =U626*0.7457 -> 13.4226 | W626: =IF(M626=1,_xlfn.XLOOKUP(D626,' RPM (ICE)'!$E$3:$E$63,' RPM (ICE)'!$B$3:$B$63,,1),IF(M626=2,_xlfn.XLOOKUP(D626,' RPM (ICE)'!$F$3:$F$63,' RPM (ICE)'!$B$3:$B$63,,1),IF(M626=3,_xlfn.XLOOKUP(D626,' RPM (ICE)'!$G$3:$G$63,' RPM (ICE)'!$B$3:$B$63,,1)))) -> 6200 | X626: =(9548.8*V626)/W626 -> 20.672536 | Y626: =ROUND(X626,0) -> 21 | Z626: =IF(Y626<0,0,Y626) -> 21 | AA626: =IF(Z626>22,22,Z626) -> 21 | AC626: =IF(M626=1,_xlfn.XLOOKUP(D626,' RPM (ICE)'!$E$3:$E$63,' RPM (ICE)'!$C$3:$C$63,,-1),IF(M626=2,_xlfn.XLOOKUP(D626,' RPM (ICE)'!$F$3:$F$63,' RPM (ICE)'!$C$3:$C$63,,-1),IF(M626=3,_xlfn.XLOOKUP(D626,' RPM (ICE)'!$G$3:$G$63,' RPM (ICE)'!$C$3:$C$63,,-1)))) -> 17.37 | AD626: =AC626*0.7457 -> 12.952809 | AE626: =(9548.8*AD626)/W626 -> 19.948997 | AF626: {=_xlfn.XLOOKUP(AE626,BSFC!$I$11:$I$33,_xlfn.XLOOKUP('Main Data (ICE)'!W626,BSFC!$J$10:$W$10,BSFC!$J$11:$W$33,,-1),,-1)} -> 457.16662 | AG626: =(AF626*AD626)/(60*60) -> 1.6448866 | AH626: =((F626-F625)/3600)*AD626 -> 0.00029720147 | AI626: =AH626*AF626 -> 0.13587059 | AJ626: =AI626+AJ625 -> 75.213448 | AK626: =((AF626*AH626)/1000)/0.755 -> 0.00017996105 | AL626: =AL625+AK626 -> 0.09962046
A627: 1 | B627: G | C627: 621 | D627: =E627*2.23694 -> 27.24137 | E627: =MIN(13.4112,(SQRT((E626^2)+2*P626*$C$7))) -> 12.177962 | F627: =($C$7/E627)+F626 -> 54.655561 | G627: =0.5*('Specifications (ICE)'!$P$4*'Specifications (ICE)'!$P$3)*'Specifications (ICE)'!$P$5*E627^2 -> 46.353898 | H627: =IF(B627="A",'Specifications (ICE)'!$M$12,IF(B627="G",'Specifications (ICE)'!$M$13)) -> 105.3388 | I627: ='Specifications (ICE)'!$H$11-G627-H627-R627 -> 550.30555 | J627: =I627/N627 -> 0.86958212 | K627: =0.5*'Specifications (ICE)'!$E$16*E627^2 -> 39811.505 | L627: =E627/'Specifications (ICE)'!$M$4 -> 42.61754 | M627: =IF(D627<11,1,IF(D627<21,2,IF(D627>21,3))) -> 3 | N627: =IF(M627=1,'Specifications (ICE)'!$M$19,IF(M627=2,'Specifications (ICE)'!$M$20,IF(M627=3,'Specifications (ICE)'!$M$21))) -> 632.83908 | O627: =(0.5*N627*E627^2)/1000 -> 46.925892 | P627: =IF(A627=1,(I627/N627),IF(A627=2,0,IF(A627=3,(1.2*(-I627/N627))))) -> 0.86958212 | Q627: 0 | R627: ='Specifications (ICE)'!$E$16*9.81*SIN(Q627-Q626) -> 0 | S627: =RADIANS(Q627) -> 0 | T627: =((63360/(PI()*12)*D627))/60 -> 763.06538 | U627: =IF((ABS(I627)*D627)/746>18,18,(ABS(I627)*D627)/746) -> 18 | V627: =U627*0.7457 -> 13.4226 | W627: =IF(M627=1,_xlfn.XLOOKUP(D627,' RPM (ICE)'!$E$3:$E$63,' RPM (ICE)'!$B$3:$B$63,,1),IF(M627=2,_xlfn.XLOOKUP(D627,' RPM (ICE)'!$F$3:$F$63,' RPM (ICE)'!$B$3:$B$63,,1),IF(M627=3,_xlfn.XLOOKUP(D627,' RPM (ICE)'!$G$3:$G$63,' RPM (ICE)'!$B$3:$B$63,,1)))) -> 6300 | X627: =(9548.8*V627)/W627 -> 20.3444 | Y627: =ROUND(X627,0) -> 20 | Z627: =IF(Y627<0,0,Y627) -> 20 | AA627: =IF(Z627>22,22,Z627) -> 20 | AC627: =IF(M627=1,_xlfn.XLOOKUP(D627,' RPM (ICE)'!$E$3:$E$63,' RPM (ICE)'!$C$3:$C$63,,-1),IF(M627=2,_xlfn.XLOOKUP(D627,' RPM (ICE)'!$F$3:$F$63,' RPM (ICE)'!$C$3:$C$63,,-1),IF(M627=3,_xlfn.XLOOKUP(D627,' RPM (ICE)'!$G$3:$G$63,' RPM (ICE)'!$C$3:$C$63,,-1)))) -> 17.435 | AD627: =AC627*0.7457 -> 13.001279 | AE627: =(9548.8*AD627)/W627 -> 19.705812 | AF627: {=_xlfn.XLOOKUP(AE627,BSFC!$I$11:$I$33,_xlfn.XLOOKUP('Main Data (ICE)'!W627,BSFC!$J$10:$W$10,BSFC!$J$11:$W$33,,-1),,-1)} -> 457.16662 | AG627: =(AF627*AD627)/(60*60) -> 1.6510419 | AH627: =((F627-F626)/3600)*AD627 -> 0.00029655754 | AI627: =AH627*AF627 -> 0.13557621 | AJ627: =AI627+AJ626 -> 75.349024 | AK627: =((AF627*AH627)/1000)/0.755 -> 0.00017957114 | AL627: =AL626+AK627 -> 0.099800032
A628: 1 | B628: G | C628: 622 | D628: =E628*2.23694 -> 27.400636 | E628: =MIN(13.4112,(SQRT((E627^2)+2*P627*$C$7))) -> 12.24916 | F628: =($C$7/E628)+F627 -> 54.737199 | G628: =0.5*('Specifications (ICE)'!$P$4*'Specifications (ICE)'!$P$3)*'Specifications (ICE)'!$P$5*E628^2 -> 46.897495 | H628: =IF(B628="A",'Specifications (ICE)'!$M$12,IF(B628="G",'Specifications (ICE)'!$M$13)) -> 105.3388 | I628: ='Specifications (ICE)'!$H$11-G628-H628-R628 -> 549.76196 | J628: =I628/N628 -> 0.86872314 | K628: =0.5*'Specifications (ICE)'!$E$16*E628^2 -> 40278.38 | L628: =E628/'Specifications (ICE)'!$M$4 -> 42.866702 | M628: =IF(D628<11,1,IF(D628<21,2,IF(D628>21,3))) -> 3 | N628: =IF(M628=1,'Specifications (ICE)'!$M$19,IF(M628=2,'Specifications (ICE)'!$M$20,IF(M628=3,'Specifications (ICE)'!$M$21))) -> 632.83908 | O628: =(0.5*N628*E628^2)/1000 -> 47.476197 | P628: =IF(A628=1,(I628/N628),IF(A628=2,0,IF(A628=3,(1.2*(-I628/N628))))) -> 0.86872314 | Q628: 0 | R628: ='Specifications (ICE)'!$E$16*9.81*SIN(Q628-Q627) -> 0 | S628: =RADIANS(Q628) -> 0 | T628: =((63360/(PI()*12)*D628))/60 -> 767.52662 | U628: =IF((ABS(I628)*D628)/746>18,18,(ABS(I628)*D628)/746) -> 18 | V628: =U628*0.7457 -> 13.4226 | W628: =IF(M628=1,_xlfn.XLOOKUP(D628,' RPM (ICE)'!$E$3:$E$63,' RPM (ICE)'!$B$3:$B$63,,1),IF(M628=2,_xlfn.XLOOKUP(D628,' RPM (ICE)'!$F$3:$F$63,' RPM (ICE)'!$B$3:$B$63,,1),IF(M628=3,_xlfn.XLOOKUP(D628,' RPM (ICE)'!$G$3:$G$63,' RPM (ICE)'!$B$3:$B$63,,1)))) -> 6300 | X628: =(9548.8*V628)/W628 -> 20.3444 | Y628: =ROUND(X628,0) -> 20 | Z628: =IF(Y628<0,0,Y628) -> 20 | AA628: =IF(Z628>22,22,Z628) -> 20 | AC628: =IF(M628=1,_xlfn.XLOOKUP(D628,' RPM (ICE)'!$E$3:$E$63,' RPM (ICE)'!$C$3:$C$63,,-1),IF(M628=2,_xlfn.XLOOKUP(D628,' RPM (ICE)'!$F$3:$F$63,' RPM (ICE)'!$C$3:$C$63,,-1),IF(M628=3,_xlfn.XLOOKUP(D628,' RPM (ICE)'!$G$3:$G$63,' RPM (ICE)'!$C$3:$C$63,,-1)))) -> 17.435 | AD628: =AC628*0.7457 -> 13.001279 | AE628: =(9548.8*AD628)/W628 -> 19.705812 | AF628: {=_xlfn.XLOOKUP(AE628,BSFC!$I$11:$I$33,_xlfn.XLOOKUP('Main Data (ICE)'!W628,BSFC!$J$10:$W$10,BSFC!$J$11:$W$33,,-1),,-1)} -> 457.16662 | AG628: =(AF628*AD628)/(60*60) -> 1.6510419 | AH628: =((F628-F627)/3600)*AD628 -> 0.00029483381 | AI628: =AH628*AF628 -> 0.13478817 | AJ628: =AI628+AJ627 -> 75.483812 | AK628: =((AF628*AH628)/1000)/0.755 -> 0.00017852738 | AL628: =AL627+AK628 -> 0.099978559
A629: 1 | B629: G | C629: 623 | D629: =E629*2.23694 -> 27.558826 | E629: =MIN(13.4112,(SQRT((E628^2)+2*P628*$C$7))) -> 12.319877 | F629: =($C$7/E629)+F628 -> 54.818369 | G629: =0.5*('Specifications (ICE)'!$P$4*'Specifications (ICE)'!$P$3)*'Specifications (ICE)'!$P$5*E629^2 -> 47.440556 | H629: =IF(B629="A",'Specifications (ICE)'!$M$12,IF(B629="G",'Specifications (ICE)'!$M$13)) -> 105.3388 | I629: ='Specifications (ICE)'!$H$11-G629-H629-R629 -> 549.2189 | J629: =I629/N629 -> 0.86786501 | K629: =0.5*'Specifications (ICE)'!$E$16*E629^2 -> 40744.793 | L629: =E629/'Specifications (ICE)'!$M$4 -> 43.11418 | M629: =IF(D629<11,1,IF(D629<21,2,IF(D629>21,3))) -> 3 | N629: =IF(M629=1,'Specifications (ICE)'!$M$19,IF(M629=2,'Specifications (ICE)'!$M$20,IF(M629=3,'Specifications (ICE)'!$M$21))) -> 632.83908 | O629: =(0.5*N629*E629^2)/1000 -> 48.025959 | P629: =IF(A629=1,(I629/N629),IF(A629=2,0,IF(A629=3,(1.2*(-I629/N629))))) -> 0.86786501 | Q629: 0 | R629: ='Specifications (ICE)'!$E$16*9.81*SIN(Q629-Q628) -> 0 | S629: =RADIANS(Q629) -> 0 | T629: =((63360/(PI()*12)*D629))/60 -> 771.95771 | U629: =IF((ABS(I629)*D629)/746>18,18,(ABS(I629)*D629)/746) -> 18 | V629: =U629*0.7457 -> 13.4226 | W629: =IF(M629=1,_xlfn.XLOOKUP(D629,' RPM (ICE)'!$E$3:$E$63,' RPM (ICE)'!$B$3:$B$63,,1),IF(M629=2,_xlfn.XLOOKUP(D629,' RPM (ICE)'!$F$3:$F$63,' RPM (ICE)'!$B$3:$B$63,,1),IF(M629=3,_xlfn.XLOOKUP(D629,' RPM (ICE)'!$G$3:$G$63,' RPM (ICE)'!$B$3:$B$63,,1)))) -> 6300 | X629: =(9548.8*V629)/W629 -> 20.3444 | Y629: =ROUND(X629,0) -> 20 | Z629: =IF(Y629<0,0,Y629) -> 20 | AA629: =IF(Z629>22,22,Z629) -> 20 | AC629: =IF(M629=1,_xlfn.XLOOKUP(D629,' RPM (ICE)'!$E$3:$E$63,' RPM (ICE)'!$C$3:$C$63,,-1),IF(M629=2,_xlfn.XLOOKUP(D629,' RPM (ICE)'!$F$3:$F$63,' RPM (ICE)'!$C$3:$C$63,,-1),IF(M629=3,_xlfn.XLOOKUP(D629,' RPM (ICE)'!$G$3:$G$63,' RPM (ICE)'!$C$3:$C$63,,-1)))) -> 17.435 | AD629: =AC629*0.7457 -> 13.001279 | AE629: =(9548.8*AD629)/W629 -> 19.705812 | AF629: {=_xlfn.XLOOKUP(AE629,BSFC!$I$11:$I$33,_xlfn.XLOOKUP('Main Data (ICE)'!W629,BSFC!$J$10:$W$10,BSFC!$J$11:$W$33,,-1),,-1)} -> 457.16662 | AG629: =(AF629*AD629)/(60*60) -> 1.6510419 | AH629: =((F629-F628)/3600)*AD629 -> 0.00029314144 | AI629: =AH629*AF629 -> 0.13401448 | AJ629: =AI629+AJ628 -> 75.617827 | AK629: =((AF629*AH629)/1000)/0.755 -> 0.00017750263 | AL629: =AL628+AK629 -> 0.10015606
