Workbook

Sheet Structural Steel Roof Frame
B2: Trade Bill
B3: From: | C3: JR Construction Ltd, Jack Rees, 1910145@student.uwtsd.ac.uk
B4: Project: | C4: Y Fforwm Building, Island Road, Swansea, SA1 8EW
B5: Trade: | C5: G_SC Carpentry, Structural/Carcassing Metal/ Timber
B7: Bill of Quantities - G20, Carpentry/ Timber Framing/ First fixing
B8: Item | C8: Description | D8: Qty | E8: Unit | F8: Rate | G8: £ p | H8: Notes
C10: Please note, due fluctuation on steel prices and TATA steel revising their pricing structure, all rates are subject to change and a contingency sum should be allowed to cover any increases.
B12: A | C12: Steel Purlins
C13: Cold formed galvanized steel; Kingspan Multibeam or other equal and approved
C14: Cold rolled purlins and cladding rails
C15: 205 × 65 × 1.80mm gauge purlins or rails; fixed to steelwork | D15: 780 | E15: m | F15: 11.62 | G15: =D15*F15 -> 9063.6
B17: B | C17: extra for:
C18: Cleats
C19: bolt-on for 205mm purlin or rail; including fixing bolts | D19: 780 | E19: m | F19: 5.69 | G19: =D19*F19 -> 4438.2
C20: Tubular ties
C21: 1800mm long; bolted diagonally across purlins or cladding rails | D21: 780 | E21: m | F21: 6.19 | G21: =D21*F21 -> 4828.2
B24: C | C24: Rafters
C25: Metsec open web steel lattice beams or other equal and approved; in single members; raised 3.50m above ground; ends built in Beams; one coat zinc phosphate primer at works
C26: 450mm deep; to span 12.00m (32.50 kg/m); ref G45 ref | D26: 234 | E26: m | F26: 97.35 | G26: =D26*F26 -> 22779.9
B37: PAGE 1 | C37: Page Total | G37: =SUM(G15:G36) -> 41109.9
B38: End

Sheet Roof Coverings
B2: Trade Bill
B3: From: | C3: JR Construction Ltd, Jack Rees, 1910145@student.uwtsd.ac.uk
B4: Project: | C4: Y Fforwm Building, Island Road, Swansea, SA1 8EW
B5: Trade: | C5: H_SC Roofing, Metal standing seam roof - H31/120A
B7: Bill of Quantities - Roof Coverings
B8: Item | C8: Description | D8: Qty | E8: Unit | F8: Rate | G8: £ p | H8: Notes
C10: 120 METAL STANDING SEAM ROOF: Acoustic Purlin Roof Construction 0.18 W/m2K U-Value
C11: Product Reference: Kalzip Aluminium Standing Seam 65/400 Material: Aluminium alloy BS EN AW 3004 (AlMn1Mg1) 0.2% proof stress (Rp0.2) = 185 N/mm2 minimum. Thickness: 0.9mm (nominal) Tolerance on thickness to be +0.05mm and -0.025mm thickness tolerance as per BS EN 508-2:2000. Finish: Mill Finished Natural Stucco Embossed
B12: A | C12: Roof Coverings - Metal Standing Seam Kalzip standard natural aluminium; 0.9mm thick; 180mm glassfibre insulation; vapour control layer; liner sheets; (U-value = 0.25W/m2 K) | D12: 1069 | E12: m2 | F12: 66.51 | G12: =D12*F12 -> 71099.19
B14: B | C14: Eaves Detail
C15: 40 × 20mm extruded aluminium drip angle fixed to Kalzip sheet using aluminium blind sealed rivets; black solid rubber eaves filler blocks; ST clips fixed with stainless steel fasteners | D15: 104 | E15: m | F15: 21.56 | G15: =D15*F15 -> 2242.24
C16: 0.90mm thick stucco embossed natural aluminium external eaves closure; 375mm girth twice bent | D16: 104 | E16: m | F16: 9.04 | G16: =D16*F16 -> 940.16
C17: 0.70mm thick bright white polyester liner sheet closure internal flashing; 200mm girth once bent with stainless steel fasteners, black solid rubber profiled liner small flute filler sealed top and bottom with sealant tape | D17: 104 | E17: m | F17: 10.42 | G17: =D17*F17 -> 1083.68
B19: C | C19: Verge Detail
C20: extruded aluminium gable end channel fixed to kalzip seam using aluminium blind rivets; extruded aluminium gable end clips fixed to ST clips with stainless steel fasteners; extruded aluminium gable tolerence clip hooked over gable end channel | D20: 52 | E20: m | F20: 17.58 | G20: =D20*F20 -> 914.16
C21: 0.90mm thick stucco embossed natural aluminium external verge closure 600mm girth four times bent, fixed to extruded aluminium gable tolerence clip and vertical cladding with stainless steel fasteners, black profiled filler blocks to vertical clddding | D21: 52 | E21: m | F21: 17.66 | G21: =D21*F21 -> 918.32
C22: 0.70mm thick bright white polyester liner sheet closure internal flashing 200mm girth once bent fixed with stainless steel fasteners, black solid rubber profiled filler blocks sealed top and bottom with sealant tape | D22: 52 | E22: m | F22: 10.6 | G22: =D22*F22 -> 551.2
B24: D | C24: Duo-Ridge Detail
C25: 2 Nr Extruded aluminium zed sections fixed to kalzip seams using aluminium blind sealed rivets; 2 Nr natural aluminium stucco embossed U Type ridge closures fixed to kalzip seams using aluminium blind sealed rivets; 2 Nr black solid rubber ridge filler blocks, 2 Nr ST clips fixed with stainless steel fasteners; fix seam of kaizip sheet to ST clips using aluminium blind sealed rivets (for fixed point); turn up kalzip 400 sheets both sides | D25: 52 | E25: m | F25: 34.04 | G25: =D25*F25 -> 1770.08
C26: 0.90mm thick stucco embossed natural aluminium external ridge closure; 600mm girth three times bent, fixed to U Type Ridge closure with stainless steel fasteners | D26: 52 | E26: m | F26: 13.52 | G26: =D26*F26 -> 703.04
C27: 0.70mm thick bright white polyester liner sheet closure flashing 600mm girth once bent fixed with stainless steel fasteners, black solid rubber profiled filler blocks sealed top and bottom with sealant tape | D27: 52 | E27: m | F27: 11.8 | G27: =D27*F27 -> 613.6
B30: F | C30: Soil and Vent Pipes | D30: 7 | E30: no | F30: 89.95 | G30: =D30*F30 -> 629.65
B32: G | C32: Insulation, Fire Stopping and Fire Protection
C33: Glass fibre roll; Crown Loft Roll 44 (Thermal conductivity 0.044 W/mK) or other equal; laid loose - 300mm thick (x2 layers of 150mm) (e/o if required) | D33: 1069 | E33: m2 | F33: 4.28 | G33: =D33*F33 -> 4575.32
C34: 60mm Celotex Detail to Eaves | D34: 104 | E34: m | F34: 19.76 | G34: =D34*F34 -> 2055.04
C35: Kingspan or equally approved Fire Cavity Barrier/ Sock (to be included at gable ends and eaves) | D35: 155 | E35: m | F35: 12.95 | G35: =D35*F35 -> 2007.25
B37: H | C37: 23.02 - Rooflights Rooflights, skylights, roof windows and frames; pre-glazed; treated Nordic Red Pine and aluminium trimmed Velux windows GGU 3070 or other equal; type U flashings and soakers (for tiles and pantiles up to 45mm deep), and sealed double glazing unit (trimming opening not included) | H37: Please note, as seen below, the Rooflights priced are not as shown on the drawings. The drawings request a longer window at approx 2.5m, however, this will need to bespoke as this is an abnormal size. Quote based on 780x1400mm which is the closest we could find, and will be treated as a variation if the larger window is required.
C38: Roof windows; U-value = 1.3 W/m2K; size:
C39: 780mm× 1400mm | D39: 20 | E39: no | F39: 569.15 | G39: =D39*F39 -> 11383
B41: G | C41: Provisional Sum
C42: There is a grey area to the elevation facing the sea on this block and there isn't enough detail confirming exactly what this area is. To be treated as a variation when more information is readily available. | D42: 1 | E42: item | F42: 5000 | G42: =D42*F42 -> 5000
B45: PAGE 2 | C45: Page Total | G45: =SUM(G12:G44) -> 106485.93
B46: End

Sheet PV Panels
B2: Trade Bill
B3: From: | C3: JR Construction Ltd, Jack Rees, 1910145@student.uwtsd.ac.uk
B4: Project: | C4: Y Fforwm Building, Island Road, Swansea, SA1 8EW
B5: Trade: | C5: Roofers/ Electricians
B7: Bill of Quantities - PV Solar Panels
B8: Item | C8: Description | D8: Qty | E8: Unit | F8: Rate | G8: £ p | H8: Notes
C10: Marley SolarTile Array Where Marley SolarTiles are used, an area of 1.69m2 of roofing for each panel should be deducted from the estimate. | H10: PV Solar Panel areas have been deducted from the roof area on the 'Roof Coverings' tab.
B11: A | C11: 335Wp Marley SolarTile® Photovoltaic Panel | D11: 130 | E11: no | F11: 261.25 | G11: =D11*F11 -> 33962.5
B13: B | C13: Marley SolarTile Flashing Kits
C14: Marley SolarTile® MAF16 portrait roofing kit G1, Left | D14: 4 | E14: no | F14: 166.48 | G14: =D14*F14 -> 665.92 | H14: Please note, colours highlight specific flashings.
C15: Marley SolarTile® MAF16 portrait roofing kit G1, Right | D15: 4 | E15: no | F15: 166.48 | G15: =D15*F15 -> 665.92
C16: Marley SolarTile® MAF16 portrait roofing kit G1, Centre | D16: 22 | E16: no | F16: 166.48 | G16: =D16*F16 -> 3662.56
C17: Marley SolarTile® MAF16 portrait roofing kit G1, Row | D17: 12 | E17: no | F17: 119.62 | G17: =D17*F17 -> 1435.44
C18: Marley SolarTile® MAF16 portrait roofing kit G1, Join | D18: 88 | E18: no | F18: 81.56 | G18: =D18*F18 -> 7177.28
C19: Marley SolarTile® MAF16 portrait corner conversion kit G1 - left bottom corner | D19: 2 | E19: no | F19: 102.46 | G19: =D19*F19 -> 204.92
C20: Marley SolarTile® portrait corner conversion kit G1 - right bottom corner | D20: 2 | E20: no | F20: 102.46 | G20: =D20*F20 -> 204.92
B22: C | C22: Solar & Tesla power wall install. Supply & Install the items listed below & provide commission & certification for 130no PV Solar Panels @ UWTSD Library, Swansea. Please note all panels are to be supplied and installed by Roofers as per previous items.
C23: Solar cable & linking panels
C24: Connection panels for MC4
C25: MCS sign off
C26: Commissioning & DNO
C27: Connection of all panels
C28: Firemans switch
C29: Metering
C30: DC Surge
C31: Solis Mini Series Inverters - S5-GR1P (0.7-3.6) K-M
C33: Note: The AC cabling from the attic to the consumer unit & Inclusive of the RCBO & Surge projection supply is being supplied and installed by others.
B35: D | C35: Supply & Install the items listed above and provided commission & certification.
C36: Tesla Powerwall gateway 2 | D36: 1 | E36: Item | F36: 25798.5 | G36: =D36*F36 -> 25798.5
C38: Successful Electrician to connect all equipment & install all cabling, platform & access path areas to aid maint for the units are to be installed by others.
B41: PAGE 3 | C41: Page Total | G41: =SUM(G11:G40) -> 73777.96
B42: End

Sheet Rainwater Goods
B2: Trade Bill
B3: From: | C3: JR Construction Ltd, Jack Rees, 1910145@student.uwtsd.ac.uk
B4: Project: | C4: Y Fforwm Building, Island Road, Swansea, SA1 8EW
B5: Trade: | C5: R_SC Rainwater Goods
B7: Bill of Quantities - External Envelope, Disposal Systems
B8: Item | C8: Description | D8: Qty | E8: Unit | F8: Rate | G8: £ p | H8: Notes
C10: 33.01 Rainwater Installations
B11: A | C11: Aluminium Pipes and fittings; ears cast on; polyester powder coated finish
C12: Downpipes
C13: 100mm dia. pipes; plugged and screwed (3m lengths) | D13: 72 | E13: m | F13: 57.37 | G13: =D13*F13 -> 4130.64
B15: B | C15: extra for:
C16: Shoe | D16: 4 | E16: no | F16: 29.63 | G16: =D16*F16 -> 118.52
C17: Connectors | D17: 24 | E17: no | F17: 18.76 | G17: =D17*F17 -> 450.24
C18: Swan Neck | D18: 8 | E18: no | F18: 40.36 | G18: =D18*F18 -> 322.88
C19: Brackets | D19: 72 | E19: no | F19: 4.35 | G19: =D19*F19 -> 313.2
B21: C | C21: Aluminium gutters and fittings; polyester powder coated finish
C22: 125mm half round gutters; on brackets (3m lengths) | D22: 104 | E22: m | F22: 51.74 | G22: =D22*F22 -> 5380.96
B24: D | C24: extra for:
C25: Stop end | D25: 4 | E25: no | F25: 23.13 | G25: =D25*F25 -> 92.52
C26: Running Outlet | D26: 4 | E26: no | F26: 28.26 | G26: =D26*F26 -> 113.04
C27: Connectors | D27: 35 | E27: no | F27: 12.01 | G27: =D27*F27 -> 420.35
B34: PAGE 4 | C34: Page Total | G34: =SUM(G13:G33) -> 11342.35
B35: End

Sheet Fascia & Soffit
B2: Trade Bill
B3: From: | C3: JR Construction Ltd, Jack Rees, 1910145@student.uwtsd.ac.uk
B4: Project: | C4: Y Fforwm Building, Island Road, Swansea, SA1 8EW
B5: Trade: | C5: Fascia, Bargeboard & Soffit
B7: Bill of Quantities - Fascia, Bargeboard & Soffit
B8: Item | C8: Description | D8: Qty | E8: Unit | F8: Rate | G8: £ p | H8: Notes
C10: Fascia Board installation
B11: A | C11: Skyline Aluminium Fascia Profile With 1 Bend X 3 Metre Length - 200mm (REF: SF1/200/3M) | D11: 104 | E11: m | F11: 26.81 | G11: =D11*F11 -> 2788.24
B13: B | C13: extra for:
C14: 90degree External Corner | D14: 4 | E14: no | F14: 34.72 | G14: =D14*F14 -> 138.88
C15: Fascia Joins | D15: 35 | E15: no | F15: 13.42 | G15: =D15*F15 -> 469.7
B17: C | C17: Bargeboard
C18: Identical to fascia (item a) 3m lengths of 200mm Bargeboard | D18: 52 | E18: m | F18: 26.81 | G18: =D18*F18 -> 1394.12
B20: D | C20: extra for:
C21: Joins | D21: 18 | E21: no | F21: 13.42 | G21: =D21*F21 -> 241.56
C23: Soffit
B24: E | C24: Soffit @ eaves
C25: Skyline Aluminium Soffit Profile X 3 Metre Length - 300mm (REF: SOFO/300/3MPPC) | D25: 104 | E25: m | F25: 42.71 | G25: =D25*F25 -> 4441.84
B26: F | C26: Soffit @ verge
C27: Skyline Aluminium Soffit Profile X 3 Metre Length - 600mm (REF: SOFO/700/3MPPC) | D27: 52 | E27: m | F27: 86.56 | G27: =D27*F27 -> 4501.12
B29: G | C29: extra for:
C30: Soffit Corner | D30: 4 | E30: no | F30: 10.1 | G30: =D30*F30 -> 40.4
C31: Soffit Union Clip | D31: 122 | E31: no | F31: 3.35 | G31: =D31*F31 -> 408.7
B35: PAGE 5 | C35: Page Total | G35: =SUM(G11:G34) -> 14424.56
B36: End

Sheet Summary
B2: Trade Bill
B3: From: | C3: JR Construction Ltd, Jack Rees, 1910145@student.uwtsd.ac.uk
B4: Project: | C4: Y Fforwm Building, Island Road, Swansea, SA1 8EW
C5: SUMMARY
B7: SUMMARY
B8: Bill | C8: Page | D8: Page Total | E8: Location Factor (0.85) | F8: TPI (2.18%) | G8: Total
B10: Structural Steel Roof Frame | C10: 1 | D10: ='Structural Steel Roof Frame'!G37 -> 41109.9 | E10: =D10*0.85 -> 34943.415 | F10: =E10*2.18% -> 761.76645 | G10: =E10+F10 -> 35705.181
B12: Roof Coverings | C12: 2 | D12: ='Roof Coverings'!G45 -> 106485.93 | E12: =D12*0.85 -> 90513.041 | F12: =E12*2.18% -> 1973.1843 | G12: =E12+F12 -> 92486.225
B14: PV Solar Panels | C14: 3 | D14: ='PV Panels'!G41 -> 73777.96 | E14: NA | F14: NA | G14: =D14 -> 73777.96
B16: Rainwater Goods | C16: 4 | D16: ='Rainwater Goods'!G34 -> 11342.35 | E16: =D16*0.85 -> 9640.9975 | F16: =E16*2.18% -> 210.17375 | G16: =E16+F16 -> 9851.1712
B18: Fascia, Bargeboard & Soffit | C18: 5 | D18: ='Fascia & Soffit'!G35 -> 14424.56 | E18: NA | F18: NA | G18: =D18 -> 14424.56
C20: Page Total | G20: =SUM(G10:G19) -> 226245.1
B21: End
