Workbook

Sheet Assignment 1
C1: Persona Definition (20%) | D1: Persona Development Process (20%) | E1: Information Architecture (20%) | F1: Create Storyboards (20%) | G1: Prototype Feedback (10%) | H1: Breadth of Research (5%) | I1: Document Presentation (5%) | J1: Total | K1: Grade
A2: GABRIEL | B2: AVBENAKE | C2: 4 | D2: 3 | E2: 4 | F2: 3 | G2: 2 | H2: 3 | I2: 5 | J2: =((C2+D2+E2+F2)*0.2)+(G2*0.1)+((H2+I2)*0.05) -> 3.4 | K2: =IF(J2>2,(((J2-2)*17)+50),J2*25) -> 73.8
A3: GREGORY | B3: REES | C3: 5 | D3: 4 | E3: 5 | F3: 4 | G3: 2 | H3: 5 | I3: 5 | J3: =((C3+D3+E3+F3)*0.2)+(G3*0.1)+((H3+I3)*0.05) -> 4.3 | K3: =IF(J3>2,(((J3-2)*17)+50),J3*25) -> 89.1
A4: HAOYI | B4: SUN | C4: 3 | D4: 2 | E4: 3 | F4: 1 | G4: 2 | H4: 1 | I4: 4 | J4: =((C4+D4+E4+F4)*0.2)+(G4*0.1)+((H4+I4)*0.05) -> 2.25 | K4: =IF(J4>2,(((J4-2)*17)+50),J4*25) -> 54.25
A5: NING | B5: ZHAO | C5: 3 | D5: 2 | E5: 3 | F5: 3 | G5: 2 | H5: 3 | I5: 4 | J5: =((C5+D5+E5+F5)*0.2)+(G5*0.1)+((H5+I5)*0.05) -> 2.75 | K5: =IF(J5>2,(((J5-2)*17)+50),J5*25) -> 62.75
J6: MEAN | K6: =AVERAGE(K2:K5) -> 69.975
J7: SD | K7: =STDEV(K2:K5) -> 15.054042

Sheet Assignment 2
C1: Updated Storyboards (20%) | D1: Discussion of Changes (10%) | E1: Feedback (20%) | F1: Data Collection (20%) | G1: UX v UI (20%) | H1: Breadth of Research (5%) | I1: Document Presentation (5%) | J1: Total | K1: Grade
A2: GABRIEL | B2: AVBENAKE | C2: 5 | D2: 4 | E2: 3 | F2: 5 | G2: 4 | H2: 5 | I2: 5 | J2: =((C2+G2+E2+F2)*0.2)+(D2*0.1)+((H2+I2)*0.05) -> 4.3 | K2: =IF(J2>2,(((J2-2)*12.5)+50),J2*25) -> 78.75
A3: GREGORY | B3: REES | C3: 4 | D3: 4 | E3: 3 | F3: 5 | G3: 1 | H3: 3 | I3: 4 | J3: =((C3+G3+E3+F3)*0.2)+(D3*0.1)+((H3+I3)*0.05) -> 3.35 | K3: =IF(J3>2,(((J3-2)*12.5)+50),J3*25) -> 66.875
A4: HAOYI | B4: SUN | C4: 4 | D4: 3 | E4: 3 | F4: 1 | G4: 2 | H4: 3 | I4: 4 | J4: =((C4+G4+E4+F4)*0.2)+(D4*0.1)+((H4+I4)*0.05) -> 2.65 | K4: =IF(J4>2,(((J4-2)*12.5)+50),J4*25) -> 58.125
A5: NING | B5: ZHAO | C5: 5 | D5: 2 | E5: 5 | F5: 5 | G5: 3 | H5: 3 | I5: 4.5 | J5: =((C5+G5+E5+F5)*0.2)+(D5*0.1)+((H5+I5)*0.05) -> 4.175 | K5: =IF(J5>2,(((J5-2)*12.5)+50),J5*25) -> 77.1875
J6: MEAN | K6: =SUM(K2:K5)/4 -> 70.234375
J7: SD | K7: =STDEV(K2:K5) -> 9.6399201
O8: =50/6 -> 8.3333333

Sheet Totals
C1: Assignment 1 | D1: Assignment 2 | E1: Grade
A2: GABRIEL | B2: AVBENAKE | C2: ='Assignment 1'!K2 -> 73.8 | D2: ='Assignment 2'!K2 -> 78.75 | E2: =(C2+D2)/2 -> 76.275
A3: GREGORY | B3: REES | C3: ='Assignment 1'!K3 -> 89.1 | D3: ='Assignment 2'!K3 -> 66.875 | E3: =(C3+D3)/2 -> 77.9875
A4: HAOYI | B4: SUN | C4: ='Assignment 1'!K4 -> 54.25 | D4: ='Assignment 2'!K4 -> 58.125 | E4: =(C4+D4)/2 -> 56.1875
A5: NING | B5: ZHAO | C5: ='Assignment 1'!K5 -> 62.75 | D5: ='Assignment 2'!K5 -> 77.1875 | E5: =(C5+D5)/2 -> 69.96875
D6: MEAN | E6: =AVERAGE(E2:E5) -> 70.104688
D7: SD | E7: =STDEV(E2:E5) -> 9.8981156
