Workbook

Sheet Vehicle 
B2: Renegade DX10-C (Auto) Corporate 300cc
A4: Y | B4: Engine Specifications
A5: N
B6: Engine | F6: 278cc Petrol Single Cylinder 4-Stroke ICE
B8: Power (BHP) (@6500) | F8: 18
B9: Power (KW) | F9: =F8/1.341 -> 13.422819
B10: Torque (Nm) (@5500) | F10: 22
B11: Top Speed (mph) | F11: 30
B12: Top Speed (m/s) | F12: =F11/2.237 -> 13.410818
B13: Vehicle Specifications
B15: Transmission | F15: Auto CVT with F/N/R
B16: Drive | F16: CVT Clutch
B17: Diff Lock | F17: Locked Rear Axle
B18: Tank Capacity (L) | F18: 29
B19: Vehicle Dimensions
B21: Length (m) | F21: 2.62
B22: Width (m) | F22: 1.65
B23: Height (m) | F23: 1.62
B24: Ground Clearance (m) | F24: 0.3
B25: Frontal Area (m²) | F25: =0.7*F22*F23 -> 1.8711
B26: Frontal Aero Area (m²) | F26: =(F23-F24)*F22 -> 2.178
B27: Centre of Gravity (X) | F27: 0.5
B28: Centre of Gravity (Y) | F28: 0.3
B29: Vehicle Mass
B31: Curb Weight (Kg) | F31: 365
B32: Driver (Kg) | F32: 75
B33: Driver Kit (Kg) | F33: 10
B34: Passenger (Y/N) | F34: Y
B35: Passenger (Kg) | F35: =IF(F34=A4, 75, 0) -> 75
B36: Passenger Kit (Kg) | F36: =IF(F34=A4, 10, 0) -> 10
B37: Fuel (L) | F37: 29
B38: Fuel (Kg) | F38: =F37*0.7 -> 20.3
B39: Hybrid System (Kg) | F39: 65
B40: Total (Kg) | F40: =SUM(F31:I39) -> 649.3
B41: Wheel Dimensions
B43: Front Wheel Size (In) | F43: 12
B44: Front Wheel Size (m) | F44: =F43/39.37 -> 0.30480061
B45: Front Tyre Side Wall (m) | F45: 0.1524
B46: Rear Wheel Size (In) | F46: 10
B47: Rear Wheel Size (m) | F47: =F46/39.37 -> 0.25400051
...

Sheet BSFC 
B2: Brake Specific Fuel Consumption (g/Kwh)
B4: Torque (Nm)
B5: 22 | X5: 496.03879
B6: 21 | V6: 509.99897 | W6: 502.51705 | X6: 472.37705 | Y6: 498.27743
B7: 20 | T7: 522.08097 | U7: 514.46309 | V7: 500.44924 | W7: 492.96732 | X7: 448.7153 | Y7: 474.61568 | Z7: 508.57866
B8: 19 | S8: 529.92054 | T8: 516.53054 | U8: 508.91266 | V8: 480.16307 | W8: 472.68115 | X8: 425.05355 | Y8: 450.95393 | Z8: 495.50618 | AA8: 525.75213 | AB8: 546.9084
B9: 18 | P9: 534.16371 | Q9: 533.79035 | R9: 532.62719 | S9: 520.1372 | T9: 506.7472 | U9: 499.12932 | V9: 463.08194 | W9: 455.60002 | X9: 401.3918 | Y9: 427.29218 | Z9: 477.05146 | AA9: 507.29741 | AB9: 533.40609 | AC9: 552.97609
B10: 17 | O10: 547.86457 | P10: 537.98996 | Q10: 536.77301 | R10: 527.23521 | S10: 504.39229 | T10: 491.00229 | U10: 483.38441 | V10: 429.55354 | W10: 422.07162 | X10: 389.56092 | Y10: 415.4613 | Z10: 437.82468 | AA10: 468.07063 | AB10: 525.45421 | AC10: 545.02421 | AD10: 586.83989
B11: 16 | M11: 549.63108 | N11: 549.78649 | O11: 551.69082 | P11: 541.81621 | Q11: 539.75566 | R11: 530.21786 | S11: 494.76703 | T11: 481.37703 | U11: 473.75915 | V11: 399.62575 | W11: 392.14383 | X11: 377.73005 | Y11: 403.63043 | Z11: 398.59789 | AA11: 428.84384 | AB11: 520.59525 | AC11: 540.16525 | AD11: 575.17293
B12: 15 | L12: 559.46562 | M12: 553.87066 | N12: 549.01925 | O12: 542.00391 | P12: 532.1293 | Q12: 542.73832 | R12: 533.20052 | S12: 489.64074 | T12: 476.25074 | U12: 468.63286 | V12: 378.56401 | W12: 371.08209 | X12: 352.04529 | Y12: 377.94567 | Z12: 363.14746 | AA12: 393.39341 | AB12: 477.50932 | AC12: 497.07932 | AD12: 523.03139
B13: 14 | K13: 586.92964 | L13: 563.7052 | M13: 558.11024 | N13: 553.2182 | O13: 532.31701 | P13: 522.4424 | Q13: 523.48964 | R13: 513.95184 | S13: 453.32763 | T13: 439.93763 | U13: 432.31975 | V13: 357.50228 | W13: 350.02036 | X13: 330.40655 | Y13: 356.30693 | Z13: 356.11311 | AA13: 386.35906 | AB13: 462.69883 | AC13: 482.26883 | AD13: 515.36511
B14: 13 | J14: 624.12854 | K14: 606.37917 | L14: 583.15473 | M14: 577.55977 | N14: 557.41716 | O14: 522.63011 | P14: 512.7555 | Q14: 504.24096 | R14: 494.70316 | S14: 428.81673 | T14: 415.42673 | U14: 407.80885 | V14: 336.44054 | W14: 328.95862 | X14: 306.7448 | Y14: 332.64518 | Z14: 350.80252 | AA14: 381.04847 | AB14: 488.57748 | AC14: 508.14748 | AD14: 563.87428
B15: 12 | I15: 625.161 | J15: 640.92 | K15: 625.82871 | L15: 602.60427 | M15: 597.00931 | N15: 564.28854 | O15: 541.29974 | P15: 531.42513 | Q15: 507.5996 | R15: 498.0618 | S15: 478.08848 | T15: 464.69848 | U15: 457.0806 | V15: 317.08879 | W15: 309.60687 | X15: 331.29035 | Y15: 357.19073 | Z15: 345.49192 | AA15: 375.73787 | AB15: 514.45613 | AC15: 534.02613 | AD15: 580.24525
B16: 11 | I16: 636.49359 | J16: 652.25259 | K16: 646.56496 | L16: 623.34052 | M16: 617.74556 | N16: 594.28174 | O16: 561.39903 | P16: 551.52442 | Q16: 520.89518 | R16: 511.35738 | S16: 484.58034 | T16: 471.19034 | U16: 463.57246 | V16: 380.75522 | W16: 373.2733 | X16: 372.15392 | Y16: 398.0543 | Z16: 340.18132 | AA16: 370.42727 | AB16: 540.33478 | AC16: 559.90478 | AD16: 585.73754
B17: 10 | H17: 650.46973 | I17: 645.44717 | J17: 661.20617 | K17: 667.3012 | L17: 644.07676 | M17: 638.4818 | N17: 626.94736 | O17: 575.3592 | P17: 565.48459 | Q17: 547.17679 | R17: 537.63899 | S17: 523.1834 | T17: 509.7934 | U17: 502.17552 | V17: 404.28537 | W17: 396.80345 | X17: 389.64619 | Y17: 415.54657 | Z17: 334.87072 | AA17: 365.11667 | AB17: 546.94344 | AC17: 566.51344 | AD17: 581.11737
B18: 9 | H18: 664.66662 | I18: 656.34246 | J18: 672.10146 | K18: 679.28752 | L18: 656.06308 | M18: 650.46812 | N18: 640.02471 | O18: 633.86094 | P18: 623.98633 | Q18: 587.94434 | R18: 578.40654 | S18: 546.21675 | T18: 532.82675 | U18: 525.20887 | V18: 427.81552 | W18: 420.3336 | X18: 434.85323 | Y18: 460.75361 | Z18: 454.36384 | AA18: 484.60979 | AB18: 553.5521 | AC18: 573.1221 | AD18: 599.62192
B19: 8 | G19: 703.27451 | H19: 678.86351 | I19: 687.63605 | J19: 703.39505 | K19: 703.23467 | L19: 680.01023 | M19: 674.41527 | N19: 656.62541 | O19: 643.1152 | P19: 633.24059 | Q19: 591.45846 | R19: 581.92066 | S19: 543.99073 | T19: 530.60073 | U19: 522.98285 | V19: 451.34568 | W19: 443.86376 | X19: 466.20289 | Y19: 492.10327 | Z19: 535.68139 | AA19: 565.92734 | AB19: 610.54213 | AC19: 630.11213 | AD19: 681.81471
B20: 7 | G20: 717.47141 | H20: 693.06041 | I20: 730.10526 | J20: 745.86426 | K20: 740.94876 | L20: 717.72432 | M20: 712.12936 | N20: 679.85711 | O20: 677.49863 | P20: 667.62402 | Q20: 641.9852 | R20: 632.4474 | S20: 582.72566 | T20: 569.33566 | U20: 561.71778 | V20: 497.72074 | W20: 490.23882 | X20: 503.79912 | Y20: 529.6995 | Z20: 584.57471 | AA20: 614.82066 | AB20: 646.12469 | AC20: 665.69469 | AD20: 720.49175
B21: 6 | F21: 664.33646 | G21: 723.20955 | H21: 735.65109 | I21: 773.42478 | J21: 789.18378 | K21: 765.17349 | L21: 741.94905 | M21: 736.35409 | N21: 689.65923 | O21: 711.88205 | P21: 702.00744 | Q21: 664.57682 | R21: 655.03902 | S21: 621.4606 | T21: 608.0706 | U21: 600.45272 | V21: 544.09581 | W21: 536.61389 | X21: 529.73384 | Y21: 555.63422 | Z21: 637.48134 | AA21: 667.72729 | AB21: 656.24442 | AC21: 675.81442 | AD21: 734.33045
B22: 5 | E22: 751.52792 | F22: 737.51992 | G22: 773.46161 | H22: 749.05061 | I22: 792.87932 | J22: 808.63832 | K22: 811.37725 | L22: 788.15281 | M22: 782.55785 | N22: 767.6673 | O22: 757.05639 | P22: 747.18178 | Q22: 716.35904 | R22: 706.82124 | S22: 686.13932 | T22: 672.74932 | U22: 665.13144 | V22: 638.6774 | W22: 631.19548 | X22: 619.87227 | Y22: 645.77265 | Z22: 679.12827 | AA22: 709.37422 | AB22: 736.32698 | AC22: 755.89698 | AD22: 794.89722
B23: 4 | D23: 726.48135 | E23: 786.31156 | F23: 772.30356 | G23: 794.69155 | H23: 770.28055 | I23: 824.26636 | J23: 840.02536 | K23: 865.85024 | L23: 842.6258 | M23: 837.03084 | N23: 821.12039 | O23: 788.04163 | P23: 778.16702 | Q23: 768.14126 | R23: 758.60346 | S23: 750.81804 | T23: 737.42804 | U23: 729.81016 | V23: 716.25261 | W23: 708.77069 | X23: 710.01071 | Y23: 735.91109 | Z23: 753.64327 | AA23: 783.88922 | AB23: 799.26302 | AC23: 818.83302 | AD23: 843.55797
B24: 3 | D24: 942.16883 | E24: 940.39208 | F24: 926.38408 | G24: 935.27443 | H24: 910.86343 | I24: 854.67848 | J24: 870.43748 | K24: 920.32323 | L24: 897.09879 | M24: 891.50383 | N24: 874.57348 | O24: 828.53922 | P24: 818.66461 | Q24: 819.92348 | R24: 810.38568 | S24: 815.49676 | T24: 802.10676 | U24: 794.48888 | V24: 793.82783 | W24: 786.34591 | X24: 785.5489 | Y24: 811.44928 | Z24: 828.15827 | AA24: 858.40422 | AB24: 846.27984 | AC24: 865.84984 | AD24: 880.72661
B25: 2 | D25: 1177.5763 | E25: 1094.4726 | F25: 1080.4646 | G25: 1015.764 | H25: 991.35299 | I25: 959.35799 | J25: 975.11699 | K25: 974.79623 | L25: 951.57179 | M25: 945.97683 | N25: 928.02658 | O25: 914.35598 | P25: 904.48137 | Q25: 927.16952 | R25: 917.63172 | S25: 912.17351 | T25: 898.78351 | U25: 891.16563 | V25: 879.9353 | W25: 872.45338 | X25: 861.08709 | Y25: 886.98747 | Z25: 880.40511 | AA25: 910.65106 | AB25: 893.29667 | AC25: 912.86667 | AD25: 910.47254
B26: 1 | D26: 1315.8203 | E26: 1248.5531 | F26: 1234.5451 | G26: 1182.6964 | H26: 1158.2854 | I26: 1064.0375 | J26: 1079.7965 | K26: 1087.4097 | L26: 1064.1853 | M26: 1058.5903 | N26: 1048.5741 | O26: 1042.8375 | P26: 1032.9629 | Q26: 1034.4156 | R26: 1024.8778 | S26: 1008.8503 | T26: 995.46027 | U26: 987.84239 | V26: 966.04277 | W26: 958.56085 | X26: 936.62528 | Y26: 962.52566 | Z26: 932.65194 | AA26: 962.89789 | AB26: 924.3943 | AC26: 943.9643 | AD26: 918.99285
B27: 0.5 | D27: 1607.8371 | E27: 1533.605 | F27: 1519.597 | G27: 1455.768 | H27: 1431.357 | I27: 1327.358 | J27: 1343.117 | K27: 1278.1014 | L27: 1254.877 | M27: 1249.282 | N27: 1207.1283 | O27: 1169.2543 | P27: 1159.3797 | Q27: 1121.1688 | R27: 1111.631 | S27: 1084.7622 | T27: 1071.3722 | U27: 1063.7543 | V27: 1031.3854 | W27: 1023.9035 | X27: 991.39867 | Y27: 1017.2991 | Z27: 984.89877 | AA27: 1015.1447 | AB27: 955.49192 | AC27: 975.06192 | AD27: 941.35637
D28: 500 | E28: 750 | F28: 1000 | G28: 1250 | H28: 1500 | I28: 1750 | J28: 2000 | K28: 2250 | L28: 2500 | M28: 2750 | N28: 3000 | O28: 3250 | P28: 3500 | Q28: 3750 | R28: 4000 | S28: 4250 | T28: 4500 | U28: 4750 | V28: 5000 | W28: 5250 | X28: 5500 | Y28: 5750 | Z28: 6000 | AA28: 6250 | AB28: 6500 | AC28: 6750 | AD28: 7000 | AE28: Engine RPM
B30: 0.5
B31: 1
B32: =B31+1 -> 2
B33: =B32+1 -> 3
B34: =B33+1 -> 4
B35: =B34+1 -> 5
B36: =B35+1 -> 6
B37: =B36+1 -> 7
B38: =B37+1 -> 8
B39: =B38+1 -> 9
B40: =B39+1 -> 10
B41: =B40+1 -> 11
B42: =B41+1 -> 12
B43: =B42+1 -> 13
...

Sheet Track 
B2: Circuit Details
B4: Track | E4: Willow Springs
B5: Location | E5: U.S.A
B6: Track Length (m) | E6: =ROUND(SUM(F11:G33),0) -> 1633
B7: Sectors
B9: Sector | D9: Surface Type | F9: Distance m
B11: S1 | D11: Tarmac | F11: 129.47
B12: T1 | D12: Tarmac | F12: 71.34
B13: S2 | D13: Tarmac | F13: 66.5 | H13: =F11 -> 129.47
B14: T2 | D14: Tarmac | F14: 115.84 | H14: =F12+H13 -> 200.81
B15: S3 | D15: Gravel | F15: 60.89 | H15: =F13+H14 -> 267.31
B16: T3 | D16: Gravel | F16: 96.26 | H16: =F14+H15 -> 383.15
B17: S4 | D17: Gravel | F17: 96.12 | H17: =F15+H16 -> 444.04
B18: T4 | D18: Gravel | F18: 80.11 | H18: =F16+H17 -> 540.3
B19: S5 | D19: Mud | F19: 77.4 | H19: =F17+H18 -> 636.42
B20: T5 | D20: Mud | F20: 89.47 | H20: =F18+H19 -> 716.53
B21: S6 | D21: Mud | F21: 37.41 | H21: =F19+H20 -> 793.93
B22: T6 | D22: Mud | F22: 56.86 | H22: =F20+H21 -> 883.4
B23: S7 | D23: Tarmac | F23: 73.52 | H23: =F21+H22 -> 920.81
B24: T7 | D24: Tarmac | F24: 77.14 | H24: =F22+H23 -> 977.67
B25: S8 | D25: Tarmac | F25: 61.27 | H25: =F23+H24 -> 1051.19
... B33: T10C | D33: Mud | F33: 42.77 | H33: =F31+H32 -> 1532.14
B34: Corners | H34: =F32+H33 -> 1590.48
H35: =F33+H34 -> 1633.25
B36: Corner | D36: Radius | F36: Max Velocity (m/s)
B38: T1 | D38: 22.94 | F38: =SQRT(D38*0.7*9.81) -> 12.551055
B39: T2 | D39: 158.5 | F39: =SQRT(D39*0.7*9.81) -> 32.991203
B40: T3 | D40: 31.72 | F40: =SQRT(D40*0.7*9.81) -> 14.758768
B41: T4 | D41: 24.41 | F41: =SQRT(D41*0.7*9.81) -> 12.946948
B42: T5 | D42: 23.88 | F42: =SQRT(D42*0.7*9.81) -> 12.805622
B43: T6 | D43: 18.89 | F43: =SQRT(D43*0.7*9.81) -> 11.389365
B44: T7 | D44: 53.94 | F44: =SQRT(D44*0.7*9.81) -> 19.245934
B45: T8A | D45: 37.54 | F45: =SQRT(D45*0.7*9.81) -> 16.055752
B46: T8B | D46: 78.11 | F46: =SQRT(D46*0.7*9.81) -> 23.159909
B47: T9 | D47: 103.95 | F47: =SQRT(D47*0.7*9.81) -> 26.717497
B48: T10A | D48: 34.14 | F48: =SQRT(D48*0.7*9.81) -> 15.311413
B49: T10B | D49: 34.45 | F49: =SQRT(D49*0.7*9.81) -> 15.380772
B50: T10C | D50: 47.65 | F50: =SQRT(D50*0.7*9.81) -> 18.089017
B51: Additional Information
B53: RR Coeficient Tarmac | F53: 0.02
...

Sheet Forces
B2: Rolling Resistance (N) | G2: Traction Limited Acceleration (m/s²) | L2: Friction Coefficient | Q2: Max Acceleration (m/s²)
B3: Tarmac | D3: ='Track '!$F$53*9.81*('Vehicle '!$F$40) -> 127.39266 | G3: Tarmac | I3: =((((N3)*('Vehicle '!$F$40)*(9.81)*(COS(0))*(('Vehicle '!$F$27)-(0.02)*(('Vehicle '!$F$28)-('Vehicle '!$F$49))))/('Vehicle '!$F$21))/(((1)-((0.6)*('Vehicle '!$F$28)))/('Vehicle '!$F$21)))*(10^-3) -> 3.2969368 | L3: Tarmac | N3: 0.85 | Q3: Tarmac | S3: =N8/'Vehicle '!$F$40 -> 4.16925
B4: Gravel | D4: ='Track '!$F$54*9.81*('Vehicle '!$F$40) -> 254.78532 | G4: Gravel | I4: =((((N4)*('Vehicle '!$F$40)*(9.81)*(COS(0))*(('Vehicle '!$F$27)-(0.02)*(('Vehicle '!$F$28)-('Vehicle '!$F$49))))/('Vehicle '!$F$21))/(((1)-((0.6)*('Vehicle '!$F$28)))/('Vehicle '!$F$21)))*(10^-3) -> 2.3272495 | L4: Gravel | N4: 0.6 | Q4: Gravel | S4: =N9/'Vehicle '!$F$40 -> 2.943
B5: Mud | D5: ='Track '!$F$55*9.81*('Vehicle '!$F$40) -> 382.17798 | G5: Mud | I5: =((((N5)*('Vehicle '!$F$40)*(9.81)*(COS(0))*(('Vehicle '!$F$27)-(0.02)*(('Vehicle '!$F$28)-('Vehicle '!$F$49))))/('Vehicle '!$F$21))/(((1)-((0.6)*('Vehicle '!$F$28)))/('Vehicle '!$F$21)))*(10^-3) -> 2.6375495 | L5: Mud | N5: 0.68 | Q5: Mud | S5: =N10/'Vehicle '!$F$40 -> 3.3354
B7: Net Driving Force (N) | G7: Traction Limited Decceleration (m/s²) | L7: Tractive Effort (N)
B8: Tarmac | D8: =0-D3 -> -127.39266 | G8: Tarmac | I8: =N3*9.81 -> 8.3385 | L8: Tarmac | N8: =2*N3*('Vehicle '!$F$40*9.81/4) -> 2707.094
B9: Gravel | D9: =0-D4 -> -254.78532 | G9: Gravel | I9: =N4*9.81 -> 5.886 | L9: Gravel | N9: =2*N4*('Vehicle '!$F$40*9.81/4) -> 1910.8899
B10: Mud | D10: =0-D5 -> -382.17798 | G10: Mud | I10: =N5*9.81 -> 6.6708 | L10: Mud | N10: =2*N5*('Vehicle '!$F$40*9.81/4) -> 2165.6752

Sheet Duty Cycle 
A2: Fuel / Lap (g) | B2: Time (s) | C2: Sector | D2: Total Distance (m) | E2: Δ Distance (m) | F2: Surface Type | G2: Elavation (m) | H2: Δ Elevation (m) | I2: Gradient (°) | J2: Gear | K2: RPM | L2: Velocity (m/s) | M2: Velocity (mph) | N2: Acceleration (m/s²) | O2: Acceleration Force (N) | P2: RR Coeficient | Q2: Rolling Drag (N) | R2: Aero Drag (N) | S2: Forces due to Incline (N) | T2: Total Resistive Forces (N) | U2: Resistive Power (KW) | V2: Remaining Power Available (KW) | W2: Power Required per Second (KW) | X2: Torque (Nm) | Y2: Torque (Nm) | Z2: Workdone (J) | AA2: Total Work Done (J) | AB2: Fuel Consumption (g/KWh) | AC2: Fuel Consumption (g/s) | AD2: Total Fuel Consumption (g) | AE2: CO2 Production (g/s) | AF2: Kinetic Energy (KJ) | AG2: Total Energy (KJ)
B3: 0 | C3: S1 | D3: 0 | E3: 0 | F3: Tarmac | G3: 10 | H3: 0 | I3: 0 | J3: 1 | K3: 750 | L3: 0 | M3: =L3*2.237 -> 0 | N3: 0 | O3: =IF(J3=1,'[1]Gearing '!$C$17*'Duty Cycle '!N3,IF(J3=2,'[1]Gearing '!$C$18*'Duty Cycle '!N3,IF(J3=3,'[1]Gearing '!$C$19*'Duty Cycle '!N3))) -> 0 | P3: 0 | Q3: 0 | R3: 0 | S3: 0 | T3: =Q3+R3+S3 -> 0 | U3: =T3*L3/1000 -> 0 | V3: ='Vehicle '!$F$9-'Duty Cycle '!U3 -> 13.422819 | W3: =U3 -> 0 | X3: =ABS((W3*1000)/((2*PI()*K3)/60)) -> 0 | Y3: =ROUNDUP(X3,0) -> 0 | Z3: =T3*D3 -> 0 | AA3: 0 | AB3: 0 | AC3: =U3*AB3/3600 -> 0 | AD3: 0 | AE3: 0 | AF3: =0.5*'[1]Vehicle '!$F$38*'Duty Cycle '!L3^2/1000 -> 0 | AG3: =Z3+AF3 -> 0 | AN3: 1
A4: =SUM(AC3:AC153) -> 55.626247 | B4: =B3+1 -> 1 | C4: S1 | D4: =SUM($L$3:L4) -> 0.80373645 | E4: =D4-D3 -> 0.80373645 | F4: Tarmac | G4: 10.02 | H4: =G4-G3 -> 0.02 | I4: =DEGREES(ATAN(H4/E4)) -> 1.4254413 | J4: 1 | K4: 750 | L4: 0.80373645 | M4: =L4*2.237 -> 1.7979584 | N4: =L4-L3 -> 0.80373645 | O4: =IF(J4=1,'[1]Gearing '!$C$17*'Duty Cycle '!N4,IF(J4=2,'[1]Gearing '!$C$18*'Duty Cycle '!N4,IF(J4=3,'[1]Gearing '!$C$19*'Duty Cycle '!N4))) -> 491.74804 | P4: =IF(F4='Track '!$B$60,'Track '!$F$53,IF(F4='Track '!$B$61,'Track '!$F$54,IF(F4='Track '!$B$62,'Track '!$F$55))) -> 0.02 | Q4: =P4*'Vehicle '!$F$40*9.81 -> 127.39266 | R4: =0.5*'Vehicle '!$F$53*'Vehicle '!$F$25*'Track '!$F$57*'Duty Cycle '!L4^2 -> 0.24685006 | S4: ='Vehicle '!$F$40*9.81*SIN(RADIANS('Duty Cycle '!I4)) -> 158.45149 | T4: =Q4+R4+S4 -> 286.091 | U4: =ABS(((+T4)*(+L4)/1000)) -> 0.22994176 | V4: ='Vehicle '!$F$9-'Duty Cycle '!U4 -> 13.192877 | W4: =U4 -> 0.22994176 | X4: =ABS((W4*1000)/((2*PI()*K4)/60)) -> 2.9277095 | Y4: =MIN(22,ROUNDUP(X4,0)) -> 3 | Z4: =T4*D4 -> 229.94176 | AA4: =SUM(AA3,Z4) -> 229.94176 | AB4: 0 | AC4: =U4*AB4/3600 -> 0 | AD4: =AD3+AC4 -> 0 | AE4: =AC4*3.09*1000 -> 0 | AF4: =0.5*'Vehicle '!$F$40*'Duty Cycle '!L4^2/1000 -> 0.2097214 | AG4: =Z4+AF4 -> 230.15149 | AN4: 2
B5: =B4+1 -> 2 | C5: S1 | D5: =SUM($L$3:L5) -> 2.1432972 | E5: =D5-D4 -> 1.3395608 | F5: Tarmac | G5: 10.04 | H5: =G5-G4 -> 0.02 | I5: =DEGREES(ATAN(H5/E5)) -> 0.85537774 | J5: 1 | K5: 1250 | L5: 1.3395608 | M5: =L5*2.237 -> 2.9965974 | N5: =L5-L4 -> 0.5358243 | O5: =IF(J5=1,'[1]Gearing '!$C$17*'Duty Cycle '!N5,IF(J5=2,'[1]Gearing '!$C$18*'Duty Cycle '!N5,IF(J5=3,'[1]Gearing '!$C$19*'Duty Cycle '!N5))) -> 327.83202 | P5: =IF(F5='Track '!$B$60,'Track '!$F$53,IF(F5='Track '!$B$61,'Track '!$F$54,IF(F5='Track '!$B$62,'Track '!$F$55))) -> 0.02 | Q5: =P5*'Vehicle '!$F$40*9.81 -> 127.39266 | R5: =0.5*'Vehicle '!$F$53*'Vehicle '!$F$25*'Track '!$F$57*'Duty Cycle '!L5^2 -> 0.68569461 | S5: ='Vehicle '!$F$40*9.81*SIN(RADIANS('Duty Cycle '!I5)) -> 95.089725 | T5: =Q5+R5+S5 -> 223.16808 | U5: =ABS(((+T5)*(+L5)/1000)) -> 0.2989472 | V5: ='Vehicle '!$F$9-'Duty Cycle '!U5 -> 13.123872 | W5: =U5 -> 0.2989472 | X5: =ABS((W5*1000)/((2*PI()*K5)/60)) -> 2.2837884 | Y5: =MIN(22,ROUNDUP(X5,0)) -> 3 | Z5: =T5*D5 -> 478.31552 | AA5: =SUM(AA4,Z5) -> 708.25729 | AB5: ='BSFC '!$X$14 -> 306.7448 | AC5: =U5*AB5/3600 -> 0.025472361 | AD5: =AD4+AC5 -> 0.025472361 | AE5: =AC5*3.09 -> 0.078709596 | AF5: =0.5*'Vehicle '!$F$40*'Duty Cycle '!L5^2/1000 -> 0.58255943 | AG5: =Z5+AF5 -> 478.89808 | AN5: 3
A6: Fuel / Lap (L) | B6: =B5+1 -> 3 | C6: S1 | D6: =SUM($L$3:L6) -> 4.0186823 | E6: =D6-D5 -> 1.8753851 | F6: Tarmac | G6: 10.08 | H6: =G6-G5 -> 0.04 | I6: =DEGREES(ATAN(H6/E6)) -> 1.2218737 | J6: 1 | K6: 1750 | L6: 1.8753851 | M6: =L6*2.237 -> 4.1952364 | N6: =L6-L5 -> 0.5358243 | O6: =IF(J6=1,'[1]Gearing '!$C$17*'Duty Cycle '!N6,IF(J6=2,'[1]Gearing '!$C$18*'Duty Cycle '!N6,IF(J6=3,'[1]Gearing '!$C$19*'Duty Cycle '!N6))) -> 327.83202 | P6: =IF(F6='Track '!$B$60,'Track '!$F$53,IF(F6='Track '!$B$61,'Track '!$F$54,IF(F6='Track '!$B$62,'Track '!$F$55))) -> 0.02 | Q6: =P6*'Vehicle '!$F$40*9.81 -> 127.39266 | R6: =0.5*'Vehicle '!$F$53*'Vehicle '!$F$25*'Track '!$F$57*'Duty Cycle '!L6^2 -> 1.3439614 | S6: ='Vehicle '!$F$40*9.81*SIN(RADIANS('Duty Cycle '!I6)) -> 135.82671 | T6: =Q6+R6+S6 -> 264.56333 | U6: =ABS(((+T6)*(+L6)/1000)) -> 0.49615812 | V6: ='Vehicle '!$F$9-'Duty Cycle '!U6 -> 12.926661 | W6: =U6 -> 0.49615812 | X6: =ABS((W6*1000)/((2*PI()*K6)/60)) -> 2.7074063 | Y6: =MIN(22,ROUNDUP(X6,0)) -> 3 | Z6: =T6*D6 -> 1063.196 | AA6: =SUM(AA5,Z6) -> 1771.4533 | AB6: ='BSFC '!$X$14 -> 306.7448 | AC6: =U6*AB6/3600 -> 0.04227609 | AD6: =AD5+AC6 -> 0.067748451 | AE6: =AC6*3.09 -> 0.13063312 | AF6: =0.5*'Vehicle '!$F$40*'Duty Cycle '!L6^2/1000 -> 1.1418165 | AG6: =Z6+AF6 -> 1064.3378
B7: =B6+1 -> 4 | C7: S1 | D7: =SUM($L$3:L7) -> 6.6978038 | E7: =D7-D6 -> 2.6791215 | F7: Tarmac | G7: 10.15 | H7: =G7-G6 -> 0.07 | I7: =DEGREES(ATAN(H7/E7)) -> 1.4966818 | J7: 1 | K7: 2500 | L7: 2.6791215 | M7: =L7*2.237 -> 5.9931948 | N7: =L7-L6 -> 0.80373645 | O7: =IF(J7=1,'[1]Gearing '!$C$17*'Duty Cycle '!N7,IF(J7=2,'[1]Gearing '!$C$18*'Duty Cycle '!N7,IF(J7=3,'[1]Gearing '!$C$19*'Duty Cycle '!N7))) -> 491.74804 | P7: =IF(F7='Track '!$B$60,'Track '!$F$53,IF(F7='Track '!$B$61,'Track '!$F$54,IF(F7='Track '!$B$62,'Track '!$F$55))) -> 0.02 | Q7: =P7*'Vehicle '!$F$40*9.81 -> 127.39266 | R7: =0.5*'Vehicle '!$F$53*'Vehicle '!$F$25*'Track '!$F$57*'Duty Cycle '!L7^2 -> 2.7427784 | S7: ='Vehicle '!$F$40*9.81*SIN(RADIANS('Duty Cycle '!I7)) -> 166.36879 | T7: =Q7+R7+S7 -> 296.50423 | U7: =ABS(((+T7)*(+L7)/1000)) -> 0.79437085 | V7: ='Vehicle '!$F$9-'Duty Cycle '!U7 -> 12.628448 | W7: =U7 -> 0.79437085 | X7: =ABS((W7*1000)/((2*PI()*K7)/60)) -> 3.0342731 | Y7: =MIN(22,ROUNDUP(X7,0)) -> 4 | Z7: =T7*D7 -> 1985.9271 | AA7: =SUM(AA6,Z7) -> 3757.3804 | AB7: ='BSFC '!$X$14 -> 306.7448 | AC7: =U7*AB7/3600 -> 0.067685869 | AD7: =AD6+AC7 -> 0.13543432 | AE7: =AC7*3.09 -> 0.20914933 | AF7: =0.5*'Vehicle '!$F$40*'Duty Cycle '!L7^2/1000 -> 2.3302377 | AG7: =Z7+AF7 -> 1988.2574
A8: =A4/1000/0.755 -> 0.073677148 | B8: =B7+1 -> 5 | C8: S1 | D8: =SUM($L$3:L8) -> 10.180662 | E8: =D8-D7 -> 3.482858 | F8: Tarmac | G8: 10.4 | H8: =G8-G7 -> 0.25 | I8: =DEGREES(ATAN(H8/E8)) -> 4.1056569 | J8: 1 | K8: 3250 | L8: 3.482858 | M8: =L8*2.237 -> 7.7911533 | N8: =L8-L7 -> 0.80373645 | O8: =IF(J8=1,'[1]Gearing '!$C$17*'Duty Cycle '!N8,IF(J8=2,'[1]Gearing '!$C$18*'Duty Cycle '!N8,IF(J8=3,'[1]Gearing '!$C$19*'Duty Cycle '!N8))) -> 491.74804 | P8: =IF(F8='Track '!$B$60,'Track '!$F$53,IF(F8='Track '!$B$61,'Track '!$F$54,IF(F8='Track '!$B$62,'Track '!$F$55))) -> 0.02 | Q8: =P8*'Vehicle '!$F$40*9.81 -> 127.39266 | R8: =0.5*'Vehicle '!$F$53*'Vehicle '!$F$25*'Track '!$F$57*'Duty Cycle '!L8^2 -> 4.6352956 | S8: ='Vehicle '!$F$40*9.81*SIN(RADIANS('Duty Cycle '!I8)) -> 456.03975 | T8: =Q8+R8+S8 -> 588.06771 | U8: =ABS(((+T8)*(+L8)/1000)) -> 2.0481563 | V8: ='Vehicle '!$F$9-'Duty Cycle '!U8 -> 11.374662 | W8: =U8 -> 2.0481563 | X8: =ABS((W8*1000)/((2*PI()*K8)/60)) -> 6.0179852 | Y8: =MIN(22,ROUNDUP(X8,0)) -> 7 | Z8: =T8*D8 -> 5986.9184 | AA8: =SUM(AA7,Z8) -> 9744.2988 | AB8: ='BSFC '!$X$14 -> 306.7448 | AC8: =U8*AB8/3600 -> 0.17451703 | AD8: =AD7+AC8 -> 0.30995135 | AE8: =AC8*3.09 -> 0.53925761 | AF8: =0.5*'Vehicle '!$F$40*'Duty Cycle '!L8^2/1000 -> 3.9381018 | AG8: =Z8+AF8 -> 5990.8565
B9: =B8+1 -> 6 | C9: S1 | D9: =SUM($L$3:L9) -> 14.735168 | E9: =D9-D8 -> 4.5545066 | F9: Tarmac | G9: 10.8 | H9: =G9-G8 -> 0.4 | I9: =DEGREES(ATAN(H9/E9)) -> 5.0191295 | J9: 1 | K9: 4250 | L9: 4.5545066 | M9: =L9*2.237 -> 10.188431 | N9: =L9-L8 -> 1.0716486 | O9: =IF(J9=1,'[1]Gearing '!$C$17*'Duty Cycle '!N9,IF(J9=2,'[1]Gearing '!$C$18*'Duty Cycle '!N9,IF(J9=3,'[1]Gearing '!$C$19*'Duty Cycle '!N9))) -> 655.66405 | P9: =IF(F9='Track '!$B$60,'Track '!$F$53,IF(F9='Track '!$B$61,'Track '!$F$54,IF(F9='Track '!$B$62,'Track '!$F$55))) -> 0.02 | Q9: =P9*'Vehicle '!$F$40*9.81 -> 127.39266 | R9: =0.5*'Vehicle '!$F$53*'Vehicle '!$F$25*'Track '!$F$57*'Duty Cycle '!L9^2 -> 7.9266297 | S9: ='Vehicle '!$F$40*9.81*SIN(RADIANS('Duty Cycle '!I9)) -> 557.26862 | T9: =Q9+R9+S9 -> 692.58791 | U9: =ABS(((+T9)*(+L9)/1000)) -> 3.1543962 | V9: ='Vehicle '!$F$9-'Duty Cycle '!U9 -> 10.268423 | W9: =U9 -> 3.1543962 | X9: =ABS((W9*1000)/((2*PI()*K9)/60)) -> 7.0875916 | Y9: =MIN(22,ROUNDUP(X9,0)) -> 8 | Z9: =T9*D9 -> 10205.399 | AA9: =SUM(AA8,Z9) -> 19949.698 | AB9: ='BSFC '!$X$14 -> 306.7448 | AC9: =U9*AB9/3600 -> 0.26877628 | AD9: =AD8+AC9 -> 0.57872763 | AE9: =AC9*3.09 -> 0.83051872 | AF9: =0.5*'Vehicle '!$F$40*'Duty Cycle '!L9^2/1000 -> 6.734387 | AG9: =Z9+AF9 -> 10212.134
A10: Laps / Tank | B10: =B9+1 -> 7 | C10: S1 | D10: =SUM($L$3:L10) -> 20.093411 | E10: =D10-D9 -> 5.358243 | F10: Tarmac | G10: 11.3 | H10: =G10-G9 -> 0.5 | I10: =DEGREES(ATAN(H10/E10)) -> 5.3310704 | J10: 1 | K10: 5000 | L10: 5.358243 | M10: =L10*2.237 -> 11.98639 | N10: =L10-L9 -> 0.80373645 | O10: =IF(J10=1,'[1]Gearing '!$C$17*'Duty Cycle '!N10,IF(J10=2,'[1]Gearing '!$C$18*'Duty Cycle '!N10,IF(J10=3,'[1]Gearing '!$C$19*'Duty Cycle '!N10))) -> 491.74804 | P10: =IF(F10='Track '!$B$60,'Track '!$F$53,IF(F10='Track '!$B$61,'Track '!$F$54,IF(F10='Track '!$B$62,'Track '!$F$55))) -> 0.02 | Q10: =P10*'Vehicle '!$F$40*9.81 -> 127.39266 | R10: =0.5*'Vehicle '!$F$53*'Vehicle '!$F$25*'Track '!$F$57*'Duty Cycle '!L10^2 -> 10.971114 | S10: ='Vehicle '!$F$40*9.81*SIN(RADIANS('Duty Cycle '!I10)) -> 591.80602 | T10: =Q10+R10+S10 -> 730.16979 | U10: =ABS(((+T10)*(+L10)/1000)) -> 3.9124272 | V10: ='Vehicle '!$F$9-'Duty Cycle '!U10 -> 9.5103916 | W10: =U10 -> 3.9124272 | X10: =ABS((W10*1000)/((2*PI()*K10)/60)) -> 7.4721855 | Y10: =MIN(22,ROUNDUP(X10,0)) -> 8 | Z10: =T10*D10 -> 14671.602 | AA10: =SUM(AA9,Z10) -> 34621.3 | AB10: ='BSFC '!$X$14 -> 306.7448 | AC10: =U10*AB10/3600 -> 0.33336575 | AD10: =AD9+AC10 -> 0.91209338 | AE10: =AC10*3.09 -> 1.0301002 | AF10: =0.5*'Vehicle '!$F$40*'Duty Cycle '!L10^2/1000 -> 9.3209509 | AG10: =Z10+AF10 -> 14680.923
B11: =B10+1 -> 8 | C11: S1 | D11: =SUM($L$3:L11) -> 26.523303 | E11: =D11-D10 -> 6.4298916 | F11: Tarmac | G11: 11.9 | H11: =G11-G10 -> 0.6 | I11: =DEGREES(ATAN(H11/E11)) -> 5.3310704 | J11: 1 | K11: 6000 | L11: 6.4298916 | M11: =L11*2.237 -> 14.383668 | N11: =L11-L10 -> 1.0716486 | O11: =IF(J11=1,'[1]Gearing '!$C$17*'Duty Cycle '!N11,IF(J11=2,'[1]Gearing '!$C$18*'Duty Cycle '!N11,IF(J11=3,'[1]Gearing '!$C$19*'Duty Cycle '!N11))) -> 655.66405 | P11: =IF(F11='Track '!$B$60,'Track '!$F$53,IF(F11='Track '!$B$61,'Track '!$F$54,IF(F11='Track '!$B$62,'Track '!$F$55))) -> 0.02 | Q11: =P11*'Vehicle '!$F$40*9.81 -> 127.39266 | R11: =0.5*'Vehicle '!$F$53*'Vehicle '!$F$25*'Track '!$F$57*'Duty Cycle '!L11^2 -> 15.798404 | S11: ='Vehicle '!$F$40*9.81*SIN(RADIANS('Duty Cycle '!I11)) -> 591.80602 | T11: =Q11+R11+S11 -> 734.99708 | U11: =ABS(((+T11)*(+L11)/1000)) -> 4.7259516 | V11: ='Vehicle '!$F$9-'Duty Cycle '!U11 -> 8.6968672 | W11: =U11 -> 4.7259516 | X11: =ABS((W11*1000)/((2*PI()*K11)/60)) -> 7.5215855 | Y11: =MIN(22,ROUNDUP(X11,0)) -> 8 | Z11: =T11*D11 -> 19494.55 | AA11: =SUM(AA10,Z11) -> 54115.85 | AB11: ='BSFC '!$X$14 -> 306.7448 | AC11: =U11*AB11/3600 -> 0.40268363 | AD11: =AD10+AC11 -> 1.314777 | AE11: =AC11*3.09 -> 1.2442924 | AF11: =0.5*'Vehicle '!$F$40*'Duty Cycle '!L11^2/1000 -> 13.422169 | AG11: =Z11+AF11 -> 19507.972
A12: ='[1]Vehicle '!F18/'Duty Cycle '!A8 -> 393.60916 | B12: =B11+1 -> 9 | C12: S1 | D12: =SUM($L$3:L12) -> 33.589357 | E12: =D12-D11 -> 7.0660537 | F12: Tarmac | G12: 12.65 | H12: =G12-G11 -> 0.75 | I12: =DEGREES(ATAN(H12/E12)) -> 6.0587629 | J12: 2 | K12: 4500 | L12: 7.0660537 | M12: =L12*2.237 -> 15.806762 | N12: =L12-L11 -> 0.63616206 | O12: =IF(J12=1,'[1]Gearing '!$C$17*'Duty Cycle '!N12,IF(J12=2,'[1]Gearing '!$C$18*'Duty Cycle '!N12,IF(J12=3,'[1]Gearing '!$C$19*'Duty Cycle '!N12))) -> 384.70841 | P12: =IF(F12='Track '!$B$60,'Track '!$F$53,IF(F12='Track '!$B$61,'Track '!$F$54,IF(F12='Track '!$B$62,'Track '!$F$55))) -> 0.02 | Q12: =P12*'Vehicle '!$F$40*9.81 -> 127.39266 | R12: =0.5*'Vehicle '!$F$53*'Vehicle '!$F$25*'Track '!$F$57*'Duty Cycle '!L12^2 -> 19.079183 | S12: ='Vehicle '!$F$40*9.81*SIN(RADIANS('Duty Cycle '!I12)) -> 672.30454 | T12: =Q12+R12+S12 -> 818.77638 | U12: =ABS(((+T12)*(+L12)/1000)) -> 5.7855179 | V12: ='Vehicle '!$F$9-'Duty Cycle '!U12 -> 7.6373009 | W12: =U12 -> 5.7855179 | X12: =ABS((W12*1000)/((2*PI()*K12)/60)) -> 12.27725 | Y12: =MIN(22,ROUNDUP(X12,0)) -> 13 | Z12: =T12*D12 -> 27502.172 | AA12: =SUM(AA11,Z12) -> 81618.022 | AB12: ='BSFC '!$X$14 -> 306.7448 | AC12: =U12*AB12/3600 -> 0.49296598 | AD12: =AD11+AC12 -> 1.807743 | AE12: =AC12*3.09 -> 1.5232649 | AF12: =0.5*'Vehicle '!$F$40*'Duty Cycle '!L12^2/1000 -> 16.209487 | AG12: =Z12+AF12 -> 27518.381
B13: =B12+1 -> 10 | C13: S1 | D13: =SUM($L$3:L13) -> 42.225644 | E13: =D13-D12 -> 8.6362878 | F13: Tarmac | G13: 13.52 | H13: =G13-G12 -> 0.87 | I13: =DEGREES(ATAN(H13/E13)) -> 5.7524402 | J13: 2 | K13: 5500 | L13: 8.6362878 | M13: =L13*2.237 -> 19.319376 | N13: =L13-L12 -> 1.5702342 | O13: =IF(J13=1,'[1]Gearing '!$C$17*'Duty Cycle '!N13,IF(J13=2,'[1]Gearing '!$C$18*'Duty Cycle '!N13,IF(J13=3,'[1]Gearing '!$C$19*'Duty Cycle '!N13))) -> 949.57296 | P13: =IF(F13='Track '!$B$60,'Track '!$F$53,IF(F13='Track '!$B$61,'Track '!$F$54,IF(F13='Track '!$B$62,'Track '!$F$55))) -> 0.02 | Q13: =P13*'Vehicle '!$F$40*9.81 -> 127.39266 | R13: =0.5*'Vehicle '!$F$53*'Vehicle '!$F$25*'Track '!$F$57*'Duty Cycle '!L13^2 -> 28.501001 | S13: ='Vehicle '!$F$40*9.81*SIN(RADIANS('Duty Cycle '!I13)) -> 638.4311 | T13: =Q13+R13+S13 -> 794.32476 | U13: =ABS(((+T13)*(+L13)/1000)) -> 6.8600172 | V13: ='Vehicle '!$F$9-'Duty Cycle '!U13 -> 6.5628016 | W13: =U13 -> 6.8600172 | X13: =ABS((W13*1000)/((2*PI()*K13)/60)) -> 11.910607 | Y13: =MIN(22,ROUNDUP(X13,0)) -> 12 | Z13: =T13*D13 -> 33540.875 | AA13: =SUM(AA12,Z13) -> 115158.9 | AB13: ='BSFC '!$X$14 -> 306.7448 | AC13: =U13*AB13/3600 -> 0.58452073 | AD13: =AD12+AC13 -> 2.3922637 | AE13: =AC13*3.09 -> 1.806169 | AF13: =0.5*'Vehicle '!$F$40*'Duty Cycle '!L13^2/1000 -> 24.214172 | AG13: =Z13+AF13 -> 33565.089
A14: Fuel Price (£/L) | B14: =B13+1 -> 11 | C14: S1 | D14: =SUM($L$3:L14) -> 51.647049 | E14: =D14-D13 -> 9.4214049 | F14: Tarmac | G14: 14.3 | H14: =G14-G13 -> 0.78 | I14: =DEGREES(ATAN(H14/E14)) -> 4.7327357 | J14: 2 | K14: 6000 | L14: 9.4214049 | M14: =L14*2.237 -> 21.075683 | N14: =L14-L13 -> 0.78511708 | O14: =IF(J14=1,'[1]Gearing '!$C$17*'Duty Cycle '!N14,IF(J14=2,'[1]Gearing '!$C$18*'Duty Cycle '!N14,IF(J14=3,'[1]Gearing '!$C$19*'Duty Cycle '!N14))) -> 474.78648 | P14: =IF(F14='Track '!$B$60,'Track '!$F$53,IF(F14='Track '!$B$61,'Track '!$F$54,IF(F14='Track '!$B$62,'Track '!$F$55))) -> 0.02 | Q14: =P14*'Vehicle '!$F$40*9.81 -> 127.39266 | R14: =0.5*'Vehicle '!$F$53*'Vehicle '!$F$25*'Track '!$F$57*'Duty Cycle '!L14^2 -> 33.918547 | S14: ='Vehicle '!$F$40*9.81*SIN(RADIANS('Duty Cycle '!I14)) -> 525.54517 | T14: =Q14+R14+S14 -> 686.85637 | U14: =ABS(((+T14)*(+L14)/1000)) -> 6.471152 | V14: ='Vehicle '!$F$9-'Duty Cycle '!U14 -> 6.9516668 | W14: =U14 -> 6.471152 | X14: =ABS((W14*1000)/((2*PI()*K14)/60)) -> 10.299158 | Y14: =MIN(22,ROUNDUP(X14,0)) -> 11 | Z14: =T14*D14 -> 35474.105 | AA14: =SUM(AA13,Z14) -> 150633 | AB14: ='BSFC '!$X$14 -> 306.7448 | AC14: =U14*AB14/3600 -> 0.55138673 | AD14: =AD13+AC14 -> 2.9436505 | AE14: =AC14*3.09 -> 1.703785 | AF14: =0.5*'Vehicle '!$F$40*'Duty Cycle '!L14^2/1000 -> 28.816866 | AG14: =Z14+AF14 -> 35502.922
B15: =B14+1 -> 12 | C15: S1 | D15: =SUM($L$3:L15) -> 61.853571 | E15: =D15-D14 -> 10.206522 | F15: Tarmac | G15: 14.8 | H15: =G15-G14 -> 0.5 | I15: =DEGREES(ATAN(H15/E15)) -> 2.8045798 | J15: 2 | K15: 6500 | L15: 10.206522 | M15: =L15*2.237 -> 22.83199 | N15: =L15-L14 -> 0.78511708 | O15: =IF(J15=1,'[1]Gearing '!$C$17*'Duty Cycle '!N15,IF(J15=2,'[1]Gearing '!$C$18*'Duty Cycle '!N15,IF(J15=3,'[1]Gearing '!$C$19*'Duty Cycle '!N15))) -> 474.78648 | P15: =IF(F15='Track '!$B$60,'Track '!$F$53,IF(F15='Track '!$B$61,'Track '!$F$54,IF(F15='Track '!$B$62,'Track '!$F$55))) -> 0.02 | Q15: =P15*'Vehicle '!$F$40*9.81 -> 127.39266 | R15: =0.5*'Vehicle '!$F$53*'Vehicle '!$F$25*'Track '!$F$57*'Duty Cycle '!L15^2 -> 39.807184 | S15: ='Vehicle '!$F$40*9.81*SIN(RADIANS('Duty Cycle '!I15)) -> 311.66364 | T15: =Q15+R15+S15 -> 478.86349 | U15: =ABS(((+T15)*(+L15)/1000)) -> 4.8875307 | V15: ='Vehicle '!$F$9-'Duty Cycle '!U15 -> 8.5352881 | W15: =U15 -> 4.8875307 | X15: =ABS((W15*1000)/((2*PI()*K15)/60)) -> 7.1803816 | Y15: =MIN(22,ROUNDUP(X15,0)) -> 8 | Z15: =T15*D15 -> 29619.417 | AA15: =SUM(AA14,Z15) -> 180252.42 | AB15: ='BSFC '!$X$14 -> 306.7448 | AC15: =U15*AB15/3600 -> 0.41645129 | AD15: =AD14+AC15 -> 3.3601017 | AE15: =AC15*3.09 -> 1.2868345 | AF15: =0.5*'Vehicle '!$F$40*'Duty Cycle '!L15^2/1000 -> 33.819794 | AG15: =Z15+AF15 -> 29653.237
A16: 1.47 | B16: =B15+1 -> 13 | C16: S1 | D16: =SUM($L$3:L16) -> 72.094229 | E16: =D16-D15 -> 10.240658 | F16: Tarmac | G16: 15.5 | H16: =G16-G15 -> 0.7 | I16: =DEGREES(ATAN(H16/E16)) -> 3.9103695 | J16: 3 | K16: 5000 | L16: 10.240658 | M16: =L16*2.237 -> 22.908351 | N16: =L16-L15 -> 0.034135525 | O16: =IF(J16=1,'[1]Gearing '!$C$17*'Duty Cycle '!N16,IF(J16=2,'[1]Gearing '!$C$18*'Duty Cycle '!N16,IF(J16=3,'[1]Gearing '!$C$19*'Duty Cycle '!N16))) -> 20.555857 | P16: =IF(F16='Track '!$B$60,'Track '!$F$53,IF(F16='Track '!$B$61,'Track '!$F$54,IF(F16='Track '!$B$62,'Track '!$F$55))) -> 0.02 | Q16: =P16*'Vehicle '!$F$40*9.81 -> 127.39266 | R16: =0.5*'Vehicle '!$F$53*'Vehicle '!$F$25*'Track '!$F$57*'Duty Cycle '!L16^2 -> 40.073898 | S16: ='Vehicle '!$F$40*9.81*SIN(RADIANS('Duty Cycle '!I16)) -> 434.38255 | T16: =Q16+R16+S16 -> 601.84911 | U16: =ABS(((+T16)*(+L16)/1000)) -> 6.1633306 | V16: ='Vehicle '!$F$9-'Duty Cycle '!U16 -> 7.2594882 | W16: =U16 -> 6.1633306 | X16: =ABS((W16*1000)/((2*PI()*K16)/60)) -> 11.771094 | Y16: =MIN(22,ROUNDUP(X16,0)) -> 12 | Z16: =T16*D16 -> 43389.847 | AA16: =SUM(AA15,Z16) -> 223642.27 | AB16: ='BSFC '!$X$14 -> 306.7448 | AC16: =U16*AB16/3600 -> 0.52515823 | AD16: =AD15+AC16 -> 3.88526 | AE16: =AC16*3.09 -> 1.6227389 | AF16: =0.5*'Vehicle '!$F$40*'Duty Cycle '!L16^2/1000 -> 34.046392 | AG16: =Z16+AF16 -> 43423.894
B17: =B16+1 -> 14 | C17: S1 | D17: =SUM($L$3:L17) -> 83.358952 | E17: =D17-D16 -> 11.264723 | F17: Tarmac | G17: 16 | H17: =G17-G16 -> 0.5 | I17: =DEGREES(ATAN(H17/E17)) -> 2.5414826 | J17: 3 | K17: 5500 | L17: 11.264723 | M17: =L17*2.237 -> 25.199186 | N17: =L17-L16 -> 1.0240658 | O17: =IF(J17=1,'[1]Gearing '!$C$17*'Duty Cycle '!N17,IF(J17=2,'[1]Gearing '!$C$18*'Duty Cycle '!N17,IF(J17=3,'[1]Gearing '!$C$19*'Duty Cycle '!N17))) -> 616.6757 | P17: =IF(F17='Track '!$B$60,'Track '!$F$53,IF(F17='Track '!$B$61,'Track '!$F$54,IF(F17='Track '!$B$62,'Track '!$F$55))) -> 0.02 | Q17: =P17*'Vehicle '!$F$40*9.81 -> 127.39266 | R17: =0.5*'Vehicle '!$F$53*'Vehicle '!$F$25*'Track '!$F$57*'Duty Cycle '!L17^2 -> 48.489416 | S17: ='Vehicle '!$F$40*9.81*SIN(RADIANS('Duty Cycle '!I17)) -> 282.44669 | T17: =Q17+R17+S17 -> 458.32877 | U17: =ABS(((+T17)*(+L17)/1000)) -> 5.1629468 | V17: ='Vehicle '!$F$9-'Duty Cycle '!U17 -> 8.259872 | W17: =U17 -> 5.1629468 | X17: =ABS((W17*1000)/((2*PI()*K17)/60)) -> 8.9640927 | Y17: =MIN(22,ROUNDUP(X17,0)) -> 9 | Z17: =T17*D17 -> 38205.806 | AA17: =SUM(AA16,Z17) -> 261848.07 | AB17: ='BSFC '!$X$14 -> 306.7448 | AC17: =U17*AB17/3600 -> 0.43991863 | AD17: =AD16+AC17 -> 4.3251786 | AE17: =AC17*3.09 -> 1.3593486 | AF17: =0.5*'Vehicle '!$F$40*'Duty Cycle '!L17^2/1000 -> 41.196134 | AG17: =Z17+AF17 -> 38247.002
A18: Fuel Cost / Lap (£) | B18: =B17+1 -> 15 | C18: S1 | D18: =SUM($L$3:L18) -> 95.647741 | E18: =D18-D17 -> 12.288789 | F18: Tarmac | G18: 16.3 | H18: =G18-G17 -> 0.3 | I18: =DEGREES(ATAN(H18/E18)) -> 1.3984552 | J18: 3 | K18: 6000 | L18: 12.288789 | M18: =L18*2.237 -> 27.490021 | N18: =L18-L17 -> 1.0240658 | O18: =IF(J18=1,'[1]Gearing '!$C$17*'Duty Cycle '!N18,IF(J18=2,'[1]Gearing '!$C$18*'Duty Cycle '!N18,IF(J18=3,'[1]Gearing '!$C$19*'Duty Cycle '!N18))) -> 616.6757 | P18: =IF(F18='Track '!$B$60,'Track '!$F$53,IF(F18='Track '!$B$61,'Track '!$F$54,IF(F18='Track '!$B$62,'Track '!$F$55))) -> 0.02 | Q18: =P18*'Vehicle '!$F$40*9.81 -> 127.39266 | R18: =0.5*'Vehicle '!$F$53*'Vehicle '!$F$25*'Track '!$F$57*'Duty Cycle '!L18^2 -> 57.706413 | S18: ='Vehicle '!$F$40*9.81*SIN(RADIANS('Duty Cycle '!I18)) -> 155.45232 | T18: =Q18+R18+S18 -> 340.55139 | U18: =ABS(((+T18)*(+L18)/1000)) -> 4.1849642 | V18: ='Vehicle '!$F$9-'Duty Cycle '!U18 -> 9.2378546 | W18: =U18 -> 4.1849642 | X18: =ABS((W18*1000)/((2*PI()*K18)/60)) -> 6.6605774 | Y18: =MIN(22,ROUNDUP(X18,0)) -> 7 | Z18: =T18*D18 -> 32572.971 | AA18: =SUM(AA17,Z18) -> 294421.04 | AB18: ='BSFC '!$X$14 -> 306.7448 | AC18: =U18*AB18/3600 -> 0.35658778 | AD18: =AD17+AC18 -> 4.6817664 | AE18: =AC18*3.09 -> 1.1018562 | AF18: =0.5*'Vehicle '!$F$40*'Duty Cycle '!L18^2/1000 -> 49.026804 | AG18: =Z18+AF18 -> 32621.998
B19: =B18+1 -> 16 | C19: T1 | D19: =SUM($L$3:L19) -> 108.9606 | E19: =D19-D18 -> 13.312855 | F19: Tarmac | G19: 16.5 | H19: =G19-G18 -> 0.2 | I19: =DEGREES(ATAN(H19/E19)) -> 0.86069398 | J19: 3 | K19: 6500 | L19: 13.312855 | M19: =L19*2.237 -> 29.780856 | N19: =L19-L18 -> 1.0240658 | O19: =IF(J19=1,'[1]Gearing '!$C$17*'Duty Cycle '!N19,IF(J19=2,'[1]Gearing '!$C$18*'Duty Cycle '!N19,IF(J19=3,'[1]Gearing '!$C$19*'Duty Cycle '!N19))) -> 616.6757 | P19: =IF(F19='Track '!$B$60,'Track '!$F$53,IF(F19='Track '!$B$61,'Track '!$F$54,IF(F19='Track '!$B$62,'Track '!$F$55))) -> 0.02 | Q19: =P19*'Vehicle '!$F$40*9.81 -> 127.39266 | R19: =0.5*'Vehicle '!$F$53*'Vehicle '!$F$25*'Track '!$F$57*'Duty Cycle '!L19^2 -> 67.724887 | S19: ='Vehicle '!$F$40*9.81*SIN(RADIANS('Duty Cycle '!I19)) -> 95.68067 | T19: =Q19+R19+S19 -> 290.79822 | U19: =ABS(((+T19)*(+L19)/1000)) -> 3.8713544 | V19: ='Vehicle '!$F$9-'Duty Cycle '!U19 -> 9.5514644 | W19: =U19 -> 3.8713544 | X19: =ABS((W19*1000)/((2*PI()*K19)/60)) -> 5.6874941 | Y19: =MIN(22,ROUNDUP(X19,0)) -> 6 | Z19: =T19*D19 -> 31685.547 | AA19: =SUM(AA18,Z19) -> 326106.59 | AB19: ='BSFC '!$X$14 -> 306.7448 | AC19: =U19*AB19/3600 -> 0.32986607 | AD19: =AD18+AC19 -> 5.0116324 | AE19: =AC19*3.09 -> 1.0192862 | AF19: =0.5*'Vehicle '!$F$40*'Duty Cycle '!L19^2/1000 -> 57.538402 | AG19: =Z19+AF19 -> 31743.085
A20: =A16*A8 -> 0.10830541 | B20: =B19+1 -> 17 | C20: T1 | D20: =SUM($L$3:L20) -> 121.24938 | E20: =D20-D19 -> 12.288789 | F20: Tarmac | G20: 17 | H20: =G20-G19 -> 0.5 | I20: =DEGREES(ATAN(H20/E20)) -> 2.3299364 | J20: 3 | K20: 6000 | L20: 12.288789 | M20: =L20*2.237 -> 27.490021 | N20: =L20-L19 -> -1.0240658 | O20: =IF(J20=1,'[1]Gearing '!$C$17*'Duty Cycle '!N20,IF(J20=2,'[1]Gearing '!$C$18*'Duty Cycle '!N20,IF(J20=3,'[1]Gearing '!$C$19*'Duty Cycle '!N20))) -> -616.6757 | P20: =IF(F20='Track '!$B$60,'Track '!$F$53,IF(F20='Track '!$B$61,'Track '!$F$54,IF(F20='Track '!$B$62,'Track '!$F$55))) -> 0.02 | Q20: =P20*'Vehicle '!$F$40*9.81 -> 127.39266 | R20: =0.5*'Vehicle '!$F$53*'Vehicle '!$F$25*'Track '!$F$57*'Duty Cycle '!L20^2 -> 57.706413 | S20: ='Vehicle '!$F$40*9.81*SIN(RADIANS('Duty Cycle '!I20)) -> 258.95014 | T20: =Q20+R20+S20 -> 444.04921 | U20: =ABS(((+T20)*(+L20)/1000)) -> 5.456827 | V20: ='Vehicle '!$F$9-'Duty Cycle '!U20 -> 7.9659918 | W20: =U20 -> 5.456827 | X20: =ABS((W20*1000)/((2*PI()*K20)/60)) -> 8.68481 | Y20: =MIN(22,ROUNDUP(X20,0)) -> 9 | Z20: =T20*D20 -> 53840.693 | AA20: =SUM(AA19,Z20) -> 379947.28 | AB20: ='BSFC '!$X$14 -> 306.7448 | AC20: =U20*AB20/3600 -> 0.46495926 | AD20: =AD19+AC20 -> 5.4765917 | AE20: =AC20*3.09 -> 1.4367241 | AF20: =0.5*'Vehicle '!$F$40*'Duty Cycle '!L20^2/1000 -> 49.026804 | AG20: =Z20+AF20 -> 53889.72
B21: =B20+1 -> 18 | C21: T1 | D21: =SUM($L$3:L21) -> 133.02614 | E21: =D21-D20 -> 11.776756 | F21: Tarmac | G21: 17.4 | H21: =G21-G20 -> 0.4 | I21: =DEGREES(ATAN(H21/E21)) -> 1.9453154 | J21: 3 | K21: 5750 | L21: 11.776756 | M21: =L21*2.237 -> 26.344603 | N21: =L21-L20 -> -0.51203288 | O21: =IF(J21=1,'[1]Gearing '!$C$17*'Duty Cycle '!N21,IF(J21=2,'[1]Gearing '!$C$18*'Duty Cycle '!N21,IF(J21=3,'[1]Gearing '!$C$19*'Duty Cycle '!N21))) -> -308.33785 | P21: =IF(F21='Track '!$B$60,'Track '!$F$53,IF(F21='Track '!$B$61,'Track '!$F$54,IF(F21='Track '!$B$62,'Track '!$F$55))) -> 0.02 | Q21: =P21*'Vehicle '!$F$40*9.81 -> 127.39266 | R21: =0.5*'Vehicle '!$F$53*'Vehicle '!$F$25*'Track '!$F$57*'Duty Cycle '!L21^2 -> 52.99773 | S21: ='Vehicle '!$F$40*9.81*SIN(RADIANS('Duty Cycle '!I21)) -> 216.22124 | T21: =Q21+R21+S21 -> 396.61163 | U21: =ABS(((+T21)*(+L21)/1000)) -> 4.6707985 | V21: ='Vehicle '!$F$9-'Duty Cycle '!U21 -> 8.7520203 | W21: =U21 -> 4.6707985 | X21: =ABS((W21*1000)/((2*PI()*K21)/60)) -> 7.7570156 | Y21: =MIN(22,ROUNDUP(X21,0)) -> 8 | Z21: =T21*D21 -> 52759.715 | AA21: =SUM(AA20,Z21) -> 432707 | AB21: ='BSFC '!$X$14 -> 306.7448 | AC21: =U21*AB21/3600 -> 0.39798421 | AD21: =AD20+AC21 -> 5.8745759 | AE21: =AC21*3.09 -> 1.2297712 | AF21: =0.5*'Vehicle '!$F$40*'Duty Cycle '!L21^2/1000 -> 45.026353 | AG21: =Z21+AF21 -> 52804.741
A22: Fuel Cost / Tank (£) | B22: =B21+1 -> 19 | C22: T1 | D22: =SUM($L$3:L22) -> 144.8029 | E22: =D22-D21 -> 11.776756 | F22: Tarmac | G22: 17.8 | H22: =G22-G21 -> 0.4 | I22: =DEGREES(ATAN(H22/E22)) -> 1.9453154 | J22: 3 | K22: 5750 | L22: 11.776756 | M22: =L22*2.237 -> 26.344603 | N22: =L22-L21 -> 0 | O22: =IF(J22=1,'[1]Gearing '!$C$17*'Duty Cycle '!N22,IF(J22=2,'[1]Gearing '!$C$18*'Duty Cycle '!N22,IF(J22=3,'[1]Gearing '!$C$19*'Duty Cycle '!N22))) -> 0 | P22: =IF(F22='Track '!$B$60,'Track '!$F$53,IF(F22='Track '!$B$61,'Track '!$F$54,IF(F22='Track '!$B$62,'Track '!$F$55))) -> 0.02 | Q22: =P22*'Vehicle '!$F$40*9.81 -> 127.39266 | R22: =0.5*'Vehicle '!$F$53*'Vehicle '!$F$25*'Track '!$F$57*'Duty Cycle '!L22^2 -> 52.99773 | S22: ='Vehicle '!$F$40*9.81*SIN(RADIANS('Duty Cycle '!I22)) -> 216.22124 | T22: =Q22+R22+S22 -> 396.61163 | U22: =ABS(((+T22)*(+L22)/1000)) -> 4.6707985 | V22: ='Vehicle '!$F$9-'Duty Cycle '!U22 -> 8.7520203 | W22: =U22 -> 4.6707985 | X22: =ABS((W22*1000)/((2*PI()*K22)/60)) -> 7.7570156 | Y22: =MIN(22,ROUNDUP(X22,0)) -> 8 | Z22: =T22*D22 -> 57430.513 | AA22: =SUM(AA21,Z22) -> 490137.51 | AB22: ='BSFC '!$X$14 -> 306.7448 | AC22: =U22*AB22/3600 -> 0.39798421 | AD22: =AD21+AC22 -> 6.2725601 | AE22: =AC22*3.09 -> 1.2297712 | AF22: =0.5*'Vehicle '!$F$40*'Duty Cycle '!L22^2/1000 -> 45.026353 | AG22: =Z22+AF22 -> 57475.54
B23: =B22+1 -> 20 | C23: T1 | D23: =SUM($L$3:L23) -> 156.06762 | E23: =D23-D22 -> 11.264723 | F23: Tarmac | G23: 18.2 | H23: =G23-G22 -> 0.4 | I23: =DEGREES(ATAN(H23/E23)) -> 2.0336662 | J23: 3 | K23: 5500 | L23: 11.264723 | M23: =L23*2.237 -> 25.199186 | N23: =L23-L22 -> -0.51203288 | O23: =IF(J23=1,'[1]Gearing '!$C$17*'Duty Cycle '!N23,IF(J23=2,'[1]Gearing '!$C$18*'Duty Cycle '!N23,IF(J23=3,'[1]Gearing '!$C$19*'Duty Cycle '!N23))) -> -308.33785 | P23: =IF(F23='Track '!$B$60,'Track '!$F$53,IF(F23='Track '!$B$61,'Track '!$F$54,IF(F23='Track '!$B$62,'Track '!$F$55))) -> 0.02 | Q23: =P23*'Vehicle '!$F$40*9.81 -> 127.39266 | R23: =0.5*'Vehicle '!$F$53*'Vehicle '!$F$25*'Track '!$F$57*'Duty Cycle '!L23^2 -> 48.489416 | S23: ='Vehicle '!$F$40*9.81*SIN(RADIANS('Duty Cycle '!I23)) -> 226.03737 | T23: =Q23+R23+S23 -> 401.91945 | U23: =ABS(((+T23)*(+L23)/1000)) -> 4.5275113 | V23: ='Vehicle '!$F$9-'Duty Cycle '!U23 -> 8.8953074 | W23: =U23 -> 4.5275113 | X23: =ABS((W23*1000)/((2*PI()*K23)/60)) -> 7.860827 | Y23: =MIN(22,ROUNDUP(X23,0)) -> 8 | Z23: =T23*D23 -> 62726.612 | AA23: =SUM(AA22,Z23) -> 552864.12 | AB23: ='BSFC '!$X$14 -> 306.7448 | AC23: =U23*AB23/3600 -> 0.38577516 | AD23: =AD22+AC23 -> 6.6583353 | AE23: =AC23*3.09 -> 1.1920452 | AF23: =0.5*'Vehicle '!$F$40*'Duty Cycle '!L23^2/1000 -> 41.196134 | AG23: =Z23+AF23 -> 62767.808
A24: =A20*A12 -> 42.63 | B24: =B23+1 -> 21 | C24: T1 | D24: =SUM($L$3:L24) -> 166.82031 | E24: =D24-D23 -> 10.75269 | F24: Tarmac | G24: 18.5 | H24: =G24-G23 -> 0.3 | I24: =DEGREES(ATAN(H24/E24)) -> 1.5981373 | J24: 3 | K24: 5250 | L24: 10.75269 | M24: =L24*2.237 -> 24.053768 | N24: =L24-L23 -> -0.51203288 | O24: =IF(J24=1,'[1]Gearing '!$C$17*'Duty Cycle '!N24,IF(J24=2,'[1]Gearing '!$C$18*'Duty Cycle '!N24,IF(J24=3,'[1]Gearing '!$C$19*'Duty Cycle '!N24))) -> -308.33785 | P24: =IF(F24='Track '!$B$60,'Track '!$F$53,IF(F24='Track '!$B$61,'Track '!$F$54,IF(F24='Track '!$B$62,'Track '!$F$55))) -> 0.02 | Q24: =P24*'Vehicle '!$F$40*9.81 -> 127.39266 | R24: =0.5*'Vehicle '!$F$53*'Vehicle '!$F$25*'Track '!$F$57*'Duty Cycle '!L24^2 -> 44.181472 | S24: ='Vehicle '!$F$40*9.81*SIN(RADIANS('Duty Cycle '!I24)) -> 177.6436 | T24: =Q24+R24+S24 -> 349.21773 | U24: =ABS(((+T24)*(+L24)/1000)) -> 3.7550301 | V24: ='Vehicle '!$F$9-'Duty Cycle '!U24 -> 9.6677887 | W24: =U24 -> 3.7550301 | X24: =ABS((W24*1000)/((2*PI()*K24)/60)) -> 6.8300755 | Y24: =MIN(22,ROUNDUP(X24,0)) -> 7 | Z24: =T24*D24 -> 58256.61 | AA24: =SUM(AA23,Z24) -> 611120.73 | AB24: ='BSFC '!$X$14 -> 306.7448 | AC24: =U24*AB24/3600 -> 0.31995444 | AD24: =AD23+AC24 -> 6.9782897 | AE24: =AC24*3.09 -> 0.98865921 | AF24: =0.5*'Vehicle '!$F$40*'Duty Cycle '!L24^2/1000 -> 37.536147 | AG24: =Z24+AF24 -> 58294.146
B25: =B24+1 -> 22 | C25: T1 | D25: =SUM($L$3:L25) -> 176.63427 | E25: =D25-D24 -> 9.8139634 | F25: Tarmac | G25: 18.7 | H25: =G25-G24 -> 0.2 | I25: =DEGREES(ATAN(H25/E25)) -> 1.1674763 | J25: 2 | K25: 6250 | L25: 9.8139634 | M25: =L25*2.237 -> 21.953836 | N25: =L25-L24 -> -0.93872694 | O25: =IF(J25=1,'[1]Gearing '!$C$17*'Duty Cycle '!N25,IF(J25=2,'[1]Gearing '!$C$18*'Duty Cycle '!N25,IF(J25=3,'[1]Gearing '!$C$19*'Duty Cycle '!N25))) -> -567.67949 | P25: =IF(F25='Track '!$B$60,'Track '!$F$53,IF(F25='Track '!$B$61,'Track '!$F$54,IF(F25='Track '!$B$62,'Track '!$F$55))) -> 0.02 | Q25: =P25*'Vehicle '!$F$40*9.81 -> 127.39266 | R25: =0.5*'Vehicle '!$F$53*'Vehicle '!$F$25*'Track '!$F$57*'Duty Cycle '!L25^2 -> 36.803979 | S25: ='Vehicle '!$F$40*9.81*SIN(RADIANS('Duty Cycle '!I25)) -> 129.78061 | T25: =Q25+R25+S25 -> 293.97725 | U25: =ABS(((+T25)*(+L25)/1000)) -> 2.885082 | V25: ='Vehicle '!$F$9-'Duty Cycle '!U25 -> 10.537737 | W25: =U25 -> 2.885082 | X25: =ABS((W25*1000)/((2*PI()*K25)/60)) -> 4.4080805 | Y25: =MIN(22,ROUNDUP(X25,0)) -> 5 | Z25: =T25*D25 -> 51926.458 | AA25: =SUM(AA24,Z25) -> 663047.19 | AB25: ='BSFC '!$X$14 -> 306.7448 | AC25: =U25*AB25/3600 -> 0.24582886 | AD25: =AD24+AC25 -> 7.2241186 | AE25: =AC25*3.09 -> 0.75961117 | AF25: =0.5*'Vehicle '!$F$40*'Duty Cycle '!L25^2/1000 -> 31.268301 | AG25: =Z25+AF25 -> 51957.726
A26: Customers / Corporate Event | B26: =B25+1 -> 23 | C26: T1 | D26: =SUM($L$3:L26) -> 186.44824 | E26: =D26-D25 -> 9.8139634 | F26: Tarmac | G26: 18.2 | H26: =G26-G25 -> -0.5 | I26: =DEGREES(ATAN(H26/E26)) -> -2.9165731 | J26: 2 | K26: 6250 | L26: 9.8139634 | M26: =L26*2.237 -> 21.953836 | N26: =L26-L25 -> 0 | O26: =IF(J26=1,'[1]Gearing '!$C$17*'Duty Cycle '!N26,IF(J26=2,'[1]Gearing '!$C$18*'Duty Cycle '!N26,IF(J26=3,'[1]Gearing '!$C$19*'Duty Cycle '!N26))) -> 0 | P26: =IF(F26='Track '!$B$60,'Track '!$F$53,IF(F26='Track '!$B$61,'Track '!$F$54,IF(F26='Track '!$B$62,'Track '!$F$55))) -> 0.02 | Q26: =P26*'Vehicle '!$F$40*9.81 -> 127.39266 | R26: =0.5*'Vehicle '!$F$53*'Vehicle '!$F$25*'Track '!$F$57*'Duty Cycle '!L26^2 -> 36.803979 | S26: ='Vehicle '!$F$40*9.81*SIN(RADIANS('Duty Cycle '!I26)) -> -324.09853 | T26: =Q26+R26+S26 -> -159.90189 | U26: =ABS(((+T26)*(+L26)/1000)) -> 1.5692713 | V26: ='Vehicle '!$F$9-'Duty Cycle '!U26 -> 11.853547 | W26: =U26 -> 1.5692713 | X26: =ABS((W26*1000)/((2*PI()*K26)/60)) -> 2.39767 | Y26: =MIN(22,ROUNDUP(X26,0)) -> 3 | Z26: =T26*D26 -> -29813.426 | AA26: =SUM(AA25,Z26) -> 633233.77 | AB26: ='BSFC '!$X$14 -> 306.7448 | AC26: =U26*AB26/3600 -> 0.13371273 | AD26: =AD25+AC26 -> 7.3578313 | AE26: =AC26*3.09 -> 0.41317233 | AF26: =0.5*'Vehicle '!$F$40*'Duty Cycle '!L26^2/1000 -> 31.268301 | AG26: =Z26+AF26 -> -29782.158
B27: =B26+1 -> 24 | C27: S2 | D27: =SUM($L$3:L27) -> 196.65476 | E27: =D27-D26 -> 10.206522 | F27: Tarmac | G27: 17.2 | H27: =G27-G26 -> -1 | I27: =DEGREES(ATAN(H27/E27)) -> -5.5957841 | J27: 2 | K27: 6500 | L27: 10.206522 | M27: =L27*2.237 -> 22.83199 | N27: =L27-L26 -> 0.39255854 | O27: =IF(J27=1,'[1]Gearing '!$C$17*'Duty Cycle '!N27,IF(J27=2,'[1]Gearing '!$C$18*'Duty Cycle '!N27,IF(J27=3,'[1]Gearing '!$C$19*'Duty Cycle '!N27))) -> 237.39324 | P27: =IF(F27='Track '!$B$60,'Track '!$F$53,IF(F27='Track '!$B$61,'Track '!$F$54,IF(F27='Track '!$B$62,'Track '!$F$55))) -> 0.02 | Q27: =P27*'Vehicle '!$F$40*9.81 -> 127.39266 | R27: =0.5*'Vehicle '!$F$53*'Vehicle '!$F$25*'Track '!$F$57*'Duty Cycle '!L27^2 -> 39.807184 | S27: ='Vehicle '!$F$40*9.81*SIN(RADIANS('Duty Cycle '!I27)) -> -621.1008 | T27: =Q27+R27+S27 -> -453.90096 | U27: =ABS(((+T27)*(+L27)/1000)) -> 4.6327501 | V27: ='Vehicle '!$F$9-'Duty Cycle '!U27 -> 8.7900687 | W27: =U27 -> 4.6327501 | X27: =ABS((W27*1000)/((2*PI()*K27)/60)) -> 6.8060777 | Y27: =MIN(22,ROUNDUP(X27,0)) -> 7 | Z27: =T27*D27 -> -89261.784 | AA27: =SUM(AA26,Z27) -> 543971.98 | AB27: ='BSFC '!$X$14 -> 306.7448 | AC27: =U27*AB27/3600 -> 0.39474223 | AD27: =AD26+AC27 -> 7.7525735 | AE27: =AC27*3.09 -> 1.2197535 | AF27: =0.5*'Vehicle '!$F$40*'Duty Cycle '!L27^2/1000 -> 33.819794 | AG27: =Z27+AF27 -> -89227.964
A28: 18 | B28: =B27+1 -> 25 | C28: S2 | D28: =SUM($L$3:L28) -> 207.91948 | E28: =D28-D27 -> 11.264723 | F28: Tarmac | G28: 16 | H28: =G28-G27 -> -1.2 | I28: =DEGREES(ATAN(H28/E28)) -> -6.08063 | J28: 3 | K28: 5500 | L28: 11.264723 | M28: =L28*2.237 -> 25.199186 | N28: =L28-L27 -> 1.0582013 | O28: =IF(J28=1,'[1]Gearing '!$C$17*'Duty Cycle '!N28,IF(J28=2,'[1]Gearing '!$C$18*'Duty Cycle '!N28,IF(J28=3,'[1]Gearing '!$C$19*'Duty Cycle '!N28))) -> 637.23156 | P28: =IF(F28='Track '!$B$60,'Track '!$F$53,IF(F28='Track '!$B$61,'Track '!$F$54,IF(F28='Track '!$B$62,'Track '!$F$55))) -> 0.02 | Q28: =P28*'Vehicle '!$F$40*9.81 -> 127.39266 | R28: =0.5*'Vehicle '!$F$53*'Vehicle '!$F$25*'Track '!$F$57*'Duty Cycle '!L28^2 -> 48.489416 | S28: ='Vehicle '!$F$40*9.81*SIN(RADIANS('Duty Cycle '!I28)) -> -674.7219 | T28: =Q28+R28+S28 -> -498.83983 | U28: =ABS(((+T28)*(+L28)/1000)) -> 5.6192926 | V28: ='Vehicle '!$F$9-'Duty Cycle '!U28 -> 7.8035262 | W28: =U28 -> 5.6192926 | X28: =ABS((W28*1000)/((2*PI()*K28)/60)) -> 9.7564166 | Y28: =MIN(22,ROUNDUP(X28,0)) -> 10 | Z28: =T28*D28 -> -103718.52 | AA28: =SUM(AA27,Z28) -> 440253.46 | AB28: ='BSFC '!$X$14 -> 306.7448 | AC28: =U28*AB28/3600 -> 0.47880244 | AD28: =AD27+AC28 -> 8.231376 | AE28: =AC28*3.09 -> 1.4794995 | AF28: =0.5*'Vehicle '!$F$40*'Duty Cycle '!L28^2/1000 -> 41.196134 | AG28: =Z28+AF28 -> -103677.32
B29: =B28+1 -> 26 | C29: S2 | D29: =SUM($L$3:L29) -> 220.20827 | E29: =D29-D28 -> 12.288789 | F29: Tarmac | G29: 15 | H29: =G29-G28 -> -1 | I29: =DEGREES(ATAN(H29/E29)) -> -4.6521924 | J29: 3 | K29: 6000 | L29: 12.288789 | M29: =L29*2.237 -> 27.490021 | N29: =L29-L28 -> 1.0240658 | O29: =IF(J29=1,'[1]Gearing '!$C$17*'Duty Cycle '!N29,IF(J29=2,'[1]Gearing '!$C$18*'Duty Cycle '!N29,IF(J29=3,'[1]Gearing '!$C$19*'Duty Cycle '!N29))) -> 616.6757 | P29: =IF(F29='Track '!$B$60,'Track '!$F$53,IF(F29='Track '!$B$61,'Track '!$F$54,IF(F29='Track '!$B$62,'Track '!$F$55))) -> 0.02 | Q29: =P29*'Vehicle '!$F$40*9.81 -> 127.39266 | R29: =0.5*'Vehicle '!$F$53*'Vehicle '!$F$25*'Track '!$F$57*'Duty Cycle '!L29^2 -> 57.706413 | S29: ='Vehicle '!$F$40*9.81*SIN(RADIANS('Duty Cycle '!I29)) -> -516.6211 | T29: =Q29+R29+S29 -> -331.52202 | U29: =ABS(((+T29)*(+L29)/1000)) -> 4.0740042 | V29: ='Vehicle '!$F$9-'Duty Cycle '!U29 -> 9.3488146 | W29: =U29 -> 4.0740042 | X29: =ABS((W29*1000)/((2*PI()*K29)/60)) -> 6.4839791 | Y29: =MIN(22,ROUNDUP(X29,0)) -> 7 | Z29: =T29*D29 -> -73003.892 | AA29: =SUM(AA28,Z29) -> 367249.57 | AB29: ='BSFC '!$X$14 -> 306.7448 | AC29: =U29*AB29/3600 -> 0.34713323 | AD29: =AD28+AC29 -> 8.5785092 | AE29: =AC29*3.09 -> 1.0726417 | AF29: =0.5*'Vehicle '!$F$40*'Duty Cycle '!L29^2/1000 -> 49.026804 | AG29: =Z29+AF29 -> -72954.865
A30: Laps / Customer | B30: =B29+1 -> 27 | C30: S2 | D30: =SUM($L$3:L30) -> 233.52113 | E30: =D30-D29 -> 13.312855 | F30: Tarmac | G30: 14.2 | H30: =G30-G29 -> -0.8 | I30: =DEGREES(ATAN(H30/E30)) -> -3.4388995 | J30: 3 | K30: 6500 | L30: 13.312855 | M30: =L30*2.237 -> 29.780856 | N30: =L30-L29 -> 1.0240658 | O30: =IF(J30=1,'[1]Gearing '!$C$17*'Duty Cycle '!N30,IF(J30=2,'[1]Gearing '!$C$18*'Duty Cycle '!N30,IF(J30=3,'[1]Gearing '!$C$19*'Duty Cycle '!N30))) -> 616.6757 | P30: =IF(F30='Track '!$B$60,'Track '!$F$53,IF(F30='Track '!$B$61,'Track '!$F$54,IF(F30='Track '!$B$62,'Track '!$F$55))) -> 0.02 | Q30: =P30*'Vehicle '!$F$40*9.81 -> 127.39266 | R30: =0.5*'Vehicle '!$F$53*'Vehicle '!$F$25*'Track '!$F$57*'Duty Cycle '!L30^2 -> 67.724887 | S30: ='Vehicle '!$F$40*9.81*SIN(RADIANS('Duty Cycle '!I30)) -> -382.07663 | T30: =Q30+R30+S30 -> -186.95909 | U30: =ABS(((+T30)*(+L30)/1000)) -> 2.4889592 | V30: ='Vehicle '!$F$9-'Duty Cycle '!U30 -> 10.93386 | W30: =U30 -> 2.4889592 | X30: =ABS((W30*1000)/((2*PI()*K30)/60)) -> 3.656586 | Y30: =MIN(22,ROUNDUP(X30,0)) -> 4 | Z30: =T30*D30 -> -43658.896 | AA30: =SUM(AA29,Z30) -> 323590.67 | AB30: ='BSFC '!$X$14 -> 306.7448 | AC30: =U30*AB30/3600 -> 0.21207647 | AD30: =AD29+AC30 -> 8.7905857 | AE30: =AC30*3.09 -> 0.65531628 | AF30: =0.5*'Vehicle '!$F$40*'Duty Cycle '!L30^2/1000 -> 57.538402 | AG30: =Z30+AF30 -> -43601.358
B31: =B30+1 -> 28 | C31: S2 | D31: =SUM($L$3:L31) -> 246.83398 | E31: =D31-D30 -> 13.312855 | F31: Tarmac | G31: 14 | H31: =G31-G30 -> -0.2 | I31: =DEGREES(ATAN(H31/E31)) -> -0.86069398 | J31: 3 | K31: 6500 | L31: 13.312855 | M31: =L31*2.237 -> 29.780856 | N31: =L31-L30 -> 0 | O31: =IF(J31=1,'[1]Gearing '!$C$17*'Duty Cycle '!N31,IF(J31=2,'[1]Gearing '!$C$18*'Duty Cycle '!N31,IF(J31=3,'[1]Gearing '!$C$19*'Duty Cycle '!N31))) -> 0 | P31: =IF(F31='Track '!$B$60,'Track '!$F$53,IF(F31='Track '!$B$61,'Track '!$F$54,IF(F31='Track '!$B$62,'Track '!$F$55))) -> 0.02 | Q31: =P31*'Vehicle '!$F$40*9.81 -> 127.39266 | R31: =0.5*'Vehicle '!$F$53*'Vehicle '!$F$25*'Track '!$F$57*'Duty Cycle '!L31^2 -> 67.724887 | S31: ='Vehicle '!$F$40*9.81*SIN(RADIANS('Duty Cycle '!I31)) -> -95.68067 | T31: =Q31+R31+S31 -> 99.436877 | U31: =ABS(((+T31)*(+L31)/1000)) -> 1.3237887 | V31: ='Vehicle '!$F$9-'Duty Cycle '!U31 -> 12.09903 | W31: =U31 -> 1.3237887 | X31: =ABS((W31*1000)/((2*PI()*K31)/60)) -> 1.9448078 | Y31: =MIN(22,ROUNDUP(X31,0)) -> 2 | Z31: =T31*D31 -> 24544.4 | AA31: =SUM(AA30,Z31) -> 348135.07 | AB31: ='BSFC '!$X$14 -> 306.7448 | AC31: =U31*AB31/3600 -> 0.11279592 | AD31: =AD30+AC31 -> 8.9033816 | AE31: =AC31*3.09 -> 0.34853938 | AF31: =0.5*'Vehicle '!$F$40*'Duty Cycle '!L31^2/1000 -> 57.538402 | AG31: =Z31+AF31 -> 24601.939
A32: 18 | B32: =B31+1 -> 29 | C32: T2 | D32: =SUM($L$3:L32) -> 260.14684 | E32: =D32-D31 -> 13.312855 | F32: Tarmac | G32: 14 | H32: =G32-G31 -> 0 | I32: =DEGREES(ATAN(H32/E32)) -> 0 | J32: 3 | K32: 6500 | L32: 13.312855 | M32: =L32*2.237 -> 29.780856 | N32: =L32-L31 -> 0 | O32: =IF(J32=1,'[1]Gearing '!$C$17*'Duty Cycle '!N32,IF(J32=2,'[1]Gearing '!$C$18*'Duty Cycle '!N32,IF(J32=3,'[1]Gearing '!$C$19*'Duty Cycle '!N32))) -> 0 | P32: =IF(F32='Track '!$B$60,'Track '!$F$53,IF(F32='Track '!$B$61,'Track '!$F$54,IF(F32='Track '!$B$62,'Track '!$F$55))) -> 0.02 | Q32: =P32*'Vehicle '!$F$40*9.81 -> 127.39266 | R32: =0.5*'Vehicle '!$F$53*'Vehicle '!$F$25*'Track '!$F$57*'Duty Cycle '!L32^2 -> 67.724887 | S32: ='Vehicle '!$F$40*9.81*SIN(RADIANS('Duty Cycle '!I32)) -> 0 | T32: =Q32+R32+S32 -> 195.11755 | U32: =ABS(((+T32)*(+L32)/1000)) -> 2.5975716 | V32: ='Vehicle '!$F$9-'Duty Cycle '!U32 -> 10.825247 | W32: =U32 -> 2.5975716 | X32: =ABS((W32*1000)/((2*PI()*K32)/60)) -> 3.816151 | Y32: =MIN(22,ROUNDUP(X32,0)) -> 4 | Z32: =T32*D32 -> 50759.213 | AA32: =SUM(AA31,Z32) -> 398894.29 | AB32: ='BSFC '!$X$14 -> 306.7448 | AC32: =U32*AB32/3600 -> 0.22133099 | AD32: =AD31+AC32 -> 9.1247126 | AE32: =AC32*3.09 -> 0.68391277 | AF32: =0.5*'Vehicle '!$F$40*'Duty Cycle '!L32^2/1000 -> 57.538402 | AG32: =Z32+AF32 -> 50816.751
B33: =B32+1 -> 30 | C33: T2 | D33: =SUM($L$3:L33) -> 273.45969 | E33: =D33-D32 -> 13.312855 | F33: Tarmac | G33: 14 | H33: =G33-G32 -> 0 | I33: =DEGREES(ATAN(H33/E33)) -> 0 | J33: 3 | K33: 6500 | L33: 13.312855 | M33: =L33*2.237 -> 29.780856 | N33: =L33-L32 -> 0 | O33: =IF(J33=1,'[1]Gearing '!$C$17*'Duty Cycle '!N33,IF(J33=2,'[1]Gearing '!$C$18*'Duty Cycle '!N33,IF(J33=3,'[1]Gearing '!$C$19*'Duty Cycle '!N33))) -> 0 | P33: =IF(F33='Track '!$B$60,'Track '!$F$53,IF(F33='Track '!$B$61,'Track '!$F$54,IF(F33='Track '!$B$62,'Track '!$F$55))) -> 0.02 | Q33: =P33*'Vehicle '!$F$40*9.81 -> 127.39266 | R33: =0.5*'Vehicle '!$F$53*'Vehicle '!$F$25*'Track '!$F$57*'Duty Cycle '!L33^2 -> 67.724887 | S33: ='Vehicle '!$F$40*9.81*SIN(RADIANS('Duty Cycle '!I33)) -> 0 | T33: =Q33+R33+S33 -> 195.11755 | U33: =ABS(((+T33)*(+L33)/1000)) -> 2.5975716 | V33: ='Vehicle '!$F$9-'Duty Cycle '!U33 -> 10.825247 | W33: =U33 -> 2.5975716 | X33: =ABS((W33*1000)/((2*PI()*K33)/60)) -> 3.816151 | Y33: =MIN(22,ROUNDUP(X33,0)) -> 4 | Z33: =T33*D33 -> 53356.784 | AA33: =SUM(AA32,Z33) -> 452251.07 | AB33: ='BSFC '!$X$14 -> 306.7448 | AC33: =U33*AB33/3600 -> 0.22133099 | AD33: =AD32+AC33 -> 9.3460436 | AE33: =AC33*3.09 -> 0.68391277 | AF33: =0.5*'Vehicle '!$F$40*'Duty Cycle '!L33^2/1000 -> 57.538402 | AG33: =Z33+AF33 -> 53414.323
A34: Laps / Corporate Event | B34: =B33+1 -> 31 | C34: T2 | D34: =SUM($L$3:L34) -> 286.77255 | E34: =D34-D33 -> 13.312855 | F34: Tarmac | G34: 13.8 | H34: =G34-G33 -> -0.2 | I34: =DEGREES(ATAN(H34/E34)) -> -0.86069398 | J34: 3 | K34: 6500 | L34: 13.312855 | M34: =L34*2.237 -> 29.780856 | N34: =L34-L33 -> 0 | O34: =IF(J34=1,'[1]Gearing '!$C$17*'Duty Cycle '!N34,IF(J34=2,'[1]Gearing '!$C$18*'Duty Cycle '!N34,IF(J34=3,'[1]Gearing '!$C$19*'Duty Cycle '!N34))) -> 0 | P34: =IF(F34='Track '!$B$60,'Track '!$F$53,IF(F34='Track '!$B$61,'Track '!$F$54,IF(F34='Track '!$B$62,'Track '!$F$55))) -> 0.02 | Q34: =P34*'Vehicle '!$F$40*9.81 -> 127.39266 | R34: =0.5*'Vehicle '!$F$53*'Vehicle '!$F$25*'Track '!$F$57*'Duty Cycle '!L34^2 -> 67.724887 | S34: ='Vehicle '!$F$40*9.81*SIN(RADIANS('Duty Cycle '!I34)) -> -95.68067 | T34: =Q34+R34+S34 -> 99.436877 | U34: =ABS(((+T34)*(+L34)/1000)) -> 1.3237887 | V34: ='Vehicle '!$F$9-'Duty Cycle '!U34 -> 12.09903 | W34: =U34 -> 1.3237887 | X34: =ABS((W34*1000)/((2*PI()*K34)/60)) -> 1.9448078 | Y34: =MIN(22,ROUNDUP(X34,0)) -> 2 | Z34: =T34*D34 -> 28515.766 | AA34: =SUM(AA33,Z34) -> 480766.84 | AB34: ='BSFC '!$X$14 -> 306.7448 | AC34: =U34*AB34/3600 -> 0.11279592 | AD34: =AD33+AC34 -> 9.4588395 | AE34: =AC34*3.09 -> 0.34853938 | AF34: =0.5*'Vehicle '!$F$40*'Duty Cycle '!L34^2/1000 -> 57.538402 | AG34: =Z34+AF34 -> 28573.305
B35: =B34+1 -> 32 | C35: T2 | D35: =SUM($L$3:L35) -> 300.0854 | E35: =D35-D34 -> 13.312855 | F35: Tarmac | G35: 13.2 | H35: =G35-G34 -> -0.6 | I35: =DEGREES(ATAN(H35/E35)) -> -2.5805299 | J35: 3 | K35: 6500 | L35: 13.312855 | M35: =L35*2.237 -> 29.780856 | N35: =L35-L34 -> 0 | O35: =IF(J35=1,'[1]Gearing '!$C$17*'Duty Cycle '!N35,IF(J35=2,'[1]Gearing '!$C$18*'Duty Cycle '!N35,IF(J35=3,'[1]Gearing '!$C$19*'Duty Cycle '!N35))) -> 0 | P35: =IF(F35='Track '!$B$60,'Track '!$F$53,IF(F35='Track '!$B$61,'Track '!$F$54,IF(F35='Track '!$B$62,'Track '!$F$55))) -> 0.02 | Q35: =P35*'Vehicle '!$F$40*9.81 -> 127.39266 | R35: =0.5*'Vehicle '!$F$53*'Vehicle '!$F$25*'Track '!$F$57*'Duty Cycle '!L35^2 -> 67.724887 | S35: ='Vehicle '!$F$40*9.81*SIN(RADIANS('Duty Cycle '!I35)) -> -286.78329 | T35: =Q35+R35+S35 -> -91.665739 | U35: =ABS(((+T35)*(+L35)/1000)) -> 1.2203327 | V35: ='Vehicle '!$F$9-'Duty Cycle '!U35 -> 12.202486 | W35: =U35 -> 1.2203327 | X35: =ABS((W35*1000)/((2*PI()*K35)/60)) -> 1.7928182 | Y35: =MIN(22,ROUNDUP(X35,0)) -> 2 | Z35: =T35*D35 -> -27507.55 | AA35: =SUM(AA34,Z35) -> 453259.29 | AB35: ='BSFC '!$X$14 -> 306.7448 | AC35: =U35*AB35/3600 -> 0.10398075 | AD35: =AD34+AC35 -> 9.5628202 | AE35: =AC35*3.09 -> 0.32130052 | AF35: =0.5*'Vehicle '!$F$40*'Duty Cycle '!L35^2/1000 -> 57.538402 | AG35: =Z35+AF35 -> -27450.012
A36: =A28*A32 -> 324 | B36: =B35+1 -> 33 | C36: T2 | D36: =SUM($L$3:L36) -> 313.39826 | E36: =D36-D35 -> 13.312855 | F36: Tarmac | G36: 12 | H36: =G36-G35 -> -1.2 | I36: =DEGREES(ATAN(H36/E36)) -> -5.1506329 | J36: 3 | K36: 6500 | L36: 13.312855 | M36: =L36*2.237 -> 29.780856 | N36: =L36-L35 -> 0 | O36: =IF(J36=1,'[1]Gearing '!$C$17*'Duty Cycle '!N36,IF(J36=2,'[1]Gearing '!$C$18*'Duty Cycle '!N36,IF(J36=3,'[1]Gearing '!$C$19*'Duty Cycle '!N36))) -> 0 | P36: =IF(F36='Track '!$B$60,'Track '!$F$53,IF(F36='Track '!$B$61,'Track '!$F$54,IF(F36='Track '!$B$62,'Track '!$F$55))) -> 0.02 | Q36: =P36*'Vehicle '!$F$40*9.81 -> 127.39266 | R36: =0.5*'Vehicle '!$F$53*'Vehicle '!$F$25*'Track '!$F$57*'Duty Cycle '!L36^2 -> 67.724887 | S36: ='Vehicle '!$F$40*9.81*SIN(RADIANS('Duty Cycle '!I36)) -> -571.83046 | T36: =Q36+R36+S36 -> -376.71291 | U36: =ABS(((+T36)*(+L36)/1000)) -> 5.0151243 | V36: ='Vehicle '!$F$9-'Duty Cycle '!U36 -> 8.4076945 | W36: =U36 -> 5.0151243 | X36: =ABS((W36*1000)/((2*PI()*K36)/60)) -> 7.3678321 | Y36: =MIN(22,ROUNDUP(X36,0)) -> 8 | Z36: =T36*D36 -> -118061.17 | AA36: =SUM(AA35,Z36) -> 335198.12 | AB36: ='BSFC '!$X$14 -> 306.7448 | AC36: =U36*AB36/3600 -> 0.42732314 | AD36: =AD35+AC36 -> 9.9901434 | AE36: =AC36*3.09 -> 1.3204285 | AF36: =0.5*'Vehicle '!$F$40*'Duty Cycle '!L36^2/1000 -> 57.538402 | AG36: =Z36+AF36 -> -118003.63
