Workbook

Sheet Vehicle 
B2: Renegade DX10-C (Auto) Corporate 300cc
A4: Y | B4: Engine Specifications
A5: N
B6: Engine | F6: 278cc Petrol Single Cylinder 4-Stroke ICE
B8: Power (BHP) (@6500) | F8: 18
B9: Power (KW) | F9: =F8/1.341 -> 13.422819
B10: Torque (Nm) (@5500) | F10: 22
B11: Top Speed (mph) | F11: 30
B12: Top Speed (m/s) | F12: =F11/2.237 -> 13.410818
B13: Vehicle Specifications
B15: Transmission | F15: Auto CVT with F/N/R
B16: Drive | F16: CVT Clutch
B17: Diff Lock | F17: Locked Rear Axle
B18: Tank Capacity (L) | F18: 29
B19: Vehicle Dimensions
B21: Length (m) | F21: 2.62
B22: Width (m) | F22: 1.65
B23: Height (m) | F23: 1.62
B24: Ground Clearance (m) | F24: 0.3
B25: Frontal Area (m²) | F25: =0.7*F22*F23 -> 1.8711
B26: Frontal Aero Area (m²) | F26: =(F23-F24)*F22 -> 2.178
B27: Centre of Gravity (X) | F27: 0.5
B28: Centre of Gravity (Y) | F28: 0.3
B29: Vehicle Mass
B31: Curb Weight (Kg) | F31: 365
B32: Driver (Kg) | F32: 75
B33: Driver Kit (Kg) | F33: 10
B34: Passenger (Y/N) | F34: Y
B35: Passenger (Kg) | F35: =IF(F34=A4, 75, 0) -> 75
B36: Passenger Kit (Kg) | F36: =IF(F34=A4, 10, 0) -> 10
B37: Fuel (L) | F37: 29
B38: Fuel (Kg) | F38: =F37*0.7 -> 20.3
B39: Hybrid System (Kg) | F39: 65
B40: Total (Kg) | F40: =SUM(F31:I39) -> 649.3
B41: Wheel Dimensions
B43: Front Wheel Size (In) | F43: 12
B44: Front Wheel Size (m) | F44: =F43/39.37 -> 0.30480061
B45: Front Tyre Side Wall (m) | F45: 0.1524
B46: Rear Wheel Size (In) | F46: 10
B47: Rear Wheel Size (m) | F47: =F46/39.37 -> 0.25400051
B48: Rear Tyre Side Wall (m) | F48: 0.1397
B49: Rolling Radius (m) | F49: =F47/2+F48 -> 0.26670025
B50: Rolling Circumference (m) | F50: =F49*2*PI() -> 1.6757271
B51: Assumptions
B53: Coefficient of Drag | F53: 0.35
B54: Wheel Inertia (Kg.m²) | F54: 0.95
B55: Engine Inertia (Kg.m²) | F55: 0.17

Sheet BSFC 
B2: Brake Specific Fuel Consumption (g/Kwh)
B4: Torque (Nm)
B5: 22 | X5: 496.03879
B6: 21 | V6: 509.99897 | W6: 502.51705 | X6: 472.37705 | Y6: 498.27743
B7: 20 | T7: 522.08097 | U7: 514.46309 | V7: 500.44924 | W7: 492.96732 | X7: 448.7153 | Y7: 474.61568 | Z7: 508.57866
B8: 19 | S8: 529.92054 | T8: 516.53054 | U8: 508.91266 | V8: 480.16307 | W8: 472.68115 | X8: 425.05355 | Y8: 450.95393 | Z8: 495.50618 | AA8: 525.75213 | AB8: 546.9084
B9: 18 | P9: 534.16371 | Q9: 533.79035 | R9: 532.62719 | S9: 520.1372 | T9: 506.7472 | U9: 499.12932 | V9: 463.08194 | W9: 455.60002 | X9: 401.3918 | Y9: 427.29218 | Z9: 477.05146 | AA9: 507.29741 | AB9: 533.40609 | AC9: 552.97609
B10: 17 | O10: 547.86457 | P10: 537.98996 | Q10: 536.77301 | R10: 527.23521 | S10: 504.39229 | T10: 491.00229 | U10: 483.38441 | V10: 429.55354 | W10: 422.07162 | X10: 389.56092 | Y10: 415.4613 | Z10: 437.82468 | AA10: 468.07063 | AB10: 525.45421 | AC10: 545.02421 | AD10: 586.83989
B11: 16 | M11: 549.63108 | N11: 549.78649 | O11: 551.69082 | P11: 541.81621 | Q11: 539.75566 | R11: 530.21786 | S11: 494.76703 | T11: 481.37703 | U11: 473.75915 | V11: 399.62575 | W11: 392.14383 | X11: 377.73005 | Y11: 403.63043 | Z11: 398.59789 | AA11: 428.84384 | AB11: 520.59525 | AC11: 540.16525 | AD11: 575.17293
B12: 15 | L12: 559.46562 | M12: 553.87066 | N12: 549.01925 | O12: 542.00391 | P12: 532.1293 | Q12: 542.73832 | R12: 533.20052 | S12: 489.64074 | T12: 476.25074 | U12: 468.63286 | V12: 378.56401 | W12: 371.08209 | X12: 352.04529 | Y12: 377.94567 | Z12: 363.14746 | AA12: 393.39341 | AB12: 477.50932 | AC12: 497.07932 | AD12: 523.03139
B13: 14 | K13: 586.92964 | L13: 563.7052 | M13: 558.11024 | N13: 553.2182 | O13: 532.31701 | P13: 522.4424 | Q13: 523.48964 | R13: 513.95184 | S13: 453.32763 | T13: 439.93763 | U13: 432.31975 | V13: 357.50228 | W13: 350.02036 | X13: 330.40655 | Y13: 356.30693 | Z13: 356.11311 | AA13: 386.35906 | AB13: 462.69883 | AC13: 482.26883 | AD13: 515.36511
B14: 13 | J14: 624.12854 | K14: 606.37917 | L14: 583.15473 | M14: 577.55977 | N14: 557.41716 | O14: 522.63011 | P14: 512.7555 | Q14: 504.24096 | R14: 494.70316 | S14: 428.81673 | T14: 415.42673 | U14: 407.80885 | V14: 336.44054 | W14: 328.95862 | X14: 306.7448 | Y14: 332.64518 | Z14: 350.80252 | AA14: 381.04847 | AB14: 488.57748 | AC14: 508.14748 | AD14: 563.87428
B15: 12 | I15: 625.161 | J15: 640.92 | K15: 625.82871 | L15: 602.60427 | M15: 597.00931 | N15: 564.28854 | O15: 541.29974 | P15: 531.42513 | Q15: 507.5996 | R15: 498.0618 | S15: 478.08848 | T15: 464.69848 | U15: 457.0806 | V15: 317.08879 | W15: 309.60687 | X15: 331.29035 | Y15: 357.19073 | Z15: 345.49192 | AA15: 375.73787 | AB15: 514.45613 | AC15: 534.02613 | AD15: 580.24525
B16: 11 | I16: 636.49359 | J16: 652.25259 | K16: 646.56496 | L16: 623.34052 | M16: 617.74556 | N16: 594.28174 | O16: 561.39903 | P16: 551.52442 | Q16: 520.89518 | R16: 511.35738 | S16: 484.58034 | T16: 471.19034 | U16: 463.57246 | V16: 380.75522 | W16: 373.2733 | X16: 372.15392 | Y16: 398.0543 | Z16: 340.18132 | AA16: 370.42727 | AB16: 540.33478 | AC16: 559.90478 | AD16: 585.73754
B17: 10 | H17: 650.46973 | I17: 645.44717 | J17: 661.20617 | K17: 667.3012 | L17: 644.07676 | M17: 638.4818 | N17: 626.94736 | O17: 575.3592 | P17: 565.48459 | Q17: 547.17679 | R17: 537.63899 | S17: 523.1834 | T17: 509.7934 | U17: 502.17552 | V17: 404.28537 | W17: 396.80345 | X17: 389.64619 | Y17: 415.54657 | Z17: 334.87072 | AA17: 365.11667 | AB17: 546.94344 | AC17: 566.51344 | AD17: 581.11737
B18: 9 | H18: 664.66662 | I18: 656.34246 | J18: 672.10146 | K18: 679.28752 | L18: 656.06308 | M18: 650.46812 | N18: 640.02471 | O18: 633.86094 | P18: 623.98633 | Q18: 587.94434 | R18: 578.40654 | S18: 546.21675 | T18: 532.82675 | U18: 525.20887 | V18: 427.81552 | W18: 420.3336 | X18: 434.85323 | Y18: 460.75361 | Z18: 454.36384 | AA18: 484.60979 | AB18: 553.5521 | AC18: 573.1221 | AD18: 599.62192
B19: 8 | G19: 703.27451 | H19: 678.86351 | I19: 687.63605 | J19: 703.39505 | K19: 703.23467 | L19: 680.01023 | M19: 674.41527 | N19: 656.62541 | O19: 643.1152 | P19: 633.24059 | Q19: 591.45846 | R19: 581.92066 | S19: 543.99073 | T19: 530.60073 | U19: 522.98285 | V19: 451.34568 | W19: 443.86376 | X19: 466.20289 | Y19: 492.10327 | Z19: 535.68139 | AA19: 565.92734 | AB19: 610.54213 | AC19: 630.11213 | AD19: 681.81471
B20: 7 | G20: 717.47141 | H20: 693.06041 | I20: 730.10526 | J20: 745.86426 | K20: 740.94876 | L20: 717.72432 | M20: 712.12936 | N20: 679.85711 | O20: 677.49863 | P20: 667.62402 | Q20: 641.9852 | R20: 632.4474 | S20: 582.72566 | T20: 569.33566 | U20: 561.71778 | V20: 497.72074 | W20: 490.23882 | X20: 503.79912 | Y20: 529.6995 | Z20: 584.57471 | AA20: 614.82066 | AB20: 646.12469 | AC20: 665.69469 | AD20: 720.49175
B21: 6 | F21: 664.33646 | G21: 723.20955 | H21: 735.65109 | I21: 773.42478 | J21: 789.18378 | K21: 765.17349 | L21: 741.94905 | M21: 736.35409 | N21: 689.65923 | O21: 711.88205 | P21: 702.00744 | Q21: 664.57682 | R21: 655.03902 | S21: 621.4606 | T21: 608.0706 | U21: 600.45272 | V21: 544.09581 | W21: 536.61389 | X21: 529.73384 | Y21: 555.63422 | Z21: 637.48134 | AA21: 667.72729 | AB21: 656.24442 | AC21: 675.81442 | AD21: 734.33045
B22: 5 | E22: 751.52792 | F22: 737.51992 | G22: 773.46161 | H22: 749.05061 | I22: 792.87932 | J22: 808.63832 | K22: 811.37725 | L22: 788.15281 | M22: 782.55785 | N22: 767.6673 | O22: 757.05639 | P22: 747.18178 | Q22: 716.35904 | R22: 706.82124 | S22: 686.13932 | T22: 672.74932 | U22: 665.13144 | V22: 638.6774 | W22: 631.19548 | X22: 619.87227 | Y22: 645.77265 | Z22: 679.12827 | AA22: 709.37422 | AB22: 736.32698 | AC22: 755.89698 | AD22: 794.89722
B23: 4 | D23: 726.48135 | E23: 786.31156 | F23: 772.30356 | G23: 794.69155 | H23: 770.28055 | I23: 824.26636 | J23: 840.02536 | K23: 865.85024 | L23: 842.6258 | M23: 837.03084 | N23: 821.12039 | O23: 788.04163 | P23: 778.16702 | Q23: 768.14126 | R23: 758.60346 | S23: 750.81804 | T23: 737.42804 | U23: 729.81016 | V23: 716.25261 | W23: 708.77069 | X23: 710.01071 | Y23: 735.91109 | Z23: 753.64327 | AA23: 783.88922 | AB23: 799.26302 | AC23: 818.83302 | AD23: 843.55797
B24: 3 | D24: 942.16883 | E24: 940.39208 | F24: 926.38408 | G24: 935.27443 | H24: 910.86343 | I24: 854.67848 | J24: 870.43748 | K24: 920.32323 | L24: 897.09879 | M24: 891.50383 | N24: 874.57348 | O24: 828.53922 | P24: 818.66461 | Q24: 819.92348 | R24: 810.38568 | S24: 815.49676 | T24: 802.10676 | U24: 794.48888 | V24: 793.82783 | W24: 786.34591 | X24: 785.5489 | Y24: 811.44928 | Z24: 828.15827 | AA24: 858.40422 | AB24: 846.27984 | AC24: 865.84984 | AD24: 880.72661
B25: 2 | D25: 1177.5763 | E25: 1094.4726 | F25: 1080.4646 | G25: 1015.764 | H25: 991.35299 | I25: 959.35799 | J25: 975.11699 | K25: 974.79623 | L25: 951.57179 | M25: 945.97683 | N25: 928.02658 | O25: 914.35598 | P25: 904.48137 | Q25: 927.16952 | R25: 917.63172 | S25: 912.17351 | T25: 898.78351 | U25: 891.16563 | V25: 879.9353 | W25: 872.45338 | X25: 861.08709 | Y25: 886.98747 | Z25: 880.40511 | AA25: 910.65106 | AB25: 893.29667 | AC25: 912.86667 | AD25: 910.47254
B26: 1 | D26: 1315.8203 | E26: 1248.5531 | F26: 1234.5451 | G26: 1182.6964 | H26: 1158.2854 | I26: 1064.0375 | J26: 1079.7965 | K26: 1087.4097 | L26: 1064.1853 | M26: 1058.5903 | N26: 1048.5741 | O26: 1042.8375 | P26: 1032.9629 | Q26: 1034.4156 | R26: 1024.8778 | S26: 1008.8503 | T26: 995.46027 | U26: 987.84239 | V26: 966.04277 | W26: 958.56085 | X26: 936.62528 | Y26: 962.52566 | Z26: 932.65194 | AA26: 962.89789 | AB26: 924.3943 | AC26: 943.9643 | AD26: 918.99285
B27: 0.5 | D27: 1607.8371 | E27: 1533.605 | F27: 1519.597 | G27: 1455.768 | H27: 1431.357 | I27: 1327.358 | J27: 1343.117 | K27: 1278.1014 | L27: 1254.877 | M27: 1249.282 | N27: 1207.1283 | O27: 1169.2543 | P27: 1159.3797 | Q27: 1121.1688 | R27: 1111.631 | S27: 1084.7622 | T27: 1071.3722 | U27: 1063.7543 | V27: 1031.3854 | W27: 1023.9035 | X27: 991.39867 | Y27: 1017.2991 | Z27: 984.89877 | AA27: 1015.1447 | AB27: 955.49192 | AC27: 975.06192 | AD27: 941.35637
D28: 500 | E28: 750 | F28: 1000 | G28: 1250 | H28: 1500 | I28: 1750 | J28: 2000 | K28: 2250 | L28: 2500 | M28: 2750 | N28: 3000 | O28: 3250 | P28: 3500 | Q28: 3750 | R28: 4000 | S28: 4250 | T28: 4500 | U28: 4750 | V28: 5000 | W28: 5250 | X28: 5500 | Y28: 5750 | Z28: 6000 | AA28: 6250 | AB28: 6500 | AC28: 6750 | AD28: 7000 | AE28: Engine RPM
B30: 0.5
B31: 1
B32: =B31+1 -> 2
B33: =B32+1 -> 3
B34: =B33+1 -> 4
B35: =B34+1 -> 5
B36: =B35+1 -> 6
B37: =B36+1 -> 7
B38: =B37+1 -> 8
B39: =B38+1 -> 9
B40: =B39+1 -> 10
B41: =B40+1 -> 11
B42: =B41+1 -> 12
B43: =B42+1 -> 13
... B52: =B51+1 -> 22

Sheet Track 
B2: Circuit Details
B4: Track | E4: Willow Springs
B5: Location | E5: U.S.A
B6: Track Length (m) | E6: =ROUND(SUM(F11:G33),0) -> 1633
B7: Sectors
B9: Sector | D9: Surface Type | F9: Distance m
B11: S1 | D11: Tarmac | F11: 129.47
B12: T1 | D12: Tarmac | F12: 71.34
B13: S2 | D13: Tarmac | F13: 66.5 | H13: =F11 -> 129.47
B14: T2 | D14: Tarmac | F14: 115.84 | H14: =F12+H13 -> 200.81
B15: S3 | D15: Gravel | F15: 60.89 | H15: =F13+H14 -> 267.31
B16: T3 | D16: Gravel | F16: 96.26 | H16: =F14+H15 -> 383.15
B17: S4 | D17: Gravel | F17: 96.12 | H17: =F15+H16 -> 444.04
B18: T4 | D18: Gravel | F18: 80.11 | H18: =F16+H17 -> 540.3
B19: S5 | D19: Mud | F19: 77.4 | H19: =F17+H18 -> 636.42
B20: T5 | D20: Mud | F20: 89.47 | H20: =F18+H19 -> 716.53
B21: S6 | D21: Mud | F21: 37.41 | H21: =F19+H20 -> 793.93
B22: T6 | D22: Mud | F22: 56.86 | H22: =F20+H21 -> 883.4
B23: S7 | D23: Tarmac | F23: 73.52 | H23: =F21+H22 -> 920.81
B24: T7 | D24: Tarmac | F24: 77.14 | H24: =F22+H23 -> 977.67
B25: S8 | D25: Tarmac | F25: 61.27 | H25: =F23+H24 -> 1051.19
... B33: T10C | D33: Mud | F33: 42.77 | H33: =F31+H32 -> 1532.14
B34: Corners | H34: =F32+H33 -> 1590.48
H35: =F33+H34 -> 1633.25
B36: Corner | D36: Radius | F36: Max Velocity (m/s)
B38: T1 | D38: 22.94 | F38: =SQRT(D38*0.7*9.81) -> 12.551055
B39: T2 | D39: 158.5 | F39: =SQRT(D39*0.7*9.81) -> 32.991203
B40: T3 | D40: 31.72 | F40: =SQRT(D40*0.7*9.81) -> 14.758768
B41: T4 | D41: 24.41 | F41: =SQRT(D41*0.7*9.81) -> 12.946948
B42: T5 | D42: 23.88 | F42: =SQRT(D42*0.7*9.81) -> 12.805622
B43: T6 | D43: 18.89 | F43: =SQRT(D43*0.7*9.81) -> 11.389365
B44: T7 | D44: 53.94 | F44: =SQRT(D44*0.7*9.81) -> 19.245934
B45: T8A | D45: 37.54 | F45: =SQRT(D45*0.7*9.81) -> 16.055752
B46: T8B | D46: 78.11 | F46: =SQRT(D46*0.7*9.81) -> 23.159909
B47: T9 | D47: 103.95 | F47: =SQRT(D47*0.7*9.81) -> 26.717497
B48: T10A | D48: 34.14 | F48: =SQRT(D48*0.7*9.81) -> 15.311413
B49: T10B | D49: 34.45 | F49: =SQRT(D49*0.7*9.81) -> 15.380772
B50: T10C | D50: 47.65 | F50: =SQRT(D50*0.7*9.81) -> 18.089017
B51: Additional Information
B53: RR Coeficient Tarmac | F53: 0.02
B54: RR Coeficient Gravel | F54: 0.04
B55: RR Coeficient Mud | F55: 0.06
B56: Gravity | F56: 9.81
B57: Air Density (Kg/m³) | F57: 1.167
B60: Tarmac
B61: Gravel
B62: Mud

Sheet Forces
B2: Rolling Resistance (N) | G2: Traction Limited Acceleration (m/s²) | L2: Friction Coefficient | Q2: Max Acceleration (m/s²)
B3: Tarmac | D3: ='Track '!$F$53*9.81*('Vehicle '!$F$40) -> 127.39266 | G3: Tarmac | I3: =((((N3)*('Vehicle '!$F$40)*(9.81)*(COS(0))*(('Vehicle '!$F$27)-(0.02)*(('Vehicle '!$F$28)-('Vehicle '!$F$49))))/('Vehicle '!$F$21))/(((1)-((0.6)*('Vehicle '!$F$28)))/('Vehicle '!$F$21)))*(10^-3) -> 3.2969368 | L3: Tarmac | N3: 0.85 | Q3: Tarmac | S3: =N8/'Vehicle '!$F$40 -> 4.16925
B4: Gravel | D4: ='Track '!$F$54*9.81*('Vehicle '!$F$40) -> 254.78532 | G4: Gravel | I4: =((((N4)*('Vehicle '!$F$40)*(9.81)*(COS(0))*(('Vehicle '!$F$27)-(0.02)*(('Vehicle '!$F$28)-('Vehicle '!$F$49))))/('Vehicle '!$F$21))/(((1)-((0.6)*('Vehicle '!$F$28)))/('Vehicle '!$F$21)))*(10^-3) -> 2.3272495 | L4: Gravel | N4: 0.6 | Q4: Gravel | S4: =N9/'Vehicle '!$F$40 -> 2.943
B5: Mud | D5: ='Track '!$F$55*9.81*('Vehicle '!$F$40) -> 382.17798 | G5: Mud | I5: =((((N5)*('Vehicle '!$F$40)*(9.81)*(COS(0))*(('Vehicle '!$F$27)-(0.02)*(('Vehicle '!$F$28)-('Vehicle '!$F$49))))/('Vehicle '!$F$21))/(((1)-((0.6)*('Vehicle '!$F$28)))/('Vehicle '!$F$21)))*(10^-3) -> 2.6375495 | L5: Mud | N5: 0.68 | Q5: Mud | S5: =N10/'Vehicle '!$F$40 -> 3.3354
B7: Net Driving Force (N) | G7: Traction Limited Decceleration (m/s²) | L7: Tractive Effort (N)
B8: Tarmac | D8: =0-D3 -> -127.39266 | G8: Tarmac | I8: =N3*9.81 -> 8.3385 | L8: Tarmac | N8: =2*N3*('Vehicle '!$F$40*9.81/4) -> 2707.094
B9: Gravel | D9: =0-D4 -> -254.78532 | G9: Gravel | I9: =N4*9.81 -> 5.886 | L9: Gravel | N9: =2*N4*('Vehicle '!$F$40*9.81/4) -> 1910.8899
B10: Mud | D10: =0-D5 -> -382.17798 | G10: Mud | I10: =N5*9.81 -> 6.6708 | L10: Mud | N10: =2*N5*('Vehicle '!$F$40*9.81/4) -> 2165.6752

Sheet Duty Cycle 
A2: Fuel / Lap (g) | B2: Time (s) | C2: Sector | D2: Total Distance (m) | E2: Δ Distance (m) | F2: Surface Type | G2: Elavation (m) | H2: Δ Elevation (m) | I2: Gradient (°) | J2: Gear | K2: RPM | L2: Velocity (m/s) | M2: Velocity (mph) | N2: Acceleration (m/s²) | O2: Acceleration Force (N) | P2: RR Coeficient | Q2: Rolling Drag (N) | R2: Aero Drag (N) | S2: Forces due to Incline (N) | T2: Total Resistive Forces (N) | U2: Resistive Power (KW) | V2: Remaining Power Available (KW) | W2: Power Required per Second (KW) | X2: Torque (Nm) | Y2: Torque (Nm) | Z2: Workdone (J) | AA2: Total Work Done (J) | AB2: Fuel Consumption (g/KWh) | AC2: Fuel Consumption (g/s) | AD2: Total Fuel Consumption (g) | AE2: CO2 Production (g/s) | AF2: Kinetic Energy (KJ) | AG2: Total Energy (KJ)
B3: 0 | C3: S1 | D3: 0 | E3: 0 | F3: Tarmac | G3: 10 | H3: 0 | I3: 0 | J3: 1 | K3: 750 | L3: 0 | M3: =L3*2.237 -> 0 | N3: 0 | O3: =IF(J3=1,'[1]Gearing '!$C$17*'Duty Cycle '!N3,IF(J3=2,'[1]Gearing '!$C$18*'Duty Cycle '!N3,IF(J3=3,'[1]Gearing '!$C$19*'Duty Cycle '!N3))) -> 0 | P3: 0 | Q3: 0 | R3: 0 | S3: 0 | T3: =Q3+R3+S3 -> 0 | U3: =T3*L3/1000 -> 0 | V3: ='Vehicle '!$F$9-'Duty Cycle '!U3 -> 13.422819 | W3: =U3 -> 0 | X3: =ABS((W3*1000)/((2*PI()*K3)/60)) -> 0 | Y3: =ROUNDUP(X3,0) -> 0 | Z3: =T3*D3 -> 0 | AA3: 0 | AB3: 0 | AC3: =U3*AB3/3600 -> 0 | AD3: 0 | AE3: 0 | AF3: =0.5*'[1]Vehicle '!$F$38*'Duty Cycle '!L3^2/1000 -> 0 | AG3: =Z3+AF3 -> 0 | AN3: 1
A4: =SUM(AC3:AC153) -> 55.626247 | B4: =B3+1 -> 1 | C4: S1 | D4: =SUM($L$3:L4) -> 0.80373645 | E4: =D4-D3 -> 0.80373645 | F4: Tarmac | G4: 10.02 | H4: =G4-G3 -> 0.02 | I4: =DEGREES(ATAN(H4/E4)) -> 1.4254413 | J4: 1 | K4: 750 | L4: 0.80373645 | M4: =L4*2.237 -> 1.7979584 | N4: =L4-L3 -> 0.80373645 | O4: =IF(J4=1,'[1]Gearing '!$C$17*'Duty Cycle '!N4,IF(J4=2,'[1]Gearing '!$C$18*'Duty Cycle '!N4,IF(J4=3,'[1]Gearing '!$C$19*'Duty Cycle '!N4))) -> 491.74804 | P4: =IF(F4='Track '!$B$60,'Track '!$F$53,IF(F4='Track '!$B$61,'Track '!$F$54,IF(F4='Track '!$B$62,'Track '!$F$55))) -> 0.02 | Q4: =P4*'Vehicle '!$F$40*9.81 -> 127.39266 | R4: =0.5*'Vehicle '!$F$53*'Vehicle '!$F$25*'Track '!$F$57*'Duty Cycle '!L4^2 -> 0.24685006 | S4: ='Vehicle '!$F$40*9.81*SIN(RADIANS('Duty Cycle '!I4)) -> 158.45149 | T4: =Q4+R4+S4 -> 286.091 | U4: =ABS(((+T4)*(+L4)/1000)) -> 0.22994176 | V4: ='Vehicle '!$F$9-'Duty Cycle '!U4 -> 13.192877 | W4: =U4 -> 0.22994176 | X4: =ABS((W4*1000)/((2*PI()*K4)/60)) -> 2.9277095 | Y4: =MIN(22,ROUNDUP(X4,0)) -> 3 | Z4: =T4*D4 -> 229.94176 | AA4: =SUM(AA3,Z4) -> 229.94176 | AB4: 0 | AC4: =U4*AB4/3600 -> 0 | AD4: =AD3+AC4 -> 0 | AE4: =AC4*3.09*1000 -> 0 | AF4: =0.5*'Vehicle '!$F$40*'Duty Cycle '!L4^2/1000 -> 0.2097214 | AG4: =Z4+AF4 -> 230.15149 | AN4: 2
B5: =B4+1 -> 2 | C5: S1 | D5: =SUM($L$3:L5) -> 2.1432972 | E5: =D5-D4 -> 1.3395608 | F5: Tarmac | G5: 10.04 | H5: =G5-G4 -> 0.02 | I5: =DEGREES(ATAN(H5/E5)) -> 0.85537774 | J5: 1 | K5: 1250 | L5: 1.3395608 | M5: =L5*2.237 -> 2.9965974 | N5: =L5-L4 -> 0.5358243 | O5: =IF(J5=1,'[1]Gearing '!$C$17*'Duty Cycle '!N5,IF(J5=2,'[1]Gearing '!$C$18*'Duty Cycle '!N5,IF(J5=3,'[1]Gearing '!$C$19*'Duty Cycle '!N5))) -> 327.83202 | P5: =IF(F5='Track '!$B$60,'Track '!$F$53,IF(F5='Track '!$B$61,'Track '!$F$54,IF(F5='Track '!$B$62,'Track '!$F$55))) -> 0.02 | Q5: =P5*'Vehicle '!$F$40*9.81 -> 127.39266 | R5: =0.5*'Vehicle '!$F$53*'Vehicle '!$F$25*'Track '!$F$57*'Duty Cycle '!L5^2 -> 0.68569461 | S5: ='Vehicle '!$F$40*9.81*SIN(RADIANS('Duty Cycle '!I5)) -> 95.089725 | T5: =Q5+R5+S5 -> 223.16808 | U5: =ABS(((+T5)*(+L5)/1000)) -> 0.2989472 | V5: ='Vehicle '!$F$9-'Duty Cycle '!U5 -> 13.123872 | W5: =U5 -> 0.2989472 | X5: =ABS((W5*1000)/((2*PI()*K5)/60)) -> 2.2837884 | Y5: =MIN(22,ROUNDUP(X5,0)) -> 3 | Z5: =T5*D5 -> 478.31552 | AA5: =SUM(AA4,Z5) -> 708.25729 | AB5: ='BSFC '!$X$14 -> 306.7448 | AC5: =U5*AB5/3600 -> 0.025472361 | AD5: =AD4+AC5 -> 0.025472361 | AE5: =AC5*3.09 -> 0.078709596 | AF5: =0.5*'Vehicle '!$F$40*'Duty Cycle '!L5^2/1000 -> 0.58255943 | AG5: =Z5+AF5 -> 478.89808 | AN5: 3
A6: Fuel / Lap (L) | B6: =B5+1 -> 3 | C6: S1 | D6: =SUM($L$3:L6) -> 4.0186823 | E6: =D6-D5 -> 1.8753851 | F6: Tarmac | G6: 10.08 | H6: =G6-G5 -> 0.04 | I6: =DEGREES(ATAN(H6/E6)) -> 1.2218737 | J6: 1 | K6: 1750 | L6: 1.8753851 | M6: =L6*2.237 -> 4.1952364 | N6: =L6-L5 -> 0.5358243 | O6: =IF(J6=1,'[1]Gearing '!$C$17*'Duty Cycle '!N6,IF(J6=2,'[1]Gearing '!$C$18*'Duty Cycle '!N6,IF(J6=3,'[1]Gearing '!$C$19*'Duty Cycle '!N6))) -> 327.83202 | P6: =IF(F6='Track '!$B$60,'Track '!$F$53,IF(F6='Track '!$B$61,'Track '!$F$54,IF(F6='Track '!$B$62,'Track '!$F$55))) -> 0.02 | Q6: =P6*'Vehicle '!$F$40*9.81 -> 127.39266 | R6: =0.5*'Vehicle '!$F$53*'Vehicle '!$F$25*'Track '!$F$57*'Duty Cycle '!L6^2 -> 1.3439614 | S6: ='Vehicle '!$F$40*9.81*SIN(RADIANS('Duty Cycle '!I6)) -> 135.82671 | T6: =Q6+R6+S6 -> 264.56333 | U6: =ABS(((+T6)*(+L6)/1000)) -> 0.49615812 | V6: ='Vehicle '!$F$9-'Duty Cycle '!U6 -> 12.926661 | W6: =U6 -> 0.49615812 | X6: =ABS((W6*1000)/((2*PI()*K6)/60)) -> 2.7074063 | Y6: =MIN(22,ROUNDUP(X6,0)) -> 3 | Z6: =T6*D6 -> 1063.196 | AA6: =SUM(AA5,Z6) -> 1771.4533 | AB6: ='BSFC '!$X$14 -> 306.7448 | AC6: =U6*AB6/3600 -> 0.04227609 | AD6: =AD5+AC6 -> 0.067748451 | AE6: =AC6*3.09 -> 0.13063312 | AF6: =0.5*'Vehicle '!$F$40*'Duty Cycle '!L6^2/1000 -> 1.1418165 | AG6: =Z6+AF6 -> 1064.3378
B7: =B6+1 -> 4 | C7: S1 | D7: =SUM($L$3:L7) -> 6.6978038 | E7: =D7-D6 -> 2.6791215 | F7: Tarmac | G7: 10.15 | H7: =G7-G6 -> 0.07 | I7: =DEGREES(ATAN(H7/E7)) -> 1.4966818 | J7: 1 | K7: 2500 | L7: 2.6791215 | M7: =L7*2.237 -> 5.9931948 | N7: =L7-L6 -> 0.80373645 | O7: =IF(J7=1,'[1]Gearing '!$C$17*'Duty Cycle '!N7,IF(J7=2,'[1]Gearing '!$C$18*'Duty Cycle '!N7,IF(J7=3,'[1]Gearing '!$C$19*'Duty Cycle '!N7))) -> 491.74804 | P7: =IF(F7='Track '!$B$60,'Track '!$F$53,IF(F7='Track '!$B$61,'Track '!$F$54,IF(F7='Track '!$B$62,'Track '!$F$55))) -> 0.02 | Q7: =P7*'Vehicle '!$F$40*9.81 -> 127.39266 | R7: =0.5*'Vehicle '!$F$53*'Vehicle '!$F$25*'Track '!$F$57*'Duty Cycle '!L7^2 -> 2.7427784 | S7: ='Vehicle '!$F$40*9.81*SIN(RADIANS('Duty Cycle '!I7)) -> 166.36879 | T7: =Q7+R7+S7 -> 296.50423 | U7: =ABS(((+T7)*(+L7)/1000)) -> 0.79437085 | V7: ='Vehicle '!$F$9-'Duty Cycle '!U7 -> 12.628448 | W7: =U7 -> 0.79437085 | X7: =ABS((W7*1000)/((2*PI()*K7)/60)) -> 3.0342731 | Y7: =MIN(22,ROUNDUP(X7,0)) -> 4 | Z7: =T7*D7 -> 1985.9271 | AA7: =SUM(AA6,Z7) -> 3757.3804 | AB7: ='BSFC '!$X$14 -> 306.7448 | AC7: =U7*AB7/3600 -> 0.067685869 | AD7: =AD6+AC7 -> 0.13543432 | AE7: =AC7*3.09 -> 0.20914933 | AF7: =0.5*'Vehicle '!$F$40*'Duty Cycle '!L7^2/1000 -> 2.3302377 | AG7: =Z7+AF7 -> 1988.2574
A8: =A4/1000/0.755 -> 0.073677148 | B8: =B7+1 -> 5 | C8: S1 | D8: =SUM($L$3:L8) -> 10.180662 | E8: =D8-D7 -> 3.482858 | F8: Tarmac | G8: 10.4 | H8: =G8-G7 -> 0.25 | I8: =DEGREES(ATAN(H8/E8)) -> 4.1056569 | J8: 1 | K8: 3250 | L8: 3.482858 | M8: =L8*2.237 -> 7.7911533 | N8: =L8-L7 -> 0.80373645 | O8: =IF(J8=1,'[1]Gearing '!$C$17*'Duty Cycle '!N8,IF(J8=2,'[1]Gearing '!$C$18*'Duty Cycle '!N8,IF(J8=3,'[1]Gearing '!$C$19*'Duty Cycle '!N8))) -> 491.74804 | P8: =IF(F8='Track '!$B$60,'Track '!$F$53,IF(F8='Track '!$B$61,'Track '!$F$54,IF(F8='Track '!$B$62,'Track '!$F$55))) -> 0.02 | Q8: =P8*'Vehicle '!$F$40*9.81 -> 127.39266 | R8: =0.5*'Vehicle '!$F$53*'Vehicle '!$F$25*'Track '!$F$57*'Duty Cycle '!L8^2 -> 4.6352956 | S8: ='Vehicle '!$F$40*9.81*SIN(RADIANS('Duty Cycle '!I8)) -> 456.03975 | T8: =Q8+R8+S8 -> 588.06771 | U8: =ABS(((+T8)*(+L8)/1000)) -> 2.0481563 | V8: ='Vehicle '!$F$9-'Duty Cycle '!U8 -> 11.374662 | W8: =U8 -> 2.0481563 | X8: =ABS((W8*1000)/((2*PI()*K8)/60)) -> 6.0179852 | Y8: =MIN(22,ROUNDUP(X8,0)) -> 7 | Z8: =T8*D8 -> 5986.9184 | AA8: =SUM(AA7,Z8) -> 9744.2988 | AB8: ='BSFC '!$X$14 -> 306.7448 | AC8: =U8*AB8/3600 -> 0.17451703 | AD8: =AD7+AC8 -> 0.30995135 | AE8: =AC8*3.09 -> 0.53925761 | AF8: =0.5*'Vehicle '!$F$40*'Duty Cycle '!L8^2/1000 -> 3.9381018 | AG8: =Z8+AF8 -> 5990.8565
B9: =B8+1 -> 6 | C9: S1 | D9: =SUM($L$3:L9) -> 14.735168 | E9: =D9-D8 -> 4.5545066 | F9: Tarmac | G9: 10.8 | H9: =G9-G8 -> 0.4 | I9: =DEGREES(ATAN(H9/E9)) -> 5.0191295 | J9: 1 | K9: 4250 | L9: 4.5545066 | M9: =L9*2.237 -> 10.188431 | N9: =L9-L8 -> 1.0716486 | O9: =IF(J9=1,'[1]Gearing '!$C$17*'Duty Cycle '!N9,IF(J9=2,'[1]Gearing '!$C$18*'Duty Cycle '!N9,IF(J9=3,'[1]Gearing '!$C$19*'Duty Cycle '!N9))) -> 655.66405 | P9: =IF(F9='Track '!$B$60,'Track '!$F$53,IF(F9='Track '!$B$61,'Track '!$F$54,IF(F9='Track '!$B$62,'Track '!$F$55))) -> 0.02 | Q9: =P9*'Vehicle '!$F$40*9.81 -> 127.39266 | R9: =0.5*'Vehicle '!$F$53*'Vehicle '!$F$25*'Track '!$F$57*'Duty Cycle '!L9^2 -> 7.9266297 | S9: ='Vehicle '!$F$40*9.81*SIN(RADIANS('Duty Cycle '!I9)) -> 557.26862 | T9: =Q9+R9+S9 -> 692.58791 | U9: =ABS(((+T9)*(+L9)/1000)) -> 3.1543962 | V9: ='Vehicle '!$F$9-'Duty Cycle '!U9 -> 10.268423 | W9: =U9 -> 3.1543962 | X9: =ABS((W9*1000)/((2*PI()*K9)/60)) -> 7.0875916 | Y9: =MIN(22,ROUNDUP(X9,0)) -> 8 | Z9: =T9*D9 -> 10205.399 | AA9: =SUM(AA8,Z9) -> 19949.698 | AB9: ='BSFC '!$X$14 -> 306.7448 | AC9: =U9*AB9/3600 -> 0.26877628 | AD9: =AD8+AC9 -> 0.57872763 | AE9: =AC9*3.09 -> 0.83051872 | AF9: =0.5*'Vehicle '!$F$40*'Duty Cycle '!L9^2/1000 -> 6.734387 | AG9: =Z9+AF9 -> 10212.134
A10: Laps / Tank | B10: =B9+1 -> 7 | C10: S1 | D10: =SUM($L$3:L10) -> 20.093411 | E10: =D10-D9 -> 5.358243 | F10: Tarmac | G10: 11.3 | H10: =G10-G9 -> 0.5 | I10: =DEGREES(ATAN(H10/E10)) -> 5.3310704 | J10: 1 | K10: 5000 | L10: 5.358243 | M10: =L10*2.237 -> 11.98639 | N10: =L10-L9 -> 0.80373645 | O10: =IF(J10=1,'[1]Gearing '!$C$17*'Duty Cycle '!N10,IF(J10=2,'[1]Gearing '!$C$18*'Duty Cycle '!N10,IF(J10=3,'[1]Gearing '!$C$19*'Duty Cycle '!N10))) -> 491.74804 | P10: =IF(F10='Track '!$B$60,'Track '!$F$53,IF(F10='Track '!$B$61,'Track '!$F$54,IF(F10='Track '!$B$62,'Track '!$F$55))) -> 0.02 | Q10: =P10*'Vehicle '!$F$40*9.81 -> 127.39266 | R10: =0.5*'Vehicle '!$F$53*'Vehicle '!$F$25*'Track '!$F$57*'Duty Cycle '!L10^2 -> 10.971114 | S10: ='Vehicle '!$F$40*9.81*SIN(RADIANS('Duty Cycle '!I10)) -> 591.80602 | T10: =Q10+R10+S10 -> 730.16979 | U10: =ABS(((+T10)*(+L10)/1000)) -> 3.9124272 | V10: ='Vehicle '!$F$9-'Duty Cycle '!U10 -> 9.5103916 | W10: =U10 -> 3.9124272 | X10: =ABS((W10*1000)/((2*PI()*K10)/60)) -> 7.4721855 | Y10: =MIN(22,ROUNDUP(X10,0)) -> 8 | Z10: =T10*D10 -> 14671.602 | AA10: =SUM(AA9,Z10) -> 34621.3 | AB10: ='BSFC '!$X$14 -> 306.7448 | AC10: =U10*AB10/3600 -> 0.33336575 | AD10: =AD9+AC10 -> 0.91209338 | AE10: =AC10*3.09 -> 1.0301002 | AF10: =0.5*'Vehicle '!$F$40*'Duty Cycle '!L10^2/1000 -> 9.3209509 | AG10: =Z10+AF10 -> 14680.923
B11: =B10+1 -> 8 | C11: S1 | D11: =SUM($L$3:L11) -> 26.523303 | E11: =D11-D10 -> 6.4298916 | F11: Tarmac | G11: 11.9 | H11: =G11-G10 -> 0.6 | I11: =DEGREES(ATAN(H11/E11)) -> 5.3310704 | J11: 1 | K11: 6000 | L11: 6.4298916 | M11: =L11*2.237 -> 14.383668 | N11: =L11-L10 -> 1.0716486 | O11: =IF(J11=1,'[1]Gearing '!$C$17*'Duty Cycle '!N11,IF(J11=2,'[1]Gearing '!$C$18*'Duty Cycle '!N11,IF(J11=3,'[1]Gearing '!$C$19*'Duty Cycle '!N11))) -> 655.66405 | P11: =IF(F11='Track '!$B$60,'Track '!$F$53,IF(F11='Track '!$B$61,'Track '!$F$54,IF(F11='Track '!$B$62,'Track '!$F$55))) -> 0.02 | Q11: =P11*'Vehicle '!$F$40*9.81 -> 127.39266 | R11: =0.5*'Vehicle '!$F$53*'Vehicle '!$F$25*'Track '!$F$57*'Duty Cycle '!L11^2 -> 15.798404 | S11: ='Vehicle '!$F$40*9.81*SIN(RADIANS('Duty Cycle '!I11)) -> 591.80602 | T11: =Q11+R11+S11 -> 734.99708 | U11: =ABS(((+T11)*(+L11)/1000)) -> 4.7259516 | V11: ='Vehicle '!$F$9-'Duty Cycle '!U11 -> 8.6968672 | W11: =U11 -> 4.7259516 | X11: =ABS((W11*1000)/((2*PI()*K11)/60)) -> 7.5215855 | Y11: =MIN(22,ROUNDUP(X11,0)) -> 8 | Z11: =T11*D11 -> 19494.55 | AA11: =SUM(AA10,Z11) -> 54115.85 | AB11: ='BSFC '!$X$14 -> 306.7448 | AC11: =U11*AB11/3600 -> 0.40268363 | AD11: =AD10+AC11 -> 1.314777 | AE11: =AC11*3.09 -> 1.2442924 | AF11: =0.5*'Vehicle '!$F$40*'Duty Cycle '!L11^2/1000 -> 13.422169 | AG11: =Z11+AF11 -> 19507.972
A12: ='[1]Vehicle '!F18/'Duty Cycle '!A8 -> 393.60916 | B12: =B11+1 -> 9 | C12: S1 | D12: =SUM($L$3:L12) -> 33.589357 | E12: =D12-D11 -> 7.0660537 | F12: Tarmac | G12: 12.65 | H12: =G12-G11 -> 0.75 | I12: =DEGREES(ATAN(H12/E12)) -> 6.0587629 | J12: 2 | K12: 4500 | L12: 7.0660537 | M12: =L12*2.237 -> 15.806762 | N12: =L12-L11 -> 0.63616206 | O12: =IF(J12=1,'[1]Gearing '!$C$17*'Duty Cycle '!N12,IF(J12=2,'[1]Gearing '!$C$18*'Duty Cycle '!N12,IF(J12=3,'[1]Gearing '!$C$19*'Duty Cycle '!N12))) -> 384.70841 | P12: =IF(F12='Track '!$B$60,'Track '!$F$53,IF(F12='Track '!$B$61,'Track '!$F$54,IF(F12='Track '!$B$62,'Track '!$F$55))) -> 0.02 | Q12: =P12*'Vehicle '!$F$40*9.81 -> 127.39266 | R12: =0.5*'Vehicle '!$F$53*'Vehicle '!$F$25*'Track '!$F$57*'Duty Cycle '!L12^2 -> 19.079183 | S12: ='Vehicle '!$F$40*9.81*SIN(RADIANS('Duty Cycle '!I12)) -> 672.30454 | T12: =Q12+R12+S12 -> 818.77638 | U12: =ABS(((+T12)*(+L12)/1000)) -> 5.7855179 | V12: ='Vehicle '!$F$9-'Duty Cycle '!U12 -> 7.6373009 | W12: =U12 -> 5.7855179 | X12: =ABS((W12*1000)/((2*PI()*K12)/60)) -> 12.27725 | Y12: =MIN(22,ROUNDUP(X12,0)) -> 13 | Z12: =T12*D12 -> 27502.172 | AA12: =SUM(AA11,Z12) -> 81618.022 | AB12: ='BSFC '!$X$14 -> 306.7448 | AC12: =U12*AB12/3600 -> 0.49296598 | AD12: =AD11+AC12 -> 1.807743 | AE12: =AC12*3.09 -> 1.5232649 | AF12: =0.5*'Vehicle '!$F$40*'Duty Cycle '!L12^2/1000 -> 16.209487 | AG12: =Z12+AF12 -> 27518.381
B13: =B12+1 -> 10 | C13: S1 | D13: =SUM($L$3:L13) -> 42.225644 | E13: =D13-D12 -> 8.6362878 | F13: Tarmac | G13: 13.52 | H13: =G13-G12 -> 0.87 | I13: =DEGREES(ATAN(H13/E13)) -> 5.7524402 | J13: 2 | K13: 5500 | L13: 8.6362878 | M13: =L13*2.237 -> 19.319376 | N13: =L13-L12 -> 1.5702342 | O13: =IF(J13=1,'[1]Gearing '!$C$17*'Duty Cycle '!N13,IF(J13=2,'[1]Gearing '!$C$18*'Duty Cycle '!N13,IF(J13=3,'[1]Gearing '!$C$19*'Duty Cycle '!N13))) -> 949.57296 | P13: =IF(F13='Track '!$B$60,'Track '!$F$53,IF(F13='Track '!$B$61,'Track '!$F$54,IF(F13='Track '!$B$62,'Track '!$F$55))) -> 0.02 | Q13: =P13*'Vehicle '!$F$40*9.81 -> 127.39266 | R13: =0.5*'Vehicle '!$F$53*'Vehicle '!$F$25*'Track '!$F$57*'Duty Cycle '!L13^2 -> 28.501001 | S13: ='Vehicle '!$F$40*9.81*SIN(RADIANS('Duty Cycle '!I13)) -> 638.4311 | T13: =Q13+R13+S13 -> 794.32476 | U13: =ABS(((+T13)*(+L13)/1000)) -> 6.8600172 | V13: ='Vehicle '!$F$9-'Duty Cycle '!U13 -> 6.5628016 | W13: =U13 -> 6.8600172 | X13: =ABS((W13*1000)/((2*PI()*K13)/60)) -> 11.910607 | Y13: =MIN(22,ROUNDUP(X13,0)) -> 12 | Z13: =T13*D13 -> 33540.875 | AA13: =SUM(AA12,Z13) -> 115158.9 | AB13: ='BSFC '!$X$14 -> 306.7448 | AC13: =U13*AB13/3600 -> 0.58452073 | AD13: =AD12+AC13 -> 2.3922637 | AE13: =AC13*3.09 -> 1.806169 | AF13: =0.5*'Vehicle '!$F$40*'Duty Cycle '!L13^2/1000 -> 24.214172 | AG13: =Z13+AF13 -> 33565.089
A14: Fuel Price (£/L) | B14: =B13+1 -> 11 | C14: S1 | D14: =SUM($L$3:L14) -> 51.647049 | E14: =D14-D13 -> 9.4214049 | F14: Tarmac | G14: 14.3 | H14: =G14-G13 -> 0.78 | I14: =DEGREES(ATAN(H14/E14)) -> 4.7327357 | J14: 2 | K14: 6000 | L14: 9.4214049 | M14: =L14*2.237 -> 21.075683 | N14: =L14-L13 -> 0.78511708 | O14: =IF(J14=1,'[1]Gearing '!$C$17*'Duty Cycle '!N14,IF(J14=2,'[1]Gearing '!$C$18*'Duty Cycle '!N14,IF(J14=3,'[1]Gearing '!$C$19*'Duty Cycle '!N14))) -> 474.78648 | P14: =IF(F14='Track '!$B$60,'Track '!$F$53,IF(F14='Track '!$B$61,'Track '!$F$54,IF(F14='Track '!$B$62,'Track '!$F$55))) -> 0.02 | Q14: =P14*'Vehicle '!$F$40*9.81 -> 127.39266 | R14: =0.5*'Vehicle '!$F$53*'Vehicle '!$F$25*'Track '!$F$57*'Duty Cycle '!L14^2 -> 33.918547 | S14: ='Vehicle '!$F$40*9.81*SIN(RADIANS('Duty Cycle '!I14)) -> 525.54517 | T14: =Q14+R14+S14 -> 686.85637 | U14: =ABS(((+T14)*(+L14)/1000)) -> 6.471152 | V14: ='Vehicle '!$F$9-'Duty Cycle '!U14 -> 6.9516668 | W14: =U14 -> 6.471152 | X14: =ABS((W14*1000)/((2*PI()*K14)/60)) -> 10.299158 | Y14: =MIN(22,ROUNDUP(X14,0)) -> 11 | Z14: =T14*D14 -> 35474.105 | AA14: =SUM(AA13,Z14) -> 150633 | AB14: ='BSFC '!$X$14 -> 306.7448 | AC14: =U14*AB14/3600 -> 0.55138673 | AD14: =AD13+AC14 -> 2.9436505 | AE14: =AC14*3.09 -> 1.703785 | AF14: =0.5*'Vehicle '!$F$40*'Duty Cycle '!L14^2/1000 -> 28.816866 | AG14: =Z14+AF14 -> 35502.922
B15: =B14+1 -> 12 | C15: S1 | D15: =SUM($L$3:L15) -> 61.853571 | E15: =D15-D14 -> 10.206522 | F15: Tarmac | G15: 14.8 | H15: =G15-G14 -> 0.5 | I15: =DEGREES(ATAN(H15/E15)) -> 2.8045798 | J15: 2 | K15: 6500 | L15: 10.206522 | M15: =L15*2.237 -> 22.83199 | N15: =L15-L14 -> 0.78511708 | O15: =IF(J15=1,'[1]Gearing '!$C$17*'Duty Cycle '!N15,IF(J15=2,'[1]Gearing '!$C$18*'Duty Cycle '!N15,IF(J15=3,'[1]Gearing '!$C$19*'Duty Cycle '!N15))) -> 474.78648 | P15: =IF(F15='Track '!$B$60,'Track '!$F$53,IF(F15='Track '!$B$61,'Track '!$F$54,IF(F15='Track '!$B$62,'Track '!$F$55))) -> 0.02 | Q15: =P15*'Vehicle '!$F$40*9.81 -> 127.39266 | R15: =0.5*'Vehicle '!$F$53*'Vehicle '!$F$25*'Track '!$F$57*'Duty Cycle '!L15^2 -> 39.807184 | S15: ='Vehicle '!$F$40*9.81*SIN(RADIANS('Duty Cycle '!I15)) -> 311.66364 | T15: =Q15+R15+S15 -> 478.86349 | U15: =ABS(((+T15)*(+L15)/1000)) -> 4.8875307 | V15: ='Vehicle '!$F$9-'Duty Cycle '!U15 -> 8.5352881 | W15: =U15 -> 4.8875307 | X15: =ABS((W15*1000)/((2*PI()*K15)/60)) -> 7.1803816 | Y15: =MIN(22,ROUNDUP(X15,0)) -> 8 | Z15: =T15*D15 -> 29619.417 | AA15: =SUM(AA14,Z15) -> 180252.42 | AB15: ='BSFC '!$X$14 -> 306.7448 | AC15: =U15*AB15/3600 -> 0.41645129 | AD15: =AD14+AC15 -> 3.3601017 | AE15: =AC15*3.09 -> 1.2868345 | AF15: =0.5*'Vehicle '!$F$40*'Duty Cycle '!L15^2/1000 -> 33.819794 | AG15: =Z15+AF15 -> 29653.237
A16: 1.47 | B16: =B15+1 -> 13 | C16: S1 | D16: =SUM($L$3:L16) -> 72.094229 | E16: =D16-D15 -> 10.240658 | F16: Tarmac | G16: 15.5 | H16: =G16-G15 -> 0.7 | I16: =DEGREES(ATAN(H16/E16)) -> 3.9103695 | J16: 3 | K16: 5000 | L16: 10.240658 | M16: =L16*2.237 -> 22.908351 | N16: =L16-L15 -> 0.034135525 | O16: =IF(J16=1,'[1]Gearing '!$C$17*'Duty Cycle '!N16,IF(J16=2,'[1]Gearing '!$C$18*'Duty Cycle '!N16,IF(J16=3,'[1]Gearing '!$C$19*'Duty Cycle '!N16))) -> 20.555857 | P16: =IF(F16='Track '!$B$60,'Track '!$F$53,IF(F16='Track '!$B$61,'Track '!$F$54,IF(F16='Track '!$B$62,'Track '!$F$55))) -> 0.02 | Q16: =P16*'Vehicle '!$F$40*9.81 -> 127.39266 | R16: =0.5*'Vehicle '!$F$53*'Vehicle '!$F$25*'Track '!$F$57*'Duty Cycle '!L16^2 -> 40.073898 | S16: ='Vehicle '!$F$40*9.81*SIN(RADIANS('Duty Cycle '!I16)) -> 434.38255 | T16: =Q16+R16+S16 -> 601.84911 | U16: =ABS(((+T16)*(+L16)/1000)) -> 6.1633306 | V16: ='Vehicle '!$F$9-'Duty Cycle '!U16 -> 7.2594882 | W16: =U16 -> 6.1633306 | X16: =ABS((W16*1000)/((2*PI()*K16)/60)) -> 11.771094 | Y16: =MIN(22,ROUNDUP(X16,0)) -> 12 | Z16: =T16*D16 -> 43389.847 | AA16: =SUM(AA15,Z16) -> 223642.27 | AB16: ='BSFC '!$X$14 -> 306.7448 | AC16: =U16*AB16/3600 -> 0.52515823 | AD16: =AD15+AC16 -> 3.88526 | AE16: =AC16*3.09 -> 1.6227389 | AF16: =0.5*'Vehicle '!$F$40*'Duty Cycle '!L16^2/1000 -> 34.046392 | AG16: =Z16+AF16 -> 43423.894
B17: =B16+1 -> 14 | C17: S1 | D17: =SUM($L$3:L17) -> 83.358952 | E17: =D17-D16 -> 11.264723 | F17: Tarmac | G17: 16 | H17: =G17-G16 -> 0.5 | I17: =DEGREES(ATAN(H17/E17)) -> 2.5414826 | J17: 3 | K17: 5500 | L17: 11.264723 | M17: =L17*2.237 -> 25.199186 | N17: =L17-L16 -> 1.0240658 | O17: =IF(J17=1,'[1]Gearing '!$C$17*'Duty Cycle '!N17,IF(J17=2,'[1]Gearing '!$C$18*'Duty Cycle '!N17,IF(J17=3,'[1]Gearing '!$C$19*'Duty Cycle '!N17))) -> 616.6757 | P17: =IF(F17='Track '!$B$60,'Track '!$F$53,IF(F17='Track '!$B$61,'Track '!$F$54,IF(F17='Track '!$B$62,'Track '!$F$55))) -> 0.02 | Q17: =P17*'Vehicle '!$F$40*9.81 -> 127.39266 | R17: =0.5*'Vehicle '!$F$53*'Vehicle '!$F$25*'Track '!$F$57*'Duty Cycle '!L17^2 -> 48.489416 | S17: ='Vehicle '!$F$40*9.81*SIN(RADIANS('Duty Cycle '!I17)) -> 282.44669 | T17: =Q17+R17+S17 -> 458.32877 | U17: =ABS(((+T17)*(+L17)/1000)) -> 5.1629468 | V17: ='Vehicle '!$F$9-'Duty Cycle '!U17 -> 8.259872 | W17: =U17 -> 5.1629468 | X17: =ABS((W17*1000)/((2*PI()*K17)/60)) -> 8.9640927 | Y17: =MIN(22,ROUNDUP(X17,0)) -> 9 | Z17: =T17*D17 -> 38205.806 | AA17: =SUM(AA16,Z17) -> 261848.07 | AB17: ='BSFC '!$X$14 -> 306.7448 | AC17: =U17*AB17/3600 -> 0.43991863 | AD17: =AD16+AC17 -> 4.3251786 | AE17: =AC17*3.09 -> 1.3593486 | AF17: =0.5*'Vehicle '!$F$40*'Duty Cycle '!L17^2/1000 -> 41.196134 | AG17: =Z17+AF17 -> 38247.002
A18: Fuel Cost / Lap (£) | B18: =B17+1 -> 15 | C18: S1 | D18: =SUM($L$3:L18) -> 95.647741 | E18: =D18-D17 -> 12.288789 | F18: Tarmac | G18: 16.3 | H18: =G18-G17 -> 0.3 | I18: =DEGREES(ATAN(H18/E18)) -> 1.3984552 | J18: 3 | K18: 6000 | L18: 12.288789 | M18: =L18*2.237 -> 27.490021 | N18: =L18-L17 -> 1.0240658 | O18: =IF(J18=1,'[1]Gearing '!$C$17*'Duty Cycle '!N18,IF(J18=2,'[1]Gearing '!$C$18*'Duty Cycle '!N18,IF(J18=3,'[1]Gearing '!$C$19*'Duty Cycle '!N18))) -> 616.6757 | P18: =IF(F18='Track '!$B$60,'Track '!$F$53,IF(F18='Track '!$B$61,'Track '!$F$54,IF(F18='Track '!$B$62,'Track '!$F$55))) -> 0.02 | Q18: =P18*'Vehicle '!$F$40*9.81 -> 127.39266 | R18: =0.5*'Vehicle '!$F$53*'Vehicle '!$F$25*'Track '!$F$57*'Duty Cycle '!L18^2 -> 57.706413 | S18: ='Vehicle '!$F$40*9.81*SIN(RADIANS('Duty Cycle '!I18)) -> 155.45232 | T18: =Q18+R18+S18 -> 340.55139 | U18: =ABS(((+T18)*(+L18)/1000)) -> 4.1849642 | V18: ='Vehicle '!$F$9-'Duty Cycle '!U18 -> 9.2378546 | W18: =U18 -> 4.1849642 | X18: =ABS((W18*1000)/((2*PI()*K18)/60)) -> 6.6605774 | Y18: =MIN(22,ROUNDUP(X18,0)) -> 7 | Z18: =T18*D18 -> 32572.971 | AA18: =SUM(AA17,Z18) -> 294421.04 | AB18: ='BSFC '!$X$14 -> 306.7448 | AC18: =U18*AB18/3600 -> 0.35658778 | AD18: =AD17+AC18 -> 4.6817664 | AE18: =AC18*3.09 -> 1.1018562 | AF18: =0.5*'Vehicle '!$F$40*'Duty Cycle '!L18^2/1000 -> 49.026804 | AG18: =Z18+AF18 -> 32621.998
B19: =B18+1 -> 16 | C19: T1 | D19: =SUM($L$3:L19) -> 108.9606 | E19: =D19-D18 -> 13.312855 | F19: Tarmac | G19: 16.5 | H19: =G19-G18 -> 0.2 | I19: =DEGREES(ATAN(H19/E19)) -> 0.86069398 | J19: 3 | K19: 6500 | L19: 13.312855 | M19: =L19*2.237 -> 29.780856 | N19: =L19-L18 -> 1.0240658 | O19: =IF(J19=1,'[1]Gearing '!$C$17*'Duty Cycle '!N19,IF(J19=2,'[1]Gearing '!$C$18*'Duty Cycle '!N19,IF(J19=3,'[1]Gearing '!$C$19*'Duty Cycle '!N19))) -> 616.6757 | P19: =IF(F19='Track '!$B$60,'Track '!$F$53,IF(F19='Track '!$B$61,'Track '!$F$54,IF(F19='Track '!$B$62,'Track '!$F$55))) -> 0.02 | Q19: =P19*'Vehicle '!$F$40*9.81 -> 127.39266 | R19: =0.5*'Vehicle '!$F$53*'Vehicle '!$F$25*'Track '!$F$57*'Duty Cycle '!L19^2 -> 67.724887 | S19: ='Vehicle '!$F$40*9.81*SIN(RADIANS('Duty Cycle '!I19)) -> 95.68067 | T19: =Q19+R19+S19 -> 290.79822 | U19: =ABS(((+T19)*(+L19)/1000)) -> 3.8713544 | V19: ='Vehicle '!$F$9-'Duty Cycle '!U19 -> 9.5514644 | W19: =U19 -> 3.8713544 | X19: =ABS((W19*1000)/((2*PI()*K19)/60)) -> 5.6874941 | Y19: =MIN(22,ROUNDUP(X19,0)) -> 6 | Z19: =T19*D19 -> 31685.547 | AA19: =SUM(AA18,Z19) -> 326106.59 | AB19: ='BSFC '!$X$14 -> 306.7448 | AC19: =U19*AB19/3600 -> 0.32986607 | AD19: =AD18+AC19 -> 5.0116324 | AE19: =AC19*3.09 -> 1.0192862 | AF19: =0.5*'Vehicle '!$F$40*'Duty Cycle '!L19^2/1000 -> 57.538402 | AG19: =Z19+AF19 -> 31743.085
A20: =A16*A8 -> 0.10830541 | B20: =B19+1 -> 17 | C20: T1 | D20: =SUM($L$3:L20) -> 121.24938 | E20: =D20-D19 -> 12.288789 | F20: Tarmac | G20: 17 | H20: =G20-G19 -> 0.5 | I20: =DEGREES(ATAN(H20/E20)) -> 2.3299364 | J20: 3 | K20: 6000 | L20: 12.288789 | M20: =L20*2.237 -> 27.490021 | N20: =L20-L19 -> -1.0240658 | O20: =IF(J20=1,'[1]Gearing '!$C$17*'Duty Cycle '!N20,IF(J20=2,'[1]Gearing '!$C$18*'Duty Cycle '!N20,IF(J20=3,'[1]Gearing '!$C$19*'Duty Cycle '!N20))) -> -616.6757 | P20: =IF(F20='Track '!$B$60,'Track '!$F$53,IF(F20='Track '!$B$61,'Track '!$F$54,IF(F20='Track '!$B$62,'Track '!$F$55))) -> 0.02 | Q20: =P20*'Vehicle '!$F$40*9.81 -> 127.39266 | R20: =0.5*'Vehicle '!$F$53*'Vehicle '!$F$25*'Track '!$F$57*'Duty Cycle '!L20^2 -> 57.706413 | S20: ='Vehicle '!$F$40*9.81*SIN(RADIANS('Duty Cycle '!I20)) -> 258.95014 | T20: =Q20+R20+S20 -> 444.04921 | U20: =ABS(((+T20)*(+L20)/1000)) -> 5.456827 | V20: ='Vehicle '!$F$9-'Duty Cycle '!U20 -> 7.9659918 | W20: =U20 -> 5.456827 | X20: =ABS((W20*1000)/((2*PI()*K20)/60)) -> 8.68481 | Y20: =MIN(22,ROUNDUP(X20,0)) -> 9 | Z20: =T20*D20 -> 53840.693 | AA20: =SUM(AA19,Z20) -> 379947.28 | AB20: ='BSFC '!$X$14 -> 306.7448 | AC20: =U20*AB20/3600 -> 0.46495926 | AD20: =AD19+AC20 -> 5.4765917 | AE20: =AC20*3.09 -> 1.4367241 | AF20: =0.5*'Vehicle '!$F$40*'Duty Cycle '!L20^2/1000 -> 49.026804 | AG20: =Z20+AF20 -> 53889.72
B21: =B20+1 -> 18 | C21: T1 | D21: =SUM($L$3:L21) -> 133.02614 | E21: =D21-D20 -> 11.776756 | F21: Tarmac | G21: 17.4 | H21: =G21-G20 -> 0.4 | I21: =DEGREES(ATAN(H21/E21)) -> 1.9453154 | J21: 3 | K21: 5750 | L21: 11.776756 | M21: =L21*2.237 -> 26.344603 | N21: =L21-L20 -> -0.51203288 | O21: =IF(J21=1,'[1]Gearing '!$C$17*'Duty Cycle '!N21,IF(J21=2,'[1]Gearing '!$C$18*'Duty Cycle '!N21,IF(J21=3,'[1]Gearing '!$C$19*'Duty Cycle '!N21))) -> -308.33785 | P21: =IF(F21='Track '!$B$60,'Track '!$F$53,IF(F21='Track '!$B$61,'Track '!$F$54,IF(F21='Track '!$B$62,'Track '!$F$55))) -> 0.02 | Q21: =P21*'Vehicle '!$F$40*9.81 -> 127.39266 | R21: =0.5*'Vehicle '!$F$53*'Vehicle '!$F$25*'Track '!$F$57*'Duty Cycle '!L21^2 -> 52.99773 | S21: ='Vehicle '!$F$40*9.81*SIN(RADIANS('Duty Cycle '!I21)) -> 216.22124 | T21: =Q21+R21+S21 -> 396.61163 | U21: =ABS(((+T21)*(+L21)/1000)) -> 4.6707985 | V21: ='Vehicle '!$F$9-'Duty Cycle '!U21 -> 8.7520203 | W21: =U21 -> 4.6707985 | X21: =ABS((W21*1000)/((2*PI()*K21)/60)) -> 7.7570156 | Y21: =MIN(22,ROUNDUP(X21,0)) -> 8 | Z21: =T21*D21 -> 52759.715 | AA21: =SUM(AA20,Z21) -> 432707 | AB21: ='BSFC '!$X$14 -> 306.7448 | AC21: =U21*AB21/3600 -> 0.39798421 | AD21: =AD20+AC21 -> 5.8745759 | AE21: =AC21*3.09 -> 1.2297712 | AF21: =0.5*'Vehicle '!$F$40*'Duty Cycle '!L21^2/1000 -> 45.026353 | AG21: =Z21+AF21 -> 52804.741
A22: Fuel Cost / Tank (£) | B22: =B21+1 -> 19 | C22: T1 | D22: =SUM($L$3:L22) -> 144.8029 | E22: =D22-D21 -> 11.776756 | F22: Tarmac | G22: 17.8 | H22: =G22-G21 -> 0.4 | I22: =DEGREES(ATAN(H22/E22)) -> 1.9453154 | J22: 3 | K22: 5750 | L22: 11.776756 | M22: =L22*2.237 -> 26.344603 | N22: =L22-L21 -> 0 | O22: =IF(J22=1,'[1]Gearing '!$C$17*'Duty Cycle '!N22,IF(J22=2,'[1]Gearing '!$C$18*'Duty Cycle '!N22,IF(J22=3,'[1]Gearing '!$C$19*'Duty Cycle '!N22))) -> 0 | P22: =IF(F22='Track '!$B$60,'Track '!$F$53,IF(F22='Track '!$B$61,'Track '!$F$54,IF(F22='Track '!$B$62,'Track '!$F$55))) -> 0.02 | Q22: =P22*'Vehicle '!$F$40*9.81 -> 127.39266 | R22: =0.5*'Vehicle '!$F$53*'Vehicle '!$F$25*'Track '!$F$57*'Duty Cycle '!L22^2 -> 52.99773 | S22: ='Vehicle '!$F$40*9.81*SIN(RADIANS('Duty Cycle '!I22)) -> 216.22124 | T22: =Q22+R22+S22 -> 396.61163 | U22: =ABS(((+T22)*(+L22)/1000)) -> 4.6707985 | V22: ='Vehicle '!$F$9-'Duty Cycle '!U22 -> 8.7520203 | W22: =U22 -> 4.6707985 | X22: =ABS((W22*1000)/((2*PI()*K22)/60)) -> 7.7570156 | Y22: =MIN(22,ROUNDUP(X22,0)) -> 8 | Z22: =T22*D22 -> 57430.513 | AA22: =SUM(AA21,Z22) -> 490137.51 | AB22: ='BSFC '!$X$14 -> 306.7448 | AC22: =U22*AB22/3600 -> 0.39798421 | AD22: =AD21+AC22 -> 6.2725601 | AE22: =AC22*3.09 -> 1.2297712 | AF22: =0.5*'Vehicle '!$F$40*'Duty Cycle '!L22^2/1000 -> 45.026353 | AG22: =Z22+AF22 -> 57475.54
B23: =B22+1 -> 20 | C23: T1 | D23: =SUM($L$3:L23) -> 156.06762 | E23: =D23-D22 -> 11.264723 | F23: Tarmac | G23: 18.2 | H23: =G23-G22 -> 0.4 | I23: =DEGREES(ATAN(H23/E23)) -> 2.0336662 | J23: 3 | K23: 5500 | L23: 11.264723 | M23: =L23*2.237 -> 25.199186 | N23: =L23-L22 -> -0.51203288 | O23: =IF(J23=1,'[1]Gearing '!$C$17*'Duty Cycle '!N23,IF(J23=2,'[1]Gearing '!$C$18*'Duty Cycle '!N23,IF(J23=3,'[1]Gearing '!$C$19*'Duty Cycle '!N23))) -> -308.33785 | P23: =IF(F23='Track '!$B$60,'Track '!$F$53,IF(F23='Track '!$B$61,'Track '!$F$54,IF(F23='Track '!$B$62,'Track '!$F$55))) -> 0.02 | Q23: =P23*'Vehicle '!$F$40*9.81 -> 127.39266 | R23: =0.5*'Vehicle '!$F$53*'Vehicle '!$F$25*'Track '!$F$57*'Duty Cycle '!L23^2 -> 48.489416 | S23: ='Vehicle '!$F$40*9.81*SIN(RADIANS('Duty Cycle '!I23)) -> 226.03737 | T23: =Q23+R23+S23 -> 401.91945 | U23: =ABS(((+T23)*(+L23)/1000)) -> 4.5275113 | V23: ='Vehicle '!$F$9-'Duty Cycle '!U23 -> 8.8953074 | W23: =U23 -> 4.5275113 | X23: =ABS((W23*1000)/((2*PI()*K23)/60)) -> 7.860827 | Y23: =MIN(22,ROUNDUP(X23,0)) -> 8 | Z23: =T23*D23 -> 62726.612 | AA23: =SUM(AA22,Z23) -> 552864.12 | AB23: ='BSFC '!$X$14 -> 306.7448 | AC23: =U23*AB23/3600 -> 0.38577516 | AD23: =AD22+AC23 -> 6.6583353 | AE23: =AC23*3.09 -> 1.1920452 | AF23: =0.5*'Vehicle '!$F$40*'Duty Cycle '!L23^2/1000 -> 41.196134 | AG23: =Z23+AF23 -> 62767.808
A24: =A20*A12 -> 42.63 | B24: =B23+1 -> 21 | C24: T1 | D24: =SUM($L$3:L24) -> 166.82031 | E24: =D24-D23 -> 10.75269 | F24: Tarmac | G24: 18.5 | H24: =G24-G23 -> 0.3 | I24: =DEGREES(ATAN(H24/E24)) -> 1.5981373 | J24: 3 | K24: 5250 | L24: 10.75269 | M24: =L24*2.237 -> 24.053768 | N24: =L24-L23 -> -0.51203288 | O24: =IF(J24=1,'[1]Gearing '!$C$17*'Duty Cycle '!N24,IF(J24=2,'[1]Gearing '!$C$18*'Duty Cycle '!N24,IF(J24=3,'[1]Gearing '!$C$19*'Duty Cycle '!N24))) -> -308.33785 | P24: =IF(F24='Track '!$B$60,'Track '!$F$53,IF(F24='Track '!$B$61,'Track '!$F$54,IF(F24='Track '!$B$62,'Track '!$F$55))) -> 0.02 | Q24: =P24*'Vehicle '!$F$40*9.81 -> 127.39266 | R24: =0.5*'Vehicle '!$F$53*'Vehicle '!$F$25*'Track '!$F$57*'Duty Cycle '!L24^2 -> 44.181472 | S24: ='Vehicle '!$F$40*9.81*SIN(RADIANS('Duty Cycle '!I24)) -> 177.6436 | T24: =Q24+R24+S24 -> 349.21773 | U24: =ABS(((+T24)*(+L24)/1000)) -> 3.7550301 | V24: ='Vehicle '!$F$9-'Duty Cycle '!U24 -> 9.6677887 | W24: =U24 -> 3.7550301 | X24: =ABS((W24*1000)/((2*PI()*K24)/60)) -> 6.8300755 | Y24: =MIN(22,ROUNDUP(X24,0)) -> 7 | Z24: =T24*D24 -> 58256.61 | AA24: =SUM(AA23,Z24) -> 611120.73 | AB24: ='BSFC '!$X$14 -> 306.7448 | AC24: =U24*AB24/3600 -> 0.31995444 | AD24: =AD23+AC24 -> 6.9782897 | AE24: =AC24*3.09 -> 0.98865921 | AF24: =0.5*'Vehicle '!$F$40*'Duty Cycle '!L24^2/1000 -> 37.536147 | AG24: =Z24+AF24 -> 58294.146
B25: =B24+1 -> 22 | C25: T1 | D25: =SUM($L$3:L25) -> 176.63427 | E25: =D25-D24 -> 9.8139634 | F25: Tarmac | G25: 18.7 | H25: =G25-G24 -> 0.2 | I25: =DEGREES(ATAN(H25/E25)) -> 1.1674763 | J25: 2 | K25: 6250 | L25: 9.8139634 | M25: =L25*2.237 -> 21.953836 | N25: =L25-L24 -> -0.93872694 | O25: =IF(J25=1,'[1]Gearing '!$C$17*'Duty Cycle '!N25,IF(J25=2,'[1]Gearing '!$C$18*'Duty Cycle '!N25,IF(J25=3,'[1]Gearing '!$C$19*'Duty Cycle '!N25))) -> -567.67949 | P25: =IF(F25='Track '!$B$60,'Track '!$F$53,IF(F25='Track '!$B$61,'Track '!$F$54,IF(F25='Track '!$B$62,'Track '!$F$55))) -> 0.02 | Q25: =P25*'Vehicle '!$F$40*9.81 -> 127.39266 | R25: =0.5*'Vehicle '!$F$53*'Vehicle '!$F$25*'Track '!$F$57*'Duty Cycle '!L25^2 -> 36.803979 | S25: ='Vehicle '!$F$40*9.81*SIN(RADIANS('Duty Cycle '!I25)) -> 129.78061 | T25: =Q25+R25+S25 -> 293.97725 | U25: =ABS(((+T25)*(+L25)/1000)) -> 2.885082 | V25: ='Vehicle '!$F$9-'Duty Cycle '!U25 -> 10.537737 | W25: =U25 -> 2.885082 | X25: =ABS((W25*1000)/((2*PI()*K25)/60)) -> 4.4080805 | Y25: =MIN(22,ROUNDUP(X25,0)) -> 5 | Z25: =T25*D25 -> 51926.458 | AA25: =SUM(AA24,Z25) -> 663047.19 | AB25: ='BSFC '!$X$14 -> 306.7448 | AC25: =U25*AB25/3600 -> 0.24582886 | AD25: =AD24+AC25 -> 7.2241186 | AE25: =AC25*3.09 -> 0.75961117 | AF25: =0.5*'Vehicle '!$F$40*'Duty Cycle '!L25^2/1000 -> 31.268301 | AG25: =Z25+AF25 -> 51957.726
A26: Customers / Corporate Event | B26: =B25+1 -> 23 | C26: T1 | D26: =SUM($L$3:L26) -> 186.44824 | E26: =D26-D25 -> 9.8139634 | F26: Tarmac | G26: 18.2 | H26: =G26-G25 -> -0.5 | I26: =DEGREES(ATAN(H26/E26)) -> -2.9165731 | J26: 2 | K26: 6250 | L26: 9.8139634 | M26: =L26*2.237 -> 21.953836 | N26: =L26-L25 -> 0 | O26: =IF(J26=1,'[1]Gearing '!$C$17*'Duty Cycle '!N26,IF(J26=2,'[1]Gearing '!$C$18*'Duty Cycle '!N26,IF(J26=3,'[1]Gearing '!$C$19*'Duty Cycle '!N26))) -> 0 | P26: =IF(F26='Track '!$B$60,'Track '!$F$53,IF(F26='Track '!$B$61,'Track '!$F$54,IF(F26='Track '!$B$62,'Track '!$F$55))) -> 0.02 | Q26: =P26*'Vehicle '!$F$40*9.81 -> 127.39266 | R26: =0.5*'Vehicle '!$F$53*'Vehicle '!$F$25*'Track '!$F$57*'Duty Cycle '!L26^2 -> 36.803979 | S26: ='Vehicle '!$F$40*9.81*SIN(RADIANS('Duty Cycle '!I26)) -> -324.09853 | T26: =Q26+R26+S26 -> -159.90189 | U26: =ABS(((+T26)*(+L26)/1000)) -> 1.5692713 | V26: ='Vehicle '!$F$9-'Duty Cycle '!U26 -> 11.853547 | W26: =U26 -> 1.5692713 | X26: =ABS((W26*1000)/((2*PI()*K26)/60)) -> 2.39767 | Y26: =MIN(22,ROUNDUP(X26,0)) -> 3 | Z26: =T26*D26 -> -29813.426 | AA26: =SUM(AA25,Z26) -> 633233.77 | AB26: ='BSFC '!$X$14 -> 306.7448 | AC26: =U26*AB26/3600 -> 0.13371273 | AD26: =AD25+AC26 -> 7.3578313 | AE26: =AC26*3.09 -> 0.41317233 | AF26: =0.5*'Vehicle '!$F$40*'Duty Cycle '!L26^2/1000 -> 31.268301 | AG26: =Z26+AF26 -> -29782.158
B27: =B26+1 -> 24 | C27: S2 | D27: =SUM($L$3:L27) -> 196.65476 | E27: =D27-D26 -> 10.206522 | F27: Tarmac | G27: 17.2 | H27: =G27-G26 -> -1 | I27: =DEGREES(ATAN(H27/E27)) -> -5.5957841 | J27: 2 | K27: 6500 | L27: 10.206522 | M27: =L27*2.237 -> 22.83199 | N27: =L27-L26 -> 0.39255854 | O27: =IF(J27=1,'[1]Gearing '!$C$17*'Duty Cycle '!N27,IF(J27=2,'[1]Gearing '!$C$18*'Duty Cycle '!N27,IF(J27=3,'[1]Gearing '!$C$19*'Duty Cycle '!N27))) -> 237.39324 | P27: =IF(F27='Track '!$B$60,'Track '!$F$53,IF(F27='Track '!$B$61,'Track '!$F$54,IF(F27='Track '!$B$62,'Track '!$F$55))) -> 0.02 | Q27: =P27*'Vehicle '!$F$40*9.81 -> 127.39266 | R27: =0.5*'Vehicle '!$F$53*'Vehicle '!$F$25*'Track '!$F$57*'Duty Cycle '!L27^2 -> 39.807184 | S27: ='Vehicle '!$F$40*9.81*SIN(RADIANS('Duty Cycle '!I27)) -> -621.1008 | T27: =Q27+R27+S27 -> -453.90096 | U27: =ABS(((+T27)*(+L27)/1000)) -> 4.6327501 | V27: ='Vehicle '!$F$9-'Duty Cycle '!U27 -> 8.7900687 | W27: =U27 -> 4.6327501 | X27: =ABS((W27*1000)/((2*PI()*K27)/60)) -> 6.8060777 | Y27: =MIN(22,ROUNDUP(X27,0)) -> 7 | Z27: =T27*D27 -> -89261.784 | AA27: =SUM(AA26,Z27) -> 543971.98 | AB27: ='BSFC '!$X$14 -> 306.7448 | AC27: =U27*AB27/3600 -> 0.39474223 | AD27: =AD26+AC27 -> 7.7525735 | AE27: =AC27*3.09 -> 1.2197535 | AF27: =0.5*'Vehicle '!$F$40*'Duty Cycle '!L27^2/1000 -> 33.819794 | AG27: =Z27+AF27 -> -89227.964
A28: 18 | B28: =B27+1 -> 25 | C28: S2 | D28: =SUM($L$3:L28) -> 207.91948 | E28: =D28-D27 -> 11.264723 | F28: Tarmac | G28: 16 | H28: =G28-G27 -> -1.2 | I28: =DEGREES(ATAN(H28/E28)) -> -6.08063 | J28: 3 | K28: 5500 | L28: 11.264723 | M28: =L28*2.237 -> 25.199186 | N28: =L28-L27 -> 1.0582013 | O28: =IF(J28=1,'[1]Gearing '!$C$17*'Duty Cycle '!N28,IF(J28=2,'[1]Gearing '!$C$18*'Duty Cycle '!N28,IF(J28=3,'[1]Gearing '!$C$19*'Duty Cycle '!N28))) -> 637.23156 | P28: =IF(F28='Track '!$B$60,'Track '!$F$53,IF(F28='Track '!$B$61,'Track '!$F$54,IF(F28='Track '!$B$62,'Track '!$F$55))) -> 0.02 | Q28: =P28*'Vehicle '!$F$40*9.81 -> 127.39266 | R28: =0.5*'Vehicle '!$F$53*'Vehicle '!$F$25*'Track '!$F$57*'Duty Cycle '!L28^2 -> 48.489416 | S28: ='Vehicle '!$F$40*9.81*SIN(RADIANS('Duty Cycle '!I28)) -> -674.7219 | T28: =Q28+R28+S28 -> -498.83983 | U28: =ABS(((+T28)*(+L28)/1000)) -> 5.6192926 | V28: ='Vehicle '!$F$9-'Duty Cycle '!U28 -> 7.8035262 | W28: =U28 -> 5.6192926 | X28: =ABS((W28*1000)/((2*PI()*K28)/60)) -> 9.7564166 | Y28: =MIN(22,ROUNDUP(X28,0)) -> 10 | Z28: =T28*D28 -> -103718.52 | AA28: =SUM(AA27,Z28) -> 440253.46 | AB28: ='BSFC '!$X$14 -> 306.7448 | AC28: =U28*AB28/3600 -> 0.47880244 | AD28: =AD27+AC28 -> 8.231376 | AE28: =AC28*3.09 -> 1.4794995 | AF28: =0.5*'Vehicle '!$F$40*'Duty Cycle '!L28^2/1000 -> 41.196134 | AG28: =Z28+AF28 -> -103677.32
B29: =B28+1 -> 26 | C29: S2 | D29: =SUM($L$3:L29) -> 220.20827 | E29: =D29-D28 -> 12.288789 | F29: Tarmac | G29: 15 | H29: =G29-G28 -> -1 | I29: =DEGREES(ATAN(H29/E29)) -> -4.6521924 | J29: 3 | K29: 6000 | L29: 12.288789 | M29: =L29*2.237 -> 27.490021 | N29: =L29-L28 -> 1.0240658 | O29: =IF(J29=1,'[1]Gearing '!$C$17*'Duty Cycle '!N29,IF(J29=2,'[1]Gearing '!$C$18*'Duty Cycle '!N29,IF(J29=3,'[1]Gearing '!$C$19*'Duty Cycle '!N29))) -> 616.6757 | P29: =IF(F29='Track '!$B$60,'Track '!$F$53,IF(F29='Track '!$B$61,'Track '!$F$54,IF(F29='Track '!$B$62,'Track '!$F$55))) -> 0.02 | Q29: =P29*'Vehicle '!$F$40*9.81 -> 127.39266 | R29: =0.5*'Vehicle '!$F$53*'Vehicle '!$F$25*'Track '!$F$57*'Duty Cycle '!L29^2 -> 57.706413 | S29: ='Vehicle '!$F$40*9.81*SIN(RADIANS('Duty Cycle '!I29)) -> -516.6211 | T29: =Q29+R29+S29 -> -331.52202 | U29: =ABS(((+T29)*(+L29)/1000)) -> 4.0740042 | V29: ='Vehicle '!$F$9-'Duty Cycle '!U29 -> 9.3488146 | W29: =U29 -> 4.0740042 | X29: =ABS((W29*1000)/((2*PI()*K29)/60)) -> 6.4839791 | Y29: =MIN(22,ROUNDUP(X29,0)) -> 7 | Z29: =T29*D29 -> -73003.892 | AA29: =SUM(AA28,Z29) -> 367249.57 | AB29: ='BSFC '!$X$14 -> 306.7448 | AC29: =U29*AB29/3600 -> 0.34713323 | AD29: =AD28+AC29 -> 8.5785092 | AE29: =AC29*3.09 -> 1.0726417 | AF29: =0.5*'Vehicle '!$F$40*'Duty Cycle '!L29^2/1000 -> 49.026804 | AG29: =Z29+AF29 -> -72954.865
A30: Laps / Customer | B30: =B29+1 -> 27 | C30: S2 | D30: =SUM($L$3:L30) -> 233.52113 | E30: =D30-D29 -> 13.312855 | F30: Tarmac | G30: 14.2 | H30: =G30-G29 -> -0.8 | I30: =DEGREES(ATAN(H30/E30)) -> -3.4388995 | J30: 3 | K30: 6500 | L30: 13.312855 | M30: =L30*2.237 -> 29.780856 | N30: =L30-L29 -> 1.0240658 | O30: =IF(J30=1,'[1]Gearing '!$C$17*'Duty Cycle '!N30,IF(J30=2,'[1]Gearing '!$C$18*'Duty Cycle '!N30,IF(J30=3,'[1]Gearing '!$C$19*'Duty Cycle '!N30))) -> 616.6757 | P30: =IF(F30='Track '!$B$60,'Track '!$F$53,IF(F30='Track '!$B$61,'Track '!$F$54,IF(F30='Track '!$B$62,'Track '!$F$55))) -> 0.02 | Q30: =P30*'Vehicle '!$F$40*9.81 -> 127.39266 | R30: =0.5*'Vehicle '!$F$53*'Vehicle '!$F$25*'Track '!$F$57*'Duty Cycle '!L30^2 -> 67.724887 | S30: ='Vehicle '!$F$40*9.81*SIN(RADIANS('Duty Cycle '!I30)) -> -382.07663 | T30: =Q30+R30+S30 -> -186.95909 | U30: =ABS(((+T30)*(+L30)/1000)) -> 2.4889592 | V30: ='Vehicle '!$F$9-'Duty Cycle '!U30 -> 10.93386 | W30: =U30 -> 2.4889592 | X30: =ABS((W30*1000)/((2*PI()*K30)/60)) -> 3.656586 | Y30: =MIN(22,ROUNDUP(X30,0)) -> 4 | Z30: =T30*D30 -> -43658.896 | AA30: =SUM(AA29,Z30) -> 323590.67 | AB30: ='BSFC '!$X$14 -> 306.7448 | AC30: =U30*AB30/3600 -> 0.21207647 | AD30: =AD29+AC30 -> 8.7905857 | AE30: =AC30*3.09 -> 0.65531628 | AF30: =0.5*'Vehicle '!$F$40*'Duty Cycle '!L30^2/1000 -> 57.538402 | AG30: =Z30+AF30 -> -43601.358
B31: =B30+1 -> 28 | C31: S2 | D31: =SUM($L$3:L31) -> 246.83398 | E31: =D31-D30 -> 13.312855 | F31: Tarmac | G31: 14 | H31: =G31-G30 -> -0.2 | I31: =DEGREES(ATAN(H31/E31)) -> -0.86069398 | J31: 3 | K31: 6500 | L31: 13.312855 | M31: =L31*2.237 -> 29.780856 | N31: =L31-L30 -> 0 | O31: =IF(J31=1,'[1]Gearing '!$C$17*'Duty Cycle '!N31,IF(J31=2,'[1]Gearing '!$C$18*'Duty Cycle '!N31,IF(J31=3,'[1]Gearing '!$C$19*'Duty Cycle '!N31))) -> 0 | P31: =IF(F31='Track '!$B$60,'Track '!$F$53,IF(F31='Track '!$B$61,'Track '!$F$54,IF(F31='Track '!$B$62,'Track '!$F$55))) -> 0.02 | Q31: =P31*'Vehicle '!$F$40*9.81 -> 127.39266 | R31: =0.5*'Vehicle '!$F$53*'Vehicle '!$F$25*'Track '!$F$57*'Duty Cycle '!L31^2 -> 67.724887 | S31: ='Vehicle '!$F$40*9.81*SIN(RADIANS('Duty Cycle '!I31)) -> -95.68067 | T31: =Q31+R31+S31 -> 99.436877 | U31: =ABS(((+T31)*(+L31)/1000)) -> 1.3237887 | V31: ='Vehicle '!$F$9-'Duty Cycle '!U31 -> 12.09903 | W31: =U31 -> 1.3237887 | X31: =ABS((W31*1000)/((2*PI()*K31)/60)) -> 1.9448078 | Y31: =MIN(22,ROUNDUP(X31,0)) -> 2 | Z31: =T31*D31 -> 24544.4 | AA31: =SUM(AA30,Z31) -> 348135.07 | AB31: ='BSFC '!$X$14 -> 306.7448 | AC31: =U31*AB31/3600 -> 0.11279592 | AD31: =AD30+AC31 -> 8.9033816 | AE31: =AC31*3.09 -> 0.34853938 | AF31: =0.5*'Vehicle '!$F$40*'Duty Cycle '!L31^2/1000 -> 57.538402 | AG31: =Z31+AF31 -> 24601.939
A32: 18 | B32: =B31+1 -> 29 | C32: T2 | D32: =SUM($L$3:L32) -> 260.14684 | E32: =D32-D31 -> 13.312855 | F32: Tarmac | G32: 14 | H32: =G32-G31 -> 0 | I32: =DEGREES(ATAN(H32/E32)) -> 0 | J32: 3 | K32: 6500 | L32: 13.312855 | M32: =L32*2.237 -> 29.780856 | N32: =L32-L31 -> 0 | O32: =IF(J32=1,'[1]Gearing '!$C$17*'Duty Cycle '!N32,IF(J32=2,'[1]Gearing '!$C$18*'Duty Cycle '!N32,IF(J32=3,'[1]Gearing '!$C$19*'Duty Cycle '!N32))) -> 0 | P32: =IF(F32='Track '!$B$60,'Track '!$F$53,IF(F32='Track '!$B$61,'Track '!$F$54,IF(F32='Track '!$B$62,'Track '!$F$55))) -> 0.02 | Q32: =P32*'Vehicle '!$F$40*9.81 -> 127.39266 | R32: =0.5*'Vehicle '!$F$53*'Vehicle '!$F$25*'Track '!$F$57*'Duty Cycle '!L32^2 -> 67.724887 | S32: ='Vehicle '!$F$40*9.81*SIN(RADIANS('Duty Cycle '!I32)) -> 0 | T32: =Q32+R32+S32 -> 195.11755 | U32: =ABS(((+T32)*(+L32)/1000)) -> 2.5975716 | V32: ='Vehicle '!$F$9-'Duty Cycle '!U32 -> 10.825247 | W32: =U32 -> 2.5975716 | X32: =ABS((W32*1000)/((2*PI()*K32)/60)) -> 3.816151 | Y32: =MIN(22,ROUNDUP(X32,0)) -> 4 | Z32: =T32*D32 -> 50759.213 | AA32: =SUM(AA31,Z32) -> 398894.29 | AB32: ='BSFC '!$X$14 -> 306.7448 | AC32: =U32*AB32/3600 -> 0.22133099 | AD32: =AD31+AC32 -> 9.1247126 | AE32: =AC32*3.09 -> 0.68391277 | AF32: =0.5*'Vehicle '!$F$40*'Duty Cycle '!L32^2/1000 -> 57.538402 | AG32: =Z32+AF32 -> 50816.751
B33: =B32+1 -> 30 | C33: T2 | D33: =SUM($L$3:L33) -> 273.45969 | E33: =D33-D32 -> 13.312855 | F33: Tarmac | G33: 14 | H33: =G33-G32 -> 0 | I33: =DEGREES(ATAN(H33/E33)) -> 0 | J33: 3 | K33: 6500 | L33: 13.312855 | M33: =L33*2.237 -> 29.780856 | N33: =L33-L32 -> 0 | O33: =IF(J33=1,'[1]Gearing '!$C$17*'Duty Cycle '!N33,IF(J33=2,'[1]Gearing '!$C$18*'Duty Cycle '!N33,IF(J33=3,'[1]Gearing '!$C$19*'Duty Cycle '!N33))) -> 0 | P33: =IF(F33='Track '!$B$60,'Track '!$F$53,IF(F33='Track '!$B$61,'Track '!$F$54,IF(F33='Track '!$B$62,'Track '!$F$55))) -> 0.02 | Q33: =P33*'Vehicle '!$F$40*9.81 -> 127.39266 | R33: =0.5*'Vehicle '!$F$53*'Vehicle '!$F$25*'Track '!$F$57*'Duty Cycle '!L33^2 -> 67.724887 | S33: ='Vehicle '!$F$40*9.81*SIN(RADIANS('Duty Cycle '!I33)) -> 0 | T33: =Q33+R33+S33 -> 195.11755 | U33: =ABS(((+T33)*(+L33)/1000)) -> 2.5975716 | V33: ='Vehicle '!$F$9-'Duty Cycle '!U33 -> 10.825247 | W33: =U33 -> 2.5975716 | X33: =ABS((W33*1000)/((2*PI()*K33)/60)) -> 3.816151 | Y33: =MIN(22,ROUNDUP(X33,0)) -> 4 | Z33: =T33*D33 -> 53356.784 | AA33: =SUM(AA32,Z33) -> 452251.07 | AB33: ='BSFC '!$X$14 -> 306.7448 | AC33: =U33*AB33/3600 -> 0.22133099 | AD33: =AD32+AC33 -> 9.3460436 | AE33: =AC33*3.09 -> 0.68391277 | AF33: =0.5*'Vehicle '!$F$40*'Duty Cycle '!L33^2/1000 -> 57.538402 | AG33: =Z33+AF33 -> 53414.323
A34: Laps / Corporate Event | B34: =B33+1 -> 31 | C34: T2 | D34: =SUM($L$3:L34) -> 286.77255 | E34: =D34-D33 -> 13.312855 | F34: Tarmac | G34: 13.8 | H34: =G34-G33 -> -0.2 | I34: =DEGREES(ATAN(H34/E34)) -> -0.86069398 | J34: 3 | K34: 6500 | L34: 13.312855 | M34: =L34*2.237 -> 29.780856 | N34: =L34-L33 -> 0 | O34: =IF(J34=1,'[1]Gearing '!$C$17*'Duty Cycle '!N34,IF(J34=2,'[1]Gearing '!$C$18*'Duty Cycle '!N34,IF(J34=3,'[1]Gearing '!$C$19*'Duty Cycle '!N34))) -> 0 | P34: =IF(F34='Track '!$B$60,'Track '!$F$53,IF(F34='Track '!$B$61,'Track '!$F$54,IF(F34='Track '!$B$62,'Track '!$F$55))) -> 0.02 | Q34: =P34*'Vehicle '!$F$40*9.81 -> 127.39266 | R34: =0.5*'Vehicle '!$F$53*'Vehicle '!$F$25*'Track '!$F$57*'Duty Cycle '!L34^2 -> 67.724887 | S34: ='Vehicle '!$F$40*9.81*SIN(RADIANS('Duty Cycle '!I34)) -> -95.68067 | T34: =Q34+R34+S34 -> 99.436877 | U34: =ABS(((+T34)*(+L34)/1000)) -> 1.3237887 | V34: ='Vehicle '!$F$9-'Duty Cycle '!U34 -> 12.09903 | W34: =U34 -> 1.3237887 | X34: =ABS((W34*1000)/((2*PI()*K34)/60)) -> 1.9448078 | Y34: =MIN(22,ROUNDUP(X34,0)) -> 2 | Z34: =T34*D34 -> 28515.766 | AA34: =SUM(AA33,Z34) -> 480766.84 | AB34: ='BSFC '!$X$14 -> 306.7448 | AC34: =U34*AB34/3600 -> 0.11279592 | AD34: =AD33+AC34 -> 9.4588395 | AE34: =AC34*3.09 -> 0.34853938 | AF34: =0.5*'Vehicle '!$F$40*'Duty Cycle '!L34^2/1000 -> 57.538402 | AG34: =Z34+AF34 -> 28573.305
B35: =B34+1 -> 32 | C35: T2 | D35: =SUM($L$3:L35) -> 300.0854 | E35: =D35-D34 -> 13.312855 | F35: Tarmac | G35: 13.2 | H35: =G35-G34 -> -0.6 | I35: =DEGREES(ATAN(H35/E35)) -> -2.5805299 | J35: 3 | K35: 6500 | L35: 13.312855 | M35: =L35*2.237 -> 29.780856 | N35: =L35-L34 -> 0 | O35: =IF(J35=1,'[1]Gearing '!$C$17*'Duty Cycle '!N35,IF(J35=2,'[1]Gearing '!$C$18*'Duty Cycle '!N35,IF(J35=3,'[1]Gearing '!$C$19*'Duty Cycle '!N35))) -> 0 | P35: =IF(F35='Track '!$B$60,'Track '!$F$53,IF(F35='Track '!$B$61,'Track '!$F$54,IF(F35='Track '!$B$62,'Track '!$F$55))) -> 0.02 | Q35: =P35*'Vehicle '!$F$40*9.81 -> 127.39266 | R35: =0.5*'Vehicle '!$F$53*'Vehicle '!$F$25*'Track '!$F$57*'Duty Cycle '!L35^2 -> 67.724887 | S35: ='Vehicle '!$F$40*9.81*SIN(RADIANS('Duty Cycle '!I35)) -> -286.78329 | T35: =Q35+R35+S35 -> -91.665739 | U35: =ABS(((+T35)*(+L35)/1000)) -> 1.2203327 | V35: ='Vehicle '!$F$9-'Duty Cycle '!U35 -> 12.202486 | W35: =U35 -> 1.2203327 | X35: =ABS((W35*1000)/((2*PI()*K35)/60)) -> 1.7928182 | Y35: =MIN(22,ROUNDUP(X35,0)) -> 2 | Z35: =T35*D35 -> -27507.55 | AA35: =SUM(AA34,Z35) -> 453259.29 | AB35: ='BSFC '!$X$14 -> 306.7448 | AC35: =U35*AB35/3600 -> 0.10398075 | AD35: =AD34+AC35 -> 9.5628202 | AE35: =AC35*3.09 -> 0.32130052 | AF35: =0.5*'Vehicle '!$F$40*'Duty Cycle '!L35^2/1000 -> 57.538402 | AG35: =Z35+AF35 -> -27450.012
A36: =A28*A32 -> 324 | B36: =B35+1 -> 33 | C36: T2 | D36: =SUM($L$3:L36) -> 313.39826 | E36: =D36-D35 -> 13.312855 | F36: Tarmac | G36: 12 | H36: =G36-G35 -> -1.2 | I36: =DEGREES(ATAN(H36/E36)) -> -5.1506329 | J36: 3 | K36: 6500 | L36: 13.312855 | M36: =L36*2.237 -> 29.780856 | N36: =L36-L35 -> 0 | O36: =IF(J36=1,'[1]Gearing '!$C$17*'Duty Cycle '!N36,IF(J36=2,'[1]Gearing '!$C$18*'Duty Cycle '!N36,IF(J36=3,'[1]Gearing '!$C$19*'Duty Cycle '!N36))) -> 0 | P36: =IF(F36='Track '!$B$60,'Track '!$F$53,IF(F36='Track '!$B$61,'Track '!$F$54,IF(F36='Track '!$B$62,'Track '!$F$55))) -> 0.02 | Q36: =P36*'Vehicle '!$F$40*9.81 -> 127.39266 | R36: =0.5*'Vehicle '!$F$53*'Vehicle '!$F$25*'Track '!$F$57*'Duty Cycle '!L36^2 -> 67.724887 | S36: ='Vehicle '!$F$40*9.81*SIN(RADIANS('Duty Cycle '!I36)) -> -571.83046 | T36: =Q36+R36+S36 -> -376.71291 | U36: =ABS(((+T36)*(+L36)/1000)) -> 5.0151243 | V36: ='Vehicle '!$F$9-'Duty Cycle '!U36 -> 8.4076945 | W36: =U36 -> 5.0151243 | X36: =ABS((W36*1000)/((2*PI()*K36)/60)) -> 7.3678321 | Y36: =MIN(22,ROUNDUP(X36,0)) -> 8 | Z36: =T36*D36 -> -118061.17 | AA36: =SUM(AA35,Z36) -> 335198.12 | AB36: ='BSFC '!$X$14 -> 306.7448 | AC36: =U36*AB36/3600 -> 0.42732314 | AD36: =AD35+AC36 -> 9.9901434 | AE36: =AC36*3.09 -> 1.3204285 | AF36: =0.5*'Vehicle '!$F$40*'Duty Cycle '!L36^2/1000 -> 57.538402 | AG36: =Z36+AF36 -> -118003.63
B37: =B36+1 -> 34 | C37: T2 | D37: =SUM($L$3:L37) -> 326.71111 | E37: =D37-D36 -> 13.312855 | F37: Tarmac | G37: 11 | H37: =G37-G36 -> -1 | I37: =DEGREES(ATAN(H37/E37)) -> -4.2957265 | J37: 3 | K37: 6500 | L37: 13.312855 | M37: =L37*2.237 -> 29.780856 | N37: =L37-L36 -> 0 | O37: =IF(J37=1,'[1]Gearing '!$C$17*'Duty Cycle '!N37,IF(J37=2,'[1]Gearing '!$C$18*'Duty Cycle '!N37,IF(J37=3,'[1]Gearing '!$C$19*'Duty Cycle '!N37))) -> 0 | P37: =IF(F37='Track '!$B$60,'Track '!$F$53,IF(F37='Track '!$B$61,'Track '!$F$54,IF(F37='Track '!$B$62,'Track '!$F$55))) -> 0.02 | Q37: =P37*'Vehicle '!$F$40*9.81 -> 127.39266 | R37: =0.5*'Vehicle '!$F$53*'Vehicle '!$F$25*'Track '!$F$57*'Duty Cycle '!L37^2 -> 67.724887 | S37: ='Vehicle '!$F$40*9.81*SIN(RADIANS('Duty Cycle '!I37)) -> -477.11322 | T37: =Q37+R37+S37 -> -281.99567 | U37: =ABS(((+T37)*(+L37)/1000)) -> 3.7541674 | V37: ='Vehicle '!$F$9-'Duty Cycle '!U37 -> 9.6686514 | W37: =U37 -> 3.7541674 | X37: =ABS((W37*1000)/((2*PI()*K37)/60)) -> 5.5153319 | Y37: =MIN(22,ROUNDUP(X37,0)) -> 6 | Z37: =T37*D37 -> -92131.118 | AA37: =SUM(AA36,Z37) -> 243067 | AB37: ='BSFC '!$X$14 -> 306.7448 | AC37: =U37*AB37/3600 -> 0.31988092 | AD37: =AD36+AC37 -> 10.310024 | AE37: =AC37*3.09 -> 0.98843205 | AF37: =0.5*'Vehicle '!$F$40*'Duty Cycle '!L37^2/1000 -> 57.538402 | AG37: =Z37+AF37 -> -92073.579
A38: Fuel Cost / Event (£) | B38: =B37+1 -> 35 | C38: T2 | D38: =SUM($L$3:L38) -> 340.02396 | E38: =D38-D37 -> 13.312855 | F38: Tarmac | G38: 10 | H38: =G38-G37 -> -1 | I38: =DEGREES(ATAN(H38/E38)) -> -4.2957265 | J38: 3 | K38: 6500 | L38: 13.312855 | M38: =L38*2.237 -> 29.780856 | N38: =L38-L37 -> 0 | O38: =IF(J38=1,'[1]Gearing '!$C$17*'Duty Cycle '!N38,IF(J38=2,'[1]Gearing '!$C$18*'Duty Cycle '!N38,IF(J38=3,'[1]Gearing '!$C$19*'Duty Cycle '!N38))) -> 0 | P38: =IF(F38='Track '!$B$60,'Track '!$F$53,IF(F38='Track '!$B$61,'Track '!$F$54,IF(F38='Track '!$B$62,'Track '!$F$55))) -> 0.02 | Q38: =P38*'Vehicle '!$F$40*9.81 -> 127.39266 | R38: =0.5*'Vehicle '!$F$53*'Vehicle '!$F$25*'Track '!$F$57*'Duty Cycle '!L38^2 -> 67.724887 | S38: ='Vehicle '!$F$40*9.81*SIN(RADIANS('Duty Cycle '!I38)) -> -477.11322 | T38: =Q38+R38+S38 -> -281.99567 | U38: =ABS(((+T38)*(+L38)/1000)) -> 3.7541674 | V38: ='Vehicle '!$F$9-'Duty Cycle '!U38 -> 9.6686514 | W38: =U38 -> 3.7541674 | X38: =ABS((W38*1000)/((2*PI()*K38)/60)) -> 5.5153319 | Y38: =MIN(22,ROUNDUP(X38,0)) -> 6 | Z38: =T38*D38 -> -95885.285 | AA38: =SUM(AA37,Z38) -> 147181.72 | AB38: ='BSFC '!$X$14 -> 306.7448 | AC38: =U38*AB38/3600 -> 0.31988092 | AD38: =AD37+AC38 -> 10.629905 | AE38: =AC38*3.09 -> 0.98843205 | AF38: =0.5*'Vehicle '!$F$40*'Duty Cycle '!L38^2/1000 -> 57.538402 | AG38: =Z38+AF38 -> -95827.747
B39: =B38+1 -> 36 | C39: T2 | D39: =SUM($L$3:L39) -> 353.33682 | E39: =D39-D38 -> 13.312855 | F39: Tarmac | G39: 9 | H39: =G39-G38 -> -1 | I39: =DEGREES(ATAN(H39/E39)) -> -4.2957265 | J39: 3 | K39: 6500 | L39: 13.312855 | M39: =L39*2.237 -> 29.780856 | N39: =L39-L38 -> 0 | O39: =IF(J39=1,'[1]Gearing '!$C$17*'Duty Cycle '!N39,IF(J39=2,'[1]Gearing '!$C$18*'Duty Cycle '!N39,IF(J39=3,'[1]Gearing '!$C$19*'Duty Cycle '!N39))) -> 0 | P39: =IF(F39='Track '!$B$60,'Track '!$F$53,IF(F39='Track '!$B$61,'Track '!$F$54,IF(F39='Track '!$B$62,'Track '!$F$55))) -> 0.02 | Q39: =P39*'Vehicle '!$F$40*9.81 -> 127.39266 | R39: =0.5*'Vehicle '!$F$53*'Vehicle '!$F$25*'Track '!$F$57*'Duty Cycle '!L39^2 -> 67.724887 | S39: ='Vehicle '!$F$40*9.81*SIN(RADIANS('Duty Cycle '!I39)) -> -477.11322 | T39: =Q39+R39+S39 -> -281.99567 | U39: =ABS(((+T39)*(+L39)/1000)) -> 3.7541674 | V39: ='Vehicle '!$F$9-'Duty Cycle '!U39 -> 9.6686514 | W39: =U39 -> 3.7541674 | X39: =ABS((W39*1000)/((2*PI()*K39)/60)) -> 5.5153319 | Y39: =MIN(22,ROUNDUP(X39,0)) -> 6 | Z39: =T39*D39 -> -99639.452 | AA39: =SUM(AA38,Z39) -> 47542.264 | AB39: ='BSFC '!$X$14 -> 306.7448 | AC39: =U39*AB39/3600 -> 0.31988092 | AD39: =AD38+AC39 -> 10.949786 | AE39: =AC39*3.09 -> 0.98843205 | AF39: =0.5*'Vehicle '!$F$40*'Duty Cycle '!L39^2/1000 -> 57.538402 | AG39: =Z39+AF39 -> -99581.914
A40: =A36*A20 -> 35.090952 | B40: =B39+1 -> 37 | C40: T2 | D40: =SUM($L$3:L40) -> 366.64967 | E40: =D40-D39 -> 13.312855 | F40: Tarmac | G40: 8 | H40: =G40-G39 -> -1 | I40: =DEGREES(ATAN(H40/E40)) -> -4.2957265 | J40: 3 | K40: 6500 | L40: 13.312855 | M40: =L40*2.237 -> 29.780856 | N40: =L40-L39 -> 0 | O40: =IF(J40=1,'[1]Gearing '!$C$17*'Duty Cycle '!N40,IF(J40=2,'[1]Gearing '!$C$18*'Duty Cycle '!N40,IF(J40=3,'[1]Gearing '!$C$19*'Duty Cycle '!N40))) -> 0 | P40: =IF(F40='Track '!$B$60,'Track '!$F$53,IF(F40='Track '!$B$61,'Track '!$F$54,IF(F40='Track '!$B$62,'Track '!$F$55))) -> 0.02 | Q40: =P40*'Vehicle '!$F$40*9.81 -> 127.39266 | R40: =0.5*'Vehicle '!$F$53*'Vehicle '!$F$25*'Track '!$F$57*'Duty Cycle '!L40^2 -> 67.724887 | S40: ='Vehicle '!$F$40*9.81*SIN(RADIANS('Duty Cycle '!I40)) -> -477.11322 | T40: =Q40+R40+S40 -> -281.99567 | U40: =ABS(((+T40)*(+L40)/1000)) -> 3.7541674 | V40: ='Vehicle '!$F$9-'Duty Cycle '!U40 -> 9.6686514 | W40: =U40 -> 3.7541674 | X40: =ABS((W40*1000)/((2*PI()*K40)/60)) -> 5.5153319 | Y40: =MIN(22,ROUNDUP(X40,0)) -> 6 | Z40: =T40*D40 -> -103393.62 | AA40: =SUM(AA39,Z40) -> -55851.356 | AB40: ='BSFC '!$X$14 -> 306.7448 | AC40: =U40*AB40/3600 -> 0.31988092 | AD40: =AD39+AC40 -> 11.269667 | AE40: =AC40*3.09 -> 0.98843205 | AF40: =0.5*'Vehicle '!$F$40*'Duty Cycle '!L40^2/1000 -> 57.538402 | AG40: =Z40+AF40 -> -103336.08
B41: =B40+1 -> 38 | C41: S3 | D41: =SUM($L$3:L41) -> 379.96253 | E41: =D41-D40 -> 13.312855 | F41: Gravel | G41: 7 | H41: =G41-G40 -> -1 | I41: =DEGREES(ATAN(H41/E41)) -> -4.2957265 | J41: 3 | K41: 6500 | L41: 13.312855 | M41: =L41*2.237 -> 29.780856 | N41: =L41-L40 -> 0 | O41: =IF(J41=1,'[1]Gearing '!$C$17*'Duty Cycle '!N41,IF(J41=2,'[1]Gearing '!$C$18*'Duty Cycle '!N41,IF(J41=3,'[1]Gearing '!$C$19*'Duty Cycle '!N41))) -> 0 | P41: =IF(F41='Track '!$B$60,'Track '!$F$53,IF(F41='Track '!$B$61,'Track '!$F$54,IF(F41='Track '!$B$62,'Track '!$F$55))) -> 0.04 | Q41: =P41*'Vehicle '!$F$40*9.81 -> 254.78532 | R41: =0.5*'Vehicle '!$F$53*'Vehicle '!$F$25*'Track '!$F$57*'Duty Cycle '!L41^2 -> 67.724887 | S41: ='Vehicle '!$F$40*9.81*SIN(RADIANS('Duty Cycle '!I41)) -> -477.11322 | T41: =Q41+R41+S41 -> -154.60301 | U41: =ABS(((+T41)*(+L41)/1000)) -> 2.0582074 | V41: ='Vehicle '!$F$9-'Duty Cycle '!U41 -> 11.364611 | W41: =U41 -> 2.0582074 | X41: =ABS((W41*1000)/((2*PI()*K41)/60)) -> 3.0237589 | Y41: =MIN(22,ROUNDUP(X41,0)) -> 4 | Z41: =T41*D41 -> -58743.35 | AA41: =SUM(AA40,Z41) -> -114594.71 | AB41: ='BSFC '!$X$14 -> 306.7448 | AC41: =U41*AB41/3600 -> 0.17537345 | AD41: =AD40+AC41 -> 11.445041 | AE41: =AC41*3.09 -> 0.54190396 | AF41: =0.5*'Vehicle '!$F$40*'Duty Cycle '!L41^2/1000 -> 57.538402 | AG41: =Z41+AF41 -> -58685.811
A42: Approximate Lap Time (s) | B42: =B41+1 -> 39 | C42: S3 | D42: =SUM($L$3:L42) -> 393.27538 | E42: =D42-D41 -> 13.312855 | F42: Gravel | G42: 6 | H42: =G42-G41 -> -1 | I42: =DEGREES(ATAN(H42/E42)) -> -4.2957265 | J42: 3 | K42: 6500 | L42: 13.312855 | M42: =L42*2.237 -> 29.780856 | N42: =L42-L41 -> 0 | O42: =IF(J42=1,'[1]Gearing '!$C$17*'Duty Cycle '!N42,IF(J42=2,'[1]Gearing '!$C$18*'Duty Cycle '!N42,IF(J42=3,'[1]Gearing '!$C$19*'Duty Cycle '!N42))) -> 0 | P42: =IF(F42='Track '!$B$60,'Track '!$F$53,IF(F42='Track '!$B$61,'Track '!$F$54,IF(F42='Track '!$B$62,'Track '!$F$55))) -> 0.04 | Q42: =P42*'Vehicle '!$F$40*9.81 -> 254.78532 | R42: =0.5*'Vehicle '!$F$53*'Vehicle '!$F$25*'Track '!$F$57*'Duty Cycle '!L42^2 -> 67.724887 | S42: ='Vehicle '!$F$40*9.81*SIN(RADIANS('Duty Cycle '!I42)) -> -477.11322 | T42: =Q42+R42+S42 -> -154.60301 | U42: =ABS(((+T42)*(+L42)/1000)) -> 2.0582074 | V42: ='Vehicle '!$F$9-'Duty Cycle '!U42 -> 11.364611 | W42: =U42 -> 2.0582074 | X42: =ABS((W42*1000)/((2*PI()*K42)/60)) -> 3.0237589 | Y42: =MIN(22,ROUNDUP(X42,0)) -> 4 | Z42: =T42*D42 -> -60801.557 | AA42: =SUM(AA41,Z42) -> -175396.26 | AB42: ='BSFC '!$X$14 -> 306.7448 | AC42: =U42*AB42/3600 -> 0.17537345 | AD42: =AD41+AC42 -> 11.620414 | AE42: =AC42*3.09 -> 0.54190396 | AF42: =0.5*'Vehicle '!$F$40*'Duty Cycle '!L42^2/1000 -> 57.538402 | AG42: =Z42+AF42 -> -60744.019
B43: =B42+1 -> 40 | C43: S3 | D43: =SUM($L$3:L43) -> 406.07621 | E43: =D43-D42 -> 12.800822 | F43: Gravel | G43: 5.5 | H43: =G43-G42 -> -0.5 | I43: =DEGREES(ATAN(H43/E43)) -> -2.2368356 | J43: 3 | K43: 6250 | L43: 12.800822 | M43: =L43*2.237 -> 28.635439 | N43: =L43-L42 -> -0.51203288 | O43: =IF(J43=1,'[1]Gearing '!$C$17*'Duty Cycle '!N43,IF(J43=2,'[1]Gearing '!$C$18*'Duty Cycle '!N43,IF(J43=3,'[1]Gearing '!$C$19*'Duty Cycle '!N43))) -> -308.33785 | P43: =IF(F43='Track '!$B$60,'Track '!$F$53,IF(F43='Track '!$B$61,'Track '!$F$54,IF(F43='Track '!$B$62,'Track '!$F$55))) -> 0.04 | Q43: =P43*'Vehicle '!$F$40*9.81 -> 254.78532 | R43: =0.5*'Vehicle '!$F$53*'Vehicle '!$F$25*'Track '!$F$57*'Duty Cycle '!L43^2 -> 62.615465 | S43: ='Vehicle '!$F$40*9.81*SIN(RADIANS('Duty Cycle '!I43)) -> -248.60824 | T43: =Q43+R43+S43 -> 68.792548 | U43: =ABS(((+T43)*(+L43)/1000)) -> 0.88060115 | V43: ='Vehicle '!$F$9-'Duty Cycle '!U43 -> 12.542218 | W43: =U43 -> 0.88060115 | X43: =ABS((W43*1000)/((2*PI()*K43)/60)) -> 1.3454595 | Y43: =MIN(22,ROUNDUP(X43,0)) -> 2 | Z43: =T43*D43 -> 27935.017 | AA43: =SUM(AA42,Z43) -> -147461.25 | AB43: ='BSFC '!$X$14 -> 306.7448 | AC43: =U43*AB43/3600 -> 0.075033285 | AD43: =AD42+AC43 -> 11.695447 | AE43: =AC43*3.09 -> 0.23185285 | AF43: =0.5*'Vehicle '!$F$40*'Duty Cycle '!L43^2/1000 -> 53.197487 | AG43: =Z43+AF43 -> 27988.214
A44: =MAX(B:B) -> 150 | B44: =B43+1 -> 41 | C44: S3 | D44: =SUM($L$3:L44) -> 418.36499 | E44: =D44-D43 -> 12.288789 | F44: Gravel | G44: 5 | H44: =G44-G43 -> -0.5 | I44: =DEGREES(ATAN(H44/E44)) -> -2.3299364 | J44: 3 | K44: 6000 | L44: 12.288789 | M44: =L44*2.237 -> 27.490021 | N44: =L44-L43 -> -0.51203288 | O44: =IF(J44=1,'[1]Gearing '!$C$17*'Duty Cycle '!N44,IF(J44=2,'[1]Gearing '!$C$18*'Duty Cycle '!N44,IF(J44=3,'[1]Gearing '!$C$19*'Duty Cycle '!N44))) -> -308.33785 | P44: =IF(F44='Track '!$B$60,'Track '!$F$53,IF(F44='Track '!$B$61,'Track '!$F$54,IF(F44='Track '!$B$62,'Track '!$F$55))) -> 0.04 | Q44: =P44*'Vehicle '!$F$40*9.81 -> 254.78532 | R44: =0.5*'Vehicle '!$F$53*'Vehicle '!$F$25*'Track '!$F$57*'Duty Cycle '!L44^2 -> 57.706413 | S44: ='Vehicle '!$F$40*9.81*SIN(RADIANS('Duty Cycle '!I44)) -> -258.95014 | T44: =Q44+R44+S44 -> 53.541597 | U44: =ABS(((+T44)*(+L44)/1000)) -> 0.65796139 | V44: ='Vehicle '!$F$9-'Duty Cycle '!U44 -> 12.764857 | W44: =U44 -> 0.65796139 | X44: =ABS((W44*1000)/((2*PI()*K44)/60)) -> 1.0471781 | Y44: =MIN(22,ROUNDUP(X44,0)) -> 2 | Z44: =T44*D44 -> 22399.93 | AA44: =SUM(AA43,Z44) -> -125061.32 | AB44: ='BSFC '!$X$14 -> 306.7448 | AC44: =U44*AB44/3600 -> 0.056062843 | AD44: =AD43+AC44 -> 11.75151 | AE44: =AC44*3.09 -> 0.17323419 | AF44: =0.5*'Vehicle '!$F$40*'Duty Cycle '!L44^2/1000 -> 49.026804 | AG44: =Z44+AF44 -> 22448.957
B45: =B44+1 -> 42 | C45: T3 | D45: =SUM($L$3:L45) -> 429.62972 | E45: =D45-D44 -> 11.264723 | F45: Gravel | G45: 5 | H45: =G45-G44 -> 0 | I45: =DEGREES(ATAN(H45/E45)) -> 0 | J45: 3 | K45: 5500 | L45: 11.264723 | M45: =L45*2.237 -> 25.199186 | N45: =L45-L44 -> -1.0240658 | O45: =IF(J45=1,'[1]Gearing '!$C$17*'Duty Cycle '!N45,IF(J45=2,'[1]Gearing '!$C$18*'Duty Cycle '!N45,IF(J45=3,'[1]Gearing '!$C$19*'Duty Cycle '!N45))) -> -616.6757 | P45: =IF(F45='Track '!$B$60,'Track '!$F$53,IF(F45='Track '!$B$61,'Track '!$F$54,IF(F45='Track '!$B$62,'Track '!$F$55))) -> 0.04 | Q45: =P45*'Vehicle '!$F$40*9.81 -> 254.78532 | R45: =0.5*'Vehicle '!$F$53*'Vehicle '!$F$25*'Track '!$F$57*'Duty Cycle '!L45^2 -> 48.489416 | S45: ='Vehicle '!$F$40*9.81*SIN(RADIANS('Duty Cycle '!I45)) -> 0 | T45: =Q45+R45+S45 -> 303.27474 | U45: =ABS(((+T45)*(+L45)/1000)) -> 3.416306 | V45: ='Vehicle '!$F$9-'Duty Cycle '!U45 -> 10.006513 | W45: =U45 -> 3.416306 | X45: =ABS((W45*1000)/((2*PI()*K45)/60)) -> 5.9315125 | Y45: =MIN(22,ROUNDUP(X45,0)) -> 6 | Z45: =T45*D45 -> 130295.84 | AA45: =SUM(AA44,Z45) -> 5234.5236 | AB45: ='BSFC '!$X$14 -> 306.7448 | AC45: =U45*AB45/3600 -> 0.2910928 | AD45: =AD44+AC45 -> 12.042603 | AE45: =AC45*3.09 -> 0.89947677 | AF45: =0.5*'Vehicle '!$F$40*'Duty Cycle '!L45^2/1000 -> 41.196134 | AG45: =Z45+AF45 -> 130337.04
A46: CO2 Produced per Lap (Kg) | B46: =B45+1 -> 43 | C46: T3 | D46: =SUM($L$3:L46) -> 439.87038 | E46: =D46-D45 -> 10.240658 | F46: Gravel | G46: 5 | H46: =G46-G45 -> 0 | I46: =DEGREES(ATAN(H46/E46)) -> 0 | J46: 3 | K46: 5000 | L46: 10.240658 | M46: =L46*2.237 -> 22.908351 | N46: =L46-L45 -> -1.0240658 | O46: =IF(J46=1,'[1]Gearing '!$C$17*'Duty Cycle '!N46,IF(J46=2,'[1]Gearing '!$C$18*'Duty Cycle '!N46,IF(J46=3,'[1]Gearing '!$C$19*'Duty Cycle '!N46))) -> -616.6757 | P46: =IF(F46='Track '!$B$60,'Track '!$F$53,IF(F46='Track '!$B$61,'Track '!$F$54,IF(F46='Track '!$B$62,'Track '!$F$55))) -> 0.04 | Q46: =P46*'Vehicle '!$F$40*9.81 -> 254.78532 | R46: =0.5*'Vehicle '!$F$53*'Vehicle '!$F$25*'Track '!$F$57*'Duty Cycle '!L46^2 -> 40.073898 | S46: ='Vehicle '!$F$40*9.81*SIN(RADIANS('Duty Cycle '!I46)) -> 0 | T46: =Q46+R46+S46 -> 294.85922 | U46: =ABS(((+T46)*(+L46)/1000)) -> 3.0195523 | V46: ='Vehicle '!$F$9-'Duty Cycle '!U46 -> 10.403267 | W46: =U46 -> 3.0195523 | X46: =ABS((W46*1000)/((2*PI()*K46)/60)) -> 5.76692 | Y46: =MIN(22,ROUNDUP(X46,0)) -> 6 | Z46: =T46*D46 -> 129699.83 | AA46: =SUM(AA45,Z46) -> 134934.36 | AB46: ='BSFC '!$X$14 -> 306.7448 | AC46: =U46*AB46/3600 -> 0.25728665 | AD46: =AD45+AC46 -> 12.29989 | AE46: =AC46*3.09 -> 0.79501576 | AF46: =0.5*'Vehicle '!$F$40*'Duty Cycle '!L46^2/1000 -> 34.046392 | AG46: =Z46+AF46 -> 129733.88
B47: =B46+1 -> 44 | C47: T3 | D47: =SUM($L$3:L47) -> 448.89922 | E47: =D47-D46 -> 9.0288464 | F47: Gravel | G47: 5 | H47: =G47-G46 -> 0 | I47: =DEGREES(ATAN(H47/E47)) -> 0 | J47: 2 | K47: 5750 | L47: 9.0288464 | M47: =L47*2.237 -> 20.197529 | N47: =L47-L46 -> -1.2118111 | O47: =IF(J47=1,'[1]Gearing '!$C$17*'Duty Cycle '!N47,IF(J47=2,'[1]Gearing '!$C$18*'Duty Cycle '!N47,IF(J47=3,'[1]Gearing '!$C$19*'Duty Cycle '!N47))) -> -732.82261 | P47: =IF(F47='Track '!$B$60,'Track '!$F$53,IF(F47='Track '!$B$61,'Track '!$F$54,IF(F47='Track '!$B$62,'Track '!$F$55))) -> 0.04 | Q47: =P47*'Vehicle '!$F$40*9.81 -> 254.78532 | R47: =0.5*'Vehicle '!$F$53*'Vehicle '!$F$25*'Track '!$F$57*'Duty Cycle '!L47^2 -> 31.150888 | S47: ='Vehicle '!$F$40*9.81*SIN(RADIANS('Duty Cycle '!I47)) -> 0 | T47: =Q47+R47+S47 -> 285.93621 | U47: =ABS(((+T47)*(+L47)/1000)) -> 2.5816741 | V47: ='Vehicle '!$F$9-'Duty Cycle '!U47 -> 10.841145 | W47: =U47 -> 2.5816741 | X47: =ABS((W47*1000)/((2*PI()*K47)/60)) -> 4.2875081 | Y47: =MIN(22,ROUNDUP(X47,0)) -> 5 | Z47: =T47*D47 -> 128356.54 | AA47: =SUM(AA46,Z47) -> 263290.9 | AB47: ='BSFC '!$X$14 -> 306.7448 | AC47: =U47*AB47/3600 -> 0.21997642 | AD47: =AD46+AC47 -> 12.519866 | AE47: =AC47*3.09 -> 0.67972713 | AF47: =0.5*'Vehicle '!$F$40*'Duty Cycle '!L47^2/1000 -> 26.46549 | AG47: =Z47+AF47 -> 128383.01
A48: =SUM(AE3:AE153)/1000 -> 0.1718851 | B48: =B47+1 -> 45 | C48: T3 | D48: =SUM($L$3:L48) -> 457.92807 | E48: =D48-D47 -> 9.0288464 | F48: Gravel | G48: 5 | H48: =G48-G47 -> 0 | I48: =DEGREES(ATAN(H48/E48)) -> 0 | J48: 2 | K48: 5750 | L48: 9.0288464 | M48: =L48*2.237 -> 20.197529 | N48: =L48-L47 -> 0 | O48: =IF(J48=1,'[1]Gearing '!$C$17*'Duty Cycle '!N48,IF(J48=2,'[1]Gearing '!$C$18*'Duty Cycle '!N48,IF(J48=3,'[1]Gearing '!$C$19*'Duty Cycle '!N48))) -> 0 | P48: =IF(F48='Track '!$B$60,'Track '!$F$53,IF(F48='Track '!$B$61,'Track '!$F$54,IF(F48='Track '!$B$62,'Track '!$F$55))) -> 0.04 | Q48: =P48*'Vehicle '!$F$40*9.81 -> 254.78532 | R48: =0.5*'Vehicle '!$F$53*'Vehicle '!$F$25*'Track '!$F$57*'Duty Cycle '!L48^2 -> 31.150888 | S48: ='Vehicle '!$F$40*9.81*SIN(RADIANS('Duty Cycle '!I48)) -> 0 | T48: =Q48+R48+S48 -> 285.93621 | U48: =ABS(((+T48)*(+L48)/1000)) -> 2.5816741 | V48: ='Vehicle '!$F$9-'Duty Cycle '!U48 -> 10.841145 | W48: =U48 -> 2.5816741 | X48: =ABS((W48*1000)/((2*PI()*K48)/60)) -> 4.2875081 | Y48: =MIN(22,ROUNDUP(X48,0)) -> 5 | Z48: =T48*D48 -> 130938.22 | AA48: =SUM(AA47,Z48) -> 394229.12 | AB48: ='BSFC '!$X$14 -> 306.7448 | AC48: =U48*AB48/3600 -> 0.21997642 | AD48: =AD47+AC48 -> 12.739842 | AE48: =AC48*3.09 -> 0.67972713 | AF48: =0.5*'Vehicle '!$F$40*'Duty Cycle '!L48^2/1000 -> 26.46549 | AG48: =Z48+AF48 -> 130964.68
B49: =B48+1 -> 46 | C49: T3 | D49: =SUM($L$3:L49) -> 466.95691 | E49: =D49-D48 -> 9.0288464 | F49: Gravel | G49: 5 | H49: =G49-G48 -> 0 | I49: =DEGREES(ATAN(H49/E49)) -> 0 | J49: 2 | K49: 5750 | L49: 9.0288464 | M49: =L49*2.237 -> 20.197529 | N49: =L49-L48 -> 0 | O49: =IF(J49=1,'[1]Gearing '!$C$17*'Duty Cycle '!N49,IF(J49=2,'[1]Gearing '!$C$18*'Duty Cycle '!N49,IF(J49=3,'[1]Gearing '!$C$19*'Duty Cycle '!N49))) -> 0 | P49: =IF(F49='Track '!$B$60,'Track '!$F$53,IF(F49='Track '!$B$61,'Track '!$F$54,IF(F49='Track '!$B$62,'Track '!$F$55))) -> 0.04 | Q49: =P49*'Vehicle '!$F$40*9.81 -> 254.78532 | R49: =0.5*'Vehicle '!$F$53*'Vehicle '!$F$25*'Track '!$F$57*'Duty Cycle '!L49^2 -> 31.150888 | S49: ='Vehicle '!$F$40*9.81*SIN(RADIANS('Duty Cycle '!I49)) -> 0 | T49: =Q49+R49+S49 -> 285.93621 | U49: =ABS(((+T49)*(+L49)/1000)) -> 2.5816741 | V49: ='Vehicle '!$F$9-'Duty Cycle '!U49 -> 10.841145 | W49: =U49 -> 2.5816741 | X49: =ABS((W49*1000)/((2*PI()*K49)/60)) -> 4.2875081 | Y49: =MIN(22,ROUNDUP(X49,0)) -> 5 | Z49: =T49*D49 -> 133519.89 | AA49: =SUM(AA48,Z49) -> 527749 | AB49: ='BSFC '!$X$14 -> 306.7448 | AC49: =U49*AB49/3600 -> 0.21997642 | AD49: =AD48+AC49 -> 12.959819 | AE49: =AC49*3.09 -> 0.67972713 | AF49: =0.5*'Vehicle '!$F$40*'Duty Cycle '!L49^2/1000 -> 26.46549 | AG49: =Z49+AF49 -> 133546.35
A50: Maximum Power Required (KW) | B50: =B49+1 -> 47 | C50: T3 | D50: =SUM($L$3:L50) -> 475.98576 | E50: =D50-D49 -> 9.0288464 | F50: Gravel | G50: 5 | H50: =G50-G49 -> 0 | I50: =DEGREES(ATAN(H50/E50)) -> 0 | J50: 2 | K50: 5750 | L50: 9.0288464 | M50: =L50*2.237 -> 20.197529 | N50: =L50-L49 -> 0 | O50: =IF(J50=1,'[1]Gearing '!$C$17*'Duty Cycle '!N50,IF(J50=2,'[1]Gearing '!$C$18*'Duty Cycle '!N50,IF(J50=3,'[1]Gearing '!$C$19*'Duty Cycle '!N50))) -> 0 | P50: =IF(F50='Track '!$B$60,'Track '!$F$53,IF(F50='Track '!$B$61,'Track '!$F$54,IF(F50='Track '!$B$62,'Track '!$F$55))) -> 0.04 | Q50: =P50*'Vehicle '!$F$40*9.81 -> 254.78532 | R50: =0.5*'Vehicle '!$F$53*'Vehicle '!$F$25*'Track '!$F$57*'Duty Cycle '!L50^2 -> 31.150888 | S50: ='Vehicle '!$F$40*9.81*SIN(RADIANS('Duty Cycle '!I50)) -> 0 | T50: =Q50+R50+S50 -> 285.93621 | U50: =ABS(((+T50)*(+L50)/1000)) -> 2.5816741 | V50: ='Vehicle '!$F$9-'Duty Cycle '!U50 -> 10.841145 | W50: =U50 -> 2.5816741 | X50: =ABS((W50*1000)/((2*PI()*K50)/60)) -> 4.2875081 | Y50: =MIN(22,ROUNDUP(X50,0)) -> 5 | Z50: =T50*D50 -> 136101.56 | AA50: =SUM(AA49,Z50) -> 663850.57 | AB50: ='BSFC '!$X$14 -> 306.7448 | AC50: =U50*AB50/3600 -> 0.21997642 | AD50: =AD49+AC50 -> 13.179795 | AE50: =AC50*3.09 -> 0.67972713 | AF50: =0.5*'Vehicle '!$F$40*'Duty Cycle '!L50^2/1000 -> 26.46549 | AG50: =Z50+AF50 -> 136128.03
B51: =B50+1 -> 48 | C51: T3 | D51: =SUM($L$3:L51) -> 485.01461 | E51: =D51-D50 -> 9.0288464 | F51: Gravel | G51: 5 | H51: =G51-G50 -> 0 | I51: =DEGREES(ATAN(H51/E51)) -> 0 | J51: 2 | K51: 5750 | L51: 9.0288464 | M51: =L51*2.237 -> 20.197529 | N51: =L51-L50 -> 0 | O51: =IF(J51=1,'[1]Gearing '!$C$17*'Duty Cycle '!N51,IF(J51=2,'[1]Gearing '!$C$18*'Duty Cycle '!N51,IF(J51=3,'[1]Gearing '!$C$19*'Duty Cycle '!N51))) -> 0 | P51: =IF(F51='Track '!$B$60,'Track '!$F$53,IF(F51='Track '!$B$61,'Track '!$F$54,IF(F51='Track '!$B$62,'Track '!$F$55))) -> 0.04 | Q51: =P51*'Vehicle '!$F$40*9.81 -> 254.78532 | R51: =0.5*'Vehicle '!$F$53*'Vehicle '!$F$25*'Track '!$F$57*'Duty Cycle '!L51^2 -> 31.150888 | S51: ='Vehicle '!$F$40*9.81*SIN(RADIANS('Duty Cycle '!I51)) -> 0 | T51: =Q51+R51+S51 -> 285.93621 | U51: =ABS(((+T51)*(+L51)/1000)) -> 2.5816741 | V51: ='Vehicle '!$F$9-'Duty Cycle '!U51 -> 10.841145 | W51: =U51 -> 2.5816741 | X51: =ABS((W51*1000)/((2*PI()*K51)/60)) -> 4.2875081 | Y51: =MIN(22,ROUNDUP(X51,0)) -> 5 | Z51: =T51*D51 -> 138683.24 | AA51: =SUM(AA50,Z51) -> 802533.81 | AB51: ='BSFC '!$X$14 -> 306.7448 | AC51: =U51*AB51/3600 -> 0.21997642 | AD51: =AD50+AC51 -> 13.399772 | AE51: =AC51*3.09 -> 0.67972713 | AF51: =0.5*'Vehicle '!$F$40*'Duty Cycle '!L51^2/1000 -> 26.46549 | AG51: =Z51+AF51 -> 138709.7
A52: =MAX(W:W) -> 11.401133 | B52: =B51+1 -> 49 | C52: T3 | D52: =SUM($L$3:L52) -> 494.04345 | E52: =D52-D51 -> 9.0288464 | F52: Gravel | G52: 4.8 | H52: =G52-G51 -> -0.2 | I52: =DEGREES(ATAN(H52/E52)) -> -1.2689641 | J52: 2 | K52: 5750 | L52: 9.0288464 | M52: =L52*2.237 -> 20.197529 | N52: =L52-L51 -> 0 | O52: =IF(J52=1,'[1]Gearing '!$C$17*'Duty Cycle '!N52,IF(J52=2,'[1]Gearing '!$C$18*'Duty Cycle '!N52,IF(J52=3,'[1]Gearing '!$C$19*'Duty Cycle '!N52))) -> 0 | P52: =IF(F52='Track '!$B$60,'Track '!$F$53,IF(F52='Track '!$B$61,'Track '!$F$54,IF(F52='Track '!$B$62,'Track '!$F$55))) -> 0.04 | Q52: =P52*'Vehicle '!$F$40*9.81 -> 254.78532 | R52: =0.5*'Vehicle '!$F$53*'Vehicle '!$F$25*'Track '!$F$57*'Duty Cycle '!L52^2 -> 31.150888 | S52: ='Vehicle '!$F$40*9.81*SIN(RADIANS('Duty Cycle '!I52)) -> -141.06057 | T52: =Q52+R52+S52 -> 144.87564 | U52: =ABS(((+T52)*(+L52)/1000)) -> 1.3080599 | V52: ='Vehicle '!$F$9-'Duty Cycle '!U52 -> 12.114759 | W52: =U52 -> 1.3080599 | X52: =ABS((W52*1000)/((2*PI()*K52)/60)) -> 2.1723569 | Y52: =MIN(22,ROUNDUP(X52,0)) -> 3 | Z52: =T52*D52 -> 71574.863 | AA52: =SUM(AA51,Z52) -> 874108.67 | AB52: ='BSFC '!$X$14 -> 306.7448 | AC52: =U52*AB52/3600 -> 0.11145572 | AD52: =AD51+AC52 -> 13.511227 | AE52: =AC52*3.09 -> 0.34439816 | AF52: =0.5*'Vehicle '!$F$40*'Duty Cycle '!L52^2/1000 -> 26.46549 | AG52: =Z52+AF52 -> 71601.328
B53: =B52+1 -> 50 | C53: T3 | D53: =SUM($L$3:L53) -> 503.0723 | E53: =D53-D52 -> 9.0288464 | F53: Gravel | G53: 4.4 | H53: =G53-G52 -> -0.4 | I53: =DEGREES(ATAN(H53/E53)) -> -2.5366846 | J53: 2 | K53: 5750 | L53: 9.0288464 | M53: =L53*2.237 -> 20.197529 | N53: =L53-L52 -> 0 | O53: =IF(J53=1,'[1]Gearing '!$C$17*'Duty Cycle '!N53,IF(J53=2,'[1]Gearing '!$C$18*'Duty Cycle '!N53,IF(J53=3,'[1]Gearing '!$C$19*'Duty Cycle '!N53))) -> 0 | P53: =IF(F53='Track '!$B$60,'Track '!$F$53,IF(F53='Track '!$B$61,'Track '!$F$54,IF(F53='Track '!$B$62,'Track '!$F$55))) -> 0.04 | Q53: =P53*'Vehicle '!$F$40*9.81 -> 254.78532 | R53: =0.5*'Vehicle '!$F$53*'Vehicle '!$F$25*'Track '!$F$57*'Duty Cycle '!L53^2 -> 31.150888 | S53: ='Vehicle '!$F$40*9.81*SIN(RADIANS('Duty Cycle '!I53)) -> -281.91382 | T53: =Q53+R53+S53 -> 4.0223924 | U53: =ABS(((+T53)*(+L53)/1000)) -> 0.036317563 | V53: ='Vehicle '!$F$9-'Duty Cycle '!U53 -> 13.386501 | W53: =U53 -> 0.036317563 | X53: =ABS((W53*1000)/((2*PI()*K53)/60)) -> 0.060314292 | Y53: =MIN(22,ROUNDUP(X53,0)) -> 1 | Z53: =T53*D53 -> 2023.5542 | AA53: =SUM(AA52,Z53) -> 876132.22 | AB53: ='BSFC '!$X$14 -> 306.7448 | AC53: =U53*AB53/3600 -> 0.0030945065 | AD53: =AD52+AC53 -> 13.514322 | AE53: =AC53*3.09 -> 0.0095620252 | AF53: =0.5*'Vehicle '!$F$40*'Duty Cycle '!L53^2/1000 -> 26.46549 | AG53: =Z53+AF53 -> 2050.0197
A54: Average Power Required (KW) | B54: =B53+1 -> 51 | C54: T3 | D54: =SUM($L$3:L54) -> 512.4937 | E54: =D54-D53 -> 9.4214049 | F54: Gravel | G54: 3.6 | H54: =G54-G53 -> -0.8 | I54: =DEGREES(ATAN(H54/E54)) -> -4.8535154 | J54: 2 | K54: 6000 | L54: 9.4214049 | M54: =L54*2.237 -> 21.075683 | N54: =L54-L53 -> 0.39255854 | O54: =IF(J54=1,'[1]Gearing '!$C$17*'Duty Cycle '!N54,IF(J54=2,'[1]Gearing '!$C$18*'Duty Cycle '!N54,IF(J54=3,'[1]Gearing '!$C$19*'Duty Cycle '!N54))) -> 237.39324 | P54: =IF(F54='Track '!$B$60,'Track '!$F$53,IF(F54='Track '!$B$61,'Track '!$F$54,IF(F54='Track '!$B$62,'Track '!$F$55))) -> 0.04 | Q54: =P54*'Vehicle '!$F$40*9.81 -> 254.78532 | R54: =0.5*'Vehicle '!$F$53*'Vehicle '!$F$25*'Track '!$F$57*'Duty Cycle '!L54^2 -> 33.918547 | S54: ='Vehicle '!$F$40*9.81*SIN(RADIANS('Duty Cycle '!I54)) -> -538.92542 | T54: =Q54+R54+S54 -> -250.22155 | U54: =ABS(((+T54)*(+L54)/1000)) -> 2.3574385 | V54: ='Vehicle '!$F$9-'Duty Cycle '!U54 -> 11.06538 | W54: =U54 -> 2.3574385 | X54: =ABS((W54*1000)/((2*PI()*K54)/60)) -> 3.75198 | Y54: =MIN(22,ROUNDUP(X54,0)) -> 4 | Z54: =T54*D54 -> -128236.97 | AA54: =SUM(AA53,Z54) -> 747895.25 | AB54: ='BSFC '!$X$14 -> 306.7448 | AC54: =U54*AB54/3600 -> 0.20087 | AD54: =AD53+AC54 -> 13.715192 | AE54: =AC54*3.09 -> 0.62068831 | AF54: =0.5*'Vehicle '!$F$40*'Duty Cycle '!L54^2/1000 -> 28.816866 | AG54: =Z54+AF54 -> -128208.15
B55: =B54+1 -> 52 | C55: T3 | D55: =SUM($L$3:L55) -> 522.70023 | E55: =D55-D54 -> 10.206522 | F55: Gravel | G55: 2.6 | H55: =G55-G54 -> -1 | I55: =DEGREES(ATAN(H55/E55)) -> -5.5957841 | J55: 2 | K55: 6500 | L55: 10.206522 | M55: =L55*2.237 -> 22.83199 | N55: =L55-L54 -> 0.78511708 | O55: =IF(J55=1,'[1]Gearing '!$C$17*'Duty Cycle '!N55,IF(J55=2,'[1]Gearing '!$C$18*'Duty Cycle '!N55,IF(J55=3,'[1]Gearing '!$C$19*'Duty Cycle '!N55))) -> 474.78648 | P55: =IF(F55='Track '!$B$60,'Track '!$F$53,IF(F55='Track '!$B$61,'Track '!$F$54,IF(F55='Track '!$B$62,'Track '!$F$55))) -> 0.04 | Q55: =P55*'Vehicle '!$F$40*9.81 -> 254.78532 | R55: =0.5*'Vehicle '!$F$53*'Vehicle '!$F$25*'Track '!$F$57*'Duty Cycle '!L55^2 -> 39.807184 | S55: ='Vehicle '!$F$40*9.81*SIN(RADIANS('Duty Cycle '!I55)) -> -621.1008 | T55: =Q55+R55+S55 -> -326.5083 | U55: =ABS(((+T55)*(+L55)/1000)) -> 3.3325141 | V55: ='Vehicle '!$F$9-'Duty Cycle '!U55 -> 10.090305 | W55: =U55 -> 3.3325141 | X55: =ABS((W55*1000)/((2*PI()*K55)/60)) -> 4.8958717 | Y55: =MIN(22,ROUNDUP(X55,0)) -> 5 | Z55: =T55*D55 -> -170665.96 | AA55: =SUM(AA54,Z55) -> 577229.29 | AB55: ='BSFC '!$X$14 -> 306.7448 | AC55: =U55*AB55/3600 -> 0.28395316 | AD55: =AD54+AC55 -> 13.999145 | AE55: =AC55*3.09 -> 0.87741527 | AF55: =0.5*'Vehicle '!$F$40*'Duty Cycle '!L55^2/1000 -> 33.819794 | AG55: =Z55+AF55 -> -170632.14
A56: =AVERAGE(W3:W153) -> 4.3249495 | B56: =B55+1 -> 53 | C56: S4 | D56: =SUM($L$3:L56) -> 533.45292 | E56: =D56-D55 -> 10.75269 | F56: Gravel | G56: 1.6 | H56: =G56-G55 -> -1 | I56: =DEGREES(ATAN(H56/E56)) -> -5.3132236 | J56: 3 | K56: 5250 | L56: 10.75269 | M56: =L56*2.237 -> 24.053768 | N56: =L56-L55 -> 0.5461684 | O56: =IF(J56=1,'[1]Gearing '!$C$17*'Duty Cycle '!N56,IF(J56=2,'[1]Gearing '!$C$18*'Duty Cycle '!N56,IF(J56=3,'[1]Gearing '!$C$19*'Duty Cycle '!N56))) -> 328.89371 | P56: =IF(F56='Track '!$B$60,'Track '!$F$53,IF(F56='Track '!$B$61,'Track '!$F$54,IF(F56='Track '!$B$62,'Track '!$F$55))) -> 0.04 | Q56: =P56*'Vehicle '!$F$40*9.81 -> 254.78532 | R56: =0.5*'Vehicle '!$F$53*'Vehicle '!$F$25*'Track '!$F$57*'Duty Cycle '!L56^2 -> 44.181472 | S56: ='Vehicle '!$F$40*9.81*SIN(RADIANS('Duty Cycle '!I56)) -> -589.83052 | T56: =Q56+R56+S56 -> -290.86373 | U56: =ABS(((+T56)*(+L56)/1000)) -> 3.1275676 | V56: ='Vehicle '!$F$9-'Duty Cycle '!U56 -> 10.295251 | W56: =U56 -> 3.1275676 | X56: =ABS((W56*1000)/((2*PI()*K56)/60)) -> 5.6887753 | Y56: =MIN(22,ROUNDUP(X56,0)) -> 6 | Z56: =T56*D56 -> -155162.1 | AA56: =SUM(AA55,Z56) -> 422067.19 | AB56: ='BSFC '!$X$14 -> 306.7448 | AC56: =U56*AB56/3600 -> 0.2664903 | AD56: =AD55+AC56 -> 14.265635 | AE56: =AC56*3.09 -> 0.82345504 | AF56: =0.5*'Vehicle '!$F$40*'Duty Cycle '!L56^2/1000 -> 37.536147 | AG56: =Z56+AF56 -> -155124.57
B57: =B56+1 -> 54 | C57: S4 | D57: =SUM($L$3:L57) -> 545.22967 | E57: =D57-D56 -> 11.776756 | F57: Gravel | G57: 0.8 | H57: =G57-G56 -> -0.8 | I57: =DEGREES(ATAN(H57/E57)) -> -3.8861561 | J57: 3 | K57: 5750 | L57: 11.776756 | M57: =L57*2.237 -> 26.344603 | N57: =L57-L56 -> 1.0240658 | O57: =IF(J57=1,'[1]Gearing '!$C$17*'Duty Cycle '!N57,IF(J57=2,'[1]Gearing '!$C$18*'Duty Cycle '!N57,IF(J57=3,'[1]Gearing '!$C$19*'Duty Cycle '!N57))) -> 616.6757 | P57: =IF(F57='Track '!$B$60,'Track '!$F$53,IF(F57='Track '!$B$61,'Track '!$F$54,IF(F57='Track '!$B$62,'Track '!$F$55))) -> 0.04 | Q57: =P57*'Vehicle '!$F$40*9.81 -> 254.78532 | R57: =0.5*'Vehicle '!$F$53*'Vehicle '!$F$25*'Track '!$F$57*'Duty Cycle '!L57^2 -> 52.99773 | S57: ='Vehicle '!$F$40*9.81*SIN(RADIANS('Duty Cycle '!I57)) -> -431.69695 | T57: =Q57+R57+S57 -> -123.9139 | U57: =ABS(((+T57)*(+L57)/1000)) -> 1.4593038 | V57: ='Vehicle '!$F$9-'Duty Cycle '!U57 -> 11.963515 | W57: =U57 -> 1.4593038 | X57: =ABS((W57*1000)/((2*PI()*K57)/60)) -> 2.4235348 | Y57: =MIN(22,ROUNDUP(X57,0)) -> 3 | Z57: =T57*D57 -> -67561.538 | AA57: =SUM(AA56,Z57) -> 354505.65 | AB57: ='BSFC '!$X$14 -> 306.7448 | AC57: =U57*AB57/3600 -> 0.12434274 | AD57: =AD56+AC57 -> 14.389978 | AE57: =AC57*3.09 -> 0.38421907 | AF57: =0.5*'Vehicle '!$F$40*'Duty Cycle '!L57^2/1000 -> 45.026353 | AG57: =Z57+AF57 -> -67516.511
B58: =B57+1 -> 55 | C58: S4 | D58: =SUM($L$3:L58) -> 558.0305 | E58: =D58-D57 -> 12.800822 | F58: Gravel | G58: 0.3 | H58: =G58-G57 -> -0.5 | I58: =DEGREES(ATAN(H58/E58)) -> -2.2368356 | J58: 3 | K58: 6250 | L58: 12.800822 | M58: =L58*2.237 -> 28.635439 | N58: =L58-L57 -> 1.0240658 | O58: =IF(J58=1,'[1]Gearing '!$C$17*'Duty Cycle '!N58,IF(J58=2,'[1]Gearing '!$C$18*'Duty Cycle '!N58,IF(J58=3,'[1]Gearing '!$C$19*'Duty Cycle '!N58))) -> 616.6757 | P58: =IF(F58='Track '!$B$60,'Track '!$F$53,IF(F58='Track '!$B$61,'Track '!$F$54,IF(F58='Track '!$B$62,'Track '!$F$55))) -> 0.04 | Q58: =P58*'Vehicle '!$F$40*9.81 -> 254.78532 | R58: =0.5*'Vehicle '!$F$53*'Vehicle '!$F$25*'Track '!$F$57*'Duty Cycle '!L58^2 -> 62.615465 | S58: ='Vehicle '!$F$40*9.81*SIN(RADIANS('Duty Cycle '!I58)) -> -248.60824 | T58: =Q58+R58+S58 -> 68.792548 | U58: =ABS(((+T58)*(+L58)/1000)) -> 0.88060115 | V58: ='Vehicle '!$F$9-'Duty Cycle '!U58 -> 12.542218 | W58: =U58 -> 0.88060115 | X58: =ABS((W58*1000)/((2*PI()*K58)/60)) -> 1.3454595 | Y58: =MIN(22,ROUNDUP(X58,0)) -> 2 | Z58: =T58*D58 -> 38388.34 | AA58: =SUM(AA57,Z58) -> 392893.99 | AB58: ='BSFC '!$X$14 -> 306.7448 | AC58: =U58*AB58/3600 -> 0.075033285 | AD58: =AD57+AC58 -> 14.465011 | AE58: =AC58*3.09 -> 0.23185285 | AF58: =0.5*'Vehicle '!$F$40*'Duty Cycle '!L58^2/1000 -> 53.197487 | AG58: =Z58+AF58 -> 38441.537
B59: =B58+1 -> 56 | C59: S4 | D59: =SUM($L$3:L59) -> 571.34335 | E59: =D59-D58 -> 13.312855 | F59: Gravel | G59: 0.1 | H59: =G59-G58 -> -0.2 | I59: =DEGREES(ATAN(H59/E59)) -> -0.86069398 | J59: 3 | K59: 6500 | L59: 13.312855 | M59: =L59*2.237 -> 29.780856 | N59: =L59-L58 -> 0.51203288 | O59: =IF(J59=1,'[1]Gearing '!$C$17*'Duty Cycle '!N59,IF(J59=2,'[1]Gearing '!$C$18*'Duty Cycle '!N59,IF(J59=3,'[1]Gearing '!$C$19*'Duty Cycle '!N59))) -> 308.33785 | P59: =IF(F59='Track '!$B$60,'Track '!$F$53,IF(F59='Track '!$B$61,'Track '!$F$54,IF(F59='Track '!$B$62,'Track '!$F$55))) -> 0.04 | Q59: =P59*'Vehicle '!$F$40*9.81 -> 254.78532 | R59: =0.5*'Vehicle '!$F$53*'Vehicle '!$F$25*'Track '!$F$57*'Duty Cycle '!L59^2 -> 67.724887 | S59: ='Vehicle '!$F$40*9.81*SIN(RADIANS('Duty Cycle '!I59)) -> -95.68067 | T59: =Q59+R59+S59 -> 226.82954 | U59: =ABS(((+T59)*(+L59)/1000)) -> 3.0197487 | V59: ='Vehicle '!$F$9-'Duty Cycle '!U59 -> 10.40307 | W59: =U59 -> 3.0197487 | X59: =ABS((W59*1000)/((2*PI()*K59)/60)) -> 4.4363809 | Y59: =MIN(22,ROUNDUP(X59,0)) -> 5 | Z59: =T59*D59 -> 129597.55 | AA59: =SUM(AA58,Z59) -> 522491.54 | AB59: ='BSFC '!$X$14 -> 306.7448 | AC59: =U59*AB59/3600 -> 0.25730339 | AD59: =AD58+AC59 -> 14.722315 | AE59: =AC59*3.09 -> 0.79506748 | AF59: =0.5*'Vehicle '!$F$40*'Duty Cycle '!L59^2/1000 -> 57.538402 | AG59: =Z59+AF59 -> 129655.09
B60: =B59+1 -> 57 | C60: S4 | D60: =SUM($L$3:L60) -> 584.6562 | E60: =D60-D59 -> 13.312855 | F60: Gravel | G60: 0 | H60: =G60-G59 -> -0.1 | I60: =DEGREES(ATAN(H60/E60)) -> -0.43037127 | J60: 3 | K60: 6500 | L60: 13.312855 | M60: =L60*2.237 -> 29.780856 | N60: =L60-L59 -> 0 | O60: =IF(J60=1,'[1]Gearing '!$C$17*'Duty Cycle '!N60,IF(J60=2,'[1]Gearing '!$C$18*'Duty Cycle '!N60,IF(J60=3,'[1]Gearing '!$C$19*'Duty Cycle '!N60))) -> 0 | P60: =IF(F60='Track '!$B$60,'Track '!$F$53,IF(F60='Track '!$B$61,'Track '!$F$54,IF(F60='Track '!$B$62,'Track '!$F$55))) -> 0.04 | Q60: =P60*'Vehicle '!$F$40*9.81 -> 254.78532 | R60: =0.5*'Vehicle '!$F$53*'Vehicle '!$F$25*'Track '!$F$57*'Duty Cycle '!L60^2 -> 67.724887 | S60: ='Vehicle '!$F$40*9.81*SIN(RADIANS('Duty Cycle '!I60)) -> -47.844384 | T60: =Q60+R60+S60 -> 274.66582 | U60: =ABS(((+T60)*(+L60)/1000)) -> 3.6565862 | V60: ='Vehicle '!$F$9-'Duty Cycle '!U60 -> 9.7662326 | W60: =U60 -> 3.6565862 | X60: =ABS((W60*1000)/((2*PI()*K60)/60)) -> 5.3719733 | Y60: =MIN(22,ROUNDUP(X60,0)) -> 6 | Z60: =T60*D60 -> 160585.08 | AA60: =SUM(AA59,Z60) -> 683076.62 | AB60: ='BSFC '!$X$14 -> 306.7448 | AC60: =U60*AB60/3600 -> 0.31156634 | AD60: =AD59+AC60 -> 15.033881 | AE60: =AC60*3.09 -> 0.96273998 | AF60: =0.5*'Vehicle '!$F$40*'Duty Cycle '!L60^2/1000 -> 57.538402 | AG60: =Z60+AF60 -> 160642.62
B61: =B60+1 -> 58 | C61: S4 | D61: =SUM($L$3:L61) -> 597.96906 | E61: =D61-D60 -> 13.312855 | F61: Gravel | G61: 0 | H61: =G61-G60 -> 0 | I61: =DEGREES(ATAN(H61/E61)) -> 0 | J61: 3 | K61: 6500 | L61: 13.312855 | M61: =L61*2.237 -> 29.780856 | N61: =L61-L60 -> 0 | O61: =IF(J61=1,'[1]Gearing '!$C$17*'Duty Cycle '!N61,IF(J61=2,'[1]Gearing '!$C$18*'Duty Cycle '!N61,IF(J61=3,'[1]Gearing '!$C$19*'Duty Cycle '!N61))) -> 0 | P61: =IF(F61='Track '!$B$60,'Track '!$F$53,IF(F61='Track '!$B$61,'Track '!$F$54,IF(F61='Track '!$B$62,'Track '!$F$55))) -> 0.04 | Q61: =P61*'Vehicle '!$F$40*9.81 -> 254.78532 | R61: =0.5*'Vehicle '!$F$53*'Vehicle '!$F$25*'Track '!$F$57*'Duty Cycle '!L61^2 -> 67.724887 | S61: ='Vehicle '!$F$40*9.81*SIN(RADIANS('Duty Cycle '!I61)) -> 0 | T61: =Q61+R61+S61 -> 322.51021 | U61: =ABS(((+T61)*(+L61)/1000)) -> 4.2935315 | V61: ='Vehicle '!$F$9-'Duty Cycle '!U61 -> 9.1292872 | W61: =U61 -> 4.2935315 | X61: =ABS((W61*1000)/((2*PI()*K61)/60)) -> 6.307724 | Y61: =MIN(22,ROUNDUP(X61,0)) -> 7 | Z61: =T61*D61 -> 192851.13 | AA61: =SUM(AA60,Z61) -> 875927.74 | AB61: ='BSFC '!$X$14 -> 306.7448 | AC61: =U61*AB61/3600 -> 0.36583847 | AD61: =AD60+AC61 -> 15.39972 | AE61: =AC61*3.09 -> 1.1304409 | AF61: =0.5*'Vehicle '!$F$40*'Duty Cycle '!L61^2/1000 -> 57.538402 | AG61: =Z61+AF61 -> 192908.66
B62: =B61+1 -> 59 | C62: S4 | D62: =SUM($L$3:L62) -> 611.28191 | E62: =D62-D61 -> 13.312855 | F62: Gravel | G62: 0 | H62: =G62-G61 -> 0 | I62: =DEGREES(ATAN(H62/E62)) -> 0 | J62: 3 | K62: 6500 | L62: 13.312855 | M62: =L62*2.237 -> 29.780856 | N62: =L62-L61 -> 0 | O62: =IF(J62=1,'[1]Gearing '!$C$17*'Duty Cycle '!N62,IF(J62=2,'[1]Gearing '!$C$18*'Duty Cycle '!N62,IF(J62=3,'[1]Gearing '!$C$19*'Duty Cycle '!N62))) -> 0 | P62: =IF(F62='Track '!$B$60,'Track '!$F$53,IF(F62='Track '!$B$61,'Track '!$F$54,IF(F62='Track '!$B$62,'Track '!$F$55))) -> 0.04 | Q62: =P62*'Vehicle '!$F$40*9.81 -> 254.78532 | R62: =0.5*'Vehicle '!$F$53*'Vehicle '!$F$25*'Track '!$F$57*'Duty Cycle '!L62^2 -> 67.724887 | S62: ='Vehicle '!$F$40*9.81*SIN(RADIANS('Duty Cycle '!I62)) -> 0 | T62: =Q62+R62+S62 -> 322.51021 | U62: =ABS(((+T62)*(+L62)/1000)) -> 4.2935315 | V62: ='Vehicle '!$F$9-'Duty Cycle '!U62 -> 9.1292872 | W62: =U62 -> 4.2935315 | X62: =ABS((W62*1000)/((2*PI()*K62)/60)) -> 6.307724 | Y62: =MIN(22,ROUNDUP(X62,0)) -> 7 | Z62: =T62*D62 -> 197144.66 | AA62: =SUM(AA61,Z62) -> 1073072.4 | AB62: ='BSFC '!$X$14 -> 306.7448 | AC62: =U62*AB62/3600 -> 0.36583847 | AD62: =AD61+AC62 -> 15.765558 | AE62: =AC62*3.09 -> 1.1304409 | AF62: =0.5*'Vehicle '!$F$40*'Duty Cycle '!L62^2/1000 -> 57.538402 | AG62: =Z62+AF62 -> 197202.2
B63: =B62+1 -> 60 | C63: T4 | D63: =SUM($L$3:L63) -> 623.5707 | E63: =D63-D62 -> 12.288789 | F63: Gravel | G63: 0 | H63: =G63-G62 -> 0 | I63: =DEGREES(ATAN(H63/E63)) -> 0 | J63: 3 | K63: 6000 | L63: 12.288789 | M63: =L63*2.237 -> 27.490021 | N63: =L63-L62 -> -1.0240658 | O63: =IF(J63=1,'[1]Gearing '!$C$17*'Duty Cycle '!N63,IF(J63=2,'[1]Gearing '!$C$18*'Duty Cycle '!N63,IF(J63=3,'[1]Gearing '!$C$19*'Duty Cycle '!N63))) -> -616.6757 | P63: =IF(F63='Track '!$B$60,'Track '!$F$53,IF(F63='Track '!$B$61,'Track '!$F$54,IF(F63='Track '!$B$62,'Track '!$F$55))) -> 0.04 | Q63: =P63*'Vehicle '!$F$40*9.81 -> 254.78532 | R63: =0.5*'Vehicle '!$F$53*'Vehicle '!$F$25*'Track '!$F$57*'Duty Cycle '!L63^2 -> 57.706413 | S63: ='Vehicle '!$F$40*9.81*SIN(RADIANS('Duty Cycle '!I63)) -> 0 | T63: =Q63+R63+S63 -> 312.49173 | U63: =ABS(((+T63)*(+L63)/1000)) -> 3.840145 | V63: ='Vehicle '!$F$9-'Duty Cycle '!U63 -> 9.5826738 | W63: =U63 -> 3.840145 | X63: =ABS((W63*1000)/((2*PI()*K63)/60)) -> 6.1117805 | Y63: =MIN(22,ROUNDUP(X63,0)) -> 7 | Z63: =T63*D63 -> 194860.69 | AA63: =SUM(AA62,Z63) -> 1267933.1 | AB63: ='BSFC '!$X$14 -> 306.7448 | AC63: =U63*AB63/3600 -> 0.32720681 | AD63: =AD62+AC63 -> 16.092765 | AE63: =AC63*3.09 -> 1.011069 | AF63: =0.5*'Vehicle '!$F$40*'Duty Cycle '!L63^2/1000 -> 49.026804 | AG63: =Z63+AF63 -> 194909.72
B64: =B63+1 -> 61 | C64: T4 | D64: =SUM($L$3:L64) -> 634.32339 | E64: =D64-D63 -> 10.75269 | F64: Gravel | G64: 0.2 | H64: =G64-G63 -> 0.2 | I64: =DEGREES(ATAN(H64/E64)) -> 1.0655784 | J64: 3 | K64: 5250 | L64: 10.75269 | M64: =L64*2.237 -> 24.053768 | N64: =L64-L63 -> -1.5360986 | O64: =IF(J64=1,'[1]Gearing '!$C$17*'Duty Cycle '!N64,IF(J64=2,'[1]Gearing '!$C$18*'Duty Cycle '!N64,IF(J64=3,'[1]Gearing '!$C$19*'Duty Cycle '!N64))) -> -925.01355 | P64: =IF(F64='Track '!$B$60,'Track '!$F$53,IF(F64='Track '!$B$61,'Track '!$F$54,IF(F64='Track '!$B$62,'Track '!$F$55))) -> 0.04 | Q64: =P64*'Vehicle '!$F$40*9.81 -> 254.78532 | R64: =0.5*'Vehicle '!$F$53*'Vehicle '!$F$25*'Track '!$F$57*'Duty Cycle '!L64^2 -> 44.181472 | S64: ='Vehicle '!$F$40*9.81*SIN(RADIANS('Duty Cycle '!I64)) -> 118.45466 | T64: =Q64+R64+S64 -> 417.42145 | U64: =ABS(((+T64)*(+L64)/1000)) -> 4.4884036 | V64: ='Vehicle '!$F$9-'Duty Cycle '!U64 -> 8.9344151 | W64: =U64 -> 4.4884036 | X64: =ABS((W64*1000)/((2*PI()*K64)/60)) -> 8.1640186 | Y64: =MIN(22,ROUNDUP(X64,0)) -> 9 | Z64: =T64*D64 -> 264780.19 | AA64: =SUM(AA63,Z64) -> 1532713.3 | AB64: ='BSFC '!$X$14 -> 306.7448 | AC64: =U64*AB64/3600 -> 0.38244291 | AD64: =AD63+AC64 -> 16.475208 | AE64: =AC64*3.09 -> 1.1817486 | AF64: =0.5*'Vehicle '!$F$40*'Duty Cycle '!L64^2/1000 -> 37.536147 | AG64: =Z64+AF64 -> 264817.73
B65: =B64+1 -> 62 | C65: T4 | D65: =SUM($L$3:L65) -> 644.05202 | E65: =D65-D64 -> 9.7286246 | F65: Gravel | G65: 0.6 | H65: =G65-G64 -> 0.4 | I65: =DEGREES(ATAN(H65/E65)) -> 2.3544346 | J65: 3 | K65: 4750 | L65: 9.7286246 | M65: =L65*2.237 -> 21.762933 | N65: =L65-L64 -> -1.0240658 | O65: =IF(J65=1,'[1]Gearing '!$C$17*'Duty Cycle '!N65,IF(J65=2,'[1]Gearing '!$C$18*'Duty Cycle '!N65,IF(J65=3,'[1]Gearing '!$C$19*'Duty Cycle '!N65))) -> -616.6757 | P65: =IF(F65='Track '!$B$60,'Track '!$F$53,IF(F65='Track '!$B$61,'Track '!$F$54,IF(F65='Track '!$B$62,'Track '!$F$55))) -> 0.04 | Q65: =P65*'Vehicle '!$F$40*9.81 -> 254.78532 | R65: =0.5*'Vehicle '!$F$53*'Vehicle '!$F$25*'Track '!$F$57*'Duty Cycle '!L65^2 -> 36.166693 | S65: ='Vehicle '!$F$40*9.81*SIN(RADIANS('Duty Cycle '!I65)) -> 261.67135 | T65: =Q65+R65+S65 -> 552.62336 | U65: =ABS(((+T65)*(+L65)/1000)) -> 5.3762653 | V65: ='Vehicle '!$F$9-'Duty Cycle '!U65 -> 8.0465535 | W65: =U65 -> 5.3762653 | X65: =ABS((W65*1000)/((2*PI()*K65)/60)) -> 10.808327 | Y65: =MIN(22,ROUNDUP(X65,0)) -> 11 | Z65: =T65*D65 -> 355918.19 | AA65: =SUM(AA64,Z65) -> 1888631.5 | AB65: ='BSFC '!$X$14 -> 306.7448 | AC65: =U65*AB65/3600 -> 0.45809484 | AD65: =AD64+AC65 -> 16.933303 | AE65: =AC65*3.09 -> 1.4155131 | AF65: =0.5*'Vehicle '!$F$40*'Duty Cycle '!L65^2/1000 -> 30.726868 | AG65: =Z65+AF65 -> 355948.92
B66: =B65+1 -> 63 | C66: T4 | D66: =SUM($L$3:L66) -> 653.08086 | E66: =D66-D65 -> 9.0288464 | F66: Gravel | G66: 1 | H66: =G66-G65 -> 0.4 | I66: =DEGREES(ATAN(H66/E66)) -> 2.5366846 | J66: 2 | K66: 5750 | L66: 9.0288464 | M66: =L66*2.237 -> 20.197529 | N66: =L66-L65 -> -0.69977826 | O66: =IF(J66=1,'[1]Gearing '!$C$17*'Duty Cycle '!N66,IF(J66=2,'[1]Gearing '!$C$18*'Duty Cycle '!N66,IF(J66=3,'[1]Gearing '!$C$19*'Duty Cycle '!N66))) -> -423.17925 | P66: =IF(F66='Track '!$B$60,'Track '!$F$53,IF(F66='Track '!$B$61,'Track '!$F$54,IF(F66='Track '!$B$62,'Track '!$F$55))) -> 0.04 | Q66: =P66*'Vehicle '!$F$40*9.81 -> 254.78532 | R66: =0.5*'Vehicle '!$F$53*'Vehicle '!$F$25*'Track '!$F$57*'Duty Cycle '!L66^2 -> 31.150888 | S66: ='Vehicle '!$F$40*9.81*SIN(RADIANS('Duty Cycle '!I66)) -> 281.91382 | T66: =Q66+R66+S66 -> 567.85002 | U66: =ABS(((+T66)*(+L66)/1000)) -> 5.1270306 | V66: ='Vehicle '!$F$9-'Duty Cycle '!U66 -> 8.2957882 | W66: =U66 -> 5.1270306 | X66: =ABS((W66*1000)/((2*PI()*K66)/60)) -> 8.5147019 | Y66: =MIN(22,ROUNDUP(X66,0)) -> 9 | Z66: =T66*D66 -> 370851.98 | AA66: =SUM(AA65,Z66) -> 2259483.5 | AB66: ='BSFC '!$X$14 -> 306.7448 | AC66: =U66*AB66/3600 -> 0.43685833 | AD66: =AD65+AC66 -> 17.370161 | AE66: =AC66*3.09 -> 1.3498922 | AF66: =0.5*'Vehicle '!$F$40*'Duty Cycle '!L66^2/1000 -> 26.46549 | AG66: =Z66+AF66 -> 370878.45
B67: =B66+1 -> 64 | C67: T4 | D67: =SUM($L$3:L67) -> 662.10971 | E67: =D67-D66 -> 9.0288464 | F67: Gravel | G67: 1.5 | H67: =G67-G66 -> 0.5 | I67: =DEGREES(ATAN(H67/E67)) -> 3.1696916 | J67: 2 | K67: 5750 | L67: 9.0288464 | M67: =L67*2.237 -> 20.197529 | N67: =L67-L66 -> 0 | O67: =IF(J67=1,'[1]Gearing '!$C$17*'Duty Cycle '!N67,IF(J67=2,'[1]Gearing '!$C$18*'Duty Cycle '!N67,IF(J67=3,'[1]Gearing '!$C$19*'Duty Cycle '!N67))) -> 0 | P67: =IF(F67='Track '!$B$60,'Track '!$F$53,IF(F67='Track '!$B$61,'Track '!$F$54,IF(F67='Track '!$B$62,'Track '!$F$55))) -> 0.04 | Q67: =P67*'Vehicle '!$F$40*9.81 -> 254.78532 | R67: =0.5*'Vehicle '!$F$53*'Vehicle '!$F$25*'Track '!$F$57*'Duty Cycle '!L67^2 -> 31.150888 | S67: ='Vehicle '!$F$40*9.81*SIN(RADIANS('Duty Cycle '!I67)) -> 352.19829 | T67: =Q67+R67+S67 -> 638.13449 | U67: =ABS(((+T67)*(+L67)/1000)) -> 5.7616183 | V67: ='Vehicle '!$F$9-'Duty Cycle '!U67 -> 7.6612005 | W67: =U67 -> 5.7616183 | X67: =ABS((W67*1000)/((2*PI()*K67)/60)) -> 9.5685917 | Y67: =MIN(22,ROUNDUP(X67,0)) -> 10 | Z67: =T67*D67 -> 422515.05 | AA67: =SUM(AA66,Z67) -> 2681998.5 | AB67: ='BSFC '!$X$14 -> 306.7448 | AC67: =U67*AB67/3600 -> 0.49092957 | AD67: =AD66+AC67 -> 17.86109 | AE67: =AC67*3.09 -> 1.5169724 | AF67: =0.5*'Vehicle '!$F$40*'Duty Cycle '!L67^2/1000 -> 26.46549 | AG67: =Z67+AF67 -> 422541.51
B68: =B67+1 -> 65 | C68: T4 | D68: =SUM($L$3:L68) -> 671.13856 | E68: =D68-D67 -> 9.0288464 | F68: Gravel | G68: 2.1 | H68: =G68-G67 -> 0.6 | I68: =DEGREES(ATAN(H68/E68)) -> 3.801925 | J68: 2 | K68: 5750 | L68: 9.0288464 | M68: =L68*2.237 -> 20.197529 | N68: =L68-L67 -> 0 | O68: =IF(J68=1,'[1]Gearing '!$C$17*'Duty Cycle '!N68,IF(J68=2,'[1]Gearing '!$C$18*'Duty Cycle '!N68,IF(J68=3,'[1]Gearing '!$C$19*'Duty Cycle '!N68))) -> 0 | P68: =IF(F68='Track '!$B$60,'Track '!$F$53,IF(F68='Track '!$B$61,'Track '!$F$54,IF(F68='Track '!$B$62,'Track '!$F$55))) -> 0.04 | Q68: =P68*'Vehicle '!$F$40*9.81 -> 254.78532 | R68: =0.5*'Vehicle '!$F$53*'Vehicle '!$F$25*'Track '!$F$57*'Duty Cycle '!L68^2 -> 31.150888 | S68: ='Vehicle '!$F$40*9.81*SIN(RADIANS('Duty Cycle '!I68)) -> 422.35396 | T68: =Q68+R68+S68 -> 708.29016 | U68: =ABS(((+T68)*(+L68)/1000)) -> 6.3950431 | V68: ='Vehicle '!$F$9-'Duty Cycle '!U68 -> 7.0277757 | W68: =U68 -> 6.3950431 | X68: =ABS((W68*1000)/((2*PI()*K68)/60)) -> 10.62055 | Y68: =MIN(22,ROUNDUP(X68,0)) -> 11 | Z68: =T68*D68 -> 475360.84 | AA68: =SUM(AA67,Z68) -> 3157359.3 | AB68: ='BSFC '!$X$14 -> 306.7448 | AC68: =U68*AB68/3600 -> 0.54490173 | AD68: =AD67+AC68 -> 18.405992 | AE68: =AC68*3.09 -> 1.6837463 | AF68: =0.5*'Vehicle '!$F$40*'Duty Cycle '!L68^2/1000 -> 26.46549 | AG68: =Z68+AF68 -> 475387.3
... B147: =B146+1 -> 144 | C147: T10 | D147: =SUM($L$3:L147) -> 1516.3683 | E147: =D147-D146 -> 9.7286246 | F147: Mud | G147: 14.5 | H147: =G147-G146 -> -1 | I147: =DEGREES(ATAN(H147/E147)) -> -5.8687905 | J147: 3 | K147: 4750 | L147: 9.7286246 | M147: =L147*2.237 -> 21.762933 | N147: =L147-L146 -> 0 | O147: =IF(J147=1,'[1]Gearing '!$C$17*'Duty Cycle '!N147,IF(J147=2,'[1]Gearing '!$C$18*'Duty Cycle '!N147,IF(J147=3,'[1]Gearing '!$C$19*'Duty Cycle '!N147))) -> 0 | P147: =IF(F147='Track '!$B$60,'Track '!$F$53,IF(F147='Track '!$B$61,'Track '!$F$54,IF(F147='Track '!$B$62,'Track '!$F$55))) -> 0.06 | Q147: =P147*'Vehicle '!$F$40*9.81 -> 382.17798 | R147: =0.5*'Vehicle '!$F$53*'Vehicle '!$F$25*'Track '!$F$57*'Duty Cycle '!L147^2 -> 36.166693 | S147: ='Vehicle '!$F$40*9.81*SIN(RADIANS('Duty Cycle '!I147)) -> -651.29942 | T147: =Q147+R147+S147 -> -232.95475 | U147: =ABS(((+T147)*(+L147)/1000)) -> 2.2663293 | V147: ='Vehicle '!$F$9-'Duty Cycle '!U147 -> 11.156489 | W147: =U147 -> 2.2663293 | X147: =ABS((W147*1000)/((2*PI()*K147)/60)) -> 4.5561791 | Y147: =MIN(22,ROUNDUP(X147,0)) -> 5 | Z147: =T147*D147 -> -353245.19 | AA147: =SUM(AA146,Z147) -> 37911790 | AB147: ='BSFC '!$X$14 -> 306.7448 | AC147: =U147*AB147/3600 -> 0.19310687 | AD147: =AD146+AC147 -> 52.976863 | AE147: =AC147*3.09 -> 0.59670023 | AF147: =0.5*'Vehicle '!$F$40*'Duty Cycle '!L147^2/1000 -> 30.726868 | AG147: =Z147+AF147 -> -353214.47
B148: =B147+1 -> 145 | C148: T10 | D148: =SUM($L$3:L148) -> 1526.609 | E148: =D148-D147 -> 10.240658 | F148: Mud | G148: 13.5 | H148: =G148-G147 -> -1 | I148: 0 | J148: 3 | K148: 5000 | L148: 10.240658 | M148: =L148*2.237 -> 22.908351 | N148: =L148-L147 -> 0.51203288 | O148: =IF(J148=1,'[1]Gearing '!$C$17*'Duty Cycle '!N148,IF(J148=2,'[1]Gearing '!$C$18*'Duty Cycle '!N148,IF(J148=3,'[1]Gearing '!$C$19*'Duty Cycle '!N148))) -> 308.33785 | P148: =IF(F148='Track '!$B$60,'Track '!$F$53,IF(F148='Track '!$B$61,'Track '!$F$54,IF(F148='Track '!$B$62,'Track '!$F$55))) -> 0.06 | Q148: =P148*'Vehicle '!$F$40*9.81 -> 382.17798 | R148: =0.5*'Vehicle '!$F$53*'Vehicle '!$F$25*'Track '!$F$57*'Duty Cycle '!L148^2 -> 40.073898 | S148: ='Vehicle '!$F$40*9.81*SIN(RADIANS('Duty Cycle '!I148)) -> 0 | T148: =Q148+R148+S148 -> 422.25188 | U148: =ABS(((+T148)*(+L148)/1000)) -> 4.3241369 | V148: ='Vehicle '!$F$9-'Duty Cycle '!U148 -> 9.0986819 | W148: =U148 -> 4.3241369 | X148: =ABS((W148*1000)/((2*PI()*K148)/60)) -> 8.2584931 | Y148: =MIN(22,ROUNDUP(X148,0)) -> 9 | Z148: =T148*D148 -> 644613.5 | AA148: =SUM(AA147,Z148) -> 38556403 | AB148: ='BSFC '!$X$14 -> 306.7448 | AC148: =U148*AB148/3600 -> 0.36844625 | AD148: =AD147+AC148 -> 53.34531 | AE148: =AC148*3.09 -> 1.1384989 | AF148: =0.5*'Vehicle '!$F$40*'Duty Cycle '!L148^2/1000 -> 34.046392 | AG148: =Z148+AF148 -> 644647.54
B149: =B148+1 -> 146 | C149: T10 | D149: =SUM($L$3:L149) -> 1537.8737 | E149: =D149-D148 -> 11.264723 | F149: Mud | G149: 12.5 | H149: =G149-G148 -> -1 | I149: 0 | J149: 3 | K149: 5500 | L149: 11.264723 | M149: =L149*2.237 -> 25.199186 | N149: =L149-L148 -> 1.0240658 | O149: =IF(J149=1,'[1]Gearing '!$C$17*'Duty Cycle '!N149,IF(J149=2,'[1]Gearing '!$C$18*'Duty Cycle '!N149,IF(J149=3,'[1]Gearing '!$C$19*'Duty Cycle '!N149))) -> 616.6757 | P149: =IF(F149='Track '!$B$60,'Track '!$F$53,IF(F149='Track '!$B$61,'Track '!$F$54,IF(F149='Track '!$B$62,'Track '!$F$55))) -> 0.06 | Q149: =P149*'Vehicle '!$F$40*9.81 -> 382.17798 | R149: =0.5*'Vehicle '!$F$53*'Vehicle '!$F$25*'Track '!$F$57*'Duty Cycle '!L149^2 -> 48.489416 | S149: ='Vehicle '!$F$40*9.81*SIN(RADIANS('Duty Cycle '!I149)) -> 0 | T149: =Q149+R149+S149 -> 430.6674 | U149: =ABS(((+T149)*(+L149)/1000)) -> 4.851349 | V149: ='Vehicle '!$F$9-'Duty Cycle '!U149 -> 8.5714698 | W149: =U149 -> 4.851349 | X149: =ABS((W149*1000)/((2*PI()*K149)/60)) -> 8.4230856 | Y149: =MIN(22,ROUNDUP(X149,0)) -> 9 | Z149: =T149*D149 -> 662312.05 | AA149: =SUM(AA148,Z149) -> 39218715 | AB149: ='BSFC '!$X$14 -> 306.7448 | AC149: =U149*AB149/3600 -> 0.41336836 | AD149: =AD148+AC149 -> 53.758678 | AE149: =AC149*3.09 -> 1.2773082 | AF149: =0.5*'Vehicle '!$F$40*'Duty Cycle '!L149^2/1000 -> 41.196134 | AG149: =Z149+AF149 -> 662353.25
B150: =B149+1 -> 147 | C150: T10 | D150: =SUM($L$3:L150) -> 1549.6504 | E150: =D150-D149 -> 11.776756 | F150: Mud | G150: 11.5 | H150: =G150-G149 -> -1 | I150: 0 | J150: 3 | K150: 5750 | L150: 11.776756 | M150: =L150*2.237 -> 26.344603 | N150: =L150-L149 -> 0.51203288 | O150: =IF(J150=1,'[1]Gearing '!$C$17*'Duty Cycle '!N150,IF(J150=2,'[1]Gearing '!$C$18*'Duty Cycle '!N150,IF(J150=3,'[1]Gearing '!$C$19*'Duty Cycle '!N150))) -> 308.33785 | P150: =IF(F150='Track '!$B$60,'Track '!$F$53,IF(F150='Track '!$B$61,'Track '!$F$54,IF(F150='Track '!$B$62,'Track '!$F$55))) -> 0.06 | Q150: =P150*'Vehicle '!$F$40*9.81 -> 382.17798 | R150: =0.5*'Vehicle '!$F$53*'Vehicle '!$F$25*'Track '!$F$57*'Duty Cycle '!L150^2 -> 52.99773 | S150: ='Vehicle '!$F$40*9.81*SIN(RADIANS('Duty Cycle '!I150)) -> 0 | T150: =Q150+R150+S150 -> 435.17571 | U150: =ABS(((+T150)*(+L150)/1000)) -> 5.1249582 | V150: ='Vehicle '!$F$9-'Duty Cycle '!U150 -> 8.2978606 | W150: =U150 -> 5.1249582 | X150: =ABS((W150*1000)/((2*PI()*K150)/60)) -> 8.5112602 | Y150: =MIN(22,ROUNDUP(X150,0)) -> 9 | Z150: =T150*D150 -> 674370.23 | AA150: =SUM(AA149,Z150) -> 39893086 | AB150: ='BSFC '!$X$14 -> 306.7448 | AC150: =U150*AB150/3600 -> 0.43668175 | AD150: =AD149+AC150 -> 54.19536 | AE150: =AC150*3.09 -> 1.3493466 | AF150: =0.5*'Vehicle '!$F$40*'Duty Cycle '!L150^2/1000 -> 45.026353 | AG150: =Z150+AF150 -> 674415.25
B151: =B150+1 -> 148 | C151: T10 | D151: =SUM($L$3:L151) -> 1561.9392 | E151: =D151-D150 -> 12.288789 | F151: Mud | G151: 10.5 | H151: =G151-G150 -> -1 | I151: 0 | J151: 3 | K151: 6000 | L151: 12.288789 | M151: =L151*2.237 -> 27.490021 | N151: =L151-L150 -> 0.51203288 | O151: =IF(J151=1,'[1]Gearing '!$C$17*'Duty Cycle '!N151,IF(J151=2,'[1]Gearing '!$C$18*'Duty Cycle '!N151,IF(J151=3,'[1]Gearing '!$C$19*'Duty Cycle '!N151))) -> 308.33785 | P151: =IF(F151='Track '!$B$60,'Track '!$F$53,IF(F151='Track '!$B$61,'Track '!$F$54,IF(F151='Track '!$B$62,'Track '!$F$55))) -> 0.06 | Q151: =P151*'Vehicle '!$F$40*9.81 -> 382.17798 | R151: =0.5*'Vehicle '!$F$53*'Vehicle '!$F$25*'Track '!$F$57*'Duty Cycle '!L151^2 -> 57.706413 | S151: ='Vehicle '!$F$40*9.81*SIN(RADIANS('Duty Cycle '!I151)) -> 0 | T151: =Q151+R151+S151 -> 439.88439 | U151: =ABS(((+T151)*(+L151)/1000)) -> 5.4056465 | V151: ='Vehicle '!$F$9-'Duty Cycle '!U151 -> 8.0171723 | W151: =U151 -> 5.4056465 | X151: =ABS((W151*1000)/((2*PI()*K151)/60)) -> 8.6033536 | Y151: =MIN(22,ROUNDUP(X151,0)) -> 9 | Z151: =T151*D151 -> 687072.68 | AA151: =SUM(AA150,Z151) -> 40580158 | AB151: ='BSFC '!$X$14 -> 306.7448 | AC151: =U151*AB151/3600 -> 0.46059832 | AD151: =AD150+AC151 -> 54.655958 | AE151: =AC151*3.09 -> 1.4232488 | AF151: =0.5*'Vehicle '!$F$40*'Duty Cycle '!L151^2/1000 -> 49.026804 | AG151: =Z151+AF151 -> 687121.71
B152: =B151+1 -> 149 | C152: T10 | D152: =SUM($L$3:L152) -> 1574.74 | E152: =D152-D151 -> 12.800822 | F152: Mud | G152: 10 | H152: =G152-G151 -> -0.5 | I152: 0 | J152: 3 | K152: 6250 | L152: 12.800822 | M152: =L152*2.237 -> 28.635439 | N152: =L152-L151 -> 0.51203288 | O152: =IF(J152=1,'[1]Gearing '!$C$17*'Duty Cycle '!N152,IF(J152=2,'[1]Gearing '!$C$18*'Duty Cycle '!N152,IF(J152=3,'[1]Gearing '!$C$19*'Duty Cycle '!N152))) -> 308.33785 | P152: =IF(F152='Track '!$B$60,'Track '!$F$53,IF(F152='Track '!$B$61,'Track '!$F$54,IF(F152='Track '!$B$62,'Track '!$F$55))) -> 0.06 | Q152: =P152*'Vehicle '!$F$40*9.81 -> 382.17798 | R152: =0.5*'Vehicle '!$F$53*'Vehicle '!$F$25*'Track '!$F$57*'Duty Cycle '!L152^2 -> 62.615465 | S152: ='Vehicle '!$F$40*9.81*SIN(RADIANS('Duty Cycle '!I152)) -> 0 | T152: =Q152+R152+S152 -> 444.79345 | U152: =ABS(((+T152)*(+L152)/1000)) -> 5.6937217 | V152: ='Vehicle '!$F$9-'Duty Cycle '!U152 -> 7.7290971 | W152: =U152 -> 5.6937217 | X152: =ABS((W152*1000)/((2*PI()*K152)/60)) -> 8.6993659 | Y152: =MIN(22,ROUNDUP(X152,0)) -> 9 | Z152: =T152*D152 -> 700434.05 | AA152: =SUM(AA151,Z152) -> 41280592 | AB152: ='BSFC '!$X$14 -> 306.7448 | AC152: =U152*AB152/3600 -> 0.48514431 | AD152: =AD151+AC152 -> 55.141102 | AE152: =AC152*3.09 -> 1.4990959 | AF152: =0.5*'Vehicle '!$F$40*'Duty Cycle '!L152^2/1000 -> 53.197487 | AG152: =Z152+AF152 -> 700487.25
B153: =B152+1 -> 150 | C153: T10 | D153: =SUM($L$3:L153) -> 1587.5409 | E153: =D153-D152 -> 12.800822 | F153: Mud | G153: 11 | H153: =G153-G152 -> 1 | I153: 0 | J153: 3 | K153: 6250 | L153: 12.800822 | M153: =L153*2.237 -> 28.635439 | N153: =L153-L152 -> 0 | O153: =IF(J153=1,'[1]Gearing '!$C$17*'Duty Cycle '!N153,IF(J153=2,'[1]Gearing '!$C$18*'Duty Cycle '!N153,IF(J153=3,'[1]Gearing '!$C$19*'Duty Cycle '!N153))) -> 0 | P153: =IF(F153='Track '!$B$60,'Track '!$F$53,IF(F153='Track '!$B$61,'Track '!$F$54,IF(F153='Track '!$B$62,'Track '!$F$55))) -> 0.06 | Q153: =P153*'Vehicle '!$F$40*9.81 -> 382.17798 | R153: =0.5*'Vehicle '!$F$53*'Vehicle '!$F$25*'Track '!$F$57*'Duty Cycle '!L153^2 -> 62.615465 | S153: ='Vehicle '!$F$40*9.81*SIN(RADIANS('Duty Cycle '!I153)) -> 0 | T153: =Q153+R153+S153 -> 444.79345 | U153: =ABS(((+T153)*(+L153)/1000)) -> 5.6937217 | V153: ='Vehicle '!$F$9-'Duty Cycle '!U153 -> 7.7290971 | W153: =U153 -> 5.6937217 | X153: =ABS((W153*1000)/((2*PI()*K153)/60)) -> 8.6993659 | Y153: =MIN(22,ROUNDUP(X153,0)) -> 9 | Z153: =T153*D153 -> 706127.77 | AA153: =SUM(AA152,Z153) -> 41986720 | AB153: ='BSFC '!$X$14 -> 306.7448 | AC153: =U153*AB153/3600 -> 0.48514431 | AD153: =AD152+AC153 -> 55.626247 | AE153: =AC153*3.09 -> 1.4990959 | AF153: =0.5*'Vehicle '!$F$40*'Duty Cycle '!L153^2/1000 -> 53.197487 | AG153: =Z153+AF153 -> 706180.97

Sheet Graphs 

Sheet Other 
B2: HPEVS AC-20 Motor
B3: Voltage (V) | F3: 48
B4: Current (Amps) | F4: 350
B5: Peak Power Output (KW) | F5: 17.31
B6: Peak Torque (Nm) | F6: 54.6
B8: Fuel Usage Per Lap (g)
B9: ICE | F9: 104.32
B10: Series Hybrid | F10: 55.62
B12: CO2 Emissions Per Lap (Kg)
B13: ICE | F13: 0.32
B14: Series Hybrid | F14: 0.17
B16: Outline of Costs (£)
B17: Motor & Controller | F17: 3134
B18: Generator | F18: 2300
B19: Energy Storage & Management | F19: 2566
B20: Other | F20: 1600
B21: Total | F21: =SUM(F17:G20) -> 9600
