Workbook

Sheet Balance Sheet
A1: Indian Oil Corporation Limited – Consolidated Balance Sheet
A2: ₹ crore | As at 31 March | FY2021-22 to FY2025-26 (latest restated figures)
A4: Particulars | B4: 31-Mar-2022 | C4: 31-Mar-2023 | D4: 31-Mar-2024 | E4: 31-Mar-2025 | F4: 31-Mar-2026 | G4: Note
A5: ASSETS
A6: Non-current Assets
A7: Property, Plant and Equipment | B7: 157194.98 | C7: 176532.05 | D7: 192159.52 | E7: 197162.03 | F7: 204472.87
A8: Capital Work-in-Progress | B8: 44049.82 | C8: 47550.08 | D8: 57316.86 | E8: 73740.41 | F8: 82896.79
A9: Goodwill on Consolidation | B9: 1.04 | C9: 1.04 | D9: 1.04 | E9: 1.04 | F9: 1.04
A10: Intangible Assets | B10: 3318.33 | C10: 3514.48 | D10: 3837.23 | E10: 3979.1 | F10: 4095.37
A11: Intangible Assets Under Development | B11: 3419.45 | C11: 3583.39 | D11: 3715.56 | E11: 4180.87 | F11: 3152.66
A12: Investments in Joint Ventures & Associates (equity method) | B12: 16335 | C12: 18038.31 | D12: 18097 | E12: 21392.04 | F12: 25009.08
A13: Financial Assets – Investments | B13: 28003.76 | C13: 23715.61 | D13: 37065.04 | E13: 35457.55 | F13: 41151.91
A14: Financial Assets – Loans | B14: 2292.96 | C14: 2270.11 | D14: 2586.98 | E14: 3223.44 | F14: 3357.31
A15: Financial Assets – Other | B15: 2639.28 | C15: 1748.36 | D15: 2360.8 | E15: 2336.86 | F15: 2572.06
A16: Income Tax Assets (Net) | B16: 2819.51 | C16: 1857.22 | D16: 1827.98 | E16: 1589.73 | F16: 1364.02
A17: Other Non-Current Assets | B17: 3690.03 | C17: 4070.95 | D17: 4951.37 | E17: 6160.83 | F17: 4071.08
A18: Total Non-current Assets | B18: =SUM(B7:B17) -> 263764.16 | C18: =SUM(C7:C17) -> 282881.6 | D18: =SUM(D7:D17) -> 323919.38 | E18: =SUM(E7:E17) -> 349223.9 | F18: =SUM(F7:F17) -> 372144.19
A19: Current Assets
A20: Inventories | B20: 111736.51 | C20: 121107.58 | D20: 121375.83 | E20: 113878.49 | F20: 117132.72
A21: Financial Assets – Investments | B21: 8013.2 | C21: 10436.54 | D21: 10379.86 | E21: 10368.91 | F21: 7136.54
A22: Financial Assets – Trade Receivables | B22: 18700.42 | C22: 16398.69 | D22: 13831.45 | E22: 18433.57 | F22: 14634.83
A23: Financial Assets – Cash & Cash Equivalents | B23: 1176.59 | C23: 996.35 | D23: 1246.59 | E23: 636.35 | F23: 1833.08
A24: Financial Assets – Bank Balances (other) | B24: 643.55 | C24: 1100.29 | D24: 1910.46 | E24: 2009.13 | F24: 2581.58
A25: Financial Assets – Loans | B25: 450.92 | C25: 394.73 | D25: 492.94 | E25: 628.76 | F25: 698.58
A26: Financial Assets – Other | B26: 1537.72 | C26: 2361.13 | D26: 2760.99 | E26: 2918.92 | F26: 4658.46
A27: Current Tax Assets | B27: 0 | C27: 11.15 | D27: 0.82 | E27: 725.05 | F27: 4.69
A28: Other Current Assets | B28: 3813.53 | C28: 5046.99 | D28: 5212.25 | E28: 6864.73 | F28: 6494.76
A29: Total Current Assets | B29: =SUM(B20:B28) -> 146072.44 | C29: =SUM(C20:C28) -> 157853.45 | D29: =SUM(D20:D28) -> 157211.19 | E29: =SUM(E20:E28) -> 156463.91 | F29: =SUM(F20:F28) -> 155175.24
A30: Assets Held for Sale | B30: 788.25 | C30: 983.43 | D30: 1231.43 | E30: 1511.85 | F30: 1635.53
A31: TOTAL ASSETS | B31: =B18+B29+B30 -> 410624.85 | C31: =C18+C29+C30 -> 441718.48 | D31: =D18+D29+D30 -> 482362 | E31: =E18+E29+E30 -> 507199.66 | F31: =F18+F29+F30 -> 528954.96
A33: EQUITY AND LIABILITIES
A34: Equity
A35: Equity Share Capital | B35: 9181.04 | C35: 13771.56 | D35: 13771.56 | E35: 13771.56 | F35: 13771.56
A36: Other Equity | B36: 124354.14 | C36: 125948.68 | D36: 169644.71 | E36: 172715.76 | F36: 205745.99
A37: Non-Controlling Interest | B37: 1591.47 | C37: 3494.1 | D37: 4746.71 | E37: 4537.34 | F37: 6029.56
A38: Total Equity | B38: =SUM(B35:B37) -> 135126.65 | C38: =SUM(C35:C37) -> 143214.34 | D38: =SUM(D35:D37) -> 188162.98 | E38: =SUM(E35:E37) -> 191024.66 | F38: =SUM(F35:F37) -> 225547.11
A39: Non-current Liabilities
A40: Financial Liabilities – Borrowings | B40: 55944.54 | C40: 63312.94 | D40: 46792.9 | E40: 51755.75 | F40: 55308.99
A41: Financial Liabilities – Lease Liabilities | B41: 6363.62 | C41: 6476.91 | D41: 6331.99 | E41: 6578.65 | F41: 8343.11
A42: Financial Liabilities – Other | B42: 205.11 | C42: 160.79 | D42: 233.11 | E42: 155.57 | F42: 239.01
...

Sheet Ratios
A1: Key balance sheet ratios (calculated from 'Balance Sheet' sheet)
A3: Metric | B3: 31-Mar-2022 | C3: 31-Mar-2023 | D3: 31-Mar-2024 | E3: 31-Mar-2025 | F3: 31-Mar-2026
A4: Total borrowings (₹ crore) | B4: ='Balance Sheet'!B40+'Balance Sheet'!B48 -> 123550.1 | C4: ='Balance Sheet'!C40+'Balance Sheet'!C48 -> 140114.82 | D4: ='Balance Sheet'!D40+'Balance Sheet'!D48 -> 123453.57 | E4: ='Balance Sheet'!E40+'Balance Sheet'!E48 -> 142559.9 | F4: ='Balance Sheet'!F40+'Balance Sheet'!F48 -> 120089.13
A5: Total borrowings + lease liabilities (₹ crore) | B5: ='Balance Sheet'!B40+'Balance Sheet'!B48+'Balance Sheet'!B41+'Balance Sheet'!B49 -> 132019.59 | C5: ='Balance Sheet'!C40+'Balance Sheet'!C48+'Balance Sheet'!C41+'Balance Sheet'!C49 -> 148977.08 | D5: ='Balance Sheet'!D40+'Balance Sheet'!D48+'Balance Sheet'!D41+'Balance Sheet'!D49 -> 132627.56 | E5: ='Balance Sheet'!E40+'Balance Sheet'!E48+'Balance Sheet'!E41+'Balance Sheet'!E49 -> 152270.56 | F5: ='Balance Sheet'!F40+'Balance Sheet'!F48+'Balance Sheet'!F41+'Balance Sheet'!F49 -> 131822.39
A6: Total equity (₹ crore) | B6: ='Balance Sheet'!B38 -> 135126.65 | C6: ='Balance Sheet'!C38 -> 143214.34 | D6: ='Balance Sheet'!D38 -> 188162.98 | E6: ='Balance Sheet'!E38 -> 191024.66 | F6: ='Balance Sheet'!F38 -> 225547.11
A7: Net worth attributable to parent (₹ crore) | B7: ='Balance Sheet'!B35+'Balance Sheet'!B36 -> 133535.18 | C7: ='Balance Sheet'!C35+'Balance Sheet'!C36 -> 139720.24 | D7: ='Balance Sheet'!D35+'Balance Sheet'!D36 -> 183416.27 | E7: ='Balance Sheet'!E35+'Balance Sheet'!E36 -> 186487.32 | F7: ='Balance Sheet'!F35+'Balance Sheet'!F36 -> 219517.55
A8: Debt-to-equity (borrowings / total equity) | B8: =IFERROR(B4/B6,0) -> 0.91432815 | C8: =IFERROR(C4/C6,0) -> 0.97835747 | D8: =IFERROR(D4/D6,0) -> 0.65609914 | E8: =IFERROR(E4/E6,0) -> 0.74629056 | F8: =IFERROR(F4/F6,0) -> 0.5324348
A9: Current ratio (current assets / current liabilities) | B9: =IFERROR('Balance Sheet'!B29/'Balance Sheet'!B56,0) -> 0.75748171 | C9: =IFERROR('Balance Sheet'!C29/'Balance Sheet'!C56,0) -> 0.76391416 | D9: =IFERROR('Balance Sheet'!D29/'Balance Sheet'!D56,0) -> 0.72653407 | E9: =IFERROR('Balance Sheet'!E29/'Balance Sheet'!E56,0) -> 0.67740362 | F9: =IFERROR('Balance Sheet'!F29/'Balance Sheet'!F56,0) -> 0.73483434
A10: Equity ratio (total equity / total assets) | B10: =IFERROR('Balance Sheet'!B38/'Balance Sheet'!B31,0) -> 0.32907568 | C10: =IFERROR('Balance Sheet'!C38/'Balance Sheet'!C31,0) -> 0.32422085 | D10: =IFERROR('Balance Sheet'!D38/'Balance Sheet'!D31,0) -> 0.39008666 | E10: =IFERROR('Balance Sheet'!E38/'Balance Sheet'!E31,0) -> 0.37662616 | F10: =IFERROR('Balance Sheet'!F38/'Balance Sheet'!F31,0) -> 0.42640135
A11: Inventories as % of total assets | B11: =IFERROR('Balance Sheet'!B20/'Balance Sheet'!B31,0) -> 0.27211337 | C11: =IFERROR('Balance Sheet'!C20/'Balance Sheet'!C31,0) -> 0.27417368 | D11: =IFERROR('Balance Sheet'!D20/'Balance Sheet'!D31,0) -> 0.25162809 | E11: =IFERROR('Balance Sheet'!E20/'Balance Sheet'!E31,0) -> 0.22452399 | F11: =IFERROR('Balance Sheet'!F20/'Balance Sheet'!F31,0) -> 0.22144177
A12: Capital WIP as % of total assets | B12: =IFERROR('Balance Sheet'!B8/'Balance Sheet'!B31,0) -> 0.1072751 | C12: =IFERROR('Balance Sheet'!C8/'Balance Sheet'!C31,0) -> 0.10764793 | D12: =IFERROR('Balance Sheet'!D8/'Balance Sheet'!D31,0) -> 0.1188254 | E12: =IFERROR('Balance Sheet'!E8/'Balance Sheet'!E31,0) -> 0.14538734 | F12: =IFERROR('Balance Sheet'!F8/'Balance Sheet'!F31,0) -> 0.15671805
A13: Total assets growth (YoY) | C13: =IFERROR('Balance Sheet'!C31/'Balance Sheet'!B31-1,0) -> 0.075722719 | D13: =IFERROR('Balance Sheet'!D31/'Balance Sheet'!C31-1,0) -> 0.09201227 | E13: =IFERROR('Balance Sheet'!E31/'Balance Sheet'!D31-1,0) -> 0.051491743 | F13: =IFERROR('Balance Sheet'!F31/'Balance Sheet'!E31-1,0) -> 0.04289297
