Workbook

Sheet My Spreedsheet 
N1: Losses
B2: Phase | C2: Total elapsed time | D2: Phase elapsed time | E2: WLTC class 3, version 5, vehicle speed | F2: WLTC class 3, version 5, vehicle speed | G2: WLTC class 3, version 5, acceleration | H2: WLTC class 3, version 5, acceleration | I2: Distance Travelled in each second | J2: Distance Travelled | K2: Distance Travelled per Phase | L2: Accel. Force | M2: Motion Status | N2: Rolling Resitance | O2: Aero Force | P2: Total Resistive Forces (Tractive Effort) | Q2: Power | R2: Power | S2: Resistive Power | T2: Cumulative Resistive Power Per Phase | U2: Tractive Energy | V2: Tractive Energy | W2: Braking Energy | X2: Braking Energy (Inverted) | Y2: Cumulative Tractive Energy | Z2: Cumulative Braking Energy | AA2: Cumulative Tractive Energy | AB2: Cumulative Braking Energy | AC2: Cumulative Braking Energy (Inverted) | AD2: Energy Losses Due to Friction | AE2: Kinetic Energy | AF2: Kinetic Energy | AG2: Kinetic Energy | AH2: Cumulative Kinetic Energy | AI2: Kinetic Energy Losses | AJ2: Energy Stored | AK2: Energy Stored | AL2: Energy Stored From Decel. | AM2: Energy Stored From Decel. (kJ) | AN2: Recoverable Energy | AO2: 3 SC Recoverable Energy | AQ2: Phase Number | AR2: Phase | AS2: Distance Traveled | AT2: Total Resistive Force | AU2: Total Kinetic Energy Losses | AV2: Max Velocity | AW2: Max Acceleration | AX2: Max Deceleration | AY2: Maximum Power | AZ2: Average Power | BA2: Total Power | BB2: Max Braking Power | BC2: Average Braking Power | BD2: Total Braking Power | BE2: Maximum Kinetic Energy | BF2: Maximum Kinetic Energy | BG2: Maximum Kinetic Energy | BH2: Max Energy Stored | BI2: Maximum Stored Energy | BJ2: Maximum Recoverable Energy
B3: Phase | C3: s | D3: s | E3: km/h | F3: m/s | G3: m/s² | H3: km/h/s | I3: m | J3: m | K3: m | L3: N | M3: N | N3: N | O3: N | P3: N | Q3: W | R3: kW | S3: W | T3: W | U3: kWs | V3: kWh | W3: kWs | X3: kWh | Y3: kWs | Z3: kWs | AA3: kWh | AB3: kWh | AC3: kWh | AD3: kWh | AE3: J | AF3: kJ | AG3: kWh | AH3: kWh | AI3: J | AJ3: J | AK3: kJ | AL3: J | AM3: kJ | AN3: kJ | AO3: kJ | AS3: m | AT3: N | AU3: kJ | AV3: m/s | AW3: m/s^2 | AX3: m/s^2 | AY3: kW | AZ3: kW | BA3: kW | BB3: kW | BC3: kW | BD3: kW | BE3: J | BF3: kJ | BG3: kWh | BH3: J | BI3: kJ | BJ3: kJ
B4: Phase | C4: 0 | D4: 0 | E4: 0 | F4: 0 | G4: 0 | H4: 0 | I4: 0 | J4: 0 | K4: 0 | L4: 0 | M4: 0 | N4: 0 | O4: 0 | P4: 0 | Q4: 0 | R4: 0 | S4: 0 | T4: 0 | U4: 0 | V4: 0 | W4: 0 | X4: 0 | Y4: 0 | Z4: 0 | AA4: 0 | AB4: 0 | AC4: 0 | AD4: 0 | AE4: 0 | AF4: 0 | AG4: 0 | AH4: 0 | AI4: 0 | AJ4: 0 | AK4: 0 | AL4: 0 | AM4: 0 | AN4: 0 | AO4: 0 | AQ4: 1 | AR4: Low | AS4: =SUM(F5:F594) -> 3094.5278 | AT4: =SUM(N5:O594) -> 81234.754 | AU4: =(AS4*AT4)*0.001 -> 251383.2 | AV4: =MAX(F5:F594) -> 15.694444 | AW4: =MAX(G5:G594) -> 1.4722222 | AX4: =MIN(G5:G594)*-1 -> 1.4722222 | AY4: =MAX(R5:R594) -> 19.355246 | AZ4: =AVERAGE(R5:R594) -> 1.0257986 | BA4: =SUMIF(R5:R594,">0") -> 1274.4927 | BB4: =MIN(W5:W594)*-1 -> 14.187734 | BC4: =AVERAGE(W5:W594)*-1 -> 1.1343584 | BD4: =SUM(W5:W594)*-1 -> 669.27147 | BE4: =MAX(AE5:AE594) -> 183505.11 | BF4: =MAX(AF5:AF594) -> 183.50511 | BG4: =MAX(AG5:AG594) -> 0.050973642 | BH4: =MAX(AJ5:AJ594) -> 179506.25 | BI4: =BH4*0.001 -> 179.50625 | BJ4: =BI4*0.75 -> 134.62969
B5: Low | C5: 0 | D5: 0 | E5: 0 | F5: =E5/3.6 -> 0 | G5: =($E6-0)/2/3.6 -> 0 | H5: =($E6-0)/2 -> 0 | I5: =F5 -> 0 | J5: =SUM(I5,J4) -> 0 | K5: =SUM(I5,K4) -> 0 | L5: ='Car Info '!$C$5*'My Spreedsheet '!G5 -> 0 | M5: =IF(F5=0,0,1) -> 0 | N5: =IF(M5=1,'Car Info '!$C$5*9.80665*'Car Info '!$H$5,0) -> 0 | O5: =0.5*'Car Info '!$G$5*'Car Info '!$I$5*'Car Info '!$D$5*('My Spreedsheet '!F5*'My Spreedsheet '!F5) -> 0 | P5: =L5+N5+O5 -> 0 | Q5: =P5*F5 -> 0 | R5: =Q5*0.001 -> 0 | S5: =F5*(N5+O5) -> 0 | T5: =SUM(S5,T4) -> 0 | U5: =IF(R5>0,R5,0) -> 0 | V5: =U5/3600 -> 0 | W5: =IF(R5<0,R5,0) -> 0 | X5: =(W5/3600)*-1 -> 0 | Y5: =IF(R5>0,SUM(Y4,R5),Y4) -> 0 | Z5: =IF(R5<0,SUM(Z4,R5),Z4) -> 0 | AA5: =Y5/(60*60) -> 0 | AB5: =Z5/(60*60) -> 0 | AC5: =AB5*-1 -> 0 | AD5: =AA5-AC5 -> 0 | AE5: =1/2*(('Car Info '!$C$5)*('My Spreedsheet '!F5)^2) -> 0 | AF5: =AE5*0.001 -> 0 | AG5: =AF5/3600 -> 0 | AH5: =SUM(AG5,AH4) -> 0 | AI5: =I5*(N5+O5) -> 0 | AJ5: =AE5-AI5 -> 0 | AK5: =AJ5*0.001 -> 0 | AL5: =IF(G5<0,AJ5,0) -> 0 | AM5: =AL5*0.001 -> 0 | AN5: =(AJ5*0.75)*0.001 -> 0 | AO5: =IF('My Spreedsheet '!AN5< 'Supercapacitor Info'!$F$22,'My Spreedsheet '!AN5,'Supercapacitor Info'!$F$22) -> 0 | AQ5: 2 | AR5: Middle | AS5: =SUM(F595:F1027) -> 4755.8889 | AT5: =SUM(N595:O1027) -> 87766.627 | AU5: =(AS5*AT5)*0.001 -> 417408.32 | AV5: =MAX(F595:F1027) -> 21.277778 | AW5: =MAX(G595:G1027) -> 1.5694444 | AX5: =MIN(G595:G1027)*-1 -> 1.4861111 | AY5: =MAX(R595:R1027) -> 27.192906 | AZ5: =AVERAGE(R595:R1027) -> 2.6845117 | BA5: =SUMIF(R595:R1027,">0") -> 2159.1663 | BB5: =MIN(W595:W1027)*-1 -> 28.871988 | BC5: =AVERAGE(W595:W1027)*-1 -> 2.3020156 | BD5: =SUM(W595:W1027)*-1 -> 996.77275 | BE5: =MAX(AE595:AE1027) -> 337294.15 | BF5: =MAX(AF595:AF1027) -> 337.29415 | BG5: =MAX(AG595:AG1027) -> 0.09369282 | BH5: =MAX(AJ595:AJ1027) -> 330195.33 | BI5: =BH5*0.001 -> 330.19533 | BJ5: =BI5*0.75 -> 247.6465
B6: Low | C6: 1 | D6: 1 | E6: 0 | F6: =E6/3.6 -> 0 | G6: =($E7-$E5)/2/3.6 -> 0 | H6: =($E7-$E5)/2 -> 0 | I6: =F6 -> 0 | J6: =SUM(I6,J5) -> 0 | K6: =SUM(I6,K5) -> 0 | L6: ='Car Info '!$C$5*'My Spreedsheet '!G6 -> 0 | M6: =IF(F6=0,0,1) -> 0 | N6: =IF(M6=1,'Car Info '!$C$5*9.80665*'Car Info '!$H$5,0) -> 0 | O6: =0.5*'Car Info '!$G$5*'Car Info '!$I$5*'Car Info '!$D$5*('My Spreedsheet '!F6*'My Spreedsheet '!F6) -> 0 | P6: =L6+N6+O6 -> 0 | Q6: =P6*F6 -> 0 | R6: =Q6*0.001 -> 0 | S6: =F6*(N6+O6) -> 0 | T6: =SUM(S6,T5) -> 0 | U6: =IF(R6>0,R6,0) -> 0 | V6: =U6/3600 -> 0 | W6: =IF(R6<0,R6,0) -> 0 | X6: =(W6/3600)*-1 -> 0 | Y6: =IF(R6>0,SUM(Y5,R6),Y5) -> 0 | Z6: =IF(R6<0,SUM(Z5,R6),Z5) -> 0 | AA6: =Y6/(60*60) -> 0 | AB6: =Z6/(60*60) -> 0 | AC6: =AB6*-1 -> 0 | AD6: =AA6-AC6 -> 0 | AE6: =1/2*(('Car Info '!$C$5)*('My Spreedsheet '!F6)^2) -> 0 | AF6: =AE6*0.001 -> 0 | AG6: =AF6/3600 -> 0 | AH6: =SUM(AG6,AH5) -> 0 | AI6: =I6*(N6+O6) -> 0 | AJ6: =AE6-AI6 -> 0 | AK6: =AJ6*0.001 -> 0 | AL6: =IF(G6<0,AJ6,0) -> 0 | AM6: =AL6*0.001 -> 0 | AN6: =(AJ6*0.75)*0.001 -> 0 | AO6: =IF('My Spreedsheet '!AN6< 'Supercapacitor Info'!$F$22,'My Spreedsheet '!AN6,'Supercapacitor Info'!$F$22) -> 0 | AQ6: 3 | AR6: High | AS6: =SUM(F1028:F1492) -> 7179.9167 | AT6: =SUM(N1028:O1492) -> 124091.71 | AU6: =(AS6*AT6)*0.001 -> 890968.13 | AV6: =MAX(F1028:F1482) -> 27.055556 | AW6: =MAX(G1028:G1482) -> 1.5833333 | AX6: =MIN(G1028:G1482)*-1 -> 1.4861111 | AY6: =MAX(R1028:R1482) -> 32.374696 | AZ6: =AVERAGE(R1028:R1482) -> 5.0981363 | BA6: =SUMIF(R1028:R1482,">0") -> 3142.7944 | BB6: =MIN(W1028:W1482)*-1 -> 27.521447 | BC6: =AVERAGE(W1028:W1482)*-1 -> 1.8091041 | BD6: =SUM(W1028:W1482)*-1 -> 823.14238 | BE6: =MAX(AE1028:AE1482) -> 545342.3 | BF6: =MAX(AF1028:AF1482) -> 545.3423 | BG6: =MAX(AG1028:AG1482) -> 0.15148397 | BH6: =MAX(AJ1028:AJ1482) -> 533430.54 | BI6: =BH6*0.001 -> 533.43054 | BJ6: =BI6*0.75 -> 400.07291
B7: Low | C7: 2 | D7: 2 | E7: 0 | F7: =E7/3.6 -> 0 | G7: =($E8-$E6)/2/3.6 -> 0 | H7: =($E8-$E6)/2 -> 0 | I7: =F7 -> 0 | J7: =SUM(I7,J6) -> 0 | K7: =SUM(I7,K6) -> 0 | L7: ='Car Info '!$C$5*'My Spreedsheet '!G7 -> 0 | M7: =IF(F7=0,0,1) -> 0 | N7: =IF(M7=1,'Car Info '!$C$5*9.80665*'Car Info '!$H$5,0) -> 0 | O7: =0.5*'Car Info '!$G$5*'Car Info '!$I$5*'Car Info '!$D$5*('My Spreedsheet '!F7*'My Spreedsheet '!F7) -> 0 | P7: =L7+N7+O7 -> 0 | Q7: =P7*F7 -> 0 | R7: =Q7*0.001 -> 0 | S7: =F7*(N7+O7) -> 0 | T7: =SUM(S7,T6) -> 0 | U7: =IF(R7>0,R7,0) -> 0 | V7: =U7/3600 -> 0 | W7: =IF(R7<0,R7,0) -> 0 | X7: =(W7/3600)*-1 -> 0 | Y7: =IF(R7>0,SUM(Y6,R7),Y6) -> 0 | Z7: =IF(R7<0,SUM(Z6,R7),Z6) -> 0 | AA7: =Y7/(60*60) -> 0 | AB7: =Z7/(60*60) -> 0 | AC7: =AB7*-1 -> 0 | AD7: =AA7-AC7 -> 0 | AE7: =1/2*(('Car Info '!$C$5)*('My Spreedsheet '!F7)^2) -> 0 | AF7: =AE7*0.001 -> 0 | AG7: =AF7/3600 -> 0 | AH7: =SUM(AG7,AH6) -> 0 | AI7: =I7*(N7+O7) -> 0 | AJ7: =AE7-AI7 -> 0 | AK7: =AJ7*0.001 -> 0 | AL7: =IF(G7<0,AJ7,0) -> 0 | AM7: =AL7*0.001 -> 0 | AN7: =(AJ7*0.75)*0.001 -> 0 | AO7: =IF('My Spreedsheet '!AN7< 'Supercapacitor Info'!$F$22,'My Spreedsheet '!AN7,'Supercapacitor Info'!$F$22) -> 0 | AQ7: 4 | AR7: Extra High | AS7: =SUM(F1483:F1805) -> 8254.1389 | AT7: =SUM(N1483:O1805) -> 143705.88 | AU7: =(AS7*AT7)*0.001 -> 1186168.3 | AV7: =MAX(F1483:F1805) -> 36.472222 | AW7: =MAX(G1483:G1805) -> 1.0277778 | AX7: =MIN(G1483:G1805)*-1 -> 1.2083333 | AY7: =MAX(R1483:R1805) -> 39.329866 | AZ7: =AVERAGE(R1483:R1805) -> 13.023442 | BA7: =SUMIF(R1483:R1805,">0") -> 4742.3564 | BB7: =MIN(W1483:W1805)*-1 -> 19.636256 | BC7: =AVERAGE(W1483:W1805)*-1 -> 1.6587765 | BD7: =SUM(W1483:W1805)*-1 -> 535.7848 | BE7: =MAX(AE1483:AE1805) -> 991016.13 | BF7: =MAX(AF1483:AF1805) -> 991.01613 | BG7: =MAX(AG1483:AG1805) -> 0.27528226 | BH7: =MAX(AJ1483:AJ1805) -> 966626.42 | BI7: =BH7*0.001 -> 966.62642 | BJ7: =BI7*0.75 -> 724.96981
B8: Low | C8: 3 | D8: 3 | E8: 0 | F8: =E8/3.6 -> 0 | G8: =($E9-$E7)/2/3.6 -> 0 | H8: =($E9-$E7)/2 -> 0 | I8: =F8 -> 0 | J8: =SUM(I8,J7) -> 0 | K8: =SUM(I8,K7) -> 0 | L8: ='Car Info '!$C$5*'My Spreedsheet '!G8 -> 0 | M8: =IF(F8=0,0,1) -> 0 | N8: =IF(M8=1,'Car Info '!$C$5*9.80665*'Car Info '!$H$5,0) -> 0 | O8: =0.5*'Car Info '!$G$5*'Car Info '!$I$5*'Car Info '!$D$5*('My Spreedsheet '!F8*'My Spreedsheet '!F8) -> 0 | P8: =L8+N8+O8 -> 0 | Q8: =P8*F8 -> 0 | R8: =Q8*0.001 -> 0 | S8: =F8*(N8+O8) -> 0 | T8: =SUM(S8,T7) -> 0 | U8: =IF(R8>0,R8,0) -> 0 | V8: =U8/3600 -> 0 | W8: =IF(R8<0,R8,0) -> 0 | X8: =(W8/3600)*-1 -> 0 | Y8: =IF(R8>0,SUM(Y7,R8),Y7) -> 0 | Z8: =IF(R8<0,SUM(Z7,R8),Z7) -> 0 | AA8: =Y8/(60*60) -> 0 | AB8: =Z8/(60*60) -> 0 | AC8: =AB8*-1 -> 0 | AD8: =AA8-AC8 -> 0 | AE8: =1/2*(('Car Info '!$C$5)*('My Spreedsheet '!F8)^2) -> 0 | AF8: =AE8*0.001 -> 0 | AG8: =AF8/3600 -> 0 | AH8: =SUM(AG8,AH7) -> 0 | AI8: =I8*(N8+O8) -> 0 | AJ8: =AE8-AI8 -> 0 | AK8: =AJ8*0.001 -> 0 | AL8: =IF(G8<0,AJ8,0) -> 0 | AM8: =AL8*0.001 -> 0 | AN8: =(AJ8*0.75)*0.001 -> 0 | AO8: =IF('My Spreedsheet '!AN8< 'Supercapacitor Info'!$F$22,'My Spreedsheet '!AN8,'Supercapacitor Info'!$F$22) -> 0 | AR8: All | AS8: =SUM(F5:F1805) -> 23262.389 | AT8: =SUM(N5:O1805) -> 435327.82 | AU8: =(AS8*AT8)*0.001 -> 10126765 | AV8: =MAX(F5:F1805) -> 36.472222 | AW8: =MAX(G5:G1805) -> 1.5833333 | AX8: =MIN(G5:G1805)*-1 -> 1.4861111 | AY8: =MAX(R5:R1805) -> 39.329866 | AZ8: =AVERAGE(R5:R1805) -> 4.6051296 | BA8: =SUMIF(R5:R1805,">0") -> 11318.81 | BB8: =MIN(W5:W1805)*-1 -> 28.871988 | BC8: =AVERAGE(W5:W1805)*-1 -> 1.6796066 | BD8: =SUM(W5:W1805)*-1 -> 3024.9714 | BE8: =MAX(AE5:AE1805) -> 991016.13 | BF8: =MAX(AF5:AF1805) -> 991.01613 | BG8: =MAX(AG5:AG1805) -> 0.27528226 | BH8: =MAX(AJ5:AJ1805) -> 966626.42 | BI8: =BH8*0.001 -> 966.62642 | BJ8: =BI8*0.75 -> 724.96981
B9: Low | C9: 4 | D9: 4 | E9: 0 | F9: =E9/3.6 -> 0 | G9: =($E10-$E8)/2/3.6 -> 0 | H9: =($E10-$E8)/2 -> 0 | I9: =F9 -> 0 | J9: =SUM(I9,J8) -> 0 | K9: =SUM(I9,K8) -> 0 | L9: ='Car Info '!$C$5*'My Spreedsheet '!G9 -> 0 | M9: =IF(F9=0,0,1) -> 0 | N9: =IF(M9=1,'Car Info '!$C$5*9.80665*'Car Info '!$H$5,0) -> 0 | O9: =0.5*'Car Info '!$G$5*'Car Info '!$I$5*'Car Info '!$D$5*('My Spreedsheet '!F9*'My Spreedsheet '!F9) -> 0 | P9: =L9+N9+O9 -> 0 | Q9: =P9*F9 -> 0 | R9: =Q9*0.001 -> 0 | S9: =F9*(N9+O9) -> 0 | T9: =SUM(S9,T8) -> 0 | U9: =IF(R9>0,R9,0) -> 0 | V9: =U9/3600 -> 0 | W9: =IF(R9<0,R9,0) -> 0 | X9: =(W9/3600)*-1 -> 0 | Y9: =IF(R9>0,SUM(Y8,R9),Y8) -> 0 | Z9: =IF(R9<0,SUM(Z8,R9),Z8) -> 0 | AA9: =Y9/(60*60) -> 0 | AB9: =Z9/(60*60) -> 0 | AC9: =AB9*-1 -> 0 | AD9: =AA9-AC9 -> 0 | AE9: =1/2*(('Car Info '!$C$5)*('My Spreedsheet '!F9)^2) -> 0 | AF9: =AE9*0.001 -> 0 | AG9: =AF9/3600 -> 0 | AH9: =SUM(AG9,AH8) -> 0 | AI9: =I9*(N9+O9) -> 0 | AJ9: =AE9-AI9 -> 0 | AK9: =AJ9*0.001 -> 0 | AL9: =IF(G9<0,AJ9,0) -> 0 | AM9: =AL9*0.001 -> 0 | AN9: =(AJ9*0.75)*0.001 -> 0 | AO9: =IF('My Spreedsheet '!AN9< 'Supercapacitor Info'!$F$22,'My Spreedsheet '!AN9,'Supercapacitor Info'!$F$22) -> 0
B10: Low | C10: 5 | D10: 5 | E10: 0 | F10: =E10/3.6 -> 0 | G10: =($E11-$E9)/2/3.6 -> 0 | H10: =($E11-$E9)/2 -> 0 | I10: =F10 -> 0 | J10: =SUM(I10,J9) -> 0 | K10: =SUM(I10,K9) -> 0 | L10: ='Car Info '!$C$5*'My Spreedsheet '!G10 -> 0 | M10: =IF(F10=0,0,1) -> 0 | N10: =IF(M10=1,'Car Info '!$C$5*9.80665*'Car Info '!$H$5,0) -> 0 | O10: =0.5*'Car Info '!$G$5*'Car Info '!$I$5*'Car Info '!$D$5*('My Spreedsheet '!F10*'My Spreedsheet '!F10) -> 0 | P10: =L10+N10+O10 -> 0 | Q10: =P10*F10 -> 0 | R10: =Q10*0.001 -> 0 | S10: =F10*(N10+O10) -> 0 | T10: =SUM(S10,T9) -> 0 | U10: =IF(R10>0,R10,0) -> 0 | V10: =U10/3600 -> 0 | W10: =IF(R10<0,R10,0) -> 0 | X10: =(W10/3600)*-1 -> 0 | Y10: =IF(R10>0,SUM(Y9,R10),Y9) -> 0 | Z10: =IF(R10<0,SUM(Z9,R10),Z9) -> 0 | AA10: =Y10/(60*60) -> 0 | AB10: =Z10/(60*60) -> 0 | AC10: =AB10*-1 -> 0 | AD10: =AA10-AC10 -> 0 | AE10: =1/2*(('Car Info '!$C$5)*('My Spreedsheet '!F10)^2) -> 0 | AF10: =AE10*0.001 -> 0 | AG10: =AF10/3600 -> 0 | AH10: =SUM(AG10,AH9) -> 0 | AI10: =I10*(N10+O10) -> 0 | AJ10: =AE10-AI10 -> 0 | AK10: =AJ10*0.001 -> 0 | AL10: =IF(G10<0,AJ10,0) -> 0 | AM10: =AL10*0.001 -> 0 | AN10: =(AJ10*0.75)*0.001 -> 0 | AO10: =IF('My Spreedsheet '!AN10< 'Supercapacitor Info'!$F$22,'My Spreedsheet '!AN10,'Supercapacitor Info'!$F$22) -> 0
B11: Low | C11: 6 | D11: 6 | E11: 0 | F11: =E11/3.6 -> 0 | G11: =($E12-$E10)/2/3.6 -> 0 | H11: =($E12-$E10)/2 -> 0 | I11: =F11 -> 0 | J11: =SUM(I11,J10) -> 0 | K11: =SUM(I11,K10) -> 0 | L11: ='Car Info '!$C$5*'My Spreedsheet '!G11 -> 0 | M11: =IF(F11=0,0,1) -> 0 | N11: =IF(M11=1,'Car Info '!$C$5*9.80665*'Car Info '!$H$5,0) -> 0 | O11: =0.5*'Car Info '!$G$5*'Car Info '!$I$5*'Car Info '!$D$5*('My Spreedsheet '!F11*'My Spreedsheet '!F11) -> 0 | P11: =L11+N11+O11 -> 0 | Q11: =P11*F11 -> 0 | R11: =Q11*0.001 -> 0 | S11: =F11*(N11+O11) -> 0 | T11: =SUM(S11,T10) -> 0 | U11: =IF(R11>0,R11,0) -> 0 | V11: =U11/3600 -> 0 | W11: =IF(R11<0,R11,0) -> 0 | X11: =(W11/3600)*-1 -> 0 | Y11: =IF(R11>0,SUM(Y10,R11),Y10) -> 0 | Z11: =IF(R11<0,SUM(Z10,R11),Z10) -> 0 | AA11: =Y11/(60*60) -> 0 | AB11: =Z11/(60*60) -> 0 | AC11: =AB11*-1 -> 0 | AD11: =AA11-AC11 -> 0 | AE11: =1/2*(('Car Info '!$C$5)*('My Spreedsheet '!F11)^2) -> 0 | AF11: =AE11*0.001 -> 0 | AG11: =AF11/3600 -> 0 | AH11: =SUM(AG11,AH10) -> 0 | AI11: =I11*(N11+O11) -> 0 | AJ11: =AE11-AI11 -> 0 | AK11: =AJ11*0.001 -> 0 | AL11: =IF(G11<0,AJ11,0) -> 0 | AM11: =AL11*0.001 -> 0 | AN11: =(AJ11*0.75)*0.001 -> 0 | AO11: =IF('My Spreedsheet '!AN11< 'Supercapacitor Info'!$F$22,'My Spreedsheet '!AN11,'Supercapacitor Info'!$F$22) -> 0 | AQ11: Key
B12: Low | C12: 7 | D12: 7 | E12: 0 | F12: =E12/3.6 -> 0 | G12: =($E13-$E11)/2/3.6 -> 0 | H12: =($E13-$E11)/2 -> 0 | I12: =F12 -> 0 | J12: =SUM(I12,J11) -> 0 | K12: =SUM(I12,K11) -> 0 | L12: ='Car Info '!$C$5*'My Spreedsheet '!G12 -> 0 | M12: =IF(F12=0,0,1) -> 0 | N12: =IF(M12=1,'Car Info '!$C$5*9.80665*'Car Info '!$H$5,0) -> 0 | O12: =0.5*'Car Info '!$G$5*'Car Info '!$I$5*'Car Info '!$D$5*('My Spreedsheet '!F12*'My Spreedsheet '!F12) -> 0 | P12: =L12+N12+O12 -> 0 | Q12: =P12*F12 -> 0 | R12: =Q12*0.001 -> 0 | S12: =F12*(N12+O12) -> 0 | T12: =SUM(S12,T11) -> 0 | U12: =IF(R12>0,R12,0) -> 0 | V12: =U12/3600 -> 0 | W12: =IF(R12<0,R12,0) -> 0 | X12: =(W12/3600)*-1 -> 0 | Y12: =IF(R12>0,SUM(Y11,R12),Y11) -> 0 | Z12: =IF(R12<0,SUM(Z11,R12),Z11) -> 0 | AA12: =Y12/(60*60) -> 0 | AB12: =Z12/(60*60) -> 0 | AC12: =AB12*-1 -> 0 | AD12: =AA12-AC12 -> 0 | AE12: =1/2*(('Car Info '!$C$5)*('My Spreedsheet '!F12)^2) -> 0 | AF12: =AE12*0.001 -> 0 | AG12: =AF12/3600 -> 0 | AH12: =SUM(AG12,AH11) -> 0 | AI12: =I12*(N12+O12) -> 0 | AJ12: =AE12-AI12 -> 0 | AK12: =AJ12*0.001 -> 0 | AL12: =IF(G12<0,AJ12,0) -> 0 | AM12: =AL12*0.001 -> 0 | AN12: =(AJ12*0.75)*0.001 -> 0 | AO12: =IF('My Spreedsheet '!AN12< 'Supercapacitor Info'!$F$22,'My Spreedsheet '!AN12,'Supercapacitor Info'!$F$22) -> 0 | AQ12: Low
B13: Low | C13: 8 | D13: 8 | E13: 0 | F13: =E13/3.6 -> 0 | G13: =($E14-$E12)/2/3.6 -> 0 | H13: =($E14-$E12)/2 -> 0 | I13: =F13 -> 0 | J13: =SUM(I13,J12) -> 0 | K13: =SUM(I13,K12) -> 0 | L13: ='Car Info '!$C$5*'My Spreedsheet '!G13 -> 0 | M13: =IF(F13=0,0,1) -> 0 | N13: =IF(M13=1,'Car Info '!$C$5*9.80665*'Car Info '!$H$5,0) -> 0 | O13: =0.5*'Car Info '!$G$5*'Car Info '!$I$5*'Car Info '!$D$5*('My Spreedsheet '!F13*'My Spreedsheet '!F13) -> 0 | P13: =L13+N13+O13 -> 0 | Q13: =P13*F13 -> 0 | R13: =Q13*0.001 -> 0 | S13: =F13*(N13+O13) -> 0 | T13: =SUM(S13,T12) -> 0 | U13: =IF(R13>0,R13,0) -> 0 | V13: =U13/3600 -> 0 | W13: =IF(R13<0,R13,0) -> 0 | X13: =(W13/3600)*-1 -> 0 | Y13: =IF(R13>0,SUM(Y12,R13),Y12) -> 0 | Z13: =IF(R13<0,SUM(Z12,R13),Z12) -> 0 | AA13: =Y13/(60*60) -> 0 | AB13: =Z13/(60*60) -> 0 | AC13: =AB13*-1 -> 0 | AD13: =AA13-AC13 -> 0 | AE13: =1/2*(('Car Info '!$C$5)*('My Spreedsheet '!F13)^2) -> 0 | AF13: =AE13*0.001 -> 0 | AG13: =AF13/3600 -> 0 | AH13: =SUM(AG13,AH12) -> 0 | AI13: =I13*(N13+O13) -> 0 | AJ13: =AE13-AI13 -> 0 | AK13: =AJ13*0.001 -> 0 | AL13: =IF(G13<0,AJ13,0) -> 0 | AM13: =AL13*0.001 -> 0 | AN13: =(AJ13*0.75)*0.001 -> 0 | AO13: =IF('My Spreedsheet '!AN13< 'Supercapacitor Info'!$F$22,'My Spreedsheet '!AN13,'Supercapacitor Info'!$F$22) -> 0 | AQ13: Middle
B14: Low | C14: 9 | D14: 9 | E14: 0 | F14: =E14/3.6 -> 0 | G14: =($E15-$E13)/2/3.6 -> 0 | H14: =($E15-$E13)/2 -> 0 | I14: =F14 -> 0 | J14: =SUM(I14,J13) -> 0 | K14: =SUM(I14,K13) -> 0 | L14: ='Car Info '!$C$5*'My Spreedsheet '!G14 -> 0 | M14: =IF(F14=0,0,1) -> 0 | N14: =IF(M14=1,'Car Info '!$C$5*9.80665*'Car Info '!$H$5,0) -> 0 | O14: =0.5*'Car Info '!$G$5*'Car Info '!$I$5*'Car Info '!$D$5*('My Spreedsheet '!F14*'My Spreedsheet '!F14) -> 0 | P14: =L14+N14+O14 -> 0 | Q14: =P14*F14 -> 0 | R14: =Q14*0.001 -> 0 | S14: =F14*(N14+O14) -> 0 | T14: =SUM(S14,T13) -> 0 | U14: =IF(R14>0,R14,0) -> 0 | V14: =U14/3600 -> 0 | W14: =IF(R14<0,R14,0) -> 0 | X14: =(W14/3600)*-1 -> 0 | Y14: =IF(R14>0,SUM(Y13,R14),Y13) -> 0 | Z14: =IF(R14<0,SUM(Z13,R14),Z13) -> 0 | AA14: =Y14/(60*60) -> 0 | AB14: =Z14/(60*60) -> 0 | AC14: =AB14*-1 -> 0 | AD14: =AA14-AC14 -> 0 | AE14: =1/2*(('Car Info '!$C$5)*('My Spreedsheet '!F14)^2) -> 0 | AF14: =AE14*0.001 -> 0 | AG14: =AF14/3600 -> 0 | AH14: =SUM(AG14,AH13) -> 0 | AI14: =I14*(N14+O14) -> 0 | AJ14: =AE14-AI14 -> 0 | AK14: =AJ14*0.001 -> 0 | AL14: =IF(G14<0,AJ14,0) -> 0 | AM14: =AL14*0.001 -> 0 | AN14: =(AJ14*0.75)*0.001 -> 0 | AO14: =IF('My Spreedsheet '!AN14< 'Supercapacitor Info'!$F$22,'My Spreedsheet '!AN14,'Supercapacitor Info'!$F$22) -> 0 | AQ14: High
B15: Low | C15: 10 | D15: 10 | E15: 0 | F15: =E15/3.6 -> 0 | G15: =($E16-$E14)/2/3.6 -> 0 | H15: =($E16-$E14)/2 -> 0 | I15: =F15 -> 0 | J15: =SUM(I15,J14) -> 0 | K15: =SUM(I15,K14) -> 0 | L15: ='Car Info '!$C$5*'My Spreedsheet '!G15 -> 0 | M15: =IF(F15=0,0,1) -> 0 | N15: =IF(M15=1,'Car Info '!$C$5*9.80665*'Car Info '!$H$5,0) -> 0 | O15: =0.5*'Car Info '!$G$5*'Car Info '!$I$5*'Car Info '!$D$5*('My Spreedsheet '!F15*'My Spreedsheet '!F15) -> 0 | P15: =L15+N15+O15 -> 0 | Q15: =P15*F15 -> 0 | R15: =Q15*0.001 -> 0 | S15: =F15*(N15+O15) -> 0 | T15: =SUM(S15,T14) -> 0 | U15: =IF(R15>0,R15,0) -> 0 | V15: =U15/3600 -> 0 | W15: =IF(R15<0,R15,0) -> 0 | X15: =(W15/3600)*-1 -> 0 | Y15: =IF(R15>0,SUM(Y14,R15),Y14) -> 0 | Z15: =IF(R15<0,SUM(Z14,R15),Z14) -> 0 | AA15: =Y15/(60*60) -> 0 | AB15: =Z15/(60*60) -> 0 | AC15: =AB15*-1 -> 0 | AD15: =AA15-AC15 -> 0 | AE15: =1/2*(('Car Info '!$C$5)*('My Spreedsheet '!F15)^2) -> 0 | AF15: =AE15*0.001 -> 0 | AG15: =AF15/3600 -> 0 | AH15: =SUM(AG15,AH14) -> 0 | AI15: =I15*(N15+O15) -> 0 | AJ15: =AE15-AI15 -> 0 | AK15: =AJ15*0.001 -> 0 | AL15: =IF(G15<0,AJ15,0) -> 0 | AM15: =AL15*0.001 -> 0 | AN15: =(AJ15*0.75)*0.001 -> 0 | AO15: =IF('My Spreedsheet '!AN15< 'Supercapacitor Info'!$F$22,'My Spreedsheet '!AN15,'Supercapacitor Info'!$F$22) -> 0 | AQ15: Extra High
B16: Low | C16: 11 | D16: 11 | E16: 0 | F16: =E16/3.6 -> 0 | G16: =($E17-$E15)/2/3.6 -> 0.027777778 | H16: =($E17-$E15)/2 -> 0.1 | I16: =F16 -> 0 | J16: =SUM(I16,J15) -> 0 | K16: =SUM(I16,K15) -> 0 | L16: ='Car Info '!$C$5*'My Spreedsheet '!G16 -> 41.388889 | M16: =IF(F16=0,0,1) -> 0 | N16: =IF(M16=1,'Car Info '!$C$5*9.80665*'Car Info '!$H$5,0) -> 0 | O16: =0.5*'Car Info '!$G$5*'Car Info '!$I$5*'Car Info '!$D$5*('My Spreedsheet '!F16*'My Spreedsheet '!F16) -> 0 | P16: =L16+N16+O16 -> 41.388889 | Q16: =P16*F16 -> 0 | R16: =Q16*0.001 -> 0 | S16: =F16*(N16+O16) -> 0 | T16: =SUM(S16,T15) -> 0 | U16: =IF(R16>0,R16,0) -> 0 | V16: =U16/3600 -> 0 | W16: =IF(R16<0,R16,0) -> 0 | X16: =(W16/3600)*-1 -> 0 | Y16: =IF(R16>0,SUM(Y15,R16),Y15) -> 0 | Z16: =IF(R16<0,SUM(Z15,R16),Z15) -> 0 | AA16: =Y16/(60*60) -> 0 | AB16: =Z16/(60*60) -> 0 | AC16: =AB16*-1 -> 0 | AD16: =AA16-AC16 -> 0 | AE16: =1/2*(('Car Info '!$C$5)*('My Spreedsheet '!F16)^2) -> 0 | AF16: =AE16*0.001 -> 0 | AG16: =AF16/3600 -> 0 | AH16: =SUM(AG16,AH15) -> 0 | AI16: =I16*(N16+O16) -> 0 | AJ16: =AE16-AI16 -> 0 | AK16: =AJ16*0.001 -> 0 | AL16: =IF(G16<0,AJ16,0) -> 0 | AM16: =AL16*0.001 -> 0 | AN16: =(AJ16*0.75)*0.001 -> 0 | AO16: =IF('My Spreedsheet '!AN16< 'Supercapacitor Info'!$F$22,'My Spreedsheet '!AN16,'Supercapacitor Info'!$F$22) -> 0
B17: Low | C17: 12 | D17: 12 | E17: 0.2 | F17: =E17/3.6 -> 0.055555556 | G17: =($E18-$E16)/2/3.6 -> 0.23611111 | H17: =($E18-$E16)/2 -> 0.85 | I17: =F17 -> 0.055555556 | J17: =SUM(I17,J16) -> 0.055555556 | K17: =SUM(I17,K16) -> 0.055555556 | L17: ='Car Info '!$C$5*'My Spreedsheet '!G17 -> 351.80556 | M17: =IF(F17=0,0,1) -> 1 | N17: =IF(M17=1,'Car Info '!$C$5*9.80665*'Car Info '!$H$5,0) -> 160.73099 | O17: =0.5*'Car Info '!$G$5*'Car Info '!$I$5*'Car Info '!$D$5*('My Spreedsheet '!F17*'My Spreedsheet '!F17) -> 0.0011786504 | P17: =L17+N17+O17 -> 512.53773 | Q17: =P17*F17 -> 28.474318 | R17: =Q17*0.001 -> 0.028474318 | S17: =F17*(N17+O17) -> 8.9295651 | T17: =SUM(S17,T16) -> 8.9295651 | U17: =IF(R17>0,R17,0) -> 0.028474318 | V17: =U17/3600 -> 7.9095328e-06 | W17: =IF(R17<0,R17,0) -> 0 | X17: =(W17/3600)*-1 -> 0 | Y17: =IF(R17>0,SUM(Y16,R17),Y16) -> 0.028474318 | Z17: =IF(R17<0,SUM(Z16,R17),Z16) -> 0 | AA17: =Y17/(60*60) -> 7.9095328e-06 | AB17: =Z17/(60*60) -> 0 | AC17: =AB17*-1 -> 0 | AD17: =AA17-AC17 -> 7.9095328e-06 | AE17: =1/2*(('Car Info '!$C$5)*('My Spreedsheet '!F17)^2) -> 2.2993827 | AF17: =AE17*0.001 -> 0.0022993827 | AG17: =AF17/3600 -> 6.3871742e-07 | AH17: =SUM(AG17,AH16) -> 6.3871742e-07 | AI17: =I17*(N17+O17) -> 8.9295651 | AJ17: =AE17-AI17 -> -6.6301824 | AK17: =AJ17*0.001 -> -0.0066301824 | AL17: =IF(G17<0,AJ17,0) -> 0 | AM17: =AL17*0.001 -> 0 | AN17: =(AJ17*0.75)*0.001 -> -0.0049726368 | AO17: =IF('My Spreedsheet '!AN17< 'Supercapacitor Info'!$F$22,'My Spreedsheet '!AN17,'Supercapacitor Info'!$F$22) -> -0.0049726368
B18: Low | C18: 13 | D18: 13 | E18: 1.7 | F18: =E18/3.6 -> 0.47222222 | G18: =($E19-$E17)/2/3.6 -> 0.72222222 | H18: =($E19-$E17)/2 -> 2.6 | I18: =F18 -> 0.47222222 | J18: =SUM(I18,J17) -> 0.52777778 | K18: =SUM(I18,K17) -> 0.52777778 | L18: ='Car Info '!$C$5*'My Spreedsheet '!G18 -> 1076.1111 | M18: =IF(F18=0,0,1) -> 1 | N18: =IF(M18=1,'Car Info '!$C$5*9.80665*'Car Info '!$H$5,0) -> 160.73099 | O18: =0.5*'Car Info '!$G$5*'Car Info '!$I$5*'Car Info '!$D$5*('My Spreedsheet '!F18*'My Spreedsheet '!F18) -> 0.085157493 | P18: =L18+N18+O18 -> 1236.9273 | Q18: =P18*F18 -> 584.10454 | R18: =Q18*0.001 -> 0.58410454 | S18: =F18*(N18+O18) -> 75.94096 | T18: =SUM(S18,T17) -> 84.870525 | U18: =IF(R18>0,R18,0) -> 0.58410454 | V18: =U18/3600 -> 0.00016225126 | W18: =IF(R18<0,R18,0) -> 0 | X18: =(W18/3600)*-1 -> 0 | Y18: =IF(R18>0,SUM(Y17,R18),Y17) -> 0.61257886 | Z18: =IF(R18<0,SUM(Z17,R18),Z17) -> 0 | AA18: =Y18/(60*60) -> 0.00017016079 | AB18: =Z18/(60*60) -> 0 | AC18: =AB18*-1 -> 0 | AD18: =AA18-AC18 -> 0.00017016079 | AE18: =1/2*(('Car Info '!$C$5)*('My Spreedsheet '!F18)^2) -> 166.1304 | AF18: =AE18*0.001 -> 0.1661304 | AG18: =AF18/3600 -> 4.6147334e-05 | AH18: =SUM(AG18,AH17) -> 4.6786051e-05 | AI18: =I18*(N18+O18) -> 75.94096 | AJ18: =AE18-AI18 -> 90.189441 | AK18: =AJ18*0.001 -> 0.090189441 | AL18: =IF(G18<0,AJ18,0) -> 0 | AM18: =AL18*0.001 -> 0 | AN18: =(AJ18*0.75)*0.001 -> 0.067642081 | AO18: =IF('My Spreedsheet '!AN18< 'Supercapacitor Info'!$F$22,'My Spreedsheet '!AN18,'Supercapacitor Info'!$F$22) -> 0.067642081
B19: Low | C19: 14 | D19: 14 | E19: 5.4 | F19: =E19/3.6 -> 1.5 | G19: =($E20-$E18)/2/3.6 -> 1.1388889 | H19: =($E20-$E18)/2 -> 4.1 | I19: =F19 -> 1.5 | J19: =SUM(I19,J18) -> 2.0277778 | K19: =SUM(I19,K18) -> 2.0277778 | L19: ='Car Info '!$C$5*'My Spreedsheet '!G19 -> 1696.9444 | M19: =IF(F19=0,0,1) -> 1 | N19: =IF(M19=1,'Car Info '!$C$5*9.80665*'Car Info '!$H$5,0) -> 160.73099 | O19: =0.5*'Car Info '!$G$5*'Car Info '!$I$5*'Car Info '!$D$5*('My Spreedsheet '!F19*'My Spreedsheet '!F19) -> 0.85923616 | P19: =L19+N19+O19 -> 1858.5347 | Q19: =P19*F19 -> 2787.802 | R19: =Q19*0.001 -> 2.787802 | S19: =F19*(N19+O19) -> 242.38534 | T19: =SUM(S19,T18) -> 327.25587 | U19: =IF(R19>0,R19,0) -> 2.787802 | V19: =U19/3600 -> 0.00077438945 | W19: =IF(R19<0,R19,0) -> 0 | X19: =(W19/3600)*-1 -> 0 | Y19: =IF(R19>0,SUM(Y18,R19),Y18) -> 3.4003809 | Z19: =IF(R19<0,SUM(Z18,R19),Z18) -> 0 | AA19: =Y19/(60*60) -> 0.00094455024 | AB19: =Z19/(60*60) -> 0 | AC19: =AB19*-1 -> 0 | AD19: =AA19-AC19 -> 0.00094455024 | AE19: =1/2*(('Car Info '!$C$5)*('My Spreedsheet '!F19)^2) -> 1676.25 | AF19: =AE19*0.001 -> 1.67625 | AG19: =AF19/3600 -> 0.000465625 | AH19: =SUM(AG19,AH18) -> 0.00051241105 | AI19: =I19*(N19+O19) -> 242.38534 | AJ19: =AE19-AI19 -> 1433.8647 | AK19: =AJ19*0.001 -> 1.4338647 | AL19: =IF(G19<0,AJ19,0) -> 0 | AM19: =AL19*0.001 -> 0 | AN19: =(AJ19*0.75)*0.001 -> 1.0753985 | AO19: =IF('My Spreedsheet '!AN19< 'Supercapacitor Info'!$F$22,'My Spreedsheet '!AN19,'Supercapacitor Info'!$F$22) -> 1.0753985
B20: Low | C20: 15 | D20: 15 | E20: 9.9 | F20: =E20/3.6 -> 2.75 | G20: =($E21-$E19)/2/3.6 -> 1.0694444 | H20: =($E21-$E19)/2 -> 3.85 | I20: =F20 -> 2.75 | J20: =SUM(I20,J19) -> 4.7777778 | K20: =SUM(I20,K19) -> 4.7777778 | L20: ='Car Info '!$C$5*'My Spreedsheet '!G20 -> 1593.4722 | M20: =IF(F20=0,0,1) -> 1 | N20: =IF(M20=1,'Car Info '!$C$5*9.80665*'Car Info '!$H$5,0) -> 160.73099 | O20: =0.5*'Car Info '!$G$5*'Car Info '!$I$5*'Car Info '!$D$5*('My Spreedsheet '!F20*'My Spreedsheet '!F20) -> 2.8879882 | P20: =L20+N20+O20 -> 1757.0912 | Q20: =P20*F20 -> 4832.0008 | R20: =Q20*0.001 -> 4.8320008 | S20: =F20*(N20+O20) -> 449.9522 | T20: =SUM(S20,T19) -> 777.20807 | U20: =IF(R20>0,R20,0) -> 4.8320008 | V20: =U20/3600 -> 0.0013422224 | W20: =IF(R20<0,R20,0) -> 0 | X20: =(W20/3600)*-1 -> 0 | Y20: =IF(R20>0,SUM(Y19,R20),Y19) -> 8.2323817 | Z20: =IF(R20<0,SUM(Z19,R20),Z19) -> 0 | AA20: =Y20/(60*60) -> 0.0022867727 | AB20: =Z20/(60*60) -> 0 | AC20: =AB20*-1 -> 0 | AD20: =AA20-AC20 -> 0.0022867727 | AE20: =1/2*(('Car Info '!$C$5)*('My Spreedsheet '!F20)^2) -> 5634.0625 | AF20: =AE20*0.001 -> 5.6340625 | AG20: =AF20/3600 -> 0.0015650174 | AH20: =SUM(AG20,AH19) -> 0.0020774284 | AI20: =I20*(N20+O20) -> 449.9522 | AJ20: =AE20-AI20 -> 5184.1103 | AK20: =AJ20*0.001 -> 5.1841103 | AL20: =IF(G20<0,AJ20,0) -> 0 | AM20: =AL20*0.001 -> 0 | AN20: =(AJ20*0.75)*0.001 -> 3.8880827 | AO20: =IF('My Spreedsheet '!AN20< 'Supercapacitor Info'!$F$22,'My Spreedsheet '!AN20,'Supercapacitor Info'!$F$22) -> 3.8880827
B21: Low | C21: 16 | D21: 16 | E21: 13.1 | F21: =E21/3.6 -> 3.6388889 | G21: =($E22-$E20)/2/3.6 -> 0.97222222 | H21: =($E22-$E20)/2 -> 3.5 | I21: =F21 -> 3.6388889 | J21: =SUM(I21,J20) -> 8.4166667 | K21: =SUM(I21,K20) -> 8.4166667 | L21: ='Car Info '!$C$5*'My Spreedsheet '!G21 -> 1448.6111 | M21: =IF(F21=0,0,1) -> 1 | N21: =IF(M21=1,'Car Info '!$C$5*9.80665*'Car Info '!$H$5,0) -> 160.73099 | O21: =0.5*'Car Info '!$G$5*'Car Info '!$I$5*'Car Info '!$D$5*('My Spreedsheet '!F21*'My Spreedsheet '!F21) -> 5.056705 | P21: =L21+N21+O21 -> 1614.3988 | Q21: =P21*F21 -> 5874.6179 | R21: =Q21*0.001 -> 5.8746179 | S21: =F21*(N21+O21) -> 603.28301 | T21: =SUM(S21,T20) -> 1380.4911 | U21: =IF(R21>0,R21,0) -> 5.8746179 | V21: =U21/3600 -> 0.0016318383 | W21: =IF(R21<0,R21,0) -> 0 | X21: =(W21/3600)*-1 -> 0 | Y21: =IF(R21>0,SUM(Y20,R21),Y20) -> 14.107 | Z21: =IF(R21<0,SUM(Z20,R21),Z20) -> 0 | AA21: =Y21/(60*60) -> 0.003918611 | AB21: =Z21/(60*60) -> 0 | AC21: =AB21*-1 -> 0 | AD21: =AA21-AC21 -> 0.003918611 | AE21: =1/2*(('Car Info '!$C$5)*('My Spreedsheet '!F21)^2) -> 9864.9267 | AF21: =AE21*0.001 -> 9.8649267 | AG21: =AF21/3600 -> 0.0027402574 | AH21: =SUM(AG21,AH20) -> 0.0048176858 | AI21: =I21*(N21+O21) -> 603.28301 | AJ21: =AE21-AI21 -> 9261.6437 | AK21: =AJ21*0.001 -> 9.2616437 | AL21: =IF(G21<0,AJ21,0) -> 0 | AM21: =AL21*0.001 -> 0 | AN21: =(AJ21*0.75)*0.001 -> 6.9462328 | AO21: =IF('My Spreedsheet '!AN21< 'Supercapacitor Info'!$F$22,'My Spreedsheet '!AN21,'Supercapacitor Info'!$F$22) -> 6.9462328
B22: Low | C22: 17 | D22: 17 | E22: 16.9 | F22: =E22/3.6 -> 4.6944444 | G22: =($E23-$E21)/2/3.6 -> 1.1944444 | H22: =($E23-$E21)/2 -> 4.3 | I22: =F22 -> 4.6944444 | J22: =SUM(I22,J21) -> 13.111111 | K22: =SUM(I22,K21) -> 13.111111 | L22: ='Car Info '!$C$5*'My Spreedsheet '!G22 -> 1779.7222 | M22: =IF(F22=0,0,1) -> 1 | N22: =IF(M22=1,'Car Info '!$C$5*9.80665*'Car Info '!$H$5,0) -> 160.73099 | O22: =0.5*'Car Info '!$G$5*'Car Info '!$I$5*'Car Info '!$D$5*('My Spreedsheet '!F22*'My Spreedsheet '!F22) -> 8.4158587 | P22: =L22+N22+O22 -> 1948.8691 | Q22: =P22*F22 -> 9148.8576 | R22: =Q22*0.001 -> 9.1488576 | S22: =F22*(N22+O22) -> 794.0505 | T22: =SUM(S22,T21) -> 2174.5416 | U22: =IF(R22>0,R22,0) -> 9.1488576 | V22: =U22/3600 -> 0.0025413493 | W22: =IF(R22<0,R22,0) -> 0 | X22: =(W22/3600)*-1 -> 0 | Y22: =IF(R22>0,SUM(Y21,R22),Y21) -> 23.255857 | Z22: =IF(R22<0,SUM(Z21,R22),Z21) -> 0 | AA22: =Y22/(60*60) -> 0.0064599603 | AB22: =Z22/(60*60) -> 0 | AC22: =AB22*-1 -> 0 | AD22: =AA22-AC22 -> 0.0064599603 | AE22: =1/2*(('Car Info '!$C$5)*('My Spreedsheet '!F22)^2) -> 16418.167 | AF22: =AE22*0.001 -> 16.418167 | AG22: =AF22/3600 -> 0.0045606021 | AH22: =SUM(AG22,AH21) -> 0.0093782879 | AI22: =I22*(N22+O22) -> 794.0505 | AJ22: =AE22-AI22 -> 15624.117 | AK22: =AJ22*0.001 -> 15.624117 | AL22: =IF(G22<0,AJ22,0) -> 0 | AM22: =AL22*0.001 -> 0 | AN22: =(AJ22*0.75)*0.001 -> 11.718088 | AO22: =IF('My Spreedsheet '!AN22< 'Supercapacitor Info'!$F$22,'My Spreedsheet '!AN22,'Supercapacitor Info'!$F$22) -> 11.718088
B23: Low | C23: 18 | D23: 18 | E23: 21.7 | F23: =E23/3.6 -> 6.0277778 | G23: =($E24-$E22)/2/3.6 -> 1.2638889 | H23: =($E24-$E22)/2 -> 4.55 | I23: =F23 -> 6.0277778 | J23: =SUM(I23,J22) -> 19.138889 | K23: =SUM(I23,K22) -> 19.138889 | L23: ='Car Info '!$C$5*'My Spreedsheet '!G23 -> 1883.1944 | M23: =IF(F23=0,0,1) -> 1 | N23: =IF(M23=1,'Car Info '!$C$5*9.80665*'Car Info '!$H$5,0) -> 160.73099 | O23: =0.5*'Car Info '!$G$5*'Car Info '!$I$5*'Car Info '!$D$5*('My Spreedsheet '!F23*'My Spreedsheet '!F23) -> 13.875367 | P23: =L23+N23+O23 -> 2057.8008 | Q23: =P23*F23 -> 12403.966 | R23: =Q23*0.001 -> 12.403966 | S23: =F23*(N23+O23) -> 1052.4883 | T23: =SUM(S23,T22) -> 3227.0299 | U23: =IF(R23>0,R23,0) -> 12.403966 | V23: =U23/3600 -> 0.0034455461 | W23: =IF(R23<0,R23,0) -> 0 | X23: =(W23/3600)*-1 -> 0 | Y23: =IF(R23>0,SUM(Y22,R23),Y22) -> 35.659823 | Z23: =IF(R23<0,SUM(Z22,R23),Z22) -> 0 | AA23: =Y23/(60*60) -> 0.0099055064 | AB23: =Z23/(60*60) -> 0 | AC23: =AB23*-1 -> 0 | AD23: =AA23-AC23 -> 0.0099055064 | AE23: =1/2*(('Car Info '!$C$5)*('My Spreedsheet '!F23)^2) -> 27068.908 | AF23: =AE23*0.001 -> 27.068908 | AG23: =AF23/3600 -> 0.0075191412 | AH23: =SUM(AG23,AH22) -> 0.016897429 | AI23: =I23*(N23+O23) -> 1052.4883 | AJ23: =AE23-AI23 -> 26016.42 | AK23: =AJ23*0.001 -> 26.01642 | AL23: =IF(G23<0,AJ23,0) -> 0 | AM23: =AL23*0.001 -> 0 | AN23: =(AJ23*0.75)*0.001 -> 19.512315 | AO23: =IF('My Spreedsheet '!AN23< 'Supercapacitor Info'!$F$22,'My Spreedsheet '!AN23,'Supercapacitor Info'!$F$22) -> 19.512315
B24: Low | C24: 19 | D24: 19 | E24: 26 | F24: =E24/3.6 -> 7.2222222 | G24: =($E25-$E23)/2/3.6 -> 0.80555556 | H24: =($E25-$E23)/2 -> 2.9 | I24: =F24 -> 7.2222222 | J24: =SUM(I24,J23) -> 26.361111 | K24: =SUM(I24,K23) -> 26.361111 | L24: ='Car Info '!$C$5*'My Spreedsheet '!G24 -> 1200.2778 | M24: =IF(F24=0,0,1) -> 1 | N24: =IF(M24=1,'Car Info '!$C$5*9.80665*'Car Info '!$H$5,0) -> 160.73099 | O24: =0.5*'Car Info '!$G$5*'Car Info '!$I$5*'Car Info '!$D$5*('My Spreedsheet '!F24*'My Spreedsheet '!F24) -> 19.919192 | P24: =L24+N24+O24 -> 1380.928 | Q24: =P24*F24 -> 9973.3686 | R24: =Q24*0.001 -> 9.9733686 | S24: =F24*(N24+O24) -> 1304.6958 | T24: =SUM(S24,T23) -> 4531.7257 | U24: =IF(R24>0,R24,0) -> 9.9733686 | V24: =U24/3600 -> 0.0027703802 | W24: =IF(R24<0,R24,0) -> 0 | X24: =(W24/3600)*-1 -> 0 | Y24: =IF(R24>0,SUM(Y23,R24),Y23) -> 45.633192 | Z24: =IF(R24<0,SUM(Z23,R24),Z23) -> 0 | AA24: =Y24/(60*60) -> 0.012675887 | AB24: =Z24/(60*60) -> 0 | AC24: =AB24*-1 -> 0 | AD24: =AA24-AC24 -> 0.012675887 | AE24: =1/2*(('Car Info '!$C$5)*('My Spreedsheet '!F24)^2) -> 38859.568 | AF24: =AE24*0.001 -> 38.859568 | AG24: =AF24/3600 -> 0.010794324 | AH24: =SUM(AG24,AH23) -> 0.027691753 | AI24: =I24*(N24+O24) -> 1304.6958 | AJ24: =AE24-AI24 -> 37554.872 | AK24: =AJ24*0.001 -> 37.554872 | AL24: =IF(G24<0,AJ24,0) -> 0 | AM24: =AL24*0.001 -> 0 | AN24: =(AJ24*0.75)*0.001 -> 28.166154 | AO24: =IF('My Spreedsheet '!AN24< 'Supercapacitor Info'!$F$22,'My Spreedsheet '!AN24,'Supercapacitor Info'!$F$22) -> 28.166154
B25: Low | C25: 20 | D25: 20 | E25: 27.5 | F25: =E25/3.6 -> 7.6388889 | G25: =($E26-$E24)/2/3.6 -> 0.29166667 | H25: =($E26-$E24)/2 -> 1.05 | I25: =F25 -> 7.6388889 | J25: =SUM(I25,J24) -> 34 | K25: =SUM(I25,K24) -> 34 | L25: ='Car Info '!$C$5*'My Spreedsheet '!G25 -> 434.58333 | M25: =IF(F25=0,0,1) -> 1 | N25: =IF(M25=1,'Car Info '!$C$5*9.80665*'Car Info '!$H$5,0) -> 160.73099 | O25: =0.5*'Car Info '!$G$5*'Car Info '!$I$5*'Car Info '!$D$5*('My Spreedsheet '!F25*'My Spreedsheet '!F25) -> 22.28386 | P25: =L25+N25+O25 -> 617.59819 | Q25: =P25*F25 -> 4717.7639 | R25: =Q25*0.001 -> 4.7177639 | S25: =F25*(N25+O25) -> 1398.0301 | T25: =SUM(S25,T24) -> 5929.7558 | U25: =IF(R25>0,R25,0) -> 4.7177639 | V25: =U25/3600 -> 0.00131049 | W25: =IF(R25<0,R25,0) -> 0 | X25: =(W25/3600)*-1 -> 0 | Y25: =IF(R25>0,SUM(Y24,R25),Y24) -> 50.350956 | Z25: =IF(R25<0,SUM(Z24,R25),Z24) -> 0 | AA25: =Y25/(60*60) -> 0.013986377 | AB25: =Z25/(60*60) -> 0 | AC25: =AB25*-1 -> 0 | AD25: =AA25-AC25 -> 0.013986377 | AE25: =1/2*(('Car Info '!$C$5)*('My Spreedsheet '!F25)^2) -> 43472.704 | AF25: =AE25*0.001 -> 43.472704 | AG25: =AF25/3600 -> 0.012075751 | AH25: =SUM(AG25,AH24) -> 0.039767505 | AI25: =I25*(N25+O25) -> 1398.0301 | AJ25: =AE25-AI25 -> 42074.674 | AK25: =AJ25*0.001 -> 42.074674 | AL25: =IF(G25<0,AJ25,0) -> 0 | AM25: =AL25*0.001 -> 0 | AN25: =(AJ25*0.75)*0.001 -> 31.556006 | AO25: =IF('My Spreedsheet '!AN25< 'Supercapacitor Info'!$F$22,'My Spreedsheet '!AN25,'Supercapacitor Info'!$F$22) -> 31.556006
B26: Low | C26: 21 | D26: 21 | E26: 28.1 | F26: =E26/3.6 -> 7.8055556 | G26: =($E27-$E25)/2/3.6 -> 0.11111111 | H26: =($E27-$E25)/2 -> 0.4 | I26: =F26 -> 7.8055556 | J26: =SUM(I26,J25) -> 41.805556 | K26: =SUM(I26,K25) -> 41.805556 | L26: ='Car Info '!$C$5*'My Spreedsheet '!G26 -> 165.55556 | M26: =IF(F26=0,0,1) -> 1 | N26: =IF(M26=1,'Car Info '!$C$5*9.80665*'Car Info '!$H$5,0) -> 160.73099 | O26: =0.5*'Car Info '!$G$5*'Car Info '!$I$5*'Car Info '!$D$5*('My Spreedsheet '!F26*'My Spreedsheet '!F26) -> 23.266854 | P26: =L26+N26+O26 -> 349.5534 | Q26: =P26*F26 -> 2728.4585 | R26: =Q26*0.001 -> 2.7284585 | S26: =F26*(N26+O26) -> 1436.2054 | T26: =SUM(S26,T25) -> 7365.9613 | U26: =IF(R26>0,R26,0) -> 2.7284585 | V26: =U26/3600 -> 0.00075790514 | W26: =IF(R26<0,R26,0) -> 0 | X26: =(W26/3600)*-1 -> 0 | Y26: =IF(R26>0,SUM(Y25,R26),Y25) -> 53.079414 | Z26: =IF(R26<0,SUM(Z25,R26),Z25) -> 0 | AA26: =Y26/(60*60) -> 0.014744282 | AB26: =Z26/(60*60) -> 0 | AC26: =AB26*-1 -> 0 | AD26: =AA26-AC26 -> 0.014744282 | AE26: =1/2*(('Car Info '!$C$5)*('My Spreedsheet '!F26)^2) -> 45390.39 | AF26: =AE26*0.001 -> 45.39039 | AG26: =AF26/3600 -> 0.012608442 | AH26: =SUM(AG26,AH25) -> 0.052375946 | AI26: =I26*(N26+O26) -> 1436.2054 | AJ26: =AE26-AI26 -> 43954.184 | AK26: =AJ26*0.001 -> 43.954184 | AL26: =IF(G26<0,AJ26,0) -> 0 | AM26: =AL26*0.001 -> 0 | AN26: =(AJ26*0.75)*0.001 -> 32.965638 | AO26: =IF('My Spreedsheet '!AN26< 'Supercapacitor Info'!$F$22,'My Spreedsheet '!AN26,'Supercapacitor Info'!$F$22) -> 32.965638
B27: Low | C27: 22 | D27: 22 | E27: 28.3 | F27: =E27/3.6 -> 7.8611111 | G27: =($E28-$E26)/2/3.6 -> 0.097222222 | H27: =($E28-$E26)/2 -> 0.35 | I27: =F27 -> 7.8611111 | J27: =SUM(I27,J26) -> 49.666667 | K27: =SUM(I27,K26) -> 49.666667 | L27: ='Car Info '!$C$5*'My Spreedsheet '!G27 -> 144.86111 | M27: =IF(F27=0,0,1) -> 1 | N27: =IF(M27=1,'Car Info '!$C$5*9.80665*'Car Info '!$H$5,0) -> 160.73099 | O27: =0.5*'Car Info '!$G$5*'Car Info '!$I$5*'Car Info '!$D$5*('My Spreedsheet '!F27*'My Spreedsheet '!F27) -> 23.599233 | P27: =L27+N27+O27 -> 329.19134 | Q27: =P27*F27 -> 2587.8097 | R27: =Q27*0.001 -> 2.5878097 | S27: =F27*(N27+O27) -> 1449.0404 | T27: =SUM(S27,T26) -> 8815.0017 | U27: =IF(R27>0,R27,0) -> 2.5878097 | V27: =U27/3600 -> 0.00071883602 | W27: =IF(R27<0,R27,0) -> 0 | X27: =(W27/3600)*-1 -> 0 | Y27: =IF(R27>0,SUM(Y26,R27),Y26) -> 55.667224 | Z27: =IF(R27<0,SUM(Z26,R27),Z26) -> 0 | AA27: =Y27/(60*60) -> 0.015463118 | AB27: =Z27/(60*60) -> 0 | AC27: =AB27*-1 -> 0 | AD27: =AA27-AC27 -> 0.015463118 | AE27: =1/2*(('Car Info '!$C$5)*('My Spreedsheet '!F27)^2) -> 46038.816 | AF27: =AE27*0.001 -> 46.038816 | AG27: =AF27/3600 -> 0.01278856 | AH27: =SUM(AG27,AH26) -> 0.065164506 | AI27: =I27*(N27+O27) -> 1449.0404 | AJ27: =AE27-AI27 -> 44589.775 | AK27: =AJ27*0.001 -> 44.589775 | AL27: =IF(G27<0,AJ27,0) -> 0 | AM27: =AL27*0.001 -> 0 | AN27: =(AJ27*0.75)*0.001 -> 33.442331 | AO27: =IF('My Spreedsheet '!AN27< 'Supercapacitor Info'!$F$22,'My Spreedsheet '!AN27,'Supercapacitor Info'!$F$22) -> 33.442331
... B594: Low | C594: 589 | D594: 589 | E594: 0 | F594: =E594/3.6 -> 0 | G594: =($E595-$E593)/2/3.6 -> 0 | H594: =($E595-$E593)/2 -> 0 | I594: =F594 -> 0 | J594: =SUM(I594,J593) -> 3094.5278 | K594: =SUM(I594,K593) -> 3094.5278 | L594: ='Car Info '!$C$5*'My Spreedsheet '!G594 -> 0 | M594: =IF(F594=0,0,1) -> 0 | N594: =IF(M594=1,'Car Info '!$C$5*9.80665*'Car Info '!$H$5,0) -> 0 | O594: =0.5*'Car Info '!$G$5*'Car Info '!$I$5*'Car Info '!$D$5*('My Spreedsheet '!F594*'My Spreedsheet '!F594) -> 0 | P594: =L594+N594+O594 -> 0 | Q594: =P594*F594 -> 0 | R594: =Q594*0.001 -> 0 | S594: =F594*(N594+O594) -> 0 | T594: =SUM(S594,T593) -> 605221.18 | U594: =IF(R594>0,R594,0) -> 0 | V594: =U594/3600 -> 0 | W594: =IF(R594<0,R594,0) -> 0 | X594: =(W594/3600)*-1 -> 0 | Y594: =IF(R594>0,SUM(Y593,R594),Y593) -> 1274.4927 | Z594: =IF(R594<0,SUM(Z593,R594),Z593) -> -669.27147 | AA594: =Y594/(60*60) -> 0.35402574 | AB594: =Z594/(60*60) -> -0.18590874 | AC594: =AB594*-1 -> 0.18590874 | AD594: =AA594-AC594 -> 0.168117 | AE594: =1/2*(('Car Info '!$C$5)*('My Spreedsheet '!F594)^2) -> 0 | AF594: =AE594*0.001 -> 0 | AG594: =AF594/3600 -> 0 | AH594: =SUM(AG594,AH593) -> 5.6971184 | AI594: =I594*(N594+O594) -> 0 | AJ594: =AE594-AI594 -> 0 | AK594: =AJ594*0.001 -> 0 | AL594: =IF(G594<0,AJ594,0) -> 0 | AM594: =AL594*0.001 -> 0 | AN594: =(AJ594*0.75)*0.001 -> 0 | AO594: =IF('My Spreedsheet '!AN594< 'Supercapacitor Info'!$F$22,'My Spreedsheet '!AN594,'Supercapacitor Info'!$F$22) -> 0
B595: Middle | C595: 590 | D595: 1 | E595: 0 | F595: =E595/3.6 -> 0 | G595: =($E596-$E594)/2/3.6 -> 0 | H595: =($E596-$E594)/2 -> 0 | I595: =F595 -> 0 | J595: =SUM(I595,J594) -> 3094.5278 | K595: =SUM(I595,0) -> 0 | L595: ='Car Info '!$C$5*'My Spreedsheet '!G595 -> 0 | M595: =IF(F595=0,0,1) -> 0 | N595: =IF(M595=1,'Car Info '!$C$5*9.80665*'Car Info '!$H$5,0) -> 0 | O595: =0.5*'Car Info '!$G$5*'Car Info '!$I$5*'Car Info '!$D$5*('My Spreedsheet '!F595*'My Spreedsheet '!F595) -> 0 | P595: =L595+N595+O595 -> 0 | Q595: =P595*F595 -> 0 | R595: =Q595*0.001 -> 0 | S595: =F595*(N595+O595) -> 0 | T595: =SUM(S595,0) -> 0 | U595: =IF(R595>0,R595,0) -> 0 | V595: =U595/3600 -> 0 | W595: =IF(R595<0,R595,0) -> 0 | X595: =(W595/3600)*-1 -> 0 | Y595: =IF(R595>0,SUM(Y594,R595),Y594) -> 1274.4927 | Z595: =IF(R595<0,SUM(Z594,R595),Z594) -> -669.27147 | AA595: =Y595/(60*60) -> 0.35402574 | AB595: =Z595/(60*60) -> -0.18590874 | AC595: =AB595*-1 -> 0.18590874 | AD595: =AA595-AC595 -> 0.168117 | AE595: =1/2*(('Car Info '!$C$5)*('My Spreedsheet '!F595)^2) -> 0 | AF595: =AE595*0.001 -> 0 | AG595: =AF595/3600 -> 0 | AH595: =SUM(AG595,AH594) -> 5.6971184 | AI595: =I595*(N595+O595) -> 0 | AJ595: =AE595-AI595 -> 0 | AK595: =AJ595*0.001 -> 0 | AL595: =IF(G595<0,AJ595,0) -> 0 | AM595: =AL595*0.001 -> 0 | AN595: =(AJ595*0.75)*0.001 -> 0 | AO595: =IF('My Spreedsheet '!AN595< 'Supercapacitor Info'!$F$22,'My Spreedsheet '!AN595,'Supercapacitor Info'!$F$22) -> 0
B596: Middle | C596: 591 | D596: 2 | E596: 0 | F596: =E596/3.6 -> 0 | G596: =($E597-$E595)/2/3.6 -> 0 | H596: =($E597-$E595)/2 -> 0 | I596: =F596 -> 0 | J596: =SUM(I596,J595) -> 3094.5278 | K596: =SUM(I596,K595) -> 0 | L596: ='Car Info '!$C$5*'My Spreedsheet '!G596 -> 0 | M596: =IF(F596=0,0,1) -> 0 | N596: =IF(M596=1,'Car Info '!$C$5*9.80665*'Car Info '!$H$5,0) -> 0 | O596: =0.5*'Car Info '!$G$5*'Car Info '!$I$5*'Car Info '!$D$5*('My Spreedsheet '!F596*'My Spreedsheet '!F596) -> 0 | P596: =L596+N596+O596 -> 0 | Q596: =P596*F596 -> 0 | R596: =Q596*0.001 -> 0 | S596: =F596*(N596+O596) -> 0 | T596: =SUM(S596,T595) -> 0 | U596: =IF(R596>0,R596,0) -> 0 | V596: =U596/3600 -> 0 | W596: =IF(R596<0,R596,0) -> 0 | X596: =(W596/3600)*-1 -> 0 | Y596: =IF(R596>0,SUM(Y595,R596),Y595) -> 1274.4927 | Z596: =IF(R596<0,SUM(Z595,R596),Z595) -> -669.27147 | AA596: =Y596/(60*60) -> 0.35402574 | AB596: =Z596/(60*60) -> -0.18590874 | AC596: =AB596*-1 -> 0.18590874 | AD596: =AA596-AC596 -> 0.168117 | AE596: =1/2*(('Car Info '!$C$5)*('My Spreedsheet '!F596)^2) -> 0 | AF596: =AE596*0.001 -> 0 | AG596: =AF596/3600 -> 0 | AH596: =SUM(AG596,AH595) -> 5.6971184 | AI596: =I596*(N596+O596) -> 0 | AJ596: =AE596-AI596 -> 0 | AK596: =AJ596*0.001 -> 0 | AL596: =IF(G596<0,AJ596,0) -> 0 | AM596: =AL596*0.001 -> 0 | AN596: =(AJ596*0.75)*0.001 -> 0 | AO596: =IF('My Spreedsheet '!AN596< 'Supercapacitor Info'!$F$22,'My Spreedsheet '!AN596,'Supercapacitor Info'!$F$22) -> 0
B597: Middle | C597: 592 | D597: 3 | E597: 0 | F597: =E597/3.6 -> 0 | G597: =($E598-$E596)/2/3.6 -> 0 | H597: =($E598-$E596)/2 -> 0 | I597: =F597 -> 0 | J597: =SUM(I597,J596) -> 3094.5278 | K597: =SUM(I597,K596) -> 0 | L597: ='Car Info '!$C$5*'My Spreedsheet '!G597 -> 0 | M597: =IF(F597=0,0,1) -> 0 | N597: =IF(M597=1,'Car Info '!$C$5*9.80665*'Car Info '!$H$5,0) -> 0 | O597: =0.5*'Car Info '!$G$5*'Car Info '!$I$5*'Car Info '!$D$5*('My Spreedsheet '!F597*'My Spreedsheet '!F597) -> 0 | P597: =L597+N597+O597 -> 0 | Q597: =P597*F597 -> 0 | R597: =Q597*0.001 -> 0 | S597: =F597*(N597+O597) -> 0 | T597: =SUM(S597,T596) -> 0 | U597: =IF(R597>0,R597,0) -> 0 | V597: =U597/3600 -> 0 | W597: =IF(R597<0,R597,0) -> 0 | X597: =(W597/3600)*-1 -> 0 | Y597: =IF(R597>0,SUM(Y596,R597),Y596) -> 1274.4927 | Z597: =IF(R597<0,SUM(Z596,R597),Z596) -> -669.27147 | AA597: =Y597/(60*60) -> 0.35402574 | AB597: =Z597/(60*60) -> -0.18590874 | AC597: =AB597*-1 -> 0.18590874 | AD597: =AA597-AC597 -> 0.168117 | AE597: =1/2*(('Car Info '!$C$5)*('My Spreedsheet '!F597)^2) -> 0 | AF597: =AE597*0.001 -> 0 | AG597: =AF597/3600 -> 0 | AH597: =SUM(AG597,AH596) -> 5.6971184 | AI597: =I597*(N597+O597) -> 0 | AJ597: =AE597-AI597 -> 0 | AK597: =AJ597*0.001 -> 0 | AL597: =IF(G597<0,AJ597,0) -> 0 | AM597: =AL597*0.001 -> 0 | AN597: =(AJ597*0.75)*0.001 -> 0 | AO597: =IF('My Spreedsheet '!AN597< 'Supercapacitor Info'!$F$22,'My Spreedsheet '!AN597,'Supercapacitor Info'!$F$22) -> 0
B598: Middle | C598: 593 | D598: 4 | E598: 0 | F598: =E598/3.6 -> 0 | G598: =($E599-$E597)/2/3.6 -> 0 | H598: =($E599-$E597)/2 -> 0 | I598: =F598 -> 0 | J598: =SUM(I598,J597) -> 3094.5278 | K598: =SUM(I598,K597) -> 0 | L598: ='Car Info '!$C$5*'My Spreedsheet '!G598 -> 0 | M598: =IF(F598=0,0,1) -> 0 | N598: =IF(M598=1,'Car Info '!$C$5*9.80665*'Car Info '!$H$5,0) -> 0 | O598: =0.5*'Car Info '!$G$5*'Car Info '!$I$5*'Car Info '!$D$5*('My Spreedsheet '!F598*'My Spreedsheet '!F598) -> 0 | P598: =L598+N598+O598 -> 0 | Q598: =P598*F598 -> 0 | R598: =Q598*0.001 -> 0 | S598: =F598*(N598+O598) -> 0 | T598: =SUM(S598,T597) -> 0 | U598: =IF(R598>0,R598,0) -> 0 | V598: =U598/3600 -> 0 | W598: =IF(R598<0,R598,0) -> 0 | X598: =(W598/3600)*-1 -> 0 | Y598: =IF(R598>0,SUM(Y597,R598),Y597) -> 1274.4927 | Z598: =IF(R598<0,SUM(Z597,R598),Z597) -> -669.27147 | AA598: =Y598/(60*60) -> 0.35402574 | AB598: =Z598/(60*60) -> -0.18590874 | AC598: =AB598*-1 -> 0.18590874 | AD598: =AA598-AC598 -> 0.168117 | AE598: =1/2*(('Car Info '!$C$5)*('My Spreedsheet '!F598)^2) -> 0 | AF598: =AE598*0.001 -> 0 | AG598: =AF598/3600 -> 0 | AH598: =SUM(AG598,AH597) -> 5.6971184 | AI598: =I598*(N598+O598) -> 0 | AJ598: =AE598-AI598 -> 0 | AK598: =AJ598*0.001 -> 0 | AL598: =IF(G598<0,AJ598,0) -> 0 | AM598: =AL598*0.001 -> 0 | AN598: =(AJ598*0.75)*0.001 -> 0 | AO598: =IF('My Spreedsheet '!AN598< 'Supercapacitor Info'!$F$22,'My Spreedsheet '!AN598,'Supercapacitor Info'!$F$22) -> 0
B599: Middle | C599: 594 | D599: 5 | E599: 0 | F599: =E599/3.6 -> 0 | G599: =($E600-$E598)/2/3.6 -> 0 | H599: =($E600-$E598)/2 -> 0 | I599: =F599 -> 0 | J599: =SUM(I599,J598) -> 3094.5278 | K599: =SUM(I599,K598) -> 0 | L599: ='Car Info '!$C$5*'My Spreedsheet '!G599 -> 0 | M599: =IF(F599=0,0,1) -> 0 | N599: =IF(M599=1,'Car Info '!$C$5*9.80665*'Car Info '!$H$5,0) -> 0 | O599: =0.5*'Car Info '!$G$5*'Car Info '!$I$5*'Car Info '!$D$5*('My Spreedsheet '!F599*'My Spreedsheet '!F599) -> 0 | P599: =L599+N599+O599 -> 0 | Q599: =P599*F599 -> 0 | R599: =Q599*0.001 -> 0 | S599: =F599*(N599+O599) -> 0 | T599: =SUM(S599,T598) -> 0 | U599: =IF(R599>0,R599,0) -> 0 | V599: =U599/3600 -> 0 | W599: =IF(R599<0,R599,0) -> 0 | X599: =(W599/3600)*-1 -> 0 | Y599: =IF(R599>0,SUM(Y598,R599),Y598) -> 1274.4927 | Z599: =IF(R599<0,SUM(Z598,R599),Z598) -> -669.27147 | AA599: =Y599/(60*60) -> 0.35402574 | AB599: =Z599/(60*60) -> -0.18590874 | AC599: =AB599*-1 -> 0.18590874 | AD599: =AA599-AC599 -> 0.168117 | AE599: =1/2*(('Car Info '!$C$5)*('My Spreedsheet '!F599)^2) -> 0 | AF599: =AE599*0.001 -> 0 | AG599: =AF599/3600 -> 0 | AH599: =SUM(AG599,AH598) -> 5.6971184 | AI599: =I599*(N599+O599) -> 0 | AJ599: =AE599-AI599 -> 0 | AK599: =AJ599*0.001 -> 0 | AL599: =IF(G599<0,AJ599,0) -> 0 | AM599: =AL599*0.001 -> 0 | AN599: =(AJ599*0.75)*0.001 -> 0 | AO599: =IF('My Spreedsheet '!AN599< 'Supercapacitor Info'!$F$22,'My Spreedsheet '!AN599,'Supercapacitor Info'!$F$22) -> 0
B600: Middle | C600: 595 | D600: 6 | E600: 0 | F600: =E600/3.6 -> 0 | G600: =($E601-$E599)/2/3.6 -> 0 | H600: =($E601-$E599)/2 -> 0 | I600: =F600 -> 0 | J600: =SUM(I600,J599) -> 3094.5278 | K600: =SUM(I600,K599) -> 0 | L600: ='Car Info '!$C$5*'My Spreedsheet '!G600 -> 0 | M600: =IF(F600=0,0,1) -> 0 | N600: =IF(M600=1,'Car Info '!$C$5*9.80665*'Car Info '!$H$5,0) -> 0 | O600: =0.5*'Car Info '!$G$5*'Car Info '!$I$5*'Car Info '!$D$5*('My Spreedsheet '!F600*'My Spreedsheet '!F600) -> 0 | P600: =L600+N600+O600 -> 0 | Q600: =P600*F600 -> 0 | R600: =Q600*0.001 -> 0 | S600: =F600*(N600+O600) -> 0 | T600: =SUM(S600,T599) -> 0 | U600: =IF(R600>0,R600,0) -> 0 | V600: =U600/3600 -> 0 | W600: =IF(R600<0,R600,0) -> 0 | X600: =(W600/3600)*-1 -> 0 | Y600: =IF(R600>0,SUM(Y599,R600),Y599) -> 1274.4927 | Z600: =IF(R600<0,SUM(Z599,R600),Z599) -> -669.27147 | AA600: =Y600/(60*60) -> 0.35402574 | AB600: =Z600/(60*60) -> -0.18590874 | AC600: =AB600*-1 -> 0.18590874 | AD600: =AA600-AC600 -> 0.168117 | AE600: =1/2*(('Car Info '!$C$5)*('My Spreedsheet '!F600)^2) -> 0 | AF600: =AE600*0.001 -> 0 | AG600: =AF600/3600 -> 0 | AH600: =SUM(AG600,AH599) -> 5.6971184 | AI600: =I600*(N600+O600) -> 0 | AJ600: =AE600-AI600 -> 0 | AK600: =AJ600*0.001 -> 0 | AL600: =IF(G600<0,AJ600,0) -> 0 | AM600: =AL600*0.001 -> 0 | AN600: =(AJ600*0.75)*0.001 -> 0 | AO600: =IF('My Spreedsheet '!AN600< 'Supercapacitor Info'!$F$22,'My Spreedsheet '!AN600,'Supercapacitor Info'!$F$22) -> 0
B601: Middle | C601: 596 | D601: 7 | E601: 0 | F601: =E601/3.6 -> 0 | G601: =($E602-$E600)/2/3.6 -> 0 | H601: =($E602-$E600)/2 -> 0 | I601: =F601 -> 0 | J601: =SUM(I601,J600) -> 3094.5278 | K601: =SUM(I601,K600) -> 0 | L601: ='Car Info '!$C$5*'My Spreedsheet '!G601 -> 0 | M601: =IF(F601=0,0,1) -> 0 | N601: =IF(M601=1,'Car Info '!$C$5*9.80665*'Car Info '!$H$5,0) -> 0 | O601: =0.5*'Car Info '!$G$5*'Car Info '!$I$5*'Car Info '!$D$5*('My Spreedsheet '!F601*'My Spreedsheet '!F601) -> 0 | P601: =L601+N601+O601 -> 0 | Q601: =P601*F601 -> 0 | R601: =Q601*0.001 -> 0 | S601: =F601*(N601+O601) -> 0 | T601: =SUM(S601,T600) -> 0 | U601: =IF(R601>0,R601,0) -> 0 | V601: =U601/3600 -> 0 | W601: =IF(R601<0,R601,0) -> 0 | X601: =(W601/3600)*-1 -> 0 | Y601: =IF(R601>0,SUM(Y600,R601),Y600) -> 1274.4927 | Z601: =IF(R601<0,SUM(Z600,R601),Z600) -> -669.27147 | AA601: =Y601/(60*60) -> 0.35402574 | AB601: =Z601/(60*60) -> -0.18590874 | AC601: =AB601*-1 -> 0.18590874 | AD601: =AA601-AC601 -> 0.168117 | AE601: =1/2*(('Car Info '!$C$5)*('My Spreedsheet '!F601)^2) -> 0 | AF601: =AE601*0.001 -> 0 | AG601: =AF601/3600 -> 0 | AH601: =SUM(AG601,AH600) -> 5.6971184 | AI601: =I601*(N601+O601) -> 0 | AJ601: =AE601-AI601 -> 0 | AK601: =AJ601*0.001 -> 0 | AL601: =IF(G601<0,AJ601,0) -> 0 | AM601: =AL601*0.001 -> 0 | AN601: =(AJ601*0.75)*0.001 -> 0 | AO601: =IF('My Spreedsheet '!AN601< 'Supercapacitor Info'!$F$22,'My Spreedsheet '!AN601,'Supercapacitor Info'!$F$22) -> 0
B602: Middle | C602: 597 | D602: 8 | E602: 0 | F602: =E602/3.6 -> 0 | G602: =($E603-$E601)/2/3.6 -> 0 | H602: =($E603-$E601)/2 -> 0 | I602: =F602 -> 0 | J602: =SUM(I602,J601) -> 3094.5278 | K602: =SUM(I602,K601) -> 0 | L602: ='Car Info '!$C$5*'My Spreedsheet '!G602 -> 0 | M602: =IF(F602=0,0,1) -> 0 | N602: =IF(M602=1,'Car Info '!$C$5*9.80665*'Car Info '!$H$5,0) -> 0 | O602: =0.5*'Car Info '!$G$5*'Car Info '!$I$5*'Car Info '!$D$5*('My Spreedsheet '!F602*'My Spreedsheet '!F602) -> 0 | P602: =L602+N602+O602 -> 0 | Q602: =P602*F602 -> 0 | R602: =Q602*0.001 -> 0 | S602: =F602*(N602+O602) -> 0 | T602: =SUM(S602,T601) -> 0 | U602: =IF(R602>0,R602,0) -> 0 | V602: =U602/3600 -> 0 | W602: =IF(R602<0,R602,0) -> 0 | X602: =(W602/3600)*-1 -> 0 | Y602: =IF(R602>0,SUM(Y601,R602),Y601) -> 1274.4927 | Z602: =IF(R602<0,SUM(Z601,R602),Z601) -> -669.27147 | AA602: =Y602/(60*60) -> 0.35402574 | AB602: =Z602/(60*60) -> -0.18590874 | AC602: =AB602*-1 -> 0.18590874 | AD602: =AA602-AC602 -> 0.168117 | AE602: =1/2*(('Car Info '!$C$5)*('My Spreedsheet '!F602)^2) -> 0 | AF602: =AE602*0.001 -> 0 | AG602: =AF602/3600 -> 0 | AH602: =SUM(AG602,AH601) -> 5.6971184 | AI602: =I602*(N602+O602) -> 0 | AJ602: =AE602-AI602 -> 0 | AK602: =AJ602*0.001 -> 0 | AL602: =IF(G602<0,AJ602,0) -> 0 | AM602: =AL602*0.001 -> 0 | AN602: =(AJ602*0.75)*0.001 -> 0 | AO602: =IF('My Spreedsheet '!AN602< 'Supercapacitor Info'!$F$22,'My Spreedsheet '!AN602,'Supercapacitor Info'!$F$22) -> 0
B603: Middle | C603: 598 | D603: 9 | E603: 0 | F603: =E603/3.6 -> 0 | G603: =($E604-$E602)/2/3.6 -> 0 | H603: =($E604-$E602)/2 -> 0 | I603: =F603 -> 0 | J603: =SUM(I603,J602) -> 3094.5278 | K603: =SUM(I603,K602) -> 0 | L603: ='Car Info '!$C$5*'My Spreedsheet '!G603 -> 0 | M603: =IF(F603=0,0,1) -> 0 | N603: =IF(M603=1,'Car Info '!$C$5*9.80665*'Car Info '!$H$5,0) -> 0 | O603: =0.5*'Car Info '!$G$5*'Car Info '!$I$5*'Car Info '!$D$5*('My Spreedsheet '!F603*'My Spreedsheet '!F603) -> 0 | P603: =L603+N603+O603 -> 0 | Q603: =P603*F603 -> 0 | R603: =Q603*0.001 -> 0 | S603: =F603*(N603+O603) -> 0 | T603: =SUM(S603,T602) -> 0 | U603: =IF(R603>0,R603,0) -> 0 | V603: =U603/3600 -> 0 | W603: =IF(R603<0,R603,0) -> 0 | X603: =(W603/3600)*-1 -> 0 | Y603: =IF(R603>0,SUM(Y602,R603),Y602) -> 1274.4927 | Z603: =IF(R603<0,SUM(Z602,R603),Z602) -> -669.27147 | AA603: =Y603/(60*60) -> 0.35402574 | AB603: =Z603/(60*60) -> -0.18590874 | AC603: =AB603*-1 -> 0.18590874 | AD603: =AA603-AC603 -> 0.168117 | AE603: =1/2*(('Car Info '!$C$5)*('My Spreedsheet '!F603)^2) -> 0 | AF603: =AE603*0.001 -> 0 | AG603: =AF603/3600 -> 0 | AH603: =SUM(AG603,AH602) -> 5.6971184 | AI603: =I603*(N603+O603) -> 0 | AJ603: =AE603-AI603 -> 0 | AK603: =AJ603*0.001 -> 0 | AL603: =IF(G603<0,AJ603,0) -> 0 | AM603: =AL603*0.001 -> 0 | AN603: =(AJ603*0.75)*0.001 -> 0 | AO603: =IF('My Spreedsheet '!AN603< 'Supercapacitor Info'!$F$22,'My Spreedsheet '!AN603,'Supercapacitor Info'!$F$22) -> 0
B604: Middle | C604: 599 | D604: 10 | E604: 0 | F604: =E604/3.6 -> 0 | G604: =($E605-$E603)/2/3.6 -> 0 | H604: =($E605-$E603)/2 -> 0 | I604: =F604 -> 0 | J604: =SUM(I604,J603) -> 3094.5278 | K604: =SUM(I604,K603) -> 0 | L604: ='Car Info '!$C$5*'My Spreedsheet '!G604 -> 0 | M604: =IF(F604=0,0,1) -> 0 | N604: =IF(M604=1,'Car Info '!$C$5*9.80665*'Car Info '!$H$5,0) -> 0 | O604: =0.5*'Car Info '!$G$5*'Car Info '!$I$5*'Car Info '!$D$5*('My Spreedsheet '!F604*'My Spreedsheet '!F604) -> 0 | P604: =L604+N604+O604 -> 0 | Q604: =P604*F604 -> 0 | R604: =Q604*0.001 -> 0 | S604: =F604*(N604+O604) -> 0 | T604: =SUM(S604,T603) -> 0 | U604: =IF(R604>0,R604,0) -> 0 | V604: =U604/3600 -> 0 | W604: =IF(R604<0,R604,0) -> 0 | X604: =(W604/3600)*-1 -> 0 | Y604: =IF(R604>0,SUM(Y603,R604),Y603) -> 1274.4927 | Z604: =IF(R604<0,SUM(Z603,R604),Z603) -> -669.27147 | AA604: =Y604/(60*60) -> 0.35402574 | AB604: =Z604/(60*60) -> -0.18590874 | AC604: =AB604*-1 -> 0.18590874 | AD604: =AA604-AC604 -> 0.168117 | AE604: =1/2*(('Car Info '!$C$5)*('My Spreedsheet '!F604)^2) -> 0 | AF604: =AE604*0.001 -> 0 | AG604: =AF604/3600 -> 0 | AH604: =SUM(AG604,AH603) -> 5.6971184 | AI604: =I604*(N604+O604) -> 0 | AJ604: =AE604-AI604 -> 0 | AK604: =AJ604*0.001 -> 0 | AL604: =IF(G604<0,AJ604,0) -> 0 | AM604: =AL604*0.001 -> 0 | AN604: =(AJ604*0.75)*0.001 -> 0 | AO604: =IF('My Spreedsheet '!AN604< 'Supercapacitor Info'!$F$22,'My Spreedsheet '!AN604,'Supercapacitor Info'!$F$22) -> 0
B605: Middle | C605: 600 | D605: 11 | E605: 0 | F605: =E605/3.6 -> 0 | G605: =($E606-$E604)/2/3.6 -> 0.13888889 | H605: =($E606-$E604)/2 -> 0.5 | I605: =F605 -> 0 | J605: =SUM(I605,J604) -> 3094.5278 | K605: =SUM(I605,K604) -> 0 | L605: ='Car Info '!$C$5*'My Spreedsheet '!G605 -> 206.94444 | M605: =IF(F605=0,0,1) -> 0 | N605: =IF(M605=1,'Car Info '!$C$5*9.80665*'Car Info '!$H$5,0) -> 0 | O605: =0.5*'Car Info '!$G$5*'Car Info '!$I$5*'Car Info '!$D$5*('My Spreedsheet '!F605*'My Spreedsheet '!F605) -> 0 | P605: =L605+N605+O605 -> 206.94444 | Q605: =P605*F605 -> 0 | R605: =Q605*0.001 -> 0 | S605: =F605*(N605+O605) -> 0 | T605: =SUM(S605,T604) -> 0 | U605: =IF(R605>0,R605,0) -> 0 | V605: =U605/3600 -> 0 | W605: =IF(R605<0,R605,0) -> 0 | X605: =(W605/3600)*-1 -> 0 | Y605: =IF(R605>0,SUM(Y604,R605),Y604) -> 1274.4927 | Z605: =IF(R605<0,SUM(Z604,R605),Z604) -> -669.27147 | AA605: =Y605/(60*60) -> 0.35402574 | AB605: =Z605/(60*60) -> -0.18590874 | AC605: =AB605*-1 -> 0.18590874 | AD605: =AA605-AC605 -> 0.168117 | AE605: =1/2*(('Car Info '!$C$5)*('My Spreedsheet '!F605)^2) -> 0 | AF605: =AE605*0.001 -> 0 | AG605: =AF605/3600 -> 0 | AH605: =SUM(AG605,AH604) -> 5.6971184 | AI605: =I605*(N605+O605) -> 0 | AJ605: =AE605-AI605 -> 0 | AK605: =AJ605*0.001 -> 0 | AL605: =IF(G605<0,AJ605,0) -> 0 | AM605: =AL605*0.001 -> 0 | AN605: =(AJ605*0.75)*0.001 -> 0 | AO605: =IF('My Spreedsheet '!AN605< 'Supercapacitor Info'!$F$22,'My Spreedsheet '!AN605,'Supercapacitor Info'!$F$22) -> 0
B606: Middle | C606: 601 | D606: 12 | E606: 1 | F606: =E606/3.6 -> 0.27777778 | G606: =($E607-$E605)/2/3.6 -> 0.29166667 | H606: =($E607-$E605)/2 -> 1.05 | I606: =F606 -> 0.27777778 | J606: =SUM(I606,J605) -> 3094.8056 | K606: =SUM(I606,K605) -> 0.27777778 | L606: ='Car Info '!$C$5*'My Spreedsheet '!G606 -> 434.58333 | M606: =IF(F606=0,0,1) -> 1 | N606: =IF(M606=1,'Car Info '!$C$5*9.80665*'Car Info '!$H$5,0) -> 160.73099 | O606: =0.5*'Car Info '!$G$5*'Car Info '!$I$5*'Car Info '!$D$5*('My Spreedsheet '!F606*'My Spreedsheet '!F606) -> 0.029466261 | P606: =L606+N606+O606 -> 595.34379 | Q606: =P606*F606 -> 165.37328 | R606: =Q606*0.001 -> 0.16537328 | S606: =F606*(N606+O606) -> 44.655683 | T606: =SUM(S606,T605) -> 44.655683 | U606: =IF(R606>0,R606,0) -> 0.16537328 | V606: =U606/3600 -> 4.5937021e-05 | W606: =IF(R606<0,R606,0) -> 0 | X606: =(W606/3600)*-1 -> 0 | Y606: =IF(R606>0,SUM(Y605,R606),Y605) -> 1274.658 | Z606: =IF(R606<0,SUM(Z605,R606),Z605) -> -669.27147 | AA606: =Y606/(60*60) -> 0.35407168 | AB606: =Z606/(60*60) -> -0.18590874 | AC606: =AB606*-1 -> 0.18590874 | AD606: =AA606-AC606 -> 0.16816293 | AE606: =1/2*(('Car Info '!$C$5)*('My Spreedsheet '!F606)^2) -> 57.484568 | AF606: =AE606*0.001 -> 0.057484568 | AG606: =AF606/3600 -> 1.5967936e-05 | AH606: =SUM(AG606,AH605) -> 5.6971344 | AI606: =I606*(N606+O606) -> 44.655683 | AJ606: =AE606-AI606 -> 12.828885 | AK606: =AJ606*0.001 -> 0.012828885 | AL606: =IF(G606<0,AJ606,0) -> 0 | AM606: =AL606*0.001 -> 0 | AN606: =(AJ606*0.75)*0.001 -> 0.0096216635 | AO606: =IF('My Spreedsheet '!AN606< 'Supercapacitor Info'!$F$22,'My Spreedsheet '!AN606,'Supercapacitor Info'!$F$22) -> 0.0096216635
...

Sheet Supercapacitor Info
B2: No. SC | C2: No. Cells | D2: Capacitance (F) | E2: Stored Energy per Cell (Wh) | F2: Stored Energy (Wh) | G2: Stored Energy (kJ) | H2: Voltage (V) | I2: Current (A) | J2: Resitance (mΩ)
B3: 1 | C3: 18 | D3: 165 | E3: 3 | F3: =C3*E3 -> 54 | G3: =(F3*3600)*0.001 -> 194.4 | H3: 48 | I3: 100 | J3: 6
B4: 2 | C4: =C3*2 -> 36 | D4: =D3*2 -> 330 | E4: 3 | F4: =F3*2 -> 108 | G4: =G3*2 -> 388.8 | H4: =H3*2 -> 96 | I4: =I3*2 -> 200 | J4: 6
B5: 3 | C5: 54 | D5: =D3*3 -> 495 | E5: 3 | F5: =C5*E5 -> 162 | G5: =(F5*3600)*0.001 -> 583.2 | H5: =H3*3 -> 144 | I5: 300 | J5: 6
C9: Dimensions | D9: mm | E9: m | G9: No of SC | H9: Mass (Kg)
C10: Length | D10: 418 | E10: =D10/1000 -> 0.418 | G10: 1 | H10: 13.8
C11: Width | D11: 194 | E11: =D11/1000 -> 0.194 | G11: 2 | H11: =H10*2 -> 27.6
C12: Height | D12: 179 | E12: =D12/1000 -> 0.179 | G12: 3 | H12: =H11*2 -> 55.2
C17: No. SC | D17: 1 | E17: 2 | F17: 3
C18: No. Cells | D18: 18 | E18: =D18*2 -> 36 | F18: 54
C19: Capacitance (F) | D19: 165 | E19: =D19*2 -> 330 | F19: =D19*3 -> 495
C20: Stored Energy per Cell (Wh) | D20: 3 | E20: 3 | F20: 3
C21: Stored Energy (Wh) | D21: =D18*D20 -> 54 | E21: =D21*2 -> 108 | F21: =F18*F20 -> 162
C22: Stored Energy (kJ) | D22: =(D21*3600)*0.001 -> 194.4 | E22: =D22*2 -> 388.8 | F22: =(F21*3600)*0.001 -> 583.2
C23: Voltage (V) | D23: 48 | E23: =D23*2 -> 96 | F23: =D23*3 -> 144
C24: Current (A) | D24: 100 | E24: =D24*2 -> 200 | F24: 300
C25: Resitance (mΩ) | D25: 6 | E25: 6 | F25: 6

Sheet Car Info 
B2: 1.3L Toyota Yaris 2012
B3: Curb Mass | C3: Test Mass | D3: Coefficient of Drag (Cd) | E3: Width | F3: Height | G3: Frontal Area | H3: Coefficient of Rolling Resistance | I3: Air Density
B4: Kg | C4: Kg | E4: m | F4: m | G4: m^2 | I4: Kg/m^3
B5: 1035 | C5: 1490 | D5: 0.29 | E5: 1.695 | F5: 1.51 | G5: =(F5*E5)*0.84 -> 2.149938 | H5: 0.011 | I5: 1.225

Sheet My Graphs 

Sheet Explainations 
B2: This file contains the WLTC cycles for validation 2, based on the following preliminary vehicle classification:
B4: Class 1 | C4: ratio of rated power in W / kerb mass in kg <= 22
B5: (version 1.4) | C5: The table with the speed trace is named "WLTC_class_1" and contains a low and a medium speed part.
C6: If v_max >= 70 km/h, phase low is repeated after phase medium.
C7: If v_max < 70 km/h, phase medium is replaced by a repetition of phase low.
C9: If a vehicle has a ratio of rated power in W divide by kerb mass in kg close to the borderline, any additional tests with the WLTC, class 2, version 1.4 cycle are highly welcomed.
B11: Class 2 | C11: ratio of rated power in W / kerb mass in kg > 22 but <= 34
B12: (version 1.4) | C12: The table with the speed trace is named "WLTC_class_2" and contains a low, a medium and a high speed part.
C13: If v_max < 90 km/h, phase high is replaced by a repetition of phase low.
C15: If a vehicle with a ratio of rated power in W divided by kerb mass in kg between 22 and 34, but close to the lower borderline cannot follow the WLTC class 2, version 1.4 speed trac
