Workbook

Sheet My Spreedsheet 
N1: Losses
B2: Phase | C2: Total elapsed time | D2: Phase elapsed time | E2: WLTC class 3, version 5, vehicle speed | F2: WLTC class 3, version 5, vehicle speed | G2: WLTC class 3, version 5, acceleration | H2: WLTC class 3, version 5, acceleration | I2: Distance Travelled in each second | J2: Distance Travelled | K2: Distance Travelled per Phase | L2: Accel. Force | M2: Motion Status | N2: Rolling Resitance | O2: Aero Force | P2: Total Resistive Forces (Tractive Effort) | Q2: Power | R2: Power | S2: Resistive Power | T2: Cumulative Resistive Power Per Phase | U2: Tractive Energy | V2: Tractive Energy | W2: Braking Energy | X2: Braking Energy (Inverted) | Y2: Cumulative Tractive Energy | Z2: Cumulative Braking Energy | AA2: Cumulative Tractive Energy | AB2: Cumulative Braking Energy | AC2: Cumulative Braking Energy (Inverted) | AD2: Energy Losses Due to Friction | AE2: Kinetic Energy | AF2: Kinetic Energy | AG2: Kinetic Energy | AH2: Cumulative Kinetic Energy | AI2: Kinetic Energy Losses | AJ2: Energy Stored | AK2: Energy Stored | AL2: Energy Stored From Decel. | AM2: Energy Stored From Decel. (kJ) | AN2: Recoverable Energy | AO2: 3 SC Recoverable Energy | AQ2: Phase Number | AR2: Phase | AS2: Distance Traveled | AT2: Total Resistive Force | AU2: Total Kinetic Energy Losses | AV2: Max Velocity | AW2: Max Acceleration | AX2: Max Deceleration | AY2: Maximum Power | AZ2: Average Power | BA2: Total Power | BB2: Max Braking Power | BC2: Average Braking Power | BD2: Total Braking Power | BE2: Maximum Kinetic Energy | BF2: Maximum Kinetic Energy | BG2: Maximum Kinetic Energy | BH2: Max Energy Stored | BI2: Maximum Stored Energy | BJ2: Maximum Recoverable Energy
B3: Phase | C3: s | D3: s | E3: km/h | F3: m/s | G3: m/s² | H3: km/h/s | I3: m | J3: m | K3: m | L3: N | M3: N | N3: N | O3: N | P3: N | Q3: W | R3: kW | S3: W | T3: W | U3: kWs | V3: kWh | W3: kWs | X3: kWh | Y3: kWs | Z3: kWs | AA3: kWh | AB3: kWh | AC3: kWh | AD3: kWh | AE3: J | AF3: kJ | AG3: kWh | AH3: kWh | AI3: J | AJ3: J | AK3: kJ | AL3: J | AM3: kJ | AN3: kJ | AO3: kJ | AS3: m | AT3: N | AU3: kJ | AV3: m/s | AW3: m/s^2 | AX3: m/s^2 | AY3: kW | AZ3: kW | BA3: kW | BB3: kW | BC3: kW | BD3: kW | BE3: J | BF3: kJ | BG3: kWh | BH3: J | BI3: kJ | BJ3: kJ
B4: Phase | C4: 0 | D4: 0 | E4: 0 | F4: 0 | G4: 0 | H4: 0 | I4: 0 | J4: 0 | K4: 0 | L4: 0 | M4: 0 | N4: 0 | O4: 0 | P4: 0 | Q4: 0 | R4: 0 | S4: 0 | T4: 0 | U4: 0 | V4: 0 | W4: 0 | X4: 0 | Y4: 0 | Z4: 0 | AA4: 0 | AB4: 0 | AC4: 0 | AD4: 0 | AE4: 0 | AF4: 0 | AG4: 0 | AH4: 0 | AI4: 0 | AJ4: 0 | AK4: 0 | AL4: 0 | AM4: 0 | AN4: 0 | AO4: 0 | AQ4: 1 | AR4: Low | AS4: =SUM(F5:F594) -> 3094.5278 | AT4: =SUM(N5:O594) -> 81234.754 | AU4: =(AS4*AT4)*0.001 -> 251383.2 | AV4: =MAX(F5:F594) -> 15.694444 | AW4: =MAX(G5:G594) -> 1.4722222 | AX4: =MIN(G5:G594)*-1 -> 1.4722222 | AY4: =MAX(R5:R594) -> 19.355246 | AZ4: =AVERAGE(R5:R594) -> 1.0257986 | BA4: =SUMIF(R5:R594,">0") -> 1274.4927 | BB4: =MIN(W5:W594)*-1 -> 14.187734 | BC4: =AVERAGE(W5:W594)*-1 -> 1.1343584 | BD4: =SUM(W5:W594)*-1 -> 669.27147 | BE4: =MAX(AE5:AE594) -> 183505.11 | BF4: =MAX(AF5:AF594) -> 183.50511 | BG4: =MAX(AG5:AG594) -> 0.050973642 | BH4: =MAX(AJ5:AJ594) -> 179506.25 | BI4: =BH4*0.001 -> 179.50625 | BJ4: =BI4*0.75 -> 134.62969
B5: Low | C5: 0 | D5: 0 | E5: 0 | F5: =E5/3.6 -> 0 | G5: =($E6-0)/2/3.6 -> 0 | H5: =($E6-0)/2 -> 0 | I5: =F5 -> 0 | J5: =SUM(I5,J4) -> 0 | K5: =SUM(I5,K4) -> 0 | L5: ='Car Info '!$C$5*'My Spreedsheet '!G5 -> 0 | M5: =IF(F5=0,0,1) -> 0 | N5: =IF(M5=1,'Car Info '!$C$5*9.80665*'Car Info '!$H$5,0) -> 0 | O5: =0.5*'Car Info '!$G$5*'Car Info '!$I$5*'Car Info '!$D$5*('My Spreedsheet '!F5*'My Spreedsheet '!F5) -> 0 | P5: =L5+N5+O5 -> 0 | Q5: =P5*F5 -> 0 | R5: =Q5*0.001 -> 0 | S5: =F5*(N5+O5) -> 0 | T5: =SUM(S5,T4) -> 0 | U5: =IF(R5>0,R5,0) -> 0 | V5: =U5/3600 -> 0 | W5: =IF(R5<0,R5,0) -> 0 | X5: =(W5/3600)*-1 -> 0 | Y5: =IF(R5>0,SUM(Y4,R5),Y4) -> 0 | Z5: =IF(R5<0,SUM(Z4,R5),Z4) -> 0 | AA5: =Y5/(60*60) -> 0 | AB5: =Z5/(60*60) -> 0 | AC5: =AB5*-1 -> 0 | AD5: =AA5-AC5 -> 0 | AE5: =1/2*(('Car Info '!$C$5)*('My Spreedsheet '!F5)^2) -> 0 | AF5: =AE5*0.001 -> 0 | AG5: =AF5/3600 -> 0 | AH5: =SUM(AG5,AH4) -> 0 | AI5: =I5*(N5+O5) -> 0 | AJ5: =AE5-AI5 -> 0 | AK5: =AJ5*0.001 -> 0 | AL5: =IF(G5<0,AJ5,0) -> 0 | AM5: =AL5*0.001 -> 0 | AN5: =(AJ5*0.75)*0.001 -> 0 | AO5: =IF('My Spreedsheet '!AN5< 'Supercapacitor Info'!$F$22,'My Spreedsheet '!AN5,'Supercapacitor Info'!$F$22) -> 0 | AQ5: 2 | AR5: Middle | AS5: =SUM(F595:F1027) -> 4755.8889 | AT5: =SUM(N595:O1027) -> 87766.627 | AU5: =(AS5*AT5)*0.001 -> 417408.32 | AV5: =MAX(F595:F1027) -> 21.277778 | AW5: =MAX(G595:G1027) -> 1.5694444 | AX5: =MIN(G595:G1027)*-1 -> 1.4861111 | AY5: =MAX(R595:R1027) -> 27.192906 | AZ5: =AVERAGE(R595:R1027) -> 2.6845117 | BA5: =SUMIF(R595:R1027,">0") -> 2159.1663 | BB5: =MIN(W595:W1027)*-1 -> 28.871988 | BC5: =AVERAGE(W595:W1027)*-1 -> 2.3020156 | BD5: =SUM(W595:W1027)*-1 -> 996.77275 | BE5: =MAX(AE595:AE1027) -> 337294.15 | BF5: =MAX(AF595:AF1027) -> 337.29415 | BG5: =MAX(AG595:AG1027) -> 0.09369282 | BH5: =MAX(AJ595:AJ1027) -> 330195.33 | BI5: =BH5*0.001 -> 330.19533 | BJ5: =BI5*0.75 -> 247.6465
B6: Low | C6: 1 | D6: 1 | E6: 0 | F6: =E6/3.6 -> 0 | G6: =($E7-$E5)/2/3.6 -> 0 | H6: =($E7-$E5)/2 -> 0 | I6: =F6 -> 0 | J6: =SUM(I6,J5) -> 0 | K6: =SUM(I6,K5) -> 0 | L6: ='Car Info '!$C$5*'My Spreedsheet '!G6 -> 0 | M6: =IF(F6=0,0,1) -> 0 | N6: =IF(M6=1,'Car Info '!$C$5*9.80665*'Car Info '!$H$5,0) -> 0 | O6: =0.5*'Car Info '!$G$5*'Car Info '!$I$5*'Car Info '!$D$5*('My Spreedsheet '!F6*'My Spreedsheet '!F6) -> 0 | P6: =L6+N6+O6 -> 0 | Q6: =P6*F6 -> 0 | R6: =Q6*0.001 -> 0 | S6: =F6*(N6+O6) -> 0 | T6: =SUM(S6,T5) -> 0 | U6: =IF(R6>0,R6,0) -> 0 | V6: =U6/3600 -> 0 | W6: =IF(R6<0,R6,0) -> 0 | X6: =(W6/3600)*-1 -> 0 | Y6: =IF(R6>0,SUM(Y5,R6),Y5) -> 0 | Z6: =IF(R6<0,SUM(Z5,R6),Z5) -> 0 | AA6: =Y6/(60*60) -> 0 | AB6: =Z6/(60*60) -> 0 | AC6: =AB6*-1 -> 0 | AD6: =AA6-AC6 -> 0 | AE6: =1/2*(('Car Info '!$C$5)*('My Spreedsheet '!F6)^2) -> 0 | AF6: =AE6*0.001 -> 0 | AG6: =AF6/3600 -> 0 | AH6: =SUM(AG6,AH5) -> 0 | AI6: =I6*(N6+O6) -> 0 | AJ6: =AE6-AI6 -> 0 | AK6: =AJ6*0.001 -> 0 | AL6: =IF(G6<0,AJ6,0) -> 0 | AM6: =AL6*0.001 -> 0 | AN6: =(AJ6*0.75)*0.001 -> 0 | AO6: =IF('My Spreedsheet '!AN6< 'Supercapacitor Info'!$F$22,'My Spreedsheet '!AN6,'Supercapacitor Info'!$F$22) -> 0 | AQ6: 3 | AR6: High | AS6: =SUM(F1028:F1492) -> 7179.9167 | AT6: =SUM(N1028:O1492) -> 124091.71 | AU6: =(AS6*AT6)*0.001 -> 890968.13 | AV6: =MAX(F1028:F1482) -> 27.055556 | AW6: =MAX(G1028:G1482) -> 1.5833333 | AX6: =MIN(G1028:G1482)*-1 -> 1.4861111 | AY6: =MAX(R1028:R1482) -> 32.374696 | AZ6: =AVERAGE(R1028:R1482) -> 5.0981363 | BA6: =SUMIF(R1028:R1482,">0") -> 3142.7944 | BB6: =MIN(W1028:W1482)*-1 -> 27.521447 | BC6: =AVERAGE(W1028:W1482)*-1 -> 1.8091041 | BD6: =SUM(W1028:W1482)*-1 -> 823.14238 | BE6: =MAX(AE1028:AE1482) -> 545342.3 | BF6: =MAX(AF1028:AF1482) -> 545.3423 | BG6: =MAX(AG1028:AG1482) -> 0.15148397 | BH6: =MAX(AJ1028:AJ1482) -> 533430.54 | BI6: =BH6*0.001 -> 533.43054 | BJ6: =BI6*0.75 -> 400.07291
B7: Low | C7: 2 | D7: 2 | E7: 0 | F7: =E7/3.6 -> 0 | G7: =($E8-$E6)/2/3.6 -> 0 | H7: =($E8-$E6)/2 -> 0 | I7: =F7 -> 0 | J7: =SUM(I7,J6) -> 0 | K7: =SUM(I7,K6) -> 0 | L7: ='Car Info '!$C$5*'My Spreedsheet '!G7 -> 0 | M7: =IF(F7=0,0,1) -> 0 | N7: =IF(M7=1,'Car Info '!$C$5*9.80665*'Car Info '!$H$5,0) -> 0 | O7: =0.5*'Car Info '!$G$5*'Car Info '!$I$5*'Car Info '!$D$5*('My Spreedsheet '!F7*'My Spreedsheet '!F7) -> 0 | P7: =L7+N7+O7 -> 0 | Q7: =P7*F7 -> 0 | R7: =Q7*0.001 -> 0 | S7: =F7*(N7+O7) -> 0 | T7: =SUM(S7,T6) -> 0 | U7: =IF(R7>0,R7,0) -> 0 | V7: =U7/3600 -> 0 | W7: =IF(R7<0,R7,0) -> 0 | X7: =(W7/3600)*-1 -> 0 | Y7: =IF(R7>0,SUM(Y6,R7),Y6) -> 0 | Z7: =IF(R7<0,SUM(Z6,R7),Z6) -> 0 | AA7: =Y7/(60*60) -> 0 | AB7: =Z7/(60*60) -> 0 | AC7: =AB7*-1 -> 0 | AD7: =AA7-AC7 -> 0 | AE7: =1/2*(('Car Info '!$C$5)*('My Spreedsheet '!F7)^2) -> 0 | AF7: =AE7*0.001 -> 0 | AG7: =AF7/3600 -> 0 | AH7: =SUM(AG7,AH6) -> 0 | AI7: =I7*(N7+O7) -> 0 | AJ7: =AE7-AI7 -> 0 | AK7: =AJ7*0.001 -> 0 | AL7: =IF(G7<0,AJ7,0) -> 0 | AM7: =AL7*0.001 -> 0 | AN7: =(AJ7*0.75)*0.001 -> 0 | AO7: =IF('My Spreedsheet '!AN7< 'Supercapacitor Info'!$F$22,'My Spreedsheet '!AN7,'Supercapacitor Info'!$F$22) -> 0 | AQ7: 4 | AR7: Extra High | AS7: =SUM(F1483:F1805) -> 8254.1389 | AT7: =SUM(N1483:O1805) -> 143705.88 | AU7: =(AS7*AT7)*0.001 -> 1186168.3 | AV7: =MAX(F1483:F1805) -> 36.472222 | AW7: =MAX(G1483:G1805) -> 1.0277778 | AX7: =MIN(G1483:G1805)*-1 -> 1.2083333 | AY7: =MAX(R1483:R1805) -> 39.329866 | AZ7: =AVERAGE(R1483:R1805) -> 13.023442 | BA7: =SUMIF(R1483:R1805,">0") -> 4742.3564 | BB7: =MIN(W1483:W1805)*-1 -> 19.636256 | BC7: =AVERAGE(W1483:W1805)*-1 -> 1.6587765 | BD7: =SUM(W1483:W1805)*-1 -> 535.7848 | BE7: =MAX(AE1483:AE1805) -> 991016.13 | BF7: =MAX(AF1483:AF1805) -> 991.01613 | BG7: =MAX(AG1483:AG1805) -> 0.27528226 | BH7: =MAX(AJ1483:AJ1805) -> 966626.42 | BI7: =BH7*0.001 -> 966.62642 | BJ7: =BI7*0.75 -> 724.96981
B8: Low | C8: 3 | D8: 3 | E8: 0 | F8: =E8/3.6 -> 0 | G8: =($E9-$E7)/2/3.6 -> 0 | H8: =($E9-$E7)/2 -> 0 | I8: =F8 -> 0 | J8: =SUM(I8,J7) -> 0 | K8: =SUM(I8,K7) -> 0 | L8: ='Car Info '!$C$5*'My Spreedsheet '!G8 -> 0 | M8: =IF(F8=0,0,1) -> 0 | N8: =IF(M8=1,'Car Info '!$C$5*9.80665*'Car Info '!$H$5,0) -> 0 | O8: =0.5*'Car Info '!$G$5*'Car Info '!$I$5*'Car Info '!$D$5*('My Spreedsheet '!F8*'My Spreedsheet '!F8) -> 0 | P8: =L8+N8+O8 -> 0 | Q8: =P8*F8 -> 0 | R8: =Q8*0.001 -> 0 | S8: =F8*(N8+O8) -> 0 | T8: =SUM(S8,T7) -> 0 | U8: =IF(R8>0,R8,0) -> 0 | V8: =U8/3600 -> 0 | W8: =IF(R8<0,R8,0) -> 0 | X8: =(W8/3600)*-1 -> 0 | Y8: =IF(R8>0,SUM(Y7,R8),Y7) -> 0 | Z8: =IF(R8<0,SUM(Z7,R8),Z7) -> 0 | AA8: =Y8/(60*60) -> 0 | AB8: =Z8/(60*60) -> 0 | AC8: =AB8*-1 -> 0 | AD8: =AA8-AC8 -> 0 | AE8: =1/2*(('Car Info '!$C$5)*('My Spreedsheet '!F8)^2) -> 0 | AF8: =AE8*0.001 -> 0 | AG8: =AF8/3600 -> 0 | AH8: =SUM(AG8,AH7) -> 0 | AI8: =I8*(N8+O8) -> 0 | AJ8: =AE8-AI8 -> 0 | AK8: =AJ8*0.001 -> 0 | AL8: =IF(G8<0,AJ8,0) -> 0 | AM8: =AL8*0.001 -> 0 | AN8: =(AJ8*0.75)*0.001 -> 0 | AO8: =IF('My Spreedsheet '!AN8< 'Supercapacitor Info'!$F$22,'My Spreedsheet '!AN8,'Supercapacitor Info'!$F$22) -> 0 | AR8: All | AS8: =SUM(F5:F1805) -> 23262.389 | AT8: =SUM(N5:O1805) -> 435327.82 | AU8: =(AS8*AT8)*0.001 -> 10126765 | AV8: =MAX(F5:F1805) -> 36.472222 | AW8: =MAX(G5:G1805) -> 1.5833333 | AX8: =MIN(G5:G1805)*-1 -> 1.4861111 | AY8: =MAX(R5:R1805) -> 39.329866 | AZ8: =AVERAGE(R5:R1805) -> 4.6051296 | BA8: =SUMIF(R5:R1805,">0") -> 11318.81 | BB8: =MIN(W5:W1805)*-1 -> 28.871988 | BC8: =AVERAGE(W5:W1805)*-1 -> 1.6796066 | BD8: =SUM(W5:W1805)*-1 -> 3024.9714 | BE8: =MAX(AE5:AE1805) -> 991016.13 | BF8: =MAX(AF5:AF1805) -> 991.01613 | BG8: =MAX(AG5:AG1805) -> 0.27528226 | BH8: =MAX(AJ5:AJ1805) -> 966626.42 | BI8: =BH8*0.001 -> 966.62642 | BJ8: =BI8*0.75 -> 724.96981
B9: Low | C9: 4 | D9: 4 | E9: 0 | F9: =E9/3.6 -> 0 | G9: =($E10-$E8)/2/3.6 -> 0 | H9: =($E10-$E8)/2 -> 0 | I9: =F9 -> 0 | J9: =SUM(I9,J8) -> 0 | K9: =SUM(I9,K8) -> 0 | L9: ='Car Info '!$C$5*'My Spreedsheet '!G9 -> 0 | M9: =IF(F9=0,0,1) -> 0 | N9: =IF(M9=1,'Car Info '!$C$5*9.80665*'Car Info '!$H$5,0) -> 0 | O9: =0.5*'Car Info '!$G$5*'Car Info '!$I$5*'Car Info '!$D$5*('My Spreedsheet '!F9*'My Spreedsheet '!F9) -> 0 | P9: =L9+N9+O9 -> 0 | Q9: =P9*F9 -> 0 | R9: =Q9*0.001 -> 0 | S9: =F9*(N9+O9) -> 0 | T9: =SUM(S9,T8) -> 0 | U9: =IF(R9>0,R9,0) -> 0 | V9: =U9/3600 -> 0 | W9: =IF(R9<0,R9,0) -> 0 | X9: =(W9/3600)*-1 -> 0 | Y9: =IF(R9>0,SUM(Y8,R9),Y8) -> 0 | Z9: =IF(R9<0,SUM(Z8,R9),Z8) -> 0 | AA9: =Y9/(60*60) -> 0 | AB9: =Z9/(60*60) -> 0 | AC9: =AB9*-1 -> 0 | AD9: =AA9-AC9 -> 0 | AE9: =1/2*(('Car Info '!$C$5)*('My Spreedsheet '!F9)^2) -> 0 | AF9: =AE9*0.001 -> 0 | AG9: =AF9/3600 -> 0 | AH9: =SUM(AG9,AH8) -> 0 | AI9: =I9*(N9+O9) -> 0 | AJ9: =AE9-AI9 -> 0 | AK9: =AJ9*0.001 -> 0 | AL9: =IF(G9<0,AJ9,0) -> 0 | AM9: =AL9*0.001 -> 0 | AN9: =(AJ9*0.75)*0.001 -> 0 | AO9: =IF('My Spreedsheet '!AN9< 'Supercapacitor Info'!$F$22,'My Spreedsheet '!AN9,'Supercapacitor Info'!$F$22) -> 0
B10: Low | C10: 5 | D10: 5 | E10: 0 | F10: =E10/3.6 -> 0 | G10: =($E11-$E9)/2/3.6 -> 0 | H10: =($E11-$E9)/2 -> 0 | I10: =F10 -> 0 | J10: =SUM(I10,J9) -> 0 | K10: =SUM(I10,K9) -> 0 | L10: ='Car Info '!$C$5*'My Spreedsheet '!G10 -> 0 | M10: =IF(F10=0,0,1) -> 0 | N10: =IF(M10=1,'Car Info '!$C$5*9.80665*'Car Info '!$H$5,0) -> 0 | O10: =0.5*'Car Info '!$G$5*'Car Info '!$I$5*'Car Info '!$D$5*('My Spreedsheet '!F10*'My Spreedsheet '!F10) -> 0 | P10: =L10+N10+O10 -> 0 | Q10: =P10*F10 -> 0 | R10: =Q10*0.001 -> 0 | S10: =F10*(N10+O10) -> 0 | T10: =SUM(S10,T9) -> 0 | U10: =IF(R10>0,R10,0) -> 0 | V10: =U10/3600 -> 0 | W10: =IF(R10<0,R10,0) -> 0 | X10: =(W10/3600)*-1 -> 0 | Y10: =IF(R10>0,SUM(Y9,R10),Y9) -> 0 | Z10: =IF(R10<0,SUM(Z9,R10),Z9) -> 0 | AA10: =Y10/(60*60) -> 0 | AB10: =Z10/(60*60) -> 0 | AC10: =AB10*-1 -> 0 | AD10: =AA10-AC10 -> 0 | AE10: =1/2*(('Car Info '!$C$5)*('My Spreedsheet '!F10)^2) -> 0 | AF10: =AE10*0.001 -> 0 | AG10: =AF10/3600 -> 0 | AH10: =SUM(AG10,AH9) -> 0 | AI10: =I10*(N10+O10) -> 0 | AJ10: =AE10-AI10 -> 0 | AK10: =AJ10*0.001 -> 0 | AL10: =IF(G10<0,AJ10,0) -> 0 | AM10: =AL10*0.001 -> 0 | AN10: =(AJ10*0.75)*0.001 -> 0 | AO10: =IF('My Spreedsheet '!AN10< 'Supercapacitor Info'!$F$22,'My Spreedsheet '!AN10,'Supercapacitor Info'!$F$22) -> 0
B11: Low | C11: 6 | D11: 6 | E11: 0 | F11: =E11/3.6 -> 0 | G11: =($E12-$E10)/2/3.6 -> 0 | H11: =($E12-$E10)/2 -> 0 | I11: =F11 -> 0 | J11: =SUM(I11,J10) -> 0 | K11: =SUM(I11,K10) -> 0 | L11: ='Car Info '!$C$5*'My Spreedsheet '!G11 -> 0 | M11: =IF(F11=0,0,1) -> 0 | N11: =IF(M11=1,'Car Info '!$C$5*9.80665*'Car Info '!$H$5,0) -> 0 | O11: =0.5*'Car Info '!$G$5*'Car Info '!$I$5*'Car Info '!$D$5*('My Spreedsheet '!F11*'My Spreedsheet '!F11) -> 0 | P11: =L11+N11+O11 -> 0 | Q11: =P11*F11 -> 0 | R11: =Q11*0.001 -> 0 | S11: =F11*(N11+O11) -> 0 | T11: =SUM(S11,T10) -> 0 | U11: =IF(R11>0,R11,0) -> 0 | V11: =U11/3600 -> 0 | W11: =IF(R11<0,R11,0) -> 0 | X11: =(W11/3600)*-1 -> 0 | Y11: =IF(R11>0,SUM(Y10,R11),Y10) -> 0 | Z11: =IF(R11<0,SUM(Z10,R11),Z10) -> 0 | AA11: =Y11/(60*60) -> 0 | AB11: =Z11/(60*60) -> 0 | AC11: =AB11*-1 -> 0 | AD11: =AA11-AC11 -> 0 | AE11: =1/2*(('Car Info '!$C$5)*('My Spreedsheet '!F11)^2) -> 0 | AF11: =AE11*0.001 -> 0 | AG11: =AF11/3600 -> 0 | AH11: =SUM(AG11,AH10) -> 0 | AI11: =I11*(N11+O11) -> 0 | AJ11: =AE11-AI11 -> 0 | AK11: =AJ11*0.001 -> 0 | AL11: =IF(G11<0,AJ11,0) -> 0 | AM11: =AL11*0.001 -> 0 | AN11: =(AJ11*0.75)*0.001 -> 0 | AO11: =IF('My Spreedsheet '!AN11< 'Supercapacitor Info'!$F$22,'My Spreedsheet '!AN11,'Supercapacitor Info'!$F$22) -> 0 | AQ11: Key
B12: Low | C12: 7 | D12: 7 | E12: 0 | F12: =E12/3.6 -> 0 | G12: =($E13-$E11)/2/3.6 -> 0 | H12: =($E13-$E11)/2 -> 0 | I12: =F12 -> 0 | J12: =SUM(I12,J11) -> 0 | K12: =SUM(I12,K11) -> 0 | L12: ='Car Info '!$C$5*'My Spreedsheet '!G12 -> 0 | M12: =IF(F12=0,0,1) -> 0 | N12: =IF(M12=1,'Car Info '!$C$5*9.80665*'Car Info '!$H$5,0) -> 0 | O12: =0.5*'Car Info '!$G$5*'Car Info '!$I$5*'Car Info '!$D$5*('My Spreedsheet '!F12*'My Spreedsheet '!F12) -> 0 | P12: =L12+N12+O12 -> 0 | Q12: =P12*F12 -> 0 | R12: =Q12*0.001 -> 0 | S12: =F12*(N12+O12) -> 0 | T12: =SUM(S12,T11) -> 0 | U12: =IF(R12>0,R12,0) -> 0 | V12: =U12/3600 -> 0 | W12: =IF(R12<0,R12,0) -> 0 | X12: =(W12/3600)*-1 -> 0 | Y12: =IF(R12>0,SUM(Y11,R12),Y11) -> 0 | Z12: =IF(R12<0,SUM(Z11,R12),Z11) -> 0 | AA12: =Y12/(60*60) -> 0 | AB12: =Z12/(60*60) -> 0 | AC12: =AB12*-1 -> 0 | AD12: =AA12-AC12 -> 0 | AE12: =1/2*(('Car Info '!$C$5)*('My Spreedsheet '!F12)^2) -> 0 | AF12: =AE12*0.001 -> 0 | AG12: =AF12/3600 -> 0 | AH12: =SUM(AG12,AH11) -> 0 | AI12: =I12*(N12+O12) -> 0 | AJ12: =AE12-AI12 -> 0 | AK12: =AJ12*0.001 -> 0 | AL12: =IF(G12<0,AJ12,0) -> 0 | AM12: =AL12*0.001 -> 0 | AN12: =(AJ12*0.75)*0.001 -> 0 | AO12: =IF('My Spreedsheet '!AN12< 'Supercapacitor Info'!$F$22,'My Spreedsheet '!AN12,'Supercapacitor Info'!$F$22) -> 0 | AQ12: Low
B13: Low | C13: 8 | D13: 8 | E13: 0 | F13: =E13/3.6 -> 0 | G13: =($E14-$E12)/2/3.6 -> 0 | H13: =($E14-$E12)/2 -> 0 | I13: =F13 -> 0 | J13: =SUM(I13,J12) -> 0 | K13: =SUM(I13,K12) -> 0 | L13: ='Car Info '!$C$5*'My Spreedsheet '!G13 -> 0 | M13: =IF(F13=0,0,1) -> 0 | N13: =IF(M13=1,'Car Info '!$C$5*9.80665*'Car Info '!$H$5,0) -> 0 | O13: =0.5*'Car Info '!$G$5*'Car Info '!$I$5*'Car Info '!$D$5*('My Spreedsheet '!F13*'My Spreedsheet '!F13) -> 0 | P13: =L13+N13+O13 -> 0 | Q13: =P13*F13 -> 0 | R13: =Q13*0.001 -> 0 | S13: =F13*(N13+O13) -> 0 | T13: =SUM(S13,T12) -> 0 | U13: =IF(R13>0,R13,0) -> 0 | V13: =U13/3600 -> 0 | W13: =IF(R13<0,R13,0) -> 0 | X13: =(W13/3600)*-1 -> 0 | Y13: =IF(R13>0,SUM(Y12,R13),Y12) -> 0 | Z13: =IF(R13<0,SUM(Z12,R13),Z12) -> 0 | AA13: =Y13/(60*60) -> 0 | AB13: =Z13/(60*60) -> 0 | AC13: =AB13*-1 -> 0 | AD13: =AA13-AC13 -> 0 | AE13: =1/2*(('Car Info '!$C$5)*('My Spreedsheet '!F13)^2) -> 0 | AF13: =AE13*0.001 -> 0 | AG13: =AF13/3600 -> 0 | AH13: =SUM(AG13,AH12) -> 0 | AI13: =I13*(N13+O13) -> 0 | AJ13: =AE13-AI13 -> 0 | AK13: =AJ13*0.001 -> 0 | AL13: =IF(G13<0,AJ13,0) -> 0 | AM13: =AL13*0.001 -> 0 | AN13: =(AJ13*0.75)*0.001 -> 0 | AO13: =IF('My Spreedsheet '!AN13< 'Supercapacitor Info'!$F$22,'My Spreedsheet '!AN13,'Supercapacitor Info'!$F$22) -> 0 | AQ13: Middle
B14: Low | C14: 9 | D14: 9 | E14: 0 | F14: =E14/3.6 -> 0 | G14: =($E15-$E13)/2/3.6 -> 0 | H14: =($E15-$E13)/2 -> 0 | I14: =F14 -> 0 | J14: =SUM(I14,J13) -> 0 | K14: =SUM(I14,K13) -> 0 | L14: ='Car Info '!$C$5*'My Spreedsheet '!G14 -> 0 | M14: =IF(F14=0,0,1) -> 0 | N14: =IF(M14=1,'Car Info '!$C$5*9.80665*'Car Info '!$H$5,0) -> 0 | O14: =0.5*'Car Info '!$G$5*'Car Info '!$I$5*'Car Info '!$D$5*('My Spreedsheet '!F14*'My Spreedsheet '!F14) -> 0 | P14: =L14+N14+O14 -> 0 | Q14: =P14*F14 -> 0 | R14: =Q14*0.001 -> 0 | S14: =F14*(N14+O14) -> 0 | T14: =SUM(S14,T13) -> 0 | U14: =IF(R14>0,R14,0) -> 0 | V14: =U14/3600 -> 0 | W14: =IF(R14<0,R14,0) -> 0 | X14: =(W14/3600)*-1 -> 0 | Y14: =IF(R14>0,SUM(Y13,R14),Y13) -> 0 | Z14: =IF(R14<0,SUM(Z13,R14),Z13) -> 0 | AA14: =Y14/(60*60) -> 0 | AB14: =Z14/(60*60) -> 0 | AC14: =AB14*-1 -> 0 | AD14: =AA14-AC14 -> 0 | AE14: =1/2*(('Car Info '!$C$5)*('My Spreedsheet '!F14)^2) -> 0 | AF14: =AE14*0.001 -> 0 | AG14: =AF14/3600 -> 0 | AH14: =SUM(AG14,AH13) -> 0 | AI14: =I14*(N14+O14) -> 0 | AJ14: =AE14-AI14 -> 0 | AK14: =AJ14*0.001 -> 0 | AL14: =IF(G14<0,AJ14,0) -> 0 | AM14: =AL14*0.001 -> 0 | AN14: =(AJ14*0.75)*0.001 -> 0 | AO14: =IF('My Spreedsheet '!AN14< 'Supercapacitor Info'!$F$22,'My Spreedsheet '!AN14,'Supercapacitor Info'!$F$22) -> 0 | AQ14: High
B15: Low | C15: 10 | D15: 10 | E15: 0 | F15: =E15/3.6 -> 0 | G15: =($E16-$E14)/2/3.6 -> 0 | H15: =($E16-$E14)/2 -> 0 | I15: =F15 -> 0 | J15: =SUM(I15,J14) -> 0 | K15: =SUM(I15,K14) -> 0 | L15: ='Car Info '!$C$5*'My Spreedsheet '!G15 -> 0 | M15: =IF(F15=0,0,1) -> 0 | N15: =IF(M15=1,'Car Info '!$C$5*9.80665*'Car Info '!$H$5,0) -> 0 | O15: =0.5*'Car Info '!$G$5*'Car Info '!$I$5*'Car Info '!$D$5*('My Spreedsheet '!F15*'My Spreedsheet '!F15) -> 0 | P15: =L15+N15+O15 -> 0 | Q15: =P15*F15 -> 0 | R15: =Q15*0.001 -> 0 | S15: =F15*(N15+O15) -> 0 | T15: =SUM(S15,T14) -> 0 | U15: =IF(R15>0,R15,0) -> 0 | V15: =U15/3600 -> 0 | W15: =IF(R15<0,R15,0) -> 0 | X15: =(W15/3600)*-1 -> 0 | Y15: =IF(R15>0,SUM(Y14,R15),Y14) -> 0 | Z15: =IF(R15<0,SUM(Z14,R15),Z14) -> 0 | AA15: =Y15/(60*60) -> 0 | AB15: =Z15/(60*60) -> 0 | AC15: =AB15*-1 -> 0 | AD15: =AA15-AC15 -> 0 | AE15: =1/2*(('Car Info '!$C$5)*('My Spreedsheet '!F15)^2) -> 0 | AF15: =AE15*0.001 -> 0 | AG15: =AF15/3600 -> 0 | AH15: =SUM(AG15,AH14) -> 0 | AI15: =I15*(N15+O15) -> 0 | AJ15: =AE15-AI15 -> 0 | AK15: =AJ15*0.001 -> 0 | AL15: =IF(G15<0,AJ15,0) -> 0 | AM15: =AL15*0.001 -> 0 | AN15: =(AJ15*0.75)*0.001 -> 0 | AO15: =IF('My Spreedsheet '!AN15< 'Supercapacitor Info'!$F$22,'My Spreedsheet '!AN15,'Supercapacitor Info'!$F$22) -> 0 | AQ15: Extra High
B16: Low | C16: 11 | D16: 11 | E16: 0 | F16: =E16/3.6 -> 0 | G16: =($E17-$E15)/2/3.6 -> 0.027777778 | H16: =($E17-$E15)/2 -> 0.1 | I16: =F16 -> 0 | J16: =SUM(I16,J15) -> 0 | K16: =SUM(I16,K15) -> 0 | L16: ='Car Info '!$C$5*'My Spreedsheet '!G16 -> 41.388889 | M16: =IF(F16=0,0,1) -> 0 | N16: =IF(M16=1,'Car Info '!$C$5*9.80665*'Car Info '!$H$5,0) -> 0 | O16: =0.5*'Car Info '!$G$5*'Car Info '!$I$5*'Car Info '!$D$5*('My Spreedsheet '!F16*'My Spreedsheet '!F16) -> 0 | P16: =L16+N16+O16 -> 41.388889 | Q16: =P16*F16 -> 0 | R16: =Q16*0.001 -> 0 | S16: =F16*(N16+O16) -> 0 | T16: =SUM(S16,T15) -> 0 | U16: =IF(R16>0,R16,0) -> 0 | V16: =U16/3600 -> 0 | W16: =IF(R16<0,R16,0) -> 0 | X16: =(W16/3600)*-1 -> 0 | Y16: =IF(R16>0,SUM(Y15,R16),Y15) -> 0 | Z16: =IF(R16<0,SUM(Z15,R16),Z15) -> 0 | AA16: =Y16/(60*60) -> 0 | AB16: =Z16/(60*60) -> 0 | AC16: =AB16*-1 -> 0 | AD16: =AA16-AC16 -> 0 | AE16: =1/2*(('Car Info '!$C$5)*('My Spreedsheet '!F16)^2) -> 0 | AF16: =AE16*0.001 -> 0 | AG16: =AF16/3600 -> 0 | AH16: =SUM(AG16,AH15) -> 0 | AI16: =I16*(N16+O16) -> 0 | AJ16: =AE16-AI16 -> 0 | AK16: =AJ16*0.001 -> 0 | AL16: =IF(G16<0,AJ16,0) -> 0 | AM16: =AL16*0.001 -> 0 | AN16: =(AJ16*0.75)*0.001 -> 0 | AO16: =IF('My Spreedsheet '!AN16< 'Supercapacitor Info'!$F$22,'My Spreedsheet '!AN16,'Supercapacitor Info'!$F$22) -> 0
B17: Low | C17: 12 | D17: 12 | E17: 0.2 | F17: =E17/3.6 -> 0.055555556 | G17: =($E18-$E16)/2/3.6 -> 0.23611111 | H17: =($E18-$E16)/2 -> 0.85 | I17: =F17 -> 0.055555556 | J17: =SUM(I17,J16) -> 0.055555556 | K17: =SUM(I17,K16) -> 0.055555556 | L17: ='Car Info '!$C$5*'My Spreedsheet '!G17 -> 351.80556 | M17: =IF(F17=0,0,1) -> 1 | N17: =IF(M17=1,'Car Info '!$C$5*9.80665*'Car Info '!$H$5,0) -> 160.73099 | O17: =0.5*'Car Info '!$G$5*'Car Info '!$I$5*'Car Info '!$D$5*('My Spreedsheet '!F17*'My Spreedsheet '!F17) -> 0.0011786504 | P17: =L17+N17+O17 -> 512.53773 | Q17: =P17*F17 -> 28.474318 | R17: =Q17*0.001 -> 0.028474318 | S17: =F17*(N17+O17) -> 8.9295651 | T17: =SUM(S17,T16) -> 8.9295651 | U17: =IF(R17>0,R17,0) -> 0.028474318 | V17: =U17/3600 -> 7.9095328e-06 | W17: =IF(R17<0,R17,0) -> 0 | X17: =(W17/3600)*-1 -> 0 | Y17: =IF(R17>0,SUM(Y16,R17),Y16) -> 0.028474318 | Z17: =IF(R17<0,SUM(Z16,R17),Z16) -> 0 | AA17: =Y17/(60*60) -> 7.9095328e-06 | AB17: =Z17/(60*60) -> 0 | AC17: =AB17*-1 -> 0 | AD17: =AA17-AC17 -> 7.9095328e-06 | AE17: =1/2*(('Car Info '!$C$5)*('My Spreedsheet '!F17)^2) -> 2.2993827 | AF17: =AE17*0.001 -> 0.0022993827 | AG17: =AF17/3600 -> 6.3871742e-07 | AH17: =SUM(AG17,AH16) -> 6.3871742e-07 | AI17: =I17*(N17+O17) -> 8.9295651 | AJ17: =AE17-AI17 -> -6.6301824 | AK17: =AJ17*0.001 -> -0.0066301824 | AL17: =IF(G17<0,AJ17,0) -> 0 | AM17: =AL17*0.001 -> 0 | AN17: =(AJ17*0.75)*0.001 -> -0.0049726368 | AO17: =IF('My Spreedsheet '!AN17< 'Supercapacitor Info'!$F$22,'My Spreedsheet '!AN17,'Supercapacitor Info'!$F$22) -> -0.0049726368
B18: Low | C18: 13 | D18: 13 | E18: 1.7 | F18: =E18/3.6 -> 0.47222222 | G18: =($E19-$E17)/2/3.6 -> 0.72222222 | H18: =($E19-$E17)/2 -> 2.6 | I18: =F18 -> 0.47222222 | J18: =SUM(I18,J17) -> 0.52777778 | K18: =SUM(I18,K17) -> 0.52777778 | L18: ='Car Info '!$C$5*'My Spreedsheet '!G18 -> 1076.1111 | M18: =IF(F18=0,0,1) -> 1 | N18: =IF(M18=1,'Car Info '!$C$5*9.80665*'Car Info '!$H$5,0) -> 160.73099 | O18: =0.5*'Car Info '!$G$5*'Car Info '!$I$5*'Car Info '!$D$5*('My Spreedsheet '!F18*'My Spreedsheet '!F18) -> 0.085157493 | P18: =L18+N18+O18 -> 1236.9273 | Q18: =P18*F18 -> 584.10454 | R18: =Q18*0.001 -> 0.58410454 | S18: =F18*(N18+O18) -> 75.94096 | T18: =SUM(S18,T17) -> 84.870525 | U18: =IF(R18>0,R18,0) -> 0.58410454 | V18: =U18/3600 -> 0.00016225126 | W18: =IF(R18<0,R18,0) -> 0 | X18: =(W18/3600)*-1 -> 0 | Y18: =IF(R18>0,SUM(Y17,R18),Y17) -> 0.61257886 | Z18: =IF(R18<0,SUM(Z17,R18),Z17) -> 0 | AA18: =Y18/(60*60) -> 0.00017016079 | AB18: =Z18/(60*60) -> 0 | AC18: =AB18*-1 -> 0 | AD18: =AA18-AC18 -> 0.00017016079 | AE18: =1/2*(('Car Info '!$C$5)*('My Spreedsheet '!F18)^2) -> 166.1304 | AF18: =AE18*0.001 -> 0.1661304 | AG18: =AF18/3600 -> 4.6147334e-05 | AH18: =SUM(AG18,AH17) -> 4.6786051e-05 | AI18: =I18*(N18+O18) -> 75.94096 | AJ18: =AE18-AI18 -> 90.189441 | AK18: =AJ18*0.001 -> 0.090189441 | AL18: =IF(G18<0,AJ18,0) -> 0 | AM18: =AL18*0.001 -> 0 | AN18: =(AJ18*0.75)*0.001 -> 0.067642081 | AO18: =IF('My Spreedsheet '!AN18< 'Supercapacitor Info'!$F$22,'My Spreedsheet '!AN18,'Supercapacitor Info'!$F$22) -> 0.067642081
B19: Low | C19: 14 | D19: 14 | E19: 5.4 | F19: =E19/3.6 -> 1.5 | G19: =($E20-$E18)/2/3.6 -> 1.1388889 | H19: =($E20-$E18)/2 -> 4.1 | I19: =F19 -> 1.5 | J19: =SUM(I19,J18) -> 2.0277778 | K19: =SUM(I19,K18) -> 2.0277778 | L19: ='Car Info '!$C$5*'My Spreedsheet '!G19 -> 1696.9444 | M19: =IF(F19=0,0,1) -> 1 | N19: =IF(M19=1,'Car Info '!$C$5*9.80665*'Car Info '!$H$5,0) -> 160.73099 | O19: =0.5*'Car Info '!$G$5*'Car Info '!$I$5*'Car Info '!$D$5*('My Spreedsheet '!F19*'My Spreedsheet '!F19) -> 0.85923616 | P19: =L19+N19+O19 -> 1858.5347 | Q19: =P19*F19 -> 2787.802 | R19: =Q19*0.001 -> 2.787802 | S19: =F19*(N19+O19) -> 242.38534 | T19: =SUM(S19,T18) -> 327.25587 | U19: =IF(R19>0,R19,0) -> 2.787802 | V19: =U19/3600 -> 0.00077438945 | W19: =IF(R19<0,R19,0) -> 0 | X19: =(W19/3600)*-1 -> 0 | Y19: =IF(R19>0,SUM(Y18,R19),Y18) -> 3.4003809 | Z19: =IF(R19<0,SUM(Z18,R19),Z18) -> 0 | AA19: =Y19/(60*60) -> 0.00094455024 | AB19: =Z19/(60*60) -> 0 | AC19: =AB19*-1 -> 0 | AD19: =AA19-AC19 -> 0.00094455024 | AE19: =1/2*(('Car Info '!$C$5)*('My Spreedsheet '!F19)^2) -> 1676.25 | AF19: =AE19*0.001 -> 1.67625 | AG19: =AF19/3600 -> 0.000465625 | AH19: =SUM(AG19,AH18) -> 0.00051241105 | AI19: =I19*(N19+O19) -> 242.38534 | AJ19: =AE19-AI19 -> 1433.8647 | AK19: =AJ19*0.001 -> 1.4338647 | AL19: =IF(G19<0,AJ19,0) -> 0 | AM19: =AL19*0.001 -> 0 | AN19: =(AJ19*0.75)*0.001 -> 1.0753985 | AO19: =IF('My Spreedsheet '!AN19< 'Supercapacitor Info'!$F$22,'My Spreedsheet '!AN19,'Supercapacitor Info'!$F$22) -> 1.0753985
B20: Low | C20: 15 | D20: 15 | E20: 9.9 | F20: =E20/3.6 -> 2.75 | G20: =($E21-$E19)/2/3.6 -> 1.0694444 | H20: =($E21-$E19)/2 -> 3.85 | I20: =F20 -> 2.75 | J20: =SUM(I20,J19) -> 4.7777778 | K20: =SUM(I20,K19) -> 4.7777778 | L20: ='Car Info '!$C$5*'My Spreedsheet '!G20 -> 1593.4722 | M20: =IF(F20=0,0,1) -> 1 | N20: =IF(M20=1,'Car Info '!$C$5*9.80665*'Car Info '!$H$5,0) -> 160.73099 | O20: =0.5*'Car Info '!$G$5*'Car Info '!$I$5*'Car Info '!$D$5*('My Spreedsheet '!F20*'My Spreedsheet '!F20) -> 2.8879882 | P20: =L20+N20+O20 -> 1757.0912 | Q20: =P20*F20 -> 4832.0008 | R20: =Q20*0.001 -> 4.8320008 | S20: =F20*(N20+O20) -> 449.9522 | T20: =SUM(S20,T19) -> 777.20807 | U20: =IF(R20>0,R20,0) -> 4.8320008 | V20: =U20/3600 -> 0.0013422224 | W20: =IF(R20<0,R20,0) -> 0 | X20: =(W20/3600)*-1 -> 0 | Y20: =IF(R20>0,SUM(Y19,R20),Y19) -> 8.2323817 | Z20: =IF(R20<0,SUM(Z19,R20),Z19) -> 0 | AA20: =Y20/(60*60) -> 0.0022867727 | AB20: =Z20/(60*60) -> 0 | AC20: =AB20*-1 -> 0 | AD20: =AA20-AC20 -> 0.0022867727 | AE20: =1/2*(('Car Info '!$C$5)*('My Spreedsheet '!F20)^2) -> 5634.0625 | AF20: =AE20*0.001 -> 5.6340625 | AG20: =AF20/3600 -> 0.0015650174 | AH20: =SUM(AG20,AH19) -> 0.0020774284 | AI20: =I20*(N20+O20) -> 449.9522 | AJ20: =AE20-AI20 -> 5184.1103 | AK20: =AJ20*0.001 -> 5.1841103 | AL20: =IF(G20<0,AJ20,0) -> 0 | AM20: =AL20*0.001 -> 0 | AN20: =(AJ20*0.75)*0.001 -> 3.8880827 | AO20: =IF('My Spreedsheet '!AN20< 'Supercapacitor Info'!$F$22,'My Spreedsheet '!AN20,'Supercapacitor Info'!$F$22) -> 3.8880827
B21: Low | C21: 16 | D21: 16 | E21: 13.1 | F21: =E21/3.6 -> 3.6388889 | G21: =($E22-$E20)/2/3.6 -> 0.97222222 | H21: =($E22-$E20)/2 -> 3.5 | I21: =F21 -> 3.6388889 | J21: =SUM(I21,J20) -> 8.4166667 | K21: =SUM(I21,K20) -> 8.4166667 | L21: ='Car Info '!$C$5*'My Spreedsheet '!G21 -> 1448.6111 | M21: =IF(F21=0,0,1) -> 1 | N21: =IF(M21=1,'Car Info '!$C$5*9.80665*'Car Info '!$H$5,0) -> 160.73099 | O21: =0.5*'Car Info '!$G$5*'Car Info '!$I$5*'Car Info '!$D$5*('My Spreedsheet '!F21*'My Spreedsheet '!F21) -> 5.056705 | P21: =L21+N21+O21 -> 1614.3988 | Q21: =P21*F21 -> 5874.6179 | R21: =Q21*0.001 -> 5.8746179 | S21: =F21*(N21+O21) -> 603.28301 | T21: =SUM(S21,T20) -> 1380.4911 | U21: =IF(R21>0,R21,0) -> 5.8746179 | V21: =U21/3600 -> 0.0016318383 | W21: =IF(R21<0,R21,0) -> 0 | X21: =(W21/3600)*-1 -> 0 | Y21: =IF(R21>0,SUM(Y20,R21),Y20) -> 14.107 | Z21: =IF(R21<0,SUM(Z20,R21),Z20) -> 0 | AA21: =Y21/(60*60) -> 0.003918611 | AB21: =Z21/(60*60) -> 0 | AC21: =AB21*-1 -> 0 | AD21: =AA21-AC21 -> 0.003918611 | AE21: =1/2*(('Car Info '!$C$5)*('My Spreedsheet '!F21)^2) -> 9864.9267 | AF21: =AE21*0.001 -> 9.8649267 | AG21: =AF21/3600 -> 0.0027402574 | AH21: =SUM(AG21,AH20) -> 0.0048176858 | AI21: =I21*(N21+O21) -> 603.28301 | AJ21: =AE21-AI21 -> 9261.6437 | AK21: =AJ21*0.001 -> 9.2616437 | AL21: =IF(G21<0,AJ21,0) -> 0 | AM21: =AL21*0.001 -> 0 | AN21: =(AJ21*0.75)*0.001 -> 6.9462328 | AO21: =IF('My Spreedsheet '!AN21< 'Supercapacitor Info'!$F$22,'My Spreedsheet '!AN21,'Supercapacitor Info'!$F$22) -> 6.9462328
B22: Low | C22: 17 | D22: 17 | E22: 16.9 | F22: =E22/3.6 -> 4.6944444 | G22: =($E23-$E21)/2/3.6 -> 1.1944444 | H22: =($E23-$E21)/2 -> 4.3 | I22: =F22 -> 4.6944444 | J22: =SUM(I22,J21) -> 13.111111 | K22: =SUM(I22,K21) -> 13.111111 | L22: ='Car Info '!$C$5*'My Spreedsheet '!G22 -> 1779.7222 | M22: =IF(F22=0,0,1) -> 1 | N22: =IF(M22=1,'Car Info '!$C$5*9.80665*'Car Info '!$H$5,0) -> 160.73099 | O22: =0.5*'Car Info '!$G$5*'Car Info '!$I$5*'Car Info '!$D$5*('My Spreedsheet '!F22*'My Spreedsheet '!F22) -> 8.4158587 | P22: =L22+N22+O22 -> 1948.8691 | Q22: =P22*F22 -> 9148.8576 | R22: =Q22*0.001 -> 9.1488576 | S22: =F22*(N22+O22) -> 794.0505 | T22: =SUM(S22,T21) -> 2174.5416 | U22: =IF(R22>0,R22,0) -> 9.1488576 | V22: =U22/3600 -> 0.0025413493 | W22: =IF(R22<0,R22,0) -> 0 | X22: =(W22/3600)*-1 -> 0 | Y22: =IF(R22>0,SUM(Y21,R22),Y21) -> 23.255857 | Z22: =IF(R22<0,SUM(Z21,R22),Z21) -> 0 | AA22: =Y22/(60*60) -> 0.0064599603 | AB22: =Z22/(60*60) -> 0 | AC22: =AB22*-1 -> 0 | AD22: =AA22-AC22 -> 0.0064599603 | AE22: =1/2*(('Car Info '!$C$5)*('My Spreedsheet '!F22)^2) -> 16418.167 | AF22: =AE22*0.001 -> 16.418167 | AG22: =AF22/3600 -> 0.0045606021 | AH22: =SUM(AG22,AH21) -> 0.0093782879 | AI22: =I22*(N22+O22) -> 794.0505 | AJ22: =AE22-AI22 -> 15624.117 | AK22: =AJ22*0.001 -> 15.624117 | AL22: =IF(G22<0,AJ22,0) -> 0 | AM22: =AL22*0.001 -> 0 | AN22: =(AJ22*0.75)*0.001 -> 11.718088 | AO22: =IF('My Spreedsheet '!AN22< 'Supercapacitor Info'!$F$22,'My Spreedsheet '!AN22,'Supercapacitor Info'!$F$22) -> 11.718088
B23: Low | C23: 18 | D23: 18 | E23: 21.7 | F23: =E23/3.6 -> 6.0277778 | G23: =($E24-$E22)/2/3.6 -> 1.2638889 | H23: =($E24-$E22)/2 -> 4.55 | I23: =F23 -> 6.0277778 | J23: =SUM(I23,J22) -> 19.138889 | K23: =SUM(I23,K22) -> 19.138889 | L23: ='Car Info '!$C$5*'My Spreedsheet '!G23 -> 1883.1944 | M23: =IF(F23=0,0,1) -> 1 | N23: =IF(M23=1,'Car Info '!$C$5*9.80665*'Car Info '!$H$5,0) -> 160.73099 | O23: =0.5*'Car Info '!$G$5*'Car Info '!$I$5*'Car Info '!$D$5*('My Spreedsheet '!F23*'My Spreedsheet '!F23) -> 13.875367 | P23: =L23+N23+O23 -> 2057.8008 | Q23: =P23*F23 -> 12403.966 | R23: =Q23*0.001 -> 12.403966 | S23: =F23*(N23+O23) -> 1052.4883 | T23: =SUM(S23,T22) -> 3227.0299 | U23: =IF(R23>0,R23,0) -> 12.403966 | V23: =U23/3600 -> 0.0034455461 | W23: =IF(R23<0,R23,0) -> 0 | X23: =(W23/3600)*-1 -> 0 | Y23: =IF(R23>0,SUM(Y22,R23),Y22) -> 35.659823 | Z23: =IF(R23<0,SUM(Z22,R23),Z22) -> 0 | AA23: =Y23/(60*60) -> 0.0099055064 | AB23: =Z23/(60*60) -> 0 | AC23: =AB23*-1 -> 0 | AD23: =AA23-AC23 -> 0.0099055064 | AE23: =1/2*(('Car Info '!$C$5)*('My Spreedsheet '!F23)^2) -> 27068.908 | AF23: =AE23*0.001 -> 27.068908 | AG23: =AF23/3600 -> 0.0075191412 | AH23: =SUM(AG23,AH22) -> 0.016897429 | AI23: =I23*(N23+O23) -> 1052.4883 | AJ23: =AE23-AI23 -> 26016.42 | AK23: =AJ23*0.001 -> 26.01642 | AL23: =IF(G23<0,AJ23,0) -> 0 | AM23: =AL23*0.001 -> 0 | AN23: =(AJ23*0.75)*0.001 -> 19.512315 | AO23: =IF('My Spreedsheet '!AN23< 'Supercapacitor Info'!$F$22,'My Spreedsheet '!AN23,'Supercapacitor Info'!$F$22) -> 19.512315
B24: Low | C24: 19 | D24: 19 | E24: 26 | F24: =E24/3.6 -> 7.2222222 | G24: =($E25-$E23)/2/3.6 -> 0.80555556 | H24: =($E25-$E23)/2 -> 2.9 | I24: =F24 -> 7.2222222 | J24: =SUM(I24,J23) -> 26.361111 | K24: =SUM(I24,K23) -> 26.361111 | L24: ='Car Info '!$C$5*'My Spreedsheet '!G24 -> 1200.2778 | M24: =IF(F24=0,0,1) -> 1 | N24: =IF(M24=1,'Car Info '!$C$5*9.80665*'Car Info '!$H$5,0) -> 160.73099 | O24: =0.5*'Car Info '!$G$5*'Car Info '!$I$5*'Car Info '!$D$5*('My Spreedsheet '!F24*'My Spreedsheet '!F24) -> 19.919192 | P24: =L24+N24+O24 -> 1380.928 | Q24: =P24*F24 -> 9973.3686 | R24: =Q24*0.001 -> 9.9733686 | S24: =F24*(N24+O24) -> 1304.6958 | T24: =SUM(S24,T23) -> 4531.7257 | U24: =IF(R24>0,R24,0) -> 9.9733686 | V24: =U24/3600 -> 0.0027703802 | W24: =IF(R24<0,R24,0) -> 0 | X24: =(W24/3600)*-1 -> 0 | Y24: =IF(R24>0,SUM(Y23,R24),Y23) -> 45.633192 | Z24: =IF(R24<0,SUM(Z23,R24),Z23) -> 0 | AA24: =Y24/(60*60) -> 0.012675887 | AB24: =Z24/(60*60) -> 0 | AC24: =AB24*-1 -> 0 | AD24: =AA24-AC24 -> 0.012675887 | AE24: =1/2*(('Car Info '!$C$5)*('My Spreedsheet '!F24)^2) -> 38859.568 | AF24: =AE24*0.001 -> 38.859568 | AG24: =AF24/3600 -> 0.010794324 | AH24: =SUM(AG24,AH23) -> 0.027691753 | AI24: =I24*(N24+O24) -> 1304.6958 | AJ24: =AE24-AI24 -> 37554.872 | AK24: =AJ24*0.001 -> 37.554872 | AL24: =IF(G24<0,AJ24,0) -> 0 | AM24: =AL24*0.001 -> 0 | AN24: =(AJ24*0.75)*0.001 -> 28.166154 | AO24: =IF('My Spreedsheet '!AN24< 'Supercapacitor Info'!$F$22,'My Spreedsheet '!AN24,'Supercapacitor Info'!$F$22) -> 28.166154
B25: Low | C25: 20 | D25: 20 | E25: 27.5 | F25: =E25/3.6 -> 7.6388889 | G25: =($E26-$E24)/2/3.6 -> 0.29166667 | H25: =($E26-$E24)/2 -> 1.05 | I25: =F25 -> 7.6388889 | J25: =SUM(I25,J24) -> 34 | K25: =SUM(I25,K24) -> 34 | L25: ='Car Info '!$C$5*'My Spreedsheet '!G25 -> 434.58333 | M25: =IF(F25=0,0,1) -> 1 | N25: =IF(M25=1,'Car Info '!$C$5*9.80665*'Car Info '!$H$5,0) -> 160.73099 | O25: =0.5*'Car Info '!$G$5*'Car Info '!$I$5*'Car Info '!$D$5*('My Spreedsheet '!F25*'My Spreedsheet '!F25) -> 22.28386 | P25: =L25+N25+O25 -> 617.59819 | Q25: =P25*F25 -> 4717.7639 | R25: =Q25*0.001 -> 4.7177639 | S25: =F25*(N25+O25) -> 1398.0301 | T25: =SUM(S25,T24) -> 5929.7558 | U25: =IF(R25>0,R25,0) -> 4.7177639 | V25: =U25/3600 -> 0.00131049 | W25: =IF(R25<0,R25,0) -> 0 | X25: =(W25/3600)*-1 -> 0 | Y25: =IF(R25>0,SUM(Y24,R25),Y24) -> 50.350956 | Z25: =IF(R25<0,SUM(Z24,R25),Z24) -> 0 | AA25: =Y25/(60*60) -> 0.013986377 | AB25: =Z25/(60*60) -> 0 | AC25: =AB25*-1 -> 0 | AD25: =AA25-AC25 -> 0.013986377 | AE25: =1/2*(('Car Info '!$C$5)*('My Spreedsheet '!F25)^2) -> 43472.704 | AF25: =AE25*0.001 -> 43.472704 | AG25: =AF25/3600 -> 0.012075751 | AH25: =SUM(AG25,AH24) -> 0.039767505 | AI25: =I25*(N25+O25) -> 1398.0301 | AJ25: =AE25-AI25 -> 42074.674 | AK25: =AJ25*0.001 -> 42.074674 | AL25: =IF(G25<0,AJ25,0) -> 0 | AM25: =AL25*0.001 -> 0 | AN25: =(AJ25*0.75)*0.001 -> 31.556006 | AO25: =IF('My Spreedsheet '!AN25< 'Supercapacitor Info'!$F$22,'My Spreedsheet '!AN25,'Supercapacitor Info'!$F$22) -> 31.556006
B26: Low | C26: 21 | D26: 21 | E26: 28.1 | F26: =E26/3.6 -> 7.8055556 | G26: =($E27-$E25)/2/3.6 -> 0.11111111 | H26: =($E27-$E25)/2 -> 0.4 | I26: =F26 -> 7.8055556 | J26: =SUM(I26,J25) -> 41.805556 | K26: =SUM(I26,K25) -> 41.805556 | L26: ='Car Info '!$C$5*'My Spreedsheet '!G26 -> 165.55556 | M26: =IF(F26=0,0,1) -> 1 | N26: =IF(M26=1,'Car Info '!$C$5*9.80665*'Car Info '!$H$5,0) -> 160.73099 | O26: =0.5*'Car Info '!$G$5*'Car Info '!$I$5*'Car Info '!$D$5*('My Spreedsheet '!F26*'My Spreedsheet '!F26) -> 23.266854 | P26: =L26+N26+O26 -> 349.5534 | Q26: =P26*F26 -> 2728.4585 | R26: =Q26*0.001 -> 2.7284585 | S26: =F26*(N26+O26) -> 1436.2054 | T26: =SUM(S26,T25) -> 7365.9613 | U26: =IF(R26>0,R26,0) -> 2.7284585 | V26: =U26/3600 -> 0.00075790514 | W26: =IF(R26<0,R26,0) -> 0 | X26: =(W26/3600)*-1 -> 0 | Y26: =IF(R26>0,SUM(Y25,R26),Y25) -> 53.079414 | Z26: =IF(R26<0,SUM(Z25,R26),Z25) -> 0 | AA26: =Y26/(60*60) -> 0.014744282 | AB26: =Z26/(60*60) -> 0 | AC26: =AB26*-1 -> 0 | AD26: =AA26-AC26 -> 0.014744282 | AE26: =1/2*(('Car Info '!$C$5)*('My Spreedsheet '!F26)^2) -> 45390.39 | AF26: =AE26*0.001 -> 45.39039 | AG26: =AF26/3600 -> 0.012608442 | AH26: =SUM(AG26,AH25) -> 0.052375946 | AI26: =I26*(N26+O26) -> 1436.2054 | AJ26: =AE26-AI26 -> 43954.184 | AK26: =AJ26*0.001 -> 43.954184 | AL26: =IF(G26<0,AJ26,0) -> 0 | AM26: =AL26*0.001 -> 0 | AN26: =(AJ26*0.75)*0.001 -> 32.965638 | AO26: =IF('My Spreedsheet '!AN26< 'Supercapacitor Info'!$F$22,'My Spreedsheet '!AN26,'Supercapacitor Info'!$F$22) -> 32.965638
B27: Low | C27: 22 | D27: 22 | E27: 28.3 | F27: =E27/3.6 -> 7.8611111 | G27: =($E28-$E26)/2/3.6 -> 0.097222222 | H27: =($E28-$E26)/2 -> 0.35 | I27: =F27 -> 7.8611111 | J27: =SUM(I27,J26) -> 49.666667 | K27: =SUM(I27,K26) -> 49.666667 | L27: ='Car Info '!$C$5*'My Spreedsheet '!G27 -> 144.86111 | M27: =IF(F27=0,0,1) -> 1 | N27: =IF(M27=1,'Car Info '!$C$5*9.80665*'Car Info '!$H$5,0) -> 160.73099 | O27: =0.5*'Car Info '!$G$5*'Car Info '!$I$5*'Car Info '!$D$5*('My Spreedsheet '!F27*'My Spreedsheet '!F27) -> 23.599233 | P27: =L27+N27+O27 -> 329.19134 | Q27: =P27*F27 -> 2587.8097 | R27: =Q27*0.001 -> 2.5878097 | S27: =F27*(N27+O27) -> 1449.0404 | T27: =SUM(S27,T26) -> 8815.0017 | U27: =IF(R27>0,R27,0) -> 2.5878097 | V27: =U27/3600 -> 0.00071883602 | W27: =IF(R27<0,R27,0) -> 0 | X27: =(W27/3600)*-1 -> 0 | Y27: =IF(R27>0,SUM(Y26,R27),Y26) -> 55.667224 | Z27: =IF(R27<0,SUM(Z26,R27),Z26) -> 0 | AA27: =Y27/(60*60) -> 0.015463118 | AB27: =Z27/(60*60) -> 0 | AC27: =AB27*-1 -> 0 | AD27: =AA27-AC27 -> 0.015463118 | AE27: =1/2*(('Car Info '!$C$5)*('My Spreedsheet '!F27)^2) -> 46038.816 | AF27: =AE27*0.001 -> 46.038816 | AG27: =AF27/3600 -> 0.01278856 | AH27: =SUM(AG27,AH26) -> 0.065164506 | AI27: =I27*(N27+O27) -> 1449.0404 | AJ27: =AE27-AI27 -> 44589.775 | AK27: =AJ27*0.001 -> 44.589775 | AL27: =IF(G27<0,AJ27,0) -> 0 | AM27: =AL27*0.001 -> 0 | AN27: =(AJ27*0.75)*0.001 -> 33.442331 | AO27: =IF('My Spreedsheet '!AN27< 'Supercapacitor Info'!$F$22,'My Spreedsheet '!AN27,'Supercapacitor Info'!$F$22) -> 33.442331
... B594: Low | C594: 589 | D594: 589 | E594: 0 | F594: =E594/3.6 -> 0 | G594: =($E595-$E593)/2/3.6 -> 0 | H594: =($E595-$E593)/2 -> 0 | I594: =F594 -> 0 | J594: =SUM(I594,J593) -> 3094.5278 | K594: =SUM(I594,K593) -> 3094.5278 | L594: ='Car Info '!$C$5*'My Spreedsheet '!G594 -> 0 | M594: =IF(F594=0,0,1) -> 0 | N594: =IF(M594=1,'Car Info '!$C$5*9.80665*'Car Info '!$H$5,0) -> 0 | O594: =0.5*'Car Info '!$G$5*'Car Info '!$I$5*'Car Info '!$D$5*('My Spreedsheet '!F594*'My Spreedsheet '!F594) -> 0 | P594: =L594+N594+O594 -> 0 | Q594: =P594*F594 -> 0 | R594: =Q594*0.001 -> 0 | S594: =F594*(N594+O594) -> 0 | T594: =SUM(S594,T593) -> 605221.18 | U594: =IF(R594>0,R594,0) -> 0 | V594: =U594/3600 -> 0 | W594: =IF(R594<0,R594,0) -> 0 | X594: =(W594/3600)*-1 -> 0 | Y594: =IF(R594>0,SUM(Y593,R594),Y593) -> 1274.4927 | Z594: =IF(R594<0,SUM(Z593,R594),Z593) -> -669.27147 | AA594: =Y594/(60*60) -> 0.35402574 | AB594: =Z594/(60*60) -> -0.18590874 | AC594: =AB594*-1 -> 0.18590874 | AD594: =AA594-AC594 -> 0.168117 | AE594: =1/2*(('Car Info '!$C$5)*('My Spreedsheet '!F594)^2) -> 0 | AF594: =AE594*0.001 -> 0 | AG594: =AF594/3600 -> 0 | AH594: =SUM(AG594,AH593) -> 5.6971184 | AI594: =I594*(N594+O594) -> 0 | AJ594: =AE594-AI594 -> 0 | AK594: =AJ594*0.001 -> 0 | AL594: =IF(G594<0,AJ594,0) -> 0 | AM594: =AL594*0.001 -> 0 | AN594: =(AJ594*0.75)*0.001 -> 0 | AO594: =IF('My Spreedsheet '!AN594< 'Supercapacitor Info'!$F$22,'My Spreedsheet '!AN594,'Supercapacitor Info'!$F$22) -> 0
B595: Middle | C595: 590 | D595: 1 | E595: 0 | F595: =E595/3.6 -> 0 | G595: =($E596-$E594)/2/3.6 -> 0 | H595: =($E596-$E594)/2 -> 0 | I595: =F595 -> 0 | J595: =SUM(I595,J594) -> 3094.5278 | K595: =SUM(I595,0) -> 0 | L595: ='Car Info '!$C$5*'My Spreedsheet '!G595 -> 0 | M595: =IF(F595=0,0,1) -> 0 | N595: =IF(M595=1,'Car Info '!$C$5*9.80665*'Car Info '!$H$5,0) -> 0 | O595: =0.5*'Car Info '!$G$5*'Car Info '!$I$5*'Car Info '!$D$5*('My Spreedsheet '!F595*'My Spreedsheet '!F595) -> 0 | P595: =L595+N595+O595 -> 0 | Q595: =P595*F595 -> 0 | R595: =Q595*0.001 -> 0 | S595: =F595*(N595+O595) -> 0 | T595: =SUM(S595,0) -> 0 | U595: =IF(R595>0,R595,0) -> 0 | V595: =U595/3600 -> 0 | W595: =IF(R595<0,R595,0) -> 0 | X595: =(W595/3600)*-1 -> 0 | Y595: =IF(R595>0,SUM(Y594,R595),Y594) -> 1274.4927 | Z595: =IF(R595<0,SUM(Z594,R595),Z594) -> -669.27147 | AA595: =Y595/(60*60) -> 0.35402574 | AB595: =Z595/(60*60) -> -0.18590874 | AC595: =AB595*-1 -> 0.18590874 | AD595: =AA595-AC595 -> 0.168117 | AE595: =1/2*(('Car Info '!$C$5)*('My Spreedsheet '!F595)^2) -> 0 | AF595: =AE595*0.001 -> 0 | AG595: =AF595/3600 -> 0 | AH595: =SUM(AG595,AH594) -> 5.6971184 | AI595: =I595*(N595+O595) -> 0 | AJ595: =AE595-AI595 -> 0 | AK595: =AJ595*0.001 -> 0 | AL595: =IF(G595<0,AJ595,0) -> 0 | AM595: =AL595*0.001 -> 0 | AN595: =(AJ595*0.75)*0.001 -> 0 | AO595: =IF('My Spreedsheet '!AN595< 'Supercapacitor Info'!$F$22,'My Spreedsheet '!AN595,'Supercapacitor Info'!$F$22) -> 0
B596: Middle | C596: 591 | D596: 2 | E596: 0 | F596: =E596/3.6 -> 0 | G596: =($E597-$E595)/2/3.6 -> 0 | H596: =($E597-$E595)/2 -> 0 | I596: =F596 -> 0 | J596: =SUM(I596,J595) -> 3094.5278 | K596: =SUM(I596,K595) -> 0 | L596: ='Car Info '!$C$5*'My Spreedsheet '!G596 -> 0 | M596: =IF(F596=0,0,1) -> 0 | N596: =IF(M596=1,'Car Info '!$C$5*9.80665*'Car Info '!$H$5,0) -> 0 | O596: =0.5*'Car Info '!$G$5*'Car Info '!$I$5*'Car Info '!$D$5*('My Spreedsheet '!F596*'My Spreedsheet '!F596) -> 0 | P596: =L596+N596+O596 -> 0 | Q596: =P596*F596 -> 0 | R596: =Q596*0.001 -> 0 | S596: =F596*(N596+O596) -> 0 | T596: =SUM(S596,T595) -> 0 | U596: =IF(R596>0,R596,0) -> 0 | V596: =U596/3600 -> 0 | W596: =IF(R596<0,R596,0) -> 0 | X596: =(W596/3600)*-1 -> 0 | Y596: =IF(R596>0,SUM(Y595,R596),Y595) -> 1274.4927 | Z596: =IF(R596<0,SUM(Z595,R596),Z595) -> -669.27147 | AA596: =Y596/(60*60) -> 0.35402574 | AB596: =Z596/(60*60) -> -0.18590874 | AC596: =AB596*-1 -> 0.18590874 | AD596: =AA596-AC596 -> 0.168117 | AE596: =1/2*(('Car Info '!$C$5)*('My Spreedsheet '!F596)^2) -> 0 | AF596: =AE596*0.001 -> 0 | AG596: =AF596/3600 -> 0 | AH596: =SUM(AG596,AH595) -> 5.6971184 | AI596: =I596*(N596+O596) -> 0 | AJ596: =AE596-AI596 -> 0 | AK596: =AJ596*0.001 -> 0 | AL596: =IF(G596<0,AJ596,0) -> 0 | AM596: =AL596*0.001 -> 0 | AN596: =(AJ596*0.75)*0.001 -> 0 | AO596: =IF('My Spreedsheet '!AN596< 'Supercapacitor Info'!$F$22,'My Spreedsheet '!AN596,'Supercapacitor Info'!$F$22) -> 0
B597: Middle | C597: 592 | D597: 3 | E597: 0 | F597: =E597/3.6 -> 0 | G597: =($E598-$E596)/2/3.6 -> 0 | H597: =($E598-$E596)/2 -> 0 | I597: =F597 -> 0 | J597: =SUM(I597,J596) -> 3094.5278 | K597: =SUM(I597,K596) -> 0 | L597: ='Car Info '!$C$5*'My Spreedsheet '!G597 -> 0 | M597: =IF(F597=0,0,1) -> 0 | N597: =IF(M597=1,'Car Info '!$C$5*9.80665*'Car Info '!$H$5,0) -> 0 | O597: =0.5*'Car Info '!$G$5*'Car Info '!$I$5*'Car Info '!$D$5*('My Spreedsheet '!F597*'My Spreedsheet '!F597) -> 0 | P597: =L597+N597+O597 -> 0 | Q597: =P597*F597 -> 0 | R597: =Q597*0.001 -> 0 | S597: =F597*(N597+O597) -> 0 | T597: =SUM(S597,T596) -> 0 | U597: =IF(R597>0,R597,0) -> 0 | V597: =U597/3600 -> 0 | W597: =IF(R597<0,R597,0) -> 0 | X597: =(W597/3600)*-1 -> 0 | Y597: =IF(R597>0,SUM(Y596,R597),Y596) -> 1274.4927 | Z597: =IF(R597<0,SUM(Z596,R597),Z596) -> -669.27147 | AA597: =Y597/(60*60) -> 0.35402574 | AB597: =Z597/(60*60) -> -0.18590874 | AC597: =AB597*-1 -> 0.18590874 | AD597: =AA597-AC597 -> 0.168117 | AE597: =1/2*(('Car Info '!$C$5)*('My Spreedsheet '!F597)^2) -> 0 | AF597: =AE597*0.001 -> 0 | AG597: =AF597/3600 -> 0 | AH597: =SUM(AG597,AH596) -> 5.6971184 | AI597: =I597*(N597+O597) -> 0 | AJ597: =AE597-AI597 -> 0 | AK597: =AJ597*0.001 -> 0 | AL597: =IF(G597<0,AJ597,0) -> 0 | AM597: =AL597*0.001 -> 0 | AN597: =(AJ597*0.75)*0.001 -> 0 | AO597: =IF('My Spreedsheet '!AN597< 'Supercapacitor Info'!$F$22,'My Spreedsheet '!AN597,'Supercapacitor Info'!$F$22) -> 0
B598: Middle | C598: 593 | D598: 4 | E598: 0 | F598: =E598/3.6 -> 0 | G598: =($E599-$E597)/2/3.6 -> 0 | H598: =($E599-$E597)/2 -> 0 | I598: =F598 -> 0 | J598: =SUM(I598,J597) -> 3094.5278 | K598: =SUM(I598,K597) -> 0 | L598: ='Car Info '!$C$5*'My Spreedsheet '!G598 -> 0 | M598: =IF(F598=0,0,1) -> 0 | N598: =IF(M598=1,'Car Info '!$C$5*9.80665*'Car Info '!$H$5,0) -> 0 | O598: =0.5*'Car Info '!$G$5*'Car Info '!$I$5*'Car Info '!$D$5*('My Spreedsheet '!F598*'My Spreedsheet '!F598) -> 0 | P598: =L598+N598+O598 -> 0 | Q598: =P598*F598 -> 0 | R598: =Q598*0.001 -> 0 | S598: =F598*(N598+O598) -> 0 | T598: =SUM(S598,T597) -> 0 | U598: =IF(R598>0,R598,0) -> 0 | V598: =U598/3600 -> 0 | W598: =IF(R598<0,R598,0) -> 0 | X598: =(W598/3600)*-1 -> 0 | Y598: =IF(R598>0,SUM(Y597,R598),Y597) -> 1274.4927 | Z598: =IF(R598<0,SUM(Z597,R598),Z597) -> -669.27147 | AA598: =Y598/(60*60) -> 0.35402574 | AB598: =Z598/(60*60) -> -0.18590874 | AC598: =AB598*-1 -> 0.18590874 | AD598: =AA598-AC598 -> 0.168117 | AE598: =1/2*(('Car Info '!$C$5)*('My Spreedsheet '!F598)^2) -> 0 | AF598: =AE598*0.001 -> 0 | AG598: =AF598/3600 -> 0 | AH598: =SUM(AG598,AH597) -> 5.6971184 | AI598: =I598*(N598+O598) -> 0 | AJ598: =AE598-AI598 -> 0 | AK598: =AJ598*0.001 -> 0 | AL598: =IF(G598<0,AJ598,0) -> 0 | AM598: =AL598*0.001 -> 0 | AN598: =(AJ598*0.75)*0.001 -> 0 | AO598: =IF('My Spreedsheet '!AN598< 'Supercapacitor Info'!$F$22,'My Spreedsheet '!AN598,'Supercapacitor Info'!$F$22) -> 0
B599: Middle | C599: 594 | D599: 5 | E599: 0 | F599: =E599/3.6 -> 0 | G599: =($E600-$E598)/2/3.6 -> 0 | H599: =($E600-$E598)/2 -> 0 | I599: =F599 -> 0 | J599: =SUM(I599,J598) -> 3094.5278 | K599: =SUM(I599,K598) -> 0 | L599: ='Car Info '!$C$5*'My Spreedsheet '!G599 -> 0 | M599: =IF(F599=0,0,1) -> 0 | N599: =IF(M599=1,'Car Info '!$C$5*9.80665*'Car Info '!$H$5,0) -> 0 | O599: =0.5*'Car Info '!$G$5*'Car Info '!$I$5*'Car Info '!$D$5*('My Spreedsheet '!F599*'My Spreedsheet '!F599) -> 0 | P599: =L599+N599+O599 -> 0 | Q599: =P599*F599 -> 0 | R599: =Q599*0.001 -> 0 | S599: =F599*(N599+O599) -> 0 | T599: =SUM(S599,T598) -> 0 | U599: =IF(R599>0,R599,0) -> 0 | V599: =U599/3600 -> 0 | W599: =IF(R599<0,R599,0) -> 0 | X599: =(W599/3600)*-1 -> 0 | Y599: =IF(R599>0,SUM(Y598,R599),Y598) -> 1274.4927 | Z599: =IF(R599<0,SUM(Z598,R599),Z598) -> -669.27147 | AA599: =Y599/(60*60) -> 0.35402574 | AB599: =Z599/(60*60) -> -0.18590874 | AC599: =AB599*-1 -> 0.18590874 | AD599: =AA599-AC599 -> 0.168117 | AE599: =1/2*(('Car Info '!$C$5)*('My Spreedsheet '!F599)^2) -> 0 | AF599: =AE599*0.001 -> 0 | AG599: =AF599/3600 -> 0 | AH599: =SUM(AG599,AH598) -> 5.6971184 | AI599: =I599*(N599+O599) -> 0 | AJ599: =AE599-AI599 -> 0 | AK599: =AJ599*0.001 -> 0 | AL599: =IF(G599<0,AJ599,0) -> 0 | AM599: =AL599*0.001 -> 0 | AN599: =(AJ599*0.75)*0.001 -> 0 | AO599: =IF('My Spreedsheet '!AN599< 'Supercapacitor Info'!$F$22,'My Spreedsheet '!AN599,'Supercapacitor Info'!$F$22) -> 0
B600: Middle | C600: 595 | D600: 6 | E600: 0 | F600: =E600/3.6 -> 0 | G600: =($E601-$E599)/2/3.6 -> 0 | H600: =($E601-$E599)/2 -> 0 | I600: =F600 -> 0 | J600: =SUM(I600,J599) -> 3094.5278 | K600: =SUM(I600,K599) -> 0 | L600: ='Car Info '!$C$5*'My Spreedsheet '!G600 -> 0 | M600: =IF(F600=0,0,1) -> 0 | N600: =IF(M600=1,'Car Info '!$C$5*9.80665*'Car Info '!$H$5,0) -> 0 | O600: =0.5*'Car Info '!$G$5*'Car Info '!$I$5*'Car Info '!$D$5*('My Spreedsheet '!F600*'My Spreedsheet '!F600) -> 0 | P600: =L600+N600+O600 -> 0 | Q600: =P600*F600 -> 0 | R600: =Q600*0.001 -> 0 | S600: =F600*(N600+O600) -> 0 | T600: =SUM(S600,T599) -> 0 | U600: =IF(R600>0,R600,0) -> 0 | V600: =U600/3600 -> 0 | W600: =IF(R600<0,R600,0) -> 0 | X600: =(W600/3600)*-1 -> 0 | Y600: =IF(R600>0,SUM(Y599,R600),Y599) -> 1274.4927 | Z600: =IF(R600<0,SUM(Z599,R600),Z599) -> -669.27147 | AA600: =Y600/(60*60) -> 0.35402574 | AB600: =Z600/(60*60) -> -0.18590874 | AC600: =AB600*-1 -> 0.18590874 | AD600: =AA600-AC600 -> 0.168117 | AE600: =1/2*(('Car Info '!$C$5)*('My Spreedsheet '!F600)^2) -> 0 | AF600: =AE600*0.001 -> 0 | AG600: =AF600/3600 -> 0 | AH600: =SUM(AG600,AH599) -> 5.6971184 | AI600: =I600*(N600+O600) -> 0 | AJ600: =AE600-AI600 -> 0 | AK600: =AJ600*0.001 -> 0 | AL600: =IF(G600<0,AJ600,0) -> 0 | AM600: =AL600*0.001 -> 0 | AN600: =(AJ600*0.75)*0.001 -> 0 | AO600: =IF('My Spreedsheet '!AN600< 'Supercapacitor Info'!$F$22,'My Spreedsheet '!AN600,'Supercapacitor Info'!$F$22) -> 0
B601: Middle | C601: 596 | D601: 7 | E601: 0 | F601: =E601/3.6 -> 0 | G601: =($E602-$E600)/2/3.6 -> 0 | H601: =($E602-$E600)/2 -> 0 | I601: =F601 -> 0 | J601: =SUM(I601,J600) -> 3094.5278 | K601: =SUM(I601,K600) -> 0 | L601: ='Car Info '!$C$5*'My Spreedsheet '!G601 -> 0 | M601: =IF(F601=0,0,1) -> 0 | N601: =IF(M601=1,'Car Info '!$C$5*9.80665*'Car Info '!$H$5,0) -> 0 | O601: =0.5*'Car Info '!$G$5*'Car Info '!$I$5*'Car Info '!$D$5*('My Spreedsheet '!F601*'My Spreedsheet '!F601) -> 0 | P601: =L601+N601+O601 -> 0 | Q601: =P601*F601 -> 0 | R601: =Q601*0.001 -> 0 | S601: =F601*(N601+O601) -> 0 | T601: =SUM(S601,T600) -> 0 | U601: =IF(R601>0,R601,0) -> 0 | V601: =U601/3600 -> 0 | W601: =IF(R601<0,R601,0) -> 0 | X601: =(W601/3600)*-1 -> 0 | Y601: =IF(R601>0,SUM(Y600,R601),Y600) -> 1274.4927 | Z601: =IF(R601<0,SUM(Z600,R601),Z600) -> -669.27147 | AA601: =Y601/(60*60) -> 0.35402574 | AB601: =Z601/(60*60) -> -0.18590874 | AC601: =AB601*-1 -> 0.18590874 | AD601: =AA601-AC601 -> 0.168117 | AE601: =1/2*(('Car Info '!$C$5)*('My Spreedsheet '!F601)^2) -> 0 | AF601: =AE601*0.001 -> 0 | AG601: =AF601/3600 -> 0 | AH601: =SUM(AG601,AH600) -> 5.6971184 | AI601: =I601*(N601+O601) -> 0 | AJ601: =AE601-AI601 -> 0 | AK601: =AJ601*0.001 -> 0 | AL601: =IF(G601<0,AJ601,0) -> 0 | AM601: =AL601*0.001 -> 0 | AN601: =(AJ601*0.75)*0.001 -> 0 | AO601: =IF('My Spreedsheet '!AN601< 'Supercapacitor Info'!$F$22,'My Spreedsheet '!AN601,'Supercapacitor Info'!$F$22) -> 0
B602: Middle | C602: 597 | D602: 8 | E602: 0 | F602: =E602/3.6 -> 0 | G602: =($E603-$E601)/2/3.6 -> 0 | H602: =($E603-$E601)/2 -> 0 | I602: =F602 -> 0 | J602: =SUM(I602,J601) -> 3094.5278 | K602: =SUM(I602,K601) -> 0 | L602: ='Car Info '!$C$5*'My Spreedsheet '!G602 -> 0 | M602: =IF(F602=0,0,1) -> 0 | N602: =IF(M602=1,'Car Info '!$C$5*9.80665*'Car Info '!$H$5,0) -> 0 | O602: =0.5*'Car Info '!$G$5*'Car Info '!$I$5*'Car Info '!$D$5*('My Spreedsheet '!F602*'My Spreedsheet '!F602) -> 0 | P602: =L602+N602+O602 -> 0 | Q602: =P602*F602 -> 0 | R602: =Q602*0.001 -> 0 | S602: =F602*(N602+O602) -> 0 | T602: =SUM(S602,T601) -> 0 | U602: =IF(R602>0,R602,0) -> 0 | V602: =U602/3600 -> 0 | W602: =IF(R602<0,R602,0) -> 0 | X602: =(W602/3600)*-1 -> 0 | Y602: =IF(R602>0,SUM(Y601,R602),Y601) -> 1274.4927 | Z602: =IF(R602<0,SUM(Z601,R602),Z601) -> -669.27147 | AA602: =Y602/(60*60) -> 0.35402574 | AB602: =Z602/(60*60) -> -0.18590874 | AC602: =AB602*-1 -> 0.18590874 | AD602: =AA602-AC602 -> 0.168117 | AE602: =1/2*(('Car Info '!$C$5)*('My Spreedsheet '!F602)^2) -> 0 | AF602: =AE602*0.001 -> 0 | AG602: =AF602/3600 -> 0 | AH602: =SUM(AG602,AH601) -> 5.6971184 | AI602: =I602*(N602+O602) -> 0 | AJ602: =AE602-AI602 -> 0 | AK602: =AJ602*0.001 -> 0 | AL602: =IF(G602<0,AJ602,0) -> 0 | AM602: =AL602*0.001 -> 0 | AN602: =(AJ602*0.75)*0.001 -> 0 | AO602: =IF('My Spreedsheet '!AN602< 'Supercapacitor Info'!$F$22,'My Spreedsheet '!AN602,'Supercapacitor Info'!$F$22) -> 0
B603: Middle | C603: 598 | D603: 9 | E603: 0 | F603: =E603/3.6 -> 0 | G603: =($E604-$E602)/2/3.6 -> 0 | H603: =($E604-$E602)/2 -> 0 | I603: =F603 -> 0 | J603: =SUM(I603,J602) -> 3094.5278 | K603: =SUM(I603,K602) -> 0 | L603: ='Car Info '!$C$5*'My Spreedsheet '!G603 -> 0 | M603: =IF(F603=0,0,1) -> 0 | N603: =IF(M603=1,'Car Info '!$C$5*9.80665*'Car Info '!$H$5,0) -> 0 | O603: =0.5*'Car Info '!$G$5*'Car Info '!$I$5*'Car Info '!$D$5*('My Spreedsheet '!F603*'My Spreedsheet '!F603) -> 0 | P603: =L603+N603+O603 -> 0 | Q603: =P603*F603 -> 0 | R603: =Q603*0.001 -> 0 | S603: =F603*(N603+O603) -> 0 | T603: =SUM(S603,T602) -> 0 | U603: =IF(R603>0,R603,0) -> 0 | V603: =U603/3600 -> 0 | W603: =IF(R603<0,R603,0) -> 0 | X603: =(W603/3600)*-1 -> 0 | Y603: =IF(R603>0,SUM(Y602,R603),Y602) -> 1274.4927 | Z603: =IF(R603<0,SUM(Z602,R603),Z602) -> -669.27147 | AA603: =Y603/(60*60) -> 0.35402574 | AB603: =Z603/(60*60) -> -0.18590874 | AC603: =AB603*-1 -> 0.18590874 | AD603: =AA603-AC603 -> 0.168117 | AE603: =1/2*(('Car Info '!$C$5)*('My Spreedsheet '!F603)^2) -> 0 | AF603: =AE603*0.001 -> 0 | AG603: =AF603/3600 -> 0 | AH603: =SUM(AG603,AH602) -> 5.6971184 | AI603: =I603*(N603+O603) -> 0 | AJ603: =AE603-AI603 -> 0 | AK603: =AJ603*0.001 -> 0 | AL603: =IF(G603<0,AJ603,0) -> 0 | AM603: =AL603*0.001 -> 0 | AN603: =(AJ603*0.75)*0.001 -> 0 | AO603: =IF('My Spreedsheet '!AN603< 'Supercapacitor Info'!$F$22,'My Spreedsheet '!AN603,'Supercapacitor Info'!$F$22) -> 0
B604: Middle | C604: 599 | D604: 10 | E604: 0 | F604: =E604/3.6 -> 0 | G604: =($E605-$E603)/2/3.6 -> 0 | H604: =($E605-$E603)/2 -> 0 | I604: =F604 -> 0 | J604: =SUM(I604,J603) -> 3094.5278 | K604: =SUM(I604,K603) -> 0 | L604: ='Car Info '!$C$5*'My Spreedsheet '!G604 -> 0 | M604: =IF(F604=0,0,1) -> 0 | N604: =IF(M604=1,'Car Info '!$C$5*9.80665*'Car Info '!$H$5,0) -> 0 | O604: =0.5*'Car Info '!$G$5*'Car Info '!$I$5*'Car Info '!$D$5*('My Spreedsheet '!F604*'My Spreedsheet '!F604) -> 0 | P604: =L604+N604+O604 -> 0 | Q604: =P604*F604 -> 0 | R604: =Q604*0.001 -> 0 | S604: =F604*(N604+O604) -> 0 | T604: =SUM(S604,T603) -> 0 | U604: =IF(R604>0,R604,0) -> 0 | V604: =U604/3600 -> 0 | W604: =IF(R604<0,R604,0) -> 0 | X604: =(W604/3600)*-1 -> 0 | Y604: =IF(R604>0,SUM(Y603,R604),Y603) -> 1274.4927 | Z604: =IF(R604<0,SUM(Z603,R604),Z603) -> -669.27147 | AA604: =Y604/(60*60) -> 0.35402574 | AB604: =Z604/(60*60) -> -0.18590874 | AC604: =AB604*-1 -> 0.18590874 | AD604: =AA604-AC604 -> 0.168117 | AE604: =1/2*(('Car Info '!$C$5)*('My Spreedsheet '!F604)^2) -> 0 | AF604: =AE604*0.001 -> 0 | AG604: =AF604/3600 -> 0 | AH604: =SUM(AG604,AH603) -> 5.6971184 | AI604: =I604*(N604+O604) -> 0 | AJ604: =AE604-AI604 -> 0 | AK604: =AJ604*0.001 -> 0 | AL604: =IF(G604<0,AJ604,0) -> 0 | AM604: =AL604*0.001 -> 0 | AN604: =(AJ604*0.75)*0.001 -> 0 | AO604: =IF('My Spreedsheet '!AN604< 'Supercapacitor Info'!$F$22,'My Spreedsheet '!AN604,'Supercapacitor Info'!$F$22) -> 0
B605: Middle | C605: 600 | D605: 11 | E605: 0 | F605: =E605/3.6 -> 0 | G605: =($E606-$E604)/2/3.6 -> 0.13888889 | H605: =($E606-$E604)/2 -> 0.5 | I605: =F605 -> 0 | J605: =SUM(I605,J604) -> 3094.5278 | K605: =SUM(I605,K604) -> 0 | L605: ='Car Info '!$C$5*'My Spreedsheet '!G605 -> 206.94444 | M605: =IF(F605=0,0,1) -> 0 | N605: =IF(M605=1,'Car Info '!$C$5*9.80665*'Car Info '!$H$5,0) -> 0 | O605: =0.5*'Car Info '!$G$5*'Car Info '!$I$5*'Car Info '!$D$5*('My Spreedsheet '!F605*'My Spreedsheet '!F605) -> 0 | P605: =L605+N605+O605 -> 206.94444 | Q605: =P605*F605 -> 0 | R605: =Q605*0.001 -> 0 | S605: =F605*(N605+O605) -> 0 | T605: =SUM(S605,T604) -> 0 | U605: =IF(R605>0,R605,0) -> 0 | V605: =U605/3600 -> 0 | W605: =IF(R605<0,R605,0) -> 0 | X605: =(W605/3600)*-1 -> 0 | Y605: =IF(R605>0,SUM(Y604,R605),Y604) -> 1274.4927 | Z605: =IF(R605<0,SUM(Z604,R605),Z604) -> -669.27147 | AA605: =Y605/(60*60) -> 0.35402574 | AB605: =Z605/(60*60) -> -0.18590874 | AC605: =AB605*-1 -> 0.18590874 | AD605: =AA605-AC605 -> 0.168117 | AE605: =1/2*(('Car Info '!$C$5)*('My Spreedsheet '!F605)^2) -> 0 | AF605: =AE605*0.001 -> 0 | AG605: =AF605/3600 -> 0 | AH605: =SUM(AG605,AH604) -> 5.6971184 | AI605: =I605*(N605+O605) -> 0 | AJ605: =AE605-AI605 -> 0 | AK605: =AJ605*0.001 -> 0 | AL605: =IF(G605<0,AJ605,0) -> 0 | AM605: =AL605*0.001 -> 0 | AN605: =(AJ605*0.75)*0.001 -> 0 | AO605: =IF('My Spreedsheet '!AN605< 'Supercapacitor Info'!$F$22,'My Spreedsheet '!AN605,'Supercapacitor Info'!$F$22) -> 0
B606: Middle | C606: 601 | D606: 12 | E606: 1 | F606: =E606/3.6 -> 0.27777778 | G606: =($E607-$E605)/2/3.6 -> 0.29166667 | H606: =($E607-$E605)/2 -> 1.05 | I606: =F606 -> 0.27777778 | J606: =SUM(I606,J605) -> 3094.8056 | K606: =SUM(I606,K605) -> 0.27777778 | L606: ='Car Info '!$C$5*'My Spreedsheet '!G606 -> 434.58333 | M606: =IF(F606=0,0,1) -> 1 | N606: =IF(M606=1,'Car Info '!$C$5*9.80665*'Car Info '!$H$5,0) -> 160.73099 | O606: =0.5*'Car Info '!$G$5*'Car Info '!$I$5*'Car Info '!$D$5*('My Spreedsheet '!F606*'My Spreedsheet '!F606) -> 0.029466261 | P606: =L606+N606+O606 -> 595.34379 | Q606: =P606*F606 -> 165.37328 | R606: =Q606*0.001 -> 0.16537328 | S606: =F606*(N606+O606) -> 44.655683 | T606: =SUM(S606,T605) -> 44.655683 | U606: =IF(R606>0,R606,0) -> 0.16537328 | V606: =U606/3600 -> 4.5937021e-05 | W606: =IF(R606<0,R606,0) -> 0 | X606: =(W606/3600)*-1 -> 0 | Y606: =IF(R606>0,SUM(Y605,R606),Y605) -> 1274.658 | Z606: =IF(R606<0,SUM(Z605,R606),Z605) -> -669.27147 | AA606: =Y606/(60*60) -> 0.35407168 | AB606: =Z606/(60*60) -> -0.18590874 | AC606: =AB606*-1 -> 0.18590874 | AD606: =AA606-AC606 -> 0.16816293 | AE606: =1/2*(('Car Info '!$C$5)*('My Spreedsheet '!F606)^2) -> 57.484568 | AF606: =AE606*0.001 -> 0.057484568 | AG606: =AF606/3600 -> 1.5967936e-05 | AH606: =SUM(AG606,AH605) -> 5.6971344 | AI606: =I606*(N606+O606) -> 44.655683 | AJ606: =AE606-AI606 -> 12.828885 | AK606: =AJ606*0.001 -> 0.012828885 | AL606: =IF(G606<0,AJ606,0) -> 0 | AM606: =AL606*0.001 -> 0 | AN606: =(AJ606*0.75)*0.001 -> 0.0096216635 | AO606: =IF('My Spreedsheet '!AN606< 'Supercapacitor Info'!$F$22,'My Spreedsheet '!AN606,'Supercapacitor Info'!$F$22) -> 0.0096216635
B607: Middle | C607: 602 | D607: 13 | E607: 2.1 | F607: =E607/3.6 -> 0.58333333 | G607: =($E608-$E606)/2/3.6 -> 0.52777778 | H607: =($E608-$E606)/2 -> 1.9 | I607: =F607 -> 0.58333333 | J607: =SUM(I607,J606) -> 3095.3889 | K607: =SUM(I607,K606) -> 0.86111111 | L607: ='Car Info '!$C$5*'My Spreedsheet '!G607 -> 786.38889 | M607: =IF(F607=0,0,1) -> 1 | N607: =IF(M607=1,'Car Info '!$C$5*9.80665*'Car Info '!$H$5,0) -> 160.73099 | O607: =0.5*'Car Info '!$G$5*'Car Info '!$I$5*'Car Info '!$D$5*('My Spreedsheet '!F607*'My Spreedsheet '!F607) -> 0.12994621 | P607: =L607+N607+O607 -> 947.24983 | Q607: =P607*F607 -> 552.5624 | R607: =Q607*0.001 -> 0.5525624 | S607: =F607*(N607+O607) -> 93.835548 | T607: =SUM(S607,T606) -> 138.49123 | U607: =IF(R607>0,R607,0) -> 0.5525624 | V607: =U607/3600 -> 0.00015348956 | W607: =IF(R607<0,R607,0) -> 0 | X607: =(W607/3600)*-1 -> 0 | Y607: =IF(R607>0,SUM(Y606,R607),Y606) -> 1275.2106 | Z607: =IF(R607<0,SUM(Z606,R607),Z606) -> -669.27147 | AA607: =Y607/(60*60) -> 0.35422516 | AB607: =Z607/(60*60) -> -0.18590874 | AC607: =AB607*-1 -> 0.18590874 | AD607: =AA607-AC607 -> 0.16831642 | AE607: =1/2*(('Car Info '!$C$5)*('My Spreedsheet '!F607)^2) -> 253.50694 | AF607: =AE607*0.001 -> 0.25350694 | AG607: =AF607/3600 -> 7.0418596e-05 | AH607: =SUM(AG607,AH606) -> 5.6972048 | AI607: =I607*(N607+O607) -> 93.835548 | AJ607: =AE607-AI607 -> 159.6714 | AK607: =AJ607*0.001 -> 0.1596714 | AL607: =IF(G607<0,AJ607,0) -> 0 | AM607: =AL607*0.001 -> 0 | AN607: =(AJ607*0.75)*0.001 -> 0.11975355 | AO607: =IF('My Spreedsheet '!AN607< 'Supercapacitor Info'!$F$22,'My Spreedsheet '!AN607,'Supercapacitor Info'!$F$22) -> 0.11975355
... B1027: Middle | C1027: 1022 | D1027: 433 | E1027: 0 | F1027: =E1027/3.6 -> 0 | G1027: =($E1028-$E1026)/2/3.6 -> 0 | H1027: =($E1028-$E1026)/2 -> 0 | I1027: =F1027 -> 0 | J1027: =SUM(I1027,J1026) -> 7850.4167 | K1027: =SUM(I1027,K1026) -> 4755.8889 | L1027: ='Car Info '!$C$5*'My Spreedsheet '!G1027 -> 0 | M1027: =IF(F1027=0,0,1) -> 0 | N1027: =IF(M1027=1,'Car Info '!$C$5*9.80665*'Car Info '!$H$5,0) -> 0 | O1027: =0.5*'Car Info '!$G$5*'Car Info '!$I$5*'Car Info '!$D$5*('My Spreedsheet '!F1027*'My Spreedsheet '!F1027) -> 0 | P1027: =L1027+N1027+O1027 -> 0 | Q1027: =P1027*F1027 -> 0 | R1027: =Q1027*0.001 -> 0 | S1027: =F1027*(N1027+O1027) -> 0 | T1027: =SUM(S1027,T1026) -> 1162393.6 | U1027: =IF(R1027>0,R1027,0) -> 0 | V1027: =U1027/3600 -> 0 | W1027: =IF(R1027<0,R1027,0) -> 0 | X1027: =(W1027/3600)*-1 -> 0 | Y1027: =IF(R1027>0,SUM(Y1026,R1027),Y1026) -> 3433.659 | Z1027: =IF(R1027<0,SUM(Z1026,R1027),Z1026) -> -1666.0442 | AA1027: =Y1027/(60*60) -> 0.95379416 | AB1027: =Z1027/(60*60) -> -0.46279006 | AC1027: =AB1027*-1 -> 0.46279006 | AD1027: =AA1027-AC1027 -> 0.49100409 | AE1027: =1/2*(('Car Info '!$C$5)*('My Spreedsheet '!F1027)^2) -> 0 | AF1027: =AE1027*0.001 -> 0 | AG1027: =AF1027/3600 -> 0 | AH1027: =SUM(AG1027,AH1026) -> 19.724454 | AI1027: =I1027*(N1027+O1027) -> 0 | AJ1027: =AE1027-AI1027 -> 0 | AK1027: =AJ1027*0.001 -> 0 | AL1027: =IF(G1027<0,AJ1027,0) -> 0 | AM1027: =AL1027*0.001 -> 0 | AN1027: =(AJ1027*0.75)*0.001 -> 0 | AO1027: =IF('My Spreedsheet '!AN1027< 'Supercapacitor Info'!$F$22,'My Spreedsheet '!AN1027,'Supercapacitor Info'!$F$22) -> 0
B1028: High | C1028: 1023 | D1028: 1 | E1028: 0 | F1028: =E1028/3.6 -> 0 | G1028: =($E1029-$E1027)/2/3.6 -> 0 | H1028: =($E1029-$E1027)/2 -> 0 | I1028: =F1028 -> 0 | J1028: =SUM(I1028,J1027) -> 7850.4167 | K1028: =SUM(I1028,0) -> 0 | L1028: ='Car Info '!$C$5*'My Spreedsheet '!G1028 -> 0 | M1028: =IF(F1028=0,0,1) -> 0 | N1028: =IF(M1028=1,'Car Info '!$C$5*9.80665*'Car Info '!$H$5,0) -> 0 | O1028: =0.5*'Car Info '!$G$5*'Car Info '!$I$5*'Car Info '!$D$5*('My Spreedsheet '!F1028*'My Spreedsheet '!F1028) -> 0 | P1028: =L1028+N1028+O1028 -> 0 | Q1028: =P1028*F1028 -> 0 | R1028: =Q1028*0.001 -> 0 | S1028: =F1028*(N1028+O1028) -> 0 | T1028: =SUM(S1028,0) -> 0 | U1028: =IF(R1028>0,R1028,0) -> 0 | V1028: =U1028/3600 -> 0 | W1028: =IF(R1028<0,R1028,0) -> 0 | X1028: =(W1028/3600)*-1 -> 0 | Y1028: =IF(R1028>0,SUM(Y1027,R1028),Y1027) -> 3433.659 | Z1028: =IF(R1028<0,SUM(Z1027,R1028),Z1027) -> -1666.0442 | AA1028: =Y1028/(60*60) -> 0.95379416 | AB1028: =Z1028/(60*60) -> -0.46279006 | AC1028: =AB1028*-1 -> 0.46279006 | AD1028: =AA1028-AC1028 -> 0.49100409 | AE1028: =1/2*(('Car Info '!$C$5)*('My Spreedsheet '!F1028)^2) -> 0 | AF1028: =AE1028*0.001 -> 0 | AG1028: =AF1028/3600 -> 0 | AH1028: =SUM(AG1028,AH1027) -> 19.724454 | AI1028: =I1028*(N1028+O1028) -> 0 | AJ1028: =AE1028-AI1028 -> 0 | AK1028: =AJ1028*0.001 -> 0 | AL1028: =IF(G1028<0,AJ1028,0) -> 0 | AM1028: =AL1028*0.001 -> 0 | AN1028: =(AJ1028*0.75)*0.001 -> 0 | AO1028: =IF('My Spreedsheet '!AN1028< 'Supercapacitor Info'!$F$22,'My Spreedsheet '!AN1028,'Supercapacitor Info'!$F$22) -> 0
B1029: High | C1029: 1024 | D1029: 2 | E1029: 0 | F1029: =E1029/3.6 -> 0 | G1029: =($E1030-$E1028)/2/3.6 -> 0 | H1029: =($E1030-$E1028)/2 -> 0 | I1029: =F1029 -> 0 | J1029: =SUM(I1029,J1028) -> 7850.4167 | K1029: =SUM(I1029,K1028) -> 0 | L1029: ='Car Info '!$C$5*'My Spreedsheet '!G1029 -> 0 | M1029: =IF(F1029=0,0,1) -> 0 | N1029: =IF(M1029=1,'Car Info '!$C$5*9.80665*'Car Info '!$H$5,0) -> 0 | O1029: =0.5*'Car Info '!$G$5*'Car Info '!$I$5*'Car Info '!$D$5*('My Spreedsheet '!F1029*'My Spreedsheet '!F1029) -> 0 | P1029: =L1029+N1029+O1029 -> 0 | Q1029: =P1029*F1029 -> 0 | R1029: =Q1029*0.001 -> 0 | S1029: =F1029*(N1029+O1029) -> 0 | T1029: =SUM(S1029,T1028) -> 0 | U1029: =IF(R1029>0,R1029,0) -> 0 | V1029: =U1029/3600 -> 0 | W1029: =IF(R1029<0,R1029,0) -> 0 | X1029: =(W1029/3600)*-1 -> 0 | Y1029: =IF(R1029>0,SUM(Y1028,R1029),Y1028) -> 3433.659 | Z1029: =IF(R1029<0,SUM(Z1028,R1029),Z1028) -> -1666.0442 | AA1029: =Y1029/(60*60) -> 0.95379416 | AB1029: =Z1029/(60*60) -> -0.46279006 | AC1029: =AB1029*-1 -> 0.46279006 | AD1029: =AA1029-AC1029 -> 0.49100409 | AE1029: =1/2*(('Car Info '!$C$5)*('My Spreedsheet '!F1029)^2) -> 0 | AF1029: =AE1029*0.001 -> 0 | AG1029: =AF1029/3600 -> 0 | AH1029: =SUM(AG1029,AH1028) -> 19.724454 | AI1029: =I1029*(N1029+O1029) -> 0 | AJ1029: =AE1029-AI1029 -> 0 | AK1029: =AJ1029*0.001 -> 0 | AL1029: =IF(G1029<0,AJ1029,0) -> 0 | AM1029: =AL1029*0.001 -> 0 | AN1029: =(AJ1029*0.75)*0.001 -> 0 | AO1029: =IF('My Spreedsheet '!AN1029< 'Supercapacitor Info'!$F$22,'My Spreedsheet '!AN1029,'Supercapacitor Info'!$F$22) -> 0
B1030: High | C1030: 1025 | D1030: 3 | E1030: 0 | F1030: =E1030/3.6 -> 0 | G1030: =($E1031-$E1029)/2/3.6 -> 0 | H1030: =($E1031-$E1029)/2 -> 0 | I1030: =F1030 -> 0 | J1030: =SUM(I1030,J1029) -> 7850.4167 | K1030: =SUM(I1030,K1029) -> 0 | L1030: ='Car Info '!$C$5*'My Spreedsheet '!G1030 -> 0 | M1030: =IF(F1030=0,0,1) -> 0 | N1030: =IF(M1030=1,'Car Info '!$C$5*9.80665*'Car Info '!$H$5,0) -> 0 | O1030: =0.5*'Car Info '!$G$5*'Car Info '!$I$5*'Car Info '!$D$5*('My Spreedsheet '!F1030*'My Spreedsheet '!F1030) -> 0 | P1030: =L1030+N1030+O1030 -> 0 | Q1030: =P1030*F1030 -> 0 | R1030: =Q1030*0.001 -> 0 | S1030: =F1030*(N1030+O1030) -> 0 | T1030: =SUM(S1030,T1029) -> 0 | U1030: =IF(R1030>0,R1030,0) -> 0 | V1030: =U1030/3600 -> 0 | W1030: =IF(R1030<0,R1030,0) -> 0 | X1030: =(W1030/3600)*-1 -> 0 | Y1030: =IF(R1030>0,SUM(Y1029,R1030),Y1029) -> 3433.659 | Z1030: =IF(R1030<0,SUM(Z1029,R1030),Z1029) -> -1666.0442 | AA1030: =Y1030/(60*60) -> 0.95379416 | AB1030: =Z1030/(60*60) -> -0.46279006 | AC1030: =AB1030*-1 -> 0.46279006 | AD1030: =AA1030-AC1030 -> 0.49100409 | AE1030: =1/2*(('Car Info '!$C$5)*('My Spreedsheet '!F1030)^2) -> 0 | AF1030: =AE1030*0.001 -> 0 | AG1030: =AF1030/3600 -> 0 | AH1030: =SUM(AG1030,AH1029) -> 19.724454 | AI1030: =I1030*(N1030+O1030) -> 0 | AJ1030: =AE1030-AI1030 -> 0 | AK1030: =AJ1030*0.001 -> 0 | AL1030: =IF(G1030<0,AJ1030,0) -> 0 | AM1030: =AL1030*0.001 -> 0 | AN1030: =(AJ1030*0.75)*0.001 -> 0 | AO1030: =IF('My Spreedsheet '!AN1030< 'Supercapacitor Info'!$F$22,'My Spreedsheet '!AN1030,'Supercapacitor Info'!$F$22) -> 0
B1031: High | C1031: 1026 | D1031: 4 | E1031: 0 | F1031: =E1031/3.6 -> 0 | G1031: =($E1032-$E1030)/2/3.6 -> 0.11111111 | H1031: =($E1032-$E1030)/2 -> 0.4 | I1031: =F1031 -> 0 | J1031: =SUM(I1031,J1030) -> 7850.4167 | K1031: =SUM(I1031,K1030) -> 0 | L1031: ='Car Info '!$C$5*'My Spreedsheet '!G1031 -> 165.55556 | M1031: =IF(F1031=0,0,1) -> 0 | N1031: =IF(M1031=1,'Car Info '!$C$5*9.80665*'Car Info '!$H$5,0) -> 0 | O1031: =0.5*'Car Info '!$G$5*'Car Info '!$I$5*'Car Info '!$D$5*('My Spreedsheet '!F1031*'My Spreedsheet '!F1031) -> 0 | P1031: =L1031+N1031+O1031 -> 165.55556 | Q1031: =P1031*F1031 -> 0 | R1031: =Q1031*0.001 -> 0 | S1031: =F1031*(N1031+O1031) -> 0 | T1031: =SUM(S1031,T1030) -> 0 | U1031: =IF(R1031>0,R1031,0) -> 0 | V1031: =U1031/3600 -> 0 | W1031: =IF(R1031<0,R1031,0) -> 0 | X1031: =(W1031/3600)*-1 -> 0 | Y1031: =IF(R1031>0,SUM(Y1030,R1031),Y1030) -> 3433.659 | Z1031: =IF(R1031<0,SUM(Z1030,R1031),Z1030) -> -1666.0442 | AA1031: =Y1031/(60*60) -> 0.95379416 | AB1031: =Z1031/(60*60) -> -0.46279006 | AC1031: =AB1031*-1 -> 0.46279006 | AD1031: =AA1031-AC1031 -> 0.49100409 | AE1031: =1/2*(('Car Info '!$C$5)*('My Spreedsheet '!F1031)^2) -> 0 | AF1031: =AE1031*0.001 -> 0 | AG1031: =AF1031/3600 -> 0 | AH1031: =SUM(AG1031,AH1030) -> 19.724454 | AI1031: =I1031*(N1031+O1031) -> 0 | AJ1031: =AE1031-AI1031 -> 0 | AK1031: =AJ1031*0.001 -> 0 | AL1031: =IF(G1031<0,AJ1031,0) -> 0 | AM1031: =AL1031*0.001 -> 0 | AN1031: =(AJ1031*0.75)*0.001 -> 0 | AO1031: =IF('My Spreedsheet '!AN1031< 'Supercapacitor Info'!$F$22,'My Spreedsheet '!AN1031,'Supercapacitor Info'!$F$22) -> 0
B1032: High | C1032: 1027 | D1032: 5 | E1032: 0.8 | F1032: =E1032/3.6 -> 0.22222222 | G1032: =($E1033-$E1031)/2/3.6 -> 0.5 | H1032: =($E1033-$E1031)/2 -> 1.8 | I1032: =F1032 -> 0.22222222 | J1032: =SUM(I1032,J1031) -> 7850.6389 | K1032: =SUM(I1032,K1031) -> 0.22222222 | L1032: ='Car Info '!$C$5*'My Spreedsheet '!G1032 -> 745 | M1032: =IF(F1032=0,0,1) -> 1 | N1032: =IF(M1032=1,'Car Info '!$C$5*9.80665*'Car Info '!$H$5,0) -> 160.73099 | O1032: =0.5*'Car Info '!$G$5*'Car Info '!$I$5*'Car Info '!$D$5*('My Spreedsheet '!F1032*'My Spreedsheet '!F1032) -> 0.018858407 | P1032: =L1032+N1032+O1032 -> 905.74985 | Q1032: =P1032*F1032 -> 201.27774 | R1032: =Q1032*0.001 -> 0.20127774 | S1032: =F1032*(N1032+O1032) -> 35.722189 | T1032: =SUM(S1032,T1031) -> 35.722189 | U1032: =IF(R1032>0,R1032,0) -> 0.20127774 | V1032: =U1032/3600 -> 5.5910485e-05 | W1032: =IF(R1032<0,R1032,0) -> 0 | X1032: =(W1032/3600)*-1 -> 0 | Y1032: =IF(R1032>0,SUM(Y1031,R1032),Y1031) -> 3433.8602 | Z1032: =IF(R1032<0,SUM(Z1031,R1032),Z1031) -> -1666.0442 | AA1032: =Y1032/(60*60) -> 0.95385007 | AB1032: =Z1032/(60*60) -> -0.46279006 | AC1032: =AB1032*-1 -> 0.46279006 | AD1032: =AA1032-AC1032 -> 0.49106 | AE1032: =1/2*(('Car Info '!$C$5)*('My Spreedsheet '!F1032)^2) -> 36.790123 | AF1032: =AE1032*0.001 -> 0.036790123 | AG1032: =AF1032/3600 -> 1.0219479e-05 | AH1032: =SUM(AG1032,AH1031) -> 19.724464 | AI1032: =I1032*(N1032+O1032) -> 35.722189 | AJ1032: =AE1032-AI1032 -> 1.0679341 | AK1032: =AJ1032*0.001 -> 0.0010679341 | AL1032: =IF(G1032<0,AJ1032,0) -> 0 | AM1032: =AL1032*0.001 -> 0 | AN1032: =(AJ1032*0.75)*0.001 -> 0.00080095061 | AO1032: =IF('My Spreedsheet '!AN1032< 'Supercapacitor Info'!$F$22,'My Spreedsheet '!AN1032,'Supercapacitor Info'!$F$22) -> 0.00080095061
B1033: High | C1033: 1028 | D1033: 6 | E1033: 3.6 | F1033: =E1033/3.6 -> 1 | G1033: =($E1034-$E1032)/2/3.6 -> 1.0833333 | H1033: =($E1034-$E1032)/2 -> 3.9 | I1033: =F1033 -> 1 | J1033: =SUM(I1033,J1032) -> 7851.6389 | K1033: =SUM(I1033,K1032) -> 1.2222222 | L1033: ='Car Info '!$C$5*'My Spreedsheet '!G1033 -> 1614.1667 | M1033: =IF(F1033=0,0,1) -> 1 | N1033: =IF(M1033=1,'Car Info '!$C$5*9.80665*'Car Info '!$H$5,0) -> 160.73099 | O1033: =0.5*'Car Info '!$G$5*'Car Info '!$I$5*'Car Info '!$D$5*('My Spreedsheet '!F1033*'My Spreedsheet '!F1033) -> 0.38188274 | P1033: =L1033+N1033+O1033 -> 1775.2795 | Q1033: =P1033*F1033 -> 1775.2795 | R1033: =Q1033*0.001 -> 1.7752795 | S1033: =F1033*(N1033+O1033) -> 161.11288 | T1033: =SUM(S1033,T1032) -> 196.83507 | U1033: =IF(R1033>0,R1033,0) -> 1.7752795 | V1033: =U1033/3600 -> 0.00049313321 | W1033: =IF(R1033<0,R1033,0) -> 0 | X1033: =(W1033/3600)*-1 -> 0 | Y1033: =IF(R1033>0,SUM(Y1032,R1033),Y1032) -> 3435.6355 | Z1033: =IF(R1033<0,SUM(Z1032,R1033),Z1032) -> -1666.0442 | AA1033: =Y1033/(60*60) -> 0.9543432 | AB1033: =Z1033/(60*60) -> -0.46279006 | AC1033: =AB1033*-1 -> 0.46279006 | AD1033: =AA1033-AC1033 -> 0.49155314 | AE1033: =1/2*(('Car Info '!$C$5)*('My Spreedsheet '!F1033)^2) -> 745 | AF1033: =AE1033*0.001 -> 0.745 | AG1033: =AF1033/3600 -> 0.00020694444 | AH1033: =SUM(AG1033,AH1032) -> 19.724671 | AI1033: =I1033*(N1033+O1033) -> 161.11288 | AJ1033: =AE1033-AI1033 -> 583.88712 | AK1033: =AJ1033*0.001 -> 0.58388712 | AL1033: =IF(G1033<0,AJ1033,0) -> 0 | AM1033: =AL1033*0.001 -> 0 | AN1033: =(AJ1033*0.75)*0.001 -> 0.43791534 | AO1033: =IF('My Spreedsheet '!AN1033< 'Supercapacitor Info'!$F$22,'My Spreedsheet '!AN1033,'Supercapacitor Info'!$F$22) -> 0.43791534
B1034: High | C1034: 1029 | D1034: 7 | E1034: 8.6 | F1034: =E1034/3.6 -> 2.3888889 | G1034: =($E1035-$E1033)/2/3.6 -> 1.5277778 | H1034: =($E1035-$E1033)/2 -> 5.5 | I1034: =F1034 -> 2.3888889 | J1034: =SUM(I1034,J1033) -> 7854.0278 | K1034: =SUM(I1034,K1033) -> 3.6111111 | L1034: ='Car Info '!$C$5*'My Spreedsheet '!G1034 -> 2276.3889 | M1034: =IF(F1034=0,0,1) -> 1 | N1034: =IF(M1034=1,'Car Info '!$C$5*9.80665*'Car Info '!$H$5,0) -> 160.73099 | O1034: =0.5*'Car Info '!$G$5*'Car Info '!$I$5*'Car Info '!$D$5*('My Spreedsheet '!F1034*'My Spreedsheet '!F1034) -> 2.1793246 | P1034: =L1034+N1034+O1034 -> 2439.2992 | Q1034: =P1034*F1034 -> 5827.2148 | R1034: =Q1034*0.001 -> 5.8272148 | S1034: =F1034*(N1034+O1034) -> 389.17465 | T1034: =SUM(S1034,T1033) -> 586.00971 | U1034: =IF(R1034>0,R1034,0) -> 5.8272148 | V1034: =U1034/3600 -> 0.0016186708 | W1034: =IF(R1034<0,R1034,0) -> 0 | X1034: =(W1034/3600)*-1 -> 0 | Y1034: =IF(R1034>0,SUM(Y1033,R1034),Y1033) -> 3441.4627 | Z1034: =IF(R1034<0,SUM(Z1033,R1034),Z1033) -> -1666.0442 | AA1034: =Y1034/(60*60) -> 0.95596187 | AB1034: =Z1034/(60*60) -> -0.46279006 | AC1034: =AB1034*-1 -> 0.46279006 | AD1034: =AA1034-AC1034 -> 0.49317181 | AE1034: =1/2*(('Car Info '!$C$5)*('My Spreedsheet '!F1034)^2) -> 4251.5586 | AF1034: =AE1034*0.001 -> 4.2515586 | AG1034: =AF1034/3600 -> 0.0011809885 | AH1034: =SUM(AG1034,AH1033) -> 19.725852 | AI1034: =I1034*(N1034+O1034) -> 389.17465 | AJ1034: =AE1034-AI1034 -> 3862.384 | AK1034: =AJ1034*0.001 -> 3.862384 | AL1034: =IF(G1034<0,AJ1034,0) -> 0 | AM1034: =AL1034*0.001 -> 0 | AN1034: =(AJ1034*0.75)*0.001 -> 2.896788 | AO1034: =IF('My Spreedsheet '!AN1034< 'Supercapacitor Info'!$F$22,'My Spreedsheet '!AN1034,'Supercapacitor Info'!$F$22) -> 2.896788
B1035: High | C1035: 1030 | D1035: 8 | E1035: 14.6 | F1035: =E1035/3.6 -> 4.0555556 | G1035: =($E1036-$E1034)/2/3.6 -> 1.5833333 | H1035: =($E1036-$E1034)/2 -> 5.7 | I1035: =F1035 -> 4.0555556 | J1035: =SUM(I1035,J1034) -> 7858.0833 | K1035: =SUM(I1035,K1034) -> 7.6666667 | L1035: ='Car Info '!$C$5*'My Spreedsheet '!G1035 -> 2359.1667 | M1035: =IF(F1035=0,0,1) -> 1 | N1035: =IF(M1035=1,'Car Info '!$C$5*9.80665*'Car Info '!$H$5,0) -> 160.73099 | O1035: =0.5*'Car Info '!$G$5*'Car Info '!$I$5*'Car Info '!$D$5*('My Spreedsheet '!F1035*'My Spreedsheet '!F1035) -> 6.2810281 | P1035: =L1035+N1035+O1035 -> 2526.1787 | Q1035: =P1035*F1035 -> 10245.058 | R1035: =Q1035*0.001 -> 10.245058 | S1035: =F1035*(N1035+O1035) -> 677.32653 | T1035: =SUM(S1035,T1034) -> 1263.3362 | U1035: =IF(R1035>0,R1035,0) -> 10.245058 | V1035: =U1035/3600 -> 0.0028458494 | W1035: =IF(R1035<0,R1035,0) -> 0 | X1035: =(W1035/3600)*-1 -> 0 | Y1035: =IF(R1035>0,SUM(Y1034,R1035),Y1034) -> 3451.7078 | Z1035: =IF(R1035<0,SUM(Z1034,R1035),Z1034) -> -1666.0442 | AA1035: =Y1035/(60*60) -> 0.95880772 | AB1035: =Z1035/(60*60) -> -0.46279006 | AC1035: =AB1035*-1 -> 0.46279006 | AD1035: =AA1035-AC1035 -> 0.49601766 | AE1035: =1/2*(('Car Info '!$C$5)*('My Spreedsheet '!F1035)^2) -> 12253.41 | AF1035: =AE1035*0.001 -> 12.25341 | AG1035: =AF1035/3600 -> 0.0034037251 | AH1035: =SUM(AG1035,AH1034) -> 19.729255 | AI1035: =I1035*(N1035+O1035) -> 677.32653 | AJ1035: =AE1035-AI1035 -> 11576.084 | AK1035: =AJ1035*0.001 -> 11.576084 | AL1035: =IF(G1035<0,AJ1035,0) -> 0 | AM1035: =AL1035*0.001 -> 0 | AN1035: =(AJ1035*0.75)*0.001 -> 8.682063 | AO1035: =IF('My Spreedsheet '!AN1035< 'Supercapacitor Info'!$F$22,'My Spreedsheet '!AN1035,'Supercapacitor Info'!$F$22) -> 8.682063
B1036: High | C1036: 1031 | D1036: 9 | E1036: 20 | F1036: =E1036/3.6 -> 5.5555556 | G1036: =($E1037-$E1035)/2/3.6 -> 1.3611111 | H1036: =($E1037-$E1035)/2 -> 4.9 | I1036: =F1036 -> 5.5555556 | J1036: =SUM(I1036,J1035) -> 7863.6389 | K1036: =SUM(I1036,K1035) -> 13.222222 | L1036: ='Car Info '!$C$5*'My Spreedsheet '!G1036 -> 2028.0556 | M1036: =IF(F1036=0,0,1) -> 1 | N1036: =IF(M1036=1,'Car Info '!$C$5*9.80665*'Car Info '!$H$5,0) -> 160.73099 | O1036: =0.5*'Car Info '!$G$5*'Car Info '!$I$5*'Car Info '!$D$5*('My Spreedsheet '!F1036*'My Spreedsheet '!F1036) -> 11.786504 | P1036: =L1036+N1036+O1036 -> 2200.5731 | Q1036: =P1036*F1036 -> 12225.406 | R1036: =Q1036*0.001 -> 12.225406 | S1036: =F1036*(N1036+O1036) -> 958.43054 | T1036: =SUM(S1036,T1035) -> 2221.7668 | U1036: =IF(R1036>0,R1036,0) -> 12.225406 | V1036: =U1036/3600 -> 0.0033959461 | W1036: =IF(R1036<0,R1036,0) -> 0 | X1036: =(W1036/3600)*-1 -> 0 | Y1036: =IF(R1036>0,SUM(Y1035,R1036),Y1035) -> 3463.9332 | Z1036: =IF(R1036<0,SUM(Z1035,R1036),Z1035) -> -1666.0442 | AA1036: =Y1036/(60*60) -> 0.96220367 | AB1036: =Z1036/(60*60) -> -0.46279006 | AC1036: =AB1036*-1 -> 0.46279006 | AD1036: =AA1036-AC1036 -> 0.4994136 | AE1036: =1/2*(('Car Info '!$C$5)*('My Spreedsheet '!F1036)^2) -> 22993.827 | AF1036: =AE1036*0.001 -> 22.993827 | AG1036: =AF1036/3600 -> 0.0063871742 | AH1036: =SUM(AG1036,AH1035) -> 19.735643 | AI1036: =I1036*(N1036+O1036) -> 958.43054 | AJ1036: =AE1036-AI1036 -> 22035.397 | AK1036: =AJ1036*0.001 -> 22.035397 | AL1036: =IF(G1036<0,AJ1036,0) -> 0 | AM1036: =AL1036*0.001 -> 0 | AN1036: =(AJ1036*0.75)*0.001 -> 16.526547 | AO1036: =IF('My Spreedsheet '!AN1036< 'Supercapacitor Info'!$F$22,'My Spreedsheet '!AN1036,'Supercapacitor Info'!$F$22) -> 16.526547
B1037: High | C1037: 1032 | D1037: 10 | E1037: 24.4 | F1037: =E1037/3.6 -> 6.7777778 | G1037: =($E1038-$E1036)/2/3.6 -> 1.1388889 | H1037: =($E1038-$E1036)/2 -> 4.1 | I1037: =F1037 -> 6.7777778 | J1037: =SUM(I1037,J1036) -> 7870.4167 | K1037: =SUM(I1037,K1036) -> 20 | L1037: ='Car Info '!$C$5*'My Spreedsheet '!G1037 -> 1696.9444 | M1037: =IF(F1037=0,0,1) -> 1 | N1037: =IF(M1037=1,'Car Info '!$C$5*9.80665*'Car Info '!$H$5,0) -> 160.73099 | O1037: =0.5*'Car Info '!$G$5*'Car Info '!$I$5*'Car Info '!$D$5*('My Spreedsheet '!F1037*'My Spreedsheet '!F1037) -> 17.543033 | P1037: =L1037+N1037+O1037 -> 1875.2185 | Q1037: =P1037*F1037 -> 12709.814 | R1037: =Q1037*0.001 -> 12.709814 | S1037: =F1037*(N1037+O1037) -> 1208.3017 | T1037: =SUM(S1037,T1036) -> 3430.0685 | U1037: =IF(R1037>0,R1037,0) -> 12.709814 | V1037: =U1037/3600 -> 0.0035305039 | W1037: =IF(R1037<0,R1037,0) -> 0 | X1037: =(W1037/3600)*-1 -> 0 | Y1037: =IF(R1037>0,SUM(Y1036,R1037),Y1036) -> 3476.643 | Z1037: =IF(R1037<0,SUM(Z1036,R1037),Z1036) -> -1666.0442 | AA1037: =Y1037/(60*60) -> 0.96573417 | AB1037: =Z1037/(60*60) -> -0.46279006 | AC1037: =AB1037*-1 -> 0.46279006 | AD1037: =AA1037-AC1037 -> 0.50294411 | AE1037: =1/2*(('Car Info '!$C$5)*('My Spreedsheet '!F1037)^2) -> 34224.012 | AF1037: =AE1037*0.001 -> 34.224012 | AG1037: =AF1037/3600 -> 0.0095066701 | AH1037: =SUM(AG1037,AH1036) -> 19.745149 | AI1037: =I1037*(N1037+O1037) -> 1208.3017 | AJ1037: =AE1037-AI1037 -> 33015.711 | AK1037: =AJ1037*0.001 -> 33.015711 | AL1037: =IF(G1037<0,AJ1037,0) -> 0 | AM1037: =AL1037*0.001 -> 0 | AN1037: =(AJ1037*0.75)*0.001 -> 24.761783 | AO1037: =IF('My Spreedsheet '!AN1037< 'Supercapacitor Info'!$F$22,'My Spreedsheet '!AN1037,'Supercapacitor Info'!$F$22) -> 24.761783
B1038: High | C1038: 1033 | D1038: 11 | E1038: 28.2 | F1038: =E1038/3.6 -> 7.8333333 | G1038: =($E1039-$E1037)/2/3.6 -> 1.0138889 | H1038: =($E1039-$E1037)/2 -> 3.65 | I1038: =F1038 -> 7.8333333 | J1038: =SUM(I1038,J1037) -> 7878.25 | K1038: =SUM(I1038,K1037) -> 27.833333 | L1038: ='Car Info '!$C$5*'My Spreedsheet '!G1038 -> 1510.6944 | M1038: =IF(F1038=0,0,1) -> 1 | N1038: =IF(M1038=1,'Car Info '!$C$5*9.80665*'Car Info '!$H$5,0) -> 160.73099 | O1038: =0.5*'Car Info '!$G$5*'Car Info '!$I$5*'Car Info '!$D$5*('My Spreedsheet '!F1038*'My Spreedsheet '!F1038) -> 23.432749 | P1038: =L1038+N1038+O1038 -> 1694.8582 | Q1038: =P1038*F1038 -> 13276.389 | R1038: =Q1038*0.001 -> 13.276389 | S1038: =F1038*(N1038+O1038) -> 1442.616 | T1038: =SUM(S1038,T1037) -> 4872.6845 | U1038: =IF(R1038>0,R1038,0) -> 13.276389 | V1038: =U1038/3600 -> 0.0036878859 | W1038: =IF(R1038<0,R1038,0) -> 0 | X1038: =(W1038/3600)*-1 -> 0 | Y1038: =IF(R1038>0,SUM(Y1037,R1038),Y1037) -> 3489.9194 | Z1038: =IF(R1038<0,SUM(Z1037,R1038),Z1037) -> -1666.0442 | AA1038: =Y1038/(60*60) -> 0.96942206 | AB1038: =Z1038/(60*60) -> -0.46279006 | AC1038: =AB1038*-1 -> 0.46279006 | AD1038: =AA1038-AC1038 -> 0.50663199 | AE1038: =1/2*(('Car Info '!$C$5)*('My Spreedsheet '!F1038)^2) -> 45714.028 | AF1038: =AE1038*0.001 -> 45.714028 | AG1038: =AF1038/3600 -> 0.012698341 | AH1038: =SUM(AG1038,AH1037) -> 19.757848 | AI1038: =I1038*(N1038+O1038) -> 1442.616 | AJ1038: =AE1038-AI1038 -> 44271.412 | AK1038: =AJ1038*0.001 -> 44.271412 | AL1038: =IF(G1038<0,AJ1038,0) -> 0 | AM1038: =AL1038*0.001 -> 0 | AN1038: =(AJ1038*0.75)*0.001 -> 33.203559 | AO1038: =IF('My Spreedsheet '!AN1038< 'Supercapacitor Info'!$F$22,'My Spreedsheet '!AN1038,'Supercapacitor Info'!$F$22) -> 33.203559
B1039: High | C1039: 1034 | D1039: 12 | E1039: 31.7 | F1039: =E1039/3.6 -> 8.8055556 | G1039: =($E1040-$E1038)/2/3.6 -> 0.94444444 | H1039: =($E1040-$E1038)/2 -> 3.4 | I1039: =F1039 -> 8.8055556 | J1039: =SUM(I1039,J1038) -> 7887.0556 | K1039: =SUM(I1039,K1038) -> 36.638889 | L1039: ='Car Info '!$C$5*'My Spreedsheet '!G1039 -> 1407.2222 | M1039: =IF(F1039=0,0,1) -> 1 | N1039: =IF(M1039=1,'Car Info '!$C$5*9.80665*'Car Info '!$H$5,0) -> 160.73099 | O1039: =0.5*'Car Info '!$G$5*'Car Info '!$I$5*'Car Info '!$D$5*('My Spreedsheet '!F1039*'My Spreedsheet '!F1039) -> 29.610351 | P1039: =L1039+N1039+O1039 -> 1597.5636 | Q1039: =P1039*F1039 -> 14067.435 | R1039: =Q1039*0.001 -> 14.067435 | S1039: =F1039*(N1039+O1039) -> 1676.0613 | T1039: =SUM(S1039,T1038) -> 6548.7458 | U1039: =IF(R1039>0,R1039,0) -> 14.067435 | V1039: =U1039/3600 -> 0.0039076208 | W1039: =IF(R1039<0,R1039,0) -> 0 | X1039: =(W1039/3600)*-1 -> 0 | Y1039: =IF(R1039>0,SUM(Y1038,R1039),Y1038) -> 3503.9868 | Z1039: =IF(R1039<0,SUM(Z1038,R1039),Z1038) -> -1666.0442 | AA1039: =Y1039/(60*60) -> 0.97332968 | AB1039: =Z1039/(60*60) -> -0.46279006 | AC1039: =AB1039*-1 -> 0.46279006 | AD1039: =AA1039-AC1039 -> 0.51053961 | AE1039: =1/2*(('Car Info '!$C$5)*('My Spreedsheet '!F1039)^2) -> 57765.667 | AF1039: =AE1039*0.001 -> 57.765667 | AG1039: =AF1039/3600 -> 0.016046019 | AH1039: =SUM(AG1039,AH1038) -> 19.773894 | AI1039: =I1039*(N1039+O1039) -> 1676.0613 | AJ1039: =AE1039-AI1039 -> 56089.606 | AK1039: =AJ1039*0.001 -> 56.089606 | AL1039: =IF(G1039<0,AJ1039,0) -> 0 | AM1039: =AL1039*0.001 -> 0 | AN1039: =(AJ1039*0.75)*0.001 -> 42.067205 | AO1039: =IF('My Spreedsheet '!AN1039< 'Supercapacitor Info'!$F$22,'My Spreedsheet '!AN1039,'Supercapacitor Info'!$F$22) -> 42.067205
B1040: High | C1040: 1035 | D1040: 13 | E1040: 35 | F1040: =E1040/3.6 -> 9.7222222 | G1040: =($E1041-$E1039)/2/3.6 -> 0.81944444 | H1040: =($E1041-$E1039)/2 -> 2.95 | I1040: =F1040 -> 9.7222222 | J1040: =SUM(I1040,J1039) -> 7896.7778 | K1040: =SUM(I1040,K1039) -> 46.361111 | L1040: ='Car Info '!$C$5*'My Spreedsheet '!G1040 -> 1220.9722 | M1040: =IF(F1040=0,0,1) -> 1 | N1040: =IF(M1040=1,'Car Info '!$C$5*9.80665*'Car Info '!$H$5,0) -> 160.73099 | O1040: =0.5*'Car Info '!$G$5*'Car Info '!$I$5*'Car Info '!$D$5*('My Spreedsheet '!F1040*'My Spreedsheet '!F1040) -> 36.096169 | P1040: =L1040+N1040+O1040 -> 1417.7994 | Q1040: =P1040*F1040 -> 13784.161 | R1040: =Q1040*0.001 -> 13.784161 | S1040: =F1040*(N1040+O1040) -> 1913.5974 | T1040: =SUM(S1040,T1039) -> 8462.3432 | U1040: =IF(R1040>0,R1040,0) -> 13.784161 | V1040: =U1040/3600 -> 0.0038289335 | W1040: =IF(R1040<0,R1040,0) -> 0 | X1040: =(W1040/3600)*-1 -> 0 | Y1040: =IF(R1040>0,SUM(Y1039,R1040),Y1039) -> 3517.771 | Z1040: =IF(R1040<0,SUM(Z1039,R1040),Z1039) -> -1666.0442 | AA1040: =Y1040/(60*60) -> 0.97715861 | AB1040: =Z1040/(60*60) -> -0.46279006 | AC1040: =AB1040*-1 -> 0.46279006 | AD1040: =AA1040-AC1040 -> 0.51436855 | AE1040: =1/2*(('Car Info '!$C$5)*('My Spreedsheet '!F1040)^2) -> 70418.596 | AF1040: =AE1040*0.001 -> 70.418596 | AG1040: =AF1040/3600 -> 0.019560721 | AH1040: =SUM(AG1040,AH1039) -> 19.793454 | AI1040: =I1040*(N1040+O1040) -> 1913.5974 | AJ1040: =AE1040-AI1040 -> 68504.998 | AK1040: =AJ1040*0.001 -> 68.504998 | AL1040: =IF(G1040<0,AJ1040,0) -> 0 | AM1040: =AL1040*0.001 -> 0 | AN1040: =(AJ1040*0.75)*0.001 -> 51.378749 | AO1040: =IF('My Spreedsheet '!AN1040< 'Supercapacitor Info'!$F$22,'My Spreedsheet '!AN1040,'Supercapacitor Info'!$F$22) -> 51.378749
... B1482: High | C1482: 1477 | D1482: 455 | E1482: 0 | F1482: =E1482/3.6 -> 0 | G1482: =($E1483-$E1481)/2/3.6 -> 0 | H1482: =($E1483-$E1481)/2 -> 0 | I1482: =F1482 -> 0 | J1482: =SUM(I1482,J1481) -> 15008.25 | K1482: =SUM(I1482,K1481) -> 7157.8333 | L1482: ='Car Info '!$C$5*'My Spreedsheet '!G1482 -> 0 | M1482: =IF(F1482=0,0,1) -> 0 | N1482: =IF(M1482=1,'Car Info '!$C$5*9.80665*'Car Info '!$H$5,0) -> 0 | O1482: =0.5*'Car Info '!$G$5*'Car Info '!$I$5*'Car Info '!$D$5*('My Spreedsheet '!F1482*'My Spreedsheet '!F1482) -> 0 | P1482: =L1482+N1482+O1482 -> 0 | Q1482: =P1482*F1482 -> 0 | R1482: =Q1482*0.001 -> 0 | S1482: =F1482*(N1482+O1482) -> 0 | T1482: =SUM(S1482,T1481) -> 2319652 | U1482: =IF(R1482>0,R1482,0) -> 0 | V1482: =U1482/3600 -> 0 | W1482: =IF(R1482<0,R1482,0) -> 0 | X1482: =(W1482/3600)*-1 -> 0 | Y1482: =IF(R1482>0,SUM(Y1481,R1482),Y1481) -> 6576.4533 | Z1482: =IF(R1482<0,SUM(Z1481,R1482),Z1481) -> -2489.1866 | AA1482: =Y1482/(60*60) -> 1.8267926 | AB1482: =Z1482/(60*60) -> -0.69144072 | AC1482: =AB1482*-1 -> 0.69144072 | AD1482: =AA1482-AC1482 -> 1.1353519 | AE1482: =1/2*(('Car Info '!$C$5)*('My Spreedsheet '!F1482)^2) -> 0 | AF1482: =AE1482*0.001 -> 0 | AG1482: =AF1482/3600 -> 0 | AH1482: =SUM(AG1482,AH1481) -> 49.155293 | AI1482: =I1482*(N1482+O1482) -> 0 | AJ1482: =AE1482-AI1482 -> 0 | AK1482: =AJ1482*0.001 -> 0 | AL1482: =IF(G1482<0,AJ1482,0) -> 0 | AM1482: =AL1482*0.001 -> 0 | AN1482: =(AJ1482*0.75)*0.001 -> 0 | AO1482: =IF('My Spreedsheet '!AN1482< 'Supercapacitor Info'!$F$22,'My Spreedsheet '!AN1482,'Supercapacitor Info'!$F$22) -> 0
B1483: Extra-high | C1483: 1478 | D1483: 1 | E1483: 0 | F1483: =E1483/3.6 -> 0 | G1483: =($E1484-$E1482)/2/3.6 -> 0.30555556 | H1483: =($E1484-$E1482)/2 -> 1.1 | I1483: =F1483 -> 0 | J1483: =SUM(I1483,J1482) -> 15008.25 | K1483: =SUM(I1483,0) -> 0 | L1483: ='Car Info '!$C$5*'My Spreedsheet '!G1483 -> 455.27778 | M1483: =IF(F1483=0,0,1) -> 0 | N1483: =IF(M1483=1,'Car Info '!$C$5*9.80665*'Car Info '!$H$5,0) -> 0 | O1483: =0.5*'Car Info '!$G$5*'Car Info '!$I$5*'Car Info '!$D$5*('My Spreedsheet '!F1483*'My Spreedsheet '!F1483) -> 0 | P1483: =L1483+N1483+O1483 -> 455.27778 | Q1483: =P1483*F1483 -> 0 | R1483: =Q1483*0.001 -> 0 | S1483: =F1483*(N1483+O1483) -> 0 | T1483: =SUM(S1483,0) -> 0 | U1483: =IF(R1483>0,R1483,0) -> 0 | V1483: =U1483/3600 -> 0 | W1483: =IF(R1483<0,R1483,0) -> 0 | X1483: =(W1483/3600)*-1 -> 0 | Y1483: =IF(R1483>0,SUM(Y1482,R1483),Y1482) -> 6576.4533 | Z1483: =IF(R1483<0,SUM(Z1482,R1483),Z1482) -> -2489.1866 | AA1483: =Y1483/(60*60) -> 1.8267926 | AB1483: =Z1483/(60*60) -> -0.69144072 | AC1483: =AB1483*-1 -> 0.69144072 | AD1483: =AA1483-AC1483 -> 1.1353519 | AE1483: =1/2*(('Car Info '!$C$5)*('My Spreedsheet '!F1483)^2) -> 0 | AF1483: =AE1483*0.001 -> 0 | AG1483: =AF1483/3600 -> 0 | AH1483: =SUM(AG1483,AH1482) -> 49.155293 | AI1483: =I1483*(N1483+O1483) -> 0 | AJ1483: =AE1483-AI1483 -> 0 | AK1483: =AJ1483*0.001 -> 0 | AL1483: =IF(G1483<0,AJ1483,0) -> 0 | AM1483: =AL1483*0.001 -> 0 | AN1483: =(AJ1483*0.75)*0.001 -> 0 | AO1483: =IF('My Spreedsheet '!AN1483< 'Supercapacitor Info'!$F$22,'My Spreedsheet '!AN1483,'Supercapacitor Info'!$F$22) -> 0
B1484: Extra-high | C1484: 1479 | D1484: 2 | E1484: 2.2 | F1484: =E1484/3.6 -> 0.61111111 | G1484: =($E1485-$E1483)/2/3.6 -> 0.61111111 | H1484: =($E1485-$E1483)/2 -> 2.2 | I1484: =F1484 -> 0.61111111 | J1484: =SUM(I1484,J1483) -> 15008.861 | K1484: =SUM(I1484,K1483) -> 0.61111111 | L1484: ='Car Info '!$C$5*'My Spreedsheet '!G1484 -> 910.55556 | M1484: =IF(F1484=0,0,1) -> 1 | N1484: =IF(M1484=1,'Car Info '!$C$5*9.80665*'Car Info '!$H$5,0) -> 160.73099 | O1484: =0.5*'Car Info '!$G$5*'Car Info '!$I$5*'Car Info '!$D$5*('My Spreedsheet '!F1484*'My Spreedsheet '!F1484) -> 0.1426167 | P1484: =L1484+N1484+O1484 -> 1071.4292 | Q1484: =P1484*F1484 -> 654.76227 | R1484: =Q1484*0.001 -> 0.65476227 | S1484: =F1484*(N1484+O1484) -> 98.311651 | T1484: =SUM(S1484,T1483) -> 98.311651 | U1484: =IF(R1484>0,R1484,0) -> 0.65476227 | V1484: =U1484/3600 -> 0.00018187841 | W1484: =IF(R1484<0,R1484,0) -> 0 | X1484: =(W1484/3600)*-1 -> 0 | Y1484: =IF(R1484>0,SUM(Y1483,R1484),Y1483) -> 6577.1081 | Z1484: =IF(R1484<0,SUM(Z1483,R1484),Z1483) -> -2489.1866 | AA1484: =Y1484/(60*60) -> 1.8269745 | AB1484: =Z1484/(60*60) -> -0.69144072 | AC1484: =AB1484*-1 -> 0.69144072 | AD1484: =AA1484-AC1484 -> 1.1355338 | AE1484: =1/2*(('Car Info '!$C$5)*('My Spreedsheet '!F1484)^2) -> 278.22531 | AF1484: =AE1484*0.001 -> 0.27822531 | AG1484: =AF1484/3600 -> 7.7284808e-05 | AH1484: =SUM(AG1484,AH1483) -> 49.15537 | AI1484: =I1484*(N1484+O1484) -> 98.311651 | AJ1484: =AE1484-AI1484 -> 179.91366 | AK1484: =AJ1484*0.001 -> 0.17991366 | AL1484: =IF(G1484<0,AJ1484,0) -> 0 | AM1484: =AL1484*0.001 -> 0 | AN1484: =(AJ1484*0.75)*0.001 -> 0.13493524 | AO1484: =IF('My Spreedsheet '!AN1484< 'Supercapacitor Info'!$F$22,'My Spreedsheet '!AN1484,'Supercapacitor Info'!$F$22) -> 0.13493524
B1485: Extra-high | C1485: 1480 | D1485: 3 | E1485: 4.4 | F1485: =E1485/3.6 -> 1.2222222 | G1485: =($E1486-$E1484)/2/3.6 -> 0.56944444 | H1485: =($E1486-$E1484)/2 -> 2.05 | I1485: =F1485 -> 1.2222222 | J1485: =SUM(I1485,J1484) -> 15010.083 | K1485: =SUM(I1485,K1484) -> 1.8333333 | L1485: ='Car Info '!$C$5*'My Spreedsheet '!G1485 -> 848.47222 | M1485: =IF(F1485=0,0,1) -> 1 | N1485: =IF(M1485=1,'Car Info '!$C$5*9.80665*'Car Info '!$H$5,0) -> 160.73099 | O1485: =0.5*'Car Info '!$G$5*'Car Info '!$I$5*'Car Info '!$D$5*('My Spreedsheet '!F1485*'My Spreedsheet '!F1485) -> 0.57046681 | P1485: =L1485+N1485+O1485 -> 1009.7737 | Q1485: =P1485*F1485 -> 1234.1678 | R1485: =Q1485*0.001 -> 1.2341678 | S1485: =F1485*(N1485+O1485) -> 197.14623 | T1485: =SUM(S1485,T1484) -> 295.45788 | U1485: =IF(R1485>0,R1485,0) -> 1.2341678 | V1485: =U1485/3600 -> 0.0003428244 | W1485: =IF(R1485<0,R1485,0) -> 0 | X1485: =(W1485/3600)*-1 -> 0 | Y1485: =IF(R1485>0,SUM(Y1484,R1485),Y1484) -> 6578.3423 | Z1485: =IF(R1485<0,SUM(Z1484,R1485),Z1484) -> -2489.1866 | AA1485: =Y1485/(60*60) -> 1.8273173 | AB1485: =Z1485/(60*60) -> -0.69144072 | AC1485: =AB1485*-1 -> 0.69144072 | AD1485: =AA1485-AC1485 -> 1.1358766 | AE1485: =1/2*(('Car Info '!$C$5)*('My Spreedsheet '!F1485)^2) -> 1112.9012 | AF1485: =AE1485*0.001 -> 1.1129012 | AG1485: =AF1485/3600 -> 0.00030913923 | AH1485: =SUM(AG1485,AH1484) -> 49.155679 | AI1485: =I1485*(N1485+O1485) -> 197.14623 | AJ1485: =AE1485-AI1485 -> 915.75501 | AK1485: =AJ1485*0.001 -> 0.91575501 | AL1485: =IF(G1485<0,AJ1485,0) -> 0 | AM1485: =AL1485*0.001 -> 0 | AN1485: =(AJ1485*0.75)*0.001 -> 0.68681625 | AO1485: =IF('My Spreedsheet '!AN1485< 'Supercapacitor Info'!$F$22,'My Spreedsheet '!AN1485,'Supercapacitor Info'!$F$22) -> 0.68681625
B1486: Extra-high | C1486: 1481 | D1486: 4 | E1486: 6.3 | F1486: =E1486/3.6 -> 1.75 | G1486: =($E1487-$E1485)/2/3.6 -> 0.48611111 | H1486: =($E1487-$E1485)/2 -> 1.75 | I1486: =F1486 -> 1.75 | J1486: =SUM(I1486,J1485) -> 15011.833 | K1486: =SUM(I1486,K1485) -> 3.5833333 | L1486: ='Car Info '!$C$5*'My Spreedsheet '!G1486 -> 724.30556 | M1486: =IF(F1486=0,0,1) -> 1 | N1486: =IF(M1486=1,'Car Info '!$C$5*9.80665*'Car Info '!$H$5,0) -> 160.73099 | O1486: =0.5*'Car Info '!$G$5*'Car Info '!$I$5*'Car Info '!$D$5*('My Spreedsheet '!F1486*'My Spreedsheet '!F1486) -> 1.1695159 | P1486: =L1486+N1486+O1486 -> 886.20606 | Q1486: =P1486*F1486 -> 1550.8606 | R1486: =Q1486*0.001 -> 1.5508606 | S1486: =F1486*(N1486+O1486) -> 283.32589 | T1486: =SUM(S1486,T1485) -> 578.78377 | U1486: =IF(R1486>0,R1486,0) -> 1.5508606 | V1486: =U1486/3600 -> 0.00043079461 | W1486: =IF(R1486<0,R1486,0) -> 0 | X1486: =(W1486/3600)*-1 -> 0 | Y1486: =IF(R1486>0,SUM(Y1485,R1486),Y1485) -> 6579.8931 | Z1486: =IF(R1486<0,SUM(Z1485,R1486),Z1485) -> -2489.1866 | AA1486: =Y1486/(60*60) -> 1.8277481 | AB1486: =Z1486/(60*60) -> -0.69144072 | AC1486: =AB1486*-1 -> 0.69144072 | AD1486: =AA1486-AC1486 -> 1.1363074 | AE1486: =1/2*(('Car Info '!$C$5)*('My Spreedsheet '!F1486)^2) -> 2281.5625 | AF1486: =AE1486*0.001 -> 2.2815625 | AG1486: =AF1486/3600 -> 0.00063376736 | AH1486: =SUM(AG1486,AH1485) -> 49.156313 | AI1486: =I1486*(N1486+O1486) -> 283.32589 | AJ1486: =AE1486-AI1486 -> 1998.2366 | AK1486: =AJ1486*0.001 -> 1.9982366 | AL1486: =IF(G1486<0,AJ1486,0) -> 0 | AM1486: =AL1486*0.001 -> 0 | AN1486: =(AJ1486*0.75)*0.001 -> 1.4986775 | AO1486: =IF('My Spreedsheet '!AN1486< 'Supercapacitor Info'!$F$22,'My Spreedsheet '!AN1486,'Supercapacitor Info'!$F$22) -> 1.4986775
B1487: Extra-high | C1487: 1482 | D1487: 5 | E1487: 7.9 | F1487: =E1487/3.6 -> 2.1944444 | G1487: =($E1488-$E1486)/2/3.6 -> 0.40277778 | H1487: =($E1488-$E1486)/2 -> 1.45 | I1487: =F1487 -> 2.1944444 | J1487: =SUM(I1487,J1486) -> 15014.028 | K1487: =SUM(I1487,K1486) -> 5.7777778 | L1487: ='Car Info '!$C$5*'My Spreedsheet '!G1487 -> 600.13889 | M1487: =IF(F1487=0,0,1) -> 1 | N1487: =IF(M1487=1,'Car Info '!$C$5*9.80665*'Car Info '!$H$5,0) -> 160.73099 | O1487: =0.5*'Car Info '!$G$5*'Car Info '!$I$5*'Car Info '!$D$5*('My Spreedsheet '!F1487*'My Spreedsheet '!F1487) -> 1.8389893 | P1487: =L1487+N1487+O1487 -> 762.70887 | Q1487: =P1487*F1487 -> 1673.7222 | R1487: =Q1487*0.001 -> 1.6737222 | S1487: =F1487*(N1487+O1487) -> 356.7508 | T1487: =SUM(S1487,T1486) -> 935.53457 | U1487: =IF(R1487>0,R1487,0) -> 1.6737222 | V1487: =U1487/3600 -> 0.00046492285 | W1487: =IF(R1487<0,R1487,0) -> 0 | X1487: =(W1487/3600)*-1 -> 0 | Y1487: =IF(R1487>0,SUM(Y1486,R1487),Y1486) -> 6581.5669 | Z1487: =IF(R1487<0,SUM(Z1486,R1487),Z1486) -> -2489.1866 | AA1487: =Y1487/(60*60) -> 1.828213 | AB1487: =Z1487/(60*60) -> -0.69144072 | AC1487: =AB1487*-1 -> 0.69144072 | AD1487: =AA1487-AC1487 -> 1.1367723 | AE1487: =1/2*(('Car Info '!$C$5)*('My Spreedsheet '!F1487)^2) -> 3587.6119 | AF1487: =AE1487*0.001 -> 3.5876119 | AG1487: =AF1487/3600 -> 0.00099655886 | AH1487: =SUM(AG1487,AH1486) -> 49.157309 | AI1487: =I1487*(N1487+O1487) -> 356.7508 | AJ1487: =AE1487-AI1487 -> 3230.8611 | AK1487: =AJ1487*0.001 -> 3.2308611 | AL1487: =IF(G1487<0,AJ1487,0) -> 0 | AM1487: =AL1487*0.001 -> 0 | AN1487: =(AJ1487*0.75)*0.001 -> 2.4231458 | AO1487: =IF('My Spreedsheet '!AN1487< 'Supercapacitor Info'!$F$22,'My Spreedsheet '!AN1487,'Supercapacitor Info'!$F$22) -> 2.4231458
B1488: Extra-high | C1488: 1483 | D1488: 6 | E1488: 9.2 | F1488: =E1488/3.6 -> 2.5555556 | G1488: =($E1489-$E1487)/2/3.6 -> 0.34722222 | H1488: =($E1489-$E1487)/2 -> 1.25 | I1488: =F1488 -> 2.5555556 | J1488: =SUM(I1488,J1487) -> 15016.583 | K1488: =SUM(I1488,K1487) -> 8.3333333 | L1488: ='Car Info '!$C$5*'My Spreedsheet '!G1488 -> 517.36111 | M1488: =IF(F1488=0,0,1) -> 1 | N1488: =IF(M1488=1,'Car Info '!$C$5*9.80665*'Car Info '!$H$5,0) -> 160.73099 | O1488: =0.5*'Car Info '!$G$5*'Car Info '!$I$5*'Car Info '!$D$5*('My Spreedsheet '!F1488*'My Spreedsheet '!F1488) -> 2.4940243 | P1488: =L1488+N1488+O1488 -> 680.58613 | Q1488: =P1488*F1488 -> 1739.2757 | R1488: =Q1488*0.001 -> 1.7392757 | S1488: =F1488*(N1488+O1488) -> 417.1306 | T1488: =SUM(S1488,T1487) -> 1352.6652 | U1488: =IF(R1488>0,R1488,0) -> 1.7392757 | V1488: =U1488/3600 -> 0.00048313213 | W1488: =IF(R1488<0,R1488,0) -> 0 | X1488: =(W1488/3600)*-1 -> 0 | Y1488: =IF(R1488>0,SUM(Y1487,R1488),Y1487) -> 6583.3061 | Z1488: =IF(R1488<0,SUM(Z1487,R1488),Z1487) -> -2489.1866 | AA1488: =Y1488/(60*60) -> 1.8286961 | AB1488: =Z1488/(60*60) -> -0.69144072 | AC1488: =AB1488*-1 -> 0.69144072 | AD1488: =AA1488-AC1488 -> 1.1372554 | AE1488: =1/2*(('Car Info '!$C$5)*('My Spreedsheet '!F1488)^2) -> 4865.4938 | AF1488: =AE1488*0.001 -> 4.8654938 | AG1488: =AF1488/3600 -> 0.0013515261 | AH1488: =SUM(AG1488,AH1487) -> 49.158661 | AI1488: =I1488*(N1488+O1488) -> 417.1306 | AJ1488: =AE1488-AI1488 -> 4448.3632 | AK1488: =AJ1488*0.001 -> 4.4483632 | AL1488: =IF(G1488<0,AJ1488,0) -> 0 | AM1488: =AL1488*0.001 -> 0 | AN1488: =(AJ1488*0.75)*0.001 -> 3.3362724 | AO1488: =IF('My Spreedsheet '!AN1488< 'Supercapacitor Info'!$F$22,'My Spreedsheet '!AN1488,'Supercapacitor Info'!$F$22) -> 3.3362724
B1489: Extra-high | C1489: 1484 | D1489: 7 | E1489: 10.4 | F1489: =E1489/3.6 -> 2.8888889 | G1489: =($E1490-$E1488)/2/3.6 -> 0.31944444 | H1489: =($E1490-$E1488)/2 -> 1.15 | I1489: =F1489 -> 2.8888889 | J1489: =SUM(I1489,J1488) -> 15019.472 | K1489: =SUM(I1489,K1488) -> 11.222222 | L1489: ='Car Info '!$C$5*'My Spreedsheet '!G1489 -> 475.97222 | M1489: =IF(F1489=0,0,1) -> 1 | N1489: =IF(M1489=1,'Car Info '!$C$5*9.80665*'Car Info '!$H$5,0) -> 160.73099 | O1489: =0.5*'Car Info '!$G$5*'Car Info '!$I$5*'Car Info '!$D$5*('My Spreedsheet '!F1489*'My Spreedsheet '!F1489) -> 3.1870707 | P1489: =L1489+N1489+O1489 -> 639.89029 | Q1489: =P1489*F1489 -> 1848.5719 | R1489: =Q1489*0.001 -> 1.8485719 | S1489: =F1489*(N1489+O1489) -> 473.54107 | T1489: =SUM(S1489,T1488) -> 1826.2062 | U1489: =IF(R1489>0,R1489,0) -> 1.8485719 | V1489: =U1489/3600 -> 0.00051349221 | W1489: =IF(R1489<0,R1489,0) -> 0 | X1489: =(W1489/3600)*-1 -> 0 | Y1489: =IF(R1489>0,SUM(Y1488,R1489),Y1488) -> 6585.1547 | Z1489: =IF(R1489<0,SUM(Z1488,R1489),Z1488) -> -2489.1866 | AA1489: =Y1489/(60*60) -> 1.8292096 | AB1489: =Z1489/(60*60) -> -0.69144072 | AC1489: =AB1489*-1 -> 0.69144072 | AD1489: =AA1489-AC1489 -> 1.1377689 | AE1489: =1/2*(('Car Info '!$C$5)*('My Spreedsheet '!F1489)^2) -> 6217.5309 | AF1489: =AE1489*0.001 -> 6.2175309 | AG1489: =AF1489/3600 -> 0.0017270919 | AH1489: =SUM(AG1489,AH1488) -> 49.160388 | AI1489: =I1489*(N1489+O1489) -> 473.54107 | AJ1489: =AE1489-AI1489 -> 5743.9898 | AK1489: =AJ1489*0.001 -> 5.7439898 | AL1489: =IF(G1489<0,AJ1489,0) -> 0 | AM1489: =AL1489*0.001 -> 0 | AN1489: =(AJ1489*0.75)*0.001 -> 4.3079923 | AO1489: =IF('My Spreedsheet '!AN1489< 'Supercapacitor Info'!$F$22,'My Spreedsheet '!AN1489,'Supercapacitor Info'!$F$22) -> 4.3079923
B1490: Extra-high | C1490: 1485 | D1490: 8 | E1490: 11.5 | F1490: =E1490/3.6 -> 3.1944444 | G1490: =($E1491-$E1489)/2/3.6 -> 0.34722222 | H1490: =($E1491-$E1489)/2 -> 1.25 | I1490: =F1490 -> 3.1944444 | J1490: =SUM(I1490,J1489) -> 15022.667 | K1490: =SUM(I1490,K1489) -> 14.416667 | L1490: ='Car Info '!$C$5*'My Spreedsheet '!G1490 -> 517.36111 | M1490: =IF(F1490=0,0,1) -> 1 | N1490: =IF(M1490=1,'Car Info '!$C$5*9.80665*'Car Info '!$H$5,0) -> 160.73099 | O1490: =0.5*'Car Info '!$G$5*'Car Info '!$I$5*'Car Info '!$D$5*('My Spreedsheet '!F1490*'My Spreedsheet '!F1490) -> 3.896913 | P1490: =L1490+N1490+O1490 -> 681.98902 | Q1490: =P1490*F1490 -> 2178.576 | R1490: =Q1490*0.001 -> 2.178576 | S1490: =F1490*(N1490+O1490) -> 525.8947 | T1490: =SUM(S1490,T1489) -> 2352.1009 | U1490: =IF(R1490>0,R1490,0) -> 2.178576 | V1490: =U1490/3600 -> 0.00060516001 | W1490: =IF(R1490<0,R1490,0) -> 0 | X1490: =(W1490/3600)*-1 -> 0 | Y1490: =IF(R1490>0,SUM(Y1489,R1490),Y1489) -> 6587.3333 | Z1490: =IF(R1490<0,SUM(Z1489,R1490),Z1489) -> -2489.1866 | AA1490: =Y1490/(60*60) -> 1.8298148 | AB1490: =Z1490/(60*60) -> -0.69144072 | AC1490: =AB1490*-1 -> 0.69144072 | AD1490: =AA1490-AC1490 -> 1.1383741 | AE1490: =1/2*(('Car Info '!$C$5)*('My Spreedsheet '!F1490)^2) -> 7602.3341 | AF1490: =AE1490*0.001 -> 7.6023341 | AG1490: =AF1490/3600 -> 0.0021117595 | AH1490: =SUM(AG1490,AH1489) -> 49.1625 | AI1490: =I1490*(N1490+O1490) -> 525.8947 | AJ1490: =AE1490-AI1490 -> 7076.4394 | AK1490: =AJ1490*0.001 -> 7.0764394 | AL1490: =IF(G1490<0,AJ1490,0) -> 0 | AM1490: =AL1490*0.001 -> 0 | AN1490: =(AJ1490*0.75)*0.001 -> 5.3073296 | AO1490: =IF('My Spreedsheet '!AN1490< 'Supercapacitor Info'!$F$22,'My Spreedsheet '!AN1490,'Supercapacitor Info'!$F$22) -> 5.3073296
B1491: Extra-high | C1491: 1486 | D1491: 9 | E1491: 12.9 | F1491: =E1491/3.6 -> 3.5833333 | G1491: =($E1492-$E1490)/2/3.6 -> 0.44444444 | H1491: =($E1492-$E1490)/2 -> 1.6 | I1491: =F1491 -> 3.5833333 | J1491: =SUM(I1491,J1490) -> 15026.25 | K1491: =SUM(I1491,K1490) -> 18 | L1491: ='Car Info '!$C$5*'My Spreedsheet '!G1491 -> 662.22222 | M1491: =IF(F1491=0,0,1) -> 1 | N1491: =IF(M1491=1,'Car Info '!$C$5*9.80665*'Car Info '!$H$5,0) -> 160.73099 | O1491: =0.5*'Car Info '!$G$5*'Car Info '!$I$5*'Car Info '!$D$5*('My Spreedsheet '!F1491*'My Spreedsheet '!F1491) -> 4.9034804 | P1491: =L1491+N1491+O1491 -> 827.8567 | Q1491: =P1491*F1491 -> 2966.4865 | R1491: =Q1491*0.001 -> 2.9664865 | S1491: =F1491*(N1491+O1491) -> 593.52353 | T1491: =SUM(S1491,T1490) -> 2945.6245 | U1491: =IF(R1491>0,R1491,0) -> 2.9664865 | V1491: =U1491/3600 -> 0.00082402403 | W1491: =IF(R1491<0,R1491,0) -> 0 | X1491: =(W1491/3600)*-1 -> 0 | Y1491: =IF(R1491>0,SUM(Y1490,R1491),Y1490) -> 6590.2998 | Z1491: =IF(R1491<0,SUM(Z1490,R1491),Z1490) -> -2489.1866 | AA1491: =Y1491/(60*60) -> 1.8306388 | AB1491: =Z1491/(60*60) -> -0.69144072 | AC1491: =AB1491*-1 -> 0.69144072 | AD1491: =AA1491-AC1491 -> 1.1391981 | AE1491: =1/2*(('Car Info '!$C$5)*('My Spreedsheet '!F1491)^2) -> 9566.0069 | AF1491: =AE1491*0.001 -> 9.5660069 | AG1491: =AF1491/3600 -> 0.0026572242 | AH1491: =SUM(AG1491,AH1490) -> 49.165157 | AI1491: =I1491*(N1491+O1491) -> 593.52353 | AJ1491: =AE1491-AI1491 -> 8972.4834 | AK1491: =AJ1491*0.001 -> 8.9724834 | AL1491: =IF(G1491<0,AJ1491,0) -> 0 | AM1491: =AL1491*0.001 -> 0 | AN1491: =(AJ1491*0.75)*0.001 -> 6.7293626 | AO1491: =IF('My Spreedsheet '!AN1491< 'Supercapacitor Info'!$F$22,'My Spreedsheet '!AN1491,'Supercapacitor Info'!$F$22) -> 6.7293626
B1492: Extra-high | C1492: 1487 | D1492: 10 | E1492: 14.7 | F1492: =E1492/3.6 -> 4.0833333 | G1492: =($E1493-$E1491)/2/3.6 -> 0.56944444 | H1492: =($E1493-$E1491)/2 -> 2.05 | I1492: =F1492 -> 4.0833333 | J1492: =SUM(I1492,J1491) -> 15030.333 | K1492: =SUM(I1492,K1491) -> 22.083333 | L1492: ='Car Info '!$C$5*'My Spreedsheet '!G1492 -> 848.47222 | M1492: =IF(F1492=0,0,1) -> 1 | N1492: =IF(M1492=1,'Car Info '!$C$5*9.80665*'Car Info '!$H$5,0) -> 160.73099 | O1492: =0.5*'Car Info '!$G$5*'Car Info '!$I$5*'Car Info '!$D$5*('My Spreedsheet '!F1492*'My Spreedsheet '!F1492) -> 6.3673643 | P1492: =L1492+N1492+O1492 -> 1015.5706 | Q1492: =P1492*F1492 -> 4146.9132 | R1492: =Q1492*0.001 -> 4.1469132 | S1492: =F1492*(N1492+O1492) -> 682.31829 | T1492: =SUM(S1492,T1491) -> 3627.9428 | U1492: =IF(R1492>0,R1492,0) -> 4.1469132 | V1492: =U1492/3600 -> 0.0011519203 | W1492: =IF(R1492<0,R1492,0) -> 0 | X1492: =(W1492/3600)*-1 -> 0 | Y1492: =IF(R1492>0,SUM(Y1491,R1492),Y1491) -> 6594.4467 | Z1492: =IF(R1492<0,SUM(Z1491,R1492),Z1491) -> -2489.1866 | AA1492: =Y1492/(60*60) -> 1.8317907 | AB1492: =Z1492/(60*60) -> -0.69144072 | AC1492: =AB1492*-1 -> 0.69144072 | AD1492: =AA1492-AC1492 -> 1.14035 | AE1492: =1/2*(('Car Info '!$C$5)*('My Spreedsheet '!F1492)^2) -> 12421.84 | AF1492: =AE1492*0.001 -> 12.42184 | AG1492: =AF1492/3600 -> 0.0034505112 | AH1492: =SUM(AG1492,AH1491) -> 49.168608 | AI1492: =I1492*(N1492+O1492) -> 682.31829 | AJ1492: =AE1492-AI1492 -> 11739.522 | AK1492: =AJ1492*0.001 -> 11.739522 | AL1492: =IF(G1492<0,AJ1492,0) -> 0 | AM1492: =AL1492*0.001 -> 0 | AN1492: =(AJ1492*0.75)*0.001 -> 8.8046415 | AO1492: =IF('My Spreedsheet '!AN1492< 'Supercapacitor Info'!$F$22,'My Spreedsheet '!AN1492,'Supercapacitor Info'!$F$22) -> 8.8046415
B1493: Extra-high | C1493: 1488 | D1493: 11 | E1493: 17 | F1493: =E1493/3.6 -> 4.7222222 | G1493: =($E1494-$E1492)/2/3.6 -> 0.70833333 | H1493: =($E1494-$E1492)/2 -> 2.55 | I1493: =F1493 -> 4.7222222 | J1493: =SUM(I1493,J1492) -> 15035.056 | K1493: =SUM(I1493,K1492) -> 26.805556 | L1493: ='Car Info '!$C$5*'My Spreedsheet '!G1493 -> 1055.4167 | M1493: =IF(F1493=0,0,1) -> 1 | N1493: =IF(M1493=1,'Car Info '!$C$5*9.80665*'Car Info '!$H$5,0) -> 160.73099 | O1493: =0.5*'Car Info '!$G$5*'Car Info '!$I$5*'Car Info '!$D$5*('My Spreedsheet '!F1493*'My Spreedsheet '!F1493) -> 8.5157493 | P1493: =L1493+N1493+O1493 -> 1224.6634 | Q1493: =P1493*F1493 -> 5783.1328 | R1493: =Q1493*0.001 -> 5.7831328 | S1493: =F1493*(N1493+O1493) -> 799.22073 | T1493: =SUM(S1493,T1492) -> 4427.1635 | U1493: =IF(R1493>0,R1493,0) -> 5.7831328 | V1493: =U1493/3600 -> 0.0016064258 | W1493: =IF(R1493<0,R1493,0) -> 0 | X1493: =(W1493/3600)*-1 -> 0 | Y1493: =IF(R1493>0,SUM(Y1492,R1493),Y1492) -> 6600.2298 | Z1493: =IF(R1493<0,SUM(Z1492,R1493),Z1492) -> -2489.1866 | AA1493: =Y1493/(60*60) -> 1.8333972 | AB1493: =Z1493/(60*60) -> -0.69144072 | AC1493: =AB1493*-1 -> 0.69144072 | AD1493: =AA1493-AC1493 -> 1.1419564 | AE1493: =1/2*(('Car Info '!$C$5)*('My Spreedsheet '!F1493)^2) -> 16613.04 | AF1493: =AE1493*0.001 -> 16.61304 | AG1493: =AF1493/3600 -> 0.0046147334 | AH1493: =SUM(AG1493,AH1492) -> 49.173222 | AI1493: =I1493*(N1493+O1493) -> 799.22073 | AJ1493: =AE1493-AI1493 -> 15813.819 | AK1493: =AJ1493*0.001 -> 15.813819 | AL1493: =IF(G1493<0,AJ1493,0) -> 0 | AM1493: =AL1493*0.001 -> 0 | AN1493: =(AJ1493*0.75)*0.001 -> 11.860365 | AO1493: =IF('My Spreedsheet '!AN1493< 'Supercapacitor Info'!$F$22,'My Spreedsheet '!AN1493,'Supercapacitor Info'!$F$22) -> 11.860365
B1494: Extra-high | C1494: 1489 | D1494: 12 | E1494: 19.8 | F1494: =E1494/3.6 -> 5.5 | G1494: =($E1495-$E1493)/2/3.6 -> 0.84722222 | H1494: =($E1495-$E1493)/2 -> 3.05 | I1494: =F1494 -> 5.5 | J1494: =SUM(I1494,J1493) -> 15040.556 | K1494: =SUM(I1494,K1493) -> 32.305556 | L1494: ='Car Info '!$C$5*'My Spreedsheet '!G1494 -> 1262.3611 | M1494: =IF(F1494=0,0,1) -> 1 | N1494: =IF(M1494=1,'Car Info '!$C$5*9.80665*'Car Info '!$H$5,0) -> 160.73099 | O1494: =0.5*'Car Info '!$G$5*'Car Info '!$I$5*'Car Info '!$D$5*('My Spreedsheet '!F1494*'My Spreedsheet '!F1494) -> 11.551953 | P1494: =L1494+N1494+O1494 -> 1434.6441 | Q1494: =P1494*F1494 -> 7890.5423 | R1494: =Q1494*0.001 -> 7.8905423 | S1494: =F1494*(N1494+O1494) -> 947.5562 | T1494: =SUM(S1494,T1493) -> 5374.7197 | U1494: =IF(R1494>0,R1494,0) -> 7.8905423 | V1494: =U1494/3600 -> 0.0021918173 | W1494: =IF(R1494<0,R1494,0) -> 0 | X1494: =(W1494/3600)*-1 -> 0 | Y1494: =IF(R1494>0,SUM(Y1493,R1494),Y1493) -> 6608.1204 | Z1494: =IF(R1494<0,SUM(Z1493,R1494),Z1493) -> -2489.1866 | AA1494: =Y1494/(60*60) -> 1.835589 | AB1494: =Z1494/(60*60) -> -0.69144072 | AC1494: =AB1494*-1 -> 0.69144072 | AD1494: =AA1494-AC1494 -> 1.1441483 | AE1494: =1/2*(('Car Info '!$C$5)*('My Spreedsheet '!F1494)^2) -> 22536.25 | AF1494: =AE1494*0.001 -> 22.53625 | AG1494: =AF1494/3600 -> 0.0062600694 | AH1494: =SUM(AG1494,AH1493) -> 49.179482 | AI1494: =I1494*(N1494+O1494) -> 947.5562 | AJ1494: =AE1494-AI1494 -> 21588.694 | AK1494: =AJ1494*0.001 -> 21.588694 | AL1494: =IF(G1494<0,AJ1494,0) -> 0 | AM1494: =AL1494*0.001 -> 0 | AN1494: =(AJ1494*0.75)*0.001 -> 16.19152 | AO1494: =IF('My Spreedsheet '!AN1494< 'Supercapacitor Info'!$F$22,'My Spreedsheet '!AN1494,'Supercapacitor Info'!$F$22) -> 16.19152
B1495: Extra-high | C1495: 1490 | D1495: 13 | E1495: 23.1 | F1495: =E1495/3.6 -> 6.4166667 | G1495: =($E1496-$E1494)/2/3.6 -> 0.95833333 | H1495: =($E1496-$E1494)/2 -> 3.45 | I1495: =F1495 -> 6.4166667 | J1495: =SUM(I1495,J1494) -> 15046.972 | K1495: =SUM(I1495,K1494) -> 38.722222 | L1495: ='Car Info '!$C$5*'My Spreedsheet '!G1495 -> 1427.9167 | M1495: =IF(F1495=0,0,1) -> 1 | N1495: =IF(M1495=1,'Car Info '!$C$5*9.80665*'Car Info '!$H$5,0) -> 160.73099 | O1495: =0.5*'Car Info '!$G$5*'Car Info '!$I$5*'Car Info '!$D$5*('My Spreedsheet '!F1495*'My Spreedsheet '!F1495) -> 15.723491 | P1495: =L1495+N1495+O1495 -> 1604.3712 | Q1495: =P1495*F1495 -> 10294.715 | R1495: =Q1495*0.001 -> 10.294715 | S1495: =F1495*(N1495+O1495) -> 1132.2496 | T1495: =SUM(S1495,T1494) -> 6506.9693 | U1495: =IF(R1495>0,R1495,0) -> 10.294715 | V1495: =U1495/3600 -> 0.002859643 | W1495: =IF(R1495<0,R1495,0) -> 0 | X1495: =(W1495/3600)*-1 -> 0 | Y1495: =IF(R1495>0,SUM(Y1494,R1495),Y1494) -> 6618.4151 | Z1495: =IF(R1495<0,SUM(Z1494,R1495),Z1494) -> -2489.1866 | AA1495: =Y1495/(60*60) -> 1.8384486 | AB1495: =Z1495/(60*60) -> -0.69144072 | AC1495: =AB1495*-1 -> 0.69144072 | AD1495: =AA1495-AC1495 -> 1.1470079 | AE1495: =1/2*(('Car Info '!$C$5)*('My Spreedsheet '!F1495)^2) -> 30674.34 | AF1495: =AE1495*0.001 -> 30.67434 | AG1495: =AF1495/3600 -> 0.0085206501 | AH1495: =SUM(AG1495,AH1494) -> 49.188003 | AI1495: =I1495*(N1495+O1495) -> 1132.2496 | AJ1495: =AE1495-AI1495 -> 29542.091 | AK1495: =AJ1495*0.001 -> 29.542091 | AL1495: =IF(G1495<0,AJ1495,0) -> 0 | AM1495: =AL1495*0.001 -> 0 | AN1495: =(AJ1495*0.75)*0.001 -> 22.156568 | AO1495: =IF('My Spreedsheet '!AN1495< 'Supercapacitor Info'!$F$22,'My Spreedsheet '!AN1495,'Supercapacitor Info'!$F$22) -> 22.156568
... B1805: Extra-high | C1805: 1800 | D1805: 323 | E1805: 0 | F1805: =E1805/3.6 -> 0 | G1805: =($E1806-$E1804)/2/3.6 -> 0 | H1805: =($E1806-$E1804)/2 -> 0 | I1805: =F1805 -> 0 | J1805: =SUM(I1805,J1804) -> 23262.389 | K1805: =SUM(I1805,K1804) -> 8254.1389 | L1805: ='Car Info '!$C$5*'My Spreedsheet '!G1805 -> 0 | M1805: =IF(F1805=0,0,1) -> 0 | N1805: =IF(M1805=1,'Car Info '!$C$5*9.80665*'Car Info '!$H$5,0) -> 0 | O1805: =0.5*'Car Info '!$G$5*'Car Info '!$I$5*'Car Info '!$D$5*('My Spreedsheet '!F1805*'My Spreedsheet '!F1805) -> 0 | P1805: =L1805+N1805+O1805 -> 0 | Q1805: =P1805*F1805 -> 0 | R1805: =Q1805*0.001 -> 0 | S1805: =F1805*(N1805+O1805) -> 0 | T1805: =SUM(S1805,T1804) -> 4206571.6 | U1805: =IF(R1805>0,R1805,0) -> 0 | V1805: =U1805/3600 -> 0 | W1805: =IF(R1805<0,R1805,0) -> 0 | X1805: =(W1805/3600)*-1 -> 0 | Y1805: =IF(R1805>0,SUM(Y1804,R1805),Y1804) -> 11318.81 | Z1805: =IF(R1805<0,SUM(Z1804,R1805),Z1804) -> -3024.9714 | AA1805: =Y1805/(60*60) -> 3.1441138 | AB1805: =Z1805/(60*60) -> -0.84026983 | AC1805: =AB1805*-1 -> 0.84026983 | AD1805: =AA1805-AC1805 -> 2.303844 | AE1805: =1/2*(('Car Info '!$C$5)*('My Spreedsheet '!F1805)^2) -> 0 | AF1805: =AE1805*0.001 -> 0 | AG1805: =AF1805/3600 -> 0 | AH1805: =SUM(AG1805,AH1804) -> 99.506401 | AI1805: =I1805*(N1805+O1805) -> 0 | AJ1805: =AE1805-AI1805 -> 0 | AK1805: =AJ1805*0.001 -> 0 | AL1805: =IF(G1805<0,AJ1805,0) -> 0 | AM1805: =AL1805*0.001 -> 0 | AN1805: =(AJ1805*0.75)*0.001 -> 0 | AO1805: =IF('My Spreedsheet '!AN1805< 'Supercapacitor Info'!$F$22,'My Spreedsheet '!AN1805,'Supercapacitor Info'!$F$22) -> 0

Sheet Supercapacitor Info
B2: No. SC | C2: No. Cells | D2: Capacitance (F) | E2: Stored Energy per Cell (Wh) | F2: Stored Energy (Wh) | G2: Stored Energy (kJ) | H2: Voltage (V) | I2: Current (A) | J2: Resitance (mΩ)
B3: 1 | C3: 18 | D3: 165 | E3: 3 | F3: =C3*E3 -> 54 | G3: =(F3*3600)*0.001 -> 194.4 | H3: 48 | I3: 100 | J3: 6
B4: 2 | C4: =C3*2 -> 36 | D4: =D3*2 -> 330 | E4: 3 | F4: =F3*2 -> 108 | G4: =G3*2 -> 388.8 | H4: =H3*2 -> 96 | I4: =I3*2 -> 200 | J4: 6
B5: 3 | C5: 54 | D5: =D3*3 -> 495 | E5: 3 | F5: =C5*E5 -> 162 | G5: =(F5*3600)*0.001 -> 583.2 | H5: =H3*3 -> 144 | I5: 300 | J5: 6
C9: Dimensions | D9: mm | E9: m | G9: No of SC | H9: Mass (Kg)
C10: Length | D10: 418 | E10: =D10/1000 -> 0.418 | G10: 1 | H10: 13.8
C11: Width | D11: 194 | E11: =D11/1000 -> 0.194 | G11: 2 | H11: =H10*2 -> 27.6
C12: Height | D12: 179 | E12: =D12/1000 -> 0.179 | G12: 3 | H12: =H11*2 -> 55.2
C17: No. SC | D17: 1 | E17: 2 | F17: 3
C18: No. Cells | D18: 18 | E18: =D18*2 -> 36 | F18: 54
C19: Capacitance (F) | D19: 165 | E19: =D19*2 -> 330 | F19: =D19*3 -> 495
C20: Stored Energy per Cell (Wh) | D20: 3 | E20: 3 | F20: 3
C21: Stored Energy (Wh) | D21: =D18*D20 -> 54 | E21: =D21*2 -> 108 | F21: =F18*F20 -> 162
C22: Stored Energy (kJ) | D22: =(D21*3600)*0.001 -> 194.4 | E22: =D22*2 -> 388.8 | F22: =(F21*3600)*0.001 -> 583.2
C23: Voltage (V) | D23: 48 | E23: =D23*2 -> 96 | F23: =D23*3 -> 144
C24: Current (A) | D24: 100 | E24: =D24*2 -> 200 | F24: 300
C25: Resitance (mΩ) | D25: 6 | E25: 6 | F25: 6

Sheet Car Info 
B2: 1.3L Toyota Yaris 2012
B3: Curb Mass | C3: Test Mass | D3: Coefficient of Drag (Cd) | E3: Width | F3: Height | G3: Frontal Area | H3: Coefficient of Rolling Resistance | I3: Air Density
B4: Kg | C4: Kg | E4: m | F4: m | G4: m^2 | I4: Kg/m^3
B5: 1035 | C5: 1490 | D5: 0.29 | E5: 1.695 | F5: 1.51 | G5: =(F5*E5)*0.84 -> 2.149938 | H5: 0.011 | I5: 1.225

Sheet My Graphs 

Sheet Explainations 
B2: This file contains the WLTC cycles for validation 2, based on the following preliminary vehicle classification:
B4: Class 1 | C4: ratio of rated power in W / kerb mass in kg <= 22
B5: (version 1.4) | C5: The table with the speed trace is named "WLTC_class_1" and contains a low and a medium speed part.
C6: If v_max >= 70 km/h, phase low is repeated after phase medium.
C7: If v_max < 70 km/h, phase medium is replaced by a repetition of phase low.
C9: If a vehicle has a ratio of rated power in W divide by kerb mass in kg close to the borderline, any additional tests with the WLTC, class 2, version 1.4 cycle are highly welcomed.
B11: Class 2 | C11: ratio of rated power in W / kerb mass in kg > 22 but <= 34
B12: (version 1.4) | C12: The table with the speed trace is named "WLTC_class_2" and contains a low, a medium and a high speed part.
C13: If v_max < 90 km/h, phase high is replaced by a repetition of phase low.
C15: If a vehicle with a ratio of rated power in W divided by kerb mass in kg between 22 and 34, but close to the lower borderline cannot follow the WLTC class 2, version 1.4 speed trac
C16: it shall proceed at full throttle until the reference speed profile is reached again. This test shall be repeated at least 3 times. Additionally, the same vehicle can be tested
C17: with the WLTC, class 1 , version 1.4 driving cycle (3 tests), provided that all the other provisions of the WLTP are the same as before.
C19: If a vehicle has a ratio of rated power in W divided by kerb mass in kg between 22 and 34, but close to the upper borderline, any additional tests with the WLTC, class 3, version 5 cycle are highly welcomed.
B21: Class 3 | C21: ratio of rated power in W / kerb mass in kg > 34
B22: (version 5) | C22: The table with the speed trace is named "WLTC_class_3" and contains a low, a medium, a high and an extra high speed part.
C23: If v_max < 135 km/h, phase high is replaced by a repetition of phase low.
C25: If a vehicle with a ratio of rated power in W divided by kerb masin kg > 34, but close to this borderline cannot follow the WLTC class 3, version 5 speed trace
C26: it shall proceed at full throttle until the reference speed profile is reached again. This test shall be repeated at least 3 times. Additionally, the same vehicle can be tested
C27: with the WLTC, class 2 , version 1.4 driving cycle (3 tests), provided that all the other provisions of the WLTP are the same as before.
C29: kerb mass means the "unladen mass" as defined in ECE R83.
C30: v_max is the maximum speed of the vehicle as declared by the manufacturer (ECE R 68) and not any use restriction or safety based limitation.

Sheet WLTC_class_3
B2: Class 3 vehicles: | C2: vehicles with a ratio of rated power in W / kerb mass in kg > 34
B4: For further requirements/recommendations see table "Explanations"
B6: Phase | C6: Total elapsed time | D6: Phase elapsed time | E6: WLTC class 3, version 5, vehicle speed | F6: WLTC class 3, version 5, acceleration | G6: WLTC class 3, version 5, acceleration | I6: duration | J6: stop duration | K6: distance | L6: p_stop | M6: v_max | N6: v_ave without stops | O6: v_ave with stops | P6: a_min | Q6: a_max
B7: Phase | C7: s | D7: s | E7: km/h | F7: m/s² | G7: km/h/s | I7: s | J7: s | K7: m | M7: km/h | N7: km/h | O7: km/h | P7: m/s² | Q7: m/s²
B8: Low | C8: 0 | D8: 0 | E8: 0 | F8: =($E9-0)/2/3.6 -> 0 | G8: =($E9-0)/2 -> 0 | H8: low | I8: =COUNT(E9:E597) -> 589 | J8: =SUM(R9:R597) -> 156 | K8: =SUM(T9:T597) -> 3094.5278 | L8: =J8/I8 -> 0.26485569 | M8: =MAX(S9:S597) -> 56.5 | N8: =K8/(I8-J8)*3.6 -> 25.728176 | O8: =K8/I8*3.6 -> 18.913922 | P8: =MIN(F9:F597) -> -1.4722222 | Q8: =MAX(F9:F597) -> 1.4722222 | R8: =IF(E8<1,1,0) -> 1 | S8: =IF(R8=1,"",E8) | T8: =E8/3.6 -> 0
B9: Low | C9: 1 | D9: 1 | E9: 0 | F9: =($E10-$E8)/2/3.6 -> 0 | G9: =($E10-$E8)/2 -> 0 | H9: medium | I9: =COUNT(E598:E1030) -> 433 | J9: =SUM(R598:R1030) -> 48 | K9: =SUM(T598:T1030) -> 4755.8889 | L9: =J9/I9 -> 0.1108545 | M9: =MAX(S598:S1030) -> 76.6 | N9: =K9/(I9-J9)*3.6 -> 44.470649 | O9: =K9/I9*3.6 -> 39.540878 | P9: =MIN(F598:F1030) -> -1.4861111 | Q9: =MAX(F598:F1030) -> 1.5694444 | R9: =IF(E9<1,1,0) -> 1 | S9: =IF(R9=1,"",E9) | T9: =E9/3.6 -> 0
B10: Low | C10: 2 | D10: 2 | E10: 0 | F10: =($E11-$E9)/2/3.6 -> 0 | G10: =($E11-$E9)/2 -> 0 | H10: high | I10: =COUNT(E1031:E1485) -> 455 | J10: =SUM(R1031:R1485) -> 31 | K10: =SUM(T1031:T1485) -> 7157.8333 | L10: =J10/I10 -> 0.068131868 | M10: =MAX(S1031:S1485) -> 97.4 | N10: =K10/(I10-J10)*3.6 -> 60.774057 | O10: =K10/I10*3.6 -> 56.633407 | P10: =MIN(F1031:F1485) -> -1.4861111 | Q10: =MAX(F1031:F1485) -> 1.5833333 | R10: =IF(E10<1,1,0) -> 1 | S10: =IF(R10=1,"",E10) | T10: =E10/3.6 -> 0
B11: Low | C11: 3 | D11: 3 | E11: 0 | F11: =($E12-$E10)/2/3.6 -> 0 | G11: =($E12-$E10)/2 -> 0 | H11: extra high | I11: =COUNT(E1486:E1808) -> 323 | J11: =SUM(R1486:R1808) -> 7 | K11: =SUM(T1486:T1808) -> 8254.1389 | L11: =J11/I11 -> 0.021671827 | M11: =MAX(S1486:S1808) -> 131.3 | N11: =K11/(I11-J11)*3.6 -> 94.034494 | O11: =K11/I11*3.6 -> 91.996594 | P11: =MIN(F1486:F1808) -> -1.2083333 | Q11: =MAX(F1486:F1808) -> 1.0277778 | R11: =IF(E11<1,1,0) -> 1 | S11: =IF(R11=1,"",E11) | T11: =E11/3.6 -> 0
B12: Low | C12: 4 | D12: 4 | E12: 0 | F12: =($E13-$E11)/2/3.6 -> 0 | G12: =($E13-$E11)/2 -> 0 | I12: =SUM(I8:I11) -> 1800 | J12: =SUM(J8:J11) -> 242 | K12: =SUM(K8:K11) -> 23262.389 | R12: =IF(E12<1,1,0) -> 1 | S12: =IF(R12=1,"",E12) | T12: =E12/3.6 -> 0
B13: Low | C13: 5 | D13: 5 | E13: 0 | F13: =($E14-$E12)/2/3.6 -> 0 | G13: =($E14-$E12)/2 -> 0 | R13: =IF(E13<1,1,0) -> 1 | S13: =IF(R13=1,"",E13) | T13: =E13/3.6 -> 0
B14: Low | C14: 6 | D14: 6 | E14: 0 | F14: =($E15-$E13)/2/3.6 -> 0 | G14: =($E15-$E13)/2 -> 0 | R14: =IF(E14<1,1,0) -> 1 | S14: =IF(R14=1,"",E14) | T14: =E14/3.6 -> 0
B15: Low | C15: 7 | D15: 7 | E15: 0 | F15: =($E16-$E14)/2/3.6 -> 0 | G15: =($E16-$E14)/2 -> 0 | R15: =IF(E15<1,1,0) -> 1 | S15: =IF(R15=1,"",E15) | T15: =E15/3.6 -> 0
B16: Low | C16: 8 | D16: 8 | E16: 0 | F16: =($E17-$E15)/2/3.6 -> 0 | G16: =($E17-$E15)/2 -> 0 | R16: =IF(E16<1,1,0) -> 1 | S16: =IF(R16=1,"",E16) | T16: =E16/3.6 -> 0
B17: Low | C17: 9 | D17: 9 | E17: 0 | F17: =($E18-$E16)/2/3.6 -> 0 | G17: =($E18-$E16)/2 -> 0 | R17: =IF(E17<1,1,0) -> 1 | S17: =IF(R17=1,"",E17) | T17: =E17/3.6 -> 0
B18: Low | C18: 10 | D18: 10 | E18: 0 | F18: =($E19-$E17)/2/3.6 -> 0 | G18: =($E19-$E17)/2 -> 0 | R18: =IF(E18<1,1,0) -> 1 | S18: =IF(R18=1,"",E18) | T18: =E18/3.6 -> 0
B19: Low | C19: 11 | D19: 11 | E19: 0 | F19: =($E20-$E18)/2/3.6 -> 0.027777778 | G19: =($E20-$E18)/2 -> 0.1 | R19: =IF(E19<1,1,0) -> 1 | S19: =IF(R19=1,"",E19) | T19: =E19/3.6 -> 0
B20: Low | C20: 12 | D20: 12 | E20: 0.2 | F20: =($E21-$E19)/2/3.6 -> 0.23611111 | G20: =($E21-$E19)/2 -> 0.85 | R20: =IF(E20<1,1,0) -> 1 | S20: =IF(R20=1,"",E20) | T20: =E20/3.6 -> 0.055555556
B21: Low | C21: 13 | D21: 13 | E21: 1.7 | F21: =($E22-$E20)/2/3.6 -> 0.72222222 | G21: =($E22-$E20)/2 -> 2.6 | R21: =IF(E21<1,1,0) -> 0 | S21: =IF(R21=1,"",E21) -> 1.7 | T21: =E21/3.6 -> 0.47222222
B22: Low | C22: 14 | D22: 14 | E22: 5.4 | F22: =($E23-$E21)/2/3.6 -> 1.1388889 | G22: =($E23-$E21)/2 -> 4.1 | R22: =IF(E22<1,1,0) -> 0 | S22: =IF(R22=1,"",E22) -> 5.4 | T22: =E22/3.6 -> 1.5
B23: Low | C23: 15 | D23: 15 | E23: 9.9 | F23: =($E24-$E22)/2/3.6 -> 1.0694444 | G23: =($E24-$E22)/2 -> 3.85 | R23: =IF(E23<1,1,0) -> 0 | S23: =IF(R23=1,"",E23) -> 9.9 | T23: =E23/3.6 -> 2.75
B24: Low | C24: 16 | D24: 16 | E24: 13.1 | F24: =($E25-$E23)/2/3.6 -> 0.97222222 | G24: =($E25-$E23)/2 -> 3.5 | R24: =IF(E24<1,1,0) -> 0 | S24: =IF(R24=1,"",E24) -> 13.1 | T24: =E24/3.6 -> 3.6388889
... B1808: Extra-high | C1808: 1800 | D1808: 323 | E1808: 0 | F1808: =($E1809-$E1807)/2/3.6 -> 0 | G1808: =($E1809-$E1807)/2 -> 0 | R1808: =IF(E1808<1,1,0) -> 1 | S1808: =IF(R1808=1,"",E1808) | T1808: =E1808/3.6 -> 0

Sheet dia_class3_600

Sheet dia_class3_600_1200

Sheet dia_class3_1200_1800

Sheet dia_class3_1800
