Workbook

Sheet Density
A1: Tree Density Calculations
A2: Enter your raw data into the columns below! The calculation is: Density of trees = 1 / (mean distance squared)
A3: Sampling point | B3: D1 (m) | C3: D2 (m) | D3: D3 (m) | E3: D4 (m) | F3: Average distance | G3: Density (trees per m)
A4: 1 | F4: =AVERAGE(B4:E4) -> #DIV/0! | G4: =1/(F4^2) -> #DIV/0!
A5: 2 | F5: =AVERAGE(B5:E5) -> #DIV/0! | G5: =1/(F5^2) -> #DIV/0!
A6: 3 | F6: =AVERAGE(B6:E6) -> #DIV/0! | G6: =1/(F6^2) -> #DIV/0!
A7: 4 | F7: =AVERAGE(B7:E7) -> #DIV/0! | G7: =1/(F7^2) -> #DIV/0!
A8: 5 | F8: =AVERAGE(B8:E8) -> #DIV/0! | G8: =1/(F8^2) -> #DIV/0!
A9: 6 | F9: =AVERAGE(B9:E9) -> #DIV/0! | G9: =1/(F9^2) -> #DIV/0!
A10: 7 | F10: =AVERAGE(B10:E10) -> #DIV/0! | G10: =1/(F10^2) -> #DIV/0!
A11: 8 | F11: =AVERAGE(B11:E11) -> #DIV/0! | G11: =1/(F11^2) -> #DIV/0!
A12: 9 | F12: =AVERAGE(B12:E12) -> #DIV/0! | G12: =1/(F12^2) -> #DIV/0!
A13: 10 | F13: =AVERAGE(B13:E13) -> #DIV/0! | G13: =1/(F13^2) -> #DIV/0!
A14: 11 | F14: =AVERAGE(B14:E14) -> #DIV/0! | G14: =1/(F14^2) -> #DIV/0!
A15: 12 | F15: =AVERAGE(B15:E15) -> #DIV/0! | G15: =1/(F15^2) -> #DIV/0!
F16: Total | G16: =SUM(G4:G15) -> #DIV/0!
A19: https://www.field-studies-council.org/resources/16-18-geography/water-and-carbon/carbon-cycle/method/

Sheet Trunk Biomass
A1: Biomass Calculations: Trunk
A2: Use this sheet to calculate the biomass in each tree. Plug in your raw data to the boxes below. Remember to do all three sections: this is for the trunk
A3: Note: the species NSG is its nominal specific gravity - scroll down to get the number you need from the table below
A4: Tree | B4: Species NSG | C4: Circumference (m) | D4: Radius | E4: Dist. from tree (m) | F4: Height of observer | G4: Angle | H4: Tree height (m) | I4: Trunk vol. (m3) | J4: Trunk biomass
A5: 1 | D5: =C5/(2*3.142) -> 0 | H5: =(E5*TAN(G5))+F5 -> 0 | I5: =(3.142*(D5^2)) * (H5/3) -> 0 | J5: =I5*B5 -> 0
A6: 2 | D6: =C6/(2*3.142) -> 0 | H6: =(E6*TAN(G6))+F6 -> 0 | I6: =(3.142*(D6^2)) * (H6/3) -> 0 | J6: =I6*B6 -> 0
A7: 3 | D7: =C7/(2*3.142) -> 0 | H7: =(E7*TAN(G7))+F7 -> 0 | I7: =(3.142*(D7^2)) * (H7/3) -> 0 | J7: =I7*B7 -> 0
A8: 4 | D8: =C8/(2*3.142) -> 0 | H8: =(E8*TAN(G8))+F8 -> 0 | I8: =(3.142*(D8^2)) * (H8/3) -> 0 | J8: =I8*B8 -> 0
A9: 5 | D9: =C9/(2*3.142) -> 0 | H9: =(E9*TAN(G9))+F9 -> 0 | I9: =(3.142*(D9^2)) * (H9/3) -> 0 | J9: =I9*B9 -> 0
A10: 6 | D10: =C10/(2*3.142) -> 0 | H10: =(E10*TAN(G10))+F10 -> 0 | I10: =(3.142*(D10^2)) * (H10/3) -> 0 | J10: =I10*B10 -> 0
A11: 7 | D11: =C11/(2*3.142) -> 0 | H11: =(E11*TAN(G11))+F11 -> 0 | I11: =(3.142*(D11^2)) * (H11/3) -> 0 | J11: =I11*B11 -> 0
A12: 8 | D12: =C12/(2*3.142) -> 0 | H12: =(E12*TAN(G12))+F12 -> 0 | I12: =(3.142*(D12^2)) * (H12/3) -> 0 | J12: =I12*B12 -> 0
A13: 9 | D13: =C13/(2*3.142) -> 0 | H13: =(E13*TAN(G13))+F13 -> 0 | I13: =(3.142*(D13^2)) * (H13/3) -> 0 | J13: =I13*B13 -> 0
A14: 10 | D14: =C14/(2*3.142) -> 0 | H14: =(E14*TAN(G14))+F14 -> 0 | I14: =(3.142*(D14^2)) * (H14/3) -> 0 | J14: =I14*B14 -> 0
A15: 11 | D15: =C15/(2*3.142) -> 0 | H15: =(E15*TAN(G15))+F15 -> 0 | I15: =(3.142*(D15^2)) * (H15/3) -> 0 | J15: =I15*B15 -> 0
A16: 12 | D16: =C16/(2*3.142) -> 0 | H16: =(E16*TAN(G16))+F16 -> 0 | I16: =(3.142*(D16^2)) * (H16/3) -> 0 | J16: =I16*B16 -> 0
... A42: 38 | D42: =C42/(2*3.142) -> 0 | H42: =(E42*TAN(G42))+F42 -> 0 | I42: =(3.142*(D42^2)) * (H42/3) -> 0 | J42: =I42*B42 -> 0
I43: Total | J43: =SUM(J5:J42) -> 0
A48: Tree Species - Nominal Specific Gravity
A49: Copy and paste the number you need into the above table
A50: Species | B50: NSG
A51: European larch | B51: 0.45
A52: Scot's Pine | B52: 0.42
A53: Misc Conifer | B53: 0.39
A55: Oak | B55: 0.56
A56: Beech | B56: 0.55
A57: Sycamore | B57: 0.49
A58: Birch | B58: 0.53
A59: Alder | B59: 0.42
A60: Misc Broadleaf | B60: 0.53

Sheet Crown Biomass
A1: Biomass Calculations: Crown
A2: Use this sheet to calculate the biomass of the tree crowns. For the final two columns, ONLY USE THE ANSWER FROM THE COLUMN WITH THE CORRECT DBH SIZE. Trees with a DBH below 7cm cannot have a canopy calculation, and can be ignored.
A3: Note: the figures for A,B, C and D can be obtained from the table below
A4: Tree | B4: Radius | C4: DBH (cm) | D4: A | E4: B | F4: C | G4: D | H4: Crown Biomass (if DBH 7 - 50cm) | I4: Crown Biomass (if DBH >50cm)
A5: 1 | B5: ='Trunk Biomass'!D5 -> 0 | C5: =(B5*100)*2 -> 0 | H5: =D5*(C5^E5) -> #NUM! | I5: =F5+(G5*C5) -> 0
A6: 2 | B6: ='Trunk Biomass'!D6 -> 0 | C6: =(B6*100)*2 -> 0 | H6: =D6*(C6^E6) -> #NUM! | I6: =F6+(G6*C6) -> 0
A7: 3 | B7: ='Trunk Biomass'!D7 -> 0 | C7: =(B7*100)*2 -> 0 | H7: =D7*(C7^E7) -> #NUM! | I7: =F7+(G7*C7) -> 0
A8: 4 | B8: ='Trunk Biomass'!D8 -> 0 | C8: =(B8*100)*2 -> 0 | H8: =D8*(C8^E8) -> #NUM! | I8: =F8+(G8*C8) -> 0
A9: 5 | B9: ='Trunk Biomass'!D9 -> 0 | C9: =(B9*100)*2 -> 0 | H9: =D9*(C9^E9) -> #NUM! | I9: =F9+(G9*C9) -> 0
A10: 6 | B10: ='Trunk Biomass'!D10 -> 0 | C10: =(B10*100)*2 -> 0 | H10: =D10*(C10^E10) -> #NUM! | I10: =F10+(G10*C10) -> 0
A11: 7 | B11: ='Trunk Biomass'!D11 -> 0 | C11: =(B11*100)*2 -> 0 | H11: =D11*(C11^E11) -> #NUM! | I11: =F11+(G11*C11) -> 0
A12: 8 | B12: ='Trunk Biomass'!D12 -> 0 | C12: =(B12*100)*2 -> 0 | H12: =D12*(C12^E12) -> #NUM! | I12: =F12+(G12*C12) -> 0
A13: 9 | B13: ='Trunk Biomass'!D13 -> 0 | C13: =(B13*100)*2 -> 0 | H13: =D13*(C13^E13) -> #NUM! | I13: =F13+(G13*C13) -> 0
A14: 10 | B14: ='Trunk Biomass'!D14 -> 0 | C14: =(B14*100)*2 -> 0 | H14: =D14*(C14^E14) -> #NUM! | I14: =F14+(G14*C14) -> 0
A15: 11 | B15: ='Trunk Biomass'!D15 -> 0 | C15: =(B15*100)*2 -> 0 | H15: =D15*(C15^E15) -> #NUM! | I15: =F15+(G15*C15) -> 0
A16: 12 | B16: ='Trunk Biomass'!D16 -> 0 | C16: =(B16*100)*2 -> 0 | H16: =D16*(C16^E16) -> #NUM! | I16: =F16+(G16*C16) -> 0
... A42: 38 | B42: ='Trunk Biomass'!D42 -> 0 | C42: =(B42*100)*2 -> 0 | H42: =D42*(C42^E42) -> #NUM! | I42: =F42+(G42*C42) -> 0
G43: Total
G44: This can be calculated by: (A) select the answer box; (B) click the "fx" logo next to the task bar; C) select 'SUM' and click OK; (D) with the pop-up table open, click on the first cell you want included in the total. Then click into the box labelled 'Number 2' in the pop-up table, and select the next cell in the spreadsheet. Repeat this until you have selected all the biomass readings you need, according to their DBH size.
A48: Estimating Crown Biomass - Constants
A49: Copy and paste these numbers into the ABCD boxes above depending on species
A50: Species | B50: a | C50: b | D50: c | E50: d
A51: Larch | B51: 4.4e-05 | C51: 2.0291 | D51: -0.129047 | E51: 0.005039
A52: Scots Pine | B52: 1.6e-05 | C52: 2.4767 | D52: -0.394206 | E52: 0.013094
A53: Misc Conifer | B53: 1.5e-05 | C53: 2.4767 | D53: -0.353198 | E53: 0.011732
A55: Sycamore | B55: 1.9e-05 | C55: 2.4767 | D55: -0.459519 | E55: 0.015263
A56: Beech | B56: 1.9e-05 | C56: 2.4767 | D56: -0.459519 | E56: 0.015263
A57: Misc Broadleaf | B57: 1.7e-05 | C57: 2.4767 | D57: -0.411551 | E57: 0.01367

Sheet Rootball Biomass
A1: Biomass Calculations: Rootball
A2: Use this sheet to calculate the biomass of the tree roots. For the final two columns, ONLY USE THE ANSWER FROM THE COLUMN WITH THE CORRECT DBH SIZE.
A3: Note: the figures for E, F and G can be obtained from the table below
A4: Tree | B4: DBH (cm) | C4: E | D4: F | E4: G | F4: Root Biomass (if DBH ≤ 30cm) | G4: Root Biomass (if DBH >30cm)
A5: 1 | B5: ='Crown Biomass'!C5 -> 0 | F5: =C5*(B5^2.5) -> 0 | G5: =D5+(E5*B5) -> 0
A6: 2 | B6: ='Crown Biomass'!C6 -> 0 | F6: =C6*(B6^2.5) -> 0 | G6: =D6+(E6*B6) -> 0
A7: 3 | B7: ='Crown Biomass'!C7 -> 0 | F7: =C7*(B7^2.5) -> 0 | G7: =D7+(E7*B7) -> 0
A8: 4 | B8: ='Crown Biomass'!C8 -> 0 | F8: =C8*(B8^2.5) -> 0 | G8: =D8+(E8*B8) -> 0
A9: 5 | B9: ='Crown Biomass'!C9 -> 0 | F9: =C9*(B9^2.5) -> 0 | G9: =D9+(E9*B9) -> 0
A10: 6 | B10: ='Crown Biomass'!C10 -> 0 | F10: =C10*(B10^2.5) -> 0 | G10: =D10+(E10*B10) -> 0
A11: 7 | B11: ='Crown Biomass'!C11 -> 0 | F11: =C11*(B11^2.5) -> 0 | G11: =D11+(E11*B11) -> 0
A12: 8 | B12: ='Crown Biomass'!C12 -> 0 | F12: =C12*(B12^2.5) -> 0 | G12: =D12+(E12*B12) -> 0
A13: 9 | B13: ='Crown Biomass'!C13 -> 0 | F13: =C13*(B13^2.5) -> 0 | G13: =D13+(E13*B13) -> 0
A14: 10 | B14: ='Crown Biomass'!C14 -> 0 | F14: =C14*(B14^2.5) -> 0 | G14: =D14+(E14*B14) -> 0
A15: 11 | B15: ='Crown Biomass'!C15 -> 0 | F15: =C15*(B15^2.5) -> 0 | G15: =D15+(E15*B15) -> 0
A16: 12 | B16: ='Crown Biomass'!C16 -> 0 | F16: =C16*(B16^2.5) -> 0 | G16: =D16+(E16*B16) -> 0
... A42: 38 | B42: ='Crown Biomass'!C42 -> 0 | F42: =C42*(B42^2.5) -> 0 | G42: =D42+(E42*B42) -> 0
F43: Total
F44: This can be calculated by: (A) select the answer box; (B) click the "fx" logo next to the task bar; C) select 'SUM' and click OK; (D) with the pop-up table open, click on the first cell you want included in the total. Then click into the box labelled 'Number 2' in the pop-up table, and select the next cell in the spreadsheet. Repeat this until you have selected all the biomass readings you need, according to their DBH size.
A48: Estimating Root Biomass - Constants
A49: Copy and paste these numbers into the EFG boxes above depending on species
A50: Species | B50: e | C50: f | D50: g
A51: Larch | B51: 1.7e-05 | C51: -0.13348 | D51: 0.007296
A52: Scots Pine | B52: 1.5e-05 | C52: -0.118673 | D52: 0.006487
A53: Misc Conifer | B53: 1.2e-05 | C53: -0.091547 | D53: 0.005004
A55: Beech | B55: 2.3e-05 | C55: -0.174882 | D55: 0.009559
A56: Misc Broadleaf | B56: 2.3e-05 | C56: -0.174882 | D56: 0.009559

Sheet Carbon Calculations
A1: Carbon Calculations
A2: Use this sheet to calculate the final quantity of sequestered carbon in the trees. IT WILL ONLY WORK IF YOU HAVE COMPLETED THE PREVIOUS TABS.
A3: Note: You can use Google My Maps to measure the total size of the woodland strand along the river. Using your average carbon per tree estimate, and your density estimate, this will let you work out total sequestered carbon for this area.
A4: Total Biomass (oven dry tonnes) | B4: Total Carbon Content (tonnes) | C4: Avg C per tree (tonnes) | D4: C sequestered per m | E4: Overall strand size (m) | F4: Overall C sequestered in woodland (tonnes)
A5: =SUM('Rootball Biomass'!G43,'Crown Biomass'!I43,'Trunk Biomass'!J43) -> 0 | B5: =A5/2 -> 0 | C5: =B5/38 -> 0 | D5: =Density!G16 * C5 -> #DIV/0! | F5: =D5*E5 -> #DIV/0!
