Workbook

Sheet 2017
A1: Estimates of Monthly Retail and Food Services Sales by UK Business: 2017
A2: [Estimates are shown in millions of pounds and are based on data from the Monthly Retail Trade Survey, Annual Retail Trade Survey, and administrative records]
B5: Kind of Business | C5: 42736 | D5: 42767 | E5: 42795 | F5: 42826 | G5: 42856 | H5: 42887 | I5: 42917 | J5: 42948 | K5: 42979 | L5: 43009 | M5: 43040 | N5: 43070
A7: 1 | B7: Retail and food services sales, total | C7: 313593 | D7: 304056 | E7: 334149 | F7: 336155 | G7: 354668 | H7: 351418 | I7: 354316 | J7: 359483 | K7: 330411 | L7: 344726 | M7: 347095 | N7: 408991
A8: 1 | B8: Retail sales and food services excl motor vehicle and parts | C8: 262237 | D8: 252560 | E8: 275000 | F8: 277938 | G8: 294559 | H8: 289242 | I8: 289465 | J8: 290828 | K8: 276159 | L8: 287895 | M8: 295316 | N8: 351279
A9: 1 | B9: Retail sales, total | C9: 277402 | D9: 269015 | E9: 295520 | F9: 298119 | G9: 313979 | H9: 312547 | I9: 314603 | J9: 320197 | K9: 293459 | L9: 306112 | M9: 311297 | N9: 370947
A10: 1 | B10: Retail sales, total (excl. motor vehicle and parts dealers) | C10: 226046 | D10: 217519 | E10: 236371 | F10: 239902 | G10: 253870 | H10: 250371 | I10: 249752 | J10: 251542 | K10: 239207 | L10: 249281 | M10: 259518 | N10: 313235
A11: 2 | B11: Motor vehicle and parts dealers | C11: 51356 | D11: 51496 | E11: 59149 | F11: 58217 | G11: 60109 | H11: 62176 | I11: 64851 | J11: 68655 | K11: 54252 | L11: 56831 | M11: 51779 | N11: 57712
A12: 2 | B12: Automobile and other motor vehicle dealers | C12: 45385 | D12: 45544 | E12: 52498 | F12: 51558 | G12: 53528 | H12: 55239 | I12: 57998 | J12: 62009 | K12: 47886 | L12: 50147 | M12: 45886 | N12: 51596
A13: 2 | B13: Automobile dealers | C13: 41790 | D13: 41632 | E13: 46834 | F13: 45373 | G13: 46601 | H13: 48405 | I13: 51323 | J13: 56009 | K13: 42507 | L13: 45540 | M13: 41620 | N13: 47039
A14: 2 | B14: New car dealers | C14: 36032 | D14: 35304 | E14: 40575 | F14: 39492 | G14: 40941 | H14: 42530 | I14: 45640 | J14: 50054 | K14: 37141 | L14: 40184 | M14: 36846 | N14: 42160
A15: 2 | B15: Used car dealers | C15: 5758 | D15: 6328 | E15: 6259 | F15: 5881 | G15: 5660 | H15: 5875 | I15: 5683 | J15: 5955 | K15: 5366 | L15: 5356 | M15: 4774 | N15: 4879
A16: 2 | B16: Automotive parts, acc., and tire stores | C16: 5971 | D16: 5952 | E16: 6651 | F16: 6659 | G16: 6581 | H16: 6937 | I16: 6853 | J16: 6646 | K16: 6366 | L16: 6684 | M16: 5893 | N16: 6116
A17: 3 | B17: Furniture, home furn, electronics, and appliance stores | C17: 16069 | D17: 15700 | E17: 15530 | F17: 14545 | G17: 15362 | H17: 15519 | I17: 15756 | J17: 16119 | K17: 15341 | L17: 15178 | M17: 18186 | N17: 22765
A18: 3 | B18: Furniture and home furnishings stores | C18: 7428 | D18: 7219 | E18: 7601 | F18: 7293 | G18: 7689 | H18: 7728 | I18: 8016 | J18: 7988 | K18: 7782 | L18: 7672 | M18: 8227 | N18: 9216
... A72: 1 | B72: Drinking places | C72: 1899 | D72: 1817 | E72: 2113 | F72: 1999 | G72: 2101 | H72: 2075 | I72: 2141 | J72: 2023 | K72: 1933 | L72: 2037 | M72: 1884 | N72: 1984
B74: Total estimated sales per month | C74: =SUM(C7:C72) -> 1897407 | D74: =SUM(D7:D72) -> 1838131 | E74: =SUM(E7:E72) -> 2009911 | F74: =SUM(F7:F72) -> 2019713 | G74: =SUM(G7:G72) -> 2128455 | H74: =SUM(H7:H72) -> 2101102 | I74: =SUM(I7:I72) -> 2122148 | J74: =SUM(J7:J72) -> 2162029 | ... N74: =SUM(N7:N72) -> 2528528 | P74: =SUM(C74:N74) -> 24983783 | Q74: Total annual sales

Sheet 2016
A1: Estimates of Monthly Retail and Food Services Sales by UK Business: 2016
A2: [Estimates are shown in millions of pounds and are based on data from the Monthly Retail Trade Survey, Annual Retail Trade Survey, and administrative records]
B5: Kind of Business | C5: 42370 | D5: 42401 | E5: 42430 | F5: 42461 | G5: 42491 | H5: 42522 | I5: 42552 | J5: 42583 | K5: 42614 | L5: 42644 | M5: 42675 | N5: 42705
A7: 1 | B7: Retail and food services sales, total | C7: 342191 | D7: 344062 | E7: 373587 | F7: 370144 | G7: 399979 | H7: 380431 | I7: 385909 | J7: 384798 | K7: 352554 | L7: 352479 | M7: 338788 | N7: 387964
A8: 1 | B8: Retail sales and food services excl motor vehicle and parts | C8: 276524 | D8: 275050 | E8: 296836 | F8: 296029 | G8: 323249 | H8: 310307 | I8: 315525 | J8: 314306 | K8: 291226 | L8: 296500 | M8: 289976 | N8: 334459
A9: 1 | B9: Retail sales, total | C9: 307644 | D9: 308846 | E9: 335581 | F9: 332714 | G9: 359693 | H9: 341970 | I9: 346516 | J9: 344528 | K9: 315534 | L9: 314224 | M9: 302569 | N9: 350138
A10: 1 | B10: Retail sales, total (excl. motor vehicle and parts dealers) | C10: 241977 | D10: 239834 | E10: 258830 | F10: 258599 | G10: 282963 | H10: 271846 | I10: 276132 | J10: 274036 | K10: 254206 | L10: 258245 | M10: 253757 | N10: 296633
A11: 2 | B11: Motor vehicle and parts dealers | C11: 65667 | D11: 69012 | E11: 76751 | F11: 74115 | G11: 76730 | H11: 70124 | I11: 70384 | J11: 70492 | K11: 61328 | L11: 55979 | M11: 48812 | N11: 53505
A12: 2 | B12: Automobile and other motor vehicle dealers | C12: 59837 | D12: 63025 | E12: 70283 | F12: 67527 | G12: 69892 | H12: 63232 | I12: 63346 | J12: 63687 | K12: 54744 | L12: 49007 | M12: 42565 | N12: 47105
A13: 2 | B13: Automobile dealers | C13: 55723 | D13: 58111 | E13: 63776 | F13: 60274 | G13: 61582 | H13: 55788 | I13: 56206 | J13: 57390 | K13: 49863 | L13: 44675 | M13: 39046 | N13: 43327
A14: 2 | B14: New car dealers | C14: 49031 | D14: 50763 | E14: 56311 | F14: 53160 | G14: 54724 | H14: 48953 | I14: 49741 | J14: 50978 | K14: 44022 | L14: 39063 | M14: 34435 | N14: 38596
A15: 2 | B15: Used car dealers | C15: 6692 | D15: 7348 | E15: 7465 | F15: 7114 | G15: 6858 | H15: 6835 | I15: 6465 | J15: 6412 | K15: 5841 | L15: 5612 | M15: 4611 | N15: 4731
A16: 2 | B16: Automotive parts, acc., and tire stores | C16: 5830 | D16: 5987 | E16: 6468 | F16: 6588 | G16: 6838 | H16: 6892 | I16: 7038 | J16: 6805 | K16: 6584 | L16: 6972 | M16: 6247 | N16: 6400
A17: 3 | B17: Furniture, home furn, electronics, and appliance stores | C17: 17442 | D17: 17428 | E17: 17541 | F17: 16678 | G17: 18152 | H17: 17468 | I17: 18105 | J17: 18342 | K17: 16564 | L17: 16381 | M17: 19079 | N17: 23434
A18: 3 | B18: Furniture and home furnishings stores | C18: 8570 | D18: 8533 | E18: 8838 | F18: 8525 | G18: 9146 | H18: 8650 | I18: 9122 | J18: 9143 | K18: 8338 | L18: 8393 | M18: 8754 | N18: 9521
... A72: 1 | B72: Drinking places | C72: 1695 | D72: 1744 | E72: 1971 | F72: 1920 | G72: 2033 | H72: 1989 | I72: 2225 | J72: 2179 | K72: 1984 | L72: 2032 | M72: 1928 | N72: 1994
B74: Total estimated sales per month | C74: =SUM(C7:C72) -> 2059562 | D74: =SUM(D7:D72) -> 2070943 | E74: =SUM(E7:E72) -> 2242978 | F74: =SUM(F7:F72) -> 2211446 | G74: =SUM(G7:G72) -> 2390980 | H74: =SUM(H7:H72) -> 2271093 | I74: =SUM(I7:I72) -> 2303434 | J74: =SUM(J7:J72) -> 2306648 | ... N74: =SUM(N7:N72) -> 2413963 | P74: =SUM(C74:N74) -> 26572434 | Q74: Total annual sales

Sheet 2015
A1: Estimates of Monthly Retail and Food Services Sales by UK Business: 2015
A2: [Estimates are shown in millions of pounds and are based on data from the Monthly Retail Trade Survey, Annual Retail Trade Survey, and administrative records]
B5: Kind of Business | C5: 42005 | D5: 42036 | E5: 42064 | F5: 42095 | G5: 42125 | H5: 42156 | I5: 42186 | J5: 42217 | K5: 42248 | L5: 42278 | M5: 42309 | N5: 42339
A7: 1 | B7: Retail and food services sales, total | C7: 328087 | D7: 322747 | E7: 373626 | F7: 358275 | G7: 391287 | H7: 376371 | I7: 371848 | J7: 387261 | K7: 353159 | L7: 367855 | M7: 376822 | N7: 425283
A8: 1 | B8: Retail sales and food services excl motor vehicle and parts | C8: 261818 | D8: 253699 | E8: 290115 | F8: 281295 | G8: 306360 | H8: 296739 | I8: 293008 | J8: 302891 | K8: 279961 | L8: 293655 | M8: 309715 | N8: 356442
A9: 1 | B9: Retail sales, total | C9: 295017 | D9: 290198 | E9: 336020 | F9: 322337 | G9: 353582 | H9: 338448 | I9: 333797 | J9: 348971 | K9: 316953 | L9: 330850 | M9: 341455 | N9: 387195
A10: 1 | B10: Retail sales, total (excl. motor vehicle and parts dealers) | C10: 228748 | D10: 221150 | E10: 252509 | F10: 245357 | G10: 268655 | H10: 258816 | I10: 254957 | J10: 264601 | K10: 243755 | L10: 256650 | M10: 274348 | N10: 318354
A11: 2 | B11: Motor vehicle and parts dealers | C11: 66269 | D11: 69048 | E11: 83511 | F11: 76980 | G11: 84927 | H11: 79632 | I11: 78840 | J11: 84370 | K11: 73198 | L11: 74200 | M11: 67107 | N11: 68841
A12: 2 | B12: Automobile and other motor vehicle dealers | C12: 60564 | D12: 63448 | E12: 76816 | F12: 70746 | G12: 78146 | H12: 72900 | I12: 72195 | J12: 77369 | K12: 66981 | L12: 67280 | M12: 60816 | N12: 62918
A13: 2 | B13: Automobile dealers | C13: 56401 | D13: 59138 | E13: 69967 | F13: 63663 | G13: 69688 | H13: 65223 | I13: 65442 | J13: 70535 | K13: 61695 | L13: 62136 | M13: 56588 | N13: 58439
A14: 2 | B14: New car dealers | C14: 50155 | D14: 52341 | E14: 62499 | F14: 56750 | G14: 62311 | H14: 58193 | I14: 58485 | J14: 63036 | K14: 54938 | L14: 55392 | M14: 50492 | N14: 52597
A15: 2 | B15: Used car dealers | C15: 6246 | D15: 6797 | E15: 7468 | F15: 6913 | G15: 7377 | H15: 7030 | I15: 6957 | J15: 7499 | K15: 6757 | L15: 6744 | M15: 6096 | N15: 5842
A16: 2 | B16: Automotive parts, acc., and tire stores | C16: 5705 | D16: 5600 | E16: 6695 | F16: 6234 | G16: 6781 | H16: 6732 | I16: 6645 | J16: 7001 | K16: 6217 | L16: 6920 | M16: 6291 | N16: 5923
A17: 3 | B17: Furniture, home furn, electronics, and appliance stores | C17: 17886 | D17: 17125 | E17: 18419 | F17: 16669 | G17: 18138 | H17: 18031 | I17: 18109 | J17: 19587 | K17: 17647 | L17: 17901 | M17: 21547 | N17: 26183
A18: 3 | B18: Furniture and home furnishings stores | C18: 9098 | D18: 8710 | E18: 9758 | F18: 8874 | G18: 9616 | H18: 9522 | I18: 9562 | J18: 10288 | K18: 9245 | L18: 9469 | M18: 10391 | N18: 10816
... A72: 1 | B72: Drinking places | C72: 1638 | D72: 1587 | E72: 1905 | F72: 1740 | G72: 1854 | H72: 1860 | I72: 2011 | J72: 1888 | K72: 1845 | L72: 1851 | M72: 1816 | N72: 1840
B74: Total estimated sales per month | C74: =SUM(C7:C72) -> 1985144 | D74: =SUM(D7:D72) -> 1951941 | E74: =SUM(E7:E72) -> 2248750 | F74: =SUM(F7:F72) -> 2151349 | G74: =SUM(G7:G72) -> 2345125 | H74: =SUM(H7:H72) -> 2255987 | I74: =SUM(I7:I72) -> 2230016 | J74: =SUM(J7:J72) -> 2331762 | ... N74: =SUM(N7:N72) -> 2637060 | P74: =SUM(C74:N74) -> 26773859 | Q74: Total annual sales

Sheet 2014
A1: Estimates of Monthly Retail and Food Services Sales by UK Business: 2014
A2: [Estimates are shown in millions of pounds and are based on data from the Monthly Retail Trade Survey, Annual Retail Trade Survey, and administrative records]
B5: Kind of Business | C5: 41640 | D5: 41671 | E5: 41699 | F5: 41730 | G5: 41760 | H5: 41791 | I5: 41821 | J5: 41852 | K5: 41883 | L5: 41913 | M5: 41944 | N5: 41974
A7: 1 | B7: Retail and food services sales, total | C7: 317902 | D7: 313552 | E7: 361505 | F7: 351436 | G7: 373350 | H7: 366310 | I7: 361669 | J7: 375078 | K7: 345547 | L7: 348117 | M7: 356089 | N7: 416856
A8: 1 | B8: Retail sales and food services excl motor vehicle and parts | C8: 252426 | D8: 246364 | E8: 279032 | F8: 275465 | G8: 292066 | H8: 285979 | I8: 281100 | J8: 292456 | K8: 272880 | L8: 278106 | M8: 288933 | N8: 346183
A9: 1 | B9: Retail sales, total | C9: 285831 | D9: 282247 | E9: 326013 | F9: 316675 | G9: 337555 | H9: 330878 | I9: 325763 | J9: 338872 | K9: 310590 | L9: 312794 | M9: 322758 | N9: 379560
A10: 1 | B10: Retail sales, total (excl. motor vehicle and parts dealers) | C10: 220355 | D10: 215059 | E10: 243540 | F10: 240704 | G10: 256271 | H10: 250547 | I10: 245194 | J10: 256250 | K10: 237923 | L10: 242783 | M10: 255602 | N10: 308887
A11: 2 | B11: Motor vehicle and parts dealers | C11: 65476 | D11: 67188 | E11: 82473 | F11: 75971 | G11: 81284 | H11: 80331 | I11: 80569 | J11: 82622 | K11: 72667 | L11: 70011 | M11: 67156 | N11: 70673
A12: 2 | B12: Automobile and other motor vehicle dealers | C12: 59846 | D12: 61606 | E12: 75954 | F12: 69900 | G12: 74913 | H12: 73722 | I12: 74183 | J12: 75828 | K12: 66436 | L12: 63609 | M12: 61107 | N12: 64797
A13: 2 | B13: Automobile dealers | C13: 55938 | D13: 57038 | E13: 69264 | F13: 62709 | G13: 66967 | H13: 66292 | I13: 67582 | J13: 69744 | K13: 61307 | L13: 58934 | M13: 56715 | N13: 60384
A14: 2 | B14: New car dealers | C14: 50007 | D14: 50661 | E14: 62103 | F14: 56096 | G14: 60179 | H14: 59620 | I14: 61062 | J14: 62932 | K14: 54953 | L14: 52639 | M14: 50942 | N14: 54773
A15: 2 | B15: Used car dealers | C15: 5931 | D15: 6377 | E15: 7161 | F15: 6613 | G15: 6788 | H15: 6672 | I15: 6520 | J15: 6812 | K15: 6354 | L15: 6295 | M15: 5773 | N15: 5611
A16: 2 | B16: Automotive parts, acc., and tire stores | C16: 5630 | D16: 5582 | E16: 6519 | F16: 6071 | G16: 6371 | H16: 6609 | I16: 6386 | J16: 6794 | K16: 6231 | L16: 6402 | M16: 6049 | N16: 5876
A17: 3 | B17: Furniture, home furn, electronics, and appliance stores | C17: 17356 | D17: 16702 | E17: 18117 | F17: 16395 | G17: 17708 | H17: 18108 | I17: 17852 | J17: 19193 | K17: 18105 | L17: 17494 | M17: 20884 | N17: 26729
A18: 3 | B18: Furniture and home furnishings stores | C18: 8840 | D18: 8710 | E18: 9702 | F18: 8832 | G18: 9514 | H18: 9763 | I18: 9548 | J18: 10270 | K18: 9833 | L18: 9488 | M18: 10515 | N18: 11357
... A72: 1 | B72: Drinking places | C72: 1561 | D72: 1551 | E72: 1776 | F72: 1702 | G72: 1773 | H72: 1762 | I72: 1824 | J72: 1826 | K72: 1759 | L72: 1770 | M72: 1677 | N72: 1781
B74: Total estimated sales per month | C74: =SUM(C7:C72) -> 1920124 | D74: =SUM(D7:D72) -> 1895450 | E74: =SUM(E7:E72) -> 2175741 | F74: =SUM(F7:F72) -> 2112127 | G74: =SUM(G7:G72) -> 2240326 | H74: =SUM(H7:H72) -> 2200134 | I74: =SUM(I7:I72) -> 2172083 | J74: =SUM(J7:J72) -> 2258209 | ... N74: =SUM(N7:N72) -> 2596310 | P74: =SUM(C74:N74) -> 25942152 | Q74: Total annual sales

Sheet 2013
A1: Estimates of Monthly Retail and Food Services Sales by UK Business: 2013
A2: [Estimates are shown in millions of pounds and are based on data from the Monthly Retail Trade Survey, Annual Retail Trade Survey, and administrative records]
B5: Kind of Business | C5: 41275 | D5: 41306 | E5: 41334 | F5: 41365 | G5: 41395 | H5: 41426 | I5: 41456 | J5: 41487 | K5: 41518 | L5: 41548 | M5: 41579 | N5: 41609
A7: 1 | B7: Retail and food services sales, total | C7: 293009 | D7: 294822 | E7: 338844 | F7: 335407 | G7: 345080 | H7: 350608 | I7: 351285 | J7: 355147 | K7: 332791 | L7: 335615 | M7: 343202 | N7: 404868
A8: 1 | B8: Retail sales and food services excl motor vehicle and parts | C8: 231194 | D8: 227989 | E8: 258387 | F8: 257851 | G8: 266921 | H8: 265459 | I8: 263877 | J8: 274178 | K8: 263606 | L8: 272219 | M8: 278589 | N8: 334501
A9: 1 | B9: Retail sales, total | C9: 263434 | D9: 265306 | E9: 306322 | F9: 302081 | G9: 311271 | H9: 317264 | I9: 316601 | J9: 321123 | K9: 300225 | L9: 302006 | M9: 311428 | N9: 370303
A10: 1 | B10: Retail sales, total (excl. motor vehicle and parts dealers) | C10: 201619 | D10: 198473 | E10: 225865 | F10: 224525 | G10: 233112 | H10: 232115 | I10: 229193 | J10: 240154 | K10: 231040 | L10: 238610 | M10: 246815 | N10: 299936
A11: 2 | B11: Motor vehicle and parts dealers | C11: 61815 | D11: 66833 | E11: 80457 | F11: 77556 | G11: 78159 | H11: 85149 | I11: 87408 | J11: 80969 | K11: 69185 | L11: 63396 | M11: 64613 | N11: 70367
A12: 2 | B12: Automobile and other motor vehicle dealers | C12: 56574 | D12: 61524 | E12: 74353 | F12: 71541 | G12: 72219 | H12: 78810 | I12: 81344 | J12: 74531 | K12: 63296 | L12: 57463 | M12: 58638 | N12: 64458
A13: 2 | B13: Automobile dealers | C13: 53263 | D13: 57139 | E13: 67665 | F13: 64187 | G13: 65014 | H13: 71114 | I13: 74769 | J13: 68430 | K13: 58380 | L13: 53141 | M13: 54599 | N13: 60296
A14: 2 | B14: New car dealers | C14: 47287 | D14: 50478 | E14: 60891 | F14: 58006 | G14: 58925 | H14: 64967 | I14: 68563 | J14: 61881 | K14: 52583 | L14: 47433 | M14: 49167 | N14: 55066
A15: 2 | B15: Used car dealers | C15: 5976 | D15: 6661 | E15: 6774 | F15: 6181 | G15: 6089 | H15: 6147 | I15: 6206 | J15: 6549 | K15: 5797 | L15: 5708 | M15: 5432 | N15: 5230
A16: 2 | B16: Automotive parts, acc., and tire stores | C16: 5241 | D16: 5309 | E16: 6104 | F16: 6015 | G16: 5940 | H16: 6339 | I16: 6064 | J16: 6438 | K16: 5889 | L16: 5933 | M16: 5975 | N16: 5909
A17: 3 | B17: Furniture, home furn, electronics, and appliance stores | C17: 15669 | D17: 15668 | E17: 16859 | F17: 15810 | G17: 16461 | H17: 17065 | I17: 17045 | J17: 18306 | K17: 17368 | L17: 17234 | M17: 20151 | N17: 25569
A18: 3 | B18: Furniture and home furnishings stores | C18: 8059 | D18: 8134 | E18: 8973 | F18: 8605 | G18: 8853 | H18: 9185 | I18: 9176 | J18: 9849 | K18: 9465 | L18: 9356 | M18: 10498 | N18: 11567
... A72: 1 | B72: Drinking places | C72: 1447 | D72: 1419 | E72: 1557 | F72: 1592 | G72: 1570 | H72: 1544 | I72: 1654 | J72: 1649 | K72: 1647 | L72: 1647 | M72: 1565 | N72: 1662
B74: Total estimated sales per month | C74: =SUM(C7:C72) -> 1778103 | D74: =SUM(D7:D72) -> 1786948 | E74: =SUM(E7:E72) -> 2047000 | F74: =SUM(F7:F72) -> 2017667 | G74: =SUM(G7:G72) -> 2079515 | H74: =SUM(H7:H72) -> 2113305 | I74: =SUM(I7:I72) -> 2116055 | J74: =SUM(J7:J72) -> 2143361 | ... N74: =SUM(N7:N72) -> 2525135 | P74: =SUM(C74:N74) -> 24746567 | Q74: Total annual sales

Sheet Total sales over 5 years
A1: Year | B1: Jan | C1: Feb | D1: Mar | E1: Apr | F1: May | G1: Jun | H1: Jul | I1: Aug | J1: Sep | K1: Oct | L1: Nov | M1: Dec | O1: Annual total | P1: Average sales per month
A2: 2013 | B2: 1778103 | C2: 1786948 | D2: 2047000 | E2: 2017667 | F2: 2079515 | G2: 2113305 | H2: 2116055 | I2: 2143361 | J2: 2005252 | K2: 2029358 | L2: 2104868 | M2: 2525135 | O2: =SUM(B2:M2) -> 24746567 | P2: =AVERAGE(B2:M2) -> 2062213.9
A3: 2014 | B3: 1920124 | C3: 1895450 | D3: 2175741 | E3: 2112127 | F3: 2240326 | G3: 2200134 | H3: 2172083 | I3: 2258209 | J3: 2083474 | K3: 2104330 | L3: 2183844 | M3: 2596310 | O3: =SUM(B3:M3) -> 25942152 | P3: =AVERAGE(B3:M3) -> 2161846
A4: 2015 | B4: 1985144 | C4: 1951941 | D4: 2248750 | E4: 2151349 | F4: 2345125 | G4: 2255987 | H4: 2230016 | I4: 2331762 | J4: 2123389 | K4: 2213095 | L4: 2300241 | M4: 2637060 | O4: =SUM(B4:M4) -> 26773859 | P4: =AVERAGE(B4:M4) -> 2231154.9
A5: 2016 | B5: 2059562 | C5: 2070943 | D5: 2242978 | E5: 2211446 | F5: 2390980 | G5: 2271093 | H5: 2303434 | I5: 2306648 | J5: 2107423 | K5: 2117704 | L5: 2076260 | M5: 2413963 | O5: =SUM(B5:M5) -> 26572434 | P5: =AVERAGE(B5:M5) -> 2214369.5
A6: 2017 | B6: 1897407 | C6: 1838131 | D6: 2009911 | E6: 2019713 | F6: 2128455 | G6: 2101102 | H6: 2122148 | I6: 2162029 | J6: 1983091 | K6: 2075442 | L6: 2117826 | M6: 2528528 | O6: =SUM(B6:M6) -> 24983783 | P6: =AVERAGE(B6:M6) -> 2081981.9
A8: Monthly total over 5 years | B8: =SUM(B2:B6) -> 9640340 | C8: =SUM(C2:C6) -> 9543413 | D8: =SUM(D2:D6) -> 10724380 | E8: =SUM(E2:E6) -> 10512302 | F8: =SUM(F2:F6) -> 11184401 | G8: =SUM(G2:G6) -> 10941621 | H8: =SUM(H2:H6) -> 10943736 | I8: =SUM(I2:I6) -> 11202009 | ... M8: =SUM(M2:M6) -> 12700996 | O8: =SUM(B8:N8) -> 129018795

Sheet Max & Min sales over 5 years
A1: Maximom and minimum sales over 5 years
B3: 2013 | C3: 2014 | D3: 2015 | E3: 2016 | F3: 2017
A4: Max | B4: =MAX('Total sales over 5 years'!A2:M2) -> 2525135 | C4: =MAX('Total sales over 5 years'!A3:M3) -> 2596310 | D4: =MAX('Total sales over 5 years'!A4:M4) -> 2637060 | E4: =MAX('Total sales over 5 years'!A5:M5) -> 2413963 | F4: =MAX('Total sales over 5 years'!A6:M6) -> 2528528
A5: Min | B5: =MIN('Total sales over 5 years'!B2:M2) -> 1778103 | C5: =MIN('Total sales over 5 years'!B3:M3) -> 1895450 | D5: =MIN('Total sales over 5 years'!B4:M4) -> 1951941 | E5: =MIN('Total sales over 5 years'!B5:M5) -> 2059562 | F5: =MIN('Total sales over 5 years'!B6:M6) -> 1838131

Sheet Scenario
A1: Assessment Component 1 – 75%
A3: You are a data analytics assistant, responsible for interpreting data from a company’s website. You use traditional software packages such as Microsoft Excel™ for day-to-day analysis and more specialised software such as Weka for mining the data.
A5: Scenario
A7: The data analytics company you work for has been approached by ‘The Monthly Retail Trade Survey’ operating in the UK. Over the past five years they have noticed changes in the monthly retail and food services and sales and they are not sure why this should be the case.
A8: ‘The Monthly Retail Trade Survey’ has engaged your data analytics company to help them to analyse the information that they have and provide recommendations on how business should priorities retail and food services.
A9: Students should explore the use of software such as, Microsoft Excel™ and WEKA to assess and analyse the data.
A10: The assignment submission must include the report along with the spreadsheet (and any other files prepared and used) showing your handling of the data, formulae and pivot tables etc. The combination of data files should be in a zip file and uploaded to moodle. The clear instructions for uploading the assignment report and data files is on moodle and these instructions will also be explained in lectures.
A13: Part 1 – 50%
A14: Using the Monthly Retail Trade Survey.xls data set provided, critically evaluate the strengths of using a spreadsheet for modelling the data including pre-processing the data, analysing the data and visualising the data.
A15: You will also need to demonstrate how you can do this practically with the use of Microsoft Excel™ functions such as: IF, LOOKUP, PIVOT TABLES, charts and graphs.
A16: Further, determine the strengths of using a spreadsheet for decision making purposes with reference to the Monthly Retail Trade Survey.xls data set. (1500 words)

Sheet Notes
A1: Changed dates to match
A2: Calculated total of each sale per month and annual total
A3: Correctly aligned company business fields
A4: Broken down categories using filter
A5: Calculated the average sales per month over 5 years
