Workbook

Sheet Data input as per case
A1: Assignment one - data input
A3: Numerical data | D3: Room Sales | E3: Food and Beverages | F3: Rent | G3: Commision
C4: 2019 (actual)
C5: November | D5: 123000 | E5: 36000 | F5: 950 | G5: 120
C6: December | D6: 108000 | E6: 47000 | F6: 950 | G6: 15
C7: 2020 (forecast)
C8: January | D8: 130500 | E8: 44500 | F8: 950 | G8: 25
C9: February | D9: 125000 | E9: 40100 | F9: 950 | G9: 55
C10: March | D10: 140000 | E10: 43300 | F10: 950 | G10: 20
C11: April | D11: 145500 | E11: 42600 | F11: 950 | G11: 15
C12: May | D12: 148000 | E12: 40200 | F12: 950 | G12: 10
C13: June | D13: 178000 | E13: 36500 | F13: 950 | G13: 40
A18: Room Sales (cash) | D18: 0.65
A19: Room Sales (credit) | C19: one month | D19: 0.35
A20: Operating cost-van | B20: 25000 | E20: in March
A21: Depreciation van | B21: 25000 | C21: 0.2 | D21: =B21*C21 -> 5000 | E21: 4
A22: Depreciation minibus | B22: 4000 | C22: 2
A23: Operating cost-laundry | B23: 75000 | C23: 12 | E23: in February
A24: Printing and Stationary | B24: 2000 | D24: 1.45 | E24: in May and Nov
A25: Complimentary toiletries | B25: 46000 | E25: in February
A26: Free in-room beverages | B26: 2000 | C26: one month
A27: Improvement | B27: 44000 | D27: 0.2 | E27: in March
A28: Improvement | B28: 44000 | D28: 0.5 | E28: in June
A29: Improvement | B29: 44000 | D29: 0.3 | E29: in August
C30: one month | E30: in July
A31: Bedding bundles(credit) | C31: cash | E31: in March
A32: Bedding budles (cash) | C32: two months | E32: in October
A33: Kettle trays | B33: 1500 | C33: 12
A34: Salary | B34: 220000 | C34: 12
A35: Salary-weekly wages | B35: 140000 | D35: 0.4 | E35: in February
A36: Shampoos and conditioners | B36: 24000 | D36: 0.6 | E36: in April
B37: 24000
A38: Light and heating | B38: 110000 | C38: 4 | E38: inc. April
A39: Business rates | B39: 65000 | C39: 12 | E39: in June
A40: Marketing costs | B40: 60000 | C40: 2 | E40: in April
A41: Corporation tax | B41: 210000
A42: Vehicle expences | B42: 12000 | C42: 12
A43: Maintenance | B43: 5000
A44: Opening cash balance | B44: 265000
A45: Opening stock inventory | B45: 105000
...

Sheet Cash budget
A1: Assignment one - cash budget
D3: January | E3: February | F3: March | G3: April | H3: May | I3: June
B4: Bal b/fwd | C4: A | D4: 265000 | E4: 167600 | F4: 167530 | G4: 179020 | H4: 187140 | I4: 188285
B6: Receipts:
B7: Rent for salon | D7: 450 | E7: 450 | F7: 450 | G7: 450 | H7: 450 | I7: 450
B8: Rent for gymnasium | D8: 0 | E8: 0 | F8: 500 | G8: 500 | H8: 500 | I8: 500
B9: Food and Beverage sales | D9: ='Data input as per case'!E8 -> 44500 | E9: ='Data input as per case'!E9 -> 40100 | F9: ='Data input as per case'!E10 -> 43300 | G9: ='Data input as per case'!E11 -> 42600 | H9: ='Data input as per case'!E12 -> 40200 | I9: ='Data input as per case'!E13 -> 36500
B10: Room sales (cash) | D10: ='Data input as per case'!D8*'Data input as per case'!D18 -> 84825 | E10: ='Data input as per case'!D9*'Data input as per case'!D18 -> 81250 | F10: ='Data input as per case'!D10*'Data input as per case'!D18 -> 91000 | G10: ='Data input as per case'!D11*'Data input as per case'!D18 -> 94575 | H10: ='Data input as per case'!D12*'Data input as per case'!D18 -> 96200 | I10: ='Data input as per case'!D13*'Data input as per case'!D18 -> 115700
B11: Room sales- (one month credit) | D11: ='Data input as per case'!D6*'Data input as per case'!D19 -> 37800 | E11: ='Data input as per case'!D8*'Data input as per case'!D19 -> 45675 | F11: ='Data input as per case'!D9*'Data input as per case'!D19 -> 43750 | G11: ='Data input as per case'!D10*'Data input as per case'!D19 -> 49000 | H11: ='Data input as per case'!D11*'Data input as per case'!D19 -> 50925 | I11: ='Data input as per case'!D12*'Data input as per case'!D19 -> 51800
B12: Commision (cash) | D12: ='Data input as per case'!G8 -> 25 | E12: ='Data input as per case'!G9 -> 55 | F12: ='Data input as per case'!G10 -> 20 | G12: ='Data input as per case'!G11 -> 15 | H12: ='Data input as per case'!G12 -> 10 | I12: ='Data input as per case'!G13 -> 40
B13: Total receipts: | C13: B | D13: =SUM(D7:D12) -> 167600 | E13: =SUM(E7:E12) -> 167530 | F13: =SUM(F7:F12) -> 179020 | G13: =SUM(G7:G12) -> 187140 | H13: =SUM(H7:H12) -> 188285 | I13: =SUM(I7:I12) -> 204990
B15: Payments:
B16: New van | D16: 0 | E16: 0 | F16: ='Data input as per case'!B20 -> 25000 | G16: 0 | H16: 0 | I16: 0
B17: Laundry | D17: 0 | E17: ='Data input as per case'!B23/'Data input as per case'!C23 -> 6250 | F17: 6250 | G17: 6250 | H17: 6250 | I17: 6250
B18: Printing and stationery | D18: ='Data input as per case'!B24 -> 2000 | E18: 2000 | F18: 2000 | G18: 2000 | H18: ='Data input as per case'!B24*'Data input as per case'!D24 -> 2900 | I18: 2000
B19: Complimentary toiletries | D19: 0 | E19: ='Data input as per case'!B25 -> 46000 | F19: 0 | G19: 0 | H19: 0 | I19: 0
B20: Free in-room beverages | D20: 0 | E20: ='Data input as per case'!B26 -> 2000 | F20: 2000 | G20: 2000 | H20: 2000 | I20: 2000
B21: Improvement | D21: 0 | E21: 0 | F21: ='Data input as per case'!B27*'Data input as per case'!D27 -> 8800 | G21: 0 | H21: 0 | I21: ='Data input as per case'!B28*'Data input as per case'!D28 -> 22000
B22: Bedding Bundles | D22: 0 | E22: 0 | F22: 700 | G22: 0 | H22: 0 | I22: 0
B23: Weekly wages | D23: ='Data input as per case'!B35/'Data input as per case'!C34 -> 11666.667 | E23: ='Data input as per case'!B35/'Data input as per case'!C34 -> 11666.667 | F23: ='Data input as per case'!B35/'Data input as per case'!C34 -> 11666.667 | G23: ='Data input as per case'!B35/'Data input as per case'!C34 -> 11666.667 | H23: ='Data input as per case'!B35/'Data input as per case'!C34 -> 11666.667 | I23: ='Data input as per case'!B35/'Data input as per case'!C34 -> 11666.667
B24: Monthly salaries | D24: ='Data input as per case'!B34/'Data input as per case'!C33 -> 18333.333 | E24: ='Data input as per case'!B34/'Data input as per case'!C33 -> 18333.333 | F24: ='Data input as per case'!B34/'Data input as per case'!C33 -> 18333.333 | G24: ='Data input as per case'!B34/'Data input as per case'!C33 -> 18333.333 | H24: ='Data input as per case'!B34/'Data input as per case'!C33 -> 18333.333 | I24: ='Data input as per case'!B34/'Data input as per case'!C33 -> 18333.333
B25: Shampoo and conditioner | D25: 0 | E25: ='Data input as per case'!B36*'Data input as per case'!D35 -> 9600 | F25: 0 | G25: ='Data input as per case'!B37*'Data input as per case'!D36 -> 14400 | H25: 0 | I25: 0
B26: Light and heating | D26: 0 | E26: 0 | F26: ='Data input as per case'!B38/'Data input as per case'!C38 -> 27500 | G26: 0 | H26: 0 | I26: ='Data input as per case'!B38/'Data input as per case'!C38 -> 27500
B27: Business rates | D27: 0 | E27: 0 | F27: 0 | G27: ='Data input as per case'!B39/'Data input as per case'!C39 -> 5416.6667 | H27: ='Data input as per case'!B39/'Data input as per case'!C39 -> 5416.6667 | I27: ='Data input as per case'!B39/'Data input as per case'!C39 -> 5416.6667
B28: Marketing costs | D28: 0 | E28: 0 | F28: 0 | G28: 0 | H28: 0 | I28: ='Data input as per case'!B40/'Data input as per case'!C40 -> 30000
B29: Vehicle expences | D29: ='Data input as per case'!B42/'Data input as per case'!C42 -> 1000 | E29: ='Data input as per case'!B42/'Data input as per case'!C42 -> 1000 | F29: ='Data input as per case'!B42/'Data input as per case'!C42 -> 1000 | G29: ='Data input as per case'!B42/'Data input as per case'!C42 -> 1000 | H29: ='Data input as per case'!B42/'Data input as per case'!C42 -> 1000 | I29: ='Data input as per case'!B42/'Data input as per case'!C42 -> 1000
B30: Maintenance | D30: ='Data input as per case'!B43 -> 5000 | E30: ='Data input as per case'!B43 -> 5000 | F30: ='Data input as per case'!B43 -> 5000 | G30: ='Data input as per case'!B43 -> 5000 | H30: ='Data input as per case'!B43 -> 5000 | I30: ='Data input as per case'!B43 -> 5000
C31: C | D31: =SUM(D16:D30) -> 38000 | E31: =SUM(E16:E30) -> 101850 | F31: =SUM(F16:F30) -> 108250 | G31: =SUM(G16:G30) -> 66066.667 | H31: =SUM(H16:H30) -> 52566.667 | I31: =SUM(I16:I30) -> 131166.67
B34: Balance c/fwd | C34: (A+B)-C | D34: =(D4+D13)-D31 -> 394600 | E34: =(E4+E13)-E31 -> 233280 | F34: =(F4+F13)-F31 -> 238300 | G34: =(G4+G13)-G31 -> 300093.33 | H34: =(H4+H13)-H31 -> 322858.33 | I34: =(I4+I13)-I31 -> 262108.33

Sheet Profit budget
A1: Assignment one- Profit budget
B4: Food and Beverages sales | D4: =SUM('Data input as per case'!E8:E13) -> 247200
B5: Less cost of sales:
B6: Opening inventory | C6: ='Data input as per case'!B45 -> 105000
B7: Purchases | C7: ='Data input as per case'!B47/'Data input as per case'!C47 -> 3500
C8: =SUM(C6:C7) -> 108500
B10: Less closing inventory | C10: ='Data input as per case'!B46/'Data input as per case'!C46 -> 49000
D11: =C8-C10 -> 59500
B12: Gross profit | D12: =D4-D11 -> 187700
B14: Other income:
B15: Room sales | C15: =SUM('Data input as per case'!D8:D13) -> 867000
B16: Rent | C16: =SUM('Data input as per case'!F8:F13) -> 5700
B17: Commission | C17: =SUM('Data input as per case'!G8:G13) -> 165
D18: =SUM(C15:C17) -> 872865
B19: Total income | D19: =D12+D18 -> 1060565
B21: Expeneses and overheads:
B22: Laundry | C22: ='[1]data input'!B25/2 -> 37500
B23: Printing and stationery | C23: ='Data input as per case'!B24*5+'Data input as per case'!B24*'Data input as per case'!D24 -> 12900
B24: Complimentary toiletries | C24: ='Data input as per case'!B25 -> 46000
B25: Free in-room beverages | C25: ='Data input as per case'!B26*5 -> 10000
B26: Improvement | C26: =('[1]data input'!B31*0.7) -> 30800
B27: Bedding Bundles | C27: ='Cash budget'!F22 -> 700
B28: Weekly wages | C28: ='Data input as per case'!B35/'Data input as per case'!C34*6 -> 70000
B29: Monthly salaries | C29: ='Data input as per case'!B34/'Data input as per case'!C34*6 -> 110000
B30: Shapmoo and conditioner | C30: ='Data input as per case'!B36 -> 24000
B31: Light and heating | C31: =('Data input as per case'!B38/'Data input as per case'!C38)*2 -> 55000
B32: Business rates | C32: ='Data input as per case'!B39/'Data input as per case'!C39*3 -> 16250
B33: Marketing costs | C33: ='Data input as per case'!B40/'Data input as per case'!C40 -> 30000
B34: Corporation tax | C34: ='Data input as per case'!B41 -> 210000
B35: Maintenance | C35: ='Data input as per case'!B43*6 -> 30000
B36: Vehicle expences | C36: ='Data input as per case'!B42/'Data input as per case'!C42*6 -> 6000
B37: New van | C37: ='Data input as per case'!B21 -> 25000
B38: Depreciation van | C38: ='Data input as per case'!B21*'Data input as per case'!C21/3 -> 1666.6667
B39: Depreciation minibus | C39: ='Data input as per case'!B22/'Data input as per case'!C22 -> 2000
D40: =SUM(C22:C39) -> 717816.67
B41: Net operating profit | D41: =D19-D40 -> 342748.33
