Workbook

Sheet Sheet1
A3: Receipts | C3: Jan | D3: Feb | E3: Mar | F3: Apr | G3: May | H3: June | I3: Jul | J3: Aug | K3: Sept | L3: Oct | M3: Nov | N3: Dec | O3: Total | P3: Notes/Working
A5: Recived Via Business Account | C5: =+'SAles-Note(A)'!C10 -> 0 | D5: =+'SAles-Note(A)'!D10 -> 75565.006 | E5: =+'SAles-Note(A)'!E10 -> 130821.71 | F5: =+'SAles-Note(A)'!F10 -> 113567.57 | G5: =+'SAles-Note(A)'!G10 -> 111046.87 | H5: =+'SAles-Note(A)'!H10 -> 117939.43 | I5: =+'SAles-Note(A)'!I10 -> 136389.72 | J5: =+'SAles-Note(A)'!J10 -> 150683.16 | ... N5: =+'SAles-Note(A)'!N10 -> 149466.21 | O5: =+SUM(C5:N5) -> 1626239.9 | P5: Note (A)
A6: Cash Sales | C6: =+'SAles-Note(A)'!C5 -> 229448.4 | D6: =+'SAles-Note(A)'!D5 -> 178930.8 | E6: =+'SAles-Note(A)'!E5 -> 174603 | F6: =+'SAles-Note(A)'!F5 -> 171066.6 | G6: =+'SAles-Note(A)'!G5 -> 195360 | H6: =+'SAles-Note(A)'!H5 -> 228270 | I6: =+'SAles-Note(A)'!I5 -> 240360 | J6: =+'SAles-Note(A)'!J5 -> 288450 | ... N6: =+'SAles-Note(A)'!N5 -> 204540 | O6: =+SUM(C6:N6) -> 2584628.8 | P6: Note (A)
A7: Total recipts | C7: =+SUM(C5:C6) -> 229448.4 | D7: =+SUM(D5:D6) -> 254495.81 | E7: =+SUM(E5:E6) -> 305424.71 | F7: =+SUM(F5:F6) -> 284634.17 | G7: =+SUM(G5:G6) -> 306406.87 | H7: =+SUM(H5:H6) -> 346209.43 | I7: =+SUM(I5:I6) -> 376749.72 | J7: =+SUM(J5:J6) -> 439133.16 | ... N7: =+SUM(N5:N6) -> 354006.21 | O7: =+O5+O6 -> 4210868.7
A9: Payments
A12: Motor Vehciles (30000*2) | F12: =30000*2 -> 60000 | O12: =+SUM(C12:N12) -> 60000
A13: Laundry services | D13: =75000/4 -> 18750 | G13: =+D13 -> 18750 | J13: =+G13 -> 18750 | M13: =+J13 -> 18750 | O13: =+SUM(C13:N13) -> 75000
A14: Printing and Stationary Cost | C14: =4000*1.45 -> 5800 | D14: 4000 | E14: 4000 | F14: 4000 | G14: =4000*1.45 -> 5800 | H14: 4000 | I14: 4000 | J14: =4000*1.45 -> 5800 | K14: 4000 | L14: 4000 | M14: =4000*1.45 -> 5800 | N14: 4000 | O14: =+SUM(C14:N14) -> 55200
A15: Complimentary toiletries | D15: =+'Workings note(G-R)'!D4 -> 8166.6667 | E15: =$D$15 -> 8166.6667 | F15: =$D$15 -> 8166.6667 | G15: =$D$15 -> 8166.6667 | H15: =$D$15 -> 8166.6667 | I15: =$D$15 -> 8166.6667 | J15: =$D$15 -> 8166.6667 | K15: =$D$15 -> 8166.6667 | L15: =$D$15 -> 8166.6667 | ... N15: =$D$15 -> 8166.6667 | O15: =+SUM(C15:N15) -> 89833.333 | P15: Note (G)
A16: Complimentary Beverages | E16: =+'Workings note(G-R)'!D8 -> 3000 | F16: =$E$16 -> 3000 | G16: =$E$16 -> 3000 | H16: =$E$16 -> 3000 | I16: =$E$16 -> 3000 | J16: =$E$16 -> 3000 | K16: =$E$16 -> 3000 | L16: =$K$16 -> 3000 | M16: =+'Workings note(G-R)'!D9 -> 5000 | N16: =$L$16 -> 3000 | O16: =+SUM(C16:N16) -> 32000 | P16: Note (H)
A17: Land | B17: ` | C17: =+'Workings note(G-R)'!B16 -> 28000 | G17: =+'Workings note(G-R)'!C16 -> 52000 | O17: =+SUM(C17:N17) -> 80000 | P17: Note (i)
A18: Bedding and kettle | G18: =+'Workings note(G-R)'!E20 -> 2560 | J18: =+'Workings note(G-R)'!E22:E22 -> 7150 | L18: =+'Workings note(G-R)'!E21 -> 2560 | O18: =+SUM(C18:N18) -> 12270 | P18: Note (J)
A19: Salaries | C19: =+'Workings note(G-R)'!E26 -> 26666.667 | D19: ='Workings note(G-R)'!$E$26 -> 26666.667 | E19: ='Workings note(G-R)'!$E$26 -> 26666.667 | F19: ='Workings note(G-R)'!$E$26 -> 26666.667 | G19: ='Workings note(G-R)'!$E$26 -> 26666.667 | H19: ='Workings note(G-R)'!$E$26 -> 26666.667 | I19: ='Workings note(G-R)'!$E$26 -> 26666.667 | J19: ='Workings note(G-R)'!$E$26 -> 26666.667 | K19: ='Workings note(G-R)'!$E$26 -> 26666.667 | ... N19: ='Workings note(G-R)'!$E$26 -> 26666.667 | O19: =+SUM(C19:N19) -> 320000 | P19: Note (k)
A20: Wages | C20: ='Workings note(G-R)'!$E$29 -> 40000 | D20: ='Workings note(G-R)'!$E$29 -> 40000 | E20: ='Workings note(G-R)'!$E$29 -> 40000 | F20: ='Workings note(G-R)'!$E$29 -> 40000 | G20: ='Workings note(G-R)'!$E$29 -> 40000 | H20: ='Workings note(G-R)'!$E$29 -> 40000 | I20: ='Workings note(G-R)'!$E$29 -> 40000 | J20: ='Workings note(G-R)'!$E$29 -> 40000 | ... N20: ='Workings note(G-R)'!$E$29 -> 40000 | O20: =+SUM(C20:N20) -> 480000 | P20: Note (k)
A21: Zero-hour staff | C21: =+'Workings note(G-R)'!E32 -> 5500 | D21: =$C$21 -> 5500 | E21: =$C$21 -> 5500 | F21: =$C$21 -> 5500 | G21: =$C$21 -> 5500 | H21: =$C$21 -> 5500 | I21: =$C$21 -> 5500 | J21: =$C$21 -> 5500 | K21: =$C$21 -> 5500 | ... N21: =$C$21 -> 5500 | O21: =+SUM(C21:N21) -> 66000 | P21: Note (k)
A22: Light and Heat | E22: =+'Workings note(G-R)'!D36 -> 30000 | H22: =$E$22 -> 30000 | K22: =$E$22 -> 30000 | N22: =120000/4 -> 30000 | O22: =+SUM(C22:N22) -> 120000 | P22: Note (M)
A23: Business Rates | F23: =+'Workings note(G-R)'!D40 -> 6250 | G23: =$F$23 -> 6250 | H23: =$F$23 -> 6250 | I23: =$F$23 -> 6250 | J23: =$F$23 -> 6250 | K23: =$F$23 -> 6250 | L23: =$F$23 -> 6250 | M23: =$F$23 -> 6250 | N23: =$F$23 -> 6250 | O23: =+SUM(C23:N23) -> 56250 | P23: Note (M-2)
A24: Marketing cost | E24: 25000 | I24: 25000 | M24: 25000 | O24: =+SUM(C24:N24) -> 75000 | P24: Note (N)
A25: corporation tax | E25: 779000 | O25: =+SUM(C25:N25) -> 779000 | P25: -
A26: Furniture | C26: =+'Workings note(G-R)'!D47 -> 50000 | E26: =$C$26 -> 50000 | G26: =$E$26 -> 50000 | O26: =+SUM(C26:N26) -> 150000 | P26: Note (P)
A27: petrol and desiel | E27: =+'Workings note(G-R)'!D52 -> 1100 | F27: =$E$27 -> 1100 | G27: =$E$27 -> 1100 | H27: =$E$27 -> 1100 | I27: =$E$27 -> 1100 | J27: =$E$27 -> 1100 | K27: =$E$27 -> 1100 | L27: =$E$27 -> 1100 | M27: =$E$27 -> 1100 | N27: =$E$27 -> 1100 | O27: =+SUM(C27:N27) -> 11000 | P27: Note (P)
A28: Upgradation works-Furniture | K28: =+'Workings note(G-R)'!D57 -> 37500 | L28: =$K$28 -> 37500 | M28: =$K$28 -> 37500 | N28: =$K$28 -> 37500 | O28: =+SUM(C28:N28) -> 150000 | P28: Note (Q)
A29: Upgradation works-Building | J29: =+'Workings note(G-R)'!D62 -> 109200 | K29: =$J$29 -> 109200 | L29: =$J$29 -> 109200 | M29: =$J$29 -> 109200 | N29: =$J$29 -> 109200 | O29: =+SUM(C29:N29) -> 546000 | P29: Note (Q)
A30: maintaince | C30: =72000/12 -> 6000 | D30: =$C$30 -> 6000 | E30: =$C$30 -> 6000 | F30: =$C$30 -> 6000 | G30: =$C$30 -> 6000 | H30: =$C$30 -> 6000 | I30: =$C$30 -> 6000 | J30: =$C$30 -> 6000 | K30: =$C$30 -> 6000 | ... N30: =$C$30 -> 6000 | O30: =+SUM(C30:N30) -> 72000 | P30: -
A31: cleaning | M31: 10000 | O31: =+SUM(C31:N31) -> 10000 | P31: -
A32: Total payments | C32: =+SUM(C12:C31) -> 161966.67 | D32: =+SUM(D12:D31) -> 109083.33 | E32: =+SUM(E12:E31) -> 978433.33 | F32: =+SUM(F12:F31) -> 160683.33 | G32: =+SUM(G12:G31) -> 225793.33 | H32: =+SUM(H12:H31) -> 130683.33 | I32: =+SUM(I12:I31) -> 125683.33 | J32: =+SUM(J12:J31) -> 237583.33 | ... N32: =+SUM(N12:N31) -> 277383.33 | O32: =+SUM(C32:N32) -> 3239553.3
A33: Net-Cash flow without Interest | C33: =+C7-C32 -> 67481.733 | D33: =+D7-D32 -> 145412.47 | E33: =+E7-E32 -> -673008.62 | F33: =+F7-F32 -> 123950.84 | G33: =+G7-G32 -> 80613.54 | H33: =+H7-H32 -> 215526.09 | I33: =+I7-I32 -> 251066.39 | J33: =+J7-J32 -> 201549.83 | ... N33: =+N7-N32 -> 76622.875
A34: opening | C34: 318000 | D34: =+C37 -> 385481.73 | E34: =+D37 -> 531729.42 | F34: =+E37 -> -140127.13 | G34: =+F37 -> -16853.57 | H34: =+G37 -> 63678.512 | I34: =+H37 -> 279342.58 | J34: =+I37 -> 531014.21 | K34: =+J37 -> 733714.56 | ... N34: =+M37 -> 1221541.8
A35: Interest received-2.6% | C35: 0 | D35: =+'Workings note(G-R)'!G66 -> 835.21042 | E35: ='Workings note(G-R)'!$G$67 -> 1152.0804 | F35: 0 | G35: 0 | H35: =+'Workings note(G-R)'!G70 -> 137.97011 | I35: ='Workings note(G-R)'!$G$71 -> 605.24225 | J35: ='Workings note(G-R)'!$G$72 -> 1150.5308 | K35: =+'Workings note(G-R)'!G73 -> 1589.7149 | L35: ='Workings note(G-R)'!$G$74 -> 1811.9875 | M35: =+'Workings note(G-R)'!G75 -> 2325.2947 | N35: ='Workings note(G-R)'!$G$76 -> 2646.6738
A36: Interest Charged-5.8% | C36: 0 | D36: 0 | E36: 0 | F36: ='Workings note(G-R)'!$F$68 -> -677.28112 | G36: ='Workings note(G-R)'!$F$69 -> -81.45892 | H36: 0 | I36: 0 | J36: 0 | K36: 0
A37: Closing | C37: =+SUM(C33:C36) -> 385481.73 | D37: =+SUM(D33:D36) -> 531729.42 | E37: =+SUM(E33:E36) -> -140127.13 | F37: =+SUM(F33:F36) -> -16853.57 | G37: =+SUM(G33:G36) -> 63678.512 | H37: =+SUM(H33:H36) -> 279342.58 | I37: =+SUM(I33:I36) -> 531014.21 | J37: =+SUM(J33:J36) -> 733714.56 | ... N37: =+SUM(N33:N36) -> 1300811.3
A39: 1

Sheet SAles-Note(A)
A2: Note A
C3: Jan | D3: Feb | E3: Mar | F3: Apr | G3: May | H3: June | I3: July | J3: Aug | K3: Sept | L3: Oct | M3: Nov | N3: Dec
A4: Total sales (A) | C4: 382414 | D4: 298218 | E4: 291005 | F4: 285111 | G4: 325600 | H4: 380450 | I4: 400600 | J4: 480750 | K4: 520180 | L4: 400800 | M4: 375080 | N4: 340900
A5: Cash 60% Except Sept (B) | C5: 229448.4 | D5: 178930.8 | E5: 174603 | F5: 171066.6 | G5: 195360 | H5: 228270 | I5: 240360 | J5: 288450 | K5: 208072 | L5: 240480 | M5: 225048 | N5: 204540
A6: Credit Part (A-B) | C6: =+C4-C5 -> 152965.6 | D6: =+D4-D5 -> 119287.2 | E6: =+E4-E5 -> 116402 | F6: =+F4-F5 -> 114044.4 | G6: =+G4-G5 -> 130240 | H6: =+H4-H5 -> 152180 | I6: =+I4-I5 -> 160240 | J6: =+J4-J5 -> 192300 | ... N6: =+N4-N5 -> 136360
A8: 52% with in 1 month of invoice excluding discount | C8: 0 | D8: =+C6*0.52*0.95 -> 75565.006 | E8: =+D6*0.52*0.95 -> 58927.877 | F8: =+E6*0.52*0.95 -> 57502.588 | G8: =+F6*0.52*0.95 -> 56337.934 | H8: =+G6*0.52*0.95 -> 64338.56 | I8: =+H6*0.52*0.95 -> 75176.92 | J8: =+I6*0.52*0.95 -> 79158.56 | K8: =+J6*0.52*0.95 -> 94996.2 | ... N8: =+M6*0.52*0.95 -> 74115.808
A9: 47 % of with in 2 month of invoice | C9: 0 | D9: 0 | E9: =+C6*0.47 -> 71893.832 | F9: =+D6*0.47 -> 56064.984 | G9: =+E6*0.47 -> 54708.94 | H9: =+F6*0.47 -> 53600.868 | I9: =+G6*0.47 -> 61212.8 | J9: =+H6*0.47 -> 71524.6 | K9: =+I6*0.47 -> 75312.8 | L9: =+J6*0.47 -> 90381 | ... N9: =+L6*0.47 -> 75350.4
C10: =+C8+C9 -> 0 | D10: =+D8+D9 -> 75565.006 | E10: =+E8+E9 -> 130821.71 | F10: =+F8+F9 -> 113567.57 | G10: =+G8+G9 -> 111046.87 | H10: =+H8+H9 -> 117939.43 | I10: =+I8+I9 -> 136389.72 | J10: =+J8+J9 -> 150683.16 | ... N10: =+N8+N9 -> 149466.21
C11: =+C5+C10 -> 229448.4 | D11: =+D5+D10 -> 254495.81 | E11: =+E5+E10 -> 305424.71 | F11: =+F5+F10 -> 284634.17 | G11: =+G5+G10 -> 306406.87 | H11: =+H5+H10 -> 346209.43 | I11: =+I5+I10 -> 376749.72 | J11: =+J5+J10 -> 439133.16 | ... N11: =+N5+N10 -> 354006.21

Sheet Workings note(G-R)
A2: (G) | B2: Toiletries
B3: With reference form note (L), Assuming payment of Toiletries is to be made after 1 month of reciepts of goods.
B4: 98000 | C4: 12 | D4: =+B4/C4 -> 8166.6667
A6: (H) | B6: Complimentary in Room Beverages
B7: Occupancy rate | C7: Months | D7: Amount
B8: Nomral | C8: (January to december) Except Sept | D8: 3000
B9: 85% or more | C9: Sept | D9: 5000
B10: With reference form note (L), Assuming payment of Complimentary in Room Beverages is to be made after 2 month of reciepts of goods.
B11: Further Assuming that Occupancy rate is below 65% except september .
A13: (i) | B13: =+Sheet1!A17 -> Land | C13: 80000
B14: January | C14: May
B15: 0.35 | C15: 0.65
B16: =+B15*C13 -> 28000 | C16: =+C15*C13 -> 52000
A18: (j) | B18: Bedding Kettle tray set(Bedding payment delayed with 2 month times )
C19: Set | D19: Price
B20: May | C20: 80 | D20: 32 | E20: =+C20*D20 -> 2560
B21: oct | C21: 80 | D21: 32 | E21: =+C21*D21 -> 2560
C22: 130 | D22: 55 | E22: =+C22*D22 -> 7150
A24: (K) | B24: Salaries
C25: No of Staff | E25: per month
C26: 12 | D26: 320000 | E26: =+D26/12 -> 26666.667
B28: Wages
C29: 50 | D29: 480000 | E29: =+D29/12 -> 40000
B31: Zero-Hour
C32: 10Shift | D32: 55/shift | E32: =10*55*10 -> 5500
A34: M) | B34: Light and Heat
B35: Total expense | C35: QTR | D35: per QTR payment
B36: 120000 | C36: 4 | D36: =+B36/C36 -> 30000
A38: M-2) | B38: BusinesRates
B39: Total expense | C39: annual
B40: 75000 | C40: 12 | D40: =+B40/C40 -> 6250
A42: N) | B42: Marketing cost
B43: Assuming marketing Expenses is paid in the same month of occurance
A45: (P) | B45: Furniture
B47: 150000 | C47: 3 | D47: =+B47/C47 -> 50000
B48: Assuming Furniture is puchased at the end of the NOV-2019,all the payment is due at the after 2 month times
B50: Petrol and Deisel
D51: Per month
B52: 13200 | C52: 12 | D52: =+B52/C52 -> 1100
B53: With reference form note (L), Assuming payment of pertrol is to be made after 2 month of reciepts of goods.
...
