Workbook

Sheet Sheet1
A2: Engine Variables
A3: Bore (m) | B3: =71.9/1000 -> 0.0719
A4: Stroke (m) | B4: =82/1000 -> 0.082
A5: Con Rod (m) | B5: 137
A6: CR | B6: 10
A7: Crank Radius | B7: =B4/2 -> 0.041
A8: Total Displacement (m^3) | B8: =999/1000000 -> 0.000999
A9: Per Cylinder Displacement (m^3) | B9: =B8/3 -> 0.000333
A10: Clearance Volume (cm^3) | B10: 37.05

Sheet RPM1000
A1: 1` | B1: V_ABS | C1: CYLPR1 | D1: CYLPR2 | E1: CYLPR3
A2: deg | B2: cm3 | C2: bar | D2: bar | E2: bar
A3: -360 | B3: 37.05 | C3: 1.171 | D3: 1.322 | E3: 1.35
A4: -359 | B4: 37.09 | C4: 1.171 | D4: 1.326 | E4: 1.35
A5: -358 | B5: 37.19 | C5: 1.175 | D5: 1.331 | E5: 1.355
A6: -357 | B6: 37.35 | C6: 1.18 | D6: 1.331 | E6: 1.36
A7: -356 | B7: 37.58 | C7: 1.18 | D7: 1.336 | E7: 1.36
A8: -355 | B8: 37.88 | C8: 1.185 | D8: 1.336 | E8: 1.36
A9: -354 | B9: 38.24 | C9: 1.185 | D9: 1.341 | E9: 1.36
A10: -353 | B10: 38.66 | C10: 1.185 | D10: 1.346 | E10: 1.365
A11: -352 | B11: 39.15 | C11: 1.19 | D11: 1.346 | E11: 1.365
A12: -351 | B12: 39.71 | C12: 1.19 | D12: 1.346 | E12: 1.365
A13: -350 | B13: 40.33 | C13: 1.19 | D13: 1.351 | E13: 1.365
A14: -349 | B14: 41.01 | C14: 1.195 | D14: 1.351 | E14: 1.365
... A722: 359 | B722: 37.09 | C722: 1.166 | D722: 1.317 | E722: 1.346
A723: 360 | B723: 37.05

Sheet RPM1250
A1: Crank Angle | B1: V_ABS | C1: CYLPR1 | D1: CYLPR2 | E1: CYLPR3
A2: deg | B2: cm3 | C2: bar | D2: bar | E2: bar
A3: -360 | B3: 37.05 | C3: 1.444 | D3: 1.604 | E3: 1.642
A4: -359 | B4: 37.09 | C4: 1.454 | D4: 1.609 | E4: 1.647
A5: -358 | B5: 37.19 | C5: 1.463 | D5: 1.614 | E5: 1.652
A6: -357 | B6: 37.35 | C6: 1.468 | D6: 1.618 | E6: 1.657
A7: -356 | B7: 37.58 | C7: 1.473 | D7: 1.628 | E7: 1.662
A8: -355 | B8: 37.88 | C8: 1.478 | D8: 1.633 | E8: 1.666
A9: -354 | B9: 38.24 | C9: 1.488 | D9: 1.638 | E9: 1.671
A10: -353 | B10: 38.66 | C10: 1.488 | D10: 1.642 | E10: 1.676
A11: -352 | B11: 39.15 | C11: 1.492 | D11: 1.647 | E11: 1.681
A12: -351 | B12: 39.71 | C12: 1.497 | D12: 1.652 | E12: 1.686
A13: -350 | B13: 40.33 | C13: 1.502 | D13: 1.657 | E13: 1.69
A14: -349 | B14: 41.01 | C14: 1.507 | D14: 1.662 | E14: 1.695
... A722: 359 | B722: 37.09 | C722: 1.439 | D722: 1.594 | E722: 1.633
A723: 360 | B723: 37.05

Sheet RPM1500
A1: Crank Angle | B1: V_ABS | C1: V_ABS | D1: V_CHANGE | E1: CYLPRAVG | F1: CYLPRAVG | G1: PR_CHANGE | H1: p*ΔV | I1: IMEP | J1: CYLPR1 | K1: CYLPR2 | L1: CYLPR3
A2: deg | B2: cm3 | C2: m3 | D2: m3 | E2: bar | F2: pa | G2: bar | J2: bar | K2: bar | L2: bar
A3: -360 | B3: 37.05 | C3: =B3/1000000 -> 3.705e-05 | E3: =AVERAGE(J3:L3) -> 1.76 | F3: =E3*100000 -> 176000 | H3: =F3*D3 -> 0 | I3: =(H725/Sheet1!B9)/100000 -> 22.055231 | J3: 1.521 | K3: 1.877 | L3: 1.882
A4: -359 | B4: 37.09 | C4: =B4/1000000 -> 3.709e-05 | D4: =C4-C3 -> 4e-08 | E4: =AVERAGE(J4:L4) -> 1.7696667 | F4: =E4*100000 -> 176966.67 | G4: =E4-E3 -> 0.0096666667 | H4: =F4*D4 -> 0.0070786667 | J4: 1.531 | K4: 1.886 | L4: 1.892
A5: -358 | B5: 37.19 | C5: =B5/1000000 -> 3.719e-05 | D5: =C5-C4 -> 1e-07 | E5: =AVERAGE(J5:L5) -> 1.7826667 | F5: =E5*100000 -> 178266.67 | G5: =E5-E4 -> 0.013 | H5: =F5*D5 -> 0.017826667 | J5: 1.545 | K5: 1.901 | L5: 1.902
A6: -357 | B6: 37.35 | C6: =B6/1000000 -> 3.735e-05 | D6: =C6-C5 -> 1.6e-07 | E6: =AVERAGE(J6:L6) -> 1.7916667 | F6: =E6*100000 -> 179166.67 | G6: =E6-E5 -> 0.009 | H6: =F6*D6 -> 0.028666667 | J6: 1.559 | K6: 1.91 | L6: 1.906
A7: -356 | B7: 37.58 | C7: =B7/1000000 -> 3.758e-05 | D7: =C7-C6 -> 2.3e-07 | E7: =AVERAGE(J7:L7) -> 1.8033333 | F7: =E7*100000 -> 180333.33 | G7: =E7-E6 -> 0.011666667 | H7: =F7*D7 -> 0.041476667 | J7: 1.569 | K7: 1.92 | L7: 1.921
A8: -355 | B8: 37.88 | C8: =B8/1000000 -> 3.788e-05 | D8: =C8-C7 -> 3e-07 | E8: =AVERAGE(J8:L8) -> 1.81 | F8: =E8*100000 -> 181000 | G8: =E8-E7 -> 0.0066666667 | H8: =F8*D8 -> 0.0543 | J8: 1.579 | K8: 1.925 | L8: 1.926
A9: -354 | B9: 38.24 | C9: =B9/1000000 -> 3.824e-05 | D9: =C9-C8 -> 3.6e-07 | E9: =AVERAGE(J9:L9) -> 1.8173333 | F9: =E9*100000 -> 181733.33 | G9: =E9-E8 -> 0.0073333333 | H9: =F9*D9 -> 0.065424 | J9: 1.588 | K9: 1.934 | L9: 1.93
A10: -353 | B10: 38.66 | C10: =B10/1000000 -> 3.866e-05 | D10: =C10-C9 -> 4.2e-07 | E10: =AVERAGE(J10:L10) -> 1.8273333 | F10: =E10*100000 -> 182733.33 | G10: =E10-E9 -> 0.01 | H10: =F10*D10 -> 0.076748 | J10: 1.598 | K10: 1.944 | L10: 1.94
A11: -352 | B11: 39.15 | C11: =B11/1000000 -> 3.915e-05 | D11: =C11-C10 -> 4.9e-07 | E11: =AVERAGE(J11:L11) -> 1.8356667 | F11: =E11*100000 -> 183566.67 | G11: =E11-E10 -> 0.0083333333 | H11: =F11*D11 -> 0.089947667 | J11: 1.608 | K11: 1.949 | L11: 1.95
A12: -351 | B12: 39.71 | C12: =B12/1000000 -> 3.971e-05 | D12: =C12-C11 -> 5.6e-07 | E12: =AVERAGE(J12:L12) -> 1.8433333 | F12: =E12*100000 -> 184333.33 | G12: =E12-E11 -> 0.0076666667 | H12: =F12*D12 -> 0.10322667 | J12: 1.612 | K12: 1.959 | L12: 1.959
A13: -350 | B13: 40.33 | C13: =B13/1000000 -> 4.033e-05 | D13: =C13-C12 -> 6.2e-07 | E13: =AVERAGE(J13:L13) -> 1.8513333 | F13: =E13*100000 -> 185133.33 | G13: =E13-E12 -> 0.008 | H13: =F13*D13 -> 0.11478267 | J13: 1.622 | K13: 1.968 | L13: 1.964
A14: -349 | B14: 41.01 | C14: =B14/1000000 -> 4.101e-05 | D14: =C14-C13 -> 6.8e-07 | E14: =AVERAGE(J14:L14) -> 1.8563333 | F14: =E14*100000 -> 185633.33 | G14: =E14-E13 -> 0.005 | H14: =F14*D14 -> 0.12623067 | J14: 1.627 | K14: 1.973 | L14: 1.969
A15: -348 | B15: 41.76 | C15: =B15/1000000 -> 4.176e-05 | D15: =C15-C14 -> 7.5e-07 | E15: =AVERAGE(J15:L15) -> 1.8613333 | F15: =E15*100000 -> 186133.33 | G15: =E15-E14 -> 0.005 | H15: =F15*D15 -> 0.1396 | J15: 1.632 | K15: 1.978 | L15: 1.974
... A722: 359 | B722: 37.09 | C722: =B722/1000000 -> 3.709e-05 | D722: =C722-C721 -> -1e-07 | E722: =AVERAGE(J722:L722) -> 1.7456667 | F722: =E722*100000 -> 174566.67 | G722: =E722-E721 -> 0.014333333 | H722: =F722*D722 -> -0.017456667 | J722: 1.507 | K722: 1.862 | L722: 1.868
A723: 360 | B723: 37.05 | C723: =B723/1000000 -> 3.705e-05 | D723: =C723-C722 -> -4e-08
E725: =MAX(E3:E722) -> 74.323 | H725: =SUM(H3:H722) -> 734.43918

Sheet RPM1700
A1: Crank Angle | B1: V_ABS | C1: CYLPR1 | D1: CYLPR2 | E1: CYLPR3
A2: deg | B2: cm3 | C2: bar | D2: bar | E2: bar
A3: -360 | B3: 37.05 | C3: 1.81 | D3: 2.208 | E3: 2.222
A4: -359 | B4: 37.09 | C4: 1.834 | D4: 2.232 | E4: 2.241
A5: -358 | B5: 37.19 | C5: 1.853 | D5: 2.251 | E5: 2.26
A6: -357 | B6: 37.35 | C6: 1.867 | D6: 2.27 | E6: 2.274
A7: -356 | B7: 37.58 | C7: 1.882 | D7: 2.285 | E7: 2.284
A8: -355 | B8: 37.88 | C8: 1.887 | D8: 2.294 | E8: 2.289
A9: -354 | B9: 38.24 | C9: 1.891 | D9: 2.299 | E9: 2.284
A10: -353 | B10: 38.66 | C10: 1.887 | D10: 2.299 | E10: 2.279
A11: -352 | B11: 39.15 | C11: 1.882 | D11: 2.294 | E11: 2.27
A12: -351 | B12: 39.71 | C12: 1.872 | D12: 2.285 | E12: 2.26
A13: -350 | B13: 40.33 | C13: 1.858 | D13: 2.275 | E13: 2.25
A14: -349 | B14: 41.01 | C14: 1.843 | D14: 2.256 | E14: 2.236
... A722: 359 | B722: 37.09 | C722: 1.776 | D722: 2.174 | E722: 2.197
A723: 360 | B723: 37.05

Sheet RPM2000
A1: Crank Angle | B1: V_ABS | C1: CYLPR1 | D1: CYLPR2 | E1: CYLPR3
A2: deg | B2: cm3 | C2: bar | D2: bar | E2: bar
A3: -360 | B3: 37.05 | C3: 1.623 | D3: 2.052 | E3: 2.097
A4: -359 | B4: 37.09 | C4: 1.691 | D4: 2.129 | E4: 2.16
A5: -358 | B5: 37.19 | C5: 1.768 | D5: 2.206 | E5: 2.232
A6: -357 | B6: 37.35 | C6: 1.84 | D6: 2.288 | E6: 2.304
A7: -356 | B7: 37.58 | C7: 1.912 | D7: 2.365 | E7: 2.376
A8: -355 | B8: 37.88 | C8: 1.979 | D8: 2.428 | E8: 2.439
A9: -354 | B9: 38.24 | C9: 2.032 | D9: 2.485 | E9: 2.492
A10: -353 | B10: 38.66 | C10: 2.08 | D10: 2.534 | E10: 2.54
A11: -352 | B11: 39.15 | C11: 2.119 | D11: 2.572 | E11: 2.578
A12: -351 | B12: 39.71 | C12: 2.148 | D12: 2.596 | E12: 2.612
A13: -350 | B13: 40.33 | C13: 2.162 | D13: 2.615 | E13: 2.631
A14: -349 | B14: 41.01 | C14: 2.176 | D14: 2.625 | E14: 2.641
... A722: 359 | B722: 37.09 | C722: 1.556 | D722: 1.98 | E722: 2.03
A723: 360 | B723: 37.05

Sheet RPM2250
A1: Crank Angle | B1: V_ABS | C1: CYLPR1 | D1: CYLPR2 | E1: CYLPR3
A2: deg | B2: cm3 | C2: bar | D2: bar | E2: bar
A3: -360 | B3: 37.05 | C3: 1.667 | D3: 1.971 | E3: 2.03
A4: -359 | B4: 37.09 | C4: 1.734 | D4: 2.043 | E4: 2.093
A5: -358 | B5: 37.19 | C5: 1.806 | D5: 2.12 | E5: 2.155
A6: -357 | B6: 37.35 | C6: 1.879 | D6: 2.202 | E6: 2.227
A7: -356 | B7: 37.58 | C7: 1.951 | D7: 2.279 | E7: 2.295
A8: -355 | B8: 37.88 | C8: 2.018 | D8: 2.351 | E8: 2.362
A9: -354 | B9: 38.24 | C9: 2.081 | D9: 2.418 | E9: 2.42
A10: -353 | B10: 38.66 | C10: 2.133 | D10: 2.476 | E10: 2.477
A11: -352 | B11: 39.15 | C11: 2.182 | D11: 2.524 | E11: 2.526
A12: -351 | B12: 39.71 | C12: 2.225 | D12: 2.568 | E12: 2.564
A13: -350 | B13: 40.33 | C13: 2.254 | D13: 2.596 | E13: 2.593
A14: -349 | B14: 41.01 | C14: 2.273 | D14: 2.616 | E14: 2.617
... A722: 359 | B722: 37.09 | C722: 1.595 | D722: 1.908 | E722: 1.973
A723: 360 | B723: 37.05

Sheet RPM2500
A1: Crank Angle | B1: V_ABS | C1: V_ABS | D1: V_CHANGE | E1: CYLPRAVG | F1: CYLPRAVG | G1: PR_CHANGE | H1: p*ΔV | I1: IMEP | J1: CYLPR1 | K1: CYLPR2 | L1: CYLPR3
A2: deg | B2: cm3 | C2: m3 | D2: m3 | E2: bar | F2: pa | G2: bar | H2: Pa/m3 | I2: bar | J2: bar | K2: bar | L2: bar
A3: -360 | B3: 37.05 | C3: =B3/1000000 -> 3.705e-05 | E3: =AVERAGE(J3:L3) -> 1.6313333 | F3: =E3*100000 -> 163133.33 | H3: =F3*D3 -> 0 | I3: =(H725/Sheet1!B9)/100000 -> 26.767515 | J3: 1.342 | K3: 1.746 | L3: 1.806
A4: -359 | B4: 37.09 | C4: =B4/1000000 -> 3.709e-05 | D4: =C4-C3 -> 4e-08 | E4: =AVERAGE(J4:L4) -> 1.6743333 | F4: =E4*100000 -> 167433.33 | G4: =E4-E3 -> 0.043 | H4: =F4*D4 -> 0.0066973333 | J4: 1.385 | K4: 1.784 | L4: 1.854
A5: -358 | B5: 37.19 | C5: =B5/1000000 -> 3.719e-05 | D5: =C5-C4 -> 1e-07 | E5: =AVERAGE(J5:L5) -> 1.7303333 | F5: =E5*100000 -> 173033.33 | G5: =E5-E4 -> 0.056 | H5: =F5*D5 -> 0.017303333 | J5: 1.428 | K5: 1.852 | L5: 1.911
A6: -357 | B6: 37.35 | C6: =B6/1000000 -> 3.735e-05 | D6: =C6-C5 -> 1.6e-07 | E6: =AVERAGE(J6:L6) -> 1.7993333 | F6: =E6*100000 -> 179933.33 | G6: =E6-E5 -> 0.069 | H6: =F6*D6 -> 0.028789333 | J6: 1.5 | K6: 1.924 | L6: 1.974
A7: -356 | B7: 37.58 | C7: =B7/1000000 -> 3.758e-05 | D7: =C7-C6 -> 2.3e-07 | E7: =AVERAGE(J7:L7) -> 1.8663333 | F7: =E7*100000 -> 186633.33 | G7: =E7-E6 -> 0.067 | H7: =F7*D7 -> 0.042925667 | J7: 1.572 | K7: 1.986 | L7: 2.041
A8: -355 | B8: 37.88 | C8: =B8/1000000 -> 3.788e-05 | D8: =C8-C7 -> 3e-07 | E8: =AVERAGE(J8:L8) -> 1.9373333 | F8: =E8*100000 -> 193733.33 | G8: =E8-E7 -> 0.071 | H8: =F8*D8 -> 0.05812 | J8: 1.645 | K8: 2.058 | L8: 2.109
A9: -354 | B9: 38.24 | C9: =B9/1000000 -> 3.824e-05 | D9: =C9-C8 -> 3.6e-07 | E9: =AVERAGE(J9:L9) -> 2.0126667 | F9: =E9*100000 -> 201266.67 | G9: =E9-E8 -> 0.075333333 | H9: =F9*D9 -> 0.072456 | J9: 1.722 | K9: 2.135 | L9: 2.181
A10: -353 | B10: 38.66 | C10: =B10/1000000 -> 3.866e-05 | D10: =C10-C9 -> 4.2e-07 | E10: =AVERAGE(J10:L10) -> 2.088 | F10: =E10*100000 -> 208800 | G10: =E10-E9 -> 0.075333333 | H10: =F10*D10 -> 0.087696 | J10: 1.799 | K10: 2.217 | L10: 2.248
A11: -352 | B11: 39.15 | C11: =B11/1000000 -> 3.915e-05 | D11: =C11-C10 -> 4.9e-07 | E11: =AVERAGE(J11:L11) -> 2.1633333 | F11: =E11*100000 -> 216333.33 | G11: =E11-E10 -> 0.075333333 | H11: =F11*D11 -> 0.10600333 | J11: 1.871 | K11: 2.299 | L11: 2.32
A12: -351 | B12: 39.71 | C12: =B12/1000000 -> 3.971e-05 | D12: =C12-C11 -> 5.6e-07 | E12: =AVERAGE(J12:L12) -> 2.2403333 | F12: =E12*100000 -> 224033.33 | G12: =E12-E11 -> 0.077 | H12: =F12*D12 -> 0.12545867 | J12: 1.948 | K12: 2.381 | L12: 2.392
A13: -350 | B13: 40.33 | C13: =B13/1000000 -> 4.033e-05 | D13: =C13-C12 -> 6.2e-07 | E13: =AVERAGE(J13:L13) -> 2.3126667 | F13: =E13*100000 -> 231266.67 | G13: =E13-E12 -> 0.072333333 | H13: =F13*D13 -> 0.14338533 | J13: 2.02 | K13: 2.463 | L13: 2.455
A14: -349 | B14: 41.01 | C14: =B14/1000000 -> 4.101e-05 | D14: =C14-C13 -> 6.8e-07 | E14: =AVERAGE(J14:L14) -> 2.375 | F14: =E14*100000 -> 237500 | G14: =E14-E13 -> 0.062333333 | H14: =F14*D14 -> 0.1615 | J14: 2.087 | K14: 2.53 | L14: 2.508
A15: -348 | B15: 41.76 | C15: =B15/1000000 -> 4.176e-05 | D15: =C15-C14 -> 7.5e-07 | E15: =AVERAGE(J15:L15) -> 2.428 | F15: =E15*100000 -> 242800 | G15: =E15-E14 -> 0.053 | H15: =F15*D15 -> 0.1821 | J15: 2.14 | K15: 2.583 | L15: 2.561
... A722: 359 | B722: 37.09 | C722: =B722/1000000 -> 3.709e-05 | D722: =C722-C721 -> -1e-07 | E722: =AVERAGE(J722:L722) -> 1.589 | F722: =E722*100000 -> 158900 | G722: =E722-E721 -> 0.031666667 | H722: =F722*D722 -> -0.01589 | J722: 1.298 | K722: 1.702 | L722: 1.767
A723: 360 | B723: 37.05 | C723: =B723/1000000 -> 3.705e-05 | D723: =C723-C722 -> -4e-08
E725: =MAX(E3:E722) -> 81.169333 | H725: =SUM(H3:H722) -> 891.35826

Sheet RPM3000
A1: Crank Angle | B1: V_ABS | C1: CYLPR1 | D1: CYLPR2 | E1: CYLPR3
A2: deg | B2: cm3 | C2: bar | D2: bar | E2: bar
A3: -360 | B3: 37.05 | C3: 1.653 | D3: 2.099 | E3: 2.079
A4: -359 | B4: 37.09 | C4: 1.691 | D4: 2.142 | E4: 2.113
A5: -358 | B5: 37.19 | C5: 1.735 | D5: 2.19 | E5: 2.156
A6: -357 | B6: 37.35 | C6: 1.773 | D6: 2.243 | E6: 2.214
A7: -356 | B7: 37.58 | C7: 1.821 | D7: 2.301 | E7: 2.266
A8: -355 | B8: 37.88 | C8: 1.884 | D8: 2.354 | E8: 2.324
A9: -354 | B9: 38.24 | C9: 1.946 | D9: 2.426 | E9: 2.387
A10: -353 | B10: 38.66 | C10: 2.014 | D10: 2.503 | E10: 2.444
A11: -352 | B11: 39.15 | C11: 2.076 | D11: 2.575 | E11: 2.507
A12: -351 | B12: 39.71 | C12: 2.139 | D12: 2.648 | E12: 2.569
A13: -350 | B13: 40.33 | C13: 2.196 | D13: 2.72 | E13: 2.627
A14: -349 | B14: 41.01 | C14: 2.254 | D14: 2.787 | E14: 2.675
... A722: 359 | B722: 37.09 | C722: 1.614 | D722: 2.061 | E722: 2.04
A723: 360 | B723: 37.05

Sheet RPM3500
A1: Crank Angle | B1: V_ABS | C1: V_ABS | D1: V_CHANGE | E1: CYLPRAVG | F1: CYLPRAVG | G1: PR_CHANGE | H1: p*ΔV | I1: IMEP | J1: CYLPR1 | K1: CYLPR2 | L1: CYLPR3
A2: deg | B2: cm3 | C2: m3 | D2: m3 | E2: bar | F2: pa | G2: bar | H2: Pa/m3 | I2: bar | J2: bar | K2: bar | L2: bar
A3: -360 | B3: 37.05 | C3: =B3/1000000 -> 3.705e-05 | E3: =AVERAGE(J3:L3) -> 2.0323333 | F3: =E3*100000 -> 203233.33 | H3: =F3*D3 -> 0 | I3: =(H725/Sheet1!B9)/100000 -> 26.831096 | J3: 1.746 | K3: 2.187 | L3: 2.164
A4: -359 | B4: 37.09 | C4: =B4/1000000 -> 3.709e-05 | D4: =C4-C3 -> 4e-08 | E4: =AVERAGE(J4:L4) -> 2.0613333 | F4: =E4*100000 -> 206133.33 | G4: =E4-E3 -> 0.029 | H4: =F4*D4 -> 0.0082453333 | J4: 1.77 | K4: 2.221 | L4: 2.193
A5: -358 | B5: 37.19 | C5: =B5/1000000 -> 3.719e-05 | D5: =C5-C4 -> 1e-07 | E5: =AVERAGE(J5:L5) -> 2.095 | F5: =E5*100000 -> 209500 | G5: =E5-E4 -> 0.033666667 | H5: =F5*D5 -> 0.02095 | J5: 1.799 | K5: 2.259 | L5: 2.227
A6: -357 | B6: 37.35 | C6: =B6/1000000 -> 3.735e-05 | D6: =C6-C5 -> 1.6e-07 | E6: =AVERAGE(J6:L6) -> 2.1336667 | F6: =E6*100000 -> 213366.67 | G6: =E6-E5 -> 0.038666667 | H6: =F6*D6 -> 0.034138667 | J6: 1.838 | K6: 2.303 | L6: 2.26
A7: -356 | B7: 37.58 | C7: =B7/1000000 -> 3.758e-05 | D7: =C7-C6 -> 2.3e-07 | E7: =AVERAGE(J7:L7) -> 2.177 | F7: =E7*100000 -> 217700 | G7: =E7-E6 -> 0.043333333 | H7: =F7*D7 -> 0.050071 | J7: 1.876 | K7: 2.351 | L7: 2.304
A8: -355 | B8: 37.88 | C8: =B8/1000000 -> 3.788e-05 | D8: =C8-C7 -> 3e-07 | E8: =AVERAGE(J8:L8) -> 2.2216667 | F8: =E8*100000 -> 222166.67 | G8: =E8-E7 -> 0.044666667 | H8: =F8*D8 -> 0.06665 | J8: 1.919 | K8: 2.394 | L8: 2.352
A9: -354 | B9: 38.24 | C9: =B9/1000000 -> 3.824e-05 | D9: =C9-C8 -> 3.6e-07 | E9: =AVERAGE(J9:L9) -> 2.27 | F9: =E9*100000 -> 227000 | G9: =E9-E8 -> 0.048333333 | H9: =F9*D9 -> 0.08172 | J9: 1.963 | K9: 2.447 | L9: 2.4
A10: -353 | B10: 38.66 | C10: =B10/1000000 -> 3.866e-05 | D10: =C10-C9 -> 4.2e-07 | E10: =AVERAGE(J10:L10) -> 2.3196667 | F10: =E10*100000 -> 231966.67 | G10: =E10-E9 -> 0.049666667 | H10: =F10*D10 -> 0.097426 | J10: 2.011 | K10: 2.5 | L10: 2.448
A11: -352 | B11: 39.15 | C11: =B11/1000000 -> 3.915e-05 | D11: =C11-C10 -> 4.9e-07 | E11: =AVERAGE(J11:L11) -> 2.3726667 | F11: =E11*100000 -> 237266.67 | G11: =E11-E10 -> 0.053 | H11: =F11*D11 -> 0.11626067 | J11: 2.059 | K11: 2.558 | L11: 2.501
A12: -351 | B12: 39.71 | C12: =B12/1000000 -> 3.971e-05 | D12: =C12-C11 -> 5.6e-07 | E12: =AVERAGE(J12:L12) -> 2.4286667 | F12: =E12*100000 -> 242866.67 | G12: =E12-E11 -> 0.056 | H12: =F12*D12 -> 0.13600533 | J12: 2.112 | K12: 2.625 | L12: 2.549
A13: -350 | B13: 40.33 | C13: =B13/1000000 -> 4.033e-05 | D13: =C13-C12 -> 6.2e-07 | E13: =AVERAGE(J13:L13) -> 2.483 | F13: =E13*100000 -> 248300 | G13: =E13-E12 -> 0.054333333 | H13: =F13*D13 -> 0.153946 | J13: 2.16 | K13: 2.692 | L13: 2.597
A14: -349 | B14: 41.01 | C14: =B14/1000000 -> 4.101e-05 | D14: =C14-C13 -> 6.8e-07 | E14: =AVERAGE(J14:L14) -> 2.5343333 | F14: =E14*100000 -> 253433.33 | G14: =E14-E13 -> 0.051333333 | H14: =F14*D14 -> 0.17233467 | J14: 2.208 | K14: 2.75 | L14: 2.645
A15: -348 | B15: 41.76 | C15: =B15/1000000 -> 4.176e-05 | D15: =C15-C14 -> 7.5e-07 | E15: =AVERAGE(J15:L15) -> 2.5743333 | F15: =E15*100000 -> 257433.33 | G15: =E15-E14 -> 0.04 | H15: =F15*D15 -> 0.193075 | J15: 2.246 | K15: 2.794 | L15: 2.683
... A722: 359 | B722: 37.09 | C722: =B722/1000000 -> 3.709e-05 | D722: =C722-C721 -> -1e-07 | E722: =AVERAGE(J722:L722) -> 2.0066667 | F722: =E722*100000 -> 200666.67 | G722: =E722-E721 -> 0.019 | H722: =F722*D722 -> -0.020066667 | J722: 1.722 | K722: 2.163 | L722: 2.135
A723: 360 | B723: 37.05 | C723: =B723/1000000 -> 3.705e-05 | D723: =C723-C722 -> -4e-08
E725: =MAX(E3:E722) -> 86.483667 | H725: =SUM(H3:H722) -> 893.4755

Sheet RPM4000
A1: Crank Angle | B1: V_ABS | C1: CYLPR1 | D1: CYLPR2 | E1: CYLPR3
A2: deg | B2: cm3 | C2: bar | D2: bar | E2: bar
A3: -360 | B3: 37.05 | C3: 1.786 | D3: 2.263 | E3: 2.201
A4: -359 | B4: 37.09 | C4: 1.786 | D4: 2.263 | E4: 2.205
A5: -358 | B5: 37.19 | C5: 1.795 | D5: 2.268 | E5: 2.21
A6: -357 | B6: 37.35 | C6: 1.805 | D6: 2.272 | E6: 2.22
A7: -356 | B7: 37.58 | C7: 1.819 | D7: 2.282 | E7: 2.229
A8: -355 | B8: 37.88 | C8: 1.839 | D8: 2.292 | E8: 2.244
A9: -354 | B9: 38.24 | C9: 1.858 | D9: 2.306 | E9: 2.258
A10: -353 | B10: 38.66 | C10: 1.872 | D10: 2.321 | E10: 2.278
A11: -352 | B11: 39.15 | C11: 1.891 | D11: 2.335 | E11: 2.297
A12: -351 | B12: 39.71 | C12: 1.906 | D12: 2.354 | E12: 2.311
A13: -350 | B13: 40.33 | C13: 1.92 | D13: 2.373 | E13: 2.326
A14: -349 | B14: 41.01 | C14: 1.935 | D14: 2.388 | E14: 2.335
... A722: 359 | B722: 37.09 | C722: 1.786 | D722: 2.268 | E722: 2.201
A723: 360 | B723: 37.05

Sheet RPM4500
A1: Crank Angle | B1: V_ABS | C1: V_ABS | D1: V_CHANGE | E1: CYLPRAVG | F1: CYLPRAVG | G1: PR_CHANGE | H1: p*ΔV | I1: IMEP | J1: CYLPR1 | K1: CYLPR2 | L1: CYLPR3
A2: deg | B2: cm3 | C2: m3 | D2: m3 | E2: bar | F2: pa | G2: bar | H2: Pa/m3 | I2: bar | J2: bar | K2: bar | L2: bar
A3: -360 | B3: 37.05 | C3: =B3/1000000 -> 3.705e-05 | E3: =AVERAGE(J3:L3) -> 2.0966667 | F3: =E3*100000 -> 209666.67 | H3: =F3*D3 -> 0 | I3: =(H725/Sheet1!B9)/100000 -> 23.520577 | J3: 1.852 | K3: 2.258 | L3: 2.18
A4: -359 | B4: 37.09 | C4: =B4/1000000 -> 3.709e-05 | D4: =C4-C3 -> 4e-08 | E4: =AVERAGE(J4:L4) -> 2.0823333 | F4: =E4*100000 -> 208233.33 | G4: =E4-E3 -> -0.014333333 | H4: =F4*D4 -> 0.0083293333 | J4: 1.843 | K4: 2.239 | L4: 2.165
A5: -358 | B5: 37.19 | C5: =B5/1000000 -> 3.719e-05 | D5: =C5-C4 -> 1e-07 | E5: =AVERAGE(J5:L5) -> 2.071 | F5: =E5*100000 -> 207100 | G5: =E5-E4 -> -0.011333333 | H5: =F5*D5 -> 0.02071 | J5: 1.828 | K5: 2.229 | L5: 2.156
A6: -357 | B6: 37.35 | C6: =B6/1000000 -> 3.735e-05 | D6: =C6-C5 -> 1.6e-07 | E6: =AVERAGE(J6:L6) -> 2.0646667 | F6: =E6*100000 -> 206466.67 | G6: =E6-E5 -> -0.0063333333 | H6: =F6*D6 -> 0.033034667 | J6: 1.824 | K6: 2.224 | L6: 2.146
A7: -356 | B7: 37.58 | C7: =B7/1000000 -> 3.758e-05 | D7: =C7-C6 -> 2.3e-07 | E7: =AVERAGE(J7:L7) -> 2.055 | F7: =E7*100000 -> 205500 | G7: =E7-E6 -> -0.0096666667 | H7: =F7*D7 -> 0.047265 | J7: 1.809 | K7: 2.215 | L7: 2.141
A8: -355 | B8: 37.88 | C8: =B8/1000000 -> 3.788e-05 | D8: =C8-C7 -> 3e-07 | E8: =AVERAGE(J8:L8) -> 2.045 | F8: =E8*100000 -> 204500 | G8: =E8-E7 -> -0.01 | H8: =F8*D8 -> 0.06135 | J8: 1.799 | K8: 2.2 | L8: 2.136
A9: -354 | B9: 38.24 | C9: =B9/1000000 -> 3.824e-05 | D9: =C9-C8 -> 3.6e-07 | E9: =AVERAGE(J9:L9) -> 2.0376667 | F9: =E9*100000 -> 203766.67 | G9: =E9-E8 -> -0.0073333333 | H9: =F9*D9 -> 0.073356 | J9: 1.795 | K9: 2.191 | L9: 2.127
A10: -353 | B10: 38.66 | C10: =B10/1000000 -> 3.866e-05 | D10: =C10-C9 -> 4.2e-07 | E10: =AVERAGE(J10:L10) -> 2.0326667 | F10: =E10*100000 -> 203266.67 | G10: =E10-E9 -> -0.005 | H10: =F10*D10 -> 0.085372 | J10: 1.795 | K10: 2.181 | L10: 2.122
A11: -352 | B11: 39.15 | C11: =B11/1000000 -> 3.915e-05 | D11: =C11-C10 -> 4.9e-07 | E11: =AVERAGE(J11:L11) -> 2.0343333 | F11: =E11*100000 -> 203433.33 | G11: =E11-E10 -> 0.0016666667 | H11: =F11*D11 -> 0.099682333 | J11: 1.795 | K11: 2.181 | L11: 2.127
A12: -351 | B12: 39.71 | C12: =B12/1000000 -> 3.971e-05 | D12: =C12-C11 -> 5.6e-07 | E12: =AVERAGE(J12:L12) -> 2.0373333 | F12: =E12*100000 -> 203733.33 | G12: =E12-E11 -> 0.003 | H12: =F12*D12 -> 0.11409067 | J12: 1.795 | K12: 2.195 | L12: 2.122
A13: -350 | B13: 40.33 | C13: =B13/1000000 -> 4.033e-05 | D13: =C13-C12 -> 6.2e-07 | E13: =AVERAGE(J13:L13) -> 2.0373333 | F13: =E13*100000 -> 203733.33 | G13: =E13-E12 -> 0 | H13: =F13*D13 -> 0.12631467 | J13: 1.79 | K13: 2.195 | L13: 2.127
A14: -349 | B14: 41.01 | C14: =B14/1000000 -> 4.101e-05 | D14: =C14-C13 -> 6.8e-07 | E14: =AVERAGE(J14:L14) -> 2.0343333 | F14: =E14*100000 -> 203433.33 | G14: =E14-E13 -> -0.003 | H14: =F14*D14 -> 0.13833467 | J14: 1.79 | K14: 2.191 | L14: 2.122
A15: -348 | B15: 41.76 | C15: =B15/1000000 -> 4.176e-05 | D15: =C15-C14 -> 7.5e-07 | E15: =AVERAGE(J15:L15) -> 2.031 | F15: =E15*100000 -> 203100 | G15: =E15-E14 -> -0.0033333333 | H15: =F15*D15 -> 0.152325 | J15: 1.785 | K15: 2.186 | L15: 2.122
... A722: 359 | B722: 37.09 | C722: =B722/1000000 -> 3.709e-05 | D722: =C722-C721 -> -1e-07 | E722: =AVERAGE(J722:L722) -> 2.1113333 | F722: =E722*100000 -> 211133.33 | G722: =E722-E721 -> -0.019333333 | H722: =F722*D722 -> -0.021113333 | J722: 1.872 | K722: 2.268 | L722: 2.194
A723: 360 | B723: 37.05 | C723: =B723/1000000 -> 3.705e-05 | D723: =C723-C722 -> -4e-08
E725: =MAX(E3:E722) -> 82.295667 | H725: =SUM(H3:H722) -> 783.23522

Sheet RPM5000
A1: Crank Angle | B1: V_ABS | C1: V_ABS | D1: VCHANGE | E1: CYLPRAVG | F1: CYLPRAVG | G1: PRCHANGE | H1: p*ΔV | I1: IMEP | J1: CYLPR1 | K1: CYLPR2 | L1: CYLPR3
A2: deg | B2: cm3 | C2: m3 | D2: m3 | E2: bar | F2: Pa | G2: bar | I2: bar | J2: bar | K2: bar | L2: bar
A3: -360 | B3: 37.05 | C3: =B3/1000000 -> 3.705e-05 | E3: =AVERAGE(J3:L3) -> 2.493 | F3: =E3*100000 -> 249300 | H3: =F3*D3 -> 0 | I3: =(H725/Sheet1!B9)/100000 -> 22.443652 | J3: 2.286 | K3: 2.607 | L3: 2.586
A4: -359 | B4: 37.09 | C4: =B4/1000000 -> 3.709e-05 | D4: =C4-C3 -> 4e-08 | E4: =AVERAGE(J4:L4) -> 2.464 | F4: =E4*100000 -> 246400 | G4: =E4-E3 -> -0.029 | H4: =F4*D4 -> 0.009856 | J4: 2.252 | K4: 2.583 | L4: 2.557
A5: -358 | B5: 37.19 | C5: =B5/1000000 -> 3.719e-05 | D5: =C5-C4 -> 1e-07 | E5: =AVERAGE(J5:L5) -> 2.435 | F5: =E5*100000 -> 243500 | G5: =E5-E4 -> -0.029 | H5: =F5*D5 -> 0.02435 | J5: 2.218 | K5: 2.554 | L5: 2.533
A6: -357 | B6: 37.35 | C6: =B6/1000000 -> 3.735e-05 | D6: =C6-C5 -> 1.6e-07 | E6: =AVERAGE(J6:L6) -> 2.406 | F6: =E6*100000 -> 240600 | G6: =E6-E5 -> -0.029 | H6: =F6*D6 -> 0.038496 | J6: 2.189 | K6: 2.525 | L6: 2.504
A7: -356 | B7: 37.58 | C7: =B7/1000000 -> 3.758e-05 | D7: =C7-C6 -> 2.3e-07 | E7: =AVERAGE(J7:L7) -> 2.3763333 | F7: =E7*100000 -> 237633.33 | G7: =E7-E6 -> -0.029666667 | H7: =F7*D7 -> 0.054655667 | J7: 2.161 | K7: 2.492 | L7: 2.476
A8: -355 | B8: 37.88 | C8: =B8/1000000 -> 3.788e-05 | D8: =C8-C7 -> 3e-07 | E8: =AVERAGE(J8:L8) -> 2.3486667 | F8: =E8*100000 -> 234866.67 | G8: =E8-E7 -> -0.027666667 | H8: =F8*D8 -> 0.07046 | J8: 2.136 | K8: 2.468 | L8: 2.442
A9: -354 | B9: 38.24 | C9: =B9/1000000 -> 3.824e-05 | D9: =C9-C8 -> 3.6e-07 | E9: =AVERAGE(J9:L9) -> 2.323 | F9: =E9*100000 -> 232300 | G9: =E9-E8 -> -0.025666667 | H9: =F9*D9 -> 0.083628 | J9: 2.112 | K9: 2.444 | L9: 2.413
A10: -353 | B10: 38.66 | C10: =B10/1000000 -> 3.866e-05 | D10: =C10-C9 -> 4.2e-07 | E10: =AVERAGE(J10:L10) -> 2.2986667 | F10: =E10*100000 -> 229866.67 | G10: =E10-E9 -> -0.024333333 | H10: =F10*D10 -> 0.096544 | J10: 2.093 | K10: 2.419 | L10: 2.384
A11: -352 | B11: 39.15 | C11: =B11/1000000 -> 3.915e-05 | D11: =C11-C10 -> 4.9e-07 | E11: =AVERAGE(J11:L11) -> 2.2733333 | F11: =E11*100000 -> 227333.33 | G11: =E11-E10 -> -0.025333333 | H11: =F11*D11 -> 0.11139333 | J11: 2.069 | K11: 2.4 | L11: 2.351
A12: -351 | B12: 39.71 | C12: =B12/1000000 -> 3.971e-05 | D12: =C12-C11 -> 5.6e-07 | E12: =AVERAGE(J12:L12) -> 2.2493333 | F12: =E12*100000 -> 224933.33 | G12: =E12-E11 -> -0.024 | H12: =F12*D12 -> 0.12596267 | J12: 2.05 | K12: 2.376 | L12: 2.322
A13: -350 | B13: 40.33 | C13: =B13/1000000 -> 4.033e-05 | D13: =C13-C12 -> 6.2e-07 | E13: =AVERAGE(J13:L13) -> 2.222 | F13: =E13*100000 -> 222200 | G13: =E13-E12 -> -0.027333333 | H13: =F13*D13 -> 0.137764 | J13: 2.031 | K13: 2.342 | L13: 2.293
A14: -349 | B14: 41.01 | C14: =B14/1000000 -> 4.101e-05 | D14: =C14-C13 -> 6.8e-07 | E14: =AVERAGE(J14:L14) -> 2.1976667 | F14: =E14*100000 -> 219766.67 | G14: =E14-E13 -> -0.024333333 | H14: =F14*D14 -> 0.14944133 | J14: 2.011 | K14: 2.318 | L14: 2.264
A15: -348 | B15: 41.76 | C15: =B15/1000000 -> 4.176e-05 | D15: =C15-C14 -> 7.5e-07 | E15: =AVERAGE(J15:L15) -> 2.174 | F15: =E15*100000 -> 217400 | G15: =E15-E14 -> -0.023666667 | H15: =F15*D15 -> 0.16305 | J15: 1.992 | K15: 2.29 | L15: 2.24
... A722: 359 | B722: 37.09 | C722: =B722/1000000 -> 3.709e-05 | D722: =C722-C721 -> -1e-07 | E722: =AVERAGE(J722:L722) -> 2.5233333 | F722: =E722*100000 -> 252333.33 | G722: =E722-E721 -> -0.030666667 | H722: =F722*D722 -> -0.025233333 | J722: 2.314 | K722: 2.641 | L722: 2.615
A723: 360 | B723: 37.05 | C723: =B723/1000000 -> 3.705e-05 | D723: =C723-C722 -> -4e-08 | H723: =F723*D723 -> 0
E725: =MAX(E3:E722) -> 75.412 | H725: =SUM(H4:H723) -> 747.37361

Sheet RPM5500
A1: Crank Angle | B1: V_ABS | C1: V_ABS | D1: V_CHANGE | E1: CYLPRAVG | F1: CYLPRAVG | G1: PR_CHANGE | H1: p*ΔV | I1: IMEP | J1: CYLPR1 | K1: CYLPR2 | L1: CYLPR3
A2: deg | B2: cm3 | C2: m3 | D2: m3 | E2: bar | F2: pa | G2: bar | H2: Pa/m3 | I2: bar | J2: bar | K2: bar | L2: bar
A3: -360 | B3: 37.05 | C3: =B3/1000000 -> 3.705e-05 | E3: =AVERAGE(J3:L3) -> 2.7126667 | F3: =E3*100000 -> 271266.67 | H3: =F3*D3 -> 0 | I3: =(H725/Sheet1!B9)/100000 -> 21.358373 | J3: 2.488 | K3: 2.856 | L3: 2.794
A4: -359 | B4: 37.09 | C4: =B4/1000000 -> 3.709e-05 | D4: =C4-C3 -> 4e-08 | E4: =AVERAGE(J4:L4) -> 2.6756667 | F4: =E4*100000 -> 267566.67 | G4: =E4-E3 -> -0.037 | H4: =F4*D4 -> 0.010702667 | J4: 2.454 | K4: 2.808 | L4: 2.765
A5: -358 | B5: 37.19 | C5: =B5/1000000 -> 3.719e-05 | D5: =C5-C4 -> 1e-07 | E5: =AVERAGE(J5:L5) -> 2.6496667 | F5: =E5*100000 -> 264966.67 | G5: =E5-E4 -> -0.026 | H5: =F5*D5 -> 0.026496667 | J5: 2.42 | K5: 2.798 | L5: 2.731
A6: -357 | B6: 37.35 | C6: =B6/1000000 -> 3.735e-05 | D6: =C6-C5 -> 1.6e-07 | E6: =AVERAGE(J6:L6) -> 2.6196667 | F6: =E6*100000 -> 261966.67 | G6: =E6-E5 -> -0.03 | H6: =F6*D6 -> 0.041914667 | J6: 2.382 | K6: 2.755 | L6: 2.722
A7: -356 | B7: 37.58 | C7: =B7/1000000 -> 3.758e-05 | D7: =C7-C6 -> 2.3e-07 | E7: =AVERAGE(J7:L7) -> 2.573 | F7: =E7*100000 -> 257300 | G7: =E7-E6 -> -0.046666667 | H7: =F7*D7 -> 0.059179 | J7: 2.348 | K7: 2.712 | L7: 2.659
A8: -355 | B8: 37.88 | C8: =B8/1000000 -> 3.788e-05 | D8: =C8-C7 -> 3e-07 | E8: =AVERAGE(J8:L8) -> 2.5316667 | F8: =E8*100000 -> 253166.67 | G8: =E8-E7 -> -0.041333333 | H8: =F8*D8 -> 0.07595 | J8: 2.315 | K8: 2.664 | L8: 2.616
A9: -354 | B9: 38.24 | C9: =B9/1000000 -> 3.824e-05 | D9: =C9-C8 -> 3.6e-07 | E9: =AVERAGE(J9:L9) -> 2.488 | F9: =E9*100000 -> 248800 | G9: =E9-E8 -> -0.043666667 | H9: =F9*D9 -> 0.089568 | J9: 2.281 | K9: 2.62 | L9: 2.563
A10: -353 | B10: 38.66 | C10: =B10/1000000 -> 3.866e-05 | D10: =C10-C9 -> 4.2e-07 | E10: =AVERAGE(J10:L10) -> 2.4416667 | F10: =E10*100000 -> 244166.67 | G10: =E10-E9 -> -0.046333333 | H10: =F10*D10 -> 0.10255 | J10: 2.228 | K10: 2.587 | L10: 2.51
A11: -352 | B11: 39.15 | C11: =B11/1000000 -> 3.915e-05 | D11: =C11-C10 -> 4.9e-07 | E11: =AVERAGE(J11:L11) -> 2.3983333 | F11: =E11*100000 -> 239833.33 | G11: =E11-E10 -> -0.043333333 | H11: =F11*D11 -> 0.11751833 | J11: 2.194 | K11: 2.529 | L11: 2.472
A12: -351 | B12: 39.71 | C12: =B12/1000000 -> 3.971e-05 | D12: =C12-C11 -> 5.6e-07 | E12: =AVERAGE(J12:L12) -> 2.3486667 | F12: =E12*100000 -> 234866.67 | G12: =E12-E11 -> -0.049666667 | H12: =F12*D12 -> 0.13152533 | J12: 2.151 | K12: 2.476 | L12: 2.419
A13: -350 | B13: 40.33 | C13: =B13/1000000 -> 4.033e-05 | D13: =C13-C12 -> 6.2e-07 | E13: =AVERAGE(J13:L13) -> 2.302 | F13: =E13*100000 -> 230200 | G13: =E13-E12 -> -0.046666667 | H13: =F13*D13 -> 0.142724 | J13: 2.108 | K13: 2.418 | L13: 2.38
A14: -349 | B14: 41.01 | C14: =B14/1000000 -> 4.101e-05 | D14: =C14-C13 -> 6.8e-07 | E14: =AVERAGE(J14:L14) -> 2.2603333 | F14: =E14*100000 -> 226033.33 | G14: =E14-E13 -> -0.041666667 | H14: =F14*D14 -> 0.15370267 | J14: 2.069 | K14: 2.385 | L14: 2.327
A15: -348 | B15: 41.76 | C15: =B15/1000000 -> 4.176e-05 | D15: =C15-C14 -> 7.5e-07 | E15: =AVERAGE(J15:L15) -> 2.2283333 | F15: =E15*100000 -> 222833.33 | G15: =E15-E14 -> -0.032 | H15: =F15*D15 -> 0.167125 | J15: 2.04 | K15: 2.351 | L15: 2.294
... A722: 359 | B722: 37.09 | C722: =B722/1000000 -> 3.709e-05 | D722: =C722-C721 -> -1e-07 | E722: =AVERAGE(J722:L722) -> 2.753 | F722: =E722*100000 -> 275300 | G722: =E722-E721 -> -0.024 | H722: =F722*D722 -> -0.02753 | J722: 2.517 | K722: 2.895 | L722: 2.847
A723: 360 | B723: 37.05 | C723: =B723/1000000 -> 3.705e-05 | D723: =C723-C722 -> -4e-08
E725: =MAX(E3:E722) -> 77.579333 | H725: =SUM(H3:H722) -> 711.23384

Sheet RPM6000
A1: Crank Angle | B1: V_ABS | C1: CYLPR1 | D1: CYLPR2 | E1: CYLPR3
A2: deg | B2: cm3 | C2: bar | D2: bar | E2: bar
A3: -360 | B3: 37.05 | C3: 2.619 | D3: 2.825 | E3: 2.818
A4: -359 | B4: 37.09 | C4: 2.59 | D4: 2.821 | E4: 2.799
A5: -358 | B5: 37.19 | C5: 2.552 | D5: 2.787 | E5: 2.76
A6: -357 | B6: 37.35 | C6: 2.508 | D6: 2.729 | E6: 2.746
A7: -356 | B7: 37.58 | C7: 2.475 | D7: 2.686 | E7: 2.64
A8: -355 | B8: 37.88 | C8: 2.446 | D8: 2.662 | E8: 2.626
A9: -354 | B9: 38.24 | C9: 2.388 | D9: 2.604 | E9: 2.582
A10: -353 | B10: 38.66 | C10: 2.335 | D10: 2.541 | E10: 2.52
A11: -352 | B11: 39.15 | C11: 2.292 | D11: 2.493 | E11: 2.467
A12: -351 | B12: 39.71 | C12: 2.244 | D12: 2.431 | E12: 2.4
A13: -350 | B13: 40.33 | C13: 2.186 | D13: 2.359 | E13: 2.318
A14: -349 | B14: 41.01 | C14: 2.133 | D14: 2.306 | E14: 2.26
... A722: 359 | B722: 37.09 | C722: 2.648 | D722: 2.869 | E722: 2.871
A723: 360 | B723: 37.05

Sheet RPM6500
A1: Crank Angle | B1: V_ABS | C1: V_ABS | D1: V_CHANGE | E1: CYLPRAVG | F1: CYLPRAVG | G1: PR_CHANGE | H1: p*ΔV | I1: IMEP | J1: CYLPR1 | K1: CYLPR2 | L1: CYLPR3
A2: deg | B2: cm3 | C2: m3 | D2: m3 | E2: bar | F2: pa | G2: bar | H2: Pa/m3 | I2: bar | J2: bar | K2: bar | L2: bar
A3: -360 | B3: 37.05 | C3: =B3/1000000 -> 3.705e-05 | E3: =AVERAGE(J3:L3) -> 2.433 | F3: =E3*100000 -> 243300 | H3: =F3*D3 -> 0 | I3: =(H725/Sheet1!B9)/100000 -> 17.622387 | J3: 2.269 | K3: 2.566 | L3: 2.464
A4: -359 | B4: 37.09 | C4: =B4/1000000 -> 3.709e-05 | D4: =C4-C3 -> 4e-08 | E4: =AVERAGE(J4:L4) -> 2.401 | F4: =E4*100000 -> 240100 | G4: =E4-E3 -> -0.032 | H4: =F4*D4 -> 0.009604 | J4: 2.24 | K4: 2.537 | L4: 2.426
A5: -358 | B5: 37.19 | C5: =B5/1000000 -> 3.719e-05 | D5: =C5-C4 -> 1e-07 | E5: =AVERAGE(J5:L5) -> 2.3816667 | F5: =E5*100000 -> 238166.67 | G5: =E5-E4 -> -0.019333333 | H5: =F5*D5 -> 0.023816667 | J5: 2.216 | K5: 2.513 | L5: 2.416
A6: -357 | B6: 37.35 | C6: =B6/1000000 -> 3.735e-05 | D6: =C6-C5 -> 1.6e-07 | E6: =AVERAGE(J6:L6) -> 2.3493333 | F6: =E6*100000 -> 234933.33 | G6: =E6-E5 -> -0.032333333 | H6: =F6*D6 -> 0.037589333 | J6: 2.177 | K6: 2.498 | L6: 2.373
A7: -356 | B7: 37.58 | C7: =B7/1000000 -> 3.758e-05 | D7: =C7-C6 -> 2.3e-07 | E7: =AVERAGE(J7:L7) -> 2.3046667 | F7: =E7*100000 -> 230466.67 | G7: =E7-E6 -> -0.044666667 | H7: =F7*D7 -> 0.053007333 | J7: 2.134 | K7: 2.441 | L7: 2.339
A8: -355 | B8: 37.88 | C8: =B8/1000000 -> 3.788e-05 | D8: =C8-C7 -> 3e-07 | E8: =AVERAGE(J8:L8) -> 2.2566667 | F8: =E8*100000 -> 225666.67 | G8: =E8-E7 -> -0.048 | H8: =F8*D8 -> 0.0677 | J8: 2.091 | K8: 2.412 | L8: 2.267
A9: -354 | B9: 38.24 | C9: =B9/1000000 -> 3.824e-05 | D9: =C9-C8 -> 3.6e-07 | E9: =AVERAGE(J9:L9) -> 2.2306667 | F9: =E9*100000 -> 223066.67 | G9: =E9-E8 -> -0.026 | H9: =F9*D9 -> 0.080304 | J9: 2.062 | K9: 2.392 | L9: 2.238
A10: -353 | B10: 38.66 | C10: =B10/1000000 -> 3.866e-05 | D10: =C10-C9 -> 4.2e-07 | E10: =AVERAGE(J10:L10) -> 2.1776667 | F10: =E10*100000 -> 217766.67 | G10: =E10-E9 -> -0.053 | H10: =F10*D10 -> 0.091462 | J10: 2.023 | K10: 2.315 | L10: 2.195
A11: -352 | B11: 39.15 | C11: =B11/1000000 -> 3.915e-05 | D11: =C11-C10 -> 4.9e-07 | E11: =AVERAGE(J11:L11) -> 2.1216667 | F11: =E11*100000 -> 212166.67 | G11: =E11-E10 -> -0.056 | H11: =F11*D11 -> 0.10396167 | J11: 1.975 | K11: 2.277 | L11: 2.113
A12: -351 | B12: 39.71 | C12: =B12/1000000 -> 3.971e-05 | D12: =C12-C11 -> 5.6e-07 | E12: =AVERAGE(J12:L12) -> 2.0736667 | F12: =E12*100000 -> 207366.67 | G12: =E12-E11 -> -0.048 | H12: =F12*D12 -> 0.11612533 | J12: 1.922 | K12: 2.224 | L12: 2.075
A13: -350 | B13: 40.33 | C13: =B13/1000000 -> 4.033e-05 | D13: =C13-C12 -> 6.2e-07 | E13: =AVERAGE(J13:L13) -> 2.021 | F13: =E13*100000 -> 202100 | G13: =E13-E12 -> -0.052666667 | H13: =F13*D13 -> 0.125302 | J13: 1.884 | K13: 2.157 | L13: 2.022
A14: -349 | B14: 41.01 | C14: =B14/1000000 -> 4.101e-05 | D14: =C14-C13 -> 6.8e-07 | E14: =AVERAGE(J14:L14) -> 1.9566667 | F14: =E14*100000 -> 195666.67 | G14: =E14-E13 -> -0.064333333 | H14: =F14*D14 -> 0.13305333 | J14: 1.831 | K14: 2.094 | L14: 1.945
A15: -348 | B15: 41.76 | C15: =B15/1000000 -> 4.176e-05 | D15: =C15-C14 -> 7.5e-07 | E15: =AVERAGE(J15:L15) -> 1.9083333 | F15: =E15*100000 -> 190833.33 | G15: =E15-E14 -> -0.048333333 | H15: =F15*D15 -> 0.143125 | J15: 1.778 | K15: 2.046 | L15: 1.901
... A722: 359 | B722: 37.09 | C722: =B722/1000000 -> 3.709e-05 | D722: =C722-C721 -> -1e-07 | E722: =AVERAGE(J722:L722) -> 2.452 | F722: =E722*100000 -> 245200 | G722: =E722-E721 -> -0.030666667 | H722: =F722*D722 -> -0.02452 | J722: 2.288 | K722: 2.585 | L722: 2.483
A723: 360 | B723: 37.05 | C723: =B723/1000000 -> 3.705e-05 | D723: =C723-C722 -> -4e-08
E725: =MAX(E3:E722) -> 82.483 | H725: =SUM(H3:H722) -> 586.8255

Sheet Graphs
B66: RPM | C66: IMEP
B67: 1500 | C67: 22.055231
B68: 2500 | C68: 26.767515
B69: 3500 | C69: 26.831096
B70: 4500 | C70: 23.520577
B71: 5500 | C71: 21.358373
B72: 6500 | C72: 17.622387
B84: RPM | C84: Peak Pressure
B85: 1500 | C85: 74.323
B86: 2500 | C86: 81.169333
B87: 3500 | C87: 86.483667
B88: 4500 | C88: 82.295667
B89: 5500 | C89: 77.579333
B90: 6500 | C90: 82.483
