Workbook

Sheet Specification & Data
A1: ACEA7007-Hybrid Powertrain and Control
A2: Series Hybrid Vehicle(CW1)
A4: Technical Data
A6: Maximum Engine Speed (RPM) | B6: 6500 | D6: Gear | E6: Input | F6: Output | G6: Gear Ratio | H6: Overall Ratio | I6: Top Speed(m/s) | J6: Top Speed (km/h) | K6: Top Speed (mph)
A7: Maximum Engine Torque (Nm) | B7: 22 | D7: 1st | E7: 11 | F7: 29 | G7: =F7/E7 -> 2.6363636 | H7: =G11*G10*G7 -> 22.729221 | I7: =2*3.14*B$12*B$6/(H7*60*1000) -> 7.6027537 | J7: =3.6*I7 -> 27.369913 | K7: =Table7[[#This Row],[Column6]]*2.23694 -> 17.006904
A8: Maximum Power Develop by Engine (W) | B8: =B7*2*3.14*B6/60 -> 14967.333 | D8: 2nd | E8: 15 | F8: 29 | G8: =F8/E8 -> 1.9333333 | H8: =G11*G10*G8 -> 16.668095 | I8: =2*3.14*B$12*B$6/(H8*60*1000) -> 10.367391 | J8: =3.6*I8 -> 37.322609 | K8: =Table7[[#This Row],[Column6]]*2.23694 -> 23.191232
A9: Maximum Power Developed by Engine (HP) | B9: =B8/746 -> 20.06345 | D9: 3rd | E9: 21 | F9: 31 | G9: =F9/E9 -> 1.4761905 | H9: =G11*G10*G9 -> 12.726871 | I9: =2*3.14*B$12*B$6/(H9*60*1000) -> 13.577938 | J9: =3.6*I9 -> 48.880578 | K9: =Table7[[#This Row],[Column6]]*2.23694 -> 30.373033
A10: Effective Frontal Area (m2) | B10: 1.151 | D10: Final Drive | E10: 15 | F10: 51 | G10: =F10/E10 -> 3.4
A11: Front Wheel Radius (mm) | B11: 304.8 | D11: Primary Drive | E11: 28 | F11: 71 | G11: =F11/E11 -> 2.5357143
A12: Rear Wheel Radius (mm) | B12: 254
A13: Front tyre Radius (24*8-12) (m) | B13: =24/(39*2) -> 0.30769231 | E13: Inertia (kgm2) | F13: Transmission Ratio | G13: Velocity Ratio | H13: Crankshaft Velocity Ratio | I13: Gearbox Velocity Ratio | K13: Sinθ1 (slop 1 uphill) | L13: 0.13864
A14: Rear tyre Radius (23*10.5-12) (m) | B14: =23/(39*2) -> 0.29487179 | D14: Front Wheel | E14: =B49 -> 1.2491743 | G14: =1/B13 -> 3.25 | K14: Sinθ2 (slop 1 downhill) | L14: 0.20372
A15: Driver + Passenger Weight (kg) | B15: 144 | D15: Rear Wheel | E15: =B50 -> 0.86748214 | G15: =1/B14 -> 3.3913043 | K15: Sinθ3 (slop 2 uphill) | L15: 0.11803
A16: Fuel + Oil Weight (kg) | B16: 16.11 | D16: Crankshaft | E16: 0.06 | F16: 2.536 | K16: Sinθ4 (slop 2 downhill) | L16: 0.16229
A17: Kerb Weight (kg) | B17: 345 | D17: GearBox Output Shaft | E17: 0.02 | F17: 3.4 | G17: =G15*Table14[[#This Row],[Column3]] -> 11.530435
A18: Total Weight (kg) | B18: =B17+B16+B15+B46 -> 521.71 | D18: Gearbox Input Shaft(Gear1) | E18: 0.05 | F18: 2.636 | G18: =G15*F17*Table14[[#This Row],[Column3]] -> 30.394226 | H18: =Table14[[#This Row],[Column3]]*F17*F16*G15 -> 77.079757 | I18: =F17*G7*G15 -> 30.398419
D19: Gearbox Input Shaft(Gear2) | E19: 0.05 | F19: 1.933 | G19: =G15*Table14[[#This Row],[Column3]]*F17 -> 22.28833 | H19: =Table14[[#This Row],[Column3]]*F17*F16*G15 -> 56.523206 | I19: =G8*F17*G15 -> 22.292174
A20: Drag Coefficient | B20: 0.7 | D20: Gearbox Input Shaft(Gear3) | E20: 0.05 | F20: 1.476 | G20: =Table14[[#This Row],[Column3]]*F17*G15 -> 17.018922 | H20: =Table14[[#This Row],[Column3]]*F17*F16*G15 -> 43.159986 | I20: =G9*F17*G15 -> 17.021118
A21: Wind Speed (m/s) | B21: 2.23
A22: Air Density (kg/m3) | B22: 1.167 | D22: RPM | E22: 500 | F22: 1000 | G22: 1500 | H22: 2000 | I22: 2500 | J22: 3000 | K22: 3500 | L22: 4000 | M22: 4500 | N22: 5000 | O22: 5500 | P22: 6000 | Q22: 6500 | R22: 7000
A23: Rolling Coefficient (μR) Asphalt | B23: 0.013 | D23: Torque Nm
A24: Rolling Coefficient (μR) Gravel | B24: 0.02 | D24: 22 | E24: 0 | F24: 0 | G24: 0 | H24: 0 | I24: 0 | J24: 0 | K24: 0 | L24: 0 | M24: 0 | N24: 477.263 | O24: 457.65679 | P24: 0 | Q24: 0 | R24: 0
A25: Rolling Coefficient (μR) Standing water | B25: 0.155 | D25: 21 | E25: 0 | F25: 0 | G25: 0 | H25: 0 | I25: 0 | J25: 0 | K25: 0 | L25: 0 | M25: 483 | N25: 470.50444 | O25: 443.88071 | P25: 477 | Q25: 0 | R25: 0
A26: Rolling Coefficient (μR) Field | B26: 0.1 | D26: 20 | E26: 0 | F26: 0 | G26: 0 | H26: 0 | I26: 0 | J26: 0 | K26: 0 | L26: 479.7 | M26: 491.6236 | N26: 461.71575 | O26: 414.10462 | P26: 469.19732 | Q26: 0 | R26: 0
A27: Traction Coefficient ( Asphalt) | B27: 0.85 | D27: 19 | E27: 0 | F27: 0 | G27: 0 | H27: 0 | I27: 0 | J27: 487 | K27: 478.3 | L27: 482.76 | M27: 476.51549 | N27: 443.04624 | O27: 392.32854 | P27: 457.16662 | Q27: 504.47247 | R27: 0
A28: Traction Coefficient ( Geavel) | B28: 0.7 | D28: 18 | E28: 0 | F28: 0 | G28: 0 | H28: 0 | I28: 0 | J28: 494.6 | K28: 487.6 | L28: 483.62212 | M28: 467.51182 | N28: 427.32635 | O28: 370.55246 | P28: 440.18261 | Q28: 492.04619 | R28: 585.75415
A29: Traction Coefficient ( Field) | B29: 0.6 | D29: 17 | E29: 0 | F29: 0 | G29: 0 | H29: 0 | I29: 503.2 | J29: 499.2 | K29: 496.26476 | L29: 486.36708 | M29: 453.02166 | N29: 396.46991 | O29: 359.66441 | P29: 404.08191 | Q29: 484.72802 | R29: 571.22172
A30: Traction Coefficient ( Water splash) | B30: 0.3 | D30: 16 | E30: 0 | F30: 0 | G30: 0 | H30: 0 | I30: 511.2 | J30: 502.55077 | K30: 499.78608 | L30: 489.11204 | M30: 444.16346 | N30: 368.92715 | O30: 348.77637 | P30: 315.9812 | Q30: 480.25628 | R30: 560.48452
D31: 15 | E31: 0 | F31: 0 | G31: 0 | H31: 597.6 | I31: 516.02897 | J31: 506.4151 | K31: 490.87116 | L31: 491.857 | M31: 439.4457 | N31: 349.54388 | O31: 315.1385 | P31: 304.3559 | Q31: 440.60398 | R31: 512.49828
A32: Wheelbase (mm) | B32: 1940 | D32: 14 | E32: 0 | F32: 0 | G32: 0 | H32: 617.6 | I32: 519.93068 | J32: 510.27942 | K32: 481.95623 | L32: 474.1423 | M32: 406.02647 | N32: 338.1606 | O32: 297.2 | P32: 298.88214 | Q32: 426.97377 | R32: 505.44295
A33: Height of COG from Ground (mm) | B33: 488 | D33: 13 | E33: 0 | F33: 0 | G33: 0 | H33: 631.4 | I33: 537.83024 | J33: 514.14375 | K33: 473.0413 | L33: 456.4276 | M33: 383.4689 | N33: 340.77733 | O33: 313.44812 | P33: 323.99476 | Q33: 377.79009 | R33: 550.08629
A34: Distance of COG from Front Wheel Center (mm) | B34: 1070 | D34: 12 | E34: 0 | F34: 0 | G34: 647.6 | H34: 650.99204 | I34: 555.72979 | J34: 520.46754 | K34: 490.2231 | L34: 459.51858 | M34: 398.81407 | N34: 352.96777 | O34: 326.03757 | P34: 319.10738 | Q34: 394.6064 | R34: 535.15262
A35: Distance of COG from Rear Wheel Center (mm) | B35: 870 | D35: 11 | E35: 0 | F35: 0 | G35: 661.4 | H35: 671.42151 | I35: 574.81351 | J35: 548.0705 | K35: 508.72062 | L35: 471.7546 | M35: 434.78857 | N35: 361.56046 | O35: 343.64462 | P35: 314.22 | Q35: 498.42272 | R35: 540.20721
A36: Angle of Buggy Lifted (Degree) | B36: 18 | D36: 10 | E36: 0 | F36: 0 | G36: 677.3 | H36: 679.66155 | I36: 593.89724 | J36: 578.13292 | K36: 521.56827 | L36: 495.94176 | M36: 470.31525 | N36: 373.21543 | O36: 359.74288 | P36: 309.33261 | Q36: 504.50472 | R36: 535.95524
A37: Angle of Buggy Lifted (Radians) | B37: 0.314159 | D37: 9 | E37: 0 | F37: 0 | G37: 683 | H37: 679.68857 | I37: 604.92833 | J37: 590.1681 | K37: 575.40786 | L37: 533.46044 | M37: 491.51302 | N37: 394.87041 | O37: 401.34726 | P37: 419.30302 | Q37: 510.58671 | R37: 552.98511
A38: tan(18°) | B38: 0.32491 | D38: 8 | E38: 0 | F38: 693.5 | G38: 685.91174 | H38: 688.48829 | I38: 626.96707 | J38: 605.44585 | K38: 583.92463 | L38: 536.69451 | M38: 489.46439 | N38: 416.52538 | O38: 430.19859 | P38: 494.14017 | Q38: 563.03506 | R38: 628.62775
A39: Load on Rear Wheel (kg) | B39: 207 | D39: 7 | E39: 0 | F39: 698.4 | G39: 698.97725 | H39: 787.57302 | I39: 661.67563 | J39: 626.82615 | K39: 615.56795 | L39: 583.19464 | M39: 525.11244 | N39: 459.2047 | O39: 464.79868 | P39: 539.13705 | Q39: 595.78196 | R39: 664.22251
A40: Load on Rear Wheel while Lifted (kg) | B40: 193 | D40: 6 | E40: 840.7 | F40: 704.5 | G40: 738.17377 | H40: 787.4403 | I40: 683.96983 | J40: 635.84712 | K40: 647.21127 | L40: 603.98588 | M40: 560.7605 | N40: 501.88402 | O40: 488.66659 | P40: 587.82742 | Q40: 605.09522 | R40: 676.95837
A41: YCOG | B41: =B39*B32/B18 -> 769.73798 | D41: 5 | E41: 962.5 | F41: 709.89367 | G41: 750.50545 | H41: 795.34446 | I41: 726.49149 | J41: 707.63852 | K41: 688.78555 | L41: 651.64145 | M41: 620.2848 | N41: 588.92816 | O41: 571.62166 | P41: 626.15539 | Q41: 678.7958 | R41: 732.69842
A42: XCOG | B42: =((B39-B40)*B32)/(B17*B38)+279.4 -> 521.69675 | D42: 4 | E42: 1046.5 | F42: 741.90531 | G42: 770.04352 | H42: 824.23018 | I42: 776.62339 | J42: 756.8318 | K42: 717.30149 | L42: 699.29701 | M42: 679.80911 | N42: 660.32121 | O42: 654.57674 | P42: 694.73211 | Q42: 736.7163 | R42: 777.48127
D43: 3 | E43: 1089.4 | F43: 883.70676 | G43: 899.42299 | H43: 862.21869 | I43: 826.75529 | J43: 806.02508 | K43: 754.57173 | L43: 746.95257 | M43: 739.33341 | N43: 731.71426 | O43: 724.0951 | P43: 763.30882 | Q43: 779.98624 | R43: 811.68785
A44: Tires Mass (kg) | B44: 10.2 | D44: 2 | E44: 1114.3308 | F44: 995.51124 | G44: 973.49813 | H44: 928.55602 | I44: 906.88719 | J44: 855.21836 | K44: 833.54953 | L44: 845.6519 | M44: 828.30575 | N44: 810.9596 | O44: 793.61346 | P44: 811.39197 | Q44: 823.25617 | R44: 839.06325
A45: Wheels Mass (kg) | B45: 6.4 | D45: 1 | E45: 1242.2208 | F45: 1167.3097 | G45: 1097.1272 | H45: 1024.8934 | I45: 1050.5262 | J45: 966.15913 | K45: 951.79202 | L45: 944.35123 | M45: 917.27809 | N45: 890.20495 | O45: 863.13182 | P45: 859.47512 | Q45: 851.87555 | R45: 846.90456
A46: Total Assembly Mass (kg) | B46: =B44+B45 -> 16.6 | D46: 0 | E46: 1570.853 | F46: 1518.6451 | G46: 1348.4371 | H46: 1257.2292 | I46: 1246.0212 | J46: 1112.0778 | K46: 1068.1343 | L46: 1024.1909 | M46: 987.14043 | N46: 950.3403 | O46: 913.54017 | P46: 907.55827 | Q46: 880.49492 | R46: 862.48587
A47: Radius of Gyration Front Wheel (Kfront) | B47: =B11*0.9/1000 -> 0.27432 | E47: 500 | F47: 1000 | G47: 1500 | H47: 2000 | I47: 2500 | J47: 3000 | K47: 3500 | L47: 4000 | M47: 4500 | N47: 5000 | O47: 5500 | P47: 6000 | Q47: 6500 | R47: 7000
A48: Radius of Gyration Rear Wheel at 6500rpm 1st Gear | B48: =B12*0.9/1000 -> 0.2286
A49: Inertia of Front Wheel | B49: =B46*B47^2 -> 1.2491743
A50: Inertia of Rear Wheel | B50: =B46*B48^2 -> 0.86748214
A51: Inertia of Engine | B51: 0.17
A52: Equivealant Mass in Gear 1 | B52: =B$18+(4*(B$50/B$14^2))+(B$51*(G7^2/B$14^2)) -> 575.20663
A53: Equivealant Mass in Gear 2 | B53: =B$18+(4*(B$50/B$14^2))+(B$51*(G8^2/B$14^2)) -> 568.92541
A54: Equivealant Mass in Gear 3 | B54: =B$18+(4*(B$50/B$14^2))+(B$51*(G9^2/B$14^2)) -> 565.87802

Sheet Simulation
C1: Time (s) | D1: Velocity (mph) | E1: Velocity (km/h) | F1: Velocity (m/s) | G1: Distance (m) | H1: Displacement (m) | I1: Acceleration (m/s | J1: Gear | K1: Gradient Resistance Force (N) | L1: Aero Drag Force (N) | M1: Inertia Resistance Force (N) | N1: Rolling Resistance Force (N) | O1: Total Resistance Force (N) | P1: Force on wheel | Q1: Equivelent Mass (kg) | R1: Kinetic Energy (kJ) | S1: Potential Energy (kJ) | T1: Torque @ wheel | U1: Engine torque (Nm) | V1: Energy consumed by drag (kWh) | W1: Energy consumed by braking (kWh) | X1: Power (kW) | Y1: Power (hp) | Z1: RPM | AA1: Rounded Torque (Nm) | AB1: Rounded RPM | AC1: Energy (kWh) | AD1: Total Energy (kWh) | AE1: Workdone (kJ) | AF1: Power (kW) | AG1: Power (hp) | AH1: BSFC | AI1: Energy (kWh) | AJ1: Fuel Used (g) | AK1: Total Fuel consumed (g)
A2: ASPHALT START | C2: 0 | D2: 0 | E2: =F2*3.6 -> 0 | F2: =D2/2.23694 -> 0 | G2: 0 | H2: 0 | I2: 0 | J2: 0 | K2: 0 | L2: 0 | M2: 0 | N2: 0 | O2: =K2+L2+M2+N2 -> 0 | P2: =IF(O2>=0,O2,IF(O2<0,-O2)) -> 0 | Q2: 521.71 | R2: =(0.5*'Specification & Data'!B$18*Simulation!F2^2)/1000 -> 0 | T2: =P2*'Specification & Data'!B$27*0.9 -> 0 | U2: 0 | V2: =L2*F2/(1000*3600) -> 0 | W2: =IF(I2<0,AC2,0) -> 0 | X2: =(P2*F2)/1000 -> 0 | Y2: =X2*1000/(746) -> 0 | Z2: 0 | AA2: 0 | AB2: 0 | AC2: =X2/3600 -> 0 | AD2: 0 | AE2: 0 | AF2: =(O2*F2)/1000 -> 0 | AG2: =AF2*1000/(746) -> 0 | AH2: 0 | AI2: =AF2/3600 -> 0 | AJ2: =AC2*AH2 -> 0 | AK2: 0 | AL2: 0
C3: =C2+1 -> 1 | D3: 5.7 | E3: =F3*3.6 -> 9.1732456 | F3: =D3/2.23694 -> 2.5481238 | G3: =G2+((F3+F2)/2) -> 1.2740619 | H3: =(F3+F2)/2 -> 1.2740619 | I3: =(H3-F2)*2 -> 2.5481238 | J3: =IF(D3<=10,1,IF(AND(D3>10,D3<=20),2,IF(D3>20,3))) -> 1 | K3: 0 | L3: =('Specification & Data'!B$22*'Specification & Data'!B$10*'Specification & Data'!B$20*(Simulation!F3^2-'Specification & Data'!B$21^2))/2 -> 0.71460779 | M3: =Q3*I3 -> 1465.6977 | N3: ='Specification & Data'!B$23*'Specification & Data'!B$18*8.91 -> 60.429669 | O3: =K3+L3+M3+N3 -> 1526.842 | P3: =IF(O3>=0,O3,IF(O3<0,-O3)) -> 1526.842 | Q3: =IF(J3=1,'Specification & Data'!B$52,IF(Simulation!J3=2,'Specification & Data'!B$53,IF(Simulation!J3=3,'Specification & Data'!B$54))) -> 575.20663 | R3: =(0.5*'Specification & Data'!B$18*Simulation!F3^2)/1000 -> 1.6937145 | T3: =P3*'Specification & Data'!B$14*0.9 -> 405.20037 | U3: =T3/(IF(J3=1,'Specification & Data'!H$7,IF(Simulation!J3=2,'Specification & Data'!H$8,IF(Simulation!J3=3,'Specification & Data'!H$9)))) -> 17.827288 | V3: =V2+(L3*F3/(1000*3600)) -> 5.0580809e-07 | W3: =W2+(IF(I3<0,AC3,0)) -> 0 | X3: =(P3*F3)/1000 -> 3.8905823 | Y3: =X3*1000/(746) -> 5.2152578 | Z3: =(60*1000*X3)/(2*PI()*U3) -> 2084.0144 | AA3: =ROUND(U3,0) -> 18 | AB3: =MROUND(Z3,500) -> 2000 | AC3: =X3/3600 -> 0.0010807173 | AD3: =AD2+AC3 -> 0.0010807173 | AE3: =(O3*G3)/1000 -> 1.9452912 | AF3: =(O3*F3)/1000 -> 3.8905823 | AG3: =AF3*1000/(746) -> 5.2152578 | AH3: =INDEX('Specification & Data'!E$24:R$46,MATCH(Simulation!AA3,'Specification & Data'!D$24:D$46,0),MATCH(Simulation!AB3,'Specification & Data'!E$47:R$47,0)) -> 0 | AI3: =AF3/3600 -> 0.0010807173 | AJ3: =AC3*AH3 -> 0 | AK3: =AK2+AJ3 -> 0 | AL3: 2.3289729
C4: =C3+1 -> 2 | D4: 6.9 | E4: =F4*3.6 -> 11.104455 | F4: =D4/2.23694 -> 3.0845709 | G4: =G3+((F4+F3)/2) -> 4.0904092 | H4: =(F4+F3)/2 -> 2.8163473 | I4: =(H4-F3)*2 -> 0.53644711 | J4: =IF(D4<=10,1,IF(AND(D4>10,D4<=20),2,IF(D4>20,3))) -> 1 | K4: 0 | L4: =('Specification & Data'!B$22*'Specification & Data'!B$10*'Specification & Data'!B$20*(Simulation!F4^2-'Specification & Data'!B$21^2))/2 -> 2.1351605 | M4: =Q4*I4 -> 308.56794 | N4: ='Specification & Data'!B$23*'Specification & Data'!B$18*8.91 -> 60.429669 | O4: =K4+L4+M4+N4 -> 371.13277 | P4: =IF(O4>=0,O4,IF(O4<0,-O4)) -> 371.13277 | Q4: =IF(J4=1,'Specification & Data'!B$52,IF(Simulation!J4=2,'Specification & Data'!B$53,IF(Simulation!J4=3,'Specification & Data'!B$54))) -> 575.20663 | R4: =(0.5*'Specification & Data'!B$18*Simulation!F4^2)/1000 -> 2.4819251 | T4: =P4*'Specification & Data'!B$14*0.9 -> 98.492926 | U4: =T4/(IF(J4=1,'Specification & Data'!H$7,IF(Simulation!J4=2,'Specification & Data'!H$8,IF(Simulation!J4=3,'Specification & Data'!H$9)))) -> 4.3333173 | V4: =V3+(L4*F4/(1000*3600)) -> 2.3352675e-06 | W4: =W3+(IF(I4<0,AC4,0)) -> 0 | X4: =(P4*F4)/1000 -> 1.1447853 | Y4: =X4*1000/(746) -> 1.5345648 | Z4: =(60*1000*X4)/(2*PI()*U4) -> 2522.7542 | AA4: =ROUND(U4,0) -> 4 | AB4: =MROUND(Z4,500) -> 2500 | AC4: =X4/3600 -> 0.00031799592 | AD4: =AD3+AC4 -> 0.0013987132 | AE4: =(O4*G4)/1000 -> 1.5180849 | AF4: =(O4*F4)/1000 -> 1.1447853 | AG4: =AF4*1000/(746) -> 1.5345648 | AH4: =INDEX('Specification & Data'!E$24:R$46,MATCH(Simulation!AA4,'Specification & Data'!D$24:D$46,0),MATCH(Simulation!AB4,'Specification & Data'!E$47:R$47,0)) -> 776.62339 | AI4: =AF4/3600 -> 0.00031799592 | AJ4: =AC4*AH4 -> 0.24696307 | AK4: =AK3+AJ4 -> 0.24696307 | AL4: 2.3289729
C5: =C4+1 -> 3 | D5: 8 | E5: =F5*3.6 -> 12.874731 | F5: =D5/2.23694 -> 3.5763141 | G5: =G4+((F5+F4)/2) -> 7.4208517 | H5: =(F5+F4)/2 -> 3.3304425 | I5: =(H5-F4)*2 -> 0.49174318 | J5: =IF(D5<=10,1,IF(AND(D5>10,D5<=20),2,IF(D5>20,3))) -> 1 | K5: 0 | L5: =('Specification & Data'!B$22*'Specification & Data'!B$10*'Specification & Data'!B$20*(Simulation!F5^2-'Specification & Data'!B$21^2))/2 -> 3.6750321 | M5: =Q5*I5 -> 282.85394 | N5: ='Specification & Data'!B$23*'Specification & Data'!B$18*8.91 -> 60.429669 | O5: =K5+L5+M5+N5 -> 346.95864 | P5: =IF(O5>=0,O5,IF(O5<0,-O5)) -> 346.95864 | Q5: =IF(J5=1,'Specification & Data'!B$52,IF(Simulation!J5=2,'Specification & Data'!B$53,IF(Simulation!J5=3,'Specification & Data'!B$54))) -> 575.20663 | R5: =(0.5*'Specification & Data'!B$18*Simulation!F5^2)/1000 -> 3.3363413 | T5: =P5*'Specification & Data'!B$14*0.9 -> 92.077486 | U5: =T5/(IF(J5=1,'Specification & Data'!H$7,IF(Simulation!J5=2,'Specification & Data'!H$8,IF(Simulation!J5=3,'Specification & Data'!H$9)))) -> 4.0510621 | V5: =V4+(L5*F5/(1000*3600)) -> 5.98612e-06 | W5: =W4+(IF(I5<0,AC5,0)) -> 0 | X5: =(P5*F5)/1000 -> 1.2408331 | Y5: =X5*1000/(746) -> 1.6633151 | Z5: =(60*1000*X5)/(2*PI()*U5) -> 2924.9324 | AA5: =ROUND(U5,0) -> 4 | AB5: =MROUND(Z5,500) -> 3000 | AC5: =X5/3600 -> 0.00034467585 | AD5: =AD4+AC5 -> 0.0017433891 | AE5: =(O5*G5)/1000 -> 2.5747286 | AF5: =(O5*F5)/1000 -> 1.2408331 | AG5: =AF5*1000/(746) -> 1.6633151 | AH5: =INDEX('Specification & Data'!E$24:R$46,MATCH(Simulation!AA5,'Specification & Data'!D$24:D$46,0),MATCH(Simulation!AB5,'Specification & Data'!E$47:R$47,0)) -> 756.8318 | AI5: =AF5/3600 -> 0.00034467585 | AJ5: =AC5*AH5 -> 0.26086165 | AK5: =AK4+AJ5 -> 0.50782472 | AL5: 2.3289729
C6: =C5+1 -> 4 | D6: 10 | E6: =F6*3.6 -> 16.093413 | F6: =D6/2.23694 -> 4.4703926 | G6: =G5+((F6+F5)/2) -> 11.444205 | H6: =(F6+F5)/2 -> 4.0233533 | I6: =(H6-F5)*2 -> 0.89407852 | J6: =IF(D6<=10,1,IF(AND(D6>10,D6<=20),2,IF(D6>20,3))) -> 1 | K6: 0 | L6: =('Specification & Data'!B$22*'Specification & Data'!B$10*'Specification & Data'!B$20*(Simulation!F6^2-'Specification & Data'!B$21^2))/2 -> 7.0573004 | M6: =Q6*I6 -> 514.27989 | N6: ='Specification & Data'!B$23*'Specification & Data'!B$18*8.91 -> 60.429669 | O6: =K6+L6+M6+N6 -> 581.76686 | P6: =IF(O6>=0,O6,IF(O6<0,-O6)) -> 581.76686 | Q6: =IF(J6=1,'Specification & Data'!B$52,IF(Simulation!J6=2,'Specification & Data'!B$53,IF(Simulation!J6=3,'Specification & Data'!B$54))) -> 575.20663 | R6: =(0.5*'Specification & Data'!B$18*Simulation!F6^2)/1000 -> 5.2130332 | T6: =P6*'Specification & Data'!B$14*0.9 -> 154.39198 | U6: =T6/(IF(J6=1,'Specification & Data'!H$7,IF(Simulation!J6=2,'Specification & Data'!H$8,IF(Simulation!J6=3,'Specification & Data'!H$9)))) -> 6.7926647 | V6: =V5+(L6*F6/(1000*3600)) -> 1.4749704e-05 | W6: =W5+(IF(I6<0,AC6,0)) -> 0 | X6: =(P6*F6)/1000 -> 2.6007263 | Y6: =X6*1000/(746) -> 3.4862283 | Z6: =(60*1000*X6)/(2*PI()*U6) -> 3656.1655 | AA6: =ROUND(U6,0) -> 7 | AB6: =MROUND(Z6,500) -> 3500 | AC6: =X6/3600 -> 0.00072242397 | AD6: =AD5+AC6 -> 0.0024658131 | AE6: =(O6*G6)/1000 -> 6.6578593 | AF6: =(O6*F6)/1000 -> 2.6007263 | AG6: =AF6*1000/(746) -> 3.4862283 | AH6: =INDEX('Specification & Data'!E$24:R$46,MATCH(Simulation!AA6,'Specification & Data'!D$24:D$46,0),MATCH(Simulation!AB6,'Specification & Data'!E$47:R$47,0)) -> 615.56795 | AI6: =AF6/3600 -> 0.00072242397 | AJ6: =AC6*AH6 -> 0.44470104 | AK6: =AK5+AJ6 -> 0.95252576 | AL6: 2.3289729
C7: =C6+1 -> 5 | D7: 10.1 | E7: =F7*3.6 -> 16.254347 | F7: =D7/2.23694 -> 4.5150965 | G7: =G6+((F7+F6)/2) -> 15.93695 | H7: =(F7+F6)/2 -> 4.4927446 | I7: =(H7-F6)*2 -> 0.044703926 | J7: =IF(D7<=10,1,IF(AND(D7>10,D7<=20),2,IF(D7>20,3))) -> 2 | K7: 0 | L7: =('Specification & Data'!B$22*'Specification & Data'!B$10*'Specification & Data'!B$20*(Simulation!F7^2-'Specification & Data'!B$21^2))/2 -> 7.2461437 | M7: =Q7*I7 -> 25.4332 | N7: ='Specification & Data'!B$23*'Specification & Data'!B$18*8.91 -> 60.429669 | O7: =K7+L7+M7+N7 -> 93.109013 | P7: =IF(O7>=0,O7,IF(O7<0,-O7)) -> 93.109013 | Q7: =IF(J7=1,'Specification & Data'!B$52,IF(Simulation!J7=2,'Specification & Data'!B$53,IF(Simulation!J7=3,'Specification & Data'!B$54))) -> 568.92541 | R7: =(0.5*'Specification & Data'!B$18*Simulation!F7^2)/1000 -> 5.3178152 | T7: =P7*'Specification & Data'!B$14*0.9 -> 24.709699 | U7: =T7/(IF(J7=1,'Specification & Data'!H$7,IF(Simulation!J7=2,'Specification & Data'!H$8,IF(Simulation!J7=3,'Specification & Data'!H$9)))) -> 1.4824549 | V7: =V6+(L7*F7/(1000*3600)) -> 2.383777e-05 | W7: =W6+(IF(I7<0,AC7,0)) -> 0 | X7: =(P7*F7)/1000 -> 0.42039618 | Y7: =X7*1000/(746) -> 0.56353375 | Z7: =(60*1000*X7)/(2*PI()*U7) -> 2707.9999 | AA7: =ROUND(U7,0) -> 1 | AB7: =MROUND(Z7,500) -> 2500 | AC7: =X7/3600 -> 0.00011677672 | AD7: =AD6+AC7 -> 0.0025825898 | AE7: =(O7*G7)/1000 -> 1.4838736 | AF7: =(O7*F7)/1000 -> 0.42039618 | AG7: =AF7*1000/(746) -> 0.56353375 | AH7: =INDEX('Specification & Data'!E$24:R$46,MATCH(Simulation!AA7,'Specification & Data'!D$24:D$46,0),MATCH(Simulation!AB7,'Specification & Data'!E$47:R$47,0)) -> 1050.5262 | AI7: =AF7/3600 -> 0.00011677672 | AJ7: =AC7*AH7 -> 0.122677 | AK7: =AK6+AJ7 -> 1.0752028 | AL7: 2.3289729
C8: =C7+1 -> 6 | D8: 11 | E8: =F8*3.6 -> 17.702755 | F8: =D8/2.23694 -> 4.9174318 | G8: =G7+((F8+F7)/2) -> 20.653214 | H8: =(F8+F7)/2 -> 4.7162642 | I8: =(H8-F7)*2 -> 0.40233533 | J8: =IF(D8<=10,1,IF(AND(D8>10,D8<=20),2,IF(D8>20,3))) -> 2 | K8: 0 | L8: =('Specification & Data'!B$22*'Specification & Data'!B$10*'Specification & Data'!B$20*(Simulation!F8^2-'Specification & Data'!B$21^2))/2 -> 9.0302902 | M8: =Q8*I8 -> 228.8988 | N8: ='Specification & Data'!B$23*'Specification & Data'!B$18*8.91 -> 60.429669 | O8: =K8+L8+M8+N8 -> 298.35876 | P8: =IF(O8>=0,O8,IF(O8<0,-O8)) -> 298.35876 | Q8: =IF(J8=1,'Specification & Data'!B$52,IF(Simulation!J8=2,'Specification & Data'!B$53,IF(Simulation!J8=3,'Specification & Data'!B$54))) -> 568.92541 | R8: =(0.5*'Specification & Data'!B$18*Simulation!F8^2)/1000 -> 6.3077702 | T8: =P8*'Specification & Data'!B$14*0.9 -> 79.179824 | U8: =T8/(IF(J8=1,'Specification & Data'!H$7,IF(Simulation!J8=2,'Specification & Data'!H$8,IF(Simulation!J8=3,'Specification & Data'!H$9)))) -> 4.7503822 | V8: =V7+(L8*F8/(1000*3600)) -> 3.6172725e-05 | W8: =W7+(IF(I8<0,AC8,0)) -> 0 | X8: =(P8*F8)/1000 -> 1.4671588 | Y8: =X8*1000/(746) -> 1.9667009 | Z8: =(60*1000*X8)/(2*PI()*U8) -> 2949.3069 | AA8: =ROUND(U8,0) -> 5 | AB8: =MROUND(Z8,500) -> 3000 | AC8: =X8/3600 -> 0.00040754412 | AD8: =AD7+AC8 -> 0.0029901339 | AE8: =(O8*G8)/1000 -> 6.1620672 | AF8: =(O8*F8)/1000 -> 1.4671588 | AG8: =AF8*1000/(746) -> 1.9667009 | AH8: =INDEX('Specification & Data'!E$24:R$46,MATCH(Simulation!AA8,'Specification & Data'!D$24:D$46,0),MATCH(Simulation!AB8,'Specification & Data'!E$47:R$47,0)) -> 707.63852 | AI8: =AF8/3600 -> 0.00040754412 | AJ8: =AC8*AH8 -> 0.28839392 | AK8: =AK7+AJ8 -> 1.3635967 | AL8: 2.3289729
C9: =C8+1 -> 7 | D9: 12 | E9: =F9*3.6 -> 19.312096 | F9: =D9/2.23694 -> 5.3644711 | G9: =G8+((F9+F8)/2) -> 25.794165 | H9: =(F9+F8)/2 -> 5.1409515 | I9: =(H9-F8)*2 -> 0.44703926 | J9: =IF(D9<=10,1,IF(AND(D9>10,D9<=20),2,IF(D9>20,3))) -> 2 | K9: 0 | L9: =('Specification & Data'!B$22*'Specification & Data'!B$10*'Specification & Data'!B$20*(Simulation!F9^2-'Specification & Data'!B$21^2))/2 -> 11.191184 | M9: =Q9*I9 -> 254.332 | N9: ='Specification & Data'!B$23*'Specification & Data'!B$18*8.91 -> 60.429669 | O9: =K9+L9+M9+N9 -> 325.95285 | P9: =IF(O9>=0,O9,IF(O9<0,-O9)) -> 325.95285 | Q9: =IF(J9=1,'Specification & Data'!B$52,IF(Simulation!J9=2,'Specification & Data'!B$53,IF(Simulation!J9=3,'Specification & Data'!B$54))) -> 568.92541 | R9: =(0.5*'Specification & Data'!B$18*Simulation!F9^2)/1000 -> 7.5067679 | T9: =P9*'Specification & Data'!B$14*0.9 -> 86.502871 | U9: =T9/(IF(J9=1,'Specification & Data'!H$7,IF(Simulation!J9=2,'Specification & Data'!H$8,IF(Simulation!J9=3,'Specification & Data'!H$9)))) -> 5.1897274 | V9: =V8+(L9*F9/(1000*3600)) -> 5.2849053e-05 | W9: =W8+(IF(I9<0,AC9,0)) -> 0 | X9: =(P9*F9)/1000 -> 1.7485646 | Y9: =X9*1000/(746) -> 2.3439204 | Z9: =(60*1000*X9)/(2*PI()*U9) -> 3217.4257 | AA9: =ROUND(U9,0) -> 5 | AB9: =MROUND(Z9,500) -> 3000 | AC9: =X9/3600 -> 0.0004857124 | AD9: =AD8+AC9 -> 0.0034758463 | AE9: =(O9*G9)/1000 -> 8.4076816 | AF9: =(O9*F9)/1000 -> 1.7485646 | AG9: =AF9*1000/(746) -> 2.3439204 | AH9: =INDEX('Specification & Data'!E$24:R$46,MATCH(Simulation!AA9,'Specification & Data'!D$24:D$46,0),MATCH(Simulation!AB9,'Specification & Data'!E$47:R$47,0)) -> 707.63852 | AI9: =AF9/3600 -> 0.0004857124 | AJ9: =AC9*AH9 -> 0.3437088 | AK9: =AK8+AJ9 -> 1.7073055 | AL9: 2.3289729
C10: =C9+1 -> 8 | D10: 14 | E10: =F10*3.6 -> 22.530779 | F10: =D10/2.23694 -> 6.2585496 | G10: =G9+((F10+F9)/2) -> 31.605676 | H10: =(F10+F9)/2 -> 5.8115104 | I10: =(H10-F9)*2 -> 0.89407852 | J10: =IF(D10<=10,1,IF(AND(D10>10,D10<=20),2,IF(D10>20,3))) -> 2 | K10: 0 | L10: =('Specification & Data'!B$22*'Specification & Data'!B$10*'Specification & Data'!B$20*(Simulation!F10^2-'Specification & Data'!B$21^2))/2 -> 16.076682 | M10: =Q10*I10 -> 508.66399 | N10: ='Specification & Data'!B$23*'Specification & Data'!B$18*8.91 -> 60.429669 | O10: =K10+L10+M10+N10 -> 585.17034 | P10: =IF(O10>=0,O10,IF(O10<0,-O10)) -> 585.17034 | Q10: =IF(J10=1,'Specification & Data'!B$52,IF(Simulation!J10=2,'Specification & Data'!B$53,IF(Simulation!J10=3,'Specification & Data'!B$54))) -> 568.92541 | R10: =(0.5*'Specification & Data'!B$18*Simulation!F10^2)/1000 -> 10.217545 | T10: =P10*'Specification & Data'!B$14*0.9 -> 155.29521 | U10: =T10/(IF(J10=1,'Specification & Data'!H$7,IF(Simulation!J10=2,'Specification & Data'!H$8,IF(Simulation!J10=3,'Specification & Data'!H$9)))) -> 9.3169138 | V10: =V9+(L10*F10/(1000*3600)) -> 8.0798141e-05 | W10: =W9+(IF(I10<0,AC10,0)) -> 0 | X10: =(P10*F10)/1000 -> 3.6623176 | Y10: =X10*1000/(746) -> 4.909273 | Z10: =(60*1000*X10)/(2*PI()*U10) -> 3753.6633 | AA10: =ROUND(U10,0) -> 9 | AB10: =MROUND(Z10,500) -> 4000 | AC10: =X10/3600 -> 0.0010173105 | AD10: =AD9+AC10 -> 0.0044931568 | AE10: =(O10*G10)/1000 -> 18.494704 | AF10: =(O10*F10)/1000 -> 3.6623176 | AG10: =AF10*1000/(746) -> 4.909273 | AH10: =INDEX('Specification & Data'!E$24:R$46,MATCH(Simulation!AA10,'Specification & Data'!D$24:D$46,0),MATCH(Simulation!AB10,'Specification & Data'!E$47:R$47,0)) -> 533.46044 | AI10: =AF10/3600 -> 0.0010173105 | AJ10: =AC10*AH10 -> 0.54269488 | AK10: =AK9+AJ10 -> 2.2500004 | AL10: 2.3289729
C11: =C10+1 -> 9 | D11: 16 | E11: =F11*3.6 -> 25.749461 | F11: =D11/2.23694 -> 7.1526281 | G11: =G10+((F11+F10)/2) -> 38.311264 | H11: =(F11+F10)/2 -> 6.7055889 | I11: =(H11-F10)*2 -> 0.89407852 | J11: =IF(D11<=10,1,IF(AND(D11>10,D11<=20),2,IF(D11>20,3))) -> 2 | K11: 0 | L11: =('Specification & Data'!B$22*'Specification & Data'!B$10*'Specification & Data'!B$20*(Simulation!F11^2-'Specification & Data'!B$21^2))/2 -> 21.713796 | M11: =Q11*I11 -> 508.66399 | N11: ='Specification & Data'!B$23*'Specification & Data'!B$18*8.91 -> 60.429669 | O11: =K11+L11+M11+N11 -> 590.80746 | P11: =IF(O11>=0,O11,IF(O11<0,-O11)) -> 590.80746 | Q11: =IF(J11=1,'Specification & Data'!B$52,IF(Simulation!J11=2,'Specification & Data'!B$53,IF(Simulation!J11=3,'Specification & Data'!B$54))) -> 568.92541 | R11: =(0.5*'Specification & Data'!B$18*Simulation!F11^2)/1000 -> 13.345365 | T11: =P11*'Specification & Data'!B$14*0.9 -> 156.79121 | U11: =T11/(IF(J11=1,'Specification & Data'!H$7,IF(Simulation!J11=2,'Specification & Data'!H$8,IF(Simulation!J11=3,'Specification & Data'!H$9)))) -> 9.4066663 | V11: =V10+(L11*F11/(1000*3600)) -> 0.00012394 | W11: =W10+(IF(I11<0,AC11,0)) -> 0 | X11: =(P11*F11)/1000 -> 4.225826 | Y11: =X11*1000/(746) -> 5.6646462 | Z11: =(60*1000*X11)/(2*PI()*U11) -> 4289.9009 | AA11: =ROUND(U11,0) -> 9 | AB11: =MROUND(Z11,500) -> 4500 | AC11: =X11/3600 -> 0.0011738406 | AD11: =AD10+AC11 -> 0.0056669973 | AE11: =(O11*G11)/1000 -> 22.634581 | AF11: =(O11*F11)/1000 -> 4.225826 | AG11: =AF11*1000/(746) -> 5.6646462 | AH11: =INDEX('Specification & Data'!E$24:R$46,MATCH(Simulation!AA11,'Specification & Data'!D$24:D$46,0),MATCH(Simulation!AB11,'Specification & Data'!E$47:R$47,0)) -> 491.51302 | AI11: =AF11/3600 -> 0.0011738406 | AJ11: =AC11*AH11 -> 0.57695792 | AK11: =AK10+AJ11 -> 2.8269583 | AL11: 2.3289729
C12: =C11+1 -> 10 | D12: 18 | E12: =F12*3.6 -> 28.968144 | F12: =D12/2.23694 -> 8.0467067 | G12: =G11+((F12+F11)/2) -> 45.910932 | H12: =(F12+F11)/2 -> 7.5996674 | I12: =(H12-F11)*2 -> 0.89407852 | J12: =IF(D12<=10,1,IF(AND(D12>10,D12<=20),2,IF(D12>20,3))) -> 2 | K12: 0 | L12: =('Specification & Data'!B$22*'Specification & Data'!B$10*'Specification & Data'!B$20*(Simulation!F12^2-'Specification & Data'!B$21^2))/2 -> 28.102525 | M12: =Q12*I12 -> 508.66399 | N12: ='Specification & Data'!B$23*'Specification & Data'!B$18*8.91 -> 60.429669 | O12: =K12+L12+M12+N12 -> 597.19619 | P12: =IF(O12>=0,O12,IF(O12<0,-O12)) -> 597.19619 | Q12: =IF(J12=1,'Specification & Data'!B$52,IF(Simulation!J12=2,'Specification & Data'!B$53,IF(Simulation!J12=3,'Specification & Data'!B$54))) -> 568.92541 | R12: =(0.5*'Specification & Data'!B$18*Simulation!F12^2)/1000 -> 16.890228 | T12: =P12*'Specification & Data'!B$14*0.9 -> 158.48668 | U12: =T12/(IF(J12=1,'Specification & Data'!H$7,IF(Simulation!J12=2,'Specification & Data'!H$8,IF(Simulation!J12=3,'Specification & Data'!H$9)))) -> 9.5083858 | V12: =V11+(L12*F12/(1000*3600)) -> 0.00018675467 | W12: =W11+(IF(I12<0,AC12,0)) -> 0 | X12: =(P12*F12)/1000 -> 4.8054625 | Y12: =X12*1000/(746) -> 6.4416388 | Z12: =(60*1000*X12)/(2*PI()*U12) -> 4826.1385 | AA12: =ROUND(U12,0) -> 10 | AB12: =MROUND(Z12,500) -> 5000 | AC12: =X12/3600 -> 0.0013348507 | AD12: =AD11+AC12 -> 0.007001848 | AE12: =(O12*G12)/1000 -> 27.417833 | AF12: =(O12*F12)/1000 -> 4.8054625 | AG12: =AF12*1000/(746) -> 6.4416388 | AH12: =INDEX('Specification & Data'!E$24:R$46,MATCH(Simulation!AA12,'Specification & Data'!D$24:D$46,0),MATCH(Simulation!AB12,'Specification & Data'!E$47:R$47,0)) -> 373.21543 | AI12: =AF12/3600 -> 0.0013348507 | AJ12: =AC12*AH12 -> 0.49818688 | AK12: =AK11+AJ12 -> 3.3251452 | AL12: 2.3289729
C13: =C12+1 -> 11 | D13: 20 | E13: =F13*3.6 -> 32.186827 | F13: =D13/2.23694 -> 8.9407852 | G13: =G12+((F13+F12)/2) -> 54.404678 | H13: =(F13+F12)/2 -> 8.4937459 | I13: =(H13-F12)*2 -> 0.89407852 | J13: =IF(D13<=10,1,IF(AND(D13>10,D13<=20),2,IF(D13>20,3))) -> 2 | K13: 0 | L13: =('Specification & Data'!B$22*'Specification & Data'!B$10*'Specification & Data'!B$20*(Simulation!F13^2-'Specification & Data'!B$21^2))/2 -> 35.242869 | M13: =Q13*I13 -> 508.66399 | N13: ='Specification & Data'!B$23*'Specification & Data'!B$18*8.91 -> 60.429669 | O13: =K13+L13+M13+N13 -> 604.33653 | P13: =IF(O13>=0,O13,IF(O13<0,-O13)) -> 604.33653 | Q13: =IF(J13=1,'Specification & Data'!B$52,IF(Simulation!J13=2,'Specification & Data'!B$53,IF(Simulation!J13=3,'Specification & Data'!B$54))) -> 568.92541 | R13: =(0.5*'Specification & Data'!B$18*Simulation!F13^2)/1000 -> 20.852133 | T13: =P13*'Specification & Data'!B$14*0.9 -> 160.38162 | U13: =T13/(IF(J13=1,'Specification & Data'!H$7,IF(Simulation!J13=2,'Specification & Data'!H$8,IF(Simulation!J13=3,'Specification & Data'!H$9)))) -> 9.6220723 | V13: =V12+(L13*F13/(1000*3600)) -> 0.00027428214 | W13: =W12+(IF(I13<0,AC13,0)) -> 0 | X13: =(P13*F13)/1000 -> 5.4032431 | Y13: =X13*1000/(746) -> 7.2429532 | Z13: =(60*1000*X13)/(2*PI()*U13) -> 5362.3761 | AA13: =ROUND(U13,0) -> 10 | AB13: =MROUND(Z13,500) -> 5500 | AC13: =X13/3600 -> 0.0015009009 | AD13: =AD12+AC13 -> 0.0085027489 | AE13: =(O13*G13)/1000 -> 32.878734 | AF13: =(O13*F13)/1000 -> 5.4032431 | AG13: =AF13*1000/(746) -> 7.2429532 | AH13: =INDEX('Specification & Data'!E$24:R$46,MATCH(Simulation!AA13,'Specification & Data'!D$24:D$46,0),MATCH(Simulation!AB13,'Specification & Data'!E$47:R$47,0)) -> 359.74288 | AI13: =AF13/3600 -> 0.0015009009 | AJ13: =AC13*AH13 -> 0.5399384 | AK13: =AK12+AJ13 -> 3.8650836 | AL13: 2.3289729
C14: =C13+1 -> 12 | D14: 20.2 | E14: =F14*3.6 -> 32.508695 | F14: =D14/2.23694 -> 9.030193 | G14: =G13+((F14+F13)/2) -> 63.390167 | H14: =(F14+F13)/2 -> 8.9854891 | I14: =(H14-F13)*2 -> 0.089407852 | J14: =IF(D14<=10,1,IF(AND(D14>10,D14<=20),2,IF(D14>20,3))) -> 3 | K14: 0 | L14: =('Specification & Data'!B$22*'Specification & Data'!B$10*'Specification & Data'!B$20*(Simulation!F14^2-'Specification & Data'!B$21^2))/2 -> 35.998243 | M14: =Q14*I14 -> 50.593938 | N14: ='Specification & Data'!B$23*'Specification & Data'!B$18*8.91 -> 60.429669 | O14: =K14+L14+M14+N14 -> 147.02185 | P14: =IF(O14>=0,O14,IF(O14<0,-O14)) -> 147.02185 | Q14: =IF(J14=1,'Specification & Data'!B$52,IF(Simulation!J14=2,'Specification & Data'!B$53,IF(Simulation!J14=3,'Specification & Data'!B$54))) -> 565.87802 | R14: =(0.5*'Specification & Data'!B$18*Simulation!F14^2)/1000 -> 21.271261 | T14: =P14*'Specification & Data'!B$14*0.9 -> 39.017337 | U14: =T14/(IF(J14=1,'Specification & Data'!H$7,IF(Simulation!J14=2,'Specification & Data'!H$8,IF(Simulation!J14=3,'Specification & Data'!H$9)))) -> 3.0657448 | V14: =V13+(L14*F14/(1000*3600)) -> 0.00036457967 | W14: =W13+(IF(I14<0,AC14,0)) -> 0 | X14: =(P14*F14)/1000 -> 1.3276357 | Y14: =X14*1000/(746) -> 1.7796725 | Z14: =(60*1000*X14)/(2*PI()*U14) -> 4135.3694 | AA14: =ROUND(U14,0) -> 3 | AB14: =MROUND(Z14,500) -> 4000 | AC14: =X14/3600 -> 0.00036878769 | AD14: =AD13+AC14 -> 0.0088715366 | AE14: =(O14*G14)/1000 -> 9.3197396 | AF14: =(O14*F14)/1000 -> 1.3276357 | AG14: =AF14*1000/(746) -> 1.7796725 | AH14: =INDEX('Specification & Data'!E$24:R$46,MATCH(Simulation!AA14,'Specification & Data'!D$24:D$46,0),MATCH(Simulation!AB14,'Specification & Data'!E$47:R$47,0)) -> 746.95257 | AI14: =AF14/3600 -> 0.00036878769 | AJ14: =AC14*AH14 -> 0.27546691 | AK14: =AK13+AJ14 -> 4.1405505 | AL14: 2.3289729
... C31: =C30+1 -> 29 | D31: 15 | E31: =F31*3.6 -> 24.14012 | F31: =D31/2.23694 -> 6.7055889 | G31: =G30+((F31+F30)/2) -> 238.58485 | H31: =(F31+F30)/2 -> 6.9291085 | I31: =(H31-F30)*2 -> -0.44703926 | J31: =IF(D31<=10,1,IF(AND(D31>10,D31<=20),2,IF(D31>20,3))) -> 2 | K31: 0 | L31: =('Specification & Data'!B$22*'Specification & Data'!B$10*'Specification & Data'!B$20*(Simulation!F31^2-'Specification & Data'!B$21^2))/2 -> 18.801287 | M31: =Q31*I31 -> -254.332 | N31: ='Specification & Data'!B$23*'Specification & Data'!B$18*8.91 -> 60.429669 | O31: =K31+L31+M31+N31 -> -175.10104 | P31: =IF(O31>=0,O31,IF(O31<0,-O31)) -> 175.10104 | Q31: =IF(J31=1,'Specification & Data'!B$52,IF(Simulation!J31=2,'Specification & Data'!B$53,IF(Simulation!J31=3,'Specification & Data'!B$54))) -> 568.92541 | R31: =(0.5*'Specification & Data'!B$18*Simulation!F31^2)/1000 -> 11.729325 | T31: =P31*'Specification & Data'!B$14*0.9 -> 46.469122 | U31: =T31/(IF(J31=1,'Specification & Data'!H$7,IF(Simulation!J31=2,'Specification & Data'!H$8,IF(Simulation!J31=3,'Specification & Data'!H$9)))) -> 2.7879083 | V31: =V30+(L31*F31/(1000*3600)) -> 0.0029235602 | W31: =W30+(IF(I31<0,AC31,0)) -> 0.0077991996 | X31: =(P31*F31)/1000 -> 1.1741556 | Y31: =X31*1000/(746) -> 1.5739351 | Z31: =(60*1000*X31)/(2*PI()*U31) -> 4021.7821 | AA31: =ROUND(U31,0) -> 3 | AB31: =MROUND(Z31,500) -> 4000 | AC31: =X31/3600 -> 0.00032615433 | AD31: =AD30+AC31 -> 0.0275133 | AE31: =(O31*G31)/1000 -> -41.776456 | AF31: =(O31*F31)/1000 -> -1.1741556 | AG31: =AF31*1000/(746) -> -1.5739351 | AH31: =INDEX('Specification & Data'!E$24:R$46,MATCH(Simulation!AA31,'Specification & Data'!D$24:D$46,0),MATCH(Simulation!AB31,'Specification & Data'!E$47:R$47,0)) -> 746.95257 | AI31: =AF31/3600 -> -0.00032615433 | AJ31: =AC31*AH31 -> 0.24362181 | AK31: =AK30+AJ31 -> 12.084689 | AL31: 2.3289729
B32: T1 start | C32: =C31+1 -> 30 | D32: 14 | E32: =F32*3.6 -> 22.530779 | F32: =D32/2.23694 -> 6.2585496 | G32: =G31+((F32+F31)/2) -> 245.06692 | H32: =(F32+F31)/2 -> 6.4820693 | I32: =(H32-F31)*2 -> -0.44703926 | J32: =IF(D32<=10,1,IF(AND(D32>10,D32<=20),2,IF(D32>20,3))) -> 2 | K32: 0 | L32: =('Specification & Data'!B$22*'Specification & Data'!B$10*'Specification & Data'!B$20*(Simulation!F32^2-'Specification & Data'!B$21^2))/2 -> 16.076682 | M32: =Q32*I32 -> -254.332 | N32: ='Specification & Data'!B$23*'Specification & Data'!B$18*8.91 -> 60.429669 | O32: =K32+L32+M32+N32 -> -177.82564 | P32: =IF(O32>=0,O32,IF(O32<0,-O32)) -> 177.82564 | Q32: =IF(J32=1,'Specification & Data'!B$52,IF(Simulation!J32=2,'Specification & Data'!B$53,IF(Simulation!J32=3,'Specification & Data'!B$54))) -> 568.92541 | R32: =(0.5*'Specification & Data'!B$18*Simulation!F32^2)/1000 -> 10.217545 | T32: =P32*'Specification & Data'!B$14*0.9 -> 47.19219 | U32: =T32/(IF(J32=1,'Specification & Data'!H$7,IF(Simulation!J32=2,'Specification & Data'!H$8,IF(Simulation!J32=3,'Specification & Data'!H$9)))) -> 2.8312887 | V32: =V31+(L32*F32/(1000*3600)) -> 0.0029515093 | W32: =W31+(IF(I32<0,AC32,0)) -> 0.008108347 | X32: =(P32*F32)/1000 -> 1.1129306 | Y32: =X32*1000/(746) -> 1.4918641 | Z32: =(60*1000*X32)/(2*PI()*U32) -> 3753.6633 | AA32: =ROUND(U32,0) -> 3 | AB32: =MROUND(Z32,500) -> 4000 | AC32: =X32/3600 -> 0.00030914739 | AD32: =AD31+AC32 -> 0.027822448 | AE32: =(O32*G32)/1000 -> -43.579183 | AF32: =(O32*F32)/1000 -> -1.1129306 | AG32: =AF32*1000/(746) -> -1.4918641 | AH32: =INDEX('Specification & Data'!E$24:R$46,MATCH(Simulation!AA32,'Specification & Data'!D$24:D$46,0),MATCH(Simulation!AB32,'Specification & Data'!E$47:R$47,0)) -> 746.95257 | AI32: =AF32/3600 -> -0.00030914739 | AJ32: =AC32*AH32 -> 0.23091844 | AK32: =AK31+AJ32 -> 12.315607 | AL32: 2.3289729
C33: =C32+1 -> 31 | D33: 14 | E33: =F33*3.6 -> 22.530779 | F33: =D33/2.23694 -> 6.2585496 | G33: =G32+((F33+F32)/2) -> 251.32547 | H33: =(F33+F32)/2 -> 6.2585496 | I33: =(H33-F32)*2 -> 0 | J33: =IF(D33<=10,1,IF(AND(D33>10,D33<=20),2,IF(D33>20,3))) -> 2 | K33: 0 | L33: =('Specification & Data'!B$22*'Specification & Data'!B$10*'Specification & Data'!B$20*(Simulation!F33^2-'Specification & Data'!B$21^2))/2 -> 16.076682 | M33: =Q33*I33 -> 0 | N33: ='Specification & Data'!B$23*'Specification & Data'!B$18*8.91 -> 60.429669 | O33: =K33+L33+M33+N33 -> 76.506352 | P33: =IF(O33>=0,O33,IF(O33<0,-O33)) -> 76.506352 | Q33: =IF(J33=1,'Specification & Data'!B$52,IF(Simulation!J33=2,'Specification & Data'!B$53,IF(Simulation!J33=3,'Specification & Data'!B$54))) -> 568.92541 | R33: =(0.5*'Specification & Data'!B$18*Simulation!F33^2)/1000 -> 10.217545 | T33: =P33*'Specification & Data'!B$14*0.9 -> 20.303609 | U33: =T33/(IF(J33=1,'Specification & Data'!H$7,IF(Simulation!J33=2,'Specification & Data'!H$8,IF(Simulation!J33=3,'Specification & Data'!H$9)))) -> 1.2181121 | V33: =V32+(L33*F33/(1000*3600)) -> 0.0029794584 | W33: =W32+(IF(I33<0,AC33,0)) -> 0.008108347 | X33: =(P33*F33)/1000 -> 0.4788188 | Y33: =X33*1000/(746) -> 0.64184826 | Z33: =(60*1000*X33)/(2*PI()*U33) -> 3753.6633 | AA33: =ROUND(U33,0) -> 1 | AB33: =MROUND(Z33,500) -> 4000 | AC33: =X33/3600 -> 0.00013300522 | AD33: =AD32+AC33 -> 0.027955453 | AE33: =(O33*G33)/1000 -> 19.227995 | AF33: =(O33*F33)/1000 -> 0.4788188 | AG33: =AF33*1000/(746) -> 0.64184826 | AH33: =INDEX('Specification & Data'!E$24:R$46,MATCH(Simulation!AA33,'Specification & Data'!D$24:D$46,0),MATCH(Simulation!AB33,'Specification & Data'!E$47:R$47,0)) -> 944.35123 | AI33: =AF33/3600 -> 0.00013300522 | AJ33: =AC33*AH33 -> 0.12560364 | AK33: =AK32+AJ33 -> 12.441211 | AL33: 2.3289729
C34: =C33+1 -> 32 | D34: 14 | E34: =F34*3.6 -> 22.530779 | F34: =D34/2.23694 -> 6.2585496 | G34: =G33+((F34+F33)/2) -> 257.58402 | H34: =(F34+F33)/2 -> 6.2585496 | I34: =(H34-F33)*2 -> 0 | J34: =IF(D34<=10,1,IF(AND(D34>10,D34<=20),2,IF(D34>20,3))) -> 2 | K34: 0 | L34: =('Specification & Data'!B$22*'Specification & Data'!B$10*'Specification & Data'!B$20*(Simulation!F34^2-'Specification & Data'!B$21^2))/2 -> 16.076682 | M34: =Q34*I34 -> 0 | N34: ='Specification & Data'!B$23*'Specification & Data'!B$18*8.91 -> 60.429669 | O34: =K34+L34+M34+N34 -> 76.506352 | P34: =IF(O34>=0,O34,IF(O34<0,-O34)) -> 76.506352 | Q34: =IF(J34=1,'Specification & Data'!B$52,IF(Simulation!J34=2,'Specification & Data'!B$53,IF(Simulation!J34=3,'Specification & Data'!B$54))) -> 568.92541 | R34: =(0.5*'Specification & Data'!B$18*Simulation!F34^2)/1000 -> 10.217545 | T34: =P34*'Specification & Data'!B$14*0.9 -> 20.303609 | U34: =T34/(IF(J34=1,'Specification & Data'!H$7,IF(Simulation!J34=2,'Specification & Data'!H$8,IF(Simulation!J34=3,'Specification & Data'!H$9)))) -> 1.2181121 | V34: =V33+(L34*F34/(1000*3600)) -> 0.0030074075 | W34: =W33+(IF(I34<0,AC34,0)) -> 0.008108347 | X34: =(P34*F34)/1000 -> 0.4788188 | Y34: =X34*1000/(746) -> 0.64184826 | Z34: =(60*1000*X34)/(2*PI()*U34) -> 3753.6633 | AA34: =ROUND(U34,0) -> 1 | AB34: =MROUND(Z34,500) -> 4000 | AC34: =X34/3600 -> 0.00013300522 | AD34: =AD33+AC34 -> 0.028088458 | AE34: =(O34*G34)/1000 -> 19.706814 | AF34: =(O34*F34)/1000 -> 0.4788188 | AG34: =AF34*1000/(746) -> 0.64184826 | AH34: =INDEX('Specification & Data'!E$24:R$46,MATCH(Simulation!AA34,'Specification & Data'!D$24:D$46,0),MATCH(Simulation!AB34,'Specification & Data'!E$47:R$47,0)) -> 944.35123 | AI34: =AF34/3600 -> 0.00013300522 | AJ34: =AC34*AH34 -> 0.12560364 | AK34: =AK33+AJ34 -> 12.566815 | AL34: 2.3289729
C35: =C34+1 -> 33 | D35: 14 | E35: =F35*3.6 -> 22.530779 | F35: =D35/2.23694 -> 6.2585496 | G35: =G34+((F35+F34)/2) -> 263.84257 | H35: =(F35+F34)/2 -> 6.2585496 | I35: =(H35-F34)*2 -> 0 | J35: =IF(D35<=10,1,IF(AND(D35>10,D35<=20),2,IF(D35>20,3))) -> 2 | K35: 0 | L35: =('Specification & Data'!B$22*'Specification & Data'!B$10*'Specification & Data'!B$20*(Simulation!F35^2-'Specification & Data'!B$21^2))/2 -> 16.076682 | M35: =Q35*I35 -> 0 | N35: ='Specification & Data'!B$23*'Specification & Data'!B$18*8.91 -> 60.429669 | O35: =K35+L35+M35+N35 -> 76.506352 | P35: =IF(O35>=0,O35,IF(O35<0,-O35)) -> 76.506352 | Q35: =IF(J35=1,'Specification & Data'!B$52,IF(Simulation!J35=2,'Specification & Data'!B$53,IF(Simulation!J35=3,'Specification & Data'!B$54))) -> 568.92541 | R35: =(0.5*'Specification & Data'!B$18*Simulation!F35^2)/1000 -> 10.217545 | T35: =P35*'Specification & Data'!B$14*0.9 -> 20.303609 | U35: =T35/(IF(J35=1,'Specification & Data'!H$7,IF(Simulation!J35=2,'Specification & Data'!H$8,IF(Simulation!J35=3,'Specification & Data'!H$9)))) -> 1.2181121 | V35: =V34+(L35*F35/(1000*3600)) -> 0.0030353566 | W35: =W34+(IF(I35<0,AC35,0)) -> 0.008108347 | X35: =(P35*F35)/1000 -> 0.4788188 | Y35: =X35*1000/(746) -> 0.64184826 | Z35: =(60*1000*X35)/(2*PI()*U35) -> 3753.6633 | AA35: =ROUND(U35,0) -> 1 | AB35: =MROUND(Z35,500) -> 4000 | AC35: =X35/3600 -> 0.00013300522 | AD35: =AD34+AC35 -> 0.028221463 | AE35: =(O35*G35)/1000 -> 20.185633 | AF35: =(O35*F35)/1000 -> 0.4788188 | AG35: =AF35*1000/(746) -> 0.64184826 | AH35: =INDEX('Specification & Data'!E$24:R$46,MATCH(Simulation!AA35,'Specification & Data'!D$24:D$46,0),MATCH(Simulation!AB35,'Specification & Data'!E$47:R$47,0)) -> 944.35123 | AI35: =AF35/3600 -> 0.00013300522 | AJ35: =AC35*AH35 -> 0.12560364 | AK35: =AK34+AJ35 -> 12.692418 | AL35: 2.3289729
C36: =C35+1 -> 34 | D36: 14 | E36: =F36*3.6 -> 22.530779 | F36: =D36/2.23694 -> 6.2585496 | G36: =G35+((F36+F35)/2) -> 270.10112 | H36: =(F36+F35)/2 -> 6.2585496 | I36: =(H36-F35)*2 -> 0 | J36: =IF(D36<=10,1,IF(AND(D36>10,D36<=20),2,IF(D36>20,3))) -> 2 | K36: 0 | L36: =('Specification & Data'!B$22*'Specification & Data'!B$10*'Specification & Data'!B$20*(Simulation!F36^2-'Specification & Data'!B$21^2))/2 -> 16.076682 | M36: =Q36*I36 -> 0 | N36: ='Specification & Data'!B$23*'Specification & Data'!B$18*8.91 -> 60.429669 | O36: =K36+L36+M36+N36 -> 76.506352 | P36: =IF(O36>=0,O36,IF(O36<0,-O36)) -> 76.506352 | Q36: =IF(J36=1,'Specification & Data'!B$52,IF(Simulation!J36=2,'Specification & Data'!B$53,IF(Simulation!J36=3,'Specification & Data'!B$54))) -> 568.92541 | R36: =(0.5*'Specification & Data'!B$18*Simulation!F36^2)/1000 -> 10.217545 | T36: =P36*'Specification & Data'!B$14*0.9 -> 20.303609 | U36: =T36/(IF(J36=1,'Specification & Data'!H$7,IF(Simulation!J36=2,'Specification & Data'!H$8,IF(Simulation!J36=3,'Specification & Data'!H$9)))) -> 1.2181121 | V36: =V35+(L36*F36/(1000*3600)) -> 0.0030633056 | W36: =W35+(IF(I36<0,AC36,0)) -> 0.008108347 | X36: =(P36*F36)/1000 -> 0.4788188 | Y36: =X36*1000/(746) -> 0.64184826 | Z36: =(60*1000*X36)/(2*PI()*U36) -> 3753.6633 | AA36: =ROUND(U36,0) -> 1 | AB36: =MROUND(Z36,500) -> 4000 | AC36: =X36/3600 -> 0.00013300522 | AD36: =AD35+AC36 -> 0.028354469 | AE36: =(O36*G36)/1000 -> 20.664451 | AF36: =(O36*F36)/1000 -> 0.4788188 | AG36: =AF36*1000/(746) -> 0.64184826 | AH36: =INDEX('Specification & Data'!E$24:R$46,MATCH(Simulation!AA36,'Specification & Data'!D$24:D$46,0),MATCH(Simulation!AB36,'Specification & Data'!E$47:R$47,0)) -> 944.35123 | AI36: =AF36/3600 -> 0.00013300522 | AJ36: =AC36*AH36 -> 0.12560364 | AK36: =AK35+AJ36 -> 12.818022 | AL36: 2.3289729
C37: =C36+1 -> 35 | D37: 14 | E37: =F37*3.6 -> 22.530779 | F37: =D37/2.23694 -> 6.2585496 | G37: =G36+((F37+F36)/2) -> 276.35967 | H37: =(F37+F36)/2 -> 6.2585496 | I37: =(H37-F36)*2 -> 0 | J37: =IF(D37<=10,1,IF(AND(D37>10,D37<=20),2,IF(D37>20,3))) -> 2 | K37: 0 | L37: =('Specification & Data'!B$22*'Specification & Data'!B$10*'Specification & Data'!B$20*(Simulation!F37^2-'Specification & Data'!B$21^2))/2 -> 16.076682 | M37: =Q37*I37 -> 0 | N37: ='Specification & Data'!B$23*'Specification & Data'!B$18*8.91 -> 60.429669 | O37: =K37+L37+M37+N37 -> 76.506352 | P37: =IF(O37>=0,O37,IF(O37<0,-O37)) -> 76.506352 | Q37: =IF(J37=1,'Specification & Data'!B$52,IF(Simulation!J37=2,'Specification & Data'!B$53,IF(Simulation!J37=3,'Specification & Data'!B$54))) -> 568.92541 | R37: =(0.5*'Specification & Data'!B$18*Simulation!F37^2)/1000 -> 10.217545 | T37: =P37*'Specification & Data'!B$14*0.9 -> 20.303609 | U37: =T37/(IF(J37=1,'Specification & Data'!H$7,IF(Simulation!J37=2,'Specification & Data'!H$8,IF(Simulation!J37=3,'Specification & Data'!H$9)))) -> 1.2181121 | V37: =V36+(L37*F37/(1000*3600)) -> 0.0030912547 | W37: =W36+(IF(I37<0,AC37,0)) -> 0.008108347 | X37: =(P37*F37)/1000 -> 0.4788188 | Y37: =X37*1000/(746) -> 0.64184826 | Z37: =(60*1000*X37)/(2*PI()*U37) -> 3753.6633 | AA37: =ROUND(U37,0) -> 1 | AB37: =MROUND(Z37,500) -> 4000 | AC37: =X37/3600 -> 0.00013300522 | AD37: =AD36+AC37 -> 0.028487474 | AE37: =(O37*G37)/1000 -> 21.14327 | AF37: =(O37*F37)/1000 -> 0.4788188 | AG37: =AF37*1000/(746) -> 0.64184826 | AH37: =INDEX('Specification & Data'!E$24:R$46,MATCH(Simulation!AA37,'Specification & Data'!D$24:D$46,0),MATCH(Simulation!AB37,'Specification & Data'!E$47:R$47,0)) -> 944.35123 | AI37: =AF37/3600 -> 0.00013300522 | AJ37: =AC37*AH37 -> 0.12560364 | AK37: =AK36+AJ37 -> 12.943626 | AL37: 2.3289729
C38: =C37+1 -> 36 | D38: 14 | E38: =F38*3.6 -> 22.530779 | F38: =D38/2.23694 -> 6.2585496 | G38: =G37+((F38+F37)/2) -> 282.61822 | H38: =(F38+F37)/2 -> 6.2585496 | I38: =(H38-F37)*2 -> 0 | J38: =IF(D38<=10,1,IF(AND(D38>10,D38<=20),2,IF(D38>20,3))) -> 2 | K38: 0 | L38: =('Specification & Data'!B$22*'Specification & Data'!B$10*'Specification & Data'!B$20*(Simulation!F38^2-'Specification & Data'!B$21^2))/2 -> 16.076682 | M38: =Q38*I38 -> 0 | N38: ='Specification & Data'!B$23*'Specification & Data'!B$18*8.91 -> 60.429669 | O38: =K38+L38+M38+N38 -> 76.506352 | P38: =IF(O38>=0,O38,IF(O38<0,-O38)) -> 76.506352 | Q38: =IF(J38=1,'Specification & Data'!B$52,IF(Simulation!J38=2,'Specification & Data'!B$53,IF(Simulation!J38=3,'Specification & Data'!B$54))) -> 568.92541 | R38: =(0.5*'Specification & Data'!B$18*Simulation!F38^2)/1000 -> 10.217545 | T38: =P38*'Specification & Data'!B$14*0.9 -> 20.303609 | U38: =T38/(IF(J38=1,'Specification & Data'!H$7,IF(Simulation!J38=2,'Specification & Data'!H$8,IF(Simulation!J38=3,'Specification & Data'!H$9)))) -> 1.2181121 | V38: =V37+(L38*F38/(1000*3600)) -> 0.0031192038 | W38: =W37+(IF(I38<0,AC38,0)) -> 0.008108347 | X38: =(P38*F38)/1000 -> 0.4788188 | Y38: =X38*1000/(746) -> 0.64184826 | Z38: =(60*1000*X38)/(2*PI()*U38) -> 3753.6633 | AA38: =ROUND(U38,0) -> 1 | AB38: =MROUND(Z38,500) -> 4000 | AC38: =X38/3600 -> 0.00013300522 | AD38: =AD37+AC38 -> 0.028620479 | AE38: =(O38*G38)/1000 -> 21.622089 | AF38: =(O38*F38)/1000 -> 0.4788188 | AG38: =AF38*1000/(746) -> 0.64184826 | AH38: =INDEX('Specification & Data'!E$24:R$46,MATCH(Simulation!AA38,'Specification & Data'!D$24:D$46,0),MATCH(Simulation!AB38,'Specification & Data'!E$47:R$47,0)) -> 944.35123 | AI38: =AF38/3600 -> 0.00013300522 | AJ38: =AC38*AH38 -> 0.12560364 | AK38: =AK37+AJ38 -> 13.069229 | AL38: 2.3289729
C39: =C38+1 -> 37 | D39: 14 | E39: =F39*3.6 -> 22.530779 | F39: =D39/2.23694 -> 6.2585496 | G39: =G38+((F39+F38)/2) -> 288.87677 | H39: =(F39+F38)/2 -> 6.2585496 | I39: =(H39-F38)*2 -> 0 | J39: =IF(D39<=10,1,IF(AND(D39>10,D39<=20),2,IF(D39>20,3))) -> 2 | K39: 0 | L39: =('Specification & Data'!B$22*'Specification & Data'!B$10*'Specification & Data'!B$20*(Simulation!F39^2-'Specification & Data'!B$21^2))/2 -> 16.076682 | M39: =Q39*I39 -> 0 | N39: ='Specification & Data'!B$23*'Specification & Data'!B$18*8.91 -> 60.429669 | O39: =K39+L39+M39+N39 -> 76.506352 | P39: =IF(O39>=0,O39,IF(O39<0,-O39)) -> 76.506352 | Q39: =IF(J39=1,'Specification & Data'!B$52,IF(Simulation!J39=2,'Specification & Data'!B$53,IF(Simulation!J39=3,'Specification & Data'!B$54))) -> 568.92541 | R39: =(0.5*'Specification & Data'!B$18*Simulation!F39^2)/1000 -> 10.217545 | T39: =P39*'Specification & Data'!B$14*0.9 -> 20.303609 | U39: =T39/(IF(J39=1,'Specification & Data'!H$7,IF(Simulation!J39=2,'Specification & Data'!H$8,IF(Simulation!J39=3,'Specification & Data'!H$9)))) -> 1.2181121 | V39: =V38+(L39*F39/(1000*3600)) -> 0.0031471529 | W39: =W38+(IF(I39<0,AC39,0)) -> 0.008108347 | X39: =(P39*F39)/1000 -> 0.4788188 | Y39: =X39*1000/(746) -> 0.64184826 | Z39: =(60*1000*X39)/(2*PI()*U39) -> 3753.6633 | AA39: =ROUND(U39,0) -> 1 | AB39: =MROUND(Z39,500) -> 4000 | AC39: =X39/3600 -> 0.00013300522 | AD39: =AD38+AC39 -> 0.028753484 | AE39: =(O39*G39)/1000 -> 22.100908 | AF39: =(O39*F39)/1000 -> 0.4788188 | AG39: =AF39*1000/(746) -> 0.64184826 | AH39: =INDEX('Specification & Data'!E$24:R$46,MATCH(Simulation!AA39,'Specification & Data'!D$24:D$46,0),MATCH(Simulation!AB39,'Specification & Data'!E$47:R$47,0)) -> 944.35123 | AI39: =AF39/3600 -> 0.00013300522 | AJ39: =AC39*AH39 -> 0.12560364 | AK39: =AK38+AJ39 -> 13.194833 | AL39: 2.3289729
C40: =C39+1 -> 38 | D40: 14 | E40: =F40*3.6 -> 22.530779 | F40: =D40/2.23694 -> 6.2585496 | G40: =G39+((F40+F39)/2) -> 295.13532 | H40: =(F40+F39)/2 -> 6.2585496 | I40: =(H40-F39)*2 -> 0 | J40: =IF(D40<=10,1,IF(AND(D40>10,D40<=20),2,IF(D40>20,3))) -> 2 | K40: 0 | L40: =('Specification & Data'!B$22*'Specification & Data'!B$10*'Specification & Data'!B$20*(Simulation!F40^2-'Specification & Data'!B$21^2))/2 -> 16.076682 | M40: =Q40*I40 -> 0 | N40: ='Specification & Data'!B$23*'Specification & Data'!B$18*8.91 -> 60.429669 | O40: =K40+L40+M40+N40 -> 76.506352 | P40: =IF(O40>=0,O40,IF(O40<0,-O40)) -> 76.506352 | Q40: =IF(J40=1,'Specification & Data'!B$52,IF(Simulation!J40=2,'Specification & Data'!B$53,IF(Simulation!J40=3,'Specification & Data'!B$54))) -> 568.92541 | R40: =(0.5*'Specification & Data'!B$18*Simulation!F40^2)/1000 -> 10.217545 | T40: =P40*'Specification & Data'!B$14*0.9 -> 20.303609 | U40: =T40/(IF(J40=1,'Specification & Data'!H$7,IF(Simulation!J40=2,'Specification & Data'!H$8,IF(Simulation!J40=3,'Specification & Data'!H$9)))) -> 1.2181121 | V40: =V39+(L40*F40/(1000*3600)) -> 0.003175102 | W40: =W39+(IF(I40<0,AC40,0)) -> 0.008108347 | X40: =(P40*F40)/1000 -> 0.4788188 | Y40: =X40*1000/(746) -> 0.64184826 | Z40: =(60*1000*X40)/(2*PI()*U40) -> 3753.6633 | AA40: =ROUND(U40,0) -> 1 | AB40: =MROUND(Z40,500) -> 4000 | AC40: =X40/3600 -> 0.00013300522 | AD40: =AD39+AC40 -> 0.02888649 | AE40: =(O40*G40)/1000 -> 22.579727 | AF40: =(O40*F40)/1000 -> 0.4788188 | AG40: =AF40*1000/(746) -> 0.64184826 | AH40: =INDEX('Specification & Data'!E$24:R$46,MATCH(Simulation!AA40,'Specification & Data'!D$24:D$46,0),MATCH(Simulation!AB40,'Specification & Data'!E$47:R$47,0)) -> 944.35123 | AI40: =AF40/3600 -> 0.00013300522 | AJ40: =AC40*AH40 -> 0.12560364 | AK40: =AK39+AJ40 -> 13.320437 | AL40: 2.3289729
C41: =C40+1 -> 39 | D41: 14 | E41: =F41*3.6 -> 22.530779 | F41: =D41/2.23694 -> 6.2585496 | G41: =G40+((F41+F40)/2) -> 301.39387 | H41: =(F41+F40)/2 -> 6.2585496 | I41: =(H41-F40)*2 -> 0 | J41: =IF(D41<=10,1,IF(AND(D41>10,D41<=20),2,IF(D41>20,3))) -> 2 | K41: 0 | L41: =('Specification & Data'!B$22*'Specification & Data'!B$10*'Specification & Data'!B$20*(Simulation!F41^2-'Specification & Data'!B$21^2))/2 -> 16.076682 | M41: =Q41*I41 -> 0 | N41: ='Specification & Data'!B$23*'Specification & Data'!B$18*8.91 -> 60.429669 | O41: =K41+L41+M41+N41 -> 76.506352 | P41: =IF(O41>=0,O41,IF(O41<0,-O41)) -> 76.506352 | Q41: =IF(J41=1,'Specification & Data'!B$52,IF(Simulation!J41=2,'Specification & Data'!B$53,IF(Simulation!J41=3,'Specification & Data'!B$54))) -> 568.92541 | R41: =(0.5*'Specification & Data'!B$18*Simulation!F41^2)/1000 -> 10.217545 | T41: =P41*'Specification & Data'!B$14*0.9 -> 20.303609 | U41: =T41/(IF(J41=1,'Specification & Data'!H$7,IF(Simulation!J41=2,'Specification & Data'!H$8,IF(Simulation!J41=3,'Specification & Data'!H$9)))) -> 1.2181121 | V41: =V40+(L41*F41/(1000*3600)) -> 0.0032030511 | W41: =W40+(IF(I41<0,AC41,0)) -> 0.008108347 | X41: =(P41*F41)/1000 -> 0.4788188 | Y41: =X41*1000/(746) -> 0.64184826 | Z41: =(60*1000*X41)/(2*PI()*U41) -> 3753.6633 | AA41: =ROUND(U41,0) -> 1 | AB41: =MROUND(Z41,500) -> 4000 | AC41: =X41/3600 -> 0.00013300522 | AD41: =AD40+AC41 -> 0.029019495 | AE41: =(O41*G41)/1000 -> 23.058545 | AF41: =(O41*F41)/1000 -> 0.4788188 | AG41: =AF41*1000/(746) -> 0.64184826 | AH41: =INDEX('Specification & Data'!E$24:R$46,MATCH(Simulation!AA41,'Specification & Data'!D$24:D$46,0),MATCH(Simulation!AB41,'Specification & Data'!E$47:R$47,0)) -> 944.35123 | AI41: =AF41/3600 -> 0.00013300522 | AJ41: =AC41*AH41 -> 0.12560364 | AK41: =AK40+AJ41 -> 13.44604 | AL41: 2.3289729
C42: =C41+1 -> 40 | D42: 14 | E42: =F42*3.6 -> 22.530779 | F42: =D42/2.23694 -> 6.2585496 | G42: =G41+((F42+F41)/2) -> 307.65242 | H42: =(F42+F41)/2 -> 6.2585496 | I42: =(H42-F41)*2 -> 0 | J42: =IF(D42<=10,1,IF(AND(D42>10,D42<=20),2,IF(D42>20,3))) -> 2 | K42: 0 | L42: =('Specification & Data'!B$22*'Specification & Data'!B$10*'Specification & Data'!B$20*(Simulation!F42^2-'Specification & Data'!B$21^2))/2 -> 16.076682 | M42: =Q42*I42 -> 0 | N42: ='Specification & Data'!B$23*'Specification & Data'!B$18*8.91 -> 60.429669 | O42: =K42+L42+M42+N42 -> 76.506352 | P42: =IF(O42>=0,O42,IF(O42<0,-O42)) -> 76.506352 | Q42: =IF(J42=1,'Specification & Data'!B$52,IF(Simulation!J42=2,'Specification & Data'!B$53,IF(Simulation!J42=3,'Specification & Data'!B$54))) -> 568.92541 | R42: =(0.5*'Specification & Data'!B$18*Simulation!F42^2)/1000 -> 10.217545 | T42: =P42*'Specification & Data'!B$14*0.9 -> 20.303609 | U42: =T42/(IF(J42=1,'Specification & Data'!H$7,IF(Simulation!J42=2,'Specification & Data'!H$8,IF(Simulation!J42=3,'Specification & Data'!H$9)))) -> 1.2181121 | V42: =V41+(L42*F42/(1000*3600)) -> 0.0032310002 | W42: =W41+(IF(I42<0,AC42,0)) -> 0.008108347 | X42: =(P42*F42)/1000 -> 0.4788188 | Y42: =X42*1000/(746) -> 0.64184826 | Z42: =(60*1000*X42)/(2*PI()*U42) -> 3753.6633 | AA42: =ROUND(U42,0) -> 1 | AB42: =MROUND(Z42,500) -> 4000 | AC42: =X42/3600 -> 0.00013300522 | AD42: =AD41+AC42 -> 0.0291525 | AE42: =(O42*G42)/1000 -> 23.537364 | AF42: =(O42*F42)/1000 -> 0.4788188 | AG42: =AF42*1000/(746) -> 0.64184826 | AH42: =INDEX('Specification & Data'!E$24:R$46,MATCH(Simulation!AA42,'Specification & Data'!D$24:D$46,0),MATCH(Simulation!AB42,'Specification & Data'!E$47:R$47,0)) -> 944.35123 | AI42: =AF42/3600 -> 0.00013300522 | AJ42: =AC42*AH42 -> 0.12560364 | AK42: =AK41+AJ42 -> 13.571644 | AL42: 2.3289729
C43: =C42+1 -> 41 | D43: 14 | E43: =F43*3.6 -> 22.530779 | F43: =D43/2.23694 -> 6.2585496 | G43: =G42+((F43+F42)/2) -> 313.91097 | H43: =(F43+F42)/2 -> 6.2585496 | I43: =(H43-F42)*2 -> 0 | J43: =IF(D43<=10,1,IF(AND(D43>10,D43<=20),2,IF(D43>20,3))) -> 2 | K43: 0 | L43: =('Specification & Data'!B$22*'Specification & Data'!B$10*'Specification & Data'!B$20*(Simulation!F43^2-'Specification & Data'!B$21^2))/2 -> 16.076682 | M43: =Q43*I43 -> 0 | N43: ='Specification & Data'!B$23*'Specification & Data'!B$18*8.91 -> 60.429669 | O43: =K43+L43+M43+N43 -> 76.506352 | P43: =IF(O43>=0,O43,IF(O43<0,-O43)) -> 76.506352 | Q43: =IF(J43=1,'Specification & Data'!B$52,IF(Simulation!J43=2,'Specification & Data'!B$53,IF(Simulation!J43=3,'Specification & Data'!B$54))) -> 568.92541 | R43: =(0.5*'Specification & Data'!B$18*Simulation!F43^2)/1000 -> 10.217545 | T43: =P43*'Specification & Data'!B$14*0.9 -> 20.303609 | U43: =T43/(IF(J43=1,'Specification & Data'!H$7,IF(Simulation!J43=2,'Specification & Data'!H$8,IF(Simulation!J43=3,'Specification & Data'!H$9)))) -> 1.2181121 | V43: =V42+(L43*F43/(1000*3600)) -> 0.0032589493 | W43: =W42+(IF(I43<0,AC43,0)) -> 0.008108347 | X43: =(P43*F43)/1000 -> 0.4788188 | Y43: =X43*1000/(746) -> 0.64184826 | Z43: =(60*1000*X43)/(2*PI()*U43) -> 3753.6633 | AA43: =ROUND(U43,0) -> 1 | AB43: =MROUND(Z43,500) -> 4000 | AC43: =X43/3600 -> 0.00013300522 | AD43: =AD42+AC43 -> 0.029285505 | AE43: =(O43*G43)/1000 -> 24.016183 | AF43: =(O43*F43)/1000 -> 0.4788188 | AG43: =AF43*1000/(746) -> 0.64184826 | AH43: =INDEX('Specification & Data'!E$24:R$46,MATCH(Simulation!AA43,'Specification & Data'!D$24:D$46,0),MATCH(Simulation!AB43,'Specification & Data'!E$47:R$47,0)) -> 944.35123 | AI43: =AF43/3600 -> 0.00013300522 | AJ43: =AC43*AH43 -> 0.12560364 | AK43: =AK42+AJ43 -> 13.697248 | AL43: 2.3289729
C44: =C43+1 -> 42 | D44: 14 | E44: =F44*3.6 -> 22.530779 | F44: =D44/2.23694 -> 6.2585496 | G44: =G43+((F44+F43)/2) -> 320.16952 | H44: =(F44+F43)/2 -> 6.2585496 | I44: =(H44-F43)*2 -> 0 | J44: =IF(D44<=10,1,IF(AND(D44>10,D44<=20),2,IF(D44>20,3))) -> 2 | K44: 0 | L44: =('Specification & Data'!B$22*'Specification & Data'!B$10*'Specification & Data'!B$20*(Simulation!F44^2-'Specification & Data'!B$21^2))/2 -> 16.076682 | M44: =Q44*I44 -> 0 | N44: ='Specification & Data'!B$23*'Specification & Data'!B$18*8.91 -> 60.429669 | O44: =K44+L44+M44+N44 -> 76.506352 | P44: =IF(O44>=0,O44,IF(O44<0,-O44)) -> 76.506352 | Q44: =IF(J44=1,'Specification & Data'!B$52,IF(Simulation!J44=2,'Specification & Data'!B$53,IF(Simulation!J44=3,'Specification & Data'!B$54))) -> 568.92541 | R44: =(0.5*'Specification & Data'!B$18*Simulation!F44^2)/1000 -> 10.217545 | T44: =P44*'Specification & Data'!B$14*0.9 -> 20.303609 | U44: =T44/(IF(J44=1,'Specification & Data'!H$7,IF(Simulation!J44=2,'Specification & Data'!H$8,IF(Simulation!J44=3,'Specification & Data'!H$9)))) -> 1.2181121 | V44: =V43+(L44*F44/(1000*3600)) -> 0.0032868983 | W44: =W43+(IF(I44<0,AC44,0)) -> 0.008108347 | X44: =(P44*F44)/1000 -> 0.4788188 | Y44: =X44*1000/(746) -> 0.64184826 | Z44: =(60*1000*X44)/(2*PI()*U44) -> 3753.6633 | AA44: =ROUND(U44,0) -> 1 | AB44: =MROUND(Z44,500) -> 4000 | AC44: =X44/3600 -> 0.00013300522 | AD44: =AD43+AC44 -> 0.02941851 | AE44: =(O44*G44)/1000 -> 24.495002 | AF44: =(O44*F44)/1000 -> 0.4788188 | AG44: =AF44*1000/(746) -> 0.64184826 | AH44: =INDEX('Specification & Data'!E$24:R$46,MATCH(Simulation!AA44,'Specification & Data'!D$24:D$46,0),MATCH(Simulation!AB44,'Specification & Data'!E$47:R$47,0)) -> 944.35123 | AI44: =AF44/3600 -> 0.00013300522 | AJ44: =AC44*AH44 -> 0.12560364 | AK44: =AK43+AJ44 -> 13.822851 | AL44: 2.3289729
C45: =C44+1 -> 43 | D45: 14 | E45: =F45*3.6 -> 22.530779 | F45: =D45/2.23694 -> 6.2585496 | G45: =G44+((F45+F44)/2) -> 326.42807 | H45: =(F45+F44)/2 -> 6.2585496 | I45: =(H45-F44)*2 -> 0 | J45: =IF(D45<=10,1,IF(AND(D45>10,D45<=20),2,IF(D45>20,3))) -> 2 | K45: 0 | L45: =('Specification & Data'!B$22*'Specification & Data'!B$10*'Specification & Data'!B$20*(Simulation!F45^2-'Specification & Data'!B$21^2))/2 -> 16.076682 | M45: =Q45*I45 -> 0 | N45: ='Specification & Data'!B$23*'Specification & Data'!B$18*8.91 -> 60.429669 | O45: =K45+L45+M45+N45 -> 76.506352 | P45: =IF(O45>=0,O45,IF(O45<0,-O45)) -> 76.506352 | Q45: =IF(J45=1,'Specification & Data'!B$52,IF(Simulation!J45=2,'Specification & Data'!B$53,IF(Simulation!J45=3,'Specification & Data'!B$54))) -> 568.92541 | R45: =(0.5*'Specification & Data'!B$18*Simulation!F45^2)/1000 -> 10.217545 | T45: =P45*'Specification & Data'!B$14*0.9 -> 20.303609 | U45: =T45/(IF(J45=1,'Specification & Data'!H$7,IF(Simulation!J45=2,'Specification & Data'!H$8,IF(Simulation!J45=3,'Specification & Data'!H$9)))) -> 1.2181121 | V45: =V44+(L45*F45/(1000*3600)) -> 0.0033148474 | W45: =W44+(IF(I45<0,AC45,0)) -> 0.008108347 | X45: =(P45*F45)/1000 -> 0.4788188 | Y45: =X45*1000/(746) -> 0.64184826 | Z45: =(60*1000*X45)/(2*PI()*U45) -> 3753.6633 | AA45: =ROUND(U45,0) -> 1 | AB45: =MROUND(Z45,500) -> 4000 | AC45: =X45/3600 -> 0.00013300522 | AD45: =AD44+AC45 -> 0.029551516 | AE45: =(O45*G45)/1000 -> 24.973821 | AF45: =(O45*F45)/1000 -> 0.4788188 | AG45: =AF45*1000/(746) -> 0.64184826 | AH45: =INDEX('Specification & Data'!E$24:R$46,MATCH(Simulation!AA45,'Specification & Data'!D$24:D$46,0),MATCH(Simulation!AB45,'Specification & Data'!E$47:R$47,0)) -> 944.35123 | AI45: =AF45/3600 -> 0.00013300522 | AJ45: =AC45*AH45 -> 0.12560364 | AK45: =AK44+AJ45 -> 13.948455 | AL45: 2.3289729
B46: T1 finish | C46: =C45+1 -> 44 | D46: 14 | E46: =F46*3.6 -> 22.530779 | F46: =D46/2.23694 -> 6.2585496 | G46: =G45+((F46+F45)/2) -> 332.68662 | H46: =(F46+F45)/2 -> 6.2585496 | I46: =(H46-F45)*2 -> 0 | J46: =IF(D46<=10,1,IF(AND(D46>10,D46<=20),2,IF(D46>20,3))) -> 2 | K46: 0 | L46: =('Specification & Data'!B$22*'Specification & Data'!B$10*'Specification & Data'!B$20*(Simulation!F46^2-'Specification & Data'!B$21^2))/2 -> 16.076682 | M46: =Q46*I46 -> 0 | N46: ='Specification & Data'!B$23*'Specification & Data'!B$18*8.91 -> 60.429669 | O46: =K46+L46+M46+N46 -> 76.506352 | P46: =IF(O46>=0,O46,IF(O46<0,-O46)) -> 76.506352 | Q46: =IF(J46=1,'Specification & Data'!B$52,IF(Simulation!J46=2,'Specification & Data'!B$53,IF(Simulation!J46=3,'Specification & Data'!B$54))) -> 568.92541 | R46: =(0.5*'Specification & Data'!B$18*Simulation!F46^2)/1000 -> 10.217545 | T46: =P46*'Specification & Data'!B$14*0.9 -> 20.303609 | U46: =T46/(IF(J46=1,'Specification & Data'!H$7,IF(Simulation!J46=2,'Specification & Data'!H$8,IF(Simulation!J46=3,'Specification & Data'!H$9)))) -> 1.2181121 | V46: =V45+(L46*F46/(1000*3600)) -> 0.0033427965 | W46: =W45+(IF(I46<0,AC46,0)) -> 0.008108347 | X46: =(P46*F46)/1000 -> 0.4788188 | Y46: =X46*1000/(746) -> 0.64184826 | Z46: =(60*1000*X46)/(2*PI()*U46) -> 3753.6633 | AA46: =ROUND(U46,0) -> 1 | AB46: =MROUND(Z46,500) -> 4000 | AC46: =X46/3600 -> 0.00013300522 | AD46: =AD45+AC46 -> 0.029684521 | AE46: =(O46*G46)/1000 -> 25.452639 | AF46: =(O46*F46)/1000 -> 0.4788188 | AG46: =AF46*1000/(746) -> 0.64184826 | AH46: =INDEX('Specification & Data'!E$24:R$46,MATCH(Simulation!AA46,'Specification & Data'!D$24:D$46,0),MATCH(Simulation!AB46,'Specification & Data'!E$47:R$47,0)) -> 944.35123 | AI46: =AF46/3600 -> 0.00013300522 | AJ46: =AC46*AH46 -> 0.12560364 | AK46: =AK45+AJ46 -> 14.074058 | AL46: 2.3289729
C47: =C46+1 -> 45 | D47: 15 | E47: =F47*3.6 -> 24.14012 | F47: =D47/2.23694 -> 6.7055889 | G47: =G46+((F47+F46)/2) -> 339.16869 | H47: =(F47+F46)/2 -> 6.4820693 | I47: =(H47-F46)*2 -> 0.44703926 | J47: =IF(D47<=10,1,IF(AND(D47>10,D47<=20),2,IF(D47>20,3))) -> 2 | K47: 0 | L47: =('Specification & Data'!B$22*'Specification & Data'!B$10*'Specification & Data'!B$20*(Simulation!F47^2-'Specification & Data'!B$21^2))/2 -> 18.801287 | M47: =Q47*I47 -> 254.332 | N47: ='Specification & Data'!B$23*'Specification & Data'!B$18*8.91 -> 60.429669 | O47: =K47+L47+M47+N47 -> 333.56295 | P47: =IF(O47>=0,O47,IF(O47<0,-O47)) -> 333.56295 | Q47: =IF(J47=1,'Specification & Data'!B$52,IF(Simulation!J47=2,'Specification & Data'!B$53,IF(Simulation!J47=3,'Specification & Data'!B$54))) -> 568.92541 | R47: =(0.5*'Specification & Data'!B$18*Simulation!F47^2)/1000 -> 11.729325 | T47: =P47*'Specification & Data'!B$14*0.9 -> 88.522476 | U47: =T47/(IF(J47=1,'Specification & Data'!H$7,IF(Simulation!J47=2,'Specification & Data'!H$8,IF(Simulation!J47=3,'Specification & Data'!H$9)))) -> 5.3108933 | V47: =V46+(L47*F47/(1000*3600)) -> 0.003377817 | W47: =W46+(IF(I47<0,AC47,0)) -> 0.008108347 | X47: =(P47*F47)/1000 -> 2.236736 | Y47: =X47*1000/(746) -> 2.9983057 | Z47: =(60*1000*X47)/(2*PI()*U47) -> 4021.7821 | AA47: =ROUND(U47,0) -> 5 | AB47: =MROUND(Z47,500) -> 4000 | AC47: =X47/3600 -> 0.00062131556 | AD47: =AD46+AC47 -> 0.030305836 | AE47: =(O47*G47)/1000 -> 113.13411 | AF47: =(O47*F47)/1000 -> 2.236736 | AG47: =AF47*1000/(746) -> 2.9983057 | AH47: =INDEX('Specification & Data'!E$24:R$46,MATCH(Simulation!AA47,'Specification & Data'!D$24:D$46,0),MATCH(Simulation!AB47,'Specification & Data'!E$47:R$47,0)) -> 651.64145 | AI47: =AF47/3600 -> 0.00062131556 | AJ47: =AC47*AH47 -> 0.40487497 | AK47: =AK46+AJ47 -> 14.478933 | AL47: 2.3289729
C48: =C47+1 -> 46 | D48: 16.5 | E48: =F48*3.6 -> 26.554132 | F48: =D48/2.23694 -> 7.3761478 | G48: =G47+((F48+F47)/2) -> 346.20955 | H48: =(F48+F47)/2 -> 7.0408683 | I48: =(H48-F47)*2 -> 0.67055889 | J48: =IF(D48<=10,1,IF(AND(D48>10,D48<=20),2,IF(D48>20,3))) -> 2 | K48: 0 | L48: =('Specification & Data'!B$22*'Specification & Data'!B$10*'Specification & Data'!B$20*(Simulation!F48^2-'Specification & Data'!B$21^2))/2 -> 23.240515 | M48: =Q48*I48 -> 381.49799 | N48: ='Specification & Data'!B$23*'Specification & Data'!B$18*8.91 -> 60.429669 | O48: =K48+L48+M48+N48 -> 465.16818 | P48: =IF(O48>=0,O48,IF(O48<0,-O48)) -> 465.16818 | Q48: =IF(J48=1,'Specification & Data'!B$52,IF(Simulation!J48=2,'Specification & Data'!B$53,IF(Simulation!J48=3,'Specification & Data'!B$54))) -> 568.92541 | R48: =(0.5*'Specification & Data'!B$18*Simulation!F48^2)/1000 -> 14.192483 | T48: =P48*'Specification & Data'!B$14*0.9 -> 123.44848 | U48: =T48/(IF(J48=1,'Specification & Data'!H$7,IF(Simulation!J48=2,'Specification & Data'!H$8,IF(Simulation!J48=3,'Specification & Data'!H$9)))) -> 7.4062738 | V48: =V47+(L48*F48/(1000*3600)) -> 0.0034254352 | W48: =W47+(IF(I48<0,AC48,0)) -> 0.008108347 | X48: =(P48*F48)/1000 -> 3.4311492 | Y48: =X48*1000/(746) -> 4.5993957 | Z48: =(60*1000*X48)/(2*PI()*U48) -> 4423.9603 | AA48: =ROUND(U48,0) -> 7 | AB48: =MROUND(Z48,500) -> 4500 | AC48: =X48/3600 -> 0.000953097 | AD48: =AD47+AC48 -> 0.031258933 | AE48: =(O48*G48)/1000 -> 161.04567 | AF48: =(O48*F48)/1000 -> 3.4311492 | AG48: =AF48*1000/(746) -> 4.5993957 | AH48: =INDEX('Specification & Data'!E$24:R$46,MATCH(Simulation!AA48,'Specification & Data'!D$24:D$46,0),MATCH(Simulation!AB48,'Specification & Data'!E$47:R$47,0)) -> 525.11244 | AI48: =AF48/3600 -> 0.000953097 | AJ48: =AC48*AH48 -> 0.5004831 | AK48: =AK47+AJ48 -> 14.979417 | AL48: 2.3289729
C49: =C48+1 -> 47 | D49: 18 | E49: =F49*3.6 -> 28.968144 | F49: =D49/2.23694 -> 8.0467067 | G49: =G48+((F49+F48)/2) -> 353.92098 | H49: =(F49+F48)/2 -> 7.7114272 | I49: =(H49-F48)*2 -> 0.67055889 | J49: =IF(D49<=10,1,IF(AND(D49>10,D49<=20),2,IF(D49>20,3))) -> 2 | K49: 0 | L49: =('Specification & Data'!B$22*'Specification & Data'!B$10*'Specification & Data'!B$20*(Simulation!F49^2-'Specification & Data'!B$21^2))/2 -> 28.102525 | M49: =Q49*I49 -> 381.49799 | N49: ='Specification & Data'!B$23*'Specification & Data'!B$18*8.91 -> 60.429669 | O49: =K49+L49+M49+N49 -> 470.03019 | P49: =IF(O49>=0,O49,IF(O49<0,-O49)) -> 470.03019 | Q49: =IF(J49=1,'Specification & Data'!B$52,IF(Simulation!J49=2,'Specification & Data'!B$53,IF(Simulation!J49=3,'Specification & Data'!B$54))) -> 568.92541 | R49: =(0.5*'Specification & Data'!B$18*Simulation!F49^2)/1000 -> 16.890228 | T49: =P49*'Specification & Data'!B$14*0.9 -> 124.73878 | U49: =T49/(IF(J49=1,'Specification & Data'!H$7,IF(Simulation!J49=2,'Specification & Data'!H$8,IF(Simulation!J49=3,'Specification & Data'!H$9)))) -> 7.4836854 | V49: =V48+(L49*F49/(1000*3600)) -> 0.0034882498 | W49: =W48+(IF(I49<0,AC49,0)) -> 0.008108347 | X49: =(P49*F49)/1000 -> 3.782195 | Y49: =X49*1000/(746) -> 5.0699665 | Z49: =(60*1000*X49)/(2*PI()*U49) -> 4826.1385 | AA49: =ROUND(U49,0) -> 7 | AB49: =MROUND(Z49,500) -> 5000 | AC49: =X49/3600 -> 0.0010506097 | AD49: =AD48+AC49 -> 0.032309543 | AE49: =(O49*G49)/1000 -> 166.35355 | AF49: =(O49*F49)/1000 -> 3.782195 | AG49: =AF49*1000/(746) -> 5.0699665 | AH49: =INDEX('Specification & Data'!E$24:R$46,MATCH(Simulation!AA49,'Specification & Data'!D$24:D$46,0),MATCH(Simulation!AB49,'Specification & Data'!E$47:R$47,0)) -> 459.2047 | AI49: =AF49/3600 -> 0.0010506097 | AJ49: =AC49*AH49 -> 0.48244493 | AK49: =AK48+AJ49 -> 15.461861 | AL49: 2.3289729
C50: =C49+1 -> 48 | D50: 20 | E50: =F50*3.6 -> 32.186827 | F50: =D50/2.23694 -> 8.9407852 | G50: =G49+((F50+F49)/2) -> 362.41473 | H50: =(F50+F49)/2 -> 8.4937459 | I50: =(H50-F49)*2 -> 0.89407852 | J50: =IF(D50<=10,1,IF(AND(D50>10,D50<=20),2,IF(D50>20,3))) -> 2 | K50: 0 | L50: =('Specification & Data'!B$22*'Specification & Data'!B$10*'Specification & Data'!B$20*(Simulation!F50^2-'Specification & Data'!B$21^2))/2 -> 35.242869 | M50: =Q50*I50 -> 508.66399 | N50: ='Specification & Data'!B$23*'Specification & Data'!B$18*8.91 -> 60.429669 | O50: =K50+L50+M50+N50 -> 604.33653 | P50: =IF(O50>=0,O50,IF(O50<0,-O50)) -> 604.33653 | Q50: =IF(J50=1,'Specification & Data'!B$52,IF(Simulation!J50=2,'Specification & Data'!B$53,IF(Simulation!J50=3,'Specification & Data'!B$54))) -> 568.92541 | R50: =(0.5*'Specification & Data'!B$18*Simulation!F50^2)/1000 -> 20.852133 | T50: =P50*'Specification & Data'!B$14*0.9 -> 160.38162 | U50: =T50/(IF(J50=1,'Specification & Data'!H$7,IF(Simulation!J50=2,'Specification & Data'!H$8,IF(Simulation!J50=3,'Specification & Data'!H$9)))) -> 9.6220723 | V50: =V49+(L50*F50/(1000*3600)) -> 0.0035757773 | W50: =W49+(IF(I50<0,AC50,0)) -> 0.008108347 | X50: =(P50*F50)/1000 -> 5.4032431 | Y50: =X50*1000/(746) -> 7.2429532 | Z50: =(60*1000*X50)/(2*PI()*U50) -> 5362.3761 | AA50: =ROUND(U50,0) -> 10 | AB50: =MROUND(Z50,500) -> 5500 | AC50: =X50/3600 -> 0.0015009009 | AD50: =AD49+AC50 -> 0.033810444 | AE50: =(O50*G50)/1000 -> 219.02046 | AF50: =(O50*F50)/1000 -> 5.4032431 | AG50: =AF50*1000/(746) -> 7.2429532 | AH50: =INDEX('Specification & Data'!E$24:R$46,MATCH(Simulation!AA50,'Specification & Data'!D$24:D$46,0),MATCH(Simulation!AB50,'Specification & Data'!E$47:R$47,0)) -> 359.74288 | AI50: =AF50/3600 -> 0.0015009009 | AJ50: =AC50*AH50 -> 0.5399384 | AK50: =AK49+AJ50 -> 16.0018 | AL50: 2.3289729
C51: =C50+1 -> 49 | D51: 20.2 | E51: =F51*3.6 -> 32.508695 | F51: =D51/2.23694 -> 9.030193 | G51: =G50+((F51+F50)/2) -> 371.40022 | H51: =(F51+F50)/2 -> 8.9854891 | I51: =(H51-F50)*2 -> 0.089407852 | J51: =IF(D51<=10,1,IF(AND(D51>10,D51<=20),2,IF(D51>20,3))) -> 3 | K51: 0 | L51: =('Specification & Data'!B$22*'Specification & Data'!B$10*'Specification & Data'!B$20*(Simulation!F51^2-'Specification & Data'!B$21^2))/2 -> 35.998243 | M51: =Q51*I51 -> 50.593938 | N51: ='Specification & Data'!B$23*'Specification & Data'!B$18*8.91 -> 60.429669 | O51: =K51+L51+M51+N51 -> 147.02185 | P51: =IF(O51>=0,O51,IF(O51<0,-O51)) -> 147.02185 | Q51: =IF(J51=1,'Specification & Data'!B$52,IF(Simulation!J51=2,'Specification & Data'!B$53,IF(Simulation!J51=3,'Specification & Data'!B$54))) -> 565.87802 | R51: =(0.5*'Specification & Data'!B$18*Simulation!F51^2)/1000 -> 21.271261 | T51: =P51*'Specification & Data'!B$14*0.9 -> 39.017337 | U51: =T51/(IF(J51=1,'Specification & Data'!H$7,IF(Simulation!J51=2,'Specification & Data'!H$8,IF(Simulation!J51=3,'Specification & Data'!H$9)))) -> 3.0657448 | V51: =V50+(L51*F51/(1000*3600)) -> 0.0036660748 | W51: =W50+(IF(I51<0,AC51,0)) -> 0.008108347 | X51: =(P51*F51)/1000 -> 1.3276357 | Y51: =X51*1000/(746) -> 1.7796725 | Z51: =(60*1000*X51)/(2*PI()*U51) -> 4135.3694 | AA51: =ROUND(U51,0) -> 3 | AB51: =MROUND(Z51,500) -> 4000 | AC51: =X51/3600 -> 0.00036878769 | AD51: =AD50+AC51 -> 0.034179232 | AE51: =(O51*G51)/1000 -> 54.603947 | AF51: =(O51*F51)/1000 -> 1.3276357 | AG51: =AF51*1000/(746) -> 1.7796725 | AH51: =INDEX('Specification & Data'!E$24:R$46,MATCH(Simulation!AA51,'Specification & Data'!D$24:D$46,0),MATCH(Simulation!AB51,'Specification & Data'!E$47:R$47,0)) -> 746.95257 | AI51: =AF51/3600 -> 0.00036878769 | AJ51: =AC51*AH51 -> 0.27546691 | AK51: =AK50+AJ51 -> 16.277267 | AL51: 2.3289729
C52: =C51+1 -> 50 | D52: 21.5 | E52: =F52*3.6 -> 34.600839 | F52: =D52/2.23694 -> 9.6113441 | G52: =G51+((F52+F51)/2) -> 380.72098 | H52: =(F52+F51)/2 -> 9.3207685 | I52: =(H52-F51)*2 -> 0.58115104 | J52: =IF(D52<=10,1,IF(AND(D52>10,D52<=20),2,IF(D52>20,3))) -> 3 | K52: 0 | L52: =('Specification & Data'!B$22*'Specification & Data'!B$10*'Specification & Data'!B$20*(Simulation!F52^2-'Specification & Data'!B$21^2))/2 -> 41.091375 | M52: =Q52*I52 -> 328.8606 | N52: ='Specification & Data'!B$23*'Specification & Data'!B$18*8.91 -> 60.429669 | O52: =K52+L52+M52+N52 -> 430.38164 | P52: =IF(O52>=0,O52,IF(O52<0,-O52)) -> 430.38164 | Q52: =IF(J52=1,'Specification & Data'!B$52,IF(Simulation!J52=2,'Specification & Data'!B$53,IF(Simulation!J52=3,'Specification & Data'!B$54))) -> 565.87802 | R52: =(0.5*'Specification & Data'!B$18*Simulation!F52^2)/1000 -> 24.097246 | T52: =P52*'Specification & Data'!B$14*0.9 -> 114.21667 | U52: =T52/(IF(J52=1,'Specification & Data'!H$7,IF(Simulation!J52=2,'Specification & Data'!H$8,IF(Simulation!J52=3,'Specification & Data'!H$9)))) -> 8.9744502 | V52: =V51+(L52*F52/(1000*3600)) -> 0.0037757813 | W52: =W51+(IF(I52<0,AC52,0)) -> 0.008108347 | X52: =(P52*F52)/1000 -> 4.1365461 | Y52: =X52*1000/(746) -> 5.5449679 | Z52: =(60*1000*X52)/(2*PI()*U52) -> 4401.507 | AA52: =ROUND(U52,0) -> 9 | AB52: =MROUND(Z52,500) -> 4500 | AC52: =X52/3600 -> 0.0011490406 | AD52: =AD51+AC52 -> 0.035328272 | AE52: =(O52*G52)/1000 -> 163.85532 | AF52: =(O52*F52)/1000 -> 4.1365461 | AG52: =AF52*1000/(746) -> 5.5449679 | AH52: =INDEX('Specification & Data'!E$24:R$46,MATCH(Simulation!AA52,'Specification & Data'!D$24:D$46,0),MATCH(Simulation!AB52,'Specification & Data'!E$47:R$47,0)) -> 491.51302 | AI52: =AF52/3600 -> 0.0011490406 | AJ52: =AC52*AH52 -> 0.5647684 | AK52: =AK51+AJ52 -> 16.842035 | AL52: 2.3289729
C53: =C52+1 -> 51 | D53: 22.5 | E53: =F53*3.6 -> 36.21018 | F53: =D53/2.23694 -> 10.058383 | G53: =G52+((F53+F52)/2) -> 390.55585 | H53: =(F53+F52)/2 -> 9.8348637 | I53: =(H53-F52)*2 -> 0.44703926 | J53: =IF(D53<=10,1,IF(AND(D53>10,D53<=20),2,IF(D53>20,3))) -> 3 | K53: 0 | L53: =('Specification & Data'!B$22*'Specification & Data'!B$10*'Specification & Data'!B$20*(Simulation!F53^2-'Specification & Data'!B$21^2))/2 -> 45.225258 | M53: =Q53*I53 -> 252.96969 | N53: ='Specification & Data'!B$23*'Specification & Data'!B$18*8.91 -> 60.429669 | O53: =K53+L53+M53+N53 -> 358.62462 | P53: =IF(O53>=0,O53,IF(O53<0,-O53)) -> 358.62462 | Q53: =IF(J53=1,'Specification & Data'!B$52,IF(Simulation!J53=2,'Specification & Data'!B$53,IF(Simulation!J53=3,'Specification & Data'!B$54))) -> 565.87802 | R53: =(0.5*'Specification & Data'!B$18*Simulation!F53^2)/1000 -> 26.390981 | T53: =P53*'Specification & Data'!B$14*0.9 -> 95.173457 | U53: =T53/(IF(J53=1,'Specification & Data'!H$7,IF(Simulation!J53=2,'Specification & Data'!H$8,IF(Simulation!J53=3,'Specification & Data'!H$9)))) -> 7.4781507 | V53: =V52+(L53*F53/(1000*3600)) -> 0.0039021405 | W53: =W52+(IF(I53<0,AC53,0)) -> 0.008108347 | X53: =(P53*F53)/1000 -> 3.6071839 | Y53: =X53*1000/(746) -> 4.8353672 | Z53: =(60*1000*X53)/(2*PI()*U53) -> 4606.2283 | AA53: =ROUND(U53,0) -> 7 | AB53: =MROUND(Z53,500) -> 4500 | AC53: =X53/3600 -> 0.0010019955 | AD53: =AD52+AC53 -> 0.036330268 | AE53: =(O53*G53)/1000 -> 140.06294 | AF53: =(O53*F53)/1000 -> 3.6071839 | AG53: =AF53*1000/(746) -> 4.8353672 | AH53: =INDEX('Specification & Data'!E$24:R$46,MATCH(Simulation!AA53,'Specification & Data'!D$24:D$46,0),MATCH(Simulation!AB53,'Specification & Data'!E$47:R$47,0)) -> 525.11244 | AI53: =AF53/3600 -> 0.0010019955 | AJ53: =AC53*AH53 -> 0.52616032 | AK53: =AK52+AJ53 -> 17.368196 | AL53: 2.3289729
C54: =C53+1 -> 52 | D54: 24 | E54: =F54*3.6 -> 38.624192 | F54: =D54/2.23694 -> 10.728942 | G54: =G53+((F54+F53)/2) -> 400.94951 | H54: =(F54+F53)/2 -> 10.393663 | I54: =(H54-F53)*2 -> 0.67055889 | J54: =IF(D54<=10,1,IF(AND(D54>10,D54<=20),2,IF(D54>20,3))) -> 3 | K54: 0 | L54: =('Specification & Data'!B$22*'Specification & Data'!B$10*'Specification & Data'!B$20*(Simulation!F54^2-'Specification & Data'!B$21^2))/2 -> 51.778403 | M54: =Q54*I54 -> 379.45454 | N54: ='Specification & Data'!B$23*'Specification & Data'!B$18*8.91 -> 60.429669 | O54: =K54+L54+M54+N54 -> 491.66261 | P54: =IF(O54>=0,O54,IF(O54<0,-O54)) -> 491.66261 | Q54: =IF(J54=1,'Specification & Data'!B$52,IF(Simulation!J54=2,'Specification & Data'!B$53,IF(Simulation!J54=3,'Specification & Data'!B$54))) -> 565.87802 | R54: =(0.5*'Specification & Data'!B$18*Simulation!F54^2)/1000 -> 30.027071 | T54: =P54*'Specification & Data'!B$14*0.9 -> 130.47969 | U54: =T54/(IF(J54=1,'Specification & Data'!H$7,IF(Simulation!J54=2,'Specification & Data'!H$8,IF(Simulation!J54=3,'Specification & Data'!H$9)))) -> 10.2523 | V54: =V53+(L54*F54/(1000*3600)) -> 0.0040564537 | W54: =W53+(IF(I54<0,AC54,0)) -> 0.008108347 | X54: =(P54*F54)/1000 -> 5.2750197 | Y54: =X54*1000/(746) -> 7.071072 | Z54: =(60*1000*X54)/(2*PI()*U54) -> 4913.3101 | AA54: =ROUND(U54,0) -> 10 | AB54: =MROUND(Z54,500) -> 5000 | AC54: =X54/3600 -> 0.0014652833 | AD54: =AD53+AC54 -> 0.037795551 | AE54: =(O54*G54)/1000 -> 197.13188 | AF54: =(O54*F54)/1000 -> 5.2750197 | AG54: =AF54*1000/(746) -> 7.071072 | AH54: =INDEX('Specification & Data'!E$24:R$46,MATCH(Simulation!AA54,'Specification & Data'!D$24:D$46,0),MATCH(Simulation!AB54,'Specification & Data'!E$47:R$47,0)) -> 373.21543 | AI54: =AF54/3600 -> 0.0014652833 | AJ54: =AC54*AH54 -> 0.54686633 | AK54: =AK53+AJ54 -> 17.915062 | AL54: 2.3289729
C55: =C54+1 -> 53 | D55: 26 | E55: =F55*3.6 -> 41.842875 | F55: =D55/2.23694 -> 11.623021 | G55: =G54+((F55+F54)/2) -> 412.12549 | H55: =(F55+F54)/2 -> 11.175981 | I55: =(H55-F54)*2 -> 0.89407852 | J55: =IF(D55<=10,1,IF(AND(D55>10,D55<=20),2,IF(D55>20,3))) -> 3 | K55: 0 | L55: =('Specification & Data'!B$22*'Specification & Data'!B$10*'Specification & Data'!B$20*(Simulation!F55^2-'Specification & Data'!B$21^2))/2 -> 61.173593 | M55: =Q55*I55 -> 505.93938 | N55: ='Specification & Data'!B$23*'Specification & Data'!B$18*8.91 -> 60.429669 | O55: =K55+L55+M55+N55 -> 627.54265 | P55: =IF(O55>=0,O55,IF(O55<0,-O55)) -> 627.54265 | Q55: =IF(J55=1,'Specification & Data'!B$52,IF(Simulation!J55=2,'Specification & Data'!B$53,IF(Simulation!J55=3,'Specification & Data'!B$54))) -> 565.87802 | R55: =(0.5*'Specification & Data'!B$18*Simulation!F55^2)/1000 -> 35.240105 | T55: =P55*'Specification & Data'!B$14*0.9 -> 166.54016 | U55: =T55/(IF(J55=1,'Specification & Data'!H$7,IF(Simulation!J55=2,'Specification & Data'!H$8,IF(Simulation!J55=3,'Specification & Data'!H$9)))) -> 13.085712 | V55: =V54+(L55*F55/(1000*3600)) -> 0.0042539598 | W55: =W54+(IF(I55<0,AC55,0)) -> 0.008108347 | X55: =(P55*F55)/1000 -> 7.2939412 | Y55: =X55*1000/(746) -> 9.7774011 | Z55: =(60*1000*X55)/(2*PI()*U55) -> 5322.7527 | AA55: =ROUND(U55,0) -> 13 | AB55: =MROUND(Z55,500) -> 5500 | AC55: =X55/3600 -> 0.0020260948 | AD55: =AD54+AC55 -> 0.039821646 | AE55: =(O55*G55)/1000 -> 258.62632 | AF55: =(O55*F55)/1000 -> 7.2939412 | AG55: =AF55*1000/(746) -> 9.7774011 | AH55: =INDEX('Specification & Data'!E$24:R$46,MATCH(Simulation!AA55,'Specification & Data'!D$24:D$46,0),MATCH(Simulation!AB55,'Specification & Data'!E$47:R$47,0)) -> 313.44812 | AI55: =AF55/3600 -> 0.0020260948 | AJ55: =AC55*AH55 -> 0.6350756 | AK55: =AK54+AJ55 -> 18.550137 | AL55: 2.3289729
C56: =C55+1 -> 54 | D56: 26.5 | E56: =F56*3.6 -> 42.647545 | F56: =D56/2.23694 -> 11.84654 | G56: =G55+((F56+F55)/2) -> 423.86027 | H56: =(F56+F55)/2 -> 11.734781 | I56: =(H56-F55)*2 -> 0.22351963 | J56: =IF(D56<=10,1,IF(AND(D56>10,D56<=20),2,IF(D56>20,3))) -> 3 | K56: 0 | L56: =('Specification & Data'!B$22*'Specification & Data'!B$10*'Specification & Data'!B$20*(Simulation!F56^2-'Specification & Data'!B$21^2))/2 -> 63.63983 | M56: =Q56*I56 -> 126.48485 | N56: ='Specification & Data'!B$23*'Specification & Data'!B$18*8.91 -> 60.429669 | O56: =K56+L56+M56+N56 -> 250.55435 | P56: =IF(O56>=0,O56,IF(O56<0,-O56)) -> 250.55435 | Q56: =IF(J56=1,'Specification & Data'!B$52,IF(Simulation!J56=2,'Specification & Data'!B$53,IF(Simulation!J56=3,'Specification & Data'!B$54))) -> 565.87802 | R56: =(0.5*'Specification & Data'!B$18*Simulation!F56^2)/1000 -> 36.608526 | T56: =P56*'Specification & Data'!B$14*0.9 -> 66.493269 | U56: =T56/(IF(J56=1,'Specification & Data'!H$7,IF(Simulation!J56=2,'Specification & Data'!H$8,IF(Simulation!J56=3,'Specification & Data'!H$9)))) -> 5.2246361 | V56: =V55+(L56*F56/(1000*3600)) -> 0.0044633797 | W56: =W55+(IF(I56<0,AC56,0)) -> 0.008108347 | X56: =(P56*F56)/1000 -> 2.9682022 | Y56: =X56*1000/(746) -> 3.9788233 | Z56: =(60*1000*X56)/(2*PI()*U56) -> 5425.1133 | AA56: =ROUND(U56,0) -> 5 | AB56: =MROUND(Z56,500) -> 5500 | AC56: =X56/3600 -> 0.0008245006 | AD56: =AD55+AC56 -> 0.040646147 | AE56: =(O56*G56)/1000 -> 106.20003 | AF56: =(O56*F56)/1000 -> 2.9682022 | AG56: =AF56*1000/(746) -> 3.9788233 | AH56: =INDEX('Specification & Data'!E$24:R$46,MATCH(Simulation!AA56,'Specification & Data'!D$24:D$46,0),MATCH(Simulation!AB56,'Specification & Data'!E$47:R$47,0)) -> 571.62166 | AI56: =AF56/3600 -> 0.0008245006 | AJ56: =AC56*AH56 -> 0.47130241 | AK56: =AK55+AJ56 -> 19.02144 | AL56: 2.3289729
B57: Water splash start | C57: =C56+1 -> 55 | D57: 25.3 | E57: =F57*3.6 -> 40.716336 | F57: =D57/2.23694 -> 11.310093 | G57: =G56+((F57+F56)/2) -> 435.43859 | H57: =(F57+F56)/2 -> 11.578317 | I57: =(H57-F56)*2 -> -0.53644711 | J57: =IF(D57<=10,1,IF(AND(D57>10,D57<=20),2,IF(D57>20,3))) -> 3 | K57: 0 | L57: =('Specification & Data'!B$22*'Specification & Data'!B$10*'Specification & Data'!B$20*(Simulation!F57^2-'Specification & Data'!B$21^2))/2 -> 57.79978 | M57: =Q57*I57 -> -303.56363 | N57: ='Specification & Data'!B$25*'Specification & Data'!B$18*8.91 -> 720.5076 | O57: =K57+L57+M57+N57 -> 474.74375 | P57: =IF(O57>=0,O57,IF(O57<0,-O57)) -> 474.74375 | Q57: =IF(J57=1,'Specification & Data'!B$52,IF(Simulation!J57=2,'Specification & Data'!B$53,IF(Simulation!J57=3,'Specification & Data'!B$54))) -> 565.87802 | R57: =(0.5*'Specification & Data'!B$18*Simulation!F57^2)/1000 -> 33.368105 | T57: =P57*'Specification & Data'!B$14*0.9 -> 125.98969 | U57: =T57/(IF(J57=1,'Specification & Data'!H$7,IF(Simulation!J57=2,'Specification & Data'!H$8,IF(Simulation!J57=3,'Specification & Data'!H$9)))) -> 9.8995023 | V57: =V56+(L57*F57/(1000*3600)) -> 0.0046449689 | W57: =W56+(IF(I57<0,AC57,0)) -> 0.0095998459 | X57: =(P57*F57)/1000 -> 5.369396 | Y57: =X57*1000/(746) -> 7.1975818 | Z57: =(60*1000*X57)/(2*PI()*U57) -> 5179.4478 | AA57: =ROUND(U57,0) -> 10 | AB57: =MROUND(Z57,500) -> 5000 | AC57: =X57/3600 -> 0.0014914989 | AD57: =AD56+AC57 -> 0.042137645 | AE57: =(O57*G57)/1000 -> 206.72175 | AF57: =(O57*F57)/1000 -> 5.369396 | AG57: =AF57*1000/(746) -> 7.1975818 | AH57: =INDEX('Specification & Data'!E$24:R$46,MATCH(Simulation!AA57,'Specification & Data'!D$24:D$46,0),MATCH(Simulation!AB57,'Specification & Data'!E$47:R$47,0)) -> 373.21543 | AI57: =AF57/3600 -> 0.0014914989 | AJ57: =AC57*AH57 -> 0.55665041 | AK57: =AK56+AJ57 -> 19.57809 | AL57: 2.3289729
C58: =C57+1 -> 56 | D58: 23 | E58: =F58*3.6 -> 37.014851 | F58: =D58/2.23694 -> 10.281903 | G58: =G57+((F58+F57)/2) -> 446.23459 | H58: =(F58+F57)/2 -> 10.795998 | I58: =(H58-F57)*2 -> -1.0281903 | J58: =IF(D58<=10,1,IF(AND(D58>10,D58<=20),2,IF(D58>20,3))) -> 3 | K58: 0 | L58: =('Specification & Data'!B$22*'Specification & Data'!B$10*'Specification & Data'!B$20*(Simulation!F58^2-'Specification & Data'!B$21^2))/2 -> 47.362664 | M58: =Q58*I58 -> -581.83029 | N58: ='Specification & Data'!B$25*'Specification & Data'!B$18*8.91 -> 720.5076 | O58: =K58+L58+M58+N58 -> 186.03997 | P58: =IF(O58>=0,O58,IF(O58<0,-O58)) -> 186.03997 | Q58: =IF(J58=1,'Specification & Data'!B$52,IF(Simulation!J58=2,'Specification & Data'!B$53,IF(Simulation!J58=3,'Specification & Data'!B$54))) -> 565.87802 | R58: =(0.5*'Specification & Data'!B$18*Simulation!F58^2)/1000 -> 27.576946 | T58: =P58*'Specification & Data'!B$14*0.9 -> 49.372145 | U58: =T58/(IF(J58=1,'Specification & Data'!H$7,IF(Simulation!J58=2,'Specification & Data'!H$8,IF(Simulation!J58=3,'Specification & Data'!H$9)))) -> 3.8793625 | V58: =V57+(L58*F58/(1000*3600)) -> 0.0047802406 | W58: =W57+(IF(I58<0,AC58,0)) -> 0.010131192 | X58: =(P58*F58)/1000 -> 1.9128449 | Y58: =X58*1000/(746) -> 2.5641352 | Z58: =(60*1000*X58)/(2*PI()*U58) -> 4708.5889 | AA58: =ROUND(U58,0) -> 4 | AB58: =MROUND(Z58,500) -> 4500 | AC58: =X58/3600 -> 0.0005313458 | AD58: =AD57+AC58 -> 0.042668991 | AE58: =(O58*G58)/1000 -> 83.017468 | AF58: =(O58*F58)/1000 -> 1.9128449 | AG58: =AF58*1000/(746) -> 2.5641352 | AH58: =INDEX('Specification & Data'!E$24:R$46,MATCH(Simulation!AA58,'Specification & Data'!D$24:D$46,0),MATCH(Simulation!AB58,'Specification & Data'!E$47:R$47,0)) -> 679.80911 | AI58: =AF58/3600 -> 0.0005313458 | AJ58: =AC58*AH58 -> 0.36121372 | AK58: =AK57+AJ58 -> 19.939304 | AL58: 2.3289729
C59: =C58+1 -> 57 | D59: 21.5 | E59: =F59*3.6 -> 34.600839 | F59: =D59/2.23694 -> 9.6113441 | G59: =G58+((F59+F58)/2) -> 456.18121 | H59: =(F59+F58)/2 -> 9.9466235 | I59: =(H59-F58)*2 -> -0.67055889 | J59: =IF(D59<=10,1,IF(AND(D59>10,D59<=20),2,IF(D59>20,3))) -> 3 | K59: 0 | L59: =('Specification & Data'!B$22*'Specification & Data'!B$10*'Specification & Data'!B$20*(Simulation!F59^2-'Specification & Data'!B$21^2))/2 -> 41.091375 | M59: =Q59*I59 -> -379.45454 | N59: ='Specification & Data'!B$25*'Specification & Data'!B$18*8.91 -> 720.5076 | O59: =K59+L59+M59+N59 -> 382.14443 | P59: =IF(O59>=0,O59,IF(O59<0,-O59)) -> 382.14443 | Q59: =IF(J59=1,'Specification & Data'!B$52,IF(Simulation!J59=2,'Specification & Data'!B$53,IF(Simulation!J59=3,'Specification & Data'!B$54))) -> 565.87802 | R59: =(0.5*'Specification & Data'!B$18*Simulation!F59^2)/1000 -> 24.097246 | T59: =P59*'Specification & Data'!B$14*0.9 -> 101.41525 | U59: =T59/(IF(J59=1,'Specification & Data'!H$7,IF(Simulation!J59=2,'Specification & Data'!H$8,IF(Simulation!J59=3,'Specification & Data'!H$9)))) -> 7.968593 | V59: =V58+(L59*F59/(1000*3600)) -> 0.0048899471 | W59: =W58+(IF(I59<0,AC59,0)) -> 0.011151448 | X59: =(P59*F59)/1000 -> 3.6729216 | Y59: =X59*1000/(746) -> 4.9234874 | Z59: =(60*1000*X59)/(2*PI()*U59) -> 4401.507 | AA59: =ROUND(U59,0) -> 8 | AB59: =MROUND(Z59,500) -> 4500 | AC59: =X59/3600 -> 0.001020256 | AD59: =AD58+AC59 -> 0.043689247 | AE59: =(O59*G59)/1000 -> 174.32711 | AF59: =(O59*F59)/1000 -> 3.6729216 | AG59: =AF59*1000/(746) -> 4.9234874 | AH59: =INDEX('Specification & Data'!E$24:R$46,MATCH(Simulation!AA59,'Specification & Data'!D$24:D$46,0),MATCH(Simulation!AB59,'Specification & Data'!E$47:R$47,0)) -> 489.46439 | AI59: =AF59/3600 -> 0.001020256 | AJ59: =AC59*AH59 -> 0.49937899 | AK59: =AK58+AJ59 -> 20.438683 | AL59: 2.3289729
C60: =C59+1 -> 58 | D60: 20 | E60: =F60*3.6 -> 32.186827 | F60: =D60/2.23694 -> 8.9407852 | G60: =G59+((F60+F59)/2) -> 465.45728 | H60: =(F60+F59)/2 -> 9.2760646 | I60: =(H60-F59)*2 -> -0.67055889 | J60: =IF(D60<=10,1,IF(AND(D60>10,D60<=20),2,IF(D60>20,3))) -> 2 | K60: 0 | L60: =('Specification & Data'!B$22*'Specification & Data'!B$10*'Specification & Data'!B$20*(Simulation!F60^2-'Specification & Data'!B$21^2))/2 -> 35.242869 | M60: =Q60*I60 -> -381.49799 | N60: ='Specification & Data'!B$25*'Specification & Data'!B$18*8.91 -> 720.5076 | O60: =K60+L60+M60+N60 -> 374.25247 | P60: =IF(O60>=0,O60,IF(O60<0,-O60)) -> 374.25247 | Q60: =IF(J60=1,'Specification & Data'!B$52,IF(Simulation!J60=2,'Specification & Data'!B$53,IF(Simulation!J60=3,'Specification & Data'!B$54))) -> 568.92541 | R60: =(0.5*'Specification & Data'!B$18*Simulation!F60^2)/1000 -> 20.852133 | T60: =P60*'Specification & Data'!B$14*0.9 -> 99.320848 | U60: =T60/(IF(J60=1,'Specification & Data'!H$7,IF(Simulation!J60=2,'Specification & Data'!H$8,IF(Simulation!J60=3,'Specification & Data'!H$9)))) -> 5.9587401 | V60: =V59+(L60*F60/(1000*3600)) -> 0.0049774746 | W60: =W59+(IF(I60<0,AC60,0)) -> 0.012080923 | X60: =(P60*F60)/1000 -> 3.346111 | Y60: =X60*1000/(746) -> 4.4854034 | Z60: =(60*1000*X60)/(2*PI()*U60) -> 5362.3761 | AA60: =ROUND(U60,0) -> 6 | AB60: =MROUND(Z60,500) -> 5500 | AC60: =X60/3600 -> 0.00092947526 | AD60: =AD59+AC60 -> 0.044618722 | AE60: =(O60*G60)/1000 -> 174.19854 | AF60: =(O60*F60)/1000 -> 3.346111 | AG60: =AF60*1000/(746) -> 4.4854034 | AH60: =INDEX('Specification & Data'!E$24:R$46,MATCH(Simulation!AA60,'Specification & Data'!D$24:D$46,0),MATCH(Simulation!AB60,'Specification & Data'!E$47:R$47,0)) -> 488.66659 | AI60: =AF60/3600 -> 0.00092947526 | AJ60: =AC60*AH60 -> 0.45420351 | AK60: =AK59+AJ60 -> 20.892886 | AL60: 2.3289729
C61: =C60+1 -> 59 | D61: 19.8 | E61: =F61*3.6 -> 31.864958 | F61: =D61/2.23694 -> 8.8513773 | G61: =G60+((F61+F60)/2) -> 474.35336 | H61: =(F61+F60)/2 -> 8.8960813 | I61: =(H61-F60)*2 -> -0.089407852 | J61: =IF(D61<=10,1,IF(AND(D61>10,D61<=20),2,IF(D61>20,3))) -> 2 | K61: 0 | L61: =('Specification & Data'!B$22*'Specification & Data'!B$10*'Specification & Data'!B$20*(Simulation!F61^2-'Specification & Data'!B$21^2))/2 -> 34.495012 | M61: =Q61*I61 -> -50.866399 | N61: ='Specification & Data'!B$25*'Specification & Data'!B$18*8.91 -> 720.5076 | O61: =K61+L61+M61+N61 -> 704.13621 | P61: =IF(O61>=0,O61,IF(O61<0,-O61)) -> 704.13621 | Q61: =IF(J61=1,'Specification & Data'!B$52,IF(Simulation!J61=2,'Specification & Data'!B$53,IF(Simulation!J61=3,'Specification & Data'!B$54))) -> 568.92541 | R61: =(0.5*'Specification & Data'!B$18*Simulation!F61^2)/1000 -> 20.437176 | T61: =P61*'Specification & Data'!B$14*0.9 -> 186.86692 | U61: =T61/(IF(J61=1,'Specification & Data'!H$7,IF(Simulation!J61=2,'Specification & Data'!H$8,IF(Simulation!J61=3,'Specification & Data'!H$9)))) -> 11.211054 | V61: =V60+(L61*F61/(1000*3600)) -> 0.005062288 | W61: =W60+(IF(I61<0,AC61,0)) -> 0.013812194 | X61: =(P61*F61)/1000 -> 6.2325753 | Y61: =X61*1000/(746) -> 8.3546585 | Z61: =(60*1000*X61)/(2*PI()*U61) -> 5308.7524 | AA61: =ROUND(U61,0) -> 11 | AB61: =MROUND(Z61,500) -> 5500 | AC61: =X61/3600 -> 0.0017312709 | AD61: =AD60+AC61 -> 0.046349993 | AE61: =(O61*G61)/1000 -> 334.00937 | AF61: =(O61*F61)/1000 -> 6.2325753 | AG61: =AF61*1000/(746) -> 8.3546585 | AH61: =INDEX('Specification & Data'!E$24:R$46,MATCH(Simulation!AA61,'Specification & Data'!D$24:D$46,0),MATCH(Simulation!AB61,'Specification & Data'!E$47:R$47,0)) -> 343.64462 | AI61: =AF61/3600 -> 0.0017312709 | AJ61: =AC61*AH61 -> 0.59494193 | AK61: =AK60+AJ61 -> 21.487828 | AL61: 2.3289729
C62: =C61+1 -> 60 | D62: 19 | E62: =F62*3.6 -> 30.577485 | F62: =D62/2.23694 -> 8.4937459 | G62: =G61+((F62+F61)/2) -> 483.02592 | H62: =(F62+F61)/2 -> 8.6725616 | I62: =(H62-F61)*2 -> -0.35763141 | J62: =IF(D62<=10,1,IF(AND(D62>10,D62<=20),2,IF(D62>20,3))) -> 2 | K62: 0 | L62: =('Specification & Data'!B$22*'Specification & Data'!B$10*'Specification & Data'!B$20*(Simulation!F62^2-'Specification & Data'!B$21^2))/2 -> 31.578745 | M62: =Q62*I62 -> -203.4656 | N62: ='Specification & Data'!B$25*'Specification & Data'!B$18*8.91 -> 720.5076 | O62: =K62+L62+M62+N62 -> 548.62074 | P62: =IF(O62>=0,O62,IF(O62<0,-O62)) -> 548.62074 | Q62: =IF(J62=1,'Specification & Data'!B$52,IF(Simulation!J62=2,'Specification & Data'!B$53,IF(Simulation!J62=3,'Specification & Data'!B$54))) -> 568.92541 | R62: =(0.5*'Specification & Data'!B$18*Simulation!F62^2)/1000 -> 18.81905 | T62: =P62*'Specification & Data'!B$14*0.9 -> 145.59551 | U62: =T62/(IF(J62=1,'Specification & Data'!H$7,IF(Simulation!J62=2,'Specification & Data'!H$8,IF(Simulation!J62=3,'Specification & Data'!H$9)))) -> 8.7349816 | V62: =V61+(L62*F62/(1000*3600)) -> 0.0051367941 | W62: =W61+(IF(I62<0,AC62,0)) -> 0.015106595 | X62: =(P62*F62)/1000 -> 4.6598452 | Y62: =X62*1000/(746) -> 6.2464413 | Z62: =(60*1000*X62)/(2*PI()*U62) -> 5094.2573 | AA62: =ROUND(U62,0) -> 9 | AB62: =MROUND(Z62,500) -> 5000 | AC62: =X62/3600 -> 0.0012944014 | AD62: =AD61+AC62 -> 0.047644395 | AE62: =(O62*G62)/1000 -> 264.99804 | AF62: =(O62*F62)/1000 -> 4.6598452 | AG62: =AF62*1000/(746) -> 6.2464413 | AH62: =INDEX('Specification & Data'!E$24:R$46,MATCH(Simulation!AA62,'Specification & Data'!D$24:D$46,0),MATCH(Simulation!AB62,'Specification & Data'!E$47:R$47,0)) -> 394.87041 | AI62: =AF62/3600 -> 0.0012944014 | AJ62: =AC62*AH62 -> 0.51112083 | AK62: =AK61+AJ62 -> 21.998949 | AL62: 2.3289729
C63: =C62+1 -> 61 | D63: 18 | E63: =F63*3.6 -> 28.968144 | F63: =D63/2.23694 -> 8.0467067 | G63: =G62+((F63+F62)/2) -> 491.29615 | H63: =(F63+F62)/2 -> 8.2702263 | I63: =(H63-F62)*2 -> -0.44703926 | J63: =IF(D63<=10,1,IF(AND(D63>10,D63<=20),2,IF(D63>20,3))) -> 2 | K63: 0 | L63: =('Specification & Data'!B$22*'Specification & Data'!B$10*'Specification & Data'!B$20*(Simulation!F63^2-'Specification & Data'!B$21^2))/2 -> 28.102525 | M63: =Q63*I63 -> -254.332 | N63: ='Specification & Data'!B$25*'Specification & Data'!B$18*8.91 -> 720.5076 | O63: =K63+L63+M63+N63 -> 494.27813 | P63: =IF(O63>=0,O63,IF(O63<0,-O63)) -> 494.27813 | Q63: =IF(J63=1,'Specification & Data'!B$52,IF(Simulation!J63=2,'Specification & Data'!B$53,IF(Simulation!J63=3,'Specification & Data'!B$54))) -> 568.92541 | R63: =(0.5*'Specification & Data'!B$18*Simulation!F63^2)/1000 -> 16.890228 | T63: =P63*'Specification & Data'!B$14*0.9 -> 131.17381 | U63: =T63/(IF(J63=1,'Specification & Data'!H$7,IF(Simulation!J63=2,'Specification & Data'!H$8,IF(Simulation!J63=3,'Specification & Data'!H$9)))) -> 7.8697541 | V63: =V62+(L63*F63/(1000*3600)) -> 0.0051996087 | W63: =W62+(IF(I63<0,AC63,0)) -> 0.016211404 | X63: =(P63*F63)/1000 -> 3.9773111 | Y63: =X63*1000/(746) -> 5.3315162 | Z63: =(60*1000*X63)/(2*PI()*U63) -> 4826.1385 | AA63: =ROUND(U63,0) -> 8 | AB63: =MROUND(Z63,500) -> 5000 | AC63: =X63/3600 -> 0.0011048086 | AD63: =AD62+AC63 -> 0.048749203 | AE63: =(O63*G63)/1000 -> 242.83694 | AF63: =(O63*F63)/1000 -> 3.9773111 | AG63: =AF63*1000/(746) -> 5.3315162 | AH63: =INDEX('Specification & Data'!E$24:R$46,MATCH(Simulation!AA63,'Specification & Data'!D$24:D$46,0),MATCH(Simulation!AB63,'Specification & Data'!E$47:R$47,0)) -> 416.52538 | AI63: =AF63/3600 -> 0.0011048086 | AJ63: =AC63*AH63 -> 0.46018084 | AK63: =AK62+AJ63 -> 22.45913 | AL63: 2.3289729
B64: Water splash finish | C64: =C63+1 -> 62 | D64: 16.5 | E64: =F64*3.6 -> 26.554132 | F64: =D64/2.23694 -> 7.3761478 | G64: =G63+((F64+F63)/2) -> 499.00757 | H64: =(F64+F63)/2 -> 7.7114272 | I64: =(H64-F63)*2 -> -0.67055889 | J64: =IF(D64<=10,1,IF(AND(D64>10,D64<=20),2,IF(D64>20,3))) -> 2 | K64: 0 | L64: =('Specification & Data'!B$22*'Specification & Data'!B$10*'Specification & Data'!B$20*(Simulation!F64^2-'Specification & Data'!B$21^2))/2 -> 23.240515 | M64: =Q64*I64 -> -381.49799 | N64: ='Specification & Data'!B$25*'Specification & Data'!B$18*8.91 -> 720.5076 | O64: =K64+L64+M64+N64 -> 362.25012 | P64: =IF(O64>=0,O64,IF(O64<0,-O64)) -> 362.25012 | Q64: =IF(J64=1,'Specification & Data'!B$52,IF(Simulation!J64=2,'Specification & Data'!B$53,IF(Simulation!J64=3,'Specification & Data'!B$54))) -> 568.92541 | R64: =(0.5*'Specification & Data'!B$18*Simulation!F64^2)/1000 -> 14.192483 | T64: =P64*'Specification & Data'!B$14*0.9 -> 96.135608 | U64: =T64/(IF(J64=1,'Specification & Data'!H$7,IF(Simulation!J64=2,'Specification & Data'!H$8,IF(Simulation!J64=3,'Specification & Data'!H$9)))) -> 5.7676421 | V64: =V63+(L64*F64/(1000*3600)) -> 0.0052472269 | W64: =W63+(IF(I64<0,AC64,0)) -> 0.016953629 | X64: =(P64*F64)/1000 -> 2.6720104 | Y64: =X64*1000/(746) -> 3.5817834 | Z64: =(60*1000*X64)/(2*PI()*U64) -> 4423.9603 | AA64: =ROUND(U64,0) -> 6 | AB64: =MROUND(Z64,500) -> 4500 | AC64: =X64/3600 -> 0.00074222511 | AD64: =AD63+AC64 -> 0.049491429 | AE64: =(O64*G64)/1000 -> 180.76555 | AF64: =(O64*F64)/1000 -> 2.6720104 | AG64: =AF64*1000/(746) -> 3.5817834 | AH64: =INDEX('Specification & Data'!E$24:R$46,MATCH(Simulation!AA64,'Specification & Data'!D$24:D$46,0),MATCH(Simulation!AB64,'Specification & Data'!E$47:R$47,0)) -> 560.7605 | AI64: =AF64/3600 -> 0.00074222511 | AJ64: =AC64*AH64 -> 0.41621052 | AK64: =AK63+AJ64 -> 22.875341 | AL64: 2.3289729
C65: =C64+1 -> 63 | D65: 16 | E65: =F65*3.6 -> 25.749461 | F65: =D65/2.23694 -> 7.1526281 | G65: =G64+((F65+F64)/2) -> 506.27196 | H65: =(F65+F64)/2 -> 7.264388 | I65: =(H65-F64)*2 -> -0.22351963 | J65: =IF(D65<=10,1,IF(AND(D65>10,D65<=20),2,IF(D65>20,3))) -> 2 | K65: 0 | L65: =('Specification & Data'!B$22*'Specification & Data'!B$10*'Specification & Data'!B$20*(Simulation!F65^2-'Specification & Data'!B$21^2))/2 -> 21.713796 | M65: =Q65*I65 -> -127.166 | N65: ='Specification & Data'!B$23*'Specification & Data'!B$18*8.91 -> 60.429669 | O65: =K65+L65+M65+N65 -> -45.022532 | P65: =IF(O65>=0,O65,IF(O65<0,-O65)) -> 45.022532 | Q65: =IF(J65=1,'Specification & Data'!B$52,IF(Simulation!J65=2,'Specification & Data'!B$53,IF(Simulation!J65=3,'Specification & Data'!B$54))) -> 568.92541 | R65: =(0.5*'Specification & Data'!B$18*Simulation!F65^2)/1000 -> 13.345365 | T65: =P65*'Specification & Data'!B$14*0.9 -> 11.948287 | U65: =T65/(IF(J65=1,'Specification & Data'!H$7,IF(Simulation!J65=2,'Specification & Data'!H$8,IF(Simulation!J65=3,'Specification & Data'!H$9)))) -> 0.7168358 | V65: =V64+(L65*F65/(1000*3600)) -> 0.0052903688 | W65: =W64+(IF(I65<0,AC65,0)) -> 0.017043082 | X65: =(P65*F65)/1000 -> 0.32202943 | Y65: =X65*1000/(746) -> 0.43167484 | Z65: =(60*1000*X65)/(2*PI()*U65) -> 4289.9009 | AA65: =ROUND(U65,0) -> 1 | AB65: =MROUND(Z65,500) -> 4500 | AC65: =X65/3600 -> 8.945262e-05 | AD65: =AD64+AC65 -> 0.049580881 | AE65: =(O65*G65)/1000 -> -22.793646 | AF65: =(O65*F65)/1000 -> -0.32202943 | AG65: =AF65*1000/(746) -> -0.43167484 | AH65: =INDEX('Specification & Data'!E$24:R$46,MATCH(Simulation!AA65,'Specification & Data'!D$24:D$46,0),MATCH(Simulation!AB65,'Specification & Data'!E$47:R$47,0)) -> 917.27809 | AI65: =AF65/3600 -> -8.945262e-05 | AJ65: =AC65*AH65 -> 0.082052928 | AK65: =AK64+AJ65 -> 22.957394 | AL65: 2.3289729
C66: =C65+1 -> 64 | D66: 15.5 | E66: =F66*3.6 -> 24.944791 | F66: =D66/2.23694 -> 6.9291085 | G66: =G65+((F66+F65)/2) -> 513.31283 | H66: =(F66+F65)/2 -> 7.0408683 | I66: =(H66-F65)*2 -> -0.22351963 | J66: =IF(D66<=10,1,IF(AND(D66>10,D66<=20),2,IF(D66>20,3))) -> 2 | K66: 0 | L66: =('Specification & Data'!B$22*'Specification & Data'!B$10*'Specification & Data'!B$20*(Simulation!F66^2-'Specification & Data'!B$21^2))/2 -> 20.234054 | M66: =Q66*I66 -> -127.166 | N66: ='Specification & Data'!B$23*'Specification & Data'!B$18*8.91 -> 60.429669 | O66: =K66+L66+M66+N66 -> -46.502275 | P66: =IF(O66>=0,O66,IF(O66<0,-O66)) -> 46.502275 | Q66: =IF(J66=1,'Specification & Data'!B$52,IF(Simulation!J66=2,'Specification & Data'!B$53,IF(Simulation!J66=3,'Specification & Data'!B$54))) -> 568.92541 | R66: =(0.5*'Specification & Data'!B$18*Simulation!F66^2)/1000 -> 12.524312 | T66: =P66*'Specification & Data'!B$14*0.9 -> 12.340988 | U66: =T66/(IF(J66=1,'Specification & Data'!H$7,IF(Simulation!J66=2,'Specification & Data'!H$8,IF(Simulation!J66=3,'Specification & Data'!H$9)))) -> 0.74039583 | V66: =V65+(L66*F66/(1000*3600)) -> 0.0053293143 | W66: =W65+(IF(I66<0,AC66,0)) -> 0.017132587 | X66: =(P66*F66)/1000 -> 0.32221931 | Y66: =X66*1000/(746) -> 0.43192937 | Z66: =(60*1000*X66)/(2*PI()*U66) -> 4155.8415 | AA66: =ROUND(U66,0) -> 1 | AB66: =MROUND(Z66,500) -> 4000 | AC66: =X66/3600 -> 8.9505363e-05 | AD66: =AD65+AC66 -> 0.049670387 | AE66: =(O66*G66)/1000 -> -23.870214 | AF66: =(O66*F66)/1000 -> -0.32221931 | AG66: =AF66*1000/(746) -> -0.43192937 | AH66: =INDEX('Specification & Data'!E$24:R$46,MATCH(Simulation!AA66,'Specification & Data'!D$24:D$46,0),MATCH(Simulation!AB66,'Specification & Data'!E$47:R$47,0)) -> 944.35123 | AI66: =AF66/3600 -> -8.9505363e-05 | AJ66: =AC66*AH66 -> 0.084524499 | AK66: =AK65+AJ66 -> 23.041918 | AL66: 2.3289729
B67: T2 start | C67: =C66+1 -> 65 | D67: 15 | E67: =F67*3.6 -> 24.14012 | F67: =D67/2.23694 -> 6.7055889 | G67: =G66+((F67+F66)/2) -> 520.13018 | H67: =(F67+F66)/2 -> 6.8173487 | I67: =(H67-F66)*2 -> -0.22351963 | J67: =IF(D67<=10,1,IF(AND(D67>10,D67<=20),2,IF(D67>20,3))) -> 2 | K67: 0 | L67: =('Specification & Data'!B$22*'Specification & Data'!B$10*'Specification & Data'!B$20*(Simulation!F67^2-'Specification & Data'!B$21^2))/2 -> 18.801287 | M67: =Q67*I67 -> -127.166 | N67: ='Specification & Data'!B$23*'Specification & Data'!B$18*8.91 -> 60.429669 | O67: =K67+L67+M67+N67 -> -47.935041 | P67: =IF(O67>=0,O67,IF(O67<0,-O67)) -> 47.935041 | Q67: =IF(J67=1,'Specification & Data'!B$52,IF(Simulation!J67=2,'Specification & Data'!B$53,IF(Simulation!J67=3,'Specification & Data'!B$54))) -> 568.92541 | R67: =(0.5*'Specification & Data'!B$18*Simulation!F67^2)/1000 -> 11.729325 | T67: =P67*'Specification & Data'!B$14*0.9 -> 12.721222 | U67: =T67/(IF(J67=1,'Specification & Data'!H$7,IF(Simulation!J67=2,'Specification & Data'!H$8,IF(Simulation!J67=3,'Specification & Data'!H$9)))) -> 0.76320793 | V67: =V66+(L67*F67/(1000*3600)) -> 0.0053643348 | W67: =W66+(IF(I67<0,AC67,0)) -> 0.017221874 | X67: =(P67*F67)/1000 -> 0.32143268 | Y67: =X67*1000/(746) -> 0.4308749 | Z67: =(60*1000*X67)/(2*PI()*U67) -> 4021.7821 | AA67: =ROUND(U67,0) -> 1 | AB67: =MROUND(Z67,500) -> 4000 | AC67: =X67/3600 -> 8.9286855e-05 | AD67: =AD66+AC67 -> 0.049759673 | AE67: =(O67*G67)/1000 -> -24.932461 | AF67: =(O67*F67)/1000 -> -0.32143268 | AG67: =AF67*1000/(746) -> -0.4308749 | AH67: =INDEX('Specification & Data'!E$24:R$46,MATCH(Simulation!AA67,'Specification & Data'!D$24:D$46,0),MATCH(Simulation!AB67,'Specification & Data'!E$47:R$47,0)) -> 944.35123 | AI67: =AF67/3600 -> -8.9286855e-05 | AJ67: =AC67*AH67 -> 0.084318151 | AK67: =AK66+AJ67 -> 23.126236 | AL67: 2.3289729
C68: =C67+1 -> 66 | D68: 15 | E68: =F68*3.6 -> 24.14012 | F68: =D68/2.23694 -> 6.7055889 | G68: =G67+((F68+F67)/2) -> 526.83577 | H68: =(F68+F67)/2 -> 6.7055889 | I68: =(H68-F67)*2 -> 0 | J68: =IF(D68<=10,1,IF(AND(D68>10,D68<=20),2,IF(D68>20,3))) -> 2 | K68: 0 | L68: =('Specification & Data'!B$22*'Specification & Data'!B$10*'Specification & Data'!B$20*(Simulation!F68^2-'Specification & Data'!B$21^2))/2 -> 18.801287 | M68: =Q68*I68 -> 0 | N68: ='Specification & Data'!B$23*'Specification & Data'!B$18*8.91 -> 60.429669 | O68: =K68+L68+M68+N68 -> 79.230957 | P68: =IF(O68>=0,O68,IF(O68<0,-O68)) -> 79.230957 | Q68: =IF(J68=1,'Specification & Data'!B$52,IF(Simulation!J68=2,'Specification & Data'!B$53,IF(Simulation!J68=3,'Specification & Data'!B$54))) -> 568.92541 | R68: =(0.5*'Specification & Data'!B$18*Simulation!F68^2)/1000 -> 11.729325 | T68: =P68*'Specification & Data'!B$14*0.9 -> 21.026677 | U68: =T68/(IF(J68=1,'Specification & Data'!H$7,IF(Simulation!J68=2,'Specification & Data'!H$8,IF(Simulation!J68=3,'Specification & Data'!H$9)))) -> 1.2614925 | V68: =V67+(L68*F68/(1000*3600)) -> 0.0053993553 | W68: =W67+(IF(I68<0,AC68,0)) -> 0.017221874 | X68: =(P68*F68)/1000 -> 0.53129022 | Y68: =X68*1000/(746) -> 0.71218529 | Z68: =(60*1000*X68)/(2*PI()*U68) -> 4021.7821 | AA68: =ROUND(U68,0) -> 1 | AB68: =MROUND(Z68,500) -> 4000 | AC68: =X68/3600 -> 0.00014758062 | AD68: =AD67+AC68 -> 0.049907254 | AE68: =(O68*G68)/1000 -> 41.741702 | AF68: =(O68*F68)/1000 -> 0.53129022 | AG68: =AF68*1000/(746) -> 0.71218529 | AH68: =INDEX('Specification & Data'!E$24:R$46,MATCH(Simulation!AA68,'Specification & Data'!D$24:D$46,0),MATCH(Simulation!AB68,'Specification & Data'!E$47:R$47,0)) -> 944.35123 | AI68: =AF68/3600 -> 0.00014758062 | AJ68: =AC68*AH68 -> 0.13936794 | AK68: =AK67+AJ68 -> 23.265604 | AL68: 2.3289729
C69: =C68+1 -> 67 | D69: 15 | E69: =F69*3.6 -> 24.14012 | F69: =D69/2.23694 -> 6.7055889 | G69: =G68+((F69+F68)/2) -> 533.54136 | H69: =(F69+F68)/2 -> 6.7055889 | I69: =(H69-F68)*2 -> 0 | J69: =IF(D69<=10,1,IF(AND(D69>10,D69<=20),2,IF(D69>20,3))) -> 2 | K69: 0 | L69: =('Specification & Data'!B$22*'Specification & Data'!B$10*'Specification & Data'!B$20*(Simulation!F69^2-'Specification & Data'!B$21^2))/2 -> 18.801287 | M69: =Q69*I69 -> 0 | N69: ='Specification & Data'!B$23*'Specification & Data'!B$18*8.91 -> 60.429669 | O69: =K69+L69+M69+N69 -> 79.230957 | P69: =IF(O69>=0,O69,IF(O69<0,-O69)) -> 79.230957 | Q69: =IF(J69=1,'Specification & Data'!B$52,IF(Simulation!J69=2,'Specification & Data'!B$53,IF(Simulation!J69=3,'Specification & Data'!B$54))) -> 568.92541 | R69: =(0.5*'Specification & Data'!B$18*Simulation!F69^2)/1000 -> 11.729325 | T69: =P69*'Specification & Data'!B$14*0.9 -> 21.026677 | U69: =T69/(IF(J69=1,'Specification & Data'!H$7,IF(Simulation!J69=2,'Specification & Data'!H$8,IF(Simulation!J69=3,'Specification & Data'!H$9)))) -> 1.2614925 | V69: =V68+(L69*F69/(1000*3600)) -> 0.0054343758 | W69: =W68+(IF(I69<0,AC69,0)) -> 0.017221874 | X69: =(P69*F69)/1000 -> 0.53129022 | Y69: =X69*1000/(746) -> 0.71218529 | Z69: =(60*1000*X69)/(2*PI()*U69) -> 4021.7821 | AA69: =ROUND(U69,0) -> 1 | AB69: =MROUND(Z69,500) -> 4000 | AC69: =X69/3600 -> 0.00014758062 | AD69: =AD68+AC69 -> 0.050054835 | AE69: =(O69*G69)/1000 -> 42.272992 | AF69: =(O69*F69)/1000 -> 0.53129022 | AG69: =AF69*1000/(746) -> 0.71218529 | AH69: =INDEX('Specification & Data'!E$24:R$46,MATCH(Simulation!AA69,'Specification & Data'!D$24:D$46,0),MATCH(Simulation!AB69,'Specification & Data'!E$47:R$47,0)) -> 944.35123 | AI69: =AF69/3600 -> 0.00014758062 | AJ69: =AC69*AH69 -> 0.13936794 | AK69: =AK68+AJ69 -> 23.404972 | AL69: 2.3289729
C70: =C69+1 -> 68 | D70: 15 | E70: =F70*3.6 -> 24.14012 | F70: =D70/2.23694 -> 6.7055889 | G70: =G69+((F70+F69)/2) -> 540.24694 | H70: =(F70+F69)/2 -> 6.7055889 | I70: =(H70-F69)*2 -> 0 | J70: =IF(D70<=10,1,IF(AND(D70>10,D70<=20),2,IF(D70>20,3))) -> 2 | K70: 0 | L70: =('Specification & Data'!B$22*'Specification & Data'!B$10*'Specification & Data'!B$20*(Simulation!F70^2-'Specification & Data'!B$21^2))/2 -> 18.801287 | M70: =Q70*I70 -> 0 | N70: ='Specification & Data'!B$23*'Specification & Data'!B$18*8.91 -> 60.429669 | O70: =K70+L70+M70+N70 -> 79.230957 | P70: =IF(O70>=0,O70,IF(O70<0,-O70)) -> 79.230957 | Q70: =IF(J70=1,'Specification & Data'!B$52,IF(Simulation!J70=2,'Specification & Data'!B$53,IF(Simulation!J70=3,'Specification & Data'!B$54))) -> 568.92541 | R70: =(0.5*'Specification & Data'!B$18*Simulation!F70^2)/1000 -> 11.729325 | T70: =P70*'Specification & Data'!B$14*0.9 -> 21.026677 | U70: =T70/(IF(J70=1,'Specification & Data'!H$7,IF(Simulation!J70=2,'Specification & Data'!H$8,IF(Simulation!J70=3,'Specification & Data'!H$9)))) -> 1.2614925 | V70: =V69+(L70*F70/(1000*3600)) -> 0.0054693962 | W70: =W69+(IF(I70<0,AC70,0)) -> 0.017221874 | X70: =(P70*F70)/1000 -> 0.53129022 | Y70: =X70*1000/(746) -> 0.71218529 | Z70: =(60*1000*X70)/(2*PI()*U70) -> 4021.7821 | AA70: =ROUND(U70,0) -> 1 | AB70: =MROUND(Z70,500) -> 4000 | AC70: =X70/3600 -> 0.00014758062 | AD70: =AD69+AC70 -> 0.050202415 | AE70: =(O70*G70)/1000 -> 42.804282 | AF70: =(O70*F70)/1000 -> 0.53129022 | AG70: =AF70*1000/(746) -> 0.71218529 | AH70: =INDEX('Specification & Data'!E$24:R$46,MATCH(Simulation!AA70,'Specification & Data'!D$24:D$46,0),MATCH(Simulation!AB70,'Specification & Data'!E$47:R$47,0)) -> 944.35123 | AI70: =AF70/3600 -> 0.00014758062 | AJ70: =AC70*AH70 -> 0.13936794 | AK70: =AK69+AJ70 -> 23.54434 | AL70: 2.3289729
C71: =C70+1 -> 69 | D71: 15 | E71: =F71*3.6 -> 24.14012 | F71: =D71/2.23694 -> 6.7055889 | G71: =G70+((F71+F70)/2) -> 546.95253 | H71: =(F71+F70)/2 -> 6.7055889 | I71: =(H71-F70)*2 -> 0 | J71: =IF(D71<=10,1,IF(AND(D71>10,D71<=20),2,IF(D71>20,3))) -> 2 | K71: 0 | L71: =('Specification & Data'!B$22*'Specification & Data'!B$10*'Specification & Data'!B$20*(Simulation!F71^2-'Specification & Data'!B$21^2))/2 -> 18.801287 | M71: =Q71*I71 -> 0 | N71: ='Specification & Data'!B$23*'Specification & Data'!B$18*8.91 -> 60.429669 | O71: =K71+L71+M71+N71 -> 79.230957 | P71: =IF(O71>=0,O71,IF(O71<0,-O71)) -> 79.230957 | Q71: =IF(J71=1,'Specification & Data'!B$52,IF(Simulation!J71=2,'Specification & Data'!B$53,IF(Simulation!J71=3,'Specification & Data'!B$54))) -> 568.92541 | R71: =(0.5*'Specification & Data'!B$18*Simulation!F71^2)/1000 -> 11.729325 | T71: =P71*'Specification & Data'!B$14*0.9 -> 21.026677 | U71: =T71/(IF(J71=1,'Specification & Data'!H$7,IF(Simulation!J71=2,'Specification & Data'!H$8,IF(Simulation!J71=3,'Specification & Data'!H$9)))) -> 1.2614925 | V71: =V70+(L71*F71/(1000*3600)) -> 0.0055044167 | W71: =W70+(IF(I71<0,AC71,0)) -> 0.017221874 | X71: =(P71*F71)/1000 -> 0.53129022 | Y71: =X71*1000/(746) -> 0.71218529 | Z71: =(60*1000*X71)/(2*PI()*U71) -> 4021.7821 | AA71: =ROUND(U71,0) -> 1 | AB71: =MROUND(Z71,500) -> 4000 | AC71: =X71/3600 -> 0.00014758062 | AD71: =AD70+AC71 -> 0.050349996 | AE71: =(O71*G71)/1000 -> 43.335573 | AF71: =(O71*F71)/1000 -> 0.53129022 | AG71: =AF71*1000/(746) -> 0.71218529 | AH71: =INDEX('Specification & Data'!E$24:R$46,MATCH(Simulation!AA71,'Specification & Data'!D$24:D$46,0),MATCH(Simulation!AB71,'Specification & Data'!E$47:R$47,0)) -> 944.35123 | AI71: =AF71/3600 -> 0.00014758062 | AJ71: =AC71*AH71 -> 0.13936794 | AK71: =AK70+AJ71 -> 23.683708 | AL71: 2.3289729
C72: =C71+1 -> 70 | D72: 15 | E72: =F72*3.6 -> 24.14012 | F72: =D72/2.23694 -> 6.7055889 | G72: =G71+((F72+F71)/2) -> 553.65812 | H72: =(F72+F71)/2 -> 6.7055889 | I72: =(H72-F71)*2 -> 0 | J72: =IF(D72<=10,1,IF(AND(D72>10,D72<=20),2,IF(D72>20,3))) -> 2 | K72: 0 | L72: =('Specification & Data'!B$22*'Specification & Data'!B$10*'Specification & Data'!B$20*(Simulation!F72^2-'Specification & Data'!B$21^2))/2 -> 18.801287 | M72: =Q72*I72 -> 0 | N72: ='Specification & Data'!B$23*'Specification & Data'!B$18*8.91 -> 60.429669 | O72: =K72+L72+M72+N72 -> 79.230957 | P72: =IF(O72>=0,O72,IF(O72<0,-O72)) -> 79.230957 | Q72: =IF(J72=1,'Specification & Data'!B$52,IF(Simulation!J72=2,'Specification & Data'!B$53,IF(Simulation!J72=3,'Specification & Data'!B$54))) -> 568.92541 | R72: =(0.5*'Specification & Data'!B$18*Simulation!F72^2)/1000 -> 11.729325 | T72: =P72*'Specification & Data'!B$14*0.9 -> 21.026677 | U72: =T72/(IF(J72=1,'Specification & Data'!H$7,IF(Simulation!J72=2,'Specification & Data'!H$8,IF(Simulation!J72=3,'Specification & Data'!H$9)))) -> 1.2614925 | V72: =V71+(L72*F72/(1000*3600)) -> 0.0055394372 | W72: =W71+(IF(I72<0,AC72,0)) -> 0.017221874 | X72: =(P72*F72)/1000 -> 0.53129022 | Y72: =X72*1000/(746) -> 0.71218529 | Z72: =(60*1000*X72)/(2*PI()*U72) -> 4021.7821 | AA72: =ROUND(U72,0) -> 1 | AB72: =MROUND(Z72,500) -> 4000 | AC72: =X72/3600 -> 0.00014758062 | AD72: =AD71+AC72 -> 0.050497577 | AE72: =(O72*G72)/1000 -> 43.866863 | AF72: =(O72*F72)/1000 -> 0.53129022 | AG72: =AF72*1000/(746) -> 0.71218529 | AH72: =INDEX('Specification & Data'!E$24:R$46,MATCH(Simulation!AA72,'Specification & Data'!D$24:D$46,0),MATCH(Simulation!AB72,'Specification & Data'!E$47:R$47,0)) -> 944.35123 | AI72: =AF72/3600 -> 0.00014758062 | AJ72: =AC72*AH72 -> 0.13936794 | AK72: =AK71+AJ72 -> 23.823076 | AL72: 2.3289729
C73: =C72+1 -> 71 | D73: 15 | E73: =F73*3.6 -> 24.14012 | F73: =D73/2.23694 -> 6.7055889 | G73: =G72+((F73+F72)/2) -> 560.36371 | H73: =(F73+F72)/2 -> 6.7055889 | I73: =(H73-F72)*2 -> 0 | J73: =IF(D73<=10,1,IF(AND(D73>10,D73<=20),2,IF(D73>20,3))) -> 2 | K73: 0 | L73: =('Specification & Data'!B$22*'Specification & Data'!B$10*'Specification & Data'!B$20*(Simulation!F73^2-'Specification & Data'!B$21^2))/2 -> 18.801287 | M73: =Q73*I73 -> 0 | N73: ='Specification & Data'!B$23*'Specification & Data'!B$18*8.91 -> 60.429669 | O73: =K73+L73+M73+N73 -> 79.230957 | P73: =IF(O73>=0,O73,IF(O73<0,-O73)) -> 79.230957 | Q73: =IF(J73=1,'Specification & Data'!B$52,IF(Simulation!J73=2,'Specification & Data'!B$53,IF(Simulation!J73=3,'Specification & Data'!B$54))) -> 568.92541 | R73: =(0.5*'Specification & Data'!B$18*Simulation!F73^2)/1000 -> 11.729325 | T73: =P73*'Specification & Data'!B$14*0.9 -> 21.026677 | U73: =T73/(IF(J73=1,'Specification & Data'!H$7,IF(Simulation!J73=2,'Specification & Data'!H$8,IF(Simulation!J73=3,'Specification & Data'!H$9)))) -> 1.2614925 | V73: =V72+(L73*F73/(1000*3600)) -> 0.0055744577 | W73: =W72+(IF(I73<0,AC73,0)) -> 0.017221874 | X73: =(P73*F73)/1000 -> 0.53129022 | Y73: =X73*1000/(746) -> 0.71218529 | Z73: =(60*1000*X73)/(2*PI()*U73) -> 4021.7821 | AA73: =ROUND(U73,0) -> 1 | AB73: =MROUND(Z73,500) -> 4000 | AC73: =X73/3600 -> 0.00014758062 | AD73: =AD72+AC73 -> 0.050645157 | AE73: =(O73*G73)/1000 -> 44.398153 | AF73: =(O73*F73)/1000 -> 0.53129022 | AG73: =AF73*1000/(746) -> 0.71218529 | AH73: =INDEX('Specification & Data'!E$24:R$46,MATCH(Simulation!AA73,'Specification & Data'!D$24:D$46,0),MATCH(Simulation!AB73,'Specification & Data'!E$47:R$47,0)) -> 944.35123 | AI73: =AF73/3600 -> 0.00014758062 | AJ73: =AC73*AH73 -> 0.13936794 | AK73: =AK72+AJ73 -> 23.962444 | AL73: 2.3289729
C74: =C73+1 -> 72 | D74: 15 | E74: =F74*3.6 -> 24.14012 | F74: =D74/2.23694 -> 6.7055889 | G74: =G73+((F74+F73)/2) -> 567.0693 | H74: =(F74+F73)/2 -> 6.7055889 | I74: =(H74-F73)*2 -> 0 | J74: =IF(D74<=10,1,IF(AND(D74>10,D74<=20),2,IF(D74>20,3))) -> 2 | K74: 0 | L74: =('Specification & Data'!B$22*'Specification & Data'!B$10*'Specification & Data'!B$20*(Simulation!F74^2-'Specification & Data'!B$21^2))/2 -> 18.801287 | M74: =Q74*I74 -> 0 | N74: ='Specification & Data'!B$23*'Specification & Data'!B$18*8.91 -> 60.429669 | O74: =K74+L74+M74+N74 -> 79.230957 | P74: =IF(O74>=0,O74,IF(O74<0,-O74)) -> 79.230957 | Q74: =IF(J74=1,'Specification & Data'!B$52,IF(Simulation!J74=2,'Specification & Data'!B$53,IF(Simulation!J74=3,'Specification & Data'!B$54))) -> 568.92541 | R74: =(0.5*'Specification & Data'!B$18*Simulation!F74^2)/1000 -> 11.729325 | T74: =P74*'Specification & Data'!B$14*0.9 -> 21.026677 | U74: =T74/(IF(J74=1,'Specification & Data'!H$7,IF(Simulation!J74=2,'Specification & Data'!H$8,IF(Simulation!J74=3,'Specification & Data'!H$9)))) -> 1.2614925 | V74: =V73+(L74*F74/(1000*3600)) -> 0.0056094781 | W74: =W73+(IF(I74<0,AC74,0)) -> 0.017221874 | X74: =(P74*F74)/1000 -> 0.53129022 | Y74: =X74*1000/(746) -> 0.71218529 | Z74: =(60*1000*X74)/(2*PI()*U74) -> 4021.7821 | AA74: =ROUND(U74,0) -> 1 | AB74: =MROUND(Z74,500) -> 4000 | AC74: =X74/3600 -> 0.00014758062 | AD74: =AD73+AC74 -> 0.050792738 | AE74: =(O74*G74)/1000 -> 44.929443 | AF74: =(O74*F74)/1000 -> 0.53129022 | AG74: =AF74*1000/(746) -> 0.71218529 | AH74: =INDEX('Specification & Data'!E$24:R$46,MATCH(Simulation!AA74,'Specification & Data'!D$24:D$46,0),MATCH(Simulation!AB74,'Specification & Data'!E$47:R$47,0)) -> 944.35123 | AI74: =AF74/3600 -> 0.00014758062 | AJ74: =AC74*AH74 -> 0.13936794 | AK74: =AK73+AJ74 -> 24.101812 | AL74: 2.3289729
C75: =C74+1 -> 73 | D75: 15 | E75: =F75*3.6 -> 24.14012 | F75: =D75/2.23694 -> 6.7055889 | G75: =G74+((F75+F74)/2) -> 573.77489 | H75: =(F75+F74)/2 -> 6.7055889 | I75: =(H75-F74)*2 -> 0 | J75: =IF(D75<=10,1,IF(AND(D75>10,D75<=20),2,IF(D75>20,3))) -> 2 | K75: 0 | L75: =('Specification & Data'!B$22*'Specification & Data'!B$10*'Specification & Data'!B$20*(Simulation!F75^2-'Specification & Data'!B$21^2))/2 -> 18.801287 | M75: =Q75*I75 -> 0 | N75: ='Specification & Data'!B$23*'Specification & Data'!B$18*8.91 -> 60.429669 | O75: =K75+L75+M75+N75 -> 79.230957 | P75: =IF(O75>=0,O75,IF(O75<0,-O75)) -> 79.230957 | Q75: =IF(J75=1,'Specification & Data'!B$52,IF(Simulation!J75=2,'Specification & Data'!B$53,IF(Simulation!J75=3,'Specification & Data'!B$54))) -> 568.92541 | R75: =(0.5*'Specification & Data'!B$18*Simulation!F75^2)/1000 -> 11.729325 | T75: =P75*'Specification & Data'!B$14*0.9 -> 21.026677 | U75: =T75/(IF(J75=1,'Specification & Data'!H$7,IF(Simulation!J75=2,'Specification & Data'!H$8,IF(Simulation!J75=3,'Specification & Data'!H$9)))) -> 1.2614925 | V75: =V74+(L75*F75/(1000*3600)) -> 0.0056444986 | W75: =W74+(IF(I75<0,AC75,0)) -> 0.017221874 | X75: =(P75*F75)/1000 -> 0.53129022 | Y75: =X75*1000/(746) -> 0.71218529 | Z75: =(60*1000*X75)/(2*PI()*U75) -> 4021.7821 | AA75: =ROUND(U75,0) -> 1 | AB75: =MROUND(Z75,500) -> 4000 | AC75: =X75/3600 -> 0.00014758062 | AD75: =AD74+AC75 -> 0.050940318 | AE75: =(O75*G75)/1000 -> 45.460733 | AF75: =(O75*F75)/1000 -> 0.53129022 | AG75: =AF75*1000/(746) -> 0.71218529 | AH75: =INDEX('Specification & Data'!E$24:R$46,MATCH(Simulation!AA75,'Specification & Data'!D$24:D$46,0),MATCH(Simulation!AB75,'Specification & Data'!E$47:R$47,0)) -> 944.35123 | AI75: =AF75/3600 -> 0.00014758062 | AJ75: =AC75*AH75 -> 0.13936794 | AK75: =AK74+AJ75 -> 24.24118 | AL75: 2.3289729
C76: =C75+1 -> 74 | D76: 15 | E76: =F76*3.6 -> 24.14012 | F76: =D76/2.23694 -> 6.7055889 | G76: =G75+((F76+F75)/2) -> 580.48048 | H76: =(F76+F75)/2 -> 6.7055889 | I76: =(H76-F75)*2 -> 0 | J76: =IF(D76<=10,1,IF(AND(D76>10,D76<=20),2,IF(D76>20,3))) -> 2 | K76: 0 | L76: =('Specification & Data'!B$22*'Specification & Data'!B$10*'Specification & Data'!B$20*(Simulation!F76^2-'Specification & Data'!B$21^2))/2 -> 18.801287 | M76: =Q76*I76 -> 0 | N76: ='Specification & Data'!B$23*'Specification & Data'!B$18*8.91 -> 60.429669 | O76: =K76+L76+M76+N76 -> 79.230957 | P76: =IF(O76>=0,O76,IF(O76<0,-O76)) -> 79.230957 | Q76: =IF(J76=1,'Specification & Data'!B$52,IF(Simulation!J76=2,'Specification & Data'!B$53,IF(Simulation!J76=3,'Specification & Data'!B$54))) -> 568.92541 | R76: =(0.5*'Specification & Data'!B$18*Simulation!F76^2)/1000 -> 11.729325 | T76: =P76*'Specification & Data'!B$14*0.9 -> 21.026677 | U76: =T76/(IF(J76=1,'Specification & Data'!H$7,IF(Simulation!J76=2,'Specification & Data'!H$8,IF(Simulation!J76=3,'Specification & Data'!H$9)))) -> 1.2614925 | V76: =V75+(L76*F76/(1000*3600)) -> 0.0056795191 | W76: =W75+(IF(I76<0,AC76,0)) -> 0.017221874 | X76: =(P76*F76)/1000 -> 0.53129022 | Y76: =X76*1000/(746) -> 0.71218529 | Z76: =(60*1000*X76)/(2*PI()*U76) -> 4021.7821 | AA76: =ROUND(U76,0) -> 1 | AB76: =MROUND(Z76,500) -> 4000 | AC76: =X76/3600 -> 0.00014758062 | AD76: =AD75+AC76 -> 0.051087899 | AE76: =(O76*G76)/1000 -> 45.992024 | AF76: =(O76*F76)/1000 -> 0.53129022 | AG76: =AF76*1000/(746) -> 0.71218529 | AH76: =INDEX('Specification & Data'!E$24:R$46,MATCH(Simulation!AA76,'Specification & Data'!D$24:D$46,0),MATCH(Simulation!AB76,'Specification & Data'!E$47:R$47,0)) -> 944.35123 | AI76: =AF76/3600 -> 0.00014758062 | AJ76: =AC76*AH76 -> 0.13936794 | AK76: =AK75+AJ76 -> 24.380548 | AL76: 2.3289729
C77: =C76+1 -> 75 | D77: 15 | E77: =F77*3.6 -> 24.14012 | F77: =D77/2.23694 -> 6.7055889 | G77: =G76+((F77+F76)/2) -> 587.18607 | H77: =(F77+F76)/2 -> 6.7055889 | I77: =(H77-F76)*2 -> 0 | J77: =IF(D77<=10,1,IF(AND(D77>10,D77<=20),2,IF(D77>20,3))) -> 2 | K77: 0 | L77: =('Specification & Data'!B$22*'Specification & Data'!B$10*'Specification & Data'!B$20*(Simulation!F77^2-'Specification & Data'!B$21^2))/2 -> 18.801287 | M77: =Q77*I77 -> 0 | N77: ='Specification & Data'!B$23*'Specification & Data'!B$18*8.91 -> 60.429669 | O77: =K77+L77+M77+N77 -> 79.230957 | P77: =IF(O77>=0,O77,IF(O77<0,-O77)) -> 79.230957 | Q77: =IF(J77=1,'Specification & Data'!B$52,IF(Simulation!J77=2,'Specification & Data'!B$53,IF(Simulation!J77=3,'Specification & Data'!B$54))) -> 568.92541 | R77: =(0.5*'Specification & Data'!B$18*Simulation!F77^2)/1000 -> 11.729325 | T77: =P77*'Specification & Data'!B$14*0.9 -> 21.026677 | U77: =T77/(IF(J77=1,'Specification & Data'!H$7,IF(Simulation!J77=2,'Specification & Data'!H$8,IF(Simulation!J77=3,'Specification & Data'!H$9)))) -> 1.2614925 | V77: =V76+(L77*F77/(1000*3600)) -> 0.0057145395 | W77: =W76+(IF(I77<0,AC77,0)) -> 0.017221874 | X77: =(P77*F77)/1000 -> 0.53129022 | Y77: =X77*1000/(746) -> 0.71218529 | Z77: =(60*1000*X77)/(2*PI()*U77) -> 4021.7821 | AA77: =ROUND(U77,0) -> 1 | AB77: =MROUND(Z77,500) -> 4000 | AC77: =X77/3600 -> 0.00014758062 | AD77: =AD76+AC77 -> 0.05123548 | AE77: =(O77*G77)/1000 -> 46.523314 | AF77: =(O77*F77)/1000 -> 0.53129022 | AG77: =AF77*1000/(746) -> 0.71218529 | AH77: =INDEX('Specification & Data'!E$24:R$46,MATCH(Simulation!AA77,'Specification & Data'!D$24:D$46,0),MATCH(Simulation!AB77,'Specification & Data'!E$47:R$47,0)) -> 944.35123 | AI77: =AF77/3600 -> 0.00014758062 | AJ77: =AC77*AH77 -> 0.13936794 | AK77: =AK76+AJ77 -> 24.519916 | AL77: 2.3289729
C78: =C77+1 -> 76 | D78: 15 | E78: =F78*3.6 -> 24.14012 | F78: =D78/2.23694 -> 6.7055889 | G78: =G77+((F78+F77)/2) -> 593.89166 | H78: =(F78+F77)/2 -> 6.7055889 | I78: =(H78-F77)*2 -> 0 | J78: =IF(D78<=10,1,IF(AND(D78>10,D78<=20),2,IF(D78>20,3))) -> 2 | K78: 0 | L78: =('Specification & Data'!B$22*'Specification & Data'!B$10*'Specification & Data'!B$20*(Simulation!F78^2-'Specification & Data'!B$21^2))/2 -> 18.801287 | M78: =Q78*I78 -> 0 | N78: ='Specification & Data'!B$23*'Specification & Data'!B$18*8.91 -> 60.429669 | O78: =K78+L78+M78+N78 -> 79.230957 | P78: =IF(O78>=0,O78,IF(O78<0,-O78)) -> 79.230957 | Q78: =IF(J78=1,'Specification & Data'!B$52,IF(Simulation!J78=2,'Specification & Data'!B$53,IF(Simulation!J78=3,'Specification & Data'!B$54))) -> 568.92541 | R78: =(0.5*'Specification & Data'!B$18*Simulation!F78^2)/1000 -> 11.729325 | T78: =P78*'Specification & Data'!B$14*0.9 -> 21.026677 | U78: =T78/(IF(J78=1,'Specification & Data'!H$7,IF(Simulation!J78=2,'Specification & Data'!H$8,IF(Simulation!J78=3,'Specification & Data'!H$9)))) -> 1.2614925 | V78: =V77+(L78*F78/(1000*3600)) -> 0.00574956 | W78: =W77+(IF(I78<0,AC78,0)) -> 0.017221874 | X78: =(P78*F78)/1000 -> 0.53129022 | Y78: =X78*1000/(746) -> 0.71218529 | Z78: =(60*1000*X78)/(2*PI()*U78) -> 4021.7821 | AA78: =ROUND(U78,0) -> 1 | AB78: =MROUND(Z78,500) -> 4000 | AC78: =X78/3600 -> 0.00014758062 | AD78: =AD77+AC78 -> 0.05138306 | AE78: =(O78*G78)/1000 -> 47.054604 | AF78: =(O78*F78)/1000 -> 0.53129022 | AG78: =AF78*1000/(746) -> 0.71218529 | AH78: =INDEX('Specification & Data'!E$24:R$46,MATCH(Simulation!AA78,'Specification & Data'!D$24:D$46,0),MATCH(Simulation!AB78,'Specification & Data'!E$47:R$47,0)) -> 944.35123 | AI78: =AF78/3600 -> 0.00014758062 | AJ78: =AC78*AH78 -> 0.13936794 | AK78: =AK77+AJ78 -> 24.659283 | AL78: 2.3289729
C79: =C78+1 -> 77 | D79: 15 | E79: =F79*3.6 -> 24.14012 | F79: =D79/2.23694 -> 6.7055889 | G79: =G78+((F79+F78)/2) -> 600.59724 | H79: =(F79+F78)/2 -> 6.7055889 | I79: =(H79-F78)*2 -> 0 | J79: =IF(D79<=10,1,IF(AND(D79>10,D79<=20),2,IF(D79>20,3))) -> 2 | K79: 0 | L79: =('Specification & Data'!B$22*'Specification & Data'!B$10*'Specification & Data'!B$20*(Simulation!F79^2-'Specification & Data'!B$21^2))/2 -> 18.801287 | M79: =Q79*I79 -> 0 | N79: ='Specification & Data'!B$23*'Specification & Data'!B$18*8.91 -> 60.429669 | O79: =K79+L79+M79+N79 -> 79.230957 | P79: =IF(O79>=0,O79,IF(O79<0,-O79)) -> 79.230957 | Q79: =IF(J79=1,'Specification & Data'!B$52,IF(Simulation!J79=2,'Specification & Data'!B$53,IF(Simulation!J79=3,'Specification & Data'!B$54))) -> 568.92541 | R79: =(0.5*'Specification & Data'!B$18*Simulation!F79^2)/1000 -> 11.729325 | T79: =P79*'Specification & Data'!B$14*0.9 -> 21.026677 | U79: =T79/(IF(J79=1,'Specification & Data'!H$7,IF(Simulation!J79=2,'Specification & Data'!H$8,IF(Simulation!J79=3,'Specification & Data'!H$9)))) -> 1.2614925 | V79: =V78+(L79*F79/(1000*3600)) -> 0.0057845805 | W79: =W78+(IF(I79<0,AC79,0)) -> 0.017221874 | X79: =(P79*F79)/1000 -> 0.53129022 | Y79: =X79*1000/(746) -> 0.71218529 | Z79: =(60*1000*X79)/(2*PI()*U79) -> 4021.7821 | AA79: =ROUND(U79,0) -> 1 | AB79: =MROUND(Z79,500) -> 4000 | AC79: =X79/3600 -> 0.00014758062 | AD79: =AD78+AC79 -> 0.051530641 | AE79: =(O79*G79)/1000 -> 47.585894 | AF79: =(O79*F79)/1000 -> 0.53129022 | AG79: =AF79*1000/(746) -> 0.71218529 | AH79: =INDEX('Specification & Data'!E$24:R$46,MATCH(Simulation!AA79,'Specification & Data'!D$24:D$46,0),MATCH(Simulation!AB79,'Specification & Data'!E$47:R$47,0)) -> 944.35123 | AI79: =AF79/3600 -> 0.00014758062 | AJ79: =AC79*AH79 -> 0.13936794 | AK79: =AK78+AJ79 -> 24.798651 | AL79: 2.3289729
... C81: =C80+1 -> 79 | D81: 15 | E81: =F81*3.6 -> 24.14012 | F81: =D81/2.23694 -> 6.7055889 | G81: =G80+((F81+F80)/2) -> 614.00842 | H81: =(F81+F80)/2 -> 6.7055889 | I81: =(H81-F80)*2 -> 0 | J81: =IF(D81<=10,1,IF(AND(D81>10,D81<=20),2,IF(D81>20,3))) -> 2 | K81: 0 | L81: =('Specification & Data'!B$22*'Specification & Data'!B$10*'Specification & Data'!B$20*(Simulation!F81^2-'Specification & Data'!B$21^2))/2 -> 18.801287 | M81: =Q81*I81 -> 0 | N81: ='Specification & Data'!B$23*'Specification & Data'!B$18*8.91 -> 60.429669 | O81: =K81+L81+M81+N81 -> 79.230957 | P81: =IF(O81>=0,O81,IF(O81<0,-O81)) -> 79.230957 | Q81: =IF(J81=1,'Specification & Data'!B$52,IF(Simulation!J81=2,'Specification & Data'!B$53,IF(Simulation!J81=3,'Specification & Data'!B$54))) -> 568.92541 | R81: =(0.5*'Specification & Data'!B$18*Simulation!F81^2)/1000 -> 11.729325 | T81: =P81*'Specification & Data'!B$14*0.9 -> 21.026677 | U81: =T81/(IF(J81=1,'Specification & Data'!H$7,IF(Simulation!J81=2,'Specification & Data'!H$8,IF(Simulation!J81=3,'Specification & Data'!H$9)))) -> 1.2614925 | V81: =V80+(L81*F81/(1000*3600)) -> 0.0058546214 | W81: =W80+(IF(I81<0,AC81,0)) -> 0.017221874 | X81: =(P81*F81)/1000 -> 0.53129022 | Y81: =X81*1000/(746) -> 0.71218529 | Z81: =(60*1000*X81)/(2*PI()*U81) -> 4021.7821 | AA81: =ROUND(U81,0) -> 1 | AB81: =MROUND(Z81,500) -> 4000 | AC81: =X81/3600 -> 0.00014758062 | AD81: =AD80+AC81 -> 0.051825802 | AE81: =(O81*G81)/1000 -> 48.648475 | AF81: =(O81*F81)/1000 -> 0.53129022 | AG81: =AF81*1000/(746) -> 0.71218529 | AH81: =INDEX('Specification & Data'!E$24:R$46,MATCH(Simulation!AA81,'Specification & Data'!D$24:D$46,0),MATCH(Simulation!AB81,'Specification & Data'!E$47:R$47,0)) -> 944.35123 | AI81: =AF81/3600 -> 0.00014758062 | AJ81: =AC81*AH81 -> 0.13936794 | AK81: =AK80+AJ81 -> 25.077387 | AL81: 2.3289729
B82: T2 finish | C82: =C81+1 -> 80 | D82: 15 | E82: =F82*3.6 -> 24.14012 | F82: =D82/2.23694 -> 6.7055889 | G82: =G81+((F82+F81)/2) -> 620.71401 | H82: =(F82+F81)/2 -> 6.7055889 | I82: =(H82-F81)*2 -> 0 | J82: =IF(D82<=10,1,IF(AND(D82>10,D82<=20),2,IF(D82>20,3))) -> 2 | K82: 0 | L82: =('Specification & Data'!B$22*'Specification & Data'!B$10*'Specification & Data'!B$20*(Simulation!F82^2-'Specification & Data'!B$21^2))/2 -> 18.801287 | M82: =Q82*I82 -> 0 | N82: ='Specification & Data'!B$23*'Specification & Data'!B$18*8.91 -> 60.429669 | O82: =K82+L82+M82+N82 -> 79.230957 | P82: =IF(O82>=0,O82,IF(O82<0,-O82)) -> 79.230957 | Q82: =IF(J82=1,'Specification & Data'!B$52,IF(Simulation!J82=2,'Specification & Data'!B$53,IF(Simulation!J82=3,'Specification & Data'!B$54))) -> 568.92541 | R82: =(0.5*'Specification & Data'!B$18*Simulation!F82^2)/1000 -> 11.729325 | T82: =P82*'Specification & Data'!B$14*0.9 -> 21.026677 | U82: =T82/(IF(J82=1,'Specification & Data'!H$7,IF(Simulation!J82=2,'Specification & Data'!H$8,IF(Simulation!J82=3,'Specification & Data'!H$9)))) -> 1.2614925 | V82: =V81+(L82*F82/(1000*3600)) -> 0.0058896419 | W82: =W81+(IF(I82<0,AC82,0)) -> 0.017221874 | X82: =(P82*F82)/1000 -> 0.53129022 | Y82: =X82*1000/(746) -> 0.71218529 | Z82: =(60*1000*X82)/(2*PI()*U82) -> 4021.7821 | AA82: =ROUND(U82,0) -> 1 | AB82: =MROUND(Z82,500) -> 4000 | AC82: =X82/3600 -> 0.00014758062 | AD82: =AD81+AC82 -> 0.051973383 | AE82: =(O82*G82)/1000 -> 49.179765 | AF82: =(O82*F82)/1000 -> 0.53129022 | AG82: =AF82*1000/(746) -> 0.71218529 | AH82: =INDEX('Specification & Data'!E$24:R$46,MATCH(Simulation!AA82,'Specification & Data'!D$24:D$46,0),MATCH(Simulation!AB82,'Specification & Data'!E$47:R$47,0)) -> 944.35123 | AI82: =AF82/3600 -> 0.00014758062 | AJ82: =AC82*AH82 -> 0.13936794 | AK82: =AK81+AJ82 -> 25.216755 | AL82: 2.3289729
C83: =C82+1 -> 81 | D83: 17 | E83: =F83*3.6 -> 27.358803 | F83: =D83/2.23694 -> 7.5996674 | G83: =G82+((F83+F82)/2) -> 627.86664 | H83: =(F83+F82)/2 -> 7.1526281 | I83: =(H83-F82)*2 -> 0.89407852 | J83: =IF(D83<=10,1,IF(AND(D83>10,D83<=20),2,IF(D83>20,3))) -> 2 | K83: 0 | L83: =('Specification & Data'!B$22*'Specification & Data'!B$10*'Specification & Data'!B$20*(Simulation!F83^2-'Specification & Data'!B$21^2))/2 -> 24.814209 | M83: =Q83*I83 -> 508.66399 | N83: ='Specification & Data'!B$23*'Specification & Data'!B$18*8.91 -> 60.429669 | O83: =K83+L83+M83+N83 -> 593.90787 | P83: =IF(O83>=0,O83,IF(O83<0,-O83)) -> 593.90787 | Q83: =IF(J83=1,'Specification & Data'!B$52,IF(Simulation!J83=2,'Specification & Data'!B$53,IF(Simulation!J83=3,'Specification & Data'!B$54))) -> 568.92541 | R83: =(0.5*'Specification & Data'!B$18*Simulation!F83^2)/1000 -> 15.065666 | T83: =P83*'Specification & Data'!B$14*0.9 -> 157.61401 | U83: =T83/(IF(J83=1,'Specification & Data'!H$7,IF(Simulation!J83=2,'Specification & Data'!H$8,IF(Simulation!J83=3,'Specification & Data'!H$9)))) -> 9.4560302 | V83: =V82+(L83*F83/(1000*3600)) -> 0.0059420252 | W83: =W82+(IF(I83<0,AC83,0)) -> 0.017221874 | X83: =(P83*F83)/1000 -> 4.5135023 | Y83: =X83*1000/(746) -> 6.0502711 | Z83: =(60*1000*X83)/(2*PI()*U83) -> 4558.0197 | AA83: =ROUND(U83,0) -> 9 | AB83: =MROUND(Z83,500) -> 4500 | AC83: =X83/3600 -> 0.0012537506 | AD83: =AD82+AC83 -> 0.053227133 | AE83: =(O83*G83)/1000 -> 372.89494 | AF83: =(O83*F83)/1000 -> 4.5135023 | AG83: =AF83*1000/(746) -> 6.0502711 | AH83: =INDEX('Specification & Data'!E$24:R$46,MATCH(Simulation!AA83,'Specification & Data'!D$24:D$46,0),MATCH(Simulation!AB83,'Specification & Data'!E$47:R$47,0)) -> 491.51302 | AI83: =AF83/3600 -> 0.0012537506 | AJ83: =AC83*AH83 -> 0.61623476 | AK83: =AK82+AJ83 -> 25.83299 | AL83: 2.3289729
C84: =C83+1 -> 82 | D84: 18.5 | E84: =F84*3.6 -> 29.772815 | F84: =D84/2.23694 -> 8.2702263 | G84: =G83+((F84+F83)/2) -> 635.80159 | H84: =(F84+F83)/2 -> 7.9349468 | I84: =(H84-F83)*2 -> 0.67055889 | J84: =IF(D84<=10,1,IF(AND(D84>10,D84<=20),2,IF(D84>20,3))) -> 2 | K84: 0 | L84: =('Specification & Data'!B$22*'Specification & Data'!B$10*'Specification & Data'!B$20*(Simulation!F84^2-'Specification & Data'!B$21^2))/2 -> 29.817147 | M84: =Q84*I84 -> 381.49799 | N84: ='Specification & Data'!B$23*'Specification & Data'!B$18*8.91 -> 60.429669 | O84: =K84+L84+M84+N84 -> 471.74481 | P84: =IF(O84>=0,O84,IF(O84<0,-O84)) -> 471.74481 | Q84: =IF(J84=1,'Specification & Data'!B$52,IF(Simulation!J84=2,'Specification & Data'!B$53,IF(Simulation!J84=3,'Specification & Data'!B$54))) -> 568.92541 | R84: =(0.5*'Specification & Data'!B$18*Simulation!F84^2)/1000 -> 17.841606 | T84: =P84*'Specification & Data'!B$14*0.9 -> 125.19381 | U84: =T84/(IF(J84=1,'Specification & Data'!H$7,IF(Simulation!J84=2,'Specification & Data'!H$8,IF(Simulation!J84=3,'Specification & Data'!H$9)))) -> 7.5109851 | V84: =V83+(L84*F84/(1000*3600)) -> 0.0060105237 | W84: =W83+(IF(I84<0,AC84,0)) -> 0.017221874 | X84: =(P84*F84)/1000 -> 3.9014363 | Y84: =X84*1000/(746) -> 5.2298074 | Z84: =(60*1000*X84)/(2*PI()*U84) -> 4960.1979 | AA84: =ROUND(U84,0) -> 8 | AB84: =MROUND(Z84,500) -> 5000 | AC84: =X84/3600 -> 0.0010837323 | AD84: =AD83+AC84 -> 0.054310866 | AE84: =(O84*G84)/1000 -> 299.9361 | AF84: =(O84*F84)/1000 -> 3.9014363 | AG84: =AF84*1000/(746) -> 5.2298074 | AH84: =INDEX('Specification & Data'!E$24:R$46,MATCH(Simulation!AA84,'Specification & Data'!D$24:D$46,0),MATCH(Simulation!AB84,'Specification & Data'!E$47:R$47,0)) -> 416.52538 | AI84: =AF84/3600 -> 0.0010837323 | AJ84: =AC84*AH84 -> 0.45140202 | AK84: =AK83+AJ84 -> 26.284392 | AL84: 2.3289729
C85: =C84+1 -> 83 | D85: 20 | E85: =F85*3.6 -> 32.186827 | F85: =D85/2.23694 -> 8.9407852 | G85: =G84+((F85+F84)/2) -> 644.40709 | H85: =(F85+F84)/2 -> 8.6055057 | I85: =(H85-F84)*2 -> 0.67055889 | J85: =IF(D85<=10,1,IF(AND(D85>10,D85<=20),2,IF(D85>20,3))) -> 2 | K85: 0 | L85: =('Specification & Data'!B$22*'Specification & Data'!B$10*'Specification & Data'!B$20*(Simulation!F85^2-'Specification & Data'!B$21^2))/2 -> 35.242869 | M85: =Q85*I85 -> 381.49799 | N85: ='Specification & Data'!B$23*'Specification & Data'!B$18*8.91 -> 60.429669 | O85: =K85+L85+M85+N85 -> 477.17053 | P85: =IF(O85>=0,O85,IF(O85<0,-O85)) -> 477.17053 | Q85: =IF(J85=1,'Specification & Data'!B$52,IF(Simulation!J85=2,'Specification & Data'!B$53,IF(Simulation!J85=3,'Specification & Data'!B$54))) -> 568.92541 | R85: =(0.5*'Specification & Data'!B$18*Simulation!F85^2)/1000 -> 20.852133 | T85: =P85*'Specification & Data'!B$14*0.9 -> 126.63372 | U85: =T85/(IF(J85=1,'Specification & Data'!H$7,IF(Simulation!J85=2,'Specification & Data'!H$8,IF(Simulation!J85=3,'Specification & Data'!H$9)))) -> 7.5973719 | V85: =V84+(L85*F85/(1000*3600)) -> 0.0060980511 | W85: =W84+(IF(I85<0,AC85,0)) -> 0.017221874 | X85: =(P85*F85)/1000 -> 4.2662792 | Y85: =X85*1000/(746) -> 5.718873 | Z85: =(60*1000*X85)/(2*PI()*U85) -> 5362.3761 | AA85: =ROUND(U85,0) -> 8 | AB85: =MROUND(Z85,500) -> 5500 | AC85: =X85/3600 -> 0.0011850776 | AD85: =AD84+AC85 -> 0.055495943 | AE85: =(O85*G85)/1000 -> 307.49207 | AF85: =(O85*F85)/1000 -> 4.2662792 | AG85: =AF85*1000/(746) -> 5.718873 | AH85: =INDEX('Specification & Data'!E$24:R$46,MATCH(Simulation!AA85,'Specification & Data'!D$24:D$46,0),MATCH(Simulation!AB85,'Specification & Data'!E$47:R$47,0)) -> 430.19859 | AI85: =AF85/3600 -> 0.0011850776 | AJ85: =AC85*AH85 -> 0.50981869 | AK85: =AK84+AJ85 -> 26.794211 | AL85: 2.3289729
C86: =C85+1 -> 84 | D86: 20.2 | E86: =F86*3.6 -> 32.508695 | F86: =D86/2.23694 -> 9.030193 | G86: =G85+((F86+F85)/2) -> 653.39258 | H86: =(F86+F85)/2 -> 8.9854891 | I86: =(H86-F85)*2 -> 0.089407852 | J86: =IF(D86<=10,1,IF(AND(D86>10,D86<=20),2,IF(D86>20,3))) -> 3 | K86: 0 | L86: =('Specification & Data'!B$22*'Specification & Data'!B$10*'Specification & Data'!B$20*(Simulation!F86^2-'Specification & Data'!B$21^2))/2 -> 35.998243 | M86: =Q86*I86 -> 50.593938 | N86: ='Specification & Data'!B$23*'Specification & Data'!B$18*8.91 -> 60.429669 | O86: =K86+L86+M86+N86 -> 147.02185 | P86: =IF(O86>=0,O86,IF(O86<0,-O86)) -> 147.02185 | Q86: =IF(J86=1,'Specification & Data'!B$52,IF(Simulation!J86=2,'Specification & Data'!B$53,IF(Simulation!J86=3,'Specification & Data'!B$54))) -> 565.87802 | R86: =(0.5*'Specification & Data'!B$18*Simulation!F86^2)/1000 -> 21.271261 | T86: =P86*'Specification & Data'!B$14*0.9 -> 39.017337 | U86: =T86/(IF(J86=1,'Specification & Data'!H$7,IF(Simulation!J86=2,'Specification & Data'!H$8,IF(Simulation!J86=3,'Specification & Data'!H$9)))) -> 3.0657448 | V86: =V85+(L86*F86/(1000*3600)) -> 0.0061883487 | W86: =W85+(IF(I86<0,AC86,0)) -> 0.017221874 | X86: =(P86*F86)/1000 -> 1.3276357 | Y86: =X86*1000/(746) -> 1.7796725 | Z86: =(60*1000*X86)/(2*PI()*U86) -> 4135.3694 | AA86: =ROUND(U86,0) -> 3 | AB86: =MROUND(Z86,500) -> 4000 | AC86: =X86/3600 -> 0.00036878769 | AD86: =AD85+AC86 -> 0.055864731 | AE86: =(O86*G86)/1000 -> 96.062986 | AF86: =(O86*F86)/1000 -> 1.3276357 | AG86: =AF86*1000/(746) -> 1.7796725 | AH86: =INDEX('Specification & Data'!E$24:R$46,MATCH(Simulation!AA86,'Specification & Data'!D$24:D$46,0),MATCH(Simulation!AB86,'Specification & Data'!E$47:R$47,0)) -> 746.95257 | AI86: =AF86/3600 -> 0.00036878769 | AJ86: =AC86*AH86 -> 0.27546691 | AK86: =AK85+AJ86 -> 27.069678 | AL86: 2.3289729
C87: =C86+1 -> 85 | D87: 21 | E87: =F87*3.6 -> 33.796168 | F87: =D87/2.23694 -> 9.3878244 | G87: =G86+((F87+F86)/2) -> 662.60159 | H87: =(F87+F86)/2 -> 9.2090087 | I87: =(H87-F86)*2 -> 0.35763141 | J87: =IF(D87<=10,1,IF(AND(D87>10,D87<=20),2,IF(D87>20,3))) -> 3 | K87: 0 | L87: =('Specification & Data'!B$22*'Specification & Data'!B$10*'Specification & Data'!B$20*(Simulation!F87^2-'Specification & Data'!B$21^2))/2 -> 39.094897 | M87: =Q87*I87 -> 202.37575 | N87: ='Specification & Data'!B$23*'Specification & Data'!B$18*8.91 -> 60.429669 | O87: =K87+L87+M87+N87 -> 301.90032 | P87: =IF(O87>=0,O87,IF(O87<0,-O87)) -> 301.90032 | Q87: =IF(J87=1,'Specification & Data'!B$52,IF(Simulation!J87=2,'Specification & Data'!B$53,IF(Simulation!J87=3,'Specification & Data'!B$54))) -> 565.87802 | R87: =(0.5*'Specification & Data'!B$18*Simulation!F87^2)/1000 -> 22.989477 | T87: =P87*'Specification & Data'!B$14*0.9 -> 80.1197 | U87: =T87/(IF(J87=1,'Specification & Data'!H$7,IF(Simulation!J87=2,'Specification & Data'!H$8,IF(Simulation!J87=3,'Specification & Data'!H$9)))) -> 6.2953181 | V87: =V86+(L87*F87/(1000*3600)) -> 0.0062902976 | W87: =W86+(IF(I87<0,AC87,0)) -> 0.017221874 | X87: =(P87*F87)/1000 -> 2.8341872 | Y87: =X87*1000/(746) -> 3.7991786 | Z87: =(60*1000*X87)/(2*PI()*U87) -> 4299.1464 | AA87: =ROUND(U87,0) -> 6 | AB87: =MROUND(Z87,500) -> 4500 | AC87: =X87/3600 -> 0.00078727422 | AD87: =AD86+AC87 -> 0.056652005 | AE87: =(O87*G87)/1000 -> 200.03963 | AF87: =(O87*F87)/1000 -> 2.8341872 | AG87: =AF87*1000/(746) -> 3.7991786 | AH87: =INDEX('Specification & Data'!E$24:R$46,MATCH(Simulation!AA87,'Specification & Data'!D$24:D$46,0),MATCH(Simulation!AB87,'Specification & Data'!E$47:R$47,0)) -> 560.7605 | AI87: =AF87/3600 -> 0.00078727422 | AJ87: =AC87*AH87 -> 0.44147228 | AK87: =AK86+AJ87 -> 27.51115 | AL87: 2.3289729
C88: =C87+1 -> 86 | D88: 22 | E88: =F88*3.6 -> 35.405509 | F88: =D88/2.23694 -> 9.8348637 | G88: =G87+((F88+F87)/2) -> 672.21293 | H88: =(F88+F87)/2 -> 9.6113441 | I88: =(H88-F87)*2 -> 0.44703926 | J88: =IF(D88<=10,1,IF(AND(D88>10,D88<=20),2,IF(D88>20,3))) -> 3 | K88: 0 | L88: =('Specification & Data'!B$22*'Specification & Data'!B$10*'Specification & Data'!B$20*(Simulation!F88^2-'Specification & Data'!B$21^2))/2 -> 43.134829 | M88: =Q88*I88 -> 252.96969 | N88: ='Specification & Data'!B$23*'Specification & Data'!B$18*8.91 -> 60.429669 | O88: =K88+L88+M88+N88 -> 356.53419 | P88: =IF(O88>=0,O88,IF(O88<0,-O88)) -> 356.53419 | Q88: =IF(J88=1,'Specification & Data'!B$52,IF(Simulation!J88=2,'Specification & Data'!B$53,IF(Simulation!J88=3,'Specification & Data'!B$54))) -> 565.87802 | R88: =(0.5*'Specification & Data'!B$18*Simulation!F88^2)/1000 -> 25.231081 | T88: =P88*'Specification & Data'!B$14*0.9 -> 94.618689 | U88: =T88/(IF(J88=1,'Specification & Data'!H$7,IF(Simulation!J88=2,'Specification & Data'!H$8,IF(Simulation!J88=3,'Specification & Data'!H$9)))) -> 7.4345604 | V88: =V87+(L88*F88/(1000*3600)) -> 0.0064081379 | W88: =W87+(IF(I88<0,AC88,0)) -> 0.017221874 | X88: =(P88*F88)/1000 -> 3.5064652 | Y88: =X88*1000/(746) -> 4.7003555 | Z88: =(60*1000*X88)/(2*PI()*U88) -> 4503.8676 | AA88: =ROUND(U88,0) -> 7 | AB88: =MROUND(Z88,500) -> 4500 | AC88: =X88/3600 -> 0.0009740181 | AD88: =AD87+AC88 -> 0.057626023 | AE88: =(O88*G88)/1000 -> 239.66689 | AF88: =(O88*F88)/1000 -> 3.5064652 | AG88: =AF88*1000/(746) -> 4.7003555 | AH88: =INDEX('Specification & Data'!E$24:R$46,MATCH(Simulation!AA88,'Specification & Data'!D$24:D$46,0),MATCH(Simulation!AB88,'Specification & Data'!E$47:R$47,0)) -> 525.11244 | AI88: =AF88/3600 -> 0.0009740181 | AJ88: =AC88*AH88 -> 0.51146903 | AK88: =AK87+AJ88 -> 28.022619 | AL88: 2.3289729
C89: =C88+1 -> 87 | D89: 23 | E89: =F89*3.6 -> 37.014851 | F89: =D89/2.23694 -> 10.281903 | G89: =G88+((F89+F88)/2) -> 682.27132 | H89: =(F89+F88)/2 -> 10.058383 | I89: =(H89-F88)*2 -> 0.44703926 | J89: =IF(D89<=10,1,IF(AND(D89>10,D89<=20),2,IF(D89>20,3))) -> 3 | K89: 0 | L89: =('Specification & Data'!B$22*'Specification & Data'!B$10*'Specification & Data'!B$20*(Simulation!F89^2-'Specification & Data'!B$21^2))/2 -> 47.362664 | M89: =Q89*I89 -> 252.96969 | N89: ='Specification & Data'!B$23*'Specification & Data'!B$18*8.91 -> 60.429669 | O89: =K89+L89+M89+N89 -> 360.76203 | P89: =IF(O89>=0,O89,IF(O89<0,-O89)) -> 360.76203 | Q89: =IF(J89=1,'Specification & Data'!B$52,IF(Simulation!J89=2,'Specification & Data'!B$53,IF(Simulation!J89=3,'Specification & Data'!B$54))) -> 565.87802 | R89: =(0.5*'Specification & Data'!B$18*Simulation!F89^2)/1000 -> 27.576946 | T89: =P89*'Specification & Data'!B$14*0.9 -> 95.740691 | U89: =T89/(IF(J89=1,'Specification & Data'!H$7,IF(Simulation!J89=2,'Specification & Data'!H$8,IF(Simulation!J89=3,'Specification & Data'!H$9)))) -> 7.5227205 | V89: =V88+(L89*F89/(1000*3600)) -> 0.0065434096 | W89: =W88+(IF(I89<0,AC89,0)) -> 0.017221874 | X89: =(P89*F89)/1000 -> 3.7093201 | Y89: =X89*1000/(746) -> 4.972279 | Z89: =(60*1000*X89)/(2*PI()*U89) -> 4708.5889 | AA89: =ROUND(U89,0) -> 8 | AB89: =MROUND(Z89,500) -> 4500 | AC89: =X89/3600 -> 0.0010303667 | AD89: =AD88+AC89 -> 0.05865639 | AE89: =(O89*G89)/1000 -> 246.13758 | AF89: =(O89*F89)/1000 -> 3.7093201 | AG89: =AF89*1000/(746) -> 4.972279 | AH89: =INDEX('Specification & Data'!E$24:R$46,MATCH(Simulation!AA89,'Specification & Data'!D$24:D$46,0),MATCH(Simulation!AB89,'Specification & Data'!E$47:R$47,0)) -> 489.46439 | AI89: =AF89/3600 -> 0.0010303667 | AJ89: =AC89*AH89 -> 0.50432781 | AK89: =AK88+AJ89 -> 28.526947 | AL89: 2.3289729
B90: slop 1 up | C90: =C89+1 -> 88 | D90: 23 | E90: =F90*3.6 -> 37.014851 | F90: =D90/2.23694 -> 10.281903 | G90: =G89+((F90+F89)/2) -> 692.55322 | H90: =(F90+F89)/2 -> 10.281903 | I90: =(H90-F89)*2 -> 0 | J90: =IF(D90<=10,1,IF(AND(D90>10,D90<=20),2,IF(D90>20,3))) -> 3 | K90: ='Specification & Data'!B$18*9.81*'Specification & Data'!L$13 -> 709.55607 | L90: =('Specification & Data'!B$22*'Specification & Data'!B$10*'Specification & Data'!B$20*(Simulation!F90^2-'Specification & Data'!B$21^2))/2 -> 47.362664 | M90: =Q90*I90 -> 0 | N90: ='Specification & Data'!B$23*'Specification & Data'!B$18*8.91 -> 60.429669 | O90: =K90+L90+M90+N90 -> 817.3484 | P90: =IF(O90>=0,O90,IF(O90<0,-O90)) -> 817.3484 | Q90: =IF(J90=1,'Specification & Data'!B$52,IF(Simulation!J90=2,'Specification & Data'!B$53,IF(Simulation!J90=3,'Specification & Data'!B$54))) -> 565.87802 | R90: =(0.5*'Specification & Data'!B$18*Simulation!F90^2)/1000 -> 27.576946 | T90: =P90*'Specification & Data'!B$14*0.9 -> 216.91169 | U90: =T90/(IF(J90=1,'Specification & Data'!H$7,IF(Simulation!J90=2,'Specification & Data'!H$8,IF(Simulation!J90=3,'Specification & Data'!H$9)))) -> 17.0436 | V90: =V89+(L90*F90/(1000*3600)) -> 0.0066786814 | W90: =W89+(IF(I90<0,AC90,0)) -> 0.017221874 | X90: =(P90*F90)/1000 -> 8.4038969 | Y90: =X90*1000/(746) -> 11.265277 | Z90: =(60*1000*X90)/(2*PI()*U90) -> 4708.5889 | AA90: =ROUND(U90,0) -> 17 | AB90: =MROUND(Z90,500) -> 4500 | AC90: =X90/3600 -> 0.0023344158 | AD90: =AD89+AC90 -> 0.060990806 | AE90: =(O90*G90)/1000 -> 566.05727 | AF90: =(O90*F90)/1000 -> 8.4038969 | AG90: =AF90*1000/(746) -> 11.265277 | AH90: =INDEX('Specification & Data'!E$24:R$46,MATCH(Simulation!AA90,'Specification & Data'!D$24:D$46,0),MATCH(Simulation!AB90,'Specification & Data'!E$47:R$47,0)) -> 453.02166 | AI90: =AF90/3600 -> 0.0023344158 | AJ90: =AC90*AH90 -> 1.0575409 | AK90: =AK89+AJ90 -> 29.584488 | AL90: 2.3289729
B91: slop 1 up | C91: =C90+1 -> 89 | D91: 23 | E91: =F91*3.6 -> 37.014851 | F91: =D91/2.23694 -> 10.281903 | G91: =G90+((F91+F90)/2) -> 702.83512 | H91: =(F91+F90)/2 -> 10.281903 | I91: =(H91-F90)*2 -> 0 | J91: =IF(D91<=10,1,IF(AND(D91>10,D91<=20),2,IF(D91>20,3))) -> 3 | K91: ='Specification & Data'!B$18*9.81*'Specification & Data'!L$13 -> 709.55607 | L91: =('Specification & Data'!B$22*'Specification & Data'!B$10*'Specification & Data'!B$20*(Simulation!F91^2-'Specification & Data'!B$21^2))/2 -> 47.362664 | M91: =Q91*I91 -> 0 | N91: ='Specification & Data'!B$23*'Specification & Data'!B$18*8.91 -> 60.429669 | O91: =K91+L91+M91+N91 -> 817.3484 | P91: =IF(O91>=0,O91,IF(O91<0,-O91)) -> 817.3484 | Q91: =IF(J91=1,'Specification & Data'!B$52,IF(Simulation!J91=2,'Specification & Data'!B$53,IF(Simulation!J91=3,'Specification & Data'!B$54))) -> 565.87802 | R91: =(0.5*'Specification & Data'!B$18*Simulation!F91^2)/1000 -> 27.576946 | T91: =P91*'Specification & Data'!B$14*0.9 -> 216.91169 | U91: =T91/(IF(J91=1,'Specification & Data'!H$7,IF(Simulation!J91=2,'Specification & Data'!H$8,IF(Simulation!J91=3,'Specification & Data'!H$9)))) -> 17.0436 | V91: =V90+(L91*F91/(1000*3600)) -> 0.0068139531 | W91: =W90+(IF(I91<0,AC91,0)) -> 0.017221874 | X91: =(P91*F91)/1000 -> 8.4038969 | Y91: =X91*1000/(746) -> 11.265277 | Z91: =(60*1000*X91)/(2*PI()*U91) -> 4708.5889 | AA91: =ROUND(U91,0) -> 17 | AB91: =MROUND(Z91,500) -> 4500 | AC91: =X91/3600 -> 0.0023344158 | AD91: =AD90+AC91 -> 0.063325222 | AE91: =(O91*G91)/1000 -> 574.46116 | AF91: =(O91*F91)/1000 -> 8.4038969 | AG91: =AF91*1000/(746) -> 11.265277 | AH91: =INDEX('Specification & Data'!E$24:R$46,MATCH(Simulation!AA91,'Specification & Data'!D$24:D$46,0),MATCH(Simulation!AB91,'Specification & Data'!E$47:R$47,0)) -> 453.02166 | AI91: =AF91/3600 -> 0.0023344158 | AJ91: =AC91*AH91 -> 1.0575409 | AK91: =AK90+AJ91 -> 30.642029 | AL91: 2.3289729
B92: slop 1 up | C92: =C91+1 -> 90 | D92: 23 | E92: =F92*3.6 -> 37.014851 | F92: =D92/2.23694 -> 10.281903 | G92: =G91+((F92+F91)/2) -> 713.11703 | H92: =(F92+F91)/2 -> 10.281903 | I92: =(H92-F91)*2 -> 0 | J92: =IF(D92<=10,1,IF(AND(D92>10,D92<=20),2,IF(D92>20,3))) -> 3 | K92: ='Specification & Data'!B$18*9.81*'Specification & Data'!L$13 -> 709.55607 | L92: =('Specification & Data'!B$22*'Specification & Data'!B$10*'Specification & Data'!B$20*(Simulation!F92^2-'Specification & Data'!B$21^2))/2 -> 47.362664 | M92: =Q92*I92 -> 0 | N92: ='Specification & Data'!B$23*'Specification & Data'!B$18*8.91 -> 60.429669 | O92: =K92+L92+M92+N92 -> 817.3484 | P92: =IF(O92>=0,O92,IF(O92<0,-O92)) -> 817.3484 | Q92: =IF(J92=1,'Specification & Data'!B$52,IF(Simulation!J92=2,'Specification & Data'!B$53,IF(Simulation!J92=3,'Specification & Data'!B$54))) -> 565.87802 | R92: =(0.5*'Specification & Data'!B$18*Simulation!F92^2)/1000 -> 27.576946 | T92: =P92*'Specification & Data'!B$14*0.9 -> 216.91169 | U92: =T92/(IF(J92=1,'Specification & Data'!H$7,IF(Simulation!J92=2,'Specification & Data'!H$8,IF(Simulation!J92=3,'Specification & Data'!H$9)))) -> 17.0436 | V92: =V91+(L92*F92/(1000*3600)) -> 0.0069492249 | W92: =W91+(IF(I92<0,AC92,0)) -> 0.017221874 | X92: =(P92*F92)/1000 -> 8.4038969 | Y92: =X92*1000/(746) -> 11.265277 | Z92: =(60*1000*X92)/(2*PI()*U92) -> 4708.5889 | AA92: =ROUND(U92,0) -> 17 | AB92: =MROUND(Z92,500) -> 4500 | AC92: =X92/3600 -> 0.0023344158 | AD92: =AD91+AC92 -> 0.065659637 | AE92: =(O92*G92)/1000 -> 582.86506 | AF92: =(O92*F92)/1000 -> 8.4038969 | AG92: =AF92*1000/(746) -> 11.265277 | AH92: =INDEX('Specification & Data'!E$24:R$46,MATCH(Simulation!AA92,'Specification & Data'!D$24:D$46,0),MATCH(Simulation!AB92,'Specification & Data'!E$47:R$47,0)) -> 453.02166 | AI92: =AF92/3600 -> 0.0023344158 | AJ92: =AC92*AH92 -> 1.0575409 | AK92: =AK91+AJ92 -> 31.69957 | AL92: 2.3289729
B93: slop 1 up | C93: =C92+1 -> 91 | D93: 23 | E93: =F93*3.6 -> 37.014851 | F93: =D93/2.23694 -> 10.281903 | G93: =G92+((F93+F92)/2) -> 723.39893 | H93: =(F93+F92)/2 -> 10.281903 | I93: =(H93-F92)*2 -> 0 | J93: =IF(D93<=10,1,IF(AND(D93>10,D93<=20),2,IF(D93>20,3))) -> 3 | K93: ='Specification & Data'!B$18*9.81*'Specification & Data'!L$13 -> 709.55607 | L93: =('Specification & Data'!B$22*'Specification & Data'!B$10*'Specification & Data'!B$20*(Simulation!F93^2-'Specification & Data'!B$21^2))/2 -> 47.362664 | M93: =Q93*I93 -> 0 | N93: ='Specification & Data'!B$23*'Specification & Data'!B$18*8.91 -> 60.429669 | O93: =K93+L93+M93+N93 -> 817.3484 | P93: =IF(O93>=0,O93,IF(O93<0,-O93)) -> 817.3484 | Q93: =IF(J93=1,'Specification & Data'!B$52,IF(Simulation!J93=2,'Specification & Data'!B$53,IF(Simulation!J93=3,'Specification & Data'!B$54))) -> 565.87802 | R93: =(0.5*'Specification & Data'!B$18*Simulation!F93^2)/1000 -> 27.576946 | T93: =P93*'Specification & Data'!B$14*0.9 -> 216.91169 | U93: =T93/(IF(J93=1,'Specification & Data'!H$7,IF(Simulation!J93=2,'Specification & Data'!H$8,IF(Simulation!J93=3,'Specification & Data'!H$9)))) -> 17.0436 | V93: =V92+(L93*F93/(1000*3600)) -> 0.0070844967 | W93: =W92+(IF(I93<0,AC93,0)) -> 0.017221874 | X93: =(P93*F93)/1000 -> 8.4038969 | Y93: =X93*1000/(746) -> 11.265277 | Z93: =(60*1000*X93)/(2*PI()*U93) -> 4708.5889 | AA93: =ROUND(U93,0) -> 17 | AB93: =MROUND(Z93,500) -> 4500 | AC93: =X93/3600 -> 0.0023344158 | AD93: =AD92+AC93 -> 0.067994053 | AE93: =(O93*G93)/1000 -> 591.26896 | AF93: =(O93*F93)/1000 -> 8.4038969 | AG93: =AF93*1000/(746) -> 11.265277 | AH93: =INDEX('Specification & Data'!E$24:R$46,MATCH(Simulation!AA93,'Specification & Data'!D$24:D$46,0),MATCH(Simulation!AB93,'Specification & Data'!E$47:R$47,0)) -> 453.02166 | AI93: =AF93/3600 -> 0.0023344158 | AJ93: =AC93*AH93 -> 1.0575409 | AK93: =AK92+AJ93 -> 32.75711 | AL93: 2.3289729
B94: slop 1 up | C94: =C93+1 -> 92 | D94: 23 | E94: =F94*3.6 -> 37.014851 | F94: =D94/2.23694 -> 10.281903 | G94: =G93+((F94+F93)/2) -> 733.68083 | H94: =(F94+F93)/2 -> 10.281903 | I94: =(H94-F93)*2 -> 0 | J94: =IF(D94<=10,1,IF(AND(D94>10,D94<=20),2,IF(D94>20,3))) -> 3 | K94: ='Specification & Data'!B$18*9.81*'Specification & Data'!L$13 -> 709.55607 | L94: =('Specification & Data'!B$22*'Specification & Data'!B$10*'Specification & Data'!B$20*(Simulation!F94^2-'Specification & Data'!B$21^2))/2 -> 47.362664 | M94: =Q94*I94 -> 0 | N94: ='Specification & Data'!B$23*'Specification & Data'!B$18*8.91 -> 60.429669 | O94: =K94+L94+M94+N94 -> 817.3484 | P94: =IF(O94>=0,O94,IF(O94<0,-O94)) -> 817.3484 | Q94: =IF(J94=1,'Specification & Data'!B$52,IF(Simulation!J94=2,'Specification & Data'!B$53,IF(Simulation!J94=3,'Specification & Data'!B$54))) -> 565.87802 | R94: =(0.5*'Specification & Data'!B$18*Simulation!F94^2)/1000 -> 27.576946 | T94: =P94*'Specification & Data'!B$14*0.9 -> 216.91169 | U94: =T94/(IF(J94=1,'Specification & Data'!H$7,IF(Simulation!J94=2,'Specification & Data'!H$8,IF(Simulation!J94=3,'Specification & Data'!H$9)))) -> 17.0436 | V94: =V93+(L94*F94/(1000*3600)) -> 0.0072197684 | W94: =W93+(IF(I94<0,AC94,0)) -> 0.017221874 | X94: =(P94*F94)/1000 -> 8.4038969 | Y94: =X94*1000/(746) -> 11.265277 | Z94: =(60*1000*X94)/(2*PI()*U94) -> 4708.5889 | AA94: =ROUND(U94,0) -> 17 | AB94: =MROUND(Z94,500) -> 4500 | AC94: =X94/3600 -> 0.0023344158 | AD94: =AD93+AC94 -> 0.070328469 | AE94: =(O94*G94)/1000 -> 599.67285 | AF94: =(O94*F94)/1000 -> 8.4038969 | AG94: =AF94*1000/(746) -> 11.265277 | AH94: =INDEX('Specification & Data'!E$24:R$46,MATCH(Simulation!AA94,'Specification & Data'!D$24:D$46,0),MATCH(Simulation!AB94,'Specification & Data'!E$47:R$47,0)) -> 453.02166 | AI94: =AF94/3600 -> 0.0023344158 | AJ94: =AC94*AH94 -> 1.0575409 | AK94: =AK93+AJ94 -> 33.814651 | AL94: 2.3289729
C95: =C94+1 -> 93 | D95: 22 | E95: =F95*3.6 -> 35.405509 | F95: =D95/2.23694 -> 9.8348637 | G95: =G94+((F95+F94)/2) -> 743.73922 | H95: =(F95+F94)/2 -> 10.058383 | I95: =(H95-F94)*2 -> -0.44703926 | J95: =IF(D95<=10,1,IF(AND(D95>10,D95<=20),2,IF(D95>20,3))) -> 3 | K95: 0 | L95: =('Specification & Data'!B$22*'Specification & Data'!B$10*'Specification & Data'!B$20*(Simulation!F95^2-'Specification & Data'!B$21^2))/2 -> 43.134829 | M95: =Q95*I95 -> -252.96969 | N95: ='Specification & Data'!B$23*'Specification & Data'!B$18*8.91 -> 60.429669 | O95: =K95+L95+M95+N95 -> -149.40519 | P95: =IF(O95>=0,O95,IF(O95<0,-O95)) -> 149.40519 | Q95: =IF(J95=1,'Specification & Data'!B$52,IF(Simulation!J95=2,'Specification & Data'!B$53,IF(Simulation!J95=3,'Specification & Data'!B$54))) -> 565.87802 | R95: =(0.5*'Specification & Data'!B$18*Simulation!F95^2)/1000 -> 25.231081 | T95: =P95*'Specification & Data'!B$14*0.9 -> 39.64984 | U95: =T95/(IF(J95=1,'Specification & Data'!H$7,IF(Simulation!J95=2,'Specification & Data'!H$8,IF(Simulation!J95=3,'Specification & Data'!H$9)))) -> 3.115443 | V95: =V94+(L95*F95/(1000*3600)) -> 0.0073376087 | W95: =W94+(IF(I95<0,AC95,0)) -> 0.017630035 | X95: =(P95*F95)/1000 -> 1.4693797 | Y95: =X95*1000/(746) -> 1.9696779 | Z95: =(60*1000*X95)/(2*PI()*U95) -> 4503.8676 | AA95: =ROUND(U95,0) -> 3 | AB95: =MROUND(Z95,500) -> 4500 | AC95: =X95/3600 -> 0.00040816103 | AD95: =AD94+AC95 -> 0.07073663 | AE95: =(O95*G95)/1000 -> -111.1185 | AF95: =(O95*F95)/1000 -> -1.4693797 | AG95: =AF95*1000/(746) -> -1.9696779 | AH95: =INDEX('Specification & Data'!E$24:R$46,MATCH(Simulation!AA95,'Specification & Data'!D$24:D$46,0),MATCH(Simulation!AB95,'Specification & Data'!E$47:R$47,0)) -> 739.33341 | AI95: =AF95/3600 -> -0.00040816103 | AJ95: =AC95*AH95 -> 0.30176709 | AK95: =AK94+AJ95 -> 34.116418 | AL95: 2.3289729
C96: =C95+1 -> 94 | D96: 21 | E96: =F96*3.6 -> 33.796168 | F96: =D96/2.23694 -> 9.3878244 | G96: =G95+((F96+F95)/2) -> 753.35056 | H96: =(F96+F95)/2 -> 9.6113441 | I96: =(H96-F95)*2 -> -0.44703926 | J96: =IF(D96<=10,1,IF(AND(D96>10,D96<=20),2,IF(D96>20,3))) -> 3 | K96: 0 | L96: =('Specification & Data'!B$22*'Specification & Data'!B$10*'Specification & Data'!B$20*(Simulation!F96^2-'Specification & Data'!B$21^2))/2 -> 39.094897 | M96: =Q96*I96 -> -252.96969 | N96: ='Specification & Data'!B$23*'Specification & Data'!B$18*8.91 -> 60.429669 | O96: =K96+L96+M96+N96 -> -153.44513 | P96: =IF(O96>=0,O96,IF(O96<0,-O96)) -> 153.44513 | Q96: =IF(J96=1,'Specification & Data'!B$52,IF(Simulation!J96=2,'Specification & Data'!B$53,IF(Simulation!J96=3,'Specification & Data'!B$54))) -> 565.87802 | R96: =(0.5*'Specification & Data'!B$18*Simulation!F96^2)/1000 -> 22.989477 | T96: =P96*'Specification & Data'!B$14*0.9 -> 40.721976 | U96: =T96/(IF(J96=1,'Specification & Data'!H$7,IF(Simulation!J96=2,'Specification & Data'!H$8,IF(Simulation!J96=3,'Specification & Data'!H$9)))) -> 3.1996849 | V96: =V95+(L96*F96/(1000*3600)) -> 0.0074395576 | W96: =W95+(IF(I96<0,AC96,0)) -> 0.018030178 | X96: =(P96*F96)/1000 -> 1.4405159 | Y96: =X96*1000/(746) -> 1.9309865 | Z96: =(60*1000*X96)/(2*PI()*U96) -> 4299.1464 | AA96: =ROUND(U96,0) -> 3 | AB96: =MROUND(Z96,500) -> 4500 | AC96: =X96/3600 -> 0.00040014331 | AD96: =AD95+AC96 -> 0.071136773 | AE96: =(O96*G96)/1000 -> -115.59797 | AF96: =(O96*F96)/1000 -> -1.4405159 | AG96: =AF96*1000/(746) -> -1.9309865 | AH96: =INDEX('Specification & Data'!E$24:R$46,MATCH(Simulation!AA96,'Specification & Data'!D$24:D$46,0),MATCH(Simulation!AB96,'Specification & Data'!E$47:R$47,0)) -> 739.33341 | AI96: =AF96/3600 -> -0.00040014331 | AJ96: =AC96*AH96 -> 0.29583932 | AK96: =AK95+AJ96 -> 34.412258 | AL96: 2.3289729
C97: =C96+1 -> 95 | D97: 20 | E97: =F97*3.6 -> 32.186827 | F97: =D97/2.23694 -> 8.9407852 | G97: =G96+((F97+F96)/2) -> 762.51486 | H97: =(F97+F96)/2 -> 9.1643048 | I97: =(H97-F96)*2 -> -0.44703926 | J97: =IF(D97<=10,1,IF(AND(D97>10,D97<=20),2,IF(D97>20,3))) -> 2 | K97: 0 | L97: =('Specification & Data'!B$22*'Specification & Data'!B$10*'Specification & Data'!B$20*(Simulation!F97^2-'Specification & Data'!B$21^2))/2 -> 35.242869 | M97: =Q97*I97 -> -254.332 | N97: ='Specification & Data'!B$23*'Specification & Data'!B$18*8.91 -> 60.429669 | O97: =K97+L97+M97+N97 -> -158.65946 | P97: =IF(O97>=0,O97,IF(O97<0,-O97)) -> 158.65946 | Q97: =IF(J97=1,'Specification & Data'!B$52,IF(Simulation!J97=2,'Specification & Data'!B$53,IF(Simulation!J97=3,'Specification & Data'!B$54))) -> 568.92541 | R97: =(0.5*'Specification & Data'!B$18*Simulation!F97^2)/1000 -> 20.852133 | T97: =P97*'Specification & Data'!B$14*0.9 -> 42.105779 | U97: =T97/(IF(J97=1,'Specification & Data'!H$7,IF(Simulation!J97=2,'Specification & Data'!H$8,IF(Simulation!J97=3,'Specification & Data'!H$9)))) -> 2.5261302 | V97: =V96+(L97*F97/(1000*3600)) -> 0.0075270851 | W97: =W96+(IF(I97<0,AC97,0)) -> 0.018424217 | X97: =(P97*F97)/1000 -> 1.4185401 | Y97: =X97*1000/(746) -> 1.9015283 | Z97: =(60*1000*X97)/(2*PI()*U97) -> 5362.3761 | AA97: =ROUND(U97,0) -> 3 | AB97: =MROUND(Z97,500) -> 5500 | AC97: =X97/3600 -> 0.00039403892 | AD97: =AD96+AC97 -> 0.071530812 | AE97: =(O97*G97)/1000 -> -120.98019 | AF97: =(O97*F97)/1000 -> -1.4185401 | AG97: =AF97*1000/(746) -> -1.9015283 | AH97: =INDEX('Specification & Data'!E$24:R$46,MATCH(Simulation!AA97,'Specification & Data'!D$24:D$46,0),MATCH(Simulation!AB97,'Specification & Data'!E$47:R$47,0)) -> 724.0951 | AI97: =AF97/3600 -> -0.00039403892 | AJ97: =AC97*AH97 -> 0.28532165 | AK97: =AK96+AJ97 -> 34.697579 | AL97: 2.3289729
C98: =C97+1 -> 96 | D98: 19.8 | E98: =F98*3.6 -> 31.864958 | F98: =D98/2.23694 -> 8.8513773 | G98: =G97+((F98+F97)/2) -> 771.41095 | H98: =(F98+F97)/2 -> 8.8960813 | I98: =(H98-F97)*2 -> -0.089407852 | J98: =IF(D98<=10,1,IF(AND(D98>10,D98<=20),2,IF(D98>20,3))) -> 2 | K98: 0 | L98: =('Specification & Data'!B$22*'Specification & Data'!B$10*'Specification & Data'!B$20*(Simulation!F98^2-'Specification & Data'!B$21^2))/2 -> 34.495012 | M98: =Q98*I98 -> -50.866399 | N98: ='Specification & Data'!B$23*'Specification & Data'!B$18*8.91 -> 60.429669 | O98: =K98+L98+M98+N98 -> 44.058283 | P98: =IF(O98>=0,O98,IF(O98<0,-O98)) -> 44.058283 | Q98: =IF(J98=1,'Specification & Data'!B$52,IF(Simulation!J98=2,'Specification & Data'!B$53,IF(Simulation!J98=3,'Specification & Data'!B$54))) -> 568.92541 | R98: =(0.5*'Specification & Data'!B$18*Simulation!F98^2)/1000 -> 20.437176 | T98: =P98*'Specification & Data'!B$14*0.9 -> 11.69239 | U98: =T98/(IF(J98=1,'Specification & Data'!H$7,IF(Simulation!J98=2,'Specification & Data'!H$8,IF(Simulation!J98=3,'Specification & Data'!H$9)))) -> 0.70148329 | V98: =V97+(L98*F98/(1000*3600)) -> 0.0076118985 | W98: =W97+(IF(I98<0,AC98,0)) -> 0.018532544 | X98: =(P98*F98)/1000 -> 0.38997648 | Y98: =X98*1000/(746) -> 0.52275668 | Z98: =(60*1000*X98)/(2*PI()*U98) -> 5308.7524 | AA98: =ROUND(U98,0) -> 1 | AB98: =MROUND(Z98,500) -> 5500 | AC98: =X98/3600 -> 0.0001083268 | AD98: =AD97+AC98 -> 0.071639139 | AE98: =(O98*G98)/1000 -> 33.987041 | AF98: =(O98*F98)/1000 -> 0.38997648 | AG98: =AF98*1000/(746) -> 0.52275668 | AH98: =INDEX('Specification & Data'!E$24:R$46,MATCH(Simulation!AA98,'Specification & Data'!D$24:D$46,0),MATCH(Simulation!AB98,'Specification & Data'!E$47:R$47,0)) -> 863.13182 | AI98: =AF98/3600 -> 0.0001083268 | AJ98: =AC98*AH98 -> 0.093500308 | AK98: =AK97+AJ98 -> 34.79108 | AL98: 2.3289729
C99: =C98+1 -> 97 | D99: 19 | E99: =F99*3.6 -> 30.577485 | F99: =D99/2.23694 -> 8.4937459 | G99: =G98+((F99+F98)/2) -> 780.08351 | H99: =(F99+F98)/2 -> 8.6725616 | I99: =(H99-F98)*2 -> -0.35763141 | J99: =IF(D99<=10,1,IF(AND(D99>10,D99<=20),2,IF(D99>20,3))) -> 2 | K99: 0 | L99: =('Specification & Data'!B$22*'Specification & Data'!B$10*'Specification & Data'!B$20*(Simulation!F99^2-'Specification & Data'!B$21^2))/2 -> 31.578745 | M99: =Q99*I99 -> -203.4656 | N99: ='Specification & Data'!B$23*'Specification & Data'!B$18*8.91 -> 60.429669 | O99: =K99+L99+M99+N99 -> -111.45718 | P99: =IF(O99>=0,O99,IF(O99<0,-O99)) -> 111.45718 | Q99: =IF(J99=1,'Specification & Data'!B$52,IF(Simulation!J99=2,'Specification & Data'!B$53,IF(Simulation!J99=3,'Specification & Data'!B$54))) -> 568.92541 | R99: =(0.5*'Specification & Data'!B$18*Simulation!F99^2)/1000 -> 18.81905 | T99: =P99*'Specification & Data'!B$14*0.9 -> 29.579021 | U99: =T99/(IF(J99=1,'Specification & Data'!H$7,IF(Simulation!J99=2,'Specification & Data'!H$8,IF(Simulation!J99=3,'Specification & Data'!H$9)))) -> 1.7745892 | V99: =V98+(L99*F99/(1000*3600)) -> 0.0076864046 | W99: =W98+(IF(I99<0,AC99,0)) -> 0.018795513 | X99: =(P99*F99)/1000 -> 0.94668898 | Y99: =X99*1000/(746) -> 1.2690201 | Z99: =(60*1000*X99)/(2*PI()*U99) -> 5094.2573 | AA99: =ROUND(U99,0) -> 2 | AB99: =MROUND(Z99,500) -> 5000 | AC99: =X99/3600 -> 0.00026296916 | AD99: =AD98+AC99 -> 0.071902108 | AE99: =(O99*G99)/1000 -> -86.945909 | AF99: =(O99*F99)/1000 -> -0.94668898 | AG99: =AF99*1000/(746) -> -1.2690201 | AH99: =INDEX('Specification & Data'!E$24:R$46,MATCH(Simulation!AA99,'Specification & Data'!D$24:D$46,0),MATCH(Simulation!AB99,'Specification & Data'!E$47:R$47,0)) -> 810.9596 | AI99: =AF99/3600 -> -0.00026296916 | AJ99: =AC99*AH99 -> 0.21325737 | AK99: =AK98+AJ99 -> 35.004337 | AL99: 2.3289729
C100: =C99+1 -> 98 | D100: 18 | E100: =F100*3.6 -> 28.968144 | F100: =D100/2.23694 -> 8.0467067 | G100: =G99+((F100+F99)/2) -> 788.35373 | H100: =(F100+F99)/2 -> 8.2702263 | I100: =(H100-F99)*2 -> -0.44703926 | J100: =IF(D100<=10,1,IF(AND(D100>10,D100<=20),2,IF(D100>20,3))) -> 2 | K100: 0 | L100: =('Specification & Data'!B$22*'Specification & Data'!B$10*'Specification & Data'!B$20*(Simulation!F100^2-'Specification & Data'!B$21^2))/2 -> 28.102525 | M100: =Q100*I100 -> -254.332 | N100: ='Specification & Data'!B$23*'Specification & Data'!B$18*8.91 -> 60.429669 | O100: =K100+L100+M100+N100 -> -165.7998 | P100: =IF(O100>=0,O100,IF(O100<0,-O100)) -> 165.7998 | Q100: =IF(J100=1,'Specification & Data'!B$52,IF(Simulation!J100=2,'Specification & Data'!B$53,IF(Simulation!J100=3,'Specification & Data'!B$54))) -> 568.92541 | R100: =(0.5*'Specification & Data'!B$18*Simulation!F100^2)/1000 -> 16.890228 | T100: =P100*'Specification & Data'!B$14*0.9 -> 44.000716 | U100: =T100/(IF(J100=1,'Specification & Data'!H$7,IF(Simulation!J100=2,'Specification & Data'!H$8,IF(Simulation!J100=3,'Specification & Data'!H$9)))) -> 2.6398167 | V100: =V99+(L100*F100/(1000*3600)) -> 0.0077492193 | W100: =W99+(IF(I100<0,AC100,0)) -> 0.019166108 | X100: =(P100*F100)/1000 -> 1.3341424 | Y100: =X100*1000/(746) -> 1.7883946 | Z100: =(60*1000*X100)/(2*PI()*U100) -> 4826.1385 | AA100: =ROUND(U100,0) -> 3 | AB100: =MROUND(Z100,500) -> 5000 | AC100: =X100/3600 -> 0.0003705951 | AD100: =AD99+AC100 -> 0.072272703 | AE100: =(O100*G100)/1000 -> -130.70889 | AF100: =(O100*F100)/1000 -> -1.3341424 | AG100: =AF100*1000/(746) -> -1.7883946 | AH100: =INDEX('Specification & Data'!E$24:R$46,MATCH(Simulation!AA100,'Specification & Data'!D$24:D$46,0),MATCH(Simulation!AB100,'Specification & Data'!E$47:R$47,0)) -> 731.71426 | AI100: =AF100/3600 -> -0.0003705951 | AJ100: =AC100*AH100 -> 0.27116972 | AK100: =AK99+AJ100 -> 35.275507 | AL100: 2.3289729
C101: =C100+1 -> 99 | D101: 16.5 | E101: =F101*3.6 -> 26.554132 | F101: =D101/2.23694 -> 7.3761478 | G101: =G100+((F101+F100)/2) -> 796.06516 | H101: =(F101+F100)/2 -> 7.7114272 | I101: =(H101-F100)*2 -> -0.67055889 | J101: =IF(D101<=10,1,IF(AND(D101>10,D101<=20),2,IF(D101>20,3))) -> 2 | K101: 0 | L101: =('Specification & Data'!B$22*'Specification & Data'!B$10*'Specification & Data'!B$20*(Simulation!F101^2-'Specification & Data'!B$21^2))/2 -> 23.240515 | M101: =Q101*I101 -> -381.49799 | N101: ='Specification & Data'!B$23*'Specification & Data'!B$18*8.91 -> 60.429669 | O101: =K101+L101+M101+N101 -> -297.82781 | P101: =IF(O101>=0,O101,IF(O101<0,-O101)) -> 297.82781 | Q101: =IF(J101=1,'Specification & Data'!B$52,IF(Simulation!J101=2,'Specification & Data'!B$53,IF(Simulation!J101=3,'Specification & Data'!B$54))) -> 568.92541 | R101: =(0.5*'Specification & Data'!B$18*Simulation!F101^2)/1000 -> 14.192483 | T101: =P101*'Specification & Data'!B$14*0.9 -> 79.038919 | U101: =T101/(IF(J101=1,'Specification & Data'!H$7,IF(Simulation!J101=2,'Specification & Data'!H$8,IF(Simulation!J101=3,'Specification & Data'!H$9)))) -> 4.7419287 | V101: =V100+(L101*F101/(1000*3600)) -> 0.0077968375 | W101: =W100+(IF(I101<0,AC101,0)) -> 0.019776337 | X101: =(P101*F101)/1000 -> 2.1968219 | Y101: =X101*1000/(746) -> 2.9448015 | Z101: =(60*1000*X101)/(2*PI()*U101) -> 4423.9603 | AA101: =ROUND(U101,0) -> 5 | AB101: =MROUND(Z101,500) -> 4500 | AC101: =X101/3600 -> 0.00061022831 | AD101: =AD100+AC101 -> 0.072882932 | AE101: =(O101*G101)/1000 -> -237.09034 | AF101: =(O101*F101)/1000 -> -2.1968219 | AG101: =AF101*1000/(746) -> -2.9448015 | AH101: =INDEX('Specification & Data'!E$24:R$46,MATCH(Simulation!AA101,'Specification & Data'!D$24:D$46,0),MATCH(Simulation!AB101,'Specification & Data'!E$47:R$47,0)) -> 620.2848 | AI101: =AF101/3600 -> -0.00061022831 | AJ101: =AC101*AH101 -> 0.37851535 | AK101: =AK100+AJ101 -> 35.654022 | AL101: 2.3289729
C102: =C101+1 -> 100 | D102: 15 | E102: =F102*3.6 -> 24.14012 | F102: =D102/2.23694 -> 6.7055889 | G102: =G101+((F102+F101)/2) -> 803.10603 | H102: =(F102+F101)/2 -> 7.0408683 | I102: =(H102-F101)*2 -> -0.67055889 | J102: =IF(D102<=10,1,IF(AND(D102>10,D102<=20),2,IF(D102>20,3))) -> 2 | K102: 0 | L102: =('Specification & Data'!B$22*'Specification & Data'!B$10*'Specification & Data'!B$20*(Simulation!F102^2-'Specification & Data'!B$21^2))/2 -> 18.801287 | M102: =Q102*I102 -> -381.49799 | N102: ='Specification & Data'!B$23*'Specification & Data'!B$18*8.91 -> 60.429669 | O102: =K102+L102+M102+N102 -> -302.26704 | P102: =IF(O102>=0,O102,IF(O102<0,-O102)) -> 302.26704 | Q102: =IF(J102=1,'Specification & Data'!B$52,IF(Simulation!J102=2,'Specification & Data'!B$53,IF(Simulation!J102=3,'Specification & Data'!B$54))) -> 568.92541 | R102: =(0.5*'Specification & Data'!B$18*Simulation!F102^2)/1000 -> 11.729325 | T102: =P102*'Specification & Data'!B$14*0.9 -> 80.217021 | U102: =T102/(IF(J102=1,'Specification & Data'!H$7,IF(Simulation!J102=2,'Specification & Data'!H$8,IF(Simulation!J102=3,'Specification & Data'!H$9)))) -> 4.8126088 | V102: =V101+(L102*F102/(1000*3600)) -> 0.0078318579 | W102: =W101+(IF(I102<0,AC102,0)) -> 0.020339358 | X102: =(P102*F102)/1000 -> 2.0268785 | Y102: =X102*1000/(746) -> 2.7169953 | Z102: =(60*1000*X102)/(2*PI()*U102) -> 4021.7821 | AA102: =ROUND(U102,0) -> 5 | AB102: =MROUND(Z102,500) -> 4000 | AC102: =X102/3600 -> 0.0005630218 | AD102: =AD101+AC102 -> 0.073445953 | AE102: =(O102*G102)/1000 -> -242.75248 | AF102: =(O102*F102)/1000 -> -2.0268785 | AG102: =AF102*1000/(746) -> -2.7169953 | AH102: =INDEX('Specification & Data'!E$24:R$46,MATCH(Simulation!AA102,'Specification & Data'!D$24:D$46,0),MATCH(Simulation!AB102,'Specification & Data'!E$47:R$47,0)) -> 651.64145 | AI102: =AF102/3600 -> -0.0005630218 | AJ102: =AC102*AH102 -> 0.36688834 | AK102: =AK101+AJ102 -> 36.020911 | AL102: 2.3289729
B103: T3 start | C103: =C102+1 -> 101 | D103: 14.5 | E103: =F103*3.6 -> 23.335449 | F103: =D103/2.23694 -> 6.4820693 | G103: =G102+((F103+F102)/2) -> 809.69986 | H103: =(F103+F102)/2 -> 6.5938291 | I103: =(H103-F102)*2 -> -0.22351963 | J103: =IF(D103<=10,1,IF(AND(D103>10,D103<=20),2,IF(D103>20,3))) -> 2 | K103: 0 | L103: =('Specification & Data'!B$22*'Specification & Data'!B$10*'Specification & Data'!B$20*(Simulation!F103^2-'Specification & Data'!B$21^2))/2 -> 17.415497 | M103: =Q103*I103 -> -127.166 | N103: ='Specification & Data'!B$23*'Specification & Data'!B$18*8.91 -> 60.429669 | O103: =K103+L103+M103+N103 -> -49.320831 | P103: =IF(O103>=0,O103,IF(O103<0,-O103)) -> 49.320831 | Q103: =IF(J103=1,'Specification & Data'!B$52,IF(Simulation!J103=2,'Specification & Data'!B$53,IF(Simulation!J103=3,'Specification & Data'!B$54))) -> 568.92541 | R103: =(0.5*'Specification & Data'!B$18*Simulation!F103^2)/1000 -> 10.960402 | T103: =P103*'Specification & Data'!B$14*0.9 -> 13.08899 | U103: =T103/(IF(J103=1,'Specification & Data'!H$7,IF(Simulation!J103=2,'Specification & Data'!H$8,IF(Simulation!J103=3,'Specification & Data'!H$9)))) -> 0.78527208 | V103: =V102+(L103*F103/(1000*3600)) -> 0.0078632158 | W103: =W102+(IF(I103<0,AC103,0)) -> 0.020428164 | X103: =(P103*F103)/1000 -> 0.31970105 | Y103: =X103*1000/(746) -> 0.42855368 | Z103: =(60*1000*X103)/(2*PI()*U103) -> 3887.7227 | AA103: =ROUND(U103,0) -> 1 | AB103: =MROUND(Z103,500) -> 4000 | AC103: =X103/3600 -> 8.8805846e-05 | AD103: =AD102+AC103 -> 0.073534759 | AE103: =(O103*G103)/1000 -> -39.93507 | AF103: =(O103*F103)/1000 -> -0.31970105 | AG103: =AF103*1000/(746) -> -0.42855368 | AH103: =INDEX('Specification & Data'!E$24:R$46,MATCH(Simulation!AA103,'Specification & Data'!D$24:D$46,0),MATCH(Simulation!AB103,'Specification & Data'!E$47:R$47,0)) -> 944.35123 | AI103: =AF103/3600 -> -8.8805846e-05 | AJ103: =AC103*AH103 -> 0.083863909 | AK103: =AK102+AJ103 -> 36.104774 | AL103: 2.3289729
C104: =C103+1 -> 102 | D104: 14.5 | E104: =F104*3.6 -> 23.335449 | F104: =D104/2.23694 -> 6.4820693 | G104: =G103+((F104+F103)/2) -> 816.18193 | H104: =(F104+F103)/2 -> 6.4820693 | I104: =(H104-F103)*2 -> 0 | J104: =IF(D104<=10,1,IF(AND(D104>10,D104<=20),2,IF(D104>20,3))) -> 2 | K104: 0 | L104: =('Specification & Data'!B$22*'Specification & Data'!B$10*'Specification & Data'!B$20*(Simulation!F104^2-'Specification & Data'!B$21^2))/2 -> 17.415497 | M104: =Q104*I104 -> 0 | N104: ='Specification & Data'!B$23*'Specification & Data'!B$18*8.91 -> 60.429669 | O104: =K104+L104+M104+N104 -> 77.845166 | P104: =IF(O104>=0,O104,IF(O104<0,-O104)) -> 77.845166 | Q104: =IF(J104=1,'Specification & Data'!B$52,IF(Simulation!J104=2,'Specification & Data'!B$53,IF(Simulation!J104=3,'Specification & Data'!B$54))) -> 568.92541 | R104: =(0.5*'Specification & Data'!B$18*Simulation!F104^2)/1000 -> 10.960402 | T104: =P104*'Specification & Data'!B$14*0.9 -> 20.65891 | U104: =T104/(IF(J104=1,'Specification & Data'!H$7,IF(Simulation!J104=2,'Specification & Data'!H$8,IF(Simulation!J104=3,'Specification & Data'!H$9)))) -> 1.2394283 | V104: =V103+(L104*F104/(1000*3600)) -> 0.0078945737 | W104: =W103+(IF(I104<0,AC104,0)) -> 0.020428164 | X104: =(P104*F104)/1000 -> 0.50459776 | Y104: =X104*1000/(746) -> 0.6764045 | Z104: =(60*1000*X104)/(2*PI()*U104) -> 3887.7227 | AA104: =ROUND(U104,0) -> 1 | AB104: =MROUND(Z104,500) -> 4000 | AC104: =X104/3600 -> 0.00014016604 | AD104: =AD103+AC104 -> 0.073674925 | AE104: =(O104*G104)/1000 -> 63.535818 | AF104: =(O104*F104)/1000 -> 0.50459776 | AG104: =AF104*1000/(746) -> 0.6764045 | AH104: =INDEX('Specification & Data'!E$24:R$46,MATCH(Simulation!AA104,'Specification & Data'!D$24:D$46,0),MATCH(Simulation!AB104,'Specification & Data'!E$47:R$47,0)) -> 944.35123 | AI104: =AF104/3600 -> 0.00014016604 | AJ104: =AC104*AH104 -> 0.13236598 | AK104: =AK103+AJ104 -> 36.23714 | AL104: 2.3289729
C105: =C104+1 -> 103 | D105: 14.5 | E105: =F105*3.6 -> 23.335449 | F105: =D105/2.23694 -> 6.4820693 | G105: =G104+((F105+F104)/2) -> 822.664 | H105: =(F105+F104)/2 -> 6.4820693 | I105: =(H105-F104)*2 -> 0 | J105: =IF(D105<=10,1,IF(AND(D105>10,D105<=20),2,IF(D105>20,3))) -> 2 | K105: 0 | L105: =('Specification & Data'!B$22*'Specification & Data'!B$10*'Specification & Data'!B$20*(Simulation!F105^2-'Specification & Data'!B$21^2))/2 -> 17.415497 | M105: =Q105*I105 -> 0 | N105: ='Specification & Data'!B$23*'Specification & Data'!B$18*8.91 -> 60.429669 | O105: =K105+L105+M105+N105 -> 77.845166 | P105: =IF(O105>=0,O105,IF(O105<0,-O105)) -> 77.845166 | Q105: =IF(J105=1,'Specification & Data'!B$52,IF(Simulation!J105=2,'Specification & Data'!B$53,IF(Simulation!J105=3,'Specification & Data'!B$54))) -> 568.92541 | R105: =(0.5*'Specification & Data'!B$18*Simulation!F105^2)/1000 -> 10.960402 | T105: =P105*'Specification & Data'!B$14*0.9 -> 20.65891 | U105: =T105/(IF(J105=1,'Specification & Data'!H$7,IF(Simulation!J105=2,'Specification & Data'!H$8,IF(Simulation!J105=3,'Specification & Data'!H$9)))) -> 1.2394283 | V105: =V104+(L105*F105/(1000*3600)) -> 0.0079259316 | W105: =W104+(IF(I105<0,AC105,0)) -> 0.020428164 | X105: =(P105*F105)/1000 -> 0.50459776 | Y105: =X105*1000/(746) -> 0.6764045 | Z105: =(60*1000*X105)/(2*PI()*U105) -> 3887.7227 | AA105: =ROUND(U105,0) -> 1 | AB105: =MROUND(Z105,500) -> 4000 | AC105: =X105/3600 -> 0.00014016604 | AD105: =AD104+AC105 -> 0.073815091 | AE105: =(O105*G105)/1000 -> 64.040416 | AF105: =(O105*F105)/1000 -> 0.50459776 | AG105: =AF105*1000/(746) -> 0.6764045 | AH105: =INDEX('Specification & Data'!E$24:R$46,MATCH(Simulation!AA105,'Specification & Data'!D$24:D$46,0),MATCH(Simulation!AB105,'Specification & Data'!E$47:R$47,0)) -> 944.35123 | AI105: =AF105/3600 -> 0.00014016604 | AJ105: =AC105*AH105 -> 0.13236598 | AK105: =AK104+AJ105 -> 36.369506 | AL105: 2.3289729
C106: =C105+1 -> 104 | D106: 14.5 | E106: =F106*3.6 -> 23.335449 | F106: =D106/2.23694 -> 6.4820693 | G106: =G105+((F106+F105)/2) -> 829.14607 | H106: =(F106+F105)/2 -> 6.4820693 | I106: =(H106-F105)*2 -> 0 | J106: =IF(D106<=10,1,IF(AND(D106>10,D106<=20),2,IF(D106>20,3))) -> 2 | K106: 0 | L106: =('Specification & Data'!B$22*'Specification & Data'!B$10*'Specification & Data'!B$20*(Simulation!F106^2-'Specification & Data'!B$21^2))/2 -> 17.415497 | M106: =Q106*I106 -> 0 | N106: ='Specification & Data'!B$23*'Specification & Data'!B$18*8.91 -> 60.429669 | O106: =K106+L106+M106+N106 -> 77.845166 | P106: =IF(O106>=0,O106,IF(O106<0,-O106)) -> 77.845166 | Q106: =IF(J106=1,'Specification & Data'!B$52,IF(Simulation!J106=2,'Specification & Data'!B$53,IF(Simulation!J106=3,'Specification & Data'!B$54))) -> 568.92541 | R106: =(0.5*'Specification & Data'!B$18*Simulation!F106^2)/1000 -> 10.960402 | T106: =P106*'Specification & Data'!B$14*0.9 -> 20.65891 | U106: =T106/(IF(J106=1,'Specification & Data'!H$7,IF(Simulation!J106=2,'Specification & Data'!H$8,IF(Simulation!J106=3,'Specification & Data'!H$9)))) -> 1.2394283 | V106: =V105+(L106*F106/(1000*3600)) -> 0.0079572896 | W106: =W105+(IF(I106<0,AC106,0)) -> 0.020428164 | X106: =(P106*F106)/1000 -> 0.50459776 | Y106: =X106*1000/(746) -> 0.6764045 | Z106: =(60*1000*X106)/(2*PI()*U106) -> 3887.7227 | AA106: =ROUND(U106,0) -> 1 | AB106: =MROUND(Z106,500) -> 4000 | AC106: =X106/3600 -> 0.00014016604 | AD106: =AD105+AC106 -> 0.073955257 | AE106: =(O106*G106)/1000 -> 64.545013 | AF106: =(O106*F106)/1000 -> 0.50459776 | AG106: =AF106*1000/(746) -> 0.6764045 | AH106: =INDEX('Specification & Data'!E$24:R$46,MATCH(Simulation!AA106,'Specification & Data'!D$24:D$46,0),MATCH(Simulation!AB106,'Specification & Data'!E$47:R$47,0)) -> 944.35123 | AI106: =AF106/3600 -> 0.00014016604 | AJ106: =AC106*AH106 -> 0.13236598 | AK106: =AK105+AJ106 -> 36.501872 | AL106: 2.3289729
C107: =C106+1 -> 105 | D107: 14.5 | E107: =F107*3.6 -> 23.335449 | F107: =D107/2.23694 -> 6.4820693 | G107: =G106+((F107+F106)/2) -> 835.62813 | H107: =(F107+F106)/2 -> 6.4820693 | I107: =(H107-F106)*2 -> 0 | J107: =IF(D107<=10,1,IF(AND(D107>10,D107<=20),2,IF(D107>20,3))) -> 2 | K107: 0 | L107: =('Specification & Data'!B$22*'Specification & Data'!B$10*'Specification & Data'!B$20*(Simulation!F107^2-'Specification & Data'!B$21^2))/2 -> 17.415497 | M107: =Q107*I107 -> 0 | N107: ='Specification & Data'!B$23*'Specification & Data'!B$18*8.91 -> 60.429669 | O107: =K107+L107+M107+N107 -> 77.845166 | P107: =IF(O107>=0,O107,IF(O107<0,-O107)) -> 77.845166 | Q107: =IF(J107=1,'Specification & Data'!B$52,IF(Simulation!J107=2,'Specification & Data'!B$53,IF(Simulation!J107=3,'Specification & Data'!B$54))) -> 568.92541 | R107: =(0.5*'Specification & Data'!B$18*Simulation!F107^2)/1000 -> 10.960402 | T107: =P107*'Specification & Data'!B$14*0.9 -> 20.65891 | U107: =T107/(IF(J107=1,'Specification & Data'!H$7,IF(Simulation!J107=2,'Specification & Data'!H$8,IF(Simulation!J107=3,'Specification & Data'!H$9)))) -> 1.2394283 | V107: =V106+(L107*F107/(1000*3600)) -> 0.0079886475 | W107: =W106+(IF(I107<0,AC107,0)) -> 0.020428164 | X107: =(P107*F107)/1000 -> 0.50459776 | Y107: =X107*1000/(746) -> 0.6764045 | Z107: =(60*1000*X107)/(2*PI()*U107) -> 3887.7227 | AA107: =ROUND(U107,0) -> 1 | AB107: =MROUND(Z107,500) -> 4000 | AC107: =X107/3600 -> 0.00014016604 | AD107: =AD106+AC107 -> 0.074095423 | AE107: =(O107*G107)/1000 -> 65.049611 | AF107: =(O107*F107)/1000 -> 0.50459776 | AG107: =AF107*1000/(746) -> 0.6764045 | AH107: =INDEX('Specification & Data'!E$24:R$46,MATCH(Simulation!AA107,'Specification & Data'!D$24:D$46,0),MATCH(Simulation!AB107,'Specification & Data'!E$47:R$47,0)) -> 944.35123 | AI107: =AF107/3600 -> 0.00014016604 | AJ107: =AC107*AH107 -> 0.13236598 | AK107: =AK106+AJ107 -> 36.634238 | AL107: 2.3289729
C108: =C107+1 -> 106 | D108: 14.5 | E108: =F108*3.6 -> 23.335449 | F108: =D108/2.23694 -> 6.4820693 | G108: =G107+((F108+F107)/2) -> 842.1102 | H108: =(F108+F107)/2 -> 6.4820693 | I108: =(H108-F107)*2 -> 0 | J108: =IF(D108<=10,1,IF(AND(D108>10,D108<=20),2,IF(D108>20,3))) -> 2 | K108: 0 | L108: =('Specification & Data'!B$22*'Specification & Data'!B$10*'Specification & Data'!B$20*(Simulation!F108^2-'Specification & Data'!B$21^2))/2 -> 17.415497 | M108: =Q108*I108 -> 0 | N108: ='Specification & Data'!B$23*'Specification & Data'!B$18*8.91 -> 60.429669 | O108: =K108+L108+M108+N108 -> 77.845166 | P108: =IF(O108>=0,O108,IF(O108<0,-O108)) -> 77.845166 | Q108: =IF(J108=1,'Specification & Data'!B$52,IF(Simulation!J108=2,'Specification & Data'!B$53,IF(Simulation!J108=3,'Specification & Data'!B$54))) -> 568.92541 | R108: =(0.5*'Specification & Data'!B$18*Simulation!F108^2)/1000 -> 10.960402 | T108: =P108*'Specification & Data'!B$14*0.9 -> 20.65891 | U108: =T108/(IF(J108=1,'Specification & Data'!H$7,IF(Simulation!J108=2,'Specification & Data'!H$8,IF(Simulation!J108=3,'Specification & Data'!H$9)))) -> 1.2394283 | V108: =V107+(L108*F108/(1000*3600)) -> 0.0080200054 | W108: =W107+(IF(I108<0,AC108,0)) -> 0.020428164 | X108: =(P108*F108)/1000 -> 0.50459776 | Y108: =X108*1000/(746) -> 0.6764045 | Z108: =(60*1000*X108)/(2*PI()*U108) -> 3887.7227 | AA108: =ROUND(U108,0) -> 1 | AB108: =MROUND(Z108,500) -> 4000 | AC108: =X108/3600 -> 0.00014016604 | AD108: =AD107+AC108 -> 0.07423559 | AE108: =(O108*G108)/1000 -> 65.554209 | AF108: =(O108*F108)/1000 -> 0.50459776 | AG108: =AF108*1000/(746) -> 0.6764045 | AH108: =INDEX('Specification & Data'!E$24:R$46,MATCH(Simulation!AA108,'Specification & Data'!D$24:D$46,0),MATCH(Simulation!AB108,'Specification & Data'!E$47:R$47,0)) -> 944.35123 | AI108: =AF108/3600 -> 0.00014016604 | AJ108: =AC108*AH108 -> 0.13236598 | AK108: =AK107+AJ108 -> 36.766604 | AL108: 2.3289729
C109: =C108+1 -> 107 | D109: 14.5 | E109: =F109*3.6 -> 23.335449 | F109: =D109/2.23694 -> 6.4820693 | G109: =G108+((F109+F108)/2) -> 848.59227 | H109: =(F109+F108)/2 -> 6.4820693 | I109: =(H109-F108)*2 -> 0 | J109: =IF(D109<=10,1,IF(AND(D109>10,D109<=20),2,IF(D109>20,3))) -> 2 | K109: 0 | L109: =('Specification & Data'!B$22*'Specification & Data'!B$10*'Specification & Data'!B$20*(Simulation!F109^2-'Specification & Data'!B$21^2))/2 -> 17.415497 | M109: =Q109*I109 -> 0 | N109: ='Specification & Data'!B$23*'Specification & Data'!B$18*8.91 -> 60.429669 | O109: =K109+L109+M109+N109 -> 77.845166 | P109: =IF(O109>=0,O109,IF(O109<0,-O109)) -> 77.845166 | Q109: =IF(J109=1,'Specification & Data'!B$52,IF(Simulation!J109=2,'Specification & Data'!B$53,IF(Simulation!J109=3,'Specification & Data'!B$54))) -> 568.92541 | R109: =(0.5*'Specification & Data'!B$18*Simulation!F109^2)/1000 -> 10.960402 | T109: =P109*'Specification & Data'!B$14*0.9 -> 20.65891 | U109: =T109/(IF(J109=1,'Specification & Data'!H$7,IF(Simulation!J109=2,'Specification & Data'!H$8,IF(Simulation!J109=3,'Specification & Data'!H$9)))) -> 1.2394283 | V109: =V108+(L109*F109/(1000*3600)) -> 0.0080513633 | W109: =W108+(IF(I109<0,AC109,0)) -> 0.020428164 | X109: =(P109*F109)/1000 -> 0.50459776 | Y109: =X109*1000/(746) -> 0.6764045 | Z109: =(60*1000*X109)/(2*PI()*U109) -> 3887.7227 | AA109: =ROUND(U109,0) -> 1 | AB109: =MROUND(Z109,500) -> 4000 | AC109: =X109/3600 -> 0.00014016604 | AD109: =AD108+AC109 -> 0.074375756 | AE109: =(O109*G109)/1000 -> 66.058807 | AF109: =(O109*F109)/1000 -> 0.50459776 | AG109: =AF109*1000/(746) -> 0.6764045 | AH109: =INDEX('Specification & Data'!E$24:R$46,MATCH(Simulation!AA109,'Specification & Data'!D$24:D$46,0),MATCH(Simulation!AB109,'Specification & Data'!E$47:R$47,0)) -> 944.35123 | AI109: =AF109/3600 -> 0.00014016604 | AJ109: =AC109*AH109 -> 0.13236598 | AK109: =AK108+AJ109 -> 36.89897 | AL109: 2.3289729
C110: =C109+1 -> 108 | D110: 14.5 | E110: =F110*3.6 -> 23.335449 | F110: =D110/2.23694 -> 6.4820693 | G110: =G109+((F110+F109)/2) -> 855.07434 | H110: =(F110+F109)/2 -> 6.4820693 | I110: =(H110-F109)*2 -> 0 | J110: =IF(D110<=10,1,IF(AND(D110>10,D110<=20),2,IF(D110>20,3))) -> 2 | K110: 0 | L110: =('Specification & Data'!B$22*'Specification & Data'!B$10*'Specification & Data'!B$20*(Simulation!F110^2-'Specification & Data'!B$21^2))/2 -> 17.415497 | M110: =Q110*I110 -> 0 | N110: ='Specification & Data'!B$23*'Specification & Data'!B$18*8.91 -> 60.429669 | O110: =K110+L110+M110+N110 -> 77.845166 | P110: =IF(O110>=0,O110,IF(O110<0,-O110)) -> 77.845166 | Q110: =IF(J110=1,'Specification & Data'!B$52,IF(Simulation!J110=2,'Specification & Data'!B$53,IF(Simulation!J110=3,'Specification & Data'!B$54))) -> 568.92541 | R110: =(0.5*'Specification & Data'!B$18*Simulation!F110^2)/1000 -> 10.960402 | T110: =P110*'Specification & Data'!B$14*0.9 -> 20.65891 | U110: =T110/(IF(J110=1,'Specification & Data'!H$7,IF(Simulation!J110=2,'Specification & Data'!H$8,IF(Simulation!J110=3,'Specification & Data'!H$9)))) -> 1.2394283 | V110: =V109+(L110*F110/(1000*3600)) -> 0.0080827212 | W110: =W109+(IF(I110<0,AC110,0)) -> 0.020428164 | X110: =(P110*F110)/1000 -> 0.50459776 | Y110: =X110*1000/(746) -> 0.6764045 | Z110: =(60*1000*X110)/(2*PI()*U110) -> 3887.7227 | AA110: =ROUND(U110,0) -> 1 | AB110: =MROUND(Z110,500) -> 4000 | AC110: =X110/3600 -> 0.00014016604 | AD110: =AD109+AC110 -> 0.074515922 | AE110: =(O110*G110)/1000 -> 66.563404 | AF110: =(O110*F110)/1000 -> 0.50459776 | AG110: =AF110*1000/(746) -> 0.6764045 | AH110: =INDEX('Specification & Data'!E$24:R$46,MATCH(Simulation!AA110,'Specification & Data'!D$24:D$46,0),MATCH(Simulation!AB110,'Specification & Data'!E$47:R$47,0)) -> 944.35123 | AI110: =AF110/3600 -> 0.00014016604 | AJ110: =AC110*AH110 -> 0.13236598 | AK110: =AK109+AJ110 -> 37.031336 | AL110: 2.3289729
C111: =C110+1 -> 109 | D111: 14.5 | E111: =F111*3.6 -> 23.335449 | F111: =D111/2.23694 -> 6.4820693 | G111: =G110+((F111+F110)/2) -> 861.55641 | H111: =(F111+F110)/2 -> 6.4820693 | I111: =(H111-F110)*2 -> 0 | J111: =IF(D111<=10,1,IF(AND(D111>10,D111<=20),2,IF(D111>20,3))) -> 2 | K111: 0 | L111: =('Specification & Data'!B$22*'Specification & Data'!B$10*'Specification & Data'!B$20*(Simulation!F111^2-'Specification & Data'!B$21^2))/2 -> 17.415497 | M111: =Q111*I111 -> 0 | N111: ='Specification & Data'!B$23*'Specification & Data'!B$18*8.91 -> 60.429669 | O111: =K111+L111+M111+N111 -> 77.845166 | P111: =IF(O111>=0,O111,IF(O111<0,-O111)) -> 77.845166 | Q111: =IF(J111=1,'Specification & Data'!B$52,IF(Simulation!J111=2,'Specification & Data'!B$53,IF(Simulation!J111=3,'Specification & Data'!B$54))) -> 568.92541 | R111: =(0.5*'Specification & Data'!B$18*Simulation!F111^2)/1000 -> 10.960402 | T111: =P111*'Specification & Data'!B$14*0.9 -> 20.65891 | U111: =T111/(IF(J111=1,'Specification & Data'!H$7,IF(Simulation!J111=2,'Specification & Data'!H$8,IF(Simulation!J111=3,'Specification & Data'!H$9)))) -> 1.2394283 | V111: =V110+(L111*F111/(1000*3600)) -> 0.0081140791 | W111: =W110+(IF(I111<0,AC111,0)) -> 0.020428164 | X111: =(P111*F111)/1000 -> 0.50459776 | Y111: =X111*1000/(746) -> 0.6764045 | Z111: =(60*1000*X111)/(2*PI()*U111) -> 3887.7227 | AA111: =ROUND(U111,0) -> 1 | AB111: =MROUND(Z111,500) -> 4000 | AC111: =X111/3600 -> 0.00014016604 | AD111: =AD110+AC111 -> 0.074656088 | AE111: =(O111*G111)/1000 -> 67.068002 | AF111: =(O111*F111)/1000 -> 0.50459776 | AG111: =AF111*1000/(746) -> 0.6764045 | AH111: =INDEX('Specification & Data'!E$24:R$46,MATCH(Simulation!AA111,'Specification & Data'!D$24:D$46,0),MATCH(Simulation!AB111,'Specification & Data'!E$47:R$47,0)) -> 944.35123 | AI111: =AF111/3600 -> 0.00014016604 | AJ111: =AC111*AH111 -> 0.13236598 | AK111: =AK110+AJ111 -> 37.163702 | AL111: 2.3289729
B112: T3 finish | C112: =C111+1 -> 110 | D112: 14.5 | E112: =F112*3.6 -> 23.335449 | F112: =D112/2.23694 -> 6.4820693 | G112: =G111+((F112+F111)/2) -> 868.03848 | H112: =(F112+F111)/2 -> 6.4820693 | I112: =(H112-F111)*2 -> 0 | J112: =IF(D112<=10,1,IF(AND(D112>10,D112<=20),2,IF(D112>20,3))) -> 2 | K112: 0 | L112: =('Specification & Data'!B$22*'Specification & Data'!B$10*'Specification & Data'!B$20*(Simulation!F112^2-'Specification & Data'!B$21^2))/2 -> 17.415497 | M112: =Q112*I112 -> 0 | N112: ='Specification & Data'!B$23*'Specification & Data'!B$18*8.91 -> 60.429669 | O112: =K112+L112+M112+N112 -> 77.845166 | P112: =IF(O112>=0,O112,IF(O112<0,-O112)) -> 77.845166 | Q112: =IF(J112=1,'Specification & Data'!B$52,IF(Simulation!J112=2,'Specification & Data'!B$53,IF(Simulation!J112=3,'Specification & Data'!B$54))) -> 568.92541 | R112: =(0.5*'Specification & Data'!B$18*Simulation!F112^2)/1000 -> 10.960402 | T112: =P112*'Specification & Data'!B$14*0.9 -> 20.65891 | U112: =T112/(IF(J112=1,'Specification & Data'!H$7,IF(Simulation!J112=2,'Specification & Data'!H$8,IF(Simulation!J112=3,'Specification & Data'!H$9)))) -> 1.2394283 | V112: =V111+(L112*F112/(1000*3600)) -> 0.008145437 | W112: =W111+(IF(I112<0,AC112,0)) -> 0.020428164 | X112: =(P112*F112)/1000 -> 0.50459776 | Y112: =X112*1000/(746) -> 0.6764045 | Z112: =(60*1000*X112)/(2*PI()*U112) -> 3887.7227 | AA112: =ROUND(U112,0) -> 1 | AB112: =MROUND(Z112,500) -> 4000 | AC112: =X112/3600 -> 0.00014016604 | AD112: =AD111+AC112 -> 0.074796254 | AE112: =(O112*G112)/1000 -> 67.5726 | AF112: =(O112*F112)/1000 -> 0.50459776 | AG112: =AF112*1000/(746) -> 0.6764045 | AH112: =INDEX('Specification & Data'!E$24:R$46,MATCH(Simulation!AA112,'Specification & Data'!D$24:D$46,0),MATCH(Simulation!AB112,'Specification & Data'!E$47:R$47,0)) -> 944.35123 | AI112: =AF112/3600 -> 0.00014016604 | AJ112: =AC112*AH112 -> 0.13236598 | AK112: =AK111+AJ112 -> 37.296068 | AL112: 2.3289729
C113: =C112+1 -> 111 | D113: 15.5 | E113: =F113*3.6 -> 24.944791 | F113: =D113/2.23694 -> 6.9291085 | G113: =G112+((F113+F112)/2) -> 874.74407 | H113: =(F113+F112)/2 -> 6.7055889 | I113: =(H113-F112)*2 -> 0.44703926 | J113: =IF(D113<=10,1,IF(AND(D113>10,D113<=20),2,IF(D113>20,3))) -> 2 | K113: 0 | L113: =('Specification & Data'!B$22*'Specification & Data'!B$10*'Specification & Data'!B$20*(Simulation!F113^2-'Specification & Data'!B$21^2))/2 -> 20.234054 | M113: =Q113*I113 -> 254.332 | N113: ='Specification & Data'!B$23*'Specification & Data'!B$18*8.91 -> 60.429669 | O113: =K113+L113+M113+N113 -> 334.99572 | P113: =IF(O113>=0,O113,IF(O113<0,-O113)) -> 334.99572 | Q113: =IF(J113=1,'Specification & Data'!B$52,IF(Simulation!J113=2,'Specification & Data'!B$53,IF(Simulation!J113=3,'Specification & Data'!B$54))) -> 568.92541 | R113: =(0.5*'Specification & Data'!B$18*Simulation!F113^2)/1000 -> 12.524312 | T113: =P113*'Specification & Data'!B$14*0.9 -> 88.90271 | U113: =T113/(IF(J113=1,'Specification & Data'!H$7,IF(Simulation!J113=2,'Specification & Data'!H$8,IF(Simulation!J113=3,'Specification & Data'!H$9)))) -> 5.3337054 | V113: =V112+(L113*F113/(1000*3600)) -> 0.0081843825 | W113: =W112+(IF(I113<0,AC113,0)) -> 0.020428164 | X113: =(P113*F113)/1000 -> 2.3212217 | Y113: =X113*1000/(746) -> 3.1115572 | Z113: =(60*1000*X113)/(2*PI()*U113) -> 4155.8415 | AA113: =ROUND(U113,0) -> 5 | AB113: =MROUND(Z113,500) -> 4000 | AC113: =X113/3600 -> 0.0006447838 | AD113: =AD112+AC113 -> 0.075441037 | AE113: =(O113*G113)/1000 -> 293.03552 | AF113: =(O113*F113)/1000 -> 2.3212217 | AG113: =AF113*1000/(746) -> 3.1115572 | AH113: =INDEX('Specification & Data'!E$24:R$46,MATCH(Simulation!AA113,'Specification & Data'!D$24:D$46,0),MATCH(Simulation!AB113,'Specification & Data'!E$47:R$47,0)) -> 651.64145 | AI113: =AF113/3600 -> 0.0006447838 | AJ113: =AC113*AH113 -> 0.42016785 | AK113: =AK112+AJ113 -> 37.716236 | AL113: 2.3289729
C114: =C113+1 -> 112 | D114: 17 | E114: =F114*3.6 -> 27.358803 | F114: =D114/2.23694 -> 7.5996674 | G114: =G113+((F114+F113)/2) -> 882.00846 | H114: =(F114+F113)/2 -> 7.264388 | I114: =(H114-F113)*2 -> 0.67055889 | J114: =IF(D114<=10,1,IF(AND(D114>10,D114<=20),2,IF(D114>20,3))) -> 2 | K114: 0 | L114: =('Specification & Data'!B$22*'Specification & Data'!B$10*'Specification & Data'!B$20*(Simulation!F114^2-'Specification & Data'!B$21^2))/2 -> 24.814209 | M114: =Q114*I114 -> 381.49799 | N114: ='Specification & Data'!B$23*'Specification & Data'!B$18*8.91 -> 60.429669 | O114: =K114+L114+M114+N114 -> 466.74187 | P114: =IF(O114>=0,O114,IF(O114<0,-O114)) -> 466.74187 | Q114: =IF(J114=1,'Specification & Data'!B$52,IF(Simulation!J114=2,'Specification & Data'!B$53,IF(Simulation!J114=3,'Specification & Data'!B$54))) -> 568.92541 | R114: =(0.5*'Specification & Data'!B$18*Simulation!F114^2)/1000 -> 15.065666 | T114: =P114*'Specification & Data'!B$14*0.9 -> 123.86611 | U114: =T114/(IF(J114=1,'Specification & Data'!H$7,IF(Simulation!J114=2,'Specification & Data'!H$8,IF(Simulation!J114=3,'Specification & Data'!H$9)))) -> 7.4313298 | V114: =V113+(L114*F114/(1000*3600)) -> 0.0082367658 | W114: =W113+(IF(I114<0,AC114,0)) -> 0.020428164 | X114: =(P114*F114)/1000 -> 3.547083 | Y114: =X114*1000/(746) -> 4.7548029 | Z114: =(60*1000*X114)/(2*PI()*U114) -> 4558.0197 | AA114: =ROUND(U114,0) -> 7 | AB114: =MROUND(Z114,500) -> 4500 | AC114: =X114/3600 -> 0.00098530083 | AD114: =AD113+AC114 -> 0.076426338 | AE114: =(O114*G114)/1000 -> 411.67028 | AF114: =(O114*F114)/1000 -> 3.547083 | AG114: =AF114*1000/(746) -> 4.7548029 | AH114: =INDEX('Specification & Data'!E$24:R$46,MATCH(Simulation!AA114,'Specification & Data'!D$24:D$46,0),MATCH(Simulation!AB114,'Specification & Data'!E$47:R$47,0)) -> 525.11244 | AI114: =AF114/3600 -> 0.00098530083 | AJ114: =AC114*AH114 -> 0.51739373 | AK114: =AK113+AJ114 -> 38.23363 | AL114: 2.3289729
C115: =C114+1 -> 113 | D115: 17.5 | E115: =F115*3.6 -> 28.163473 | F115: =D115/2.23694 -> 7.823187 | G115: =G114+((F115+F114)/2) -> 889.71989 | H115: =(F115+F114)/2 -> 7.7114272 | I115: =(H115-F114)*2 -> 0.22351963 | J115: =IF(D115<=10,1,IF(AND(D115>10,D115<=20),2,IF(D115>20,3))) -> 2 | K115: 0 | L115: =('Specification & Data'!B$22*'Specification & Data'!B$10*'Specification & Data'!B$20*(Simulation!F115^2-'Specification & Data'!B$21^2))/2 -> 26.434879 | M115: =Q115*I115 -> 127.166 | N115: ='Specification & Data'!B$23*'Specification & Data'!B$18*8.91 -> 60.429669 | O115: =K115+L115+M115+N115 -> 214.03055 | P115: =IF(O115>=0,O115,IF(O115<0,-O115)) -> 214.03055 | Q115: =IF(J115=1,'Specification & Data'!B$52,IF(Simulation!J115=2,'Specification & Data'!B$53,IF(Simulation!J115=3,'Specification & Data'!B$54))) -> 568.92541 | R115: =(0.5*'Specification & Data'!B$18*Simulation!F115^2)/1000 -> 15.964914 | T115: =P115*'Specification & Data'!B$14*0.9 -> 56.800414 | U115: =T115/(IF(J115=1,'Specification & Data'!H$7,IF(Simulation!J115=2,'Specification & Data'!H$8,IF(Simulation!J115=3,'Specification & Data'!H$9)))) -> 3.4077328 | V115: =V114+(L115*F115/(1000*3600)) -> 0.0082942116 | W115: =W114+(IF(I115<0,AC115,0)) -> 0.020428164 | X115: =(P115*F115)/1000 -> 1.674401 | Y115: =X115*1000/(746) -> 2.2445054 | Z115: =(60*1000*X115)/(2*PI()*U115) -> 4692.0791 | AA115: =ROUND(U115,0) -> 3 | AB115: =MROUND(Z115,500) -> 4500 | AC115: =X115/3600 -> 0.00046511139 | AD115: =AD114+AC115 -> 0.07689145 | AE115: =(O115*G115)/1000 -> 190.42723 | AF115: =(O115*F115)/1000 -> 1.674401 | AG115: =AF115*1000/(746) -> 2.2445054 | AH115: =INDEX('Specification & Data'!E$24:R$46,MATCH(Simulation!AA115,'Specification & Data'!D$24:D$46,0),MATCH(Simulation!AB115,'Specification & Data'!E$47:R$47,0)) -> 739.33341 | AI115: =AF115/3600 -> 0.00046511139 | AJ115: =AC115*AH115 -> 0.34387239 | AK115: =AK114+AJ115 -> 38.577502 | AL115: 2.3289729
B116: T4 start | C116: =C115+1 -> 114 | D116: 17.5 | E116: =F116*3.6 -> 28.163473 | F116: =D116/2.23694 -> 7.823187 | G116: =G115+((F116+F115)/2) -> 897.54307 | H116: =(F116+F115)/2 -> 7.823187 | I116: =(H116-F115)*2 -> 0 | J116: =IF(D116<=10,1,IF(AND(D116>10,D116<=20),2,IF(D116>20,3))) -> 2 | K116: 0 | L116: =('Specification & Data'!B$22*'Specification & Data'!B$10*'Specification & Data'!B$20*(Simulation!F116^2-'Specification & Data'!B$21^2))/2 -> 26.434879 | M116: =Q116*I116 -> 0 | N116: ='Specification & Data'!B$23*'Specification & Data'!B$18*8.91 -> 60.429669 | O116: =K116+L116+M116+N116 -> 86.864548 | P116: =IF(O116>=0,O116,IF(O116<0,-O116)) -> 86.864548 | Q116: =IF(J116=1,'Specification & Data'!B$52,IF(Simulation!J116=2,'Specification & Data'!B$53,IF(Simulation!J116=3,'Specification & Data'!B$54))) -> 568.92541 | R116: =(0.5*'Specification & Data'!B$18*Simulation!F116^2)/1000 -> 15.964914 | T116: =P116*'Specification & Data'!B$14*0.9 -> 23.052515 | U116: =T116/(IF(J116=1,'Specification & Data'!H$7,IF(Simulation!J116=2,'Specification & Data'!H$8,IF(Simulation!J116=3,'Specification & Data'!H$9)))) -> 1.3830323 | V116: =V115+(L116*F116/(1000*3600)) -> 0.0083516575 | W116: =W115+(IF(I116<0,AC116,0)) -> 0.020428164 | X116: =(P116*F116)/1000 -> 0.67955761 | Y116: =X116*1000/(746) -> 0.91093513 | Z116: =(60*1000*X116)/(2*PI()*U116) -> 4692.0791 | AA116: =ROUND(U116,0) -> 1 | AB116: =MROUND(Z116,500) -> 4500 | AC116: =X116/3600 -> 0.000188766 | AD116: =AD115+AC116 -> 0.077080216 | AE116: =(O116*G116)/1000 -> 77.964674 | AF116: =(O116*F116)/1000 -> 0.67955761 | AG116: =AF116*1000/(746) -> 0.91093513 | AH116: =INDEX('Specification & Data'!E$24:R$46,MATCH(Simulation!AA116,'Specification & Data'!D$24:D$46,0),MATCH(Simulation!AB116,'Specification & Data'!E$47:R$47,0)) -> 917.27809 | AI116: =AF116/3600 -> 0.000188766 | AJ116: =AC116*AH116 -> 0.17315092 | AK116: =AK115+AJ116 -> 38.750653 | AL116: 2.3289729
C117: =C116+1 -> 115 | D117: 17.5 | E117: =F117*3.6 -> 28.163473 | F117: =D117/2.23694 -> 7.823187 | G117: =G116+((F117+F116)/2) -> 905.36626 | H117: =(F117+F116)/2 -> 7.823187 | I117: =(H117-F116)*2 -> 0 | J117: =IF(D117<=10,1,IF(AND(D117>10,D117<=20),2,IF(D117>20,3))) -> 2 | K117: 0 | L117: =('Specification & Data'!B$22*'Specification & Data'!B$10*'Specification & Data'!B$20*(Simulation!F117^2-'Specification & Data'!B$21^2))/2 -> 26.434879 | M117: =Q117*I117 -> 0 | N117: ='Specification & Data'!B$23*'Specification & Data'!B$18*8.91 -> 60.429669 | O117: =K117+L117+M117+N117 -> 86.864548 | P117: =IF(O117>=0,O117,IF(O117<0,-O117)) -> 86.864548 | Q117: =IF(J117=1,'Specification & Data'!B$52,IF(Simulation!J117=2,'Specification & Data'!B$53,IF(Simulation!J117=3,'Specification & Data'!B$54))) -> 568.92541 | R117: =(0.5*'Specification & Data'!B$18*Simulation!F117^2)/1000 -> 15.964914 | T117: =P117*'Specification & Data'!B$14*0.9 -> 23.052515 | U117: =T117/(IF(J117=1,'Specification & Data'!H$7,IF(Simulation!J117=2,'Specification & Data'!H$8,IF(Simulation!J117=3,'Specification & Data'!H$9)))) -> 1.3830323 | V117: =V116+(L117*F117/(1000*3600)) -> 0.0084091033 | W117: =W116+(IF(I117<0,AC117,0)) -> 0.020428164 | X117: =(P117*F117)/1000 -> 0.67955761 | Y117: =X117*1000/(746) -> 0.91093513 | Z117: =(60*1000*X117)/(2*PI()*U117) -> 4692.0791 | AA117: =ROUND(U117,0) -> 1 | AB117: =MROUND(Z117,500) -> 4500 | AC117: =X117/3600 -> 0.000188766 | AD117: =AD116+AC117 -> 0.077268982 | AE117: =(O117*G117)/1000 -> 78.644231 | AF117: =(O117*F117)/1000 -> 0.67955761 | AG117: =AF117*1000/(746) -> 0.91093513 | AH117: =INDEX('Specification & Data'!E$24:R$46,MATCH(Simulation!AA117,'Specification & Data'!D$24:D$46,0),MATCH(Simulation!AB117,'Specification & Data'!E$47:R$47,0)) -> 917.27809 | AI117: =AF117/3600 -> 0.000188766 | AJ117: =AC117*AH117 -> 0.17315092 | AK117: =AK116+AJ117 -> 38.923804 | AL117: 2.3289729
...

Sheet Results
B4: Lap Distance (km) | C4: 1.97
B5: Fuel consumed (l) | C5: =C6/(1000*0.748) -> 0.11999579
B6: Fuel consumed (g) | C6: =Simulation!AK278 -> 89.756848
B7: Litres per km | C7: =C4/C5 -> 16.417243
B8: Maximum speed (mph) | C8: =MAX(Simulation!D2:D281) -> 30
B9: Maximum speed (km/h) | C9: =MAX(Simulation!E2:E281) -> 48.28024
B10: Average speed (km/h) | C10: =AVERAGE(Simulation!E2:E281) -> 25.625711
B11: Maximum lap possible with full tank | C11: =26/C5 -> 216.67427
B12: Total traction energy (kWh) | C12: =SUM(Simulation!AC2:AC278) -> 0.17522109
B13: Total energy consumed by Drag (kWh) | C13: =Simulation!V278 -> 0.016510405
B14: Total energy consumed by Braking (kWh) | C14: =Simulation!W278 -> 0.039608906
B15: Braking energy percentage (%) | C15: =C14/C12 -> 0.22605101
B16: Time taken for one lap | C16: 0.19166667
