Workbook

Sheet Specification & Data
A1: ACEA7007-Hybrid Powertrain and Control
A2: Series Hybrid Vehicle(CW1)
A4: Technical Data
A6: Maximum Engine Speed (RPM) | B6: 6500 | D6: Gear | E6: Input | F6: Output | G6: Gear Ratio | H6: Overall Ratio | I6: Top Speed(m/s) | J6: Top Speed (km/h) | K6: Top Speed (mph)
A7: Maximum Engine Torque (Nm) | B7: 22 | D7: 1st | E7: 11 | F7: 29 | G7: =F7/E7 -> 2.6363636 | H7: =G11*G10*G7 -> 22.729221 | I7: =2*3.14*B$12*B$6/(H7*60*1000) -> 7.6027537 | J7: =3.6*I7 -> 27.369913 | K7: =Table7[[#This Row],[Column6]]*2.23694 -> 17.006904
A8: Maximum Power Develop by Engine (W) | B8: =B7*2*3.14*B6/60 -> 14967.333 | D8: 2nd | E8: 15 | F8: 29 | G8: =F8/E8 -> 1.9333333 | H8: =G11*G10*G8 -> 16.668095 | I8: =2*3.14*B$12*B$6/(H8*60*1000) -> 10.367391 | J8: =3.6*I8 -> 37.322609 | K8: =Table7[[#This Row],[Column6]]*2.23694 -> 23.191232
A9: Maximum Power Developed by Engine (HP) | B9: =B8/746 -> 20.06345 | D9: 3rd | E9: 21 | F9: 31 | G9: =F9/E9 -> 1.4761905 | H9: =G11*G10*G9 -> 12.726871 | I9: =2*3.14*B$12*B$6/(H9*60*1000) -> 13.577938 | J9: =3.6*I9 -> 48.880578 | K9: =Table7[[#This Row],[Column6]]*2.23694 -> 30.373033
A10: Effective Frontal Area (m2) | B10: 1.151 | D10: Final Drive | E10: 15 | F10: 51 | G10: =F10/E10 -> 3.4
A11: Front Wheel Radius (mm) | B11: 304.8 | D11: Primary Drive | E11: 28 | F11: 71 | G11: =F11/E11 -> 2.5357143
A12: Rear Wheel Radius (mm) | B12: 254
A13: Front tyre Radius (24*8-12) (m) | B13: =24/(39*2) -> 0.30769231 | E13: Inertia (kgm2) | F13: Transmission Ratio | G13: Velocity Ratio | H13: Crankshaft Velocity Ratio | I13: Gearbox Velocity Ratio | K13: Sinθ1 (slop 1 uphill) | L13: 0.13864
A14: Rear tyre Radius (23*10.5-12) (m) | B14: =23/(39*2) -> 0.29487179 | D14: Front Wheel | E14: =B49 -> 1.2491743 | G14: =1/B13 -> 3.25 | K14: Sinθ2 (slop 1 downhill) | L14: 0.20372
A15: Driver + Passenger Weight (kg) | B15: 144 | D15: Rear Wheel | E15: =B50 -> 0.86748214 | G15: =1/B14 -> 3.3913043 | K15: Sinθ3 (slop 2 uphill) | L15: 0.11803
A16: Fuel + Oil Weight (kg) | B16: 16.11 | D16: Crankshaft | E16: 0.06 | F16: 2.536 | K16: Sinθ4 (slop 2 downhill) | L16: 0.16229
A17: Kerb Weight (kg) | B17: 345 | D17: GearBox Output Shaft | E17: 0.02 | F17: 3.4 | G17: =G15*Table14[[#This Row],[Column3]] -> 11.530435
A18: Total Weight (kg) | B18: =B17+B16+B15+B46 -> 521.71 | D18: Gearbox Input Shaft(Gear1) | E18: 0.05 | F18: 2.636 | G18: =G15*F17*Table14[[#This Row],[Column3]] -> 30.394226 | H18: =Table14[[#This Row],[Column3]]*F17*F16*G15 -> 77.079757 | I18: =F17*G7*G15 -> 30.398419
D19: Gearbox Input Shaft(Gear2) | E19: 0.05 | F19: 1.933 | G19: =G15*Table14[[#This Row],[Column3]]*F17 -> 22.28833 | H19: =Table14[[#This Row],[Column3]]*F17*F16*G15 -> 56.523206 | I19: =G8*F17*G15 -> 22.292174
A20: Drag Coefficient | B20: 0.7 | D20: Gearbox Input Shaft(Gear3) | E20: 0.05 | F20: 1.476 | G20: =Table14[[#This Row],[Column3]]*F17*G15 -> 17.018922 | H20: =Table14[[#This Row],[Column3]]*F17*F16*G15 -> 43.159986 | I20: =G9*F17*G15 -> 17.021118
A21: Wind Speed (m/s) | B21: 2.23
A22: Air Density (kg/m3) | B22: 1.167 | D22: RPM | E22: 500 | F22: 1000 | G22: 1500 | H22: 2000 | I22: 2500 | J22: 3000 | K22: 3500 | L22: 4000 | M22: 4500 | N22: 5000 | O22: 5500 | P22: 6000 | Q22: 6500 | R22: 7000
A23: Rolling Coefficient (μR) Asphalt | B23: 0.013 | D23: Torque Nm
A24: Rolling Coefficient (μR) Gravel | B24: 0.02 | D24: 22 | E24: 0 | F24: 0 | G24: 0 | H24: 0 | I24: 0 | J24: 0 | K24: 0 | L24: 0 | M24: 0 | N24: 477.263 | O24: 457.65679 | P24: 0 | Q24: 0 | R24: 0
A25: Rolling Coefficient (μR) Standing water | B25: 0.155 | D25: 21 | E25: 0 | F25: 0 | G25: 0 | H25: 0 | I25: 0 | J25: 0 | K25: 0 | L25: 0 | M25: 483 | N25: 470.50444 | O25: 443.88071 | P25: 477 | Q25: 0 | R25: 0
A26: Rolling Coefficient (μR) Field | B26: 0.1 | D26: 20 | E26: 0 | F26: 0 | G26: 0 | H26: 0 | I26: 0 | J26: 0 | K26: 0 | L26: 479.7 | M26: 491.6236 | N26: 461.71575 | O26: 414.10462 | P26: 469.19732 | Q26: 0 | R26: 0
A27: Traction Coefficient ( Asphalt) | B27: 0.85 | D27: 19 | E27: 0 | F27: 0 | G27: 0 | H27: 0 | I27: 0 | J27: 487 | K27: 478.3 | L27: 482.76 | M27: 476.51549 | N27: 443.04624 | O27: 392.32854 | P27: 457.16662 | Q27: 504.47247 | R27: 0
A28: Traction Coefficient ( Geavel) | B28: 0.7 | D28: 18 | E28: 0 | F28: 0 | G28: 0 | H28: 0 | I28: 0 | J28: 494.6 | K28: 487.6 | L28: 483.62212 | M28: 467.51182 | N28: 427.32635 | O28: 370.55246 | P28: 440.18261 | Q28: 492.04619 | R28: 585.75415
A29: Traction Coefficient ( Field) | B29: 0.6 | D29: 17 | E29: 0 | F29: 0 | G29: 0 | H29: 0 | I29: 503.2 | J29: 499.2 | K29: 496.26476 | L29: 486.36708 | M29: 453.02166 | N29: 396.46991 | O29: 359.66441 | P29: 404.08191 | Q29: 484.72802 | R29: 571.22172
A30: Traction Coefficient ( Water splash) | B30: 0.3 | D30: 16 | E30: 0 | F30: 0 | G30: 0 | H30: 0 | I30: 511.2 | J30: 502.55077 | K30: 499.78608 | L30: 489.11204 | M30: 444.16346 | N30: 368.92715 | O30: 348.77637 | P30: 315.9812 | Q30: 480.25628 | R30: 560.48452
D31: 15 | E31: 0 | F31: 0 | G31: 0 | H31: 597.6 | I31: 516.02897 | J31: 506.4151 | K31: 490.87116 | L31: 491.857 | M31: 439.4457 | N31: 349.54388 | O31: 315.1385 | P31: 304.3559 | Q31: 440.60398 | R31: 512.49828
A32: Wheelbase (mm) | B32: 1940 | D32: 14 | E32: 0 | F32: 0 | G32: 0 | H32: 617.6 | I32: 519.93068 | J32: 510.27942 | K32: 481.95623 | L32: 474.1423 | M32: 406.02647 | N32: 338.1606 | O32: 297.2 | P32: 298.88214 | Q32: 426.97377 | R32: 505.44295
A33: Height of COG from Ground (mm) | B33: 488 | D33: 13 | E33: 0 | F33: 0 | G33: 0 | H33: 631.4 | I33: 537.83024 | J33: 514.14375 | K33: 473.0413 | L33: 456.4276 | M33: 383.4689 | N33: 340.77733 | O33: 313.44812 | P33: 323.99476 | Q33: 377.79009 | R33: 550.08629
A34: Distance of COG from Front Wheel Center (mm) | B34: 1070 | D34: 12 | E34: 0 | F34: 0 | G34: 647.6 | H34: 650.99204 | I34: 555.72979 | J34: 520.46754 | K34: 490.2231 | L34: 459.51858 | M34: 398.81407 | N34: 352.96777 | O34: 326.03757 | P34: 319.10738 | Q34: 394.6064 | R34: 535.15262
A35: Distance of COG from Rear Wheel Center (mm) | B35: 870 | D35: 11 | E35: 0 | F35: 0 | G35: 661.4 | H35: 671.42151 | I35: 574.81351 | J35: 548.0705 | K35: 508.72062 | L35: 471.7546 | M35: 434.78857 | N35: 361.56046 | O35: 343.64462 | P35: 314.22 | Q35: 498.42272 | R35: 540.20721
A36: Angle of Buggy Lifted (Degree) | B36: 18 | D36: 10 | E36: 0 | F36: 0 | G36: 677.3 | H36: 679.66155 | I36: 593.89724 | J36: 578.13292 | K36: 521.56827 | L36: 495.94176 | M36: 470.31525 | N36: 373.21543 | O36: 359.74288 | P36: 309.33261 | Q36: 504.50472 | R36: 535.95524
A37: Angle of Buggy Lifted (Radians) | B37: 0.314159 | D37: 9 | E37: 0 | F37: 0 | G37: 683 | H37: 679.68857 | I37: 604.92833 | J37: 590.1681 | K37: 575.40786 | L37: 533.46044 | M37: 491.51302 | N37: 394.87041 | O37: 401.34726 | P37: 419.30302 | Q37: 510.58671 | R37: 552.98511
A38: tan(18°) | B38: 0.32491 | D38: 8 | E38: 0 | F38: 693.5 | G38: 685.91174 | H38: 688.48829 | I38: 626.96707 | J38: 605.44585 | K38: 583.92463 | L38: 536.69451 | M38: 489.46439 | N38: 416.52538 | O38: 430.19859 | P38: 494.14017 | Q38: 563.03506 | R38: 628.62775
A39: Load on Rear Wheel (kg) | B39: 207 | D39: 7 | E39: 0 | F39: 698.4 | G39: 698.97725 | H39: 787.57302 | I39: 661.67563 | J39: 626.82615 | K39: 615.56795 | L39: 583.19464 | M39: 525.11244 | N39: 459.2047 | O39: 464.79868 | P39: 539.13705 | Q39: 595.78196 | R39: 664.22251
A40: Load on Rear Wheel while Lifted (kg) | B40: 193 | D40: 6 | E40: 840.7 | F40: 704.5 | G40: 738.17377 | H40: 787.4403 | I40: 683.96983 | J40: 635.84712 | K40: 647.21127 | L40: 603.98588 | M40: 560.7605 | N40: 501.88402 | O40: 488.66659 | P40: 587.82742 | Q40: 605.09522 | R40: 676.95837
A41: YCOG | B41: =B39*B32/B18 -> 769.73798 | D41: 5 | E41: 962.5 | F41: 709.89367 | G41: 750.50545 | H41: 795.34446 | I41: 726.49149 | J41: 707.63852 | K41: 688.78555 | L41: 651.64145 | M41: 620.2848 | N41: 588.92816 | O41: 571.62166 | P41: 626.15539 | Q41: 678.7958 | R41: 732.69842
A42: XCOG | B42: =((B39-B40)*B32)/(B17*B38)+279.4 -> 521.69675 | D42: 4 | E42: 1046.5 | F42: 741.90531 | G42: 770.04352 | H42: 824.23018 | I42: 776.62339 | J42: 756.8318 | K42: 717.30149 | L42: 699.29701 | M42: 679.80911 | N42: 660.32121 | O42: 654.57674 | P42: 694.73211 | Q42: 736.7163 | R42: 777.48127
...

Sheet Simulation
C1: Time (s) | D1: Velocity (mph) | E1: Velocity (km/h) | F1: Velocity (m/s) | G1: Distance (m) | H1: Displacement (m) | I1: Acceleration (m/s | J1: Gear | K1: Gradient Resistance Force (N) | L1: Aero Drag Force (N) | M1: Inertia Resistance Force (N) | N1: Rolling Resistance Force (N) | O1: Total Resistance Force (N) | P1: Force on wheel | Q1: Equivelent Mass (kg) | R1: Kinetic Energy (kJ) | S1: Potential Energy (kJ) | T1: Torque @ wheel | U1: Engine torque (Nm) | V1: Energy consumed by drag (kWh) | W1: Energy consumed by braking (kWh) | X1: Power (kW) | Y1: Power (hp) | Z1: RPM | AA1: Rounded Torque (Nm) | AB1: Rounded RPM | AC1: Energy (kWh) | AD1: Total Energy (kWh) | AE1: Workdone (kJ) | AF1: Power (kW) | AG1: Power (hp) | AH1: BSFC | AI1: Energy (kWh) | AJ1: Fuel Used (g) | AK1: Total Fuel consumed (g)
A2: ASPHALT START | C2: 0 | D2: 0 | E2: =F2*3.6 -> 0 | F2: =D2/2.23694 -> 0 | G2: 0 | H2: 0 | I2: 0 | J2: 0 | K2: 0 | L2: 0 | M2: 0 | N2: 0 | O2: =K2+L2+M2+N2 -> 0 | P2: =IF(O2>=0,O2,IF(O2<0,-O2)) -> 0 | Q2: 521.71 | R2: =(0.5*'Specification & Data'!B$18*Simulation!F2^2)/1000 -> 0 | T2: =P2*'Specification & Data'!B$27*0.9 -> 0 | U2: 0 | V2: =L2*F2/(1000*3600) -> 0 | W2: =IF(I2<0,AC2,0) -> 0 | X2: =(P2*F2)/1000 -> 0 | Y2: =X2*1000/(746) -> 0 | Z2: 0 | AA2: 0 | AB2: 0 | AC2: =X2/3600 -> 0 | AD2: 0 | AE2: 0 | AF2: =(O2*F2)/1000 -> 0 | AG2: =AF2*1000/(746) -> 0 | AH2: 0 | AI2: =AF2/3600 -> 0 | AJ2: =AC2*AH2 -> 0 | AK2: 0 | AL2: 0
C3: =C2+1 -> 1 | D3: 5.7 | E3: =F3*3.6 -> 9.1732456 | F3: =D3/2.23694 -> 2.5481238 | G3: =G2+((F3+F2)/2) -> 1.2740619 | H3: =(F3+F2)/2 -> 1.2740619 | I3: =(H3-F2)*2 -> 2.5481238 | J3: =IF(D3<=10,1,IF(AND(D3>10,D3<=20),2,IF(D3>20,3))) -> 1 | K3: 0 | L3: =('Specification & Data'!B$22*'Specification & Data'!B$10*'Specification & Data'!B$20*(Simulation!F3^2-'Specification & Data'!B$21^2))/2 -> 0.71460779 | M3: =Q3*I3 -> 1465.6977 | N3: ='Specification & Data'!B$23*'Specification & Data'!B$18*8.91 -> 60.429669 | O3: =K3+L3+M3+N3 -> 1526.842 | P3: =IF(O3>=0,O3,IF(O3<0,-O3)) -> 1526.842 | Q3: =IF(J3=1,'Specification & Data'!B$52,IF(Simulation!J3=2,'Specification & Data'!B$53,IF(Simulation!J3=3,'Specification & Data'!B$54))) -> 575.20663 | R3: =(0.5*'Specification & Data'!B$18*Simulation!F3^2)/1000 -> 1.6937145 | T3: =P3*'Specification & Data'!B$14*0.9 -> 405.20037 | U3: =T3/(IF(J3=1,'Specification & Data'!H$7,IF(Simulation!J3=2,'Specification & Data'!H$8,IF(Simulation!J3=3,'Specification & Data'!H$9)))) -> 17.827288 | V3: =V2+(L3*F3/(1000*3600)) -> 5.0580809e-07 | W3: =W2+(IF(I3<0,AC3,0)) -> 0 | X3: =(P3*F3)/1000 -> 3.8905823 | Y3: =X3*1000/(746) -> 5.2152578 | Z3: =(60*1000*X3)/(2*PI()*U3) -> 2084.0144 | AA3: =ROUND(U3,0) -> 18 | AB3: =MROUND(Z3,500) -> 2000 | AC3: =X3/3600 -> 0.0010807173 | AD3: =AD2+AC3 -> 0.0010807173 | AE3: =(O3*G3)/1000 -> 1.9452912 | AF3: =(O3*F3)/1000 -> 3.8905823 | AG3: =AF3*1000/(746) -> 5.2152578 | AH3: =INDEX('Specification & Data'!E$24:R$46,MATCH(Simulation!AA3,'Specification & Data'!D$24:D$46,0),MATCH(Simulation!AB3,'Specification & Data'!E$47:R$47,0)) -> 0 | AI3: =AF3/3600 -> 0.0010807173 | AJ3: =AC3*AH3 -> 0 | AK3: =AK2+AJ3 -> 0 | AL3: 2.3289729
C4: =C3+1 -> 2 | D4: 6.9 | E4: =F4*3.6 -> 11.104455 | F4: =D4/2.23694 -> 3.0845709 | G4: =G3+((F4+F3)/2) -> 4.0904092 | H4: =(F4+F3)/2 -> 2.8163473 | I4: =(H4-F3)*2 -> 0.53644711 | J4: =IF(D4<=10,1,IF(AND(D4>10,D4<=20),2,IF(D4>20,3))) -> 1 | K4: 0 | L4: =('Specification & Data'!B$22*'Specification & Data'!B$10*'Specification & Data'!B$20*(Simulation!F4^2-'Specification & Data'!B$21^2))/2 -> 2.1351605 | M4: =Q4*I4 -> 308.56794 | N4: ='Specification & Data'!B$23*'Specification & Data'!B$18*8.91 -> 60.429669 | O4: =K4+L4+M4+N4 -> 371.13277 | P4: =IF(O4>=0,O4,IF(O4<0,-O4)) -> 371.13277 | Q4: =IF(J4=1,'Specification & Data'!B$52,IF(Simulation!J4=2,'Specification & Data'!B$53,IF(Simulation!J4=3,'Specification & Data'!B$54))) -> 575.20663 | R4: =(0.5*'Specification & Data'!B$18*Simulation!F4^2)/1000 -> 2.4819251 | T4: =P4*'Specification & Data'!B$14*0.9 -> 98.492926 | U4: =T4/(IF(J4=1,'Specification & Data'!H$7,IF(Simulation!J4=2,'Specification & Data'!H$8,IF(Simulation!J4=3,'Specification & Data'!H$9)))) -> 4.3333173 | V4: =V3+(L4*F4/(1000*3600)) -> 2.3352675e-06 | W4: =W3+(IF(I4<0,AC4,0)) -> 0 | X4: =(P4*F4)/1000 -> 1.1447853 | Y4: =X4*1000/(746) -> 1.5345648 | Z4: =(60*1000*X4)/(2*PI()*U4) -> 2522.7542 | AA4: =ROUND(U4,0) -> 4 | AB4: =MROUND(Z4,500) -> 2500 | AC4: =X4/3600 -> 0.00031799592 | AD4: =AD3+AC4 -> 0.0013987132 | AE4: =(O4*G4)/1000 -> 1.5180849 | AF4: =(O4*F4)/1000 -> 1.1447853 | AG4: =AF4*1000/(746) -> 1.5345648 | AH4: =INDEX('Specification & Data'!E$24:R$46,MATCH(Simulation!AA4,'Specification & Data'!D$24:D$46,0),MATCH(Simulation!AB4,'Specification & Data'!E$47:R$47,0)) -> 776.62339 | AI4: =AF4/3600 -> 0.00031799592 | AJ4: =AC4*AH4 -> 0.24696307 | AK4: =AK3+AJ4 -> 0.24696307 | AL4: 2.3289729
C5: =C4+1 -> 3 | D5: 8 | E5: =F5*3.6 -> 12.874731 | F5: =D5/2.23694 -> 3.5763141 | G5: =G4+((F5+F4)/2) -> 7.4208517 | H5: =(F5+F4)/2 -> 3.3304425 | I5: =(H5-F4)*2 -> 0.49174318 | J5: =IF(D5<=10,1,IF(AND(D5>10,D5<=20),2,IF(D5>20,3))) -> 1 | K5: 0 | L5: =('Specification & Data'!B$22*'Specification & Data'!B$10*'Specification & Data'!B$20*(Simulation!F5^2-'Specification & Data'!B$21^2))/2 -> 3.6750321 | M5: =Q5*I5 -> 282.85394 | N5: ='Specification & Data'!B$23*'Specification & Data'!B$18*8.91 -> 60.429669 | O5: =K5+L5+M5+N5 -> 346.95864 | P5: =IF(O5>=0,O5,IF(O5<0,-O5)) -> 346.95864 | Q5: =IF(J5=1,'Specification & Data'!B$52,IF(Simulation!J5=2,'Specification & Data'!B$53,IF(Simulation!J5=3,'Specification & Data'!B$54))) -> 575.20663 | R5: =(0.5*'Specification & Data'!B$18*Simulation!F5^2)/1000 -> 3.3363413 | T5: =P5*'Specification & Data'!B$14*0.9 -> 92.077486 | U5: =T5/(IF(J5=1,'Specification & Data'!H$7,IF(Simulation!J5=2,'Specification & Data'!H$8,IF(Simulation!J5=3,'Specification & Data'!H$9)))) -> 4.0510621 | V5: =V4+(L5*F5/(1000*3600)) -> 5.98612e-06 | W5: =W4+(IF(I5<0,AC5,0)) -> 0 | X5: =(P5*F5)/1000 -> 1.2408331 | Y5: =X5*1000/(746) -> 1.6633151 | Z5: =(60*1000*X5)/(2*PI()*U5) -> 2924.9324 | AA5: =ROUND(U5,0) -> 4 | AB5: =MROUND(Z5,500) -> 3000 | AC5: =X5/3600 -> 0.00034467585 | AD5: =AD4+AC5 -> 0.0017433891 | AE5: =(O5*G5)/1000 -> 2.5747286 | AF5: =(O5*F5)/1000 -> 1.2408331 | AG5: =AF5*1000/(746) -> 1.6633151 | AH5: =INDEX('Specification & Data'!E$24:R$46,MATCH(Simulation!AA5,'Specification & Data'!D$24:D$46,0),MATCH(Simulation!AB5,'Specification & Data'!E$47:R$47,0)) -> 756.8318 | AI5: =AF5/3600 -> 0.00034467585 | AJ5: =AC5*AH5 -> 0.26086165 | AK5: =AK4+AJ5 -> 0.50782472 | AL5: 2.3289729
C6: =C5+1 -> 4 | D6: 10 | E6: =F6*3.6 -> 16.093413 | F6: =D6/2.23694 -> 4.4703926 | G6: =G5+((F6+F5)/2) -> 11.444205 | H6: =(F6+F5)/2 -> 4.0233533 | I6: =(H6-F5)*2 -> 0.89407852 | J6: =IF(D6<=10,1,IF(AND(D6>10,D6<=20),2,IF(D6>20,3))) -> 1 | K6: 0 | L6: =('Specification & Data'!B$22*'Specification & Data'!B$10*'Specification & Data'!B$20*(Simulation!F6^2-'Specification & Data'!B$21^2))/2 -> 7.0573004 | M6: =Q6*I6 -> 514.27989 | N6: ='Specification & Data'!B$23*'Specification & Data'!B$18*8.91 -> 60.429669 | O6: =K6+L6+M6+N6 -> 581.76686 | P6: =IF(O6>=0,O6,IF(O6<0,-O6)) -> 581.76686 | Q6: =IF(J6=1,'Specification & Data'!B$52,IF(Simulation!J6=2,'Specification & Data'!B$53,IF(Simulation!J6=3,'Specification & Data'!B$54))) -> 575.20663 | R6: =(0.5*'Specification & Data'!B$18*Simulation!F6^2)/1000 -> 5.2130332 | T6: =P6*'Specification & Data'!B$14*0.9 -> 154.39198 | U6: =T6/(IF(J6=1,'Specification & Data'!H$7,IF(Simulation!J6=2,'Specification & Data'!H$8,IF(Simulation!J6=3,'Specification & Data'!H$9)))) -> 6.7926647 | V6: =V5+(L6*F6/(1000*3600)) -> 1.4749704e-05 | W6: =W5+(IF(I6<0,AC6,0)) -> 0 | X6: =(P6*F6)/1000 -> 2.6007263 | Y6: =X6*1000/(746) -> 3.4862283 | Z6: =(60*1000*X6)/(2*PI()*U6) -> 3656.1655 | AA6: =ROUND(U6,0) -> 7 | AB6: =MROUND(Z6,500) -> 3500 | AC6: =X6/3600 -> 0.00072242397 | AD6: =AD5+AC6 -> 0.0024658131 | AE6: =(O6*G6)/1000 -> 6.6578593 | AF6: =(O6*F6)/1000 -> 2.6007263 | AG6: =AF6*1000/(746) -> 3.4862283 | AH6: =INDEX('Specification & Data'!E$24:R$46,MATCH(Simulation!AA6,'Specification & Data'!D$24:D$46,0),MATCH(Simulation!AB6,'Specification & Data'!E$47:R$47,0)) -> 615.56795 | AI6: =AF6/3600 -> 0.00072242397 | AJ6: =AC6*AH6 -> 0.44470104 | AK6: =AK5+AJ6 -> 0.95252576 | AL6: 2.3289729
C7: =C6+1 -> 5 | D7: 10.1 | E7: =F7*3.6 -> 16.254347 | F7: =D7/2.23694 -> 4.5150965 | G7: =G6+((F7+F6)/2) -> 15.93695 | H7: =(F7+F6)/2 -> 4.4927446 | I7: =(H7-F6)*2 -> 0.044703926 | J7: =IF(D7<=10,1,IF(AND(D7>10,D7<=20),2,IF(D7>20,3))) -> 2 | K7: 0 | L7: =('Specification & Data'!B$22*'Specification & Data'!B$10*'Specification & Data'!B$20*(Simulation!F7^2-'Specification & Data'!B$21^2))/2 -> 7.2461437 | M7: =Q7*I7 -> 25.4332 | N7: ='Specification & Data'!B$23*'Specification & Data'!B$18*8.91 -> 60.429669 | O7: =K7+L7+M7+N7 -> 93.109013 | P7: =IF(O7>=0,O7,IF(O7<0,-O7)) -> 93.109013 | Q7: =IF(J7=1,'Specification & Data'!B$52,IF(Simulation!J7=2,'Specification & Data'!B$53,IF(Simulation!J7=3,'Specification & Data'!B$54))) -> 568.92541 | R7: =(0.5*'Specification & Data'!B$18*Simulation!F7^2)/1000 -> 5.3178152 | T7: =P7*'Specification & Data'!B$14*0.9 -> 24.709699 | U7: =T7/(IF(J7=1,'Specification & Data'!H$7,IF(Simulation!J7=2,'Specification & Data'!H$8,IF(Simulation!J7=3,'Specification & Data'!H$9)))) -> 1.4824549 | V7: =V6+(L7*F7/(1000*3600)) -> 2.383777e-05 | W7: =W6+(IF(I7<0,AC7,0)) -> 0 | X7: =(P7*F7)/1000 -> 0.42039618 | Y7: =X7*1000/(746) -> 0.56353375 | Z7: =(60*1000*X7)/(2*PI()*U7) -> 2707.9999 | AA7: =ROUND(U7,0) -> 1 | AB7: =MROUND(Z7,500) -> 2500 | AC7: =X7/3600 -> 0.00011677672 | AD7: =AD6+AC7 -> 0.0025825898 | AE7: =(O7*G7)/1000 -> 1.4838736 | AF7: =(O7*F7)/1000 -> 0.42039618 | AG7: =AF7*1000/(746) -> 0.56353375 | AH7: =INDEX('Specification & Data'!E$24:R$46,MATCH(Simulation!AA7,'Specification & Data'!D$24:D$46,0),MATCH(Simulation!AB7,'Specification & Data'!E$47:R$47,0)) -> 1050.5262 | AI7: =AF7/3600 -> 0.00011677672 | AJ7: =AC7*AH7 -> 0.122677 | AK7: =AK6+AJ7 -> 1.0752028 | AL7: 2.3289729
C8: =C7+1 -> 6 | D8: 11 | E8: =F8*3.6 -> 17.702755 | F8: =D8/2.23694 -> 4.9174318 | G8: =G7+((F8+F7)/2) -> 20.653214 | H8: =(F8+F7)/2 -> 4.7162642 | I8: =(H8-F7)*2 -> 0.40233533 | J8: =IF(D8<=10,1,IF(AND(D8>10,D8<=20),2,IF(D8>20,3))) -> 2 | K8: 0 | L8: =('Specification & Data'!B$22*'Specification & Data'!B$10*'Specification & Data'!B$20*(Simulation!F8^2-'Specification & Data'!B$21^2))/2 -> 9.0302902 | M8: =Q8*I8 -> 228.8988 | N8: ='Specification & Data'!B$23*'Specification & Data'!B$18*8.91 -> 60.429669 | O8: =K8+L8+M8+N8 -> 298.35876 | P8: =IF(O8>=0,O8,IF(O8<0,-O8)) -> 298.35876 | Q8: =IF(J8=1,'Specification & Data'!B$52,IF(Simulation!J8=2,'Specification & Data'!B$53,IF(Simulation!J8=3,'Specification & Data'!B$54))) -> 568.92541 | R8: =(0.5*'Specification & Data'!B$18*Simulation!F8^2)/1000 -> 6.3077702 | T8: =P8*'Specification & Data'!B$14*0.9 -> 79.179824 | U8: =T8/(IF(J8=1,'Specification & Data'!H$7,IF(Simulation!J8=2,'Specification & Data'!H$8,IF(Simulation!J8=3,'Specification & Data'!H$9)))) -> 4.7503822 | V8: =V7+(L8*F8/(1000*3600)) -> 3.6172725e-05 | W8: =W7+(IF(I8<0,AC8,0)) -> 0 | X8: =(P8*F8)/1000 -> 1.4671588 | Y8: =X8*1000/(746) -> 1.9667009 | Z8: =(60*1000*X8)/(2*PI()*U8) -> 2949.3069 | AA8: =ROUND(U8,0) -> 5 | AB8: =MROUND(Z8,500) -> 3000 | AC8: =X8/3600 -> 0.00040754412 | AD8: =AD7+AC8 -> 0.0029901339 | AE8: =(O8*G8)/1000 -> 6.1620672 | AF8: =(O8*F8)/1000 -> 1.4671588 | AG8: =AF8*1000/(746) -> 1.9667009 | AH8: =INDEX('Specification & Data'!E$24:R$46,MATCH(Simulation!AA8,'Specification & Data'!D$24:D$46,0),MATCH(Simulation!AB8,'Specification & Data'!E$47:R$47,0)) -> 707.63852 | AI8: =AF8/3600 -> 0.00040754412 | AJ8: =AC8*AH8 -> 0.28839392 | AK8: =AK7+AJ8 -> 1.3635967 | AL8: 2.3289729
C9: =C8+1 -> 7 | D9: 12 | E9: =F9*3.6 -> 19.312096 | F9: =D9/2.23694 -> 5.3644711 | G9: =G8+((F9+F8)/2) -> 25.794165 | H9: =(F9+F8)/2 -> 5.1409515 | I9: =(H9-F8)*2 -> 0.44703926 | J9: =IF(D9<=10,1,IF(AND(D9>10,D9<=20),2,IF(D9>20,3))) -> 2 | K9: 0 | L9: =('Specification & Data'!B$22*'Specification & Data'!B$10*'Specification & Data'!B$20*(Simulation!F9^2-'Specification & Data'!B$21^2))/2 -> 11.191184 | M9: =Q9*I9 -> 254.332 | N9: ='Specification & Data'!B$23*'Specification & Data'!B$18*8.91 -> 60.429669 | O9: =K9+L9+M9+N9 -> 325.95285 | P9: =IF(O9>=0,O9,IF(O9<0,-O9)) -> 325.95285 | Q9: =IF(J9=1,'Specification & Data'!B$52,IF(Simulation!J9=2,'Specification & Data'!B$53,IF(Simulation!J9=3,'Specification & Data'!B$54))) -> 568.92541 | R9: =(0.5*'Specification & Data'!B$18*Simulation!F9^2)/1000 -> 7.5067679 | T9: =P9*'Specification & Data'!B$14*0.9 -> 86.502871 | U9: =T9/(IF(J9=1,'Specification & Data'!H$7,IF(Simulation!J9=2,'Specification & Data'!H$8,IF(Simulation!J9=3,'Specification & Data'!H$9)))) -> 5.1897274 | V9: =V8+(L9*F9/(1000*3600)) -> 5.2849053e-05 | W9: =W8+(IF(I9<0,AC9,0)) -> 0 | X9: =(P9*F9)/1000 -> 1.7485646 | Y9: =X9*1000/(746) -> 2.3439204 | Z9: =(60*1000*X9)/(2*PI()*U9) -> 3217.4257 | AA9: =ROUND(U9,0) -> 5 | AB9: =MROUND(Z9,500) -> 3000 | AC9: =X9/3600 -> 0.0004857124 | AD9: =AD8+AC9 -> 0.0034758463 | AE9: =(O9*G9)/1000 -> 8.4076816 | AF9: =(O9*F9)/1000 -> 1.7485646 | AG9: =AF9*1000/(746) -> 2.3439204 | AH9: =INDEX('Specification & Data'!E$24:R$46,MATCH(Simulation!AA9,'Specification & Data'!D$24:D$46,0),MATCH(Simulation!AB9,'Specification & Data'!E$47:R$47,0)) -> 707.63852 | AI9: =AF9/3600 -> 0.0004857124 | AJ9: =AC9*AH9 -> 0.3437088 | AK9: =AK8+AJ9 -> 1.7073055 | AL9: 2.3289729
C10: =C9+1 -> 8 | D10: 14 | E10: =F10*3.6 -> 22.530779 | F10: =D10/2.23694 -> 6.2585496 | G10: =G9+((F10+F9)/2) -> 31.605676 | H10: =(F10+F9)/2 -> 5.8115104 | I10: =(H10-F9)*2 -> 0.89407852 | J10: =IF(D10<=10,1,IF(AND(D10>10,D10<=20),2,IF(D10>20,3))) -> 2 | K10: 0 | L10: =('Specification & Data'!B$22*'Specification & Data'!B$10*'Specification & Data'!B$20*(Simulation!F10^2-'Specification & Data'!B$21^2))/2 -> 16.076682 | M10: =Q10*I10 -> 508.66399 | N10: ='Specification & Data'!B$23*'Specification & Data'!B$18*8.91 -> 60.429669 | O10: =K10+L10+M10+N10 -> 585.17034 | P10: =IF(O10>=0,O10,IF(O10<0,-O10)) -> 585.17034 | Q10: =IF(J10=1,'Specification & Data'!B$52,IF(Simulation!J10=2,'Specification & Data'!B$53,IF(Simulation!J10=3,'Specification & Data'!B$54))) -> 568.92541 | R10: =(0.5*'Specification & Data'!B$18*Simulation!F10^2)/1000 -> 10.217545 | T10: =P10*'Specification & Data'!B$14*0.9 -> 155.29521 | U10: =T10/(IF(J10=1,'Specification & Data'!H$7,IF(Simulation!J10=2,'Specification & Data'!H$8,IF(Simulation!J10=3,'Specification & Data'!H$9)))) -> 9.3169138 | V10: =V9+(L10*F10/(1000*3600)) -> 8.0798141e-05 | W10: =W9+(IF(I10<0,AC10,0)) -> 0 | X10: =(P10*F10)/1000 -> 3.6623176 | Y10: =X10*1000/(746) -> 4.909273 | Z10: =(60*1000*X10)/(2*PI()*U10) -> 3753.6633 | AA10: =ROUND(U10,0) -> 9 | AB10: =MROUND(Z10,500) -> 4000 | AC10: =X10/3600 -> 0.0010173105 | AD10: =AD9+AC10 -> 0.0044931568 | AE10: =(O10*G10)/1000 -> 18.494704 | AF10: =(O10*F10)/1000 -> 3.6623176 | AG10: =AF10*1000/(746) -> 4.909273 | AH10: =INDEX('Specification & Data'!E$24:R$46,MATCH(Simulation!AA10,'Specification & Data'!D$24:D$46,0),MATCH(Simulation!AB10,'Specification & Data'!E$47:R$47,0)) -> 533.46044 | AI10: =AF10/3600 -> 0.0010173105 | AJ10: =AC10*AH10 -> 0.54269488 | AK10: =AK9+AJ10 -> 2.2500004 | AL10: 2.3289729
C11: =C10+1 -> 9 | D11: 16 | E11: =F11*3.6 -> 25.749461 | F11: =D11/2.23694 -> 7.1526281 | G11: =G10+((F11+F10)/2) -> 38.311264 | H11: =(F11+F10)/2 -> 6.7055889 | I11: =(H11-F10)*2 -> 0.89407852 | J11: =IF(D11<=10,1,IF(AND(D11>10,D11<=20),2,IF(D11>20,3))) -> 2 | K11: 0 | L11: =('Specification & Data'!B$22*'Specification & Data'!B$10*'Specification & Data'!B$20*(Simulation!F11^2-'Specification & Data'!B$21^2))/2 -> 21.713796 | M11: =Q11*I11 -> 508.66399 | N11: ='Specification & Data'!B$23*'Specification & Data'!B$18*8.91 -> 60.429669 | O11: =K11+L11+M11+N11 -> 590.80746 | P11: =IF(O11>=0,O11,IF(O11<0,-O11)) -> 590.80746 | Q11: =IF(J11=1,'Specification & Data'!B$52,IF(Simulation!J11=2,'Specification & Data'!B$53,IF(Simulation!J11=3,'Specification & Data'!B$54))) -> 568.92541 | R11: =(0.5*'Specification & Data'!B$18*Simulation!F11^2)/1000 -> 13.345365 | T11: =P11*'Specification & Data'!B$14*0.9 -> 156.79121 | U11: =T11/(IF(J11=1,'Specification & Data'!H$7,IF(Simulation!J11=2,'Specification & Data'!H$8,IF(Simulation!J11=3,'Specification & Data'!H$9)))) -> 9.4066663 | V11: =V10+(L11*F11/(1000*3600)) -> 0.00012394 | W11: =W10+(IF(I11<0,AC11,0)) -> 0 | X11: =(P11*F11)/1000 -> 4.225826 | Y11: =X11*1000/(746) -> 5.6646462 | Z11: =(60*1000*X11)/(2*PI()*U11) -> 4289.9009 | AA11: =ROUND(U11,0) -> 9 | AB11: =MROUND(Z11,500) -> 4500 | AC11: =X11/3600 -> 0.0011738406 | AD11: =AD10+AC11 -> 0.0056669973 | AE11: =(O11*G11)/1000 -> 22.634581 | AF11: =(O11*F11)/1000 -> 4.225826 | AG11: =AF11*1000/(746) -> 5.6646462 | AH11: =INDEX('Specification & Data'!E$24:R$46,MATCH(Simulation!AA11,'Specification & Data'!D$24:D$46,0),MATCH(Simulation!AB11,'Specification & Data'!E$47:R$47,0)) -> 491.51302 | AI11: =AF11/3600 -> 0.0011738406 | AJ11: =AC11*AH11 -> 0.57695792 | AK11: =AK10+AJ11 -> 2.8269583 | AL11: 2.3289729
C12: =C11+1 -> 10 | D12: 18 | E12: =F12*3.6 -> 28.968144 | F12: =D12/2.23694 -> 8.0467067 | G12: =G11+((F12+F11)/2) -> 45.910932 | H12: =(F12+F11)/2 -> 7.5996674 | I12: =(H12-F11)*2 -> 0.89407852 | J12: =IF(D12<=10,1,IF(AND(D12>10,D12<=20),2,IF(D12>20,3))) -> 2 | K12: 0 | L12: =('Specification & Data'!B$22*'Specification & Data'!B$10*'Specification & Data'!B$20*(Simulation!F12^2-'Specification & Data'!B$21^2))/2 -> 28.102525 | M12: =Q12*I12 -> 508.66399 | N12: ='Specification & Data'!B$23*'Specification & Data'!B$18*8.91 -> 60.429669 | O12: =K12+L12+M12+N12 -> 597.19619 | P12: =IF(O12>=0,O12,IF(O12<0,-O12)) -> 597.19619 | Q12: =IF(J12=1,'Specification & Data'!B$52,IF(Simulation!J12=2,'Specification & Data'!B$53,IF(Simulation!J12=3,'Specification & Data'!B$54))) -> 568.92541 | R12: =(0.5*'Specification & Data'!B$18*Simulation!F12^2)/1000 -> 16.890228 | T12: =P12*'Specification & Data'!B$14*0.9 -> 158.48668 | U12: =T12/(IF(J12=1,'Specification & Data'!H$7,IF(Simulation!J12=2,'Specification & Data'!H$8,IF(Simulation!J12=3,'Specification & Data'!H$9)))) -> 9.5083858 | V12: =V11+(L12*F12/(1000*3600)) -> 0.00018675467 | W12: =W11+(IF(I12<0,AC12,0)) -> 0 | X12: =(P12*F12)/1000 -> 4.8054625 | Y12: =X12*1000/(746) -> 6.4416388 | Z12: =(60*1000*X12)/(2*PI()*U12) -> 4826.1385 | AA12: =ROUND(U12,0) -> 10 | AB12: =MROUND(Z12,500) -> 5000 | AC12: =X12/3600 -> 0.0013348507 | AD12: =AD11+AC12 -> 0.007001848 | AE12: =(O12*G12)/1000 -> 27.417833 | AF12: =(O12*F12)/1000 -> 4.8054625 | AG12: =AF12*1000/(746) -> 6.4416388 | AH12: =INDEX('Specification & Data'!E$24:R$46,MATCH(Simulation!AA12,'Specification & Data'!D$24:D$46,0),MATCH(Simulation!AB12,'Specification & Data'!E$47:R$47,0)) -> 373.21543 | AI12: =AF12/3600 -> 0.0013348507 | AJ12: =AC12*AH12 -> 0.49818688 | AK12: =AK11+AJ12 -> 3.3251452 | AL12: 2.3289729
C13: =C12+1 -> 11 | D13: 20 | E13: =F13*3.6 -> 32.186827 | F13: =D13/2.23694 -> 8.9407852 | G13: =G12+((F13+F12)/2) -> 54.404678 | H13: =(F13+F12)/2 -> 8.4937459 | I13: =(H13-F12)*2 -> 0.89407852 | J13: =IF(D13<=10,1,IF(AND(D13>10,D13<=20),2,IF(D13>20,3))) -> 2 | K13: 0 | L13: =('Specification & Data'!B$22*'Specification & Data'!B$10*'Specification & Data'!B$20*(Simulation!F13^2-'Specification & Data'!B$21^2))/2 -> 35.242869 | M13: =Q13*I13 -> 508.66399 | N13: ='Specification & Data'!B$23*'Specification & Data'!B$18*8.91 -> 60.429669 | O13: =K13+L13+M13+N13 -> 604.33653 | P13: =IF(O13>=0,O13,IF(O13<0,-O13)) -> 604.33653 | Q13: =IF(J13=1,'Specification & Data'!B$52,IF(Simulation!J13=2,'Specification & Data'!B$53,IF(Simulation!J13=3,'Specification & Data'!B$54))) -> 568.92541 | R13: =(0.5*'Specification & Data'!B$18*Simulation!F13^2)/1000 -> 20.852133 | T13: =P13*'Specification & Data'!B$14*0.9 -> 160.38162 | U13: =T13/(IF(J13=1,'Specification & Data'!H$7,IF(Simulation!J13=2,'Specification & Data'!H$8,IF(Simulation!J13=3,'Specification & Data'!H$9)))) -> 9.6220723 | V13: =V12+(L13*F13/(1000*3600)) -> 0.00027428214 | W13: =W12+(IF(I13<0,AC13,0)) -> 0 | X13: =(P13*F13)/1000 -> 5.4032431 | Y13: =X13*1000/(746) -> 7.2429532 | Z13: =(60*1000*X13)/(2*PI()*U13) -> 5362.3761 | AA13: =ROUND(U13,0) -> 10 | AB13: =MROUND(Z13,500) -> 5500 | AC13: =X13/3600 -> 0.0015009009 | AD13: =AD12+AC13 -> 0.0085027489 | AE13: =(O13*G13)/1000 -> 32.878734 | AF13: =(O13*F13)/1000 -> 5.4032431 | AG13: =AF13*1000/(746) -> 7.2429532 | AH13: =INDEX('Specification & Data'!E$24:R$46,MATCH(Simulation!AA13,'Specification & Data'!D$24:D$46,0),MATCH(Simulation!AB13,'Specification & Data'!E$47:R$47,0)) -> 359.74288 | AI13: =AF13/3600 -> 0.0015009009 | AJ13: =AC13*AH13 -> 0.5399384 | AK13: =AK12+AJ13 -> 3.8650836 | AL13: 2.3289729
C14: =C13+1 -> 12 | D14: 20.2 | E14: =F14*3.6 -> 32.508695 | F14: =D14/2.23694 -> 9.030193 | G14: =G13+((F14+F13)/2) -> 63.390167 | H14: =(F14+F13)/2 -> 8.9854891 | I14: =(H14-F13)*2 -> 0.089407852 | J14: =IF(D14<=10,1,IF(AND(D14>10,D14<=20),2,IF(D14>20,3))) -> 3 | K14: 0 | L14: =('Specification & Data'!B$22*'Specification & Data'!B$10*'Specification & Data'!B$20*(Simulation!F14^2-'Specification & Data'!B$21^2))/2 -> 35.998243 | M14: =Q14*I14 -> 50.593938 | N14: ='Specification & Data'!B$23*'Specification & Data'!B$18*8.91 -> 60.429669 | O14: =K14+L14+M14+N14 -> 147.02185 | P14: =IF(O14>=0,O14,IF(O14<0,-O14)) -> 147.02185 | Q14: =IF(J14=1,'Specification & Data'!B$52,IF(Simulation!J14=2,'Specification & Data'!B$53,IF(Simulation!J14=3,'Specification & Data'!B$54))) -> 565.87802 | R14: =(0.5*'Specification & Data'!B$18*Simulation!F14^2)/1000 -> 21.271261 | T14: =P14*'Specification & Data'!B$14*0.9 -> 39.017337 | U14: =T14/(IF(J14=1,'Specification & Data'!H$7,IF(Simulation!J14=2,'Specification & Data'!H$8,IF(Simulation!J14=3,'Specification & Data'!H$9)))) -> 3.0657448 | V14: =V13+(L14*F14/(1000*3600)) -> 0.00036457967 | W14: =W13+(IF(I14<0,AC14,0)) -> 0 | X14: =(P14*F14)/1000 -> 1.3276357 | Y14: =X14*1000/(746) -> 1.7796725 | Z14: =(60*1000*X14)/(2*PI()*U14) -> 4135.3694 | AA14: =ROUND(U14,0) -> 3 | AB14: =MROUND(Z14,500) -> 4000 | AC14: =X14/3600 -> 0.00036878769 | AD14: =AD13+AC14 -> 0.0088715366 | AE14: =(O14*G14)/1000 -> 9.3197396 | AF14: =(O14*F14)/1000 -> 1.3276357 | AG14: =AF14*1000/(746) -> 1.7796725 | AH14: =INDEX('Specification & Data'!E$24:R$46,MATCH(Simulation!AA14,'Specification & Data'!D$24:D$46,0),MATCH(Simulation!AB14,'Specification & Data'!E$47:R$47,0)) -> 746.95257 | AI14: =AF14/3600 -> 0.00036878769 | AJ14: =AC14*AH14 -> 0.27546691 | AK14: =AK13+AJ14 -> 4.1405505 | AL14: 2.3289729
... C31: =C30+1 -> 29 | D31: 15 | E31: =F31*3.6 -> 24.14012 | F31: =D31/2.23694 -> 6.7055889 | G31: =G30+((F31+F30)/2) -> 238.58485 | H31: =(F31+F30)/2 -> 6.9291085 | I31: =(H31-F30)*2 -> -0.44703926 | J31: =IF(D31<=10,1,IF(AND(D31>10,D31<=20),2,IF(D31>20,3))) -> 2 | K31: 0 | L31: =('Specification & Data'!B$22*'Specification & Data'!B$10*'Specification & Data'!B$20*(Simulation!F31^2-'Specification & Data'!B$21^2))/2 -> 18.801287 | M31: =Q31*I31 -> -254.332 | N31: ='Specification & Data'!B$23*'Specification & Data'!B$18*8.91 -> 60.429669 | O31: =K31+L31+M31+N31 -> -175.10104 | P31: =IF(O31>=0,O31,IF(O31<0,-O31)) -> 175.10104 | Q31: =IF(J31=1,'Specification & Data'!B$52,IF(Simulation!J31=2,'Specification & Data'!B$53,IF(Simulation!J31=3,'Specification & Data'!B$54))) -> 568.92541 | R31: =(0.5*'Specification & Data'!B$18*Simulation!F31^2)/1000 -> 11.729325 | T31: =P31*'Specification & Data'!B$14*0.9 -> 46.469122 | U31: =T31/(IF(J31=1,'Specification & Data'!H$7,IF(Simulation!J31=2,'Specification & Data'!H$8,IF(Simulation!J31=3,'Specification & Data'!H$9)))) -> 2.7879083 | V31: =V30+(L31*F31/(1000*3600)) -> 0.0029235602 | W31: =W30+(IF(I31<0,AC31,0)) -> 0.0077991996 | X31: =(P31*F31)/1000 -> 1.1741556 | Y31: =X31*1000/(746) -> 1.5739351 | Z31: =(60*1000*X31)/(2*PI()*U31) -> 4021.7821 | AA31: =ROUND(U31,0) -> 3 | AB31: =MROUND(Z31,500) -> 4000 | AC31: =X31/3600 -> 0.00032615433 | AD31: =AD30+AC31 -> 0.0275133 | AE31: =(O31*G31)/1000 -> -41.776456 | AF31: =(O31*F31)/1000 -> -1.1741556 | AG31: =AF31*1000/(746) -> -1.5739351 | AH31: =INDEX('Specification & Data'!E$24:R$46,MATCH(Simulation!AA31,'Specification & Data'!D$24:D$46,0),MATCH(Simulation!AB31,'Specification & Data'!E$47:R$47,0)) -> 746.95257 | AI31: =AF31/3600 -> -0.00032615433 | AJ31: =AC31*AH31 -> 0.24362181 | AK31: =AK30+AJ31 -> 12.084689 | AL31: 2.3289729
B32: T1 start | C32: =C31+1 -> 30 | D32: 14 | E32: =F32*3.6 -> 22.530779 | F32: =D32/2.23694 -> 6.2585496 | G32: =G31+((F32+F31)/2) -> 245.06692 | H32: =(F32+F31)/2 -> 6.4820693 | I32: =(H32-F31)*2 -> -0.44703926 | J32: =IF(D32<=10,1,IF(AND(D32>10,D32<=20),2,IF(D32>20,3))) -> 2 | K32: 0 | L32: =('Specification & Data'!B$22*'Specification & Data'!B$10*'Specification & Data'!B$20*(Simulation!F32^2-'Specification & Data'!B$21^2))/2 -> 16.076682 | M32: =Q32*I32 -> -254.332 | N32: ='Specification & Data'!B$23*'Specification & Data'!B$18*8.91 -> 60.429669 | O32: =K32+L32+M32+N32 -> -177.82564 | P32: =IF(O32>=0,O32,IF(O32<0,-O32)) -> 177.82564 | Q32: =IF(J32=1,'Specification & Data'!B$52,IF(Simulation!J32=2,'Specification & Data'!B$53,IF(Simulation!J32=3,'Specification & Data'!B$54))) -> 568.92541 | R32: =(0.5*'Specification & Data'!B$18*Simulation!F32^2)/1000 -> 10.217545 | T32: =P32*'Specification & Data'!B$14*0.9 -> 47.19219 | U32: =T32/(IF(J32=1,'Specification & Data'!H$7,IF(Simulation!J32=2,'Specification & Data'!H$8,IF(Simulation!J32=3,'Specification & Data'!H$9)))) -> 2.8312887 | V32: =V31+(L32*F32/(1000*3600)) -> 0.0029515093 | W32: =W31+(IF(I32<0,AC32,0)) -> 0.008108347 | X32: =(P32*F32)/1000 -> 1.1129306 | Y32: =X32*1000/(746) -> 1.4918641 | Z32: =(60*1000*X32)/(2*PI()*U32) -> 3753.6633 | AA32: =ROUND(U32,0) -> 3 | AB32: =MROUND(Z32,500) -> 4000 | AC32: =X32/3600 -> 0.00030914739 | AD32: =AD31+AC32 -> 0.027822448 | AE32: =(O32*G32)/1000 -> -43.579183 | AF32: =(O32*F32)/1000 -> -1.1129306 | AG32: =AF32*1000/(746) -> -1.4918641 | AH32: =INDEX('Specification & Data'!E$24:R$46,MATCH(Simulation!AA32,'Specification & Data'!D$24:D$46,0),MATCH(Simulation!AB32,'Specification & Data'!E$47:R$47,0)) -> 746.95257 | AI32: =AF32/3600 -> -0.00030914739 | AJ32: =AC32*AH32 -> 0.23091844 | AK32: =AK31+AJ32 -> 12.315607 | AL32: 2.3289729
C33: =C32+1 -> 31 | D33: 14 | E33: =F33*3.6 -> 22.530779 | F33: =D33/2.23694 -> 6.2585496 | G33: =G32+((F33+F32)/2) -> 251.32547 | H33: =(F33+F32)/2 -> 6.2585496 | I33: =(H33-F32)*2 -> 0 | J33: =IF(D33<=10,1,IF(AND(D33>10,D33<=20),2,IF(D33>20,3))) -> 2 | K33: 0 | L33: =('Specification & Data'!B$22*'Specification & Data'!B$10*'Specification & Data'!B$20*(Simulation!F33^2-'Specification & Data'!B$21^2))/2 -> 16.076682 | M33: =Q33*I33 -> 0 | N33: ='Specification & Data'!B$23*'Specification & Data'!B$18*8.91 -> 60.429669 | O33: =K33+L33+M33+N33 -> 76.506352 | P33: =IF(O33>=0,O33,IF(O33<0,-O33)) -> 76.506352 | Q33: =IF(J33=1,'Specification & Data'!B$52,IF(Simulation!J33=2,'Specification & Data'!B$53,IF(Simulation!J33=3,'Specification & Data'!B$54))) -> 568.92541 | R33: =(0.5*'Specification & Data'!B$18*Simulation!F33^2)/1000 -> 10.217545 | T33: =P33*'Specification & Data'!B$14*0.9 -> 20.303609 | U33: =T33/(IF(J33=1,'Specification & Data'!H$7,IF(Simulation!J33=2,'Specification & Data'!H$8,IF(Simulation!J33=3,'Specification & Data'!H$9)))) -> 1.2181121 | V33: =V32+(L33*F33/(1000*3600)) -> 0.0029794584 | W33: =W32+(IF(I33<0,AC33,0)) -> 0.008108347 | X33: =(P33*F33)/1000 -> 0.4788188 | Y33: =X33*1000/(746) -> 0.64184826 | Z33: =(60*1000*X33)/(2*PI()*U33) -> 3753.6633 | AA33: =ROUND(U33,0) -> 1 | AB33: =MROUND(Z33,500) -> 4000 | AC33: =X33/3600 -> 0.00013300522 | AD33: =AD32+AC33 -> 0.027955453 | AE33: =(O33*G33)/1000 -> 19.227995 | AF33: =(O33*F33)/1000 -> 0.4788188 | AG33: =AF33*1000/(746) -> 0.64184826 | AH33: =INDEX('Specification & Data'!E$24:R$46,MATCH(Simulation!AA33,'Specification & Data'!D$24:D$46,0),MATCH(Simulation!AB33,'Specification & Data'!E$47:R$47,0)) -> 944.35123 | AI33: =AF33/3600 -> 0.00013300522 | AJ33: =AC33*AH33 -> 0.12560364 | AK33: =AK32+AJ33 -> 12.441211 | AL33: 2.3289729
C34: =C33+1 -> 32 | D34: 14 | E34: =F34*3.6 -> 22.530779 | F34: =D34/2.23694 -> 6.2585496 | G34: =G33+((F34+F33)/2) -> 257.58402 | H34: =(F34+F33)/2 -> 6.2585496 | I34: =(H34-F33)*2 -> 0 | J34: =IF(D34<=10,1,IF(AND(D34>10,D34<=20),2,IF(D34>20,3))) -> 2 | K34: 0 | L34: =('Specification & Data'!B$22*'Specification & Data'!B$10*'Specification & Data'!B$20*(Simulation!F34^2-'Specification & Data'!B$21^2))/2 -> 16.076682 | M34: =Q34*I34 -> 0 | N34: ='Specification & Data'!B$23*'Specification & Data'!B$18*8.91 -> 60.429669 | O34: =K34+L34+M34+N34 -> 76.506352 | P34: =IF(O34>=0,O34,IF(O34<0,-O34)) -> 76.506352 | Q34: =IF(J34=1,'Specification & Data'!B$52,IF(Simulation!J34=2,'Specification & Data'!B$53,IF(Simulation!J34=3,'Specification & Data'!B$54))) -> 568.92541 | R34: =(0.5*'Specification & Data'!B$18*Simulation!F34^2)/1000 -> 10.217545 | T34: =P34*'Specification & Data'!B$14*0.9 -> 20.303609 | U34: =T34/(IF(J34=1,'Specification & Data'!H$7,IF(Simulation!J34=2,'Specification & Data'!H$8,IF(Simulation!J34=3,'Specification & Data'!H$9)))) -> 1.2181121 | V34: =V33+(L34*F34/(1000*3600)) -> 0.0030074075 | W34: =W33+(IF(I34<0,AC34,0)) -> 0.008108347 | X34: =(P34*F34)/1000 -> 0.4788188 | Y34: =X34*1000/(746) -> 0.64184826 | Z34: =(60*1000*X34)/(2*PI()*U34) -> 3753.6633 | AA34: =ROUND(U34,0) -> 1 | AB34: =MROUND(Z34,500) -> 4000 | AC34: =X34/3600 -> 0.00013300522 | AD34: =AD33+AC34 -> 0.028088458 | AE34: =(O34*G34)/1000 -> 19.706814 | AF34: =(O34*F34)/1000 -> 0.4788188 | AG34: =AF34*1000/(746) -> 0.64184826 | AH34: =INDEX('Specification & Data'!E$24:R$46,MATCH(Simulation!AA34,'Specification & Data'!D$24:D$46,0),MATCH(Simulation!AB34,'Specification & Data'!E$47:R$47,0)) -> 944.35123 | AI34: =AF34/3600 -> 0.00013300522 | AJ34: =AC34*AH34 -> 0.12560364 | AK34: =AK33+AJ34 -> 12.566815 | AL34: 2.3289729
C35: =C34+1 -> 33 | D35: 14 | E35: =F35*3.6 -> 22.530779 | F35: =D35/2.23694 -> 6.2585496 | G35: =G34+((F35+F34)/2) -> 263.84257 | H35: =(F35+F34)/2 -> 6.2585496 | I35: =(H35-F34)*2 -> 0 | J35: =IF(D35<=10,1,IF(AND(D35>10,D35<=20),2,IF(D35>20,3))) -> 2 | K35: 0 | L35: =('Specification & Data'!B$22*'Specification & Data'!B$10*'Specification & Data'!B$20*(Simulation!F35^2-'Specification & Data'!B$21^2))/2 -> 16.076682 | M35: =Q35*I35 -> 0 | N35: ='Specification & Data'!B$23*'Specification & Data'!B$18*8.91 -> 60.429669 | O35: =K35+L35+M35+N35 -> 76.506352 | P35: =IF(O35>=0,O35,IF(O35<0,-O35)) -> 76.506352 | Q35: =IF(J35=1,'Specification & Data'!B$52,IF(Simulation!J35=2,'Specification & Data'!B$53,IF(Simulation!J35=3,'Specification & Data'!B$54))) -> 568.92541 | R35: =(0.5*'Specification & Data'!B$18*Simulation!F35^2)/1000 -> 10.217545 | T35: =P35*'Specification & Data'!B$14*0.9 -> 20.303609 | U35: =T35/(IF(J35=1,'Specification & Data'!H$7,IF(Simulation!J35=2,'Specification & Data'!H$8,IF(Simulation!J35=3,'Specification & Data'!H$9)))) -> 1.2181121 | V35: =V34+(L35*F35/(1000*3600)) -> 0.0030353566 | W35: =W34+(IF(I35<0,AC35,0)) -> 0.008108347 | X35: =(P35*F35)/1000 -> 0.4788188 | Y35: =X35*1000/(746) -> 0.64184826 | Z35: =(60*1000*X35)/(2*PI()*U35) -> 3753.6633 | AA35: =ROUND(U35,0) -> 1 | AB35: =MROUND(Z35,500) -> 4000 | AC35: =X35/3600 -> 0.00013300522 | AD35: =AD34+AC35 -> 0.028221463 | AE35: =(O35*G35)/1000 -> 20.185633 | AF35: =(O35*F35)/1000 -> 0.4788188 | AG35: =AF35*1000/(746) -> 0.64184826 | AH35: =INDEX('Specification & Data'!E$24:R$46,MATCH(Simulation!AA35,'Specification & Data'!D$24:D$46,0),MATCH(Simulation!AB35,'Specification & Data'!E$47:R$47,0)) -> 944.35123 | AI35: =AF35/3600 -> 0.00013300522 | AJ35: =AC35*AH35 -> 0.12560364 | AK35: =AK34+AJ35 -> 12.692418 | AL35: 2.3289729
C36: =C35+1 -> 34 | D36: 14 | E36: =F36*3.6 -> 22.530779 | F36: =D36/2.23694 -> 6.2585496 | G36: =G35+((F36+F35)/2) -> 270.10112 | H36: =(F36+F35)/2 -> 6.2585496 | I36: =(H36-F35)*2 -> 0 | J36: =IF(D36<=10,1,IF(AND(D36>10,D36<=20),2,IF(D36>20,3))) -> 2 | K36: 0 | L36: =('Specification & Data'!B$22*'Specification & Data'!B$10*'Specification & Data'!B$20*(Simulation!F36^2-'Specification & Data'!B$21^2))/2 -> 16.076682 | M36: =Q36*I36 -> 0 | N36: ='Specification & Data'!B$23*'Specification & Data'!B$18*8.91 -> 60.429669 | O36: =K36+L36+M36+N36 -> 76.506352 | P36: =IF(O36>=0,O36,IF(O36<0,-O36)) -> 76.506352 | Q36: =IF(J36=1,'Specification & Data'!B$52,IF(Simulation!J36=2,'Specification & Data'!B$53,IF(Simulation!J36=3,'Specification & Data'!B$54))) -> 568.92541 | R36: =(0.5*'Specification & Data'!B$18*Simulation!F36^2)/1000 -> 10.217545 | T36: =P36*'Specification & Data'!B$14*0.9 -> 20.303609 | U36: =T36/(IF(J36=1,'Specification & Data'!H$7,IF(Simulation!J36=2,'Specification & Data'!H$8,IF(Simulation!J36=3,'Specification & Data'!H$9)))) -> 1.2181121 | V36: =V35+(L36*F36/(1000*3600)) -> 0.0030633056 | W36: =W35+(IF(I36<0,AC36,0)) -> 0.008108347 | X36: =(P36*F36)/1000 -> 0.4788188 | Y36: =X36*1000/(746) -> 0.64184826 | Z36: =(60*1000*X36)/(2*PI()*U36) -> 3753.6633 | AA36: =ROUND(U36,0) -> 1 | AB36: =MROUND(Z36,500) -> 4000 | AC36: =X36/3600 -> 0.00013300522 | AD36: =AD35+AC36 -> 0.028354469 | AE36: =(O36*G36)/1000 -> 20.664451 | AF36: =(O36*F36)/1000 -> 0.4788188 | AG36: =AF36*1000/(746) -> 0.64184826 | AH36: =INDEX('Specification & Data'!E$24:R$46,MATCH(Simulation!AA36,'Specification & Data'!D$24:D$46,0),MATCH(Simulation!AB36,'Specification & Data'!E$47:R$47,0)) -> 944.35123 | AI36: =AF36/3600 -> 0.00013300522 | AJ36: =AC36*AH36 -> 0.12560364 | AK36: =AK35+AJ36 -> 12.818022 | AL36: 2.3289729
C37: =C36+1 -> 35 | D37: 14 | E37: =F37*3.6 -> 22.530779 | F37: =D37/2.23694 -> 6.2585496 | G37: =G36+((F37+F36)/2) -> 276.35967 | H37: =(F37+F36)/2 -> 6.2585496 | I37: =(H37-F36)*2 -> 0 | J37: =IF(D37<=10,1,IF(AND(D37>10,D37<=20),2,IF(D37>20,3))) -> 2 | K37: 0 | L37: =('Specification & Data'!B$22*'Specification & Data'!B$10*'Specification & Data'!B$20*(Simulation!F37^2-'Specification & Data'!B$21^2))/2 -> 16.076682 | M37: =Q37*I37 -> 0 | N37: ='Specification & Data'!B$23*'Specification & Data'!B$18*8.91 -> 60.429669 | O37: =K37+L37+M37+N37 -> 76.506352 | P37: =IF(O37>=0,O37,IF(O37<0,-O37)) -> 76.506352 | Q37: =IF(J37=1,'Specification & Data'!B$52,IF(Simulation!J37=2,'Specification & Data'!B$53,IF(Simulation!J37=3,'Specification & Data'!B$54))) -> 568.92541 | R37: =(0.5*'Specification & Data'!B$18*Simulation!F37^2)/1000 -> 10.217545 | T37: =P37*'Specification & Data'!B$14*0.9 -> 20.303609 | U37: =T37/(IF(J37=1,'Specification & Data'!H$7,IF(Simulation!J37=2,'Specification & Data'!H$8,IF(Simulation!J37=3,'Specification & Data'!H$9)))) -> 1.2181121 | V37: =V36+(L37*F37/(1000*3600)) -> 0.0030912547 | W37: =W36+(IF(I37<0,AC37,0)) -> 0.008108347 | X37: =(P37*F37)/1000 -> 0.4788188 | Y37: =X37*1000/(746) -> 0.64184826 | Z37: =(60*1000*X37)/(2*PI()*U37) -> 3753.6633 | AA37: =ROUND(U37,0) -> 1 | AB37: =MROUND(Z37,500) -> 4000 | AC37: =X37/3600 -> 0.00013300522 | AD37: =AD36+AC37 -> 0.028487474 | AE37: =(O37*G37)/1000 -> 21.14327 | AF37: =(O37*F37)/1000 -> 0.4788188 | AG37: =AF37*1000/(746) -> 0.64184826 | AH37: =INDEX('Specification & Data'!E$24:R$46,MATCH(Simulation!AA37,'Specification & Data'!D$24:D$46,0),MATCH(Simulation!AB37,'Specification & Data'!E$47:R$47,0)) -> 944.35123 | AI37: =AF37/3600 -> 0.00013300522 | AJ37: =AC37*AH37 -> 0.12560364 | AK37: =AK36+AJ37 -> 12.943626 | AL37: 2.3289729
C38: =C37+1 -> 36 | D38: 14 | E38: =F38*3.6 -> 22.530779 | F38: =D38/2.23694 -> 6.2585496 | G38: =G37+((F38+F37)/2) -> 282.61822 | H38: =(F38+F37)/2 -> 6.2585496 | I38: =(H38-F37)*2 -> 0 | J38: =IF(D38<=10,1,IF(AND(D38>10,D38<=20),2,IF(D38>20,3))) -> 2 | K38: 0 | L38: =('Specification & Data'!B$22*'Specification & Data'!B$10*'Specification & Data'!B$20*(Simulation!F38^2-'Specification & Data'!B$21^2))/2 -> 16.076682 | M38: =Q38*I38 -> 0 | N38: ='Specification & Data'!B$23*'Specification & Data'!B$18*8.91 -> 60.429669 | O38: =K38+L38+M38+N38 -> 76.506352 | P38: =IF(O38>=0,O38,IF(O38<0,-O38)) -> 76.506352 | Q38: =IF(J38=1,'Specification & Data'!B$52,IF(Simulation!J38=2,'Specification & Data'!B$53,IF(Simulation!J38=3,'Specification & Data'!B$54))) -> 568.92541 | R38: =(0.5*'Specification & Data'!B$18*Simulation!F38^2)/1000 -> 10.217545 | T38: =P38*'Specification & Data'!B$14*0.9 -> 20.303609 | U38: =T38/(IF(J38=1,'Specification & Data'!H$7,IF(Simulation!J38=2,'Specification & Data'!H$8,IF(Simulation!J38=3,'Specification & Data'!H$9)))) -> 1.2181121 | V38: =V37+(L38*F38/(1000*3600)) -> 0.0031192038 | W38: =W37+(IF(I38<0,AC38,0)) -> 0.008108347 | X38: =(P38*F38)/1000 -> 0.4788188 | Y38: =X38*1000/(746) -> 0.64184826 | Z38: =(60*1000*X38)/(2*PI()*U38) -> 3753.6633 | AA38: =ROUND(U38,0) -> 1 | AB38: =MROUND(Z38,500) -> 4000 | AC38: =X38/3600 -> 0.00013300522 | AD38: =AD37+AC38 -> 0.028620479 | AE38: =(O38*G38)/1000 -> 21.622089 | AF38: =(O38*F38)/1000 -> 0.4788188 | AG38: =AF38*1000/(746) -> 0.64184826 | AH38: =INDEX('Specification & Data'!E$24:R$46,MATCH(Simulation!AA38,'Specification & Data'!D$24:D$46,0),MATCH(Simulation!AB38,'Specification & Data'!E$47:R$47,0)) -> 944.35123 | AI38: =AF38/3600 -> 0.00013300522 | AJ38: =AC38*AH38 -> 0.12560364 | AK38: =AK37+AJ38 -> 13.069229 | AL38: 2.3289729
C39: =C38+1 -> 37 | D39: 14 | E39: =F39*3.6 -> 22.530779 | F39: =D39/2.23694 -> 6.2585496 | G39: =G38+((F39+F38)/2) -> 288.87677 | H39: =(F39+F38)/2 -> 6.2585496 | I39: =(H39-F38)*2 -> 0 | J39: =IF(D39<=10,1,IF(AND(D39>10,D39<=20),2,IF(D39>20,3))) -> 2 | K39: 0 | L39: =('Specification & Data'!B$22*'Specification & Data'!B$10*'Specification & Data'!B$20*(Simulation!F39^2-'Specification & Data'!B$21^2))/2 -> 16.076682 | M39: =Q39*I39 -> 0 | N39: ='Specification & Data'!B$23*'Specification & Data'!B$18*8.91 -> 60.429669 | O39: =K39+L39+M39+N39 -> 76.506352 | P39: =IF(O39>=0,O39,IF(O39<0,-O39)) -> 76.506352 | Q39: =IF(J39=1,'Specification & Data'!B$52,IF(Simulation!J39=2,'Specification & Data'!B$53,IF(Simulation!J39=3,'Specification & Data'!B$54))) -> 568.92541 | R39: =(0.5*'Specification & Data'!B$18*Simulation!F39^2)/1000 -> 10.217545 | T39: =P39*'Specification & Data'!B$14*0.9 -> 20.303609 | U39: =T39/(IF(J39=1,'Specification & Data'!H$7,IF(Simulation!J39=2,'Specification & Data'!H$8,IF(Simulation!J39=3,'Specification & Data'!H$9)))) -> 1.2181121 | V39: =V38+(L39*F39/(1000*3600)) -> 0.0031471529 | W39: =W38+(IF(I39<0,AC39,0)) -> 0.008108347 | X39: =(P39*F39)/1000 -> 0.4788188 | Y39: =X39*1000/(746) -> 0.64184826 | Z39: =(60*1000*X39)/(2*PI()*U39) -> 3753.6633 | AA39: =ROUND(U39,0) -> 1 | AB39: =MROUND(Z39,500) -> 4000 | AC39: =X39/3600 -> 0.00013300522 | AD39: =AD38+AC39 -> 0.028753484 | AE39: =(O39*G39)/1000 -> 22.100908 | AF39: =(O39*F39)/1000 -> 0.4788188 | AG39: =AF39*1000/(746) -> 0.64184826 | AH39: =INDEX('Specification & Data'!E$24:R$46,MATCH(Simulation!AA39,'Specification & Data'!D$24:D$46,0),MATCH(Simulation!AB39,'Specification & Data'!E$47:R$47,0)) -> 944.35123 | AI39: =AF39/3600 -> 0.00013300522 | AJ39: =AC39*AH39 -> 0.12560364 | AK39: =AK38+AJ39 -> 13.194833 | AL39: 2.3289729
C40: =C39+1 -> 38 | D40: 14 | E40: =F40*3.6 -> 22.530779 | F40: =D40/2.23694 -> 6.2585496 | G40: =G39+((F40+F39)/2) -> 295.13532 | H40: =(F40+F39)/2 -> 6.2585496 | I40: =(H40-F39)*2 -> 0 | J40: =IF(D40<=10,1,IF(AND(D40>10,D40<=20),2,IF(D40>20,3))) -> 2 | K40: 0 | L40: =('Specification & Data'!B$22*'Specification & Data'!B$10*'Specification & Data'!B$20*(Simulation!F40^2-'Specification & Data'!B$21^2))/2 -> 16.076682 | M40: =Q40*I40 -> 0 | N40: ='Specification & Data'!B$23*'Specification & Data'!B$18*8.91 -> 60.429669 | O40: =K40+L40+M40+N40 -> 76.506352 | P40: =IF(O40>=0,O40,IF(O40<0,-O40)) -> 76.506352 | Q40: =IF(J40=1,'Specification & Data'!B$52,IF(Simulation!J40=2,'Specification & Data'!B$53,IF(Simulation!J40=3,'Specification & Data'!B$54))) -> 568.92541 | R40: =(0.5*'Specification & Data'!B$18*Simulation!F40^2)/1000 -> 10.217545 | T40: =P40*'Specification & Data'!B$14*0.9 -> 20.303609 | U40: =T40/(IF(J40=1,'Specification & Data'!H$7,IF(Simulation!J40=2,'Specification & Data'!H$8,IF(Simulation!J40=3,'Specification & Data'!H$9)))) -> 1.2181121 | V40: =V39+(L40*F40/(1000*3600)) -> 0.003175102 | W40: =W39+(IF(I40<0,AC40,0)) -> 0.008108347 | X40: =(P40*F40)/1000 -> 0.4788188 | Y40: =X40*1000/(746) -> 0.64184826 | Z40: =(60*1000*X40)/(2*PI()*U40) -> 3753.6633 | AA40: =ROUND(U40,0) -> 1 | AB40: =MROUND(Z40,500) -> 4000 | AC40: =X40/3600 -> 0.00013300522 | AD40: =AD39+AC40 -> 0.02888649 | AE40: =(O40*G40)/1000 -> 22.579727 | AF40: =(O40*F40)/1000 -> 0.4788188 | AG40: =AF40*1000/(746) -> 0.64184826 | AH40: =INDEX('Specification & Data'!E$24:R$46,MATCH(Simulation!AA40,'Specification & Data'!D$24:D$46,0),MATCH(Simulation!AB40,'Specification & Data'!E$47:R$47,0)) -> 944.35123 | AI40: =AF40/3600 -> 0.00013300522 | AJ40: =AC40*AH40 -> 0.12560364 | AK40: =AK39+AJ40 -> 13.320437 | AL40: 2.3289729
C41: =C40+1 -> 39 | D41: 14 | E41: =F41*3.6 -> 22.530779 | F41: =D41/2.23694 -> 6.2585496 | G41: =G40+((F41+F40)/2) -> 301.39387 | H41: =(F41+F40)/2 -> 6.2585496 | I41: =(H41-F40)*2 -> 0 | J41: =IF(D41<=10,1,IF(AND(D41>10,D41<=20),2,IF(D41>20,3))) -> 2 | K41: 0 | L41: =('Specification & Data'!B$22*'Specification & Data'!B$10*'Specification & Data'!B$20*(Simulation!F41^2-'Specification & Data'!B$21^2))/2 -> 16.076682 | M41: =Q41*I41 -> 0 | N41: ='Specification & Data'!B$23*'Specification & Data'!B$18*8.91 -> 60.429669 | O41: =K41+L41+M41+N41 -> 76.506352 | P41: =IF(O41>=0,O41,IF(O41<0,-O41)) -> 76.506352 | Q41: =IF(J41=1,'Specification & Data'!B$52,IF(Simulation!J41=2,'Specification & Data'!B$53,IF(Simulation!J41=3,'Specification & Data'!B$54))) -> 568.92541 | R41: =(0.5*'Specification & Data'!B$18*Simulation!F41^2)/1000 -> 10.217545 | T41: =P41*'Specification & Data'!B$14*0.9 -> 20.303609 | U41: =T41/(IF(J41=1,'Specification & Data'!H$7,IF(Simulation!J41=2,'Specification & Data'!H$8,IF(Simulation!J41=3,'Specification & Data'!H$9)))) -> 1.2181121 | V41: =V40+(L41*F41/(1000*3600)) -> 0.0032030511 | W41: =W40+(IF(I41<0,AC41,0)) -> 0.008108347 | X41: =(P41*F41)/1000 -> 0.4788188 | Y41: =X41*1000/(746) -> 0.64184826 | Z41: =(60*1000*X41)/(2*PI()*U41) -> 3753.6633 | AA41: =ROUND(U41,0) -> 1 | AB41: =MROUND(Z41,500) -> 4000 | AC41: =X41/3600 -> 0.00013300522 | AD41: =AD40+AC41 -> 0.029019495 | AE41: =(O41*G41)/1000 -> 23.058545 | AF41: =(O41*F41)/1000 -> 0.4788188 | AG41: =AF41*1000/(746) -> 0.64184826 | AH41: =INDEX('Specification & Data'!E$24:R$46,MATCH(Simulation!AA41,'Specification & Data'!D$24:D$46,0),MATCH(Simulation!AB41,'Specification & Data'!E$47:R$47,0)) -> 944.35123 | AI41: =AF41/3600 -> 0.00013300522 | AJ41: =AC41*AH41 -> 0.12560364 | AK41: =AK40+AJ41 -> 13.44604 | AL41: 2.3289729
C42: =C41+1 -> 40 | D42: 14 | E42: =F42*3.6 -> 22.530779 | F42: =D42/2.23694 -> 6.2585496 | G42: =G41+((F42+F41)/2) -> 307.65242 | H42: =(F42+F41)/2 -> 6.2585496 | I42: =(H42-F41)*2 -> 0 | J42: =IF(D42<=10,1,IF(AND(D42>10,D42<=20),2,IF(D42>20,3))) -> 2 | K42: 0 | L42: =('Specification & Data'!B$22*'Specification & Data'!B$10*'Specification & Data'!B$20*(Simulation!F42^2-'Specification & Data'!B$21^2))/2 -> 16.076682 | M42: =Q42*I42 -> 0 | N42: ='Specification & Data'!B$23*'Specification & Data'!B$18*8.91 -> 60.429669 | O42: =K42+L42+M42+N42 -> 76.506352 | P42: =IF(O42>=0,O42,IF(O42<0,-O42)) -> 76.506352 | Q42: =IF(J42=1,'Specification & Data'!B$52,IF(Simulation!J42=2,'Specification & Data'!B$53,IF(Simulation!J42=3,'Specification & Data'!B$54))) -> 568.92541 | R42: =(0.5*'Specification & Data'!B$18*Simulation!F42^2)/1000 -> 10.217545 | T42: =P42*'Specification & Data'!B$14*0.9 -> 20.303609 | U42: =T42/(IF(J42=1,'Specification & Data'!H$7,IF(Simulation!J42=2,'Specification & Data'!H$8,IF(Simulation!J42=3,'Specification & Data'!H$9)))) -> 1.2181121 | V42: =V41+(L42*F42/(1000*3600)) -> 0.0032310002 | W42: =W41+(IF(I42<0,AC42,0)) -> 0.008108347 | X42: =(P42*F42)/1000 -> 0.4788188 | Y42: =X42*1000/(746) -> 0.64184826 | Z42: =(60*1000*X42)/(2*PI()*U42) -> 3753.6633 | AA42: =ROUND(U42,0) -> 1 | AB42: =MROUND(Z42,500) -> 4000 | AC42: =X42/3600 -> 0.00013300522 | AD42: =AD41+AC42 -> 0.0291525 | AE42: =(O42*G42)/1000 -> 23.537364 | AF42: =(O42*F42)/1000 -> 0.4788188 | AG42: =AF42*1000/(746) -> 0.64184826 | AH42: =INDEX('Specification & Data'!E$24:R$46,MATCH(Simulation!AA42,'Specification & Data'!D$24:D$46,0),MATCH(Simulation!AB42,'Specification & Data'!E$47:R$47,0)) -> 944.35123 | AI42: =AF42/3600 -> 0.00013300522 | AJ42: =AC42*AH42 -> 0.12560364 | AK42: =AK41+AJ42 -> 13.571644 | AL42: 2.3289729
C43: =C42+1 -> 41 | D43: 14 | E43: =F43*3.6 -> 22.530779 | F43: =D43/2.23694 -> 6.2585496 | G43: =G42+((F43+F42)/2) -> 313.91097 | H43: =(F43+F42)/2 -> 6.2585496 | I43: =(H43-F42)*2 -> 0 | J43: =IF(D43<=10,1,IF(AND(D43>10,D43<=20),2,IF(D43>20,3))) -> 2 | K43: 0 | L43: =('Specification & Data'!B$22*'Specification & Data'!B$10*'Specification & Data'!B$20*(Simulation!F43^2-'Specification & Data'!B$21^2))/2 -> 16.076682 | M43: =Q43*I43 -> 0 | N43: ='Specification & Data'!B$23*'Specification & Data'!B$18*8.91 -> 60.429669 | O43: =K43+L43+M43+N43 -> 76.506352 | P43: =IF(O43>=0,O43,IF(O43<0,-O43)) -> 76.506352 | Q43: =IF(J43=1,'Specification & Data'!B$52,IF(Simulation!J43=2,'Specification & Data'!B$53,IF(Simulation!J43=3,'Specification & Data'!B$54))) -> 568.92541 | R43: =(0.5*'Specification & Data'!B$18*Simulation!F43^2)/1000 -> 10.217545 | T43: =P43*'Specification & Data'!B$14*0.9 -> 20.303609 | U43: =T43/(IF(J43=1,'Specification & Data'!H$7,IF(Simulation!J43=2,'Specification & Data'!H$8,IF(Simulation!J43=3,'Specification & Data'!H$9)))) -> 1.2181121 | V43: =V42+(L43*F43/(1000*3600)) -> 0.0032589493 | W43: =W42+(IF(I43<0,AC43,0)) -> 0.008108347 | X43: =(P43*F43)/1000 -> 0.4788188 | Y43: =X43*1000/(746) -> 0.64184826 | Z43: =(60*1000*X43)/(2*PI()*U43) -> 3753.6633 | AA43: =ROUND(U43,0) -> 1 | AB43: =MROUND(Z43,500) -> 4000 | AC43: =X43/3600 -> 0.00013300522 | AD43: =AD42+AC43 -> 0.029285505 | AE43: =(O43*G43)/1000 -> 24.016183 | AF43: =(O43*F43)/1000 -> 0.4788188 | AG43: =AF43*1000/(746) -> 0.64184826 | AH43: =INDEX('Specification & Data'!E$24:R$46,MATCH(Simulation!AA43,'Specification & Data'!D$24:D$46,0),MATCH(Simulation!AB43,'Specification & Data'!E$47:R$47,0)) -> 944.35123 | AI43: =AF43/3600 -> 0.00013300522 | AJ43: =AC43*AH43 -> 0.12560364 | AK43: =AK42+AJ43 -> 13.697248 | AL43: 2.3289729
C44: =C43+1 -> 42 | D44: 14 | E44: =F44*3.6 -> 22.530779 | F44: =D44/2.23694 -> 6.2585496 | G44: =G43+((F44+F43)/2) -> 320.16952 | H44: =(F44+F43)/2 -> 6.2585496 | I44: =(H44-F43)*2 -> 0 | J44: =IF(D44<=10,1,IF(AND(D44>10,D44<=20),2,IF(D44>20,3))) -> 2 | K44: 0 | L44: =('Specification & Data'!B$22*'Specification & Data'!B$10*'Specification & Data'!B$20*(Simulation!F44^2-'Specification & Data'!B$21^2))/2 -> 16.076682 | M44: =Q44*I44 -> 0 | N44: ='Specification & Data'!B$23*'Specification & Data'!B$18*8.91 -> 60.429669 | O44: =K44+L44+M44+N44 -> 76.506352 | P44: =IF(O44>=0,O44,IF(O44<0,-O44)) -> 76.506352 | Q44: =IF(J44=1,'Specification & Data'!B$52,IF(Simulation!J44=2,'Specification & Data'!B$53,IF(Simulation!J44=3,'Specification & Data'!B$54))) -> 568.92541 | R44: =(0.5*'Specification & Data'!B$18*Simulation!F44^2)/1000 -> 10.217545 | T44: =P44*'Specification & Data'!B$14*0.9 -> 20.303609 | U44: =T44/(IF(J44=1,'Specification & Data'!H$7,IF(Simulation!J44=2,'Specification & Data'!H$8,IF(Simulation!J44=3,'Specification & Data'!H$9)))) -> 1.2181121 | V44: =V43+(L44*F44/(1000*3600)) -> 0.0032868983 | W44: =W43+(IF(I44<0,AC44,0)) -> 0.008108347 | X44: =(P44*F44)/1000 -> 0.4788188 | Y44: =X44*1000/(746) -> 0.64184826 | Z44: =(60*1000*X44)/(2*PI()*U44) -> 3753.6633 | AA44: =ROUND(U44,0) -> 1 | AB44: =MROUND(Z44,500) -> 4000 | AC44: =X44/3600 -> 0.00013300522 | AD44: =AD43+AC44 -> 0.02941851 | AE44: =(O44*G44)/1000 -> 24.495002 | AF44: =(O44*F44)/1000 -> 0.4788188 | AG44: =AF44*1000/(746) -> 0.64184826 | AH44: =INDEX('Specification & Data'!E$24:R$46,MATCH(Simulation!AA44,'Specification & Data'!D$24:D$46,0),MATCH(Simulation!AB44,'Specification & Data'!E$47:R$47,0)) -> 944.35123 | AI44: =AF44/3600 -> 0.00013300522 | AJ44: =AC44*AH44 -> 0.12560364 | AK44: =AK43+AJ44 -> 13.822851 | AL44: 2.3289729
C45: =C44+1 -> 43 | D45: 14 | E45: =F45*3.6 -> 22.530779 | F45: =D45/2.23694 -> 6.2585496 | G45: =G44+((F45+F44)/2) -> 326.42807 | H45: =(F45+F44)/2 -> 6.2585496 | I45: =(H45-F44)*2 -> 0 | J45: =IF(D45<=10,1,IF(AND(D45>10,D45<=20),2,IF(D45>20,3))) -> 2 | K45: 0 | L45: =('Specification & Data'!B$22*'Specification & Data'!B$10*'Specification & Data'!B$20*(Simulation!F45^2-'Specification & Data'!B$21^2))/2 -> 16.076682 | M45: =Q45*I45 -> 0 | N45: ='Specification & Data'!B$23*'Specification & Data'!B$18*8.91 -> 60.429669 | O45: =K45+L45+M45+N45 -> 76.506352 | P45: =IF(O45>=0,O45,IF(O45<0,-O45)) -> 76.506352 | Q45: =IF(J45=1,'Specification & Data'!B$52,IF(Simulation!J45=2,'Specification & Data'!B$53,IF(Simulation!J45=3,'Specification & Data'!B$54))) -> 568.92541 | R45: =(0.5*'Specification & Data'!B$18*Simulation!F45^2)/1000 -> 10.217545 | T45: =P45*'Specification & Data'!B$14*0.9 -> 20.303609 | U45: =T45/(IF(J45=1,'Specification & Data'!H$7,IF(Simulation!J45=2,'Specification & Data'!H$8,IF(Simulation!J45=3,'Specification & Data'!H$9)))) -> 1.2181121 | V45: =V44+(L45*F45/(1000*3600)) -> 0.0033148474 | W45: =W44+(IF(I45<0,AC45,0)) -> 0.008108347 | X45: =(P45*F45)/1000 -> 0.4788188 | Y45: =X45*1000/(746) -> 0.64184826 | Z45: =(60*1000*X45)/(2*PI()*U45) -> 3753.6633 | AA45: =ROUND(U45,0) -> 1 | AB45: =MROUND(Z45,500) -> 4000 | AC45: =X45/3600 -> 0.00013300522 | AD45: =AD44+AC45 -> 0.029551516 | AE45: =(O45*G45)/1000 -> 24.973821 | AF45: =(O45*F45)/1000 -> 0.4788188 | AG45: =AF45*1000/(746) -> 0.64184826 | AH45: =INDEX('Specification & Data'!E$24:R$46,MATCH(Simulation!AA45,'Specification & Data'!D$24:D$46,0),MATCH(Simulation!AB45,'Specification & Data'!E$47:R$47,0)) -> 944.35123 | AI45: =AF45/3600 -> 0.00013300522 | AJ45: =AC45*AH45 -> 0.12560364 | AK45: =AK44+AJ45 -> 13.948455 | AL45: 2.3289729
