Workbook

Sheet New Plots
J2: Houses | P2: Profit | Q2: 0.12
J3: GIFA | K3: 108 | M3: =K3*10.761 -> 1162.188 | N3: ft2
K6: Houses | L6: Cost/m2 | M6: Cost/ft2 | O6: Profit - 17% | P6: Total Cost
I7: Substructure | K7: 0 | L7: =K7/$K$3 -> 0 | M7: =K7/$M$3 -> 0 | O7: 0 | P7: =O7/$K$3 -> 0
I8: Foundations - earthworks, concrete, back fill and cart away | K8: =L8*$K$3 -> 0 | M8: =K8/$K$3 -> 0 | O8: =K8*0.17 -> 0 | P8: =K8+O8 -> 0
D9: Development Summary | I9: DPM | M9: =K9/$K$3 -> 0 | O9: =K9*0.17 -> 0 | P9: =K9+O9 -> 0
D10: Beattie Passive Revised | I10: Block work/beams T Ram | K10: 1400 | M10: =K10/$K$3 -> 12.962963 | O10: =K10*0.17 -> 238 | P10: =K10+O10 -> 1638
C11: Element | D11: House Cost | E11: With Profit | F11: Cost / m2 | K11: 1400 | M11: =K11/$K$3 -> 12.962963 | O11: 1400 | P11: =K11+O11 -> 2800
B12: 1 | C12: Substructure | M12: =K12/$K$3 -> 0
C13: Substructure | D13: =K11 -> 1400 | E13: =P11 -> 2800 | F13: =D13/K3 -> 12.962963 | I13: Superstructure | K13: 0 | M13: =K13/$K$3 -> 0 | O13: 0 | P13: 0
B14: 2 | C14: Superstructure | I14: Beattie Passive System (Frame) | K14: 43368 | L14: =K14/K3 -> 401.55556 | M14: =K14/$K$3 -> 401.55556 | O14: =K14*$Q$2 -> 5204.16 | P14: =K14+O14 -> 48572.16 | Q14: 0.05
C15: Frame | D15: =K14 -> 43368 | E15: =P16 -> 48572.16 | F15: =D15/$K$3 -> 401.55556 | M15: =K15/$K$3 -> 0 | O15: =K15*$Q$2 -> 0 | P15: =K15+O15 -> 0
C16: Roof | D16: =K23 -> 6000 | E16: =P23 -> 6720 | F16: =D16/$K$3 -> 55.555556 | K16: =SUM(K14:K15) -> 43368 | M16: =K16/$K$3 -> 401.55556 | O16: =K16*$Q$2 -> 5204.16 | P16: =K16+O16 -> 48572.16
C17: Stairs | D17: =K27 -> 1600 | E17: =P27 -> 1792 | F17: =D17/$K$3 -> 14.814815 | M17: =K17/$K$3 -> 0 | O17: =K17*$Q$2 -> 0
C18: External Walls | D18: =K32 -> 4500 | E18: =P32 -> 5040 | F18: =D18/$K$3 -> 41.666667 | I18: Roof | K18: =L18*$K$3 -> 0 | M18: =K18/$K$3 -> 0 | O18: =K18*$Q$2 -> 0 | P18: =K18+O18 -> 0
C19: Windows & External Doors | D19: =K38 -> 8082.56 | E19: =P38 -> 9052.4672 | F19: =D19/$K$3 -> 74.838519 | I19: Trusses and other roof timbers | K19: 2000 | M19: =K19/$K$3 -> 18.518519 | O19: =K19*$Q$2 -> 240 | P19: =K19+O19 -> 2240
C20: Internal Walls & Partitions | D20: =K42 -> 1500 | E20: =P42 -> 1680 | F20: =D20/$K$3 -> 13.888889 | I20: Fascias, barge boards and eaves | K20: 1000 | M20: =K20/$K$3 -> 9.2592593 | O20: =K20*$Q$2 -> 120 | P20: =K20+O20 -> 1120
C21: Joinery & Fittings | F21: =D21/$K$3 -> 0 | I21: Rainwater Goods | K21: 1000 | M21: =K21/$K$3 -> 9.2592593 | O21: =K21*$Q$2 -> 120 | P21: =K21+O21 -> 1120
C22: 1st Fix | D22: =K49 -> 2004.2791 | E22: =P49 -> 2244.7926 | F22: =D22/$K$3 -> 18.55814 | I22: Roof Covering | K22: 2000 | M22: =K22/$K$3 -> 18.518519 | O22: =K22*$Q$2 -> 240 | P22: =K22+O22 -> 2240
C23: 2nd Fix | D23: =K59 -> 3968.3721 | E23: =P59 -> 4444.5767 | F23: =D23/$K$3 -> 36.744186 | K23: =SUM(K18:K22) -> 6000 | M23: =K23/$K$3 -> 55.555556 | O23: =K23*$Q$2 -> 720 | P23: =K23+O23 -> 6720
B24: 3 | C24: Internal Finishes | M24: =K24/$K$3 -> 0 | O24: =K24*$Q$2 -> 0
C25: Wall Finishes | D25: =K68 -> 6876.37 | E25: =P68 -> 7701.5344 | F25: =D25/$K$3 -> 63.670093 | I25: Stairs | K25: =L25*$K$3 -> 0 | M25: =K25/$K$3 -> 0 | O25: =K25*$Q$2 -> 0 | P25: =K25+O25 -> 0
C26: Floor Finishes | D26: =K72 -> 3240 | E26: =P72 -> 3628.8 | F26: =D26/$K$3 -> 30 | I26: Timber Staircase | K26: 1600 | M26: =K26/$K$3 -> 14.814815 | O26: =K26*$Q$2 -> 192 | P26: =K26+O26 -> 1792
C27: Ceiling Finishes | D27: =K74 -> 4000 | E27: =P74 -> 4480 | F27: =D27/$K$3 -> 37.037037 | K27: =SUM(K25:K26) -> 1600 | M27: =K27/$K$3 -> 14.814815 | O27: =K27*$Q$2 -> 192 | P27: =K27+O27 -> 1792
C28: Cleaning | D28: =K76 -> 500 | E28: =P76 -> 560 | F28: =D28/$K$3 -> 4.6296296 | M28: =K28/$K$3 -> 0 | O28: =K28*$Q$2 -> 0 | P28: =K28+O28 -> 0
B29: 4 | C29: Fittings | I29: External Walls | K29: =L29*$K$3 -> 0 | M29: =K29/$K$3 -> 0 | O29: =K29*$Q$2 -> 0 | P29: =K29+O29 -> 0
C30: Kitchen Fittings | D30: =K81 -> 5300 | E30: =P79 -> 4816 | F30: =D30/$K$3 -> 49.074074 | I30: Substrate 2 men 2 days + materials | M30: =K30/$K$3 -> 0 | O30: =K30*$Q$2 -> 0 | P30: =K30+O30 -> 0
B31: 5 | C31: Services | I31: Brickwork / Render board (additional brickwork as end terrace) | K31: 4500 | M31: =K31/$K$3 -> 41.666667 | O31: =K31*$Q$2 -> 540 | P31: =K31+O31 -> 5040
C32: Sanitaryware / Plumbing | D32: =K87 -> 7227.91 | E32: =P87 -> 8095.2592 | F32: =D32/$K$3 -> 66.925093 | K32: =SUM(K29:K31) -> 4500 | M32: =K32/$K$3 -> 41.666667 | O32: =K32*$Q$2 -> 540 | P32: =K32+O32 -> 5040
C33: MVHR | D33: =K91 -> 3500 | E33: =P91 -> 3920 | F33: =D33/K3 -> 32.407407 | M33: =K33/$K$3 -> 0 | O33: =K33*$Q$2 -> 0 | P33: =K33+O33 -> 0
C34: Electrical Installation | D34: =K95 -> 5000 | E34: =P95 -> 5600 | F34: =D34/$K$3 -> 46.296296 | I34: Windows & External Doors | K34: =L34*$K$3 -> 0 | M34: =K34/$K$3 -> 0 | O34: =K34*$Q$2 -> 0 | P34: =K34+O34 -> 0
D35: =SUM(D13:D34) -> 108067.49 | E35: =SUM(E13:E34) -> 121147.59 | F35: =D35/$K$3 -> 1000.6249 | I35: Windows and Doors | K35: 6000 | M35: =K35/$K$3 -> 55.555556 | O35: =K35*$Q$2 -> 720 | P35: =K35+O35 -> 6720 | Q35: 10
B36: 6 | C36: External Works | I36: Windows Fitting | K36: 1800 | M36: =K36/$K$3 -> 16.666667 | O36: =K36*$Q$2 -> 216 | P36: =K36+O36 -> 2016
C37: Parking /Roads & Footpaths | I37: Window boards | K37: 282.56 | M37: =K37/$K$3 -> 2.6162963 | O37: =K37*$Q$2 -> 33.9072 | P37: =K37+O37 -> 316.4672
C38: Drainage | D38: 500 | E38: 500 | K38: =SUM(K34:K37) -> 8082.56 | M38: =K38/$K$3 -> 74.838519 | O38: =K38*$Q$2 -> 969.9072 | P38: =K38+O38 -> 9052.4672
C39: Services | D39: 2250 | E39: 2250 | M39: =K39/$K$3 -> 0 | O39: =K39*$Q$2 -> 0 | P39: =K39+O39 -> 0
D40: =SUM(D38:D39) -> 2750 | E40: =SUM(E38:E39) -> 2750 | I40: Internal Walls & Partitions | K40: =L40*$K$3 -> 0 | M40: =K40/$K$3 -> 0 | O40: =K40*$Q$2 -> 0 | P40: =K40+O40 -> 0
B41: 7 | C41: Total Building & Siteworks | I41: Stud Partitions boxings | K41: 1500 | M41: =K41/$K$3 -> 13.888889 | O41: =K41*$Q$2 -> 180 | P41: =K41+O41 -> 1680
C42: Preliminaries / profit | D42: 13000 | E42: 13000 | K42: =SUM(K40:K41) -> 1500 | M42: =K42/$K$3 -> 13.888889 | O42: =K42*$Q$2 -> 180 | P42: =K42+O42 -> 1680
C43: Passive certication | D43: 1300 | E43: 1300 | M43: =K43/$K$3 -> 0 | O43: =K43*$Q$2 -> 0 | P43: =K43+O43 -> 0
...

Sheet Steeped Roof Design
B2: Detailed Elements Plan | D2: Square Meters | E2: 23.5 | G2: Square Meters | H2: 23.5 | J2: Square Meters | K2: 23.5
D4: Steep Sloping Roof (left to right)
D5: Single Unit (Aluminium Roof, Wood Windows & Wood Cladding) | G5: Single Unit (EPDM Roof, Wood Windows & Wood Cladding) | J5: Single Unit (EPDM Roof, UPVC Windows & Wood Cladding)
B7: Activity & Task | D7: Total Cost | E7: Cost / SM | G7: Total Cost | H7: Cost / SM | J7: Total Cost | K7: Cost / SM
B10: Total - less MVHR | D10: =D16+D18+D29 -> #REF! | E10: =D10/$E$2 -> #REF! | G10: =G16+G18+G29 -> #REF! | H10: =G10/$E$2 -> #REF! | J10: =J16+J18+J29 -> #REF! | K10: =J10/$E$2 -> #REF!
B12: MVHR | D12: ='Heating-MVHR'!F4 -> 2763 | E12: =(D10+D12)/E2 -> #REF! | G12: ='Heating-MVHR'!I4 -> 0 | H12: =(G10+G12)/H2 -> #REF! | J12: ='Heating-MVHR'!L4 -> 0 | K12: =(J10+J12)/K2 -> #REF!
B14: Total - Combined | D14: =D10+D12 -> #REF! | E14: =D14/$E$2 -> #REF! | G14: =G10+G12 -> #REF! | H14: =G14/$E$2 -> #REF! | J14: =J10+J12 -> #REF! | K14: =J14/$E$2 -> #REF!
B16: Beattie Passive Building Drawings | D16: =Drawings!F5 -> #REF! | E16: =D16/$E$2 -> #REF! | G16: =Drawings!F5 -> #REF! | H16: =G16/$E$2 -> #REF! | J16: =Drawings!F5 -> #REF! | K16: =J16/$E$2 -> #REF!
B18: Superstructure | D18: =SUM(D19:D27) -> 31274.097 | E18: =D18/$E$2 -> 1330.8127 | G18: =SUM(G19:G27) -> 36731.494 | H18: =G18/$E$2 -> 1563.0423 | J18: =SUM(J19:J27) -> 31476.24 | K18: =J18/$E$2 -> 1339.4145
B19: Build Beattie Passive System (Frame) | D19: =Structure!F4 -> 20815.28 | G19: =Structure!F4 -> 20815.28 | J19: =Structure!F4 -> 20815.28
B20: Insullation | D20: =Climabead!F4 -> 0 | G20: =Climabead!F4 -> 0 | J20: =Climabead!F4 -> 0
B21: Build Remaining Roof Elements | D21: =Roof!F5 -> 0 | G21: =Roof!F4 -> 5197.52 | J21: =Roof!F4 -> 5197.52
B22: Windows & External Doors | D22: ='Windows&Door'!F5 -> 0 | G22: ='Windows&Door'!F5 -> 0 | J22: ='Windows&Door'!F4 -> 2286
B23: Plumbing and Electric | D23: ='Plumb&Elec'!F4 -> 4997.67 | G23: ='Plumb&Elec'!F4 -> 4997.67 | J23: ='Plumb&Elec'!I4 -> 0
B24: External Cladding | D24: ='Ext Cladding'!F5 -> 0 | G24: ='Ext Cladding'!F5 -> 0 | J24: ='Ext Cladding'!F5 -> 0
B25: External Porch and Canopy | D25: =Veranda!F4 -> 2408 | G25: =Veranda!F4 -> 2408 | J25: =Veranda!I4 -> 0
B26: Contingency (5%) | D26: =SUM(D19:D24)*0.05 -> 1290.6475 | G26: =SUM(G19:G24)*0.05 -> 1550.5235 | J26: =SUM(J19:J24)*0.05 -> 1414.94
B27: Margin (£75 / sm) | D27: =75*$E$2 -> 1762.5 | G27: =75*$E$2 -> 1762.5 | J27: =75*$E$2 -> 1762.5
B29: Internal Fit Out - Included | D29: =SUM(D30:D34) -> #REF! | E29: =D29/$E$2 -> #REF! | G29: =SUM(G30:G34) -> #REF! | H29: =G29/$E$2 -> #REF! | J29: =SUM(J30:J34) -> #REF! | K29: =J29/$E$2 -> #REF!
B30: General (materials costs only) | D30: ='Internal Fit-Out'!$G$2 -> 0 | G30: ='Internal Fit-Out'!$G$2 -> 0 | J30: ='Internal Fit-Out'!$G$2 -> 0
B31: Kitchen / Lounge (materials costs only) | D31: =Kitchen!$G$2 -> 0 | G31: =Kitchen!$G$2 -> 0 | J31: =Kitchen!$G$2 -> 0
B32: Bathroom (materials costs only) | D32: =#REF! -> #REF! | G32: =#REF! -> #REF! | J32: =#REF! -> #REF!
B33: Installation Labour costs only) | D33: 1500 | G33: 1500 | J33: 1500
B34: Margin (20%) - incorporating labour | D34: =SUM(D30:D33)*0.2 -> #REF! | G34: =SUM(G30:G33)*0.2 -> #REF! | J34: =SUM(J30:J33)*0.2 -> #REF!

Sheet Summary Table
B2: Summary Cost Table | D2: Square Meters | E2: 23.5
B7: Activity & Task | D7: Total Cost | F7: Notes
B10: Total Raw Costs | D10: =SUM(D21:D29) -> 55504.543 | F10: Items not included: - Transport of Unit to site, Plumbing connections - Appliances, Warranty, Building Regs - Groundworks, MVHR Commissioning
B11: Total - Raw Costs and Operatonal Costs | D11: =D10+D18 -> 63604.543
B12: Total Raw Costs - with MVHR | D12: =D10+'Heating-MVHR'!F4 -> 58267.543 | G12: * Can we simplify this (remove MVHR) and 1) base cost 2) contingency 3) total including margin.
B14: Total - with contingency | D14: =D10+D29 -> 58147.617
B16: Total | D16: =D14+D30+D38 -> 58147.617
B18: Operational Costs | D18: ='Operational Costs'!D5 -> 8100
B20: Superstructure | D20: =SUM(D21:D30) -> 55504.543
B21: Super SIPS Frame and SIPS | D21: =Structure!F4 -> 20815.28
B22: Build Cold Roof | D22: =Roof!F4 -> 5197.52
B23: Windows & External Doors | D23: ='Windows&Door'!F4 -> 2286
B24: MVHR | D24: ='Heating-MVHR'!F4 -> 2763
B25: Plumbing and Electrics | D25: ='Plumb&Elec'!F4 -> 4997.67
B26: External Cladding | D26: ='Ext Cladding'!F4 -> 3478
B27: Veranda | D27: =Veranda!F4 -> 2408
B28: Internal Fit Out | D28: ='Internal Fit-Out'!F8 -> 10916
B29: Contingency (5%) | D29: =SUM(D21:D28)*0.05 -> 2643.0735

Sheet Drawings
B3: First Home Design Drawings | F3: Basic | H3: Unit 1 | I3: Unit 2 | J3: Unit 3 | K3: Unit 4 | L3: Unit 5 | M3: Unit 6
B5: Objective | F5: =AVERAGE(H5:M5) -> #REF! | H5: =H24 -> #REF! | I5: =I24 -> 1292.5 | J5: =J24 -> 1292.5 | K5: =K24 -> 1292.5 | L5: =L24 -> 1292.5 | M5: =L5 -> 1292.5
B6: Complete strucuture drawings for the structure
B9: Commission Build Drawings and Plan (3 months)
B10: Complete Drawings hand over meeting (includes review of all materials needed)
B11: Review Build Plan and Costings
B12: Review and agree Materials Listing (create detailed inventory register)
B15: Labour | F15: =SUM(F17:F19) -> 0
B16: Role | C16: Number | D16: Work Effort | E16: Daily Cost | F16: Sub Total
B17: Skilled
B18: Semi Skilled
B19: Unskilled
B20: Totals
B22: Suppliers | F22: =SUM(F24:F28) -> #REF!
B23: Item | C23: Description | F23: Cost | H23: Unit 1 | I23: Unit 2 | J23: Unit 3 | K23: Unit 4 | L23: Unit 5
B24: Drawings | C24: Package of drawings from Beattie Passive @ £100 / Internal SM | F24: =100*#REF! -> #REF! | H24: =F24 -> #REF! | I24: =55*'Steeped Roof Design'!$E$2 -> 1292.5 | J24: =55*'Steeped Roof Design'!$E$2 -> 1292.5 | K24: =55*'Steeped Roof Design'!$E$2 -> 1292.5 | L24: =55*'Steeped Roof Design'!$E$2 -> 1292.5
B30: Equipment | F30: =SUM(F32:F36) -> 0
B31: Item | C31: Number | D31: Days Needed | E31: Daily Cost | F31: Sub Total
B37: Materials | F37: =SUM(F39:F70) -> 0
B38: Item | C38: Description | D38: Units Needed | E38: Cost per Unit | F38: Sub Total

Sheet Climabead
B2: First Home Structure | F2: Basic | H2: Unit 1 | I2: Unit 2 | J2: Unit 3 | K2: Unit 4 | L2: Unit 5
B4: Objective | E4: Steeped | F4: =F14+F21+F29+F36 -> 0 | H4: =$F$14+$F$21+M37+$F$29 -> 0 | I4: =$F$14+$F$21+N37+$F$29 -> 0 | J4: =$F$14+$F$21+O37+$F$29 -> 0 | K4: =$F$14+$F$21+P37+$F$29 -> 0 | L4: =$F$14+$F$21+Q37+$F$29 -> 0
B5: Install Climabead | E5: Flat | F5: =F4*#REF! -> #REF!
B14: Labour | F14: =SUM(F16:F18) -> 0
B15: Role | C15: Number | D15: Work Effort | E15: Daily Cost | F15: Sub Total
F16: =C16*D16*E16 -> 0
F17: =C17*D17*E17 -> 0
F18: =C18*D18*E18 -> 0
B19: Totals
B21: Suppliers | F21: =SUM(F23:F27) -> 0
B22: Item | C22: Description | F22: Cost
B29: Equipment | F29: =SUM(F31:F35) -> 0
B30: Item | C30: Number | D30: Days Needed | E30: Daily Cost | F30: Sub Total
F31: =C31*D31*E31 -> 0
F32: =C32*D32*E32 -> 0
F33: =C33*D33*E33 -> 0
B36: Materials | F36: =SUM(K38:K78) -> 0 | M36: Unit 1 | N36: Unit 2 | O36: Unit 3 | P36: Unit 4 | Q36: Unit 5
B37: Material | C37: Product | F37: Part | G37: Measure | H37: Number | I37: Quantity | J37: Cost / Unit | K37: Cost | M37: =SUM($K$38:$K$40) -> 0 | N37: =SUM($K$38:$K$40) -> 0 | O37: =SUM($K$38:$K$40) -> 0 | P37: =SUM($K$38:$K$40) -> 0 | Q37: =SUM($K$38:$K$40) -> 0
B38: Insulation | C38: Climabead | F38: Wall Cavity Insul 300mm | G38: M3 | H38: 0 | I38: =H38 -> 0 | J38: 17.45 | K38: =I38*J38 -> 0
B39: Insulation | C39: Climabead | F39: Roof Cavity Insul 300mm | G39: M3 | H39: 0 | I39: =H39 -> 0 | J39: 17.45 | K39: =I39*J39 -> 0
B40: Insulation | C40: Climabead | F40: Floor Cavity Insul 300mm | G40: M3 | H40: 0 | I40: =H40 -> 0 | J40: 17.45 | K40: =I40*J40 -> 0
K41: =I41*J41 -> 0
K42: =I42*J42 -> 0
K43: =I43*J43 -> 0
K44: =I44*J44 -> 0
K45: =I45*J45 -> 0
K46: =I46*J46 -> 0
K47: =I47*J47 -> 0
K48: =I48*J48 -> 0
K49: =I49*J49 -> 0
K50: =I50*J50 -> 0
K51: =I51*J51 -> 0
K52: =I52*J52 -> 0
... K78: =I78*J78 -> 0

Sheet Operational Costs
B2: Operational Costs | C2: Operational Costs
B4: Cost | C4: Description
C5: 12 month costs proportioned over 3 months proposed duration | D5: 8100
B7: Waste Disposal | C7: 20 yard skip general waste; Amey specialist recycling. | D7: 300
B8: Staff Health and Safety / Training | C8: RAMS/ MS site / materials safety, lifting, COSHH, at height, fork lift etc | D8: 250
B9: PPE | C9: protective clothing, masks, faceshields, filters, gloves, overalls, boots. | D9: 100
B10: Generator Servicing | C10: Generator oil, fuel, air filters / oil change at 500 hours | D10: 300
B11: Generator Fuel | C11: Diesel - approx 500 litres per 300 hours useage | D11: 3250
B12: Vehicle Lease | C12: pickup - enables delivery costs saving, staff movement, trailer useage | D12: 900
B13: Vehicle Hire | C13: occasional van, flat bed, tipper hire. | D13: 100
B14: Holidays/Sick Pay | C14: Average 4 weeks admin / daily pay rates | D14: 2000
B15: Annual Maintenance Fees | C15: Loler inspections - lifting gear, fork truck, pick up service | D15: 200
B16: Tool Hire / Replacement | C16: Replacement nail guns, drills, multitools, power saws, etc. | D16: 150
B17: Tool Servicing / Parts | C17: Nail guns, drills, multitools, power saws. | D17: 250
B18: Bookeeping / Accountancy | C18: Accounting charity rules and HMG statutes. | D18: 150
B19: Insurance | C19: public liability, build process, buildings on completion | D19: 150

Sheet Structure
B2: Super Structure | F2: .
B4: Objective | E4: Superstructure | F4: =F13+F20+F28+F35 -> 20815.28
B7: Manufacture Glulam Frame and SIPS Panels - Offsite
B8: Transport to site
B9: Assemble Frame plus SIPS onsite
B13: Labour | F13: =SUM(F15:F17) -> 3541
B14: Role | C14: Number | D14: Work Effort | E14: Daily Cost | F14: Sub Total
B15: Skilled | C15: 1 | D15: 6 | E15: 286 | F15: =C15*D15*E15 -> 1716
B16: Semi Skilled | C16: 2 | D16: 6 | E16: 100 | F16: =C16*D16*E16 -> 1200
B17: Project Manager / WASP Trainer | C17: 1 | D17: 2.5 | E17: 250 | F17: =C17*D17*E17 -> 625
B18: Totals
B20: Suppliers | F20: =SUM(F22:F26) -> 16048.95
B21: Item | C21: Description | F21: Cost
B22: KTS Structural Pod | C22: Super SIPS Built Structural Pod including glulam frame | F22: 16048.95
B28: Equipment | F28: =SUM(F30:F34) -> 0
B29: Item | C29: Number | D29: Days Needed | E29: Daily Cost | F29: Sub Total
B30: Generator | C30: 0 | D30: =D15 -> 6 | E30: 5 | F30: =C30*D30*E30 -> 0
B31: Tools Charge | C31: 0 | D31: =D16 -> 6 | E31: 1 | F31: =C31*D31*E31 -> 0
B32: Vehicle | C32: 0 | D32: =D31 -> 6 | E32: 25 | F32: =C32*D32*E32 -> 0
B35: Materials | F35: =SUM(G37:G44) -> 1225.33 | G35: Generic
B36: Material | C36: Product | F36: Part | G36: Cost
B37: Steel | C37: As per specification provided by Super SIPS
B38: External Fireproof Board | C38: 9mm Magply | G38: 558.33
B39: External Wrap | C39: MAR VENT 3 LIGHTWEIGHT BREATHABLE MEMBRANE 1.5M X 50M
B40: Batton | C40: C24 Treated Timber - 45mm x 25mm (3.2m lengths)
B41: General Fixings | C41: Nails, Screws, PU Foam, Sealant | G41: 667

Sheet Roof
B2: Roof | F2: Basic
B4: Objective | D4: False Roof | F4: =F12+F19+F27+F34 -> 5197.52
B5: Build Roof
B6: Install Vapour Wrap
B7: Assemble Frame
B8: Add Structural OSB Panels
B9: 3 x Liquid Roofing System
B10: Attach Steel Edge, Seal
B12: Labour | F12: =SUM(F14:F16) -> 2405
B13: Role | C13: Number | D13: Work Effort | E13: Daily Cost | F13: Sub Total
B14: Skilled | C14: 1 | D14: 5 | E14: 286 | F14: =C14*D14*E14 -> 1430
B15: Semi Skilled | C15: 2 | D15: 3 | E15: 100 | F15: =C15*D15*E15 -> 600
B16: Project Manager / YMCA Trainer | C16: 1 | D16: 1.5 | E16: 250 | F16: =C16*D16*E16 -> 375
B17: Totals
B19: Suppliers | F19: =SUM(F21:F25) -> 0
B20: Item | C20: Description | F20: Cost
B27: Equipment | F27: =SUM(F29:F33) -> 0
B28: Item | C28: Number | D28: Days Needed | E28: Daily Cost | F28: Sub Total
B29: Generator | C29: 0 | D29: =D14 -> 5 | E29: 5 | F29: =C29*D29*E29 -> 0
B30: Tools Charge | C30: 0 | D30: =D15 -> 3 | E30: 1 | F30: =C30*D30*E30 -> 0
B31: Vehicle | C31: 0 | D31: =D30 -> 3 | E31: 25 | F31: =C31*D31*E31 -> 0
B34: Materials | E34: Aluminium | F34: =SUM(K36:K41) -> 2792.52
B35: Material | C35: Product | F35: Part | G35: Measure | H35: Number | I35: Quantity | J35: Cost / Unit | K35: Cost
B36: OSB Caber Sheets | C36: 22mm structural osb (substitute for marine ply) | K36: 987.52
B37: SIG liquid roof system | C37: 3 coats "FixR liquid 10"; Edging / Fills "Fibre 20"; Joints FixR | K37: 900
B38: General Fixings | C38: 240 mm Tek bolts; Nails; PU Foam; Gold Screws | K38: 384
B39: Vapour Membrane | K39: 150
B40: Roof Edging | C40: Steel | K40: 371

Sheet Windows&Door
B2: Windows and Door | F2: Basic
B4: Objective | E4: UPVC Acoustic Glass | F4: =F11+F18+F26+F33 -> 2286
B6: Prepare Window / Door Surrounds
B7: Finish / Cap Surrounds, Seal
B11: Labour | F11: =SUM(F13:F15) -> 736
B12: Role | C12: Number | D12: Work Effort | E12: Daily Cost | F12: Sub Total
B13: Skilled | C13: 1 | D13: 1 | E13: 286 | F13: =C13*D13*E13 -> 286
B14: Semi Skilled | C14: 2 | D14: 1 | E14: 100 | F14: =C14*D14*E14 -> 200
B15: Proj Manager / YMCA Traininer | C15: 1 | D15: 1 | E15: 250 | F15: =C15*D15*E15 -> 250
B16: Totals
B18: Suppliers | F18: =SUM(F20:F24) -> 0
B19: Item | C19: Description | F19: Cost
B26: Equipment | F26: =SUM(F28:F32) -> 0
B27: Item | C27: Number | D27: Days Needed | E27: Daily Cost | F27: Sub Total
B28: Generator | C28: 0 | D28: =D13 -> 1 | E28: 5 | F28: =C28*D28*E28 -> 0
B29: Tools Charge | C29: 0 | D29: =D14 -> 1 | E29: 1 | F29: =C29*D29*E29 -> 0
B30: Vehicle | C30: 0 | D30: =D29 -> 1 | E30: 25 | F30: =C30*D30*E30 -> 0
B33: Materials | E33: UPVC | F33: =SUM(K36:K40) -> 1550
B34: Material | C34: Product | F34: Part | G34: Measure | H34: Number | I34: Quantity | J34: Cost / Unit | K34: Cost
B36: Back Window | C36: Supplied and Fitted - Admiral Windows | K36: 1550
B37: Front Door and Window

Sheet Heating-MVHR
B2: MVHR | F2: Basic
B4: Objective | F4: =F8+F15+F23+F30 -> 2763
B5: Heating - Install Ducting / MVHR Unit
B8: Labour | F8: =SUM(F10:F12) -> 1222
B9: Role | C9: Number | D9: Work Effort | E9: Daily Cost | F9: Sub Total
B10: Skilled | C10: 1 | D10: 2 | E10: 286 | F10: =C10*D10*E10 -> 572
B11: Semi Skilled | C11: 2 | D11: 2 | E11: 100 | F11: =C11*D11*E11 -> 400
B12: PM / WASP Trainer | C12: 1 | D12: 1 | E12: 250 | F12: =C12*D12*E12 -> 250
B13: Totals
B15: Suppliers | F15: =SUM(F17:F21) -> 0
B16: Item | C16: Description | F16: Cost
B17: MVHR Installation | C17: Air Recovery System (includes installation) | F17: 0
B23: Equipment | F23: =SUM(F25:F29) -> 0
B24: Item | C24: Number | D24: Days Needed | E24: Daily Cost | F24: Sub Total
B25: MVRH | F25: =C25*D25*E25 -> 0
F26: =C26*D26*E26 -> 0
F27: =C27*D27*E27 -> 0
B30: Materials | F30: =SUM(K32:K72) -> 1541 | M30: Unit 1 | N30: Unit 2 | O30: Unit 3 | P30: Unit 4 | Q30: Unit 5
B31: Material | C31: Product | F31: Part | G31: Measure | H31: Number | I31: Quantity | J31: Cost / Unit | K31: Cost | M31: =SUM($K$32:$K$34) -> 1541 | N31: =SUM($K$32:$K$34) -> 1541 | O31: =SUM($K$32:$K$34) -> 1541 | P31: =SUM($K$32:$K$34) -> 1541 | Q31: =SUM($K$32:$K$34) -> 1541
B32: Nuaire MrXBox | C32: MRXBOX MVHR plus ducting, fixings, sealant, vents | K32: 1541
K34: =I34*J34 -> 0
K35: =I35*J35 -> 0
K36: =I36*J36 -> 0
K37: =I37*J37 -> 0
K38: =I38*J38 -> 0
K39: =I39*J39 -> 0
K40: =I40*J40 -> 0
K41: =I41*J41 -> 0
K42: =I42*J42 -> 0
K43: =I43*J43 -> 0
K44: =I44*J44 -> 0
K45: =I45*J45 -> 0
... K72: =I72*J72 -> 0

Sheet Plumb&Elec
B2: Plumbing and Electrics | F2: Basic
B4: Objective | F4: =F8+F15+F23+F30 -> 4997.67
B5: Plumbing and Electrics
B8: Labour | F8: =SUM(F10:F12) -> 0
B9: Role | C9: Number | D9: Work Effort | E9: Daily Cost | F9: Sub Total
F10: =C10*D10*E10 -> 0
F11: =C11*D11*E11 -> 0
F12: =C12*D12*E12 -> 0
B13: Totals
B15: Suppliers | F15: =SUM(F17:F21) -> 4997.67
B16: Item | C16: Description | F16: Cost
B17: Plumbing | C17: 1st, 2nd Fix: Water heater, shower, white goods, etc | F17: 2547.67
B18: Electrics | C18: 1st, 2nd Fix: Wiring; sockets, consumer unit, external box, certs. | F18: 2450
B23: Equipment | F23: =SUM(F25:F29) -> 0
B24: Item | C24: Number | D24: Days Needed | E24: Daily Cost | F24: Sub Total
F25: =C25*D25*E25 -> 0
F26: =C26*D26*E26 -> 0
F27: =C27*D27*E27 -> 0
B30: Materials | F30: =SUM(K32:K69) -> 0 | M30: Unit 1 | N30: Unit 2 | O30: Unit 3 | P30: Unit 4 | Q30: Unit 5
B31: Material | C31: Product | F31: Part | G31: Measure | H31: Number | I31: Quantity | J31: Cost / Unit | K31: Cost | M31: =SUM($K$32:$K$69) -> 0 | N31: =SUM($K$32:$K$69) -> 0 | O31: =SUM($K$32:$K$69) -> 0 | P31: =SUM($K$32:$K$69) -> 0 | Q31: =SUM($K$32:$K$69) -> 0
B32: . | K32: =I32*J32 -> 0
B33: . | K33: =I33*J33 -> 0
K34: =I34*J34 -> 0
K35: =I35*J35 -> 0
K36: =I36*J36 -> 0
K37: =I37*J37 -> 0
K38: =I38*J38 -> 0
K39: =I39*J39 -> 0
K40: =I40*J40 -> 0
K41: =I41*J41 -> 0
K42: =I42*J42 -> 0
K43: =I43*J43 -> 0
K44: =I44*J44 -> 0
K45: =I45*J45 -> 0
... K69: =I69*J69 -> 0

Sheet Ext Cladding
B2: Exterior Cladding | F2: Basic
B4: Objective | D4: Flat | E4: Timber | F4: =F9+F16+F24+F31 -> 3478
B5: Exterior Cladding
B6: Install Exterior Cladding
B7: Gutters and Downpipe
B9: Labour | F9: =SUM(F11:F13) -> 1908
B10: Role | C10: Number | D10: Work Effort | E10: Daily Cost | F10: Sub Total
B11: Skilled | C11: 1 | D11: 3 | E11: 286 | F11: =C11*D11*E11 -> 858
B12: Semi Skilled | C12: 2 | D12: 4 | E12: 100 | F12: =C12*D12*E12 -> 800
B13: Proj Manager / YMCA Trainer | C13: 1 | D13: 1 | E13: 250 | F13: =C13*D13*E13 -> 250
B14: Totals
B16: Suppliers | F16: =SUM(F18:F22) -> 0
B17: Item | C17: Description | F17: Cost
B24: Equipment | F24: =SUM(F26:F30) -> 0
B25: Item | C25: Number | D25: Days Needed | E25: Daily Cost | F25: Sub Total
B26: Generator | C26: 1 | D26: =D11 -> 3 | E26: 5
B27: Tools Charge | C27: 1 | D27: =D12 -> 4 | E27: 1
B28: Vehicle | C28: 1 | D28: =D27 -> 4 | E28: 25
B31: Materials | E31: Timber | F31: =SUM(K32:K43) -> 1570
B32: Material | C32: Product | F32: Part | G32: Measure | H32: Number | I32: Quantity | J32: Cost / Unit | K32: Cost
B33: Hardie Plank | C33: Black plus install kit, starter strips, ventilation strips, EPDM Tape | K33: 1516,67
B38: Baton | C38: C24 treated timber 45mm x 25mm - 3.2m lengths | K38: 350
B40: Timber | C40: Larch Cladding - Millworks | K40: 567
B41: Yacht Varnish | C41: 3 coats to larch cladding | K41: 120
B42: Gutters, Downpipe | C42: Steel Front, plastic rear. | K42: 200
B43: Fixings | C43: Nails, Screws, Sealant, Specialist Chop saw blades | K43: 333
K44: =I44*J44 -> 0
K45: =I45*J45 -> 0
K46: =I46*J46 -> 0
K47: =I47*J47 -> 0
K48: =I48*J48 -> 0
K49: =I49*J49 -> 0
K50: =I50*J50 -> 0
K51: =I51*J51 -> 0
K52: =I52*J52 -> 0
K53: =I53*J53 -> 0
K54: =I54*J54 -> 0
K55: =I55*J55 -> 0
... K62: =I62*J62 -> 0

Sheet Veranda
B2: Veranda | F2: Basic
B4: Objective | F4: =F12+F19+F27+F34 -> 2408
B5: External Veranda, Canopy and Steps
B7: Construct Veranda + Decking
B8: Liquid 10 Roof + Edging + Gutter / Downpipe
B9: Paint x 3 coats Black x3 coats deck
B10: Onsite Install - flashing, treat scuffs
B12: Labour | F12: =SUM(F14:F16) -> 1508
B13: Role | C13: Number | D13: Work Effort | E13: Daily Cost | F13: Sub Total
B14: Skilled | C14: 1 | D14: 3 | E14: 286 | F14: =C14*D14*E14 -> 858
B15: Semi Skilled | C15: 2 | D15: 2 | E15: 100 | F15: =C15*D15*E15 -> 400
B16: Project Manager / YMCA Trainer | C16: 1 | D16: 1 | E16: 250 | F16: =C16*D16*E16 -> 250
B17: Totals
B19: Suppliers | F19: =SUM(F21:F25) -> 0
B20: Item | C20: Description | F20: Cost
B27: Equipment | F27: =SUM(F29:F33) -> 0
B28: Item | C28: Number | D28: Days Needed | E28: Daily Cost | F28: Sub Total
B29: Generator | C29: 1 | D29: =D14 -> 3 | E29: 5
B30: Tools Charge | C30: 4 | D30: =D15 -> 2 | E30: 1
B31: Vehicle | C31: 1 | D31: =D30 -> 2 | E31: 25
B34: Materials | F34: =SUM(K36:K77) -> 900
B35: Material | C35: Product | F35: Part | G35: Measure | H35: Number | I35: Quantity | J35: Cost / Unit | K35: Cost
B36: Veranda | C36: Posts, Timber, Decking | K36: 850
B37: Porch | C37: EPDM Roofing Kit | K37: =I37*J37 -> 0
B38: Porch | C38: Screws and Fittings | K38: 50
B39: Porch | C39: Cuprinol (or similar) Black Wood Treatment; Clear Deck Treatment
K42: =I42*J42 -> 0
K43: =I43*J43 -> 0
K44: =I44*J44 -> 0
K45: =I45*J45 -> 0
K46: =I46*J46 -> 0
K47: =I47*J47 -> 0
K48: =I48*J48 -> 0
K49: =I49*J49 -> 0
K50: =I50*J50 -> 0
K51: =I51*J51 -> 0
K52: =I52*J52 -> 0
K53: =I53*J53 -> 0
... K77: =I77*J77 -> 0

Sheet Internal Fit-Out
B2: Internal Fit
F8: =F15+H35 -> 10916
B9: Stud partition walls
B11: Dry Lining plasterboard
B12: Tape and Joint
B13: Fill, make good, emulsion walls
B14: Gloss doors, surrounds, finishes.
B15: Labour | F15: =SUM(F17:F19) -> 5860
B16: Role | C16: Number | D16: Work Effort | E16: Daily Cost | F16: Sub Total
B17: Skilled | C17: 1 | D17: 10 | E17: 286 | F17: =C17*D17*E17 -> 2860
B18: Semi Skilled | C18: 2 | D18: 10 | E18: 100 | F18: =C18*D18*E18 -> 2000
B19: Project Manager / YMCA Trainer | C19: 1 | D19: 4 | E19: 250 | F19: =C19*D19*E19 -> 1000
B20: Totals
B22: Suppliers | F22: =SUM(F24:F28) -> 0
B23: Item | C23: Description | F23: Cost
B30: Equipment | F30: =SUM(F32:F36) -> 0
B31: Item | C31: Number | D31: Days Needed | E31: Daily Cost | F31: Sub Total
B32: Generator | C32: 1 | D32: =D17 -> 10 | E32: 5
B33: Tools Charge | C33: 4 | D33: =D18 -> 10 | E33: 1
B34: Vehicle | C34: 1 | D34: =D33 -> 10 | E34: 25
H35: =SUM(H37:H52) -> 5056
B36: Item | E36: Measure | F36: Unit | G36: Cost / Unit | H36: Cost
B37: Partition Wall Studwork 38x89 - 38 x 89 | H37: 180
B38: Acoustic Insulation - Rockwool RWA45 Acoustic Insulation Slabs 75mm | F38: 15 | G38: 5 | H38: =F38*G38 -> 75
B39: Acoustic Plasterboard - GYPROC SOUNDBLOC TAPERED EDGE 2400 X 1200 X 12.5MM - 2 Sides of Partition Walls | E39: m | F39: 16 | G39: 17.5 | H39: =F39*G39 -> 280
B40: 12.5 mm 30 Min FR Plasterboard | E40: sm | F40: 20 | G40: 14 | H40: =F40*G40 -> 280
B41: Moisture Resistant Plasterboard for Bathroom | E41: sm | F41: 30 | G41: 17.5 | H41: =F41*G41 -> 525
B42: Plastering - Contactor | E42: m | H42: 1400
B43: Paint for plasterboard - white emulsion | H43: 250
B44: Window Board - Primed MDF, size tbc | E44: m | F44: 2 | H44: 40
B45: Skirting/Architrave mdf cut to size | E45: m | H45: 120
B46: Doors white Finish | E46: nr | F46: 2 | H46: 120
B47: Door Linings 115mm - White tbc | E47: nr | F47: 2 | H47: 120
B48: Interior Door Handles, hinge kits | E48: nr | F48: 2 | H48: 56
B49: Tiles, Grout - shower surround area | E49: nr | F49: 1 | H49: 170
B50: Flooring Vinyl Glue Down | E50: sm | F50: 25 | G50: 12 | H50: 600
B51: Flooring Glue | H51: 40
B52: Installation Sundries - Mastic, Glue, Screws, Tool Hire, Drill Bits, Protective Material, Timber, Generator Diesel, Protective Equipment etc | H52: 800

Sheet Kitchen
B2: Kitchen | F2: Basic
B4: Objective | D4: Flat | E4: Timber | F4: =F9+F16+F24+F31 -> 2104
B5: Install Kitchen
B6: Install Water heater
B9: Labour | F9: =SUM(F11:F13) -> 1222
B10: Role | C10: Number | D10: Work Effort | E10: Daily Cost | F10: Sub Total
B11: Skilled | C11: 1 | D11: 2 | E11: 286 | F11: =C11*D11*E11 -> 572
B12: Semi Skilled | C12: 2 | D12: 2 | E12: 100 | F12: =C12*D12*E12 -> 400
B13: Proj Manager / YMCA Trainer | C13: 1 | D13: 1 | E13: 250 | F13: =C13*D13*E13 -> 250
B14: Totals
B15: Ki
B16: Suppliers | F16: =SUM(F18:F22) -> 0
B17: Item | C17: Description | F17: Cost
B24: Equipment | F24: =SUM(F26:F30) -> 0
B25: Item | C25: Number | D25: Days Needed | E25: Daily Cost | F25: Sub Total
B26: Generator | C26: 1 | D26: =D11 -> 2 | E26: 5
B27: Tools Charge | C27: 1 | D27: =D12 -> 2 | E27: 1
B28: Vehicle | C28: 1 | D28: =D27 -> 2 | E28: 25
B31: Materials | E31: Timber | F31: =SUM(K32:K39) -> 882
B32: Material | C32: Product | F32: Part | G32: Measure | H32: Number | I32: Quantity | J32: Cost / Unit | K32: Cost
B33: Kitchen | K33: 832
B34: Fixings | K34: 50
K44: =I44*J44 -> 0
K45: =I45*J45 -> 0
K46: =I46*J46 -> 0
K47: =I47*J47 -> 0
K48: =I48*J48 -> 0
