Workbook
Name ACT_GROSS: #REF!
Name AdoptedPathBuildUp: [1]ADOPTEDPATHS!$E$7
Name AdoptedRoadBuildUp: [1]ADOPTEDROADS!$N$7
Name BeamAndBlockOmission: Constants!$E$34
Name BeamAndBlockPartyOmission: Constants!$E$46
Name BeamBlockSlabBuildUp: [1]Constants!$E$12
Name BeamBlockSlabBuildUp1: SUBS!$U$2
Name BlockPavBuildUp: ADOPTEDROADS!#REF!
Name BlockPavBuildUp: [1]HARDSTAND!$O$7
Name CavIns: [1]Constants!$E$28
Name CF_ContractSum: CashFlow!$F$3
Name CF_NoOfVals: CashFlow!$E$6
Name CF_NoOfValsRemaining: CashFlow!$E$8
Name CF_Retention: CashFlow!$E$7
Name ClearCav: [1]Constants!$E$27
Name CompOnSite: CashFlow!$J$9
Name ConcFillInPartyWall: Constants!$E$45
Name Contract_Sum: #REF!
Name DefLiabPeriod: CashFlow!$E$9
Name DesFees: #REF!
Name Dwellings: #REF!
Name EmpProvSums: #REF!
Name EstGrossVal: #REF!
Name EstGrossVal: [2]CashFlowCalcs!$C$10:$E$395
Name EstGrossVal: #REF!
Name ExtCLtoIntCL: [1]Constants!$E$31
Name ExtFaceToCLofCav: Constants!$E$32
Name ExtSkinThick: [1]Constants!$E$26
Name ExtWallBuildUp: [1]Constants!$E$30
Name ExtWks: #REF!
Name FeesAndCharges: #REF!
Name FFLtoTopOfConcFooting: [1]Constants!$E$22
Name InternalTrench: [1]Constants!$E$17
Name IntSkin: [1]Constants!$E$29
Name MIN_TR_DEPTH: #REF!
Name MIN_TR_DEPTH: #REF!
Name MinDimFromFFLtoBtmOfTrench: [1]Constants!$E$24
Name MOS: #REF!
Name NewTopSoilDepth: [1]GARDENS!$AA$3
Name NewTopSoilThickness: [1]Constants!$E$3
Name NewTopSoilThicknessInM: [1]Constants!$H$3
Name PartyCavityWidth: [1]Constants!$E$42
Name PartyTrenchWidth: [1]Constants!$E$16
Name PartyWallBuildUp: [1]Constants!$E$44
Name PathBuildUp: ADOPTEDROADS!#REF!
Name PathBuildUp: [1]PLOTPATHS!$Z$4
Name PerimPathWidth: ADOPTEDROADS!$H$3
Name PerimPathWidth: [1]PLOTPATHS!$K$4
Name PerimTrenchWidth: [1]Constants!$E$15
Name PorTarmBuildUp: ADOPTEDROADS!#REF!
Name Prelims: #REF!
Name PrelimsPercent: #REF!
Name RetWallTable1: [1]WALLS!$F$7:$W$11
Name RunningOrder: #REF!
Name SiteTopSoilTh: [1]ADOPTEDROADS!$J$3
Name SlabMakeUp: #REF!
Name SlabMakeUp: #REF!
Name Spread: #REF!
Name Spread: #REF!
Name Spread_BG: [1]Constants!$E$6

Sheet CashFlow
C1: CONTRACT | E1: UWTSD New retail and accomodation development, SA1 Campus | I1: Last/Curr Val No : | J1: 25
C3: Contract Sum / Est FA | F3: 9119824.3 | I3: Max.Value | J3: 11999999
C4: Ditto Less 50% of retention | F4: =CF_ContractSum*(1-(CF_Retention/2)) -> 8891828.7 | I4: Min.Value | J4: 10000
H5: Min No of Vals | J5: 2
C6: No Of Valuations | E6: 25 | F6: (during contract period) | H6: Max No of Vals | J6: 30
C7: Retention | E7: 0.05 | H7: Start On Site Date | J7: 44368
C8: Remaining Vals | E8: 26 | H8: Contract Period: | J8: =ROUND((CompOnSite-StartOnSite)/7,0) -> 109 | K8: wks
C9: Defects Period | E9: 12 | F9: MONTHS | I9: Compl. Date | J9: 45131
C13: Val | D13: Date | E13: Original Est Gross | F13: Act Gross | G13: Adj Est Gross | H13: Adj Est Retention | I13: Adj Est Nett | J13: Adj Est Prev | K13: Estimated/Actual Cash Flow (Gross) | L13: % | M13: Nett Monthly Cashflow
K15: CHECK | M15: =SUM(M16:M40) -> 8891828.7
C16: 1 | D16: =StartOnSite+30.5 -> 44398.5 | E16: =IF(D16>$J$9,CF_ContractSum,VLOOKUP(D16,CashFlowCalcs!$H$18:$J$750,3)) -> 151002.89 | H16: =G16*$E$7 -> 0 | I16: =G16-H16 -> 0 | J16: 0 | K16: =IF($J$1=0,0,(IF(ISBLANK(F16)=FALSE,F16,VLOOKUP(D16,TAB_DATE1toNOOFDAYREM,8)))) -> 151002.89 | L16: 0.97 | M16: =K16*L16 -> 146472.8
C17: =+C16+1 -> 2 | D17: =D16+30.5+2 -> 44431 | E17: =IF(D17>$J$9,0,VLOOKUP(D17,CashFlowCalcs!$H$18:$J$750,3)) -> 220919.94 | H17: =G17*$E$7 -> 0 | I17: =G17-H17 -> 0 | J17: =IF(ISBLANK(F17)=TRUE,0,I16) -> 0 | K17: =IF($J$1=0,0,(IF(ISBLANK(F17)=FALSE,F17,VLOOKUP(D17,TAB_DATE1toNOOFDAYREM,8)))) -> 220919.94 | L17: =IF($C17>CF_NoOfVals,1,IF($C17=CF_NoOfVals,1-(CF_Retention/2),1-CF_Retention)) -> 0.95 | M17: =IF(C17>CF_NoOfVals,0,IF(C17=1,K17*L17,(K17*L17)-(K16*L16))) -> 63401.137
C18: =+C17+1 -> 3 | D18: =D17+30.5-2 -> 44459.5 | E18: =IF(D18>$J$9,0,VLOOKUP(D18,CashFlowCalcs!$H$18:$J$750,3)) -> 302964.5 | H18: =G18*$E$7 -> 0 | I18: =G18-H18 -> 0 | J18: =IF(ISBLANK(F18)=TRUE,0,I17) -> 0 | K18: =IF($J$1=0,0,(IF(ISBLANK(F18)=FALSE,F18,VLOOKUP(D18,TAB_DATE1toNOOFDAYREM,8)))) -> 302964.5 | L18: =IF($C18>CF_NoOfVals,1,IF($C18=CF_NoOfVals,1-(CF_Retention/2),1-CF_Retention)) -> 0.95 | M18: =IF(C18>CF_NoOfVals,0,IF(C18=1,K18*L18,(K18*L18)-(K17*L17))) -> 77942.334
C19: =+C18+1 -> 4 | D19: =D18+30.5+2+8 -> 44500 | E19: =IF(D19>$J$9,0,VLOOKUP(D19,CashFlowCalcs!$H$18:$J$750,3)) -> 467159.72 | H19: =G19*$E$7 -> 0 | I19: =G19-H19 -> 0 | J19: =IF(ISBLANK(F19)=TRUE,0,I18) -> 0 | K19: =IF($J$1=0,0,(IF(ISBLANK(F19)=FALSE,F19,VLOOKUP(D19,TAB_DATE1toNOOFDAYREM,8)))) -> 467159.72 | L19: =IF($C19>CF_NoOfVals,1,IF($C19=CF_NoOfVals,1-(CF_Retention/2),1-CF_Retention)) -> 0.95 | M19: =IF(C19>CF_NoOfVals,0,IF(C19=1,K19*L19,(K19*L19)-(K18*L18))) -> 155985.45
C20: =+C19+1 -> 5 | D20: =D19+30.5-7 -> 44523.5 | E20: =IF(D20>$J$9,0,VLOOKUP(D20,CashFlowCalcs!$H$18:$J$750,3)) -> 593977.46 | H20: =G20*$E$7 -> 0 | I20: =G20-H20 -> 0 | J20: =IF(ISBLANK(F20)=TRUE,0,I19) -> 0 | K20: =IF($J$1=0,0,(IF(ISBLANK(F20)=FALSE,F20,VLOOKUP(D20,TAB_DATE1toNOOFDAYREM,8)))) -> 593977.46 | L20: =IF($C20>CF_NoOfVals,1,IF($C20=CF_NoOfVals,1-(CF_Retention/2),1-CF_Retention)) -> 0.95 | M20: =IF(C20>CF_NoOfVals,0,IF(C20=1,K20*L20,(K20*L20)-(K19*L19))) -> 120476.85
C21: =+C20+1 -> 6 | D21: =D20+30.5-1-2 -> 44551 | E21: =IF(D21>$J$9,0,VLOOKUP(D21,CashFlowCalcs!$H$18:$J$750,3)) -> 777776.94 | H21: =G21*$E$7 -> 0 | I21: =G21-H21 -> 0 | J21: =IF(ISBLANK(F21)=TRUE,0,I20) -> 0 | K21: =IF($J$1=0,0,(IF(ISBLANK(F21)=FALSE,F21,VLOOKUP(D21,TAB_DATE1toNOOFDAYREM,8)))) -> 777776.94 | L21: =IF($C21>CF_NoOfVals,1,IF($C21=CF_NoOfVals,1-(CF_Retention/2),1-CF_Retention)) -> 0.95 | M21: =IF(C21>CF_NoOfVals,0,IF(C21=1,K21*L21,(K21*L21)-(K20*L20))) -> 174609.51
C22: =+C21+1 -> 7 | D22: =D21+28+6 -> 44585 | E22: =IF(D22>$J$9,0,VLOOKUP(D22,CashFlowCalcs!$H$18:$J$750,3)) -> 1055184.7 | H22: =G22*$E$7 -> 0 | I22: =G22-H22 -> 0 | J22: =IF(ISBLANK(F22)=TRUE,0,I21) -> 0 | K22: =IF($J$1=0,0,(IF(ISBLANK(F22)=FALSE,F22,VLOOKUP(D22,TAB_DATE1toNOOFDAYREM,8)))) -> 1055184.7 | L22: =IF($C22>CF_NoOfVals,1,IF($C22=CF_NoOfVals,1-(CF_Retention/2),1-CF_Retention)) -> 0.95 | M22: =IF(C22>CF_NoOfVals,0,IF(C22=1,K22*L22,(K22*L22)-(K21*L21))) -> 263537.38
C23: =+C22+1 -> 8 | D23: =D22+28 -> 44613 | E23: =IF(D23>$J$9,0,VLOOKUP(D23,CashFlowCalcs!$H$18:$J$750,3)) -> 1339776.7 | H23: =G23*$E$7 -> 0 | I23: =G23-H23 -> 0 | J23: =IF(ISBLANK(F23)=TRUE,0,I22) -> 0 | K23: =IF($J$1=0,0,(IF(ISBLANK(F23)=FALSE,F23,VLOOKUP(D23,TAB_DATE1toNOOFDAYREM,8)))) -> 1339776.7 | L23: =IF($C23>CF_NoOfVals,1,IF($C23=CF_NoOfVals,1-(CF_Retention/2),1-CF_Retention)) -> 0.95 | M23: =IF(C23>CF_NoOfVals,0,IF(C23=1,K23*L23,(K23*L23)-(K22*L22))) -> 270362.43
C24: =+C23+1 -> 9 | D24: =D23+28 -> 44641 | E24: =IF(D24>$J$9,0,VLOOKUP(D24,CashFlowCalcs!$H$18:$J$750,3)) -> 1570385.2 | H24: =G24*$E$7 -> 0 | I24: =G24-H24 -> 0 | J24: =IF(ISBLANK(F24)=TRUE,0,I23) -> 0 | K24: =IF($J$1=0,0,(IF(ISBLANK(F24)=FALSE,F24,VLOOKUP(D24,TAB_DATE1toNOOFDAYREM,8)))) -> 1570385.2 | L24: =IF($C24>CF_NoOfVals,1,IF($C24=CF_NoOfVals,1-(CF_Retention/2),1-CF_Retention)) -> 0.95 | M24: =IF(C24>CF_NoOfVals,0,IF(C24=1,K24*L24,(K24*L24)-(K23*L23))) -> 219078.06
C25: =+C24+1 -> 10 | D25: =D24+10+1-3 -> 44649 | E25: =IF(D25>$J$9,0,VLOOKUP(D25,CashFlowCalcs!$H$18:$J$750,3)) -> 1605522.1 | H25: =G25*$E$7 -> 0 | I25: =G25-H25 -> 0 | J25: =IF(ISBLANK(F25)=TRUE,0,I24) -> 0 | K25: =IF($J$1=0,0,(IF(ISBLANK(F25)=FALSE,F25,VLOOKUP(D25,TAB_DATE1toNOOFDAYREM,8)))) -> 1605522.1 | L25: =IF($C25>CF_NoOfVals,1,IF($C25=CF_NoOfVals,1-(CF_Retention/2),1-CF_Retention)) -> 0.95 | M25: =IF(C25>CF_NoOfVals,0,IF(C25=1,K25*L25,(K25*L25)-(K24*L24))) -> 33380.081
C26: =+C25+1 -> 11 | D26: =D25+30.5 -> 44679.5 | E26: =IF(D26>$J$9,0,VLOOKUP(D26,CashFlowCalcs!$H$18:$J$750,3)) -> 2029145 | H26: =G26*$E$7 -> 0 | I26: =G26-H26 -> 0 | J26: =IF(ISBLANK(F26)=TRUE,0,I25) -> 0 | K26: =IF($J$1=0,0,(IF(ISBLANK(F26)=FALSE,F26,VLOOKUP(D26,TAB_DATE1toNOOFDAYREM,8)))) -> 2029145 | L26: =IF($C26>CF_NoOfVals,1,IF($C26=CF_NoOfVals,1-(CF_Retention/2),1-CF_Retention)) -> 0.95 | M26: =IF(C26>CF_NoOfVals,0,IF(C26=1,K26*L26,(K26*L26)-(K25*L25))) -> 402441.67
C27: =+C26+1 -> 12 | D27: =D26+30.5 -> 44710 | E27: =IF(D27>$J$9,0,VLOOKUP(D27,CashFlowCalcs!$H$18:$J$750,3)) -> 2497593.9 | H27: =G27*$E$7 -> 0 | I27: =G27-H27 -> 0 | J27: =IF(ISBLANK(F27)=TRUE,0,I26) -> 0 | K27: =IF($J$1=0,0,(IF(ISBLANK(F27)=FALSE,F27,VLOOKUP(D27,TAB_DATE1toNOOFDAYREM,8)))) -> 2497593.9 | L27: =IF($C27>CF_NoOfVals,1,IF($C27=CF_NoOfVals,1-(CF_Retention/2),1-CF_Retention)) -> 0.95 | M27: =IF(C27>CF_NoOfVals,0,IF(C27=1,K27*L27,(K27*L27)-(K26*L26))) -> 445026.47
C28: =+C27+1 -> 13 | D28: =D27+30.5 -> 44740.5 | E28: =IF(D28>$J$9,0,VLOOKUP(D28,CashFlowCalcs!$H$18:$J$750,3)) -> 3053752.6 | H28: =G28*$E$7 -> 0 | I28: =G28-H28 -> 0 | J28: =IF(ISBLANK(F28)=TRUE,0,I27) -> 0 | K28: =IF($J$1=0,0,(IF(ISBLANK(F28)=FALSE,F28,VLOOKUP(D28,TAB_DATE1toNOOFDAYREM,8)))) -> 3053752.6 | L28: =IF($C28>CF_NoOfVals,1,IF($C28=CF_NoOfVals,1-(CF_Retention/2),1-CF_Retention)) -> 0.95 | M28: =IF(C28>CF_NoOfVals,0,IF(C28=1,K28*L28,(K28*L28)-(K27*L27))) -> 528350.8
C29: =+C28+1 -> 14 | D29: =D28+30.5 -> 44771 | E29: =IF(D29>$J$9,0,VLOOKUP(D29,CashFlowCalcs!$H$18:$J$750,3)) -> 3700373.6 | H29: =G29*$E$7 -> 0 | I29: =G29-H29 -> 0 | J29: =IF(ISBLANK(F29)=TRUE,0,I28) -> 0 | K29: =IF($J$1=0,0,(IF(ISBLANK(F29)=FALSE,F29,VLOOKUP(D29,TAB_DATE1toNOOFDAYREM,8)))) -> 3700373.6 | L29: =IF($C29>CF_NoOfVals,1,IF($C29=CF_NoOfVals,1-(CF_Retention/2),1-CF_Retention)) -> 0.95 | M29: =IF(C29>CF_NoOfVals,0,IF(C29=1,K29*L29,(K29*L29)-(K28*L28))) -> 614289.99
C30: =+C29+1 -> 15 | D30: =D29+30.5 -> 44801.5 | E30: =IF(D30>$J$9,0,VLOOKUP(D30,CashFlowCalcs!$H$18:$J$750,3)) -> 4307636 | H30: =G30*$E$7 -> 0 | I30: =G30-H30 -> 0 | J30: =IF(ISBLANK(F30)=TRUE,0,I29) -> 0 | K30: =IF($J$1=0,0,(IF(ISBLANK(F30)=FALSE,F30,VLOOKUP(D30,TAB_DATE1toNOOFDAYREM,8)))) -> 4307636 | L30: =IF($C30>CF_NoOfVals,1,IF($C30=CF_NoOfVals,1-(CF_Retention/2),1-CF_Retention)) -> 0.95 | M30: =IF(C30>CF_NoOfVals,0,IF(C30=1,K30*L30,(K30*L30)-(K29*L29))) -> 576899.24
C31: =+C30+1 -> 16 | D31: =D30+30.5 -> 44832 | E31: =IF(D31>$J$9,0,VLOOKUP(D31,CashFlowCalcs!$H$18:$J$750,3)) -> 5042107.9 | H31: =G31*$E$7 -> 0 | I31: =G31-H31 -> 0 | J31: =IF(ISBLANK(F31)=TRUE,0,I30) -> 0 | K31: =IF($J$1=0,0,(IF(ISBLANK(F31)=FALSE,F31,VLOOKUP(D31,TAB_DATE1toNOOFDAYREM,8)))) -> 5042107.9 | L31: =IF($C31>CF_NoOfVals,1,IF($C31=CF_NoOfVals,1-(CF_Retention/2),1-CF_Retention)) -> 0.95 | M31: =IF(C31>CF_NoOfVals,0,IF(C31=1,K31*L31,(K31*L31)-(K30*L30))) -> 697748.29
C32: =+C31+1 -> 17 | D32: =D31+30.5 -> 44862.5 | E32: =IF(D32>$J$9,0,VLOOKUP(D32,CashFlowCalcs!$H$18:$J$750,3)) -> 5760837.5 | H32: =G32*-1*$E$7 -> 0 | I32: =G32-H32 -> 0 | J32: =IF(ISBLANK(F32)=TRUE,0,I31) -> 0 | K32: =IF($J$1=0,0,(IF(ISBLANK(F32)=FALSE,F32,VLOOKUP(D32,TAB_DATE1toNOOFDAYREM,8)))) -> 5760837.5 | L32: =IF($C32>CF_NoOfVals,1,IF($C32=CF_NoOfVals,1-(CF_Retention/2),1-CF_Retention)) -> 0.95 | M32: =IF(C32>CF_NoOfVals,0,IF(C32=1,K32*L32,(K32*L32)-(K31*L31))) -> 682793.14
C33: =+C32+1 -> 18 | D33: =D32+30.5 -> 44893 | E33: =IF(D33>$J$9,0,VLOOKUP(D33,CashFlowCalcs!$H$18:$J$750,3)) -> 6439661.8 | H33: =G33*-1*$E$7 -> 0 | I33: =G33-H33 -> 0 | J33: =IF(ISBLANK(F33)=TRUE,0,I32) -> 0 | K33: =IF($J$1=0,0,(IF(ISBLANK(F33)=FALSE,F33,VLOOKUP(D33,TAB_DATE1toNOOFDAYREM,8)))) -> 6439661.8 | L33: =IF($C33>CF_NoOfVals,1,IF($C33=CF_NoOfVals,1-(CF_Retention/2),1-CF_Retention)) -> 0.95 | M33: =IF(C33>CF_NoOfVals,0,IF(C33=1,K33*L33,(K33*L33)-(K32*L32))) -> 644883.08
C34: =+C33+1 -> 19 | D34: =D33+30.5 -> 44923.5 | E34: =IF(D34>$J$9,0,VLOOKUP(D34,CashFlowCalcs!$H$18:$J$750,3)) -> 7117898.8 | H34: =G34*-1*$E$7 -> 0 | I34: =G34-H34 -> 0 | J34: =IF(ISBLANK(F34)=TRUE,0,I33) -> 0 | K34: =IF($J$1=0,0,(IF(ISBLANK(F34)=FALSE,F34,VLOOKUP(D34,TAB_DATE1toNOOFDAYREM,8)))) -> 7117898.8 | L34: =IF($C34>CF_NoOfVals,1,IF($C34=CF_NoOfVals,1-(CF_Retention/2),1-CF_Retention)) -> 0.95 | M34: =IF(C34>CF_NoOfVals,0,IF(C34=1,K34*L34,(K34*L34)-(K33*L33))) -> 644325.17
C35: =+C34+1 -> 20 | D35: =D34+30.5 -> 44954 | E35: =IF(D35>$J$9,0,VLOOKUP(D35,CashFlowCalcs!$H$18:$J$750,3)) -> 7735367.1 | H35: =G35*-1*$E$7 -> 0 | I35: =G35-H35 -> 0 | J35: =IF(ISBLANK(F35)=TRUE,0,I34) -> 0 | K35: =IF($J$1=0,0,(IF(ISBLANK(F35)=FALSE,F35,VLOOKUP(D35,TAB_DATE1toNOOFDAYREM,8)))) -> 7735367.1 | L35: =IF($C35>CF_NoOfVals,1,IF($C35=CF_NoOfVals,1-(CF_Retention/2),1-CF_Retention)) -> 0.95 | M35: =IF(C35>CF_NoOfVals,0,IF(C35=1,K35*L35,(K35*L35)-(K34*L34))) -> 586594.82
C36: =+C35+1 -> 21 | D36: =D35+30.5 -> 44984.5 | E36: =IF(D36>$J$9,0,VLOOKUP(D36,CashFlowCalcs!$H$18:$J$750,3)) -> 8243323.9 | H36: =G36*-1*$E$7 -> 0 | I36: =G36-H36 -> 0 | J36: =IF(ISBLANK(F36)=TRUE,0,I35) -> 0 | K36: =IF($J$1=0,0,(IF(ISBLANK(F36)=FALSE,F36,VLOOKUP(D36,TAB_DATE1toNOOFDAYREM,8)))) -> 8243323.9 | L36: =IF($C36>CF_NoOfVals,1,IF($C36=CF_NoOfVals,1-(CF_Retention/2),1-CF_Retention)) -> 0.95 | M36: =IF(C36>CF_NoOfVals,0,IF(C36=1,K36*L36,(K36*L36)-(K35*L35))) -> 482559.02
C37: =+C36+1 -> 22 | D37: =D36+30.5 -> 45015 | E37: =IF(D37>$J$9,0,VLOOKUP(D37,CashFlowCalcs!$H$18:$J$750,3)) -> 8508262.1 | H37: =G37*-1*$E$7 -> 0 | I37: =G37-H37 -> 0 | J37: =IF(ISBLANK(F37)=TRUE,0,I36) -> 0 | K37: =IF($J$1=0,0,(IF(ISBLANK(F37)=FALSE,F37,VLOOKUP(D37,TAB_DATE1toNOOFDAYREM,8)))) -> 8508262.1 | L37: =IF($C37>CF_NoOfVals,1,IF($C37=CF_NoOfVals,1-(CF_Retention/2),1-CF_Retention)) -> 0.95 | M37: =IF(C37>CF_NoOfVals,0,IF(C37=1,K37*L37,(K37*L37)-(K36*L36))) -> 251691.22
C38: =+C37+1 -> 23 | D38: =D37+30.5 -> 45045.5 | E38: =IF(D38>$J$9,0,VLOOKUP(D38,CashFlowCalcs!$H$18:$J$750,3)) -> 8843115.9 | H38: =G38*-1*$E$7 -> 0 | I38: =G38-H38 -> 0 | J38: =IF(ISBLANK(F38)=TRUE,0,I37) -> 0 | K38: =IF($J$1=0,0,(IF(ISBLANK(F38)=FALSE,F38,VLOOKUP(D38,TAB_DATE1toNOOFDAYREM,8)))) -> 8843115.9 | L38: =IF($C38>CF_NoOfVals,1,IF($C38=CF_NoOfVals,1-(CF_Retention/2),1-CF_Retention)) -> 0.95 | M38: =IF(C38>CF_NoOfVals,0,IF(C38=1,K38*L38,(K38*L38)-(K37*L37))) -> 318111.12
C39: =+C38+1 -> 24 | D39: =D38+30.5 -> 45076 | E39: =IF(D39>$J$9,0,VLOOKUP(D39,CashFlowCalcs!$H$18:$J$750,3)) -> 9056819.4 | H39: =G39*-1*$E$7 -> 0 | I39: =G39-H39 -> 0 | J39: =IF(ISBLANK(F39)=TRUE,0,I38) -> 0 | K39: =IF($J$1=0,0,(IF(ISBLANK(F39)=FALSE,F39,VLOOKUP(D39,TAB_DATE1toNOOFDAYREM,8)))) -> 9056819.4 | L39: =IF($C39>CF_NoOfVals,1,IF($C39=CF_NoOfVals,1-(CF_Retention/2),1-CF_Retention)) -> 0.95 | M39: =IF(C39>CF_NoOfVals,0,IF(C39=1,K39*L39,(K39*L39)-(K38*L38))) -> 203018.4
C40: =+C39+1 -> 25 | D40: =D39+30.5 -> 45106.5 | E40: =IF(D40>$J$9,0,VLOOKUP(D40,CashFlowCalcs!$H$18:$J$750,3)) -> 9119824.3 | H40: =G40*-1*$E$7 -> 0 | I40: =G40-H40 -> 0 | J40: =IF(ISBLANK(F40)=TRUE,0,I39) -> 0 | K40: =IF($J$1=0,0,(IF(ISBLANK(F40)=FALSE,F40,VLOOKUP(D40,TAB_DATE1toNOOFDAYREM,8)))) -> 9119824.3 | L40: =IF($C40>CF_NoOfVals,1,IF($C40=CF_NoOfVals,1-(CF_Retention/2),1-CF_Retention)) -> 0.975 | M40: =IF(C40>CF_NoOfVals,0,IF(C40=1,K40*L40,(K40*L40)-(K39*L39))) -> 287850.18

Sheet CashFlowARA
C1: CONTRACT | E1: =#REF!&" "&#REF! -> #REF! | I1: Last/Current Valuation No : | J1: =#REF! -> #REF! | K1: =#REF! -> #REF!
C3: Current Final Account | F3: =CashFlowCalcs!G6 -> 9119824.3 | I3: Max.Value | J3: 11999999
I4: Min.Value | J4: 10000
C5: Contract Prd | E5: =ROUND(J8/4.33333,0) -> #REF! | F5: MONTHS | H5: Min No of Vals | J5: 2
C6: No Of Valuations | E6: 16 | H6: Max No of Vals | J6: 25
C7: Retention | E7: 0.03 | H7: Start On Site Date | J7: =#REF! -> #REF!
C8: Remaining Vals | E8: =E6-J1 -> #REF! | H8: Contract Period: | J8: =#REF! -> #REF! | K8: wks
C9: Defects Period | E9: 12 | F9: MONTHS | I9: Compl. Date | J9: =+J7+(J8*7)+1 -> #REF!
C13: Val | D13: Date | E13: Original Est Gross | F13: Act Gross | G13: Adj Est Gross | H13: Adj Est Retention | I13: Adj Est Nett | J13: Adj Est Prev | K13: Estimated/Actual Cash Flow (Gross) | L13: Actual /Forecast Paymnt LESS Retention
L14: =SUM(L16:L40) -> #REF!
C16: 1 | D16: 42132 | E16: =IF(D16>$J$9,0,VLOOKUP(D16,CashFlowCalcs!$H$18:$J$750,3)) -> #REF! | F16: 57914.65 | G16: =IF(ISBLANK(F16)=TRUE,0,F16) -> 57914.65 | H16: =G16*$E$7 -> 1737.4395 | I16: =G16-H16 -> 56177.211 | J16: 0 | K16: =IF(ISBLANK(F16)=FALSE,F16,VLOOKUP(D16,CashFlowCalcs!$H$17:$O$750,5)) -> 57914.65 | L16: =IF(ISBLANK(E16)=TRUE,0,IF(ISBLANK(F16)=FALSE,I16-I15,(K16-K15)*0.97)) -> 56177.211 | M16: =IF(C15<$J$1,0,CashFlowCalcs!$H$14*(($E$6-C16)/(CashFlowCalcs!$H$15-1))) -> #REF!
B17: J | C17: =+C16+1 -> 2 | D17: =D16+28+5 -> 42165 | E17: =IF(D17>$J$9,0,VLOOKUP(D17,CashFlowCalcs!$H$18:$J$750,3)) -> #REF! | F17: 182957.69 | G17: =IF(ISBLANK(F17)=TRUE,0,F17) -> 182957.69 | H17: =G17*$E$7 -> 5488.7307 | I17: =G17-H17 -> 177468.96 | J17: =IF(ISBLANK(F17)=TRUE,0,I16) -> 56177.211 | K17: =IF(ISBLANK(F17)=FALSE,F17,VLOOKUP(D17,CashFlowCalcs!$H$17:$O$750,5)) -> 182957.69 | L17: =IF(ISBLANK(E17)=TRUE,0,IF(ISBLANK(F17)=FALSE,I17-I16,(K17-K16)*0.97)) -> 121291.75 | M17: =IF(C16<$J$1,0,CashFlowCalcs!$H$14*(($E$6-C17)/(CashFlowCalcs!$H$15-1))) -> #REF!
B18: K | C18: =+C17+1 -> 3 | D18: =D17+28+2 -> 42195 | E18: =IF(D18>$J$9,0,VLOOKUP(D18,CashFlowCalcs!$H$18:$J$750,3)) -> #REF! | F18: 267232.77 | G18: =IF(ISBLANK(F18)=TRUE,0,F18) -> 267232.77 | H18: =G18*$E$7 -> 8016.9831 | I18: =G18-H18 -> 259215.79 | J18: =IF(ISBLANK(F18)=TRUE,0,I17) -> 177468.96 | K18: =IF(ISBLANK(F18)=FALSE,F18,VLOOKUP(D18,CashFlowCalcs!$H$17:$O$750,5)) -> 267232.77 | L18: =IF(ISBLANK(E18)=TRUE,0,IF(ISBLANK(F18)=FALSE,I18-I17,(K18-K17)*0.97)) -> 81746.828 | M18: =IF(C17<$J$1,0,CashFlowCalcs!$H$14*(($E$6-C18)/(CashFlowCalcs!$H$15-1))) -> #REF!
B19: L | C19: =+C18+1 -> 4 | D19: =D18+27 -> 42222 | E19: =IF(D19>$J$9,0,VLOOKUP(D19,CashFlowCalcs!$H$18:$J$750,3)) -> #REF! | F19: 444030.77 | G19: =IF(ISBLANK(F19)=TRUE,0,F19) -> 444030.77 | H19: =G19*$E$7 -> 13320.923 | I19: =G19-H19 -> 430709.85 | J19: =IF(ISBLANK(F19)=TRUE,0,I18) -> 259215.79 | K19: =IF(ISBLANK(F19)=FALSE,F19,VLOOKUP(D19,CashFlowCalcs!$H$17:$O$750,5)) -> 444030.77 | L19: =IF(ISBLANK(E19)=TRUE,0,IF(ISBLANK(F19)=FALSE,I19-I18,(K19-K18)*0.97)) -> 171494.06 | M19: =CashFlowCalcs!$H$14*(($E$6-C19)/(CashFlowCalcs!$H$15-1)) -> #REF!
B20: M | C20: =+C19+1 -> 5 | D20: =ROUND(D19+30.5,0)+4 -> 42257 | E20: =IF(D20>$J$9,0,VLOOKUP(D20,CashFlowCalcs!$H$18:$J$750,3)) -> #REF! | F20: =[0]!ACT_GROSS -> #REF! | G20: =IF(ISBLANK(F20)=TRUE,0,F20) -> #REF! | H20: =G20*$E$7 -> #REF! | I20: =G20-H20 -> #REF! | J20: =IF(ISBLANK(F20)=TRUE,0,I19) -> 430709.85 | K20: =IF(ISBLANK(F20)=FALSE,F20,VLOOKUP(D20,CashFlowCalcs!$H$17:$O$750,5)) -> #REF! | L20: =IF(ISBLANK(E20)=TRUE,0,IF(ISBLANK(F20)=FALSE,I20-I19,(K20-K19)*0.97)) -> #REF! | M20: =CashFlowCalcs!$H$14*(($E$6-C20)/(CashFlowCalcs!$H$15-1)) -> #REF!
B21: N | C21: =+C20+1 -> 6 | D21: =ROUND(D20+30.5,0)+4 -> 42292 | E21: =IF(D21>$J$9,0,VLOOKUP(D21,CashFlowCalcs!$H$18:$J$750,3)) -> #REF! | F21: =#REF! -> #REF! | G21: =IF(ISBLANK(F21)=TRUE,0,F21) -> #REF! | H21: =G21*$E$7 -> #REF! | I21: =G21-H21 -> #REF! | J21: =IF(ISBLANK(F21)=TRUE,0,I20) -> #REF! | K21: =IF(ISBLANK(F21)=FALSE,F21,VLOOKUP(D21,CashFlowCalcs!$H$17:$O$750,5)) -> #REF! | L21: =IF(ISBLANK(E21)=TRUE,0,IF(ISBLANK(F21)=FALSE,I21-I20,(K21-K20)*0.97)) -> #REF! | M21: =CashFlowCalcs!$H$14*(($E$6-C21)/(CashFlowCalcs!$H$15-1)) -> #REF!
B22: O | C22: =+C21+1 -> 7 | D22: =ROUND(D21+30.5,0)-3 -> 42320 | E22: =IF(D22>$J$9,0,VLOOKUP(D22,CashFlowCalcs!$H$18:$J$750,3)) -> #REF! | G22: =IF(ISBLANK(F22)=TRUE,0,F22) -> 0 | H22: =G22*$E$7 -> 0 | I22: =G22-H22 -> 0 | J22: =IF(ISBLANK(F22)=TRUE,0,I21) -> 0 | K22: =IF(ISBLANK(F22)=FALSE,F22,VLOOKUP(D22,CashFlowCalcs!$H$17:$O$750,5)) -> #N/A | L22: =IF(ISBLANK(E22)=TRUE,0,IF(ISBLANK(F22)=FALSE,I22-I21,(K22-K21)*0.97)) -> #N/A | M22: =CashFlowCalcs!$H$14*(($E$6-C22)/(CashFlowCalcs!$H$15-1)) -> #REF!
B23: P | C23: =+C22+1 -> 8 | D23: =ROUND(D22+30.5,0)-3 -> 42348 | E23: =IF(D23>$J$9,0,VLOOKUP(D23,CashFlowCalcs!$H$18:$J$750,3)) -> #REF! | G23: =IF(ISBLANK(F23)=TRUE,0,F23) -> 0 | H23: =G23*$E$7 -> 0 | I23: =G23-H23 -> 0 | J23: =IF(ISBLANK(F23)=TRUE,0,I22) -> 0 | K23: =IF(ISBLANK(F23)=FALSE,F23,VLOOKUP(D23,CashFlowCalcs!$H$17:$O$750,5)) -> #N/A | L23: =IF(ISBLANK(E23)=TRUE,0,IF(ISBLANK(F23)=FALSE,I23-I22,(K23-K22)*0.97)) -> #N/A | M23: =CashFlowCalcs!$H$14*(($E$6-C23)/(CashFlowCalcs!$H$15-1)) -> #REF!
B24: Q | C24: =+C23+1 -> 9 | D24: =ROUND(D23+30.5,0) -> 42379 | E24: =IF(D24>$J$9,0,VLOOKUP(D24,CashFlowCalcs!$H$18:$J$750,3)) -> #REF! | G24: =IF(ISBLANK(F24)=TRUE,0,F24) -> 0 | H24: =G24*$E$7 -> 0 | I24: =G24-H24 -> 0 | J24: =IF(ISBLANK(F24)=TRUE,0,I23) -> 0 | K24: =IF(ISBLANK(F24)=FALSE,F24,VLOOKUP(D24,CashFlowCalcs!$H$17:$O$750,5)) -> #N/A | L24: =IF(ISBLANK(E24)=TRUE,0,IF(ISBLANK(F24)=FALSE,I24-I23,(K24-K23)*0.97)) -> #N/A | M24: =CashFlowCalcs!$H$14*(($E$6-C24)/(CashFlowCalcs!$H$15-1)) -> #REF!
B25: R | C25: =+C24+1 -> 10 | D25: =ROUND(D24+30.5,0) -> 42410 | E25: =IF(D25>$J$9,0,VLOOKUP(D25,CashFlowCalcs!$H$18:$J$750,3)) -> #REF! | G25: =IF(ISBLANK(F25)=TRUE,0,F25) -> 0 | H25: =G25*$E$7 -> 0 | I25: =G25-H25 -> 0 | J25: =IF(ISBLANK(F25)=TRUE,0,I24) -> 0 | K25: =IF(ISBLANK(F25)=FALSE,F25,VLOOKUP(D25,CashFlowCalcs!$H$17:$O$750,5)) -> #N/A | L25: =IF(ISBLANK(E25)=TRUE,0,IF(ISBLANK(F25)=FALSE,I25-I24,(K25-K24)*0.97)) -> #N/A | M25: =CashFlowCalcs!$H$14*(($E$6-C25)/(CashFlowCalcs!$H$15-1)) -> #REF!
B26: S | C26: =+C25+1 -> 11 | D26: =ROUND(D25+30.5,0) -> 42441 | E26: =IF(D26>$J$9,0,VLOOKUP(D26,CashFlowCalcs!$H$18:$J$750,3)) -> #REF! | G26: =IF(ISBLANK(F26)=TRUE,0,F26) -> 0 | H26: =G26*$E$7 -> 0 | I26: =G26-H26 -> 0 | J26: =IF(ISBLANK(F26)=TRUE,0,I25) -> 0 | K26: =IF(ISBLANK(F26)=FALSE,F26,VLOOKUP(D26,CashFlowCalcs!$H$17:$O$750,5)) -> #N/A | L26: =IF(ISBLANK(E26)=TRUE,0,IF(ISBLANK(F26)=FALSE,I26-I25,(K26-K25)*0.97)) -> #N/A | M26: =CashFlowCalcs!$H$14*(($E$6-C26)/(CashFlowCalcs!$H$15-1)) -> #REF!
B27: T | C27: =+C26+1 -> 12 | D27: =ROUND(D26+30.5,0) -> 42472 | E27: =IF(D27>$J$9,0,VLOOKUP(D27,CashFlowCalcs!$H$18:$J$750,3)) -> #REF! | G27: =IF(ISBLANK(F27)=TRUE,0,F27) -> 0 | H27: =G27*$E$7 -> 0 | I27: =G27-H27 -> 0 | J27: =IF(ISBLANK(F27)=TRUE,0,I26) -> 0 | K27: =IF(ISBLANK(F27)=FALSE,F27,VLOOKUP(D27,CashFlowCalcs!$H$17:$O$750,5)) -> #N/A | L27: =IF(ISBLANK(E27)=TRUE,0,IF(ISBLANK(F27)=FALSE,I27-I26,(K27-K26)*0.97)) -> #N/A | M27: =CashFlowCalcs!$H$14*(($E$6-C27)/(CashFlowCalcs!$H$15-1)) -> #REF!
B28: U | C28: =+C27+1 -> 13 | D28: =ROUND(D27+30.5,0) -> 42503 | E28: =IF(D28>$J$9,0,VLOOKUP(D28,CashFlowCalcs!$H$18:$J$750,3)) -> #REF! | G28: =IF(ISBLANK(F28)=TRUE,0,F28) -> 0 | H28: =G28*$E$7 -> 0 | I28: =G28-H28 -> 0 | J28: =IF(ISBLANK(F28)=TRUE,0,I27) -> 0 | K28: =IF(ISBLANK(F28)=FALSE,F28,VLOOKUP(D28,CashFlowCalcs!$H$17:$O$750,5)) -> #N/A | L28: =IF(ISBLANK(E28)=TRUE,0,IF(ISBLANK(F28)=FALSE,I28-I27,(K28-K27)*0.97)) -> #N/A | M28: =CashFlowCalcs!$H$14*(($E$6-C28)/(CashFlowCalcs!$H$15-1)) -> #REF!
B29: V | C29: =+C28+1 -> 14 | D29: =ROUND(D28+30.5,0) -> 42534 | E29: =IF(D29>$J$9,0,VLOOKUP(D29,CashFlowCalcs!$H$18:$J$750,3)) -> #REF! | G29: =IF(ISBLANK(F29)=TRUE,0,F29) -> 0 | H29: =G29*$E$7 -> 0 | I29: =G29-H29 -> 0 | J29: =IF(ISBLANK(F29)=TRUE,0,I28) -> 0 | K29: =IF(ISBLANK(F29)=FALSE,F29,VLOOKUP(D29,CashFlowCalcs!$H$17:$O$750,5)) -> #N/A | L29: =IF(ISBLANK(E29)=TRUE,0,IF(ISBLANK(F29)=FALSE,I29-I28,(K29-K28)*0.97)) -> #N/A | M29: =CashFlowCalcs!$H$14*(($E$6-C29)/(CashFlowCalcs!$H$15-1)) -> #REF!
B30: W | C30: =+C29+1 -> 15 | D30: =ROUND(D29+30.5,0) -> 42565 | E30: =IF(D30>$J$9,0,VLOOKUP(D30,CashFlowCalcs!$H$18:$J$750,3)) -> #REF! | G30: =IF(ISBLANK(F30)=TRUE,0,F30) -> 0 | H30: =G30*$E$7 -> 0 | I30: =G30-H30 -> 0 | J30: =IF(ISBLANK(F30)=TRUE,0,I29) -> 0 | K30: =IF(ISBLANK(F30)=FALSE,F30,VLOOKUP(D30,CashFlowCalcs!$H$17:$O$750,5)) -> #N/A | L30: =IF(ISBLANK(E30)=TRUE,0,IF(ISBLANK(F30)=FALSE,I30-I29,(K30-K29)*0.97)) -> #N/A | M30: =CashFlowCalcs!$H$14*(($E$6-C30)/(CashFlowCalcs!$H$15-1)) -> #REF!
B31: X | C31: =+C30+1 -> 16 | D31: =ROUND(D30+30.5,0)-9-5 -> 42582 | E31: =IF(D31>$J$9,0,VLOOKUP(D31,CashFlowCalcs!$H$18:$J$750,3)) -> #REF! | G31: =IF(ISBLANK(F31)=TRUE,0,F31) -> 0 | H31: =G31*$E$7 -> 0 | I31: =G31-H31 -> 0 | J31: =IF(ISBLANK(F31)=TRUE,0,I30) -> 0 | K31: =IF(ISBLANK(F31)=FALSE,F31,VLOOKUP(D31,CashFlowCalcs!$H$17:$O$750,5)) -> #N/A | L31: =IF(ISBLANK(E31)=TRUE,0,IF(ISBLANK(F31)=FALSE,I31-I30,(K31-K30)*0.97)) -> #N/A | M31: =CashFlowCalcs!$H$14*(($E$6-C31)/(CashFlowCalcs!$H$15-1)) -> #REF!
B32: Y | C32: =+C31+1 -> 17 | D32: =ROUND(D31+30.5,0) -> 42613 | E32: =IF(D32>$J$9,0,VLOOKUP(D32,CashFlowCalcs!$H$18:$J$750,3)) -> #REF! | G32: =IF(ISBLANK(F32)=TRUE,0,F32) -> 0 | H32: =G32*-1*$E$7 -> 0 | I32: =IF(C32<=$E$5,E32+H32,0) -> #REF! | J32: =IF(ISBLANK(F32)=TRUE,0,I31) -> 0 | K32: =IF(ISBLANK(F32)=FALSE,F32,VLOOKUP(D32,CashFlowCalcs!$H$17:$O$750,5)) -> #N/A | M32: =CashFlowCalcs!$H$14*(($E$6-C32)/(CashFlowCalcs!$H$15-1)) -> #REF!
B33: Z | C33: =+C32+1 -> 18 | D33: =ROUND(D32+30.5,0) -> 42644 | E33: =IF(D33>$J$9,0,VLOOKUP(D33,CashFlowCalcs!$H$18:$J$750,3)) -> #REF! | G33: =IF(ISBLANK(F33)=TRUE,0,F33) -> 0 | H33: =G33*-1*$E$7 -> 0 | I33: =IF(C33<=$E$5,E33+H33,0) -> #REF! | J33: =IF(ISBLANK(F33)=TRUE,0,I32) -> 0 | K33: =IF(ISBLANK(F33)=FALSE,F33,VLOOKUP(D33,CashFlowCalcs!$H$17:$O$750,5)) -> #N/A | M33: =CashFlowCalcs!$H$14*(($E$6-C33)/(CashFlowCalcs!$H$15-1)) -> #REF!
B34: AA | C34: =+C33+1 -> 19 | D34: =ROUND(D33+30.5,0) -> 42675 | E34: =IF(D34>$J$9,0,VLOOKUP(D34,CashFlowCalcs!$H$18:$J$750,3)) -> #REF! | G34: =IF(ISBLANK(F34)=TRUE,0,F34) -> 0 | H34: =G34*-1*$E$7 -> 0 | I34: =IF(C34<=$E$5,E34+H34,0) -> #REF! | J34: =IF(ISBLANK(F34)=TRUE,0,I33) -> 0 | K34: =IF(ISBLANK(F34)=FALSE,F34,VLOOKUP(D34,CashFlowCalcs!$H$17:$O$750,5)) -> #N/A | M34: =CashFlowCalcs!$H$14*(($E$6-C34)/(CashFlowCalcs!$H$15-1)) -> #REF!
B35: AB | C35: =+C34+1 -> 20 | D35: =ROUND(D34+30.5,0) -> 42706 | E35: =IF(D35>$J$9,0,VLOOKUP(D35,CashFlowCalcs!$H$18:$J$750,3)) -> #REF! | G35: =IF(ISBLANK(F35)=TRUE,0,F35) -> 0 | H35: =G35*-1*$E$7 -> 0 | I35: =IF(C35<=$E$5,E35+H35,0) -> #REF! | J35: =IF(ISBLANK(F35)=TRUE,0,I34) -> 0 | K35: =IF(ISBLANK(F35)=FALSE,F35,VLOOKUP(D35,CashFlowCalcs!$H$17:$O$750,5)) -> #N/A | M35: =CashFlowCalcs!$H$14*(($E$6-C35)/(CashFlowCalcs!$H$15-1)) -> #REF!
B36: AC | C36: =+C35+1 -> 21 | D36: =ROUND(D35+30.5,0) -> 42737 | E36: =IF(D36>$J$9,0,VLOOKUP(D36,CashFlowCalcs!$H$18:$J$750,3)) -> #REF! | G36: =IF(ISBLANK(F36)=TRUE,0,F36) -> 0 | H36: =G36*-1*$E$7 -> 0 | I36: =IF(C36<=$E$5,E36+H36,0) -> #REF! | J36: =IF(ISBLANK(F36)=TRUE,0,I35) -> 0 | K36: =IF(ISBLANK(F36)=FALSE,F36,VLOOKUP(D36,CashFlowCalcs!$H$17:$O$750,5)) -> #N/A | M36: =CashFlowCalcs!$H$14*(($E$6-C36)/(CashFlowCalcs!$H$15-1)) -> #REF!
B37: AD | C37: =+C36+1 -> 22 | D37: =ROUND(D36+30.5,0) -> 42768 | E37: =IF(D37>$J$9,0,VLOOKUP(D37,CashFlowCalcs!$H$18:$J$750,3)) -> #REF! | G37: =IF(ISBLANK(F37)=TRUE,0,F37) -> 0 | H37: =G37*-1*$E$7 -> 0 | I37: =IF(C37<=$E$5,E37+H37,0) -> #REF! | J37: =IF(ISBLANK(F37)=TRUE,0,I36) -> 0 | K37: =IF(ISBLANK(F37)=FALSE,F37,VLOOKUP(D37,CashFlowCalcs!$H$17:$O$750,5)) -> #N/A | M37: =CashFlowCalcs!$H$14*(($E$6-C37)/(CashFlowCalcs!$H$15-1)) -> #REF!
B38: AE | C38: =+C37+1 -> 23 | D38: =ROUND(D37+30.5,0) -> 42799 | E38: =IF(D38>$J$9,0,VLOOKUP(D38,CashFlowCalcs!$H$18:$J$750,3)) -> #REF! | G38: =IF(ISBLANK(F38)=TRUE,0,F38) -> 0 | H38: =G38*-1*$E$7 -> 0 | I38: =IF(C38<=$E$5,E38+H38,0) -> #REF! | J38: =IF(ISBLANK(F38)=TRUE,0,I37) -> 0 | K38: =IF(ISBLANK(F38)=FALSE,F38,VLOOKUP(D38,CashFlowCalcs!$H$17:$O$750,5)) -> #N/A | M38: =CashFlowCalcs!$H$14*(($E$6-C38)/(CashFlowCalcs!$H$15-1)) -> #REF!
B39: AF | C39: =+C38+1 -> 24 | D39: =ROUND(D38+30.5,0) -> 42830 | E39: =IF(D39>$J$9,0,VLOOKUP(D39,CashFlowCalcs!$H$18:$J$750,3)) -> #REF! | G39: =IF(ISBLANK(F39)=TRUE,0,F39) -> 0 | H39: =G39*-1*$E$7 -> 0 | I39: =IF(C39<=$E$5,E39+H39,0) -> #REF! | J39: =IF(ISBLANK(F39)=TRUE,0,I38) -> 0 | K39: =IF(ISBLANK(F39)=FALSE,F39,VLOOKUP(D39,CashFlowCalcs!$H$17:$O$750,5)) -> #N/A | M39: =CashFlowCalcs!$H$14*(($E$6-C39)/(CashFlowCalcs!$H$15-1)) -> #REF!
B40: AG | C40: =+C39+1 -> 25 | D40: =ROUND(D39+30.5,0) -> 42861 | E40: =IF(D40>$J$9,0,VLOOKUP(D40,CashFlowCalcs!$H$18:$J$750,3)) -> #REF! | G40: =IF(ISBLANK(F40)=TRUE,0,F40) -> 0 | H40: =G40*-1*$E$7 -> 0 | I40: =IF(C40<=$E$5,E40+H40,0) -> #REF! | J40: =IF(ISBLANK(F40)=TRUE,0,I39) -> 0 | K40: =IF(ISBLANK(F40)=FALSE,F40,VLOOKUP(D40,CashFlowCalcs!$H$17:$O$750,5)) -> #N/A | M40: =CashFlowCalcs!$H$14*(($E$6-C40)/(CashFlowCalcs!$H$15-1)) -> #REF!

Sheet CashFlowCalcs
D1: Contract Start Date | G1: =StartOnSite -> 44368 | H1: Finish Date | I1: =CompOnSite -> 45131 | J1: Days | K1: =I1-G1-1 -> 762 | N1: * based on Normal Distribution Curve
D2: Total Contract Length in Days In all periods) | G2: =I1-G1 -> 763 | I2: =VLOOKUP($I$1,$E$17:$Q$750,13) -> 505
D3: Mobilisation Period in Days | G3: Start Date | H3: =G1 -> 44368 | I3: Days | J3: =H4-H3 -> 0
D4: Twilight Period | G4: Start Date | H4: =H3 -> 44368 | I4: Days | J4: =H5-H4 -> 0 | N4: Complete
D5: On Site Period | G5: Start Date | H5: =H4 -> 44368 | I5: Days | J5: =VLOOKUP($I$1,TAB_DATE1_DAYNO,9)-VLOOKUP($H$5,TAB_DATE1_DAYNO,9)+1 -> 505 | N5: Leave !
D6: Contract Value (or Final Account) | G6: =CF_ContractSum -> 9119824.3 | H6: Current/Last Val & Date | I6: =CashFlow!J1 -> 25 | J6: =VLOOKUP(I6,CashFlow!$C$16:$D$40,2) -> 45106.5 | K6: =VLOOKUP($J$6,$E$17:$Q$750,13) -> 505
D7: Less Work Before Main Start (L) | I7: Est Val | J7: Act Val | L7: Original Est Left | M7: Act Left | N7: %
D8: Used In "S" Curve (S) | G8: =G6-G7 -> 9119824.3 | I8: =VLOOKUP($I$6,CashFlow!$C$16:$K$40,3) -> 9119824.3 | J8: =VLOOKUP($I$6,CashFlow!$C$16:$K$40,4) -> 0 | L8: =$G6-VLOOKUP($I6,CashFlow!$C$16:$K$40,3) -> 0 | M8: =$G6-VLOOKUP($I6,CashFlow!$C$16:$K$40,4) -> 9119824.3 | N8: =M8/L8 -> #DIV/0!
I9: Diff | J9: Per Day | L9: Diffence | M9: =M8-L8 -> 9119824.3 | R9: =J6+1 -> 45107.5
I10: =J8-I8 -> -9119824.3 | J10: =I10/(I1-J6) -> -372237.72
D11: Amount Outstanding | F11: =CashFlowARA!$F$3 -> 9119824.3 | G11: =MAX(CashFlow!$F$16:$F$40) -> 0 | H11: =F11-G11 -> 9119824.3
D12: Predicted Outstanding | F12: =CashFlow!$F$3 -> 9119824.3 | G12: =VLOOKUP(#REF!,CashFlow!C$16:G$40,3) -> #REF! | H12: =F12-G12 -> #REF!
D13: % adjustment
F14: Difference | H14: =H12-H11 -> #REF! | I14: =IF(H14>0,"AHEAD","BEHIND") -> #REF!
F15: Months Remaining | H15: =CashFlowARA!E6-CashFlowARA!J1 -> #REF!
D16: A | E16: B | F16: C | G16: D = Normdist of C | H16: E = B | I16: F = D / A | J16: G = (F x S) + L | K16: H | L16: I | M16: J | N16: K | O16: L
A17: Day | B17: Val No | C17: Holiday (Y/N) | D17: Day No (On site Period) | E17: Date1 | F17: X axis divided by On Site Period (From 3 to 0)* | G17: Y axis (Normal Distribution) from 3 to 0 | H17: Date | I17: Factor | J17: Original Gross Val at Start | K17: Running Adjustment | L17: Revised Estimated Gross Val | M17: Day No (As Col A) | N17: Difference | O17: No of Days remaining as Fraction | P17: Actual Val | Q17: DayNo1 | R17: Factor To Add | S17: Proportion Left
A18: Mon | B18: =SUMIFS(CashFlow!$C$16:$C$40,CashFlow!$D$16:$D$40,CashFlowCalcs!$E18) -> 0 | C18: =IF(LEFT(A18,1)="S","Y","N") -> N | D18: 1 | E18: =H5 -> 44368 | F18: -3 | G18: =NORMDIST(F18,0,1,0) -> 0.0044318484 | H18: =H5 -> 44368 | I18: =G18/VLOOKUP($J$5,$D$18:$G$750,4) -> 0.011109774 | J18: =(I18*$G$8)+$G$7 -> 101319.19 | K18: =N18*O18 -> 0 | L18: =IF(AND(E18>=$H$3,P18=0,E18<=$I$1),J18+K18,0) -> 101319.19 | M18: =D18 -> 1 | N18: =IF(E18<$J$6,0,IF(E18>=$I$1,0,1))*$I$10 -> 0 | O18: =IF(E18<$J$6,0,IF(E18>=$I$1,0,($J$5-D18)/($J$5-VLOOKUP($J$6,$H$17:$M$750,6)))) -> 0 | P18: 0 | Q18: =D18 -> 1 | R18: =IF(OR(E18<$J$6+1,E18>$I$1),0,1) -> 0
A19: Tues | B19: =IF(SUMIFS(CashFlow!$C$16:$C$40,CashFlow!$D$16:$D$40,CashFlowCalcs!$E19)>0,SUMIFS(CashFlow!$C$16:$C$40,CashFlow!$D$16:$D$40,CashFlowCalcs!$E19),B18) -> 0 | C19: =IF(LEFT(A19,1)="S","Y","N") -> N | D19: =IF($C19="N",$D18+1,$D18) -> 2 | E19: =E18+1 -> 44369 | F19: =$F$18+((((D19)/($J$5+2)*3))) -> -2.9881657 | G19: =NORMDIST(F19,0,1,0) -> 0.004591697 | H19: =H18+1 -> 44369 | I19: =G19/VLOOKUP($J$5,$D$18:$G$750,4) -> 0.011510484 | J19: =(I19*$G$8)+$G$7 -> 104973.59 | K19: =N19*O19 -> 0 | L19: =IF(AND(E19>=$H$3,P19=0,E19<=$I$1),J19+K19,0) -> 104973.59 | M19: =D19 -> 2 | N19: =IF(E19<$J$6,0,IF(E19>=$I$1,0,1))*$I$10 -> 0 | O19: =IF(E19<$J$6,0,IF(E19>=$I$1,0,($J$5-D19)/($J$5-VLOOKUP($J$6,$H$17:$M$750,6)))) -> 0 | P19: 0 | Q19: =D19 -> 2 | R19: =IF(OR(E19<$J$6+1,E19>$I$1),0,1) -> 0
A20: Wed | B20: =IF(SUMIFS(CashFlow!$C$16:$C$40,CashFlow!$D$16:$D$40,CashFlowCalcs!$E20)>0,SUMIFS(CashFlow!$C$16:$C$40,CashFlow!$D$16:$D$40,CashFlowCalcs!$E20),B19) -> 0 | C20: =IF(LEFT(A20,1)="S","Y","N") -> N | D20: =IF($C20="N",$D19+1,$D19) -> 3 | E20: =E19+1 -> 44370 | F20: =$F$18+((((D20)/($J$5+2)*3))) -> -2.9822485 | G20: =NORMDIST(F20,0,1,0) -> 0.0046735251 | H20: =H19+1 -> 44370 | I20: =G20/VLOOKUP($J$5,$D$18:$G$750,4) -> 0.011715611 | J20: =(I20*$G$8)+$G$7 -> 106844.31 | K20: =N20*O20 -> 0 | L20: =IF(AND(E20>=$H$3,P20=0,E20<=$I$1),J20+K20,0) -> 106844.31 | M20: =D20 -> 3 | N20: =IF(E20<$J$6,0,IF(E20>=$I$1,0,1))*$I$10 -> 0 | O20: =IF(E20<$J$6,0,IF(E20>=$I$1,0,($J$5-D20)/($J$5-VLOOKUP($J$6,$H$17:$M$750,6)))) -> 0 | P20: 0 | Q20: =D20 -> 3 | R20: =IF(OR(E20<$J$6+1,E20>$I$1),0,1) -> 0
A21: Thu | B21: =IF(SUMIFS(CashFlow!$C$16:$C$40,CashFlow!$D$16:$D$40,CashFlowCalcs!$E21)>0,SUMIFS(CashFlow!$C$16:$C$40,CashFlow!$D$16:$D$40,CashFlowCalcs!$E21),B20) -> 0 | C21: =IF(LEFT(A21,1)="S","Y","N") -> N | D21: =IF($C21="N",$D20+1,$D20) -> 4 | E21: =E20+1 -> 44371 | F21: =$F$18+((((D21)/($J$5+2)*3))) -> -2.9763314 | G21: =NORMDIST(F21,0,1,0) -> 0.0047566449 | H21: =H20+1 -> 44371 | I21: =G21/VLOOKUP($J$5,$D$18:$G$750,4) -> 0.011923975 | J21: =(I21*$G$8)+$G$7 -> 108744.56 | K21: =N21*O21 -> 0 | L21: =IF(AND(E21>=$H$3,P21=0,E21<=$I$1),J21+K21,0) -> 108744.56 | M21: =D21 -> 4 | N21: =IF(E21<$J$6,0,IF(E21>=$I$1,0,1))*$I$10 -> 0 | O21: =IF(E21<$J$6,0,IF(E21>=$I$1,0,($J$5-D21)/($J$5-VLOOKUP($J$6,$H$17:$M$750,6)))) -> 0 | P21: 0 | Q21: =D21 -> 4 | R21: =IF(OR(E21<$J$6+1,E21>$I$1),0,1) -> 0
A22: Fri | B22: =IF(SUMIFS(CashFlow!$C$16:$C$40,CashFlow!$D$16:$D$40,CashFlowCalcs!$E22)>0,SUMIFS(CashFlow!$C$16:$C$40,CashFlow!$D$16:$D$40,CashFlowCalcs!$E22),B21) -> 0 | C22: =IF(LEFT(A22,1)="S","Y","N") -> N | D22: =IF($C22="N",$D21+1,$D21) -> 5 | E22: =E21+1 -> 44372 | F22: =$F$18+((((D22)/($J$5+2)*3))) -> -2.9704142 | G22: =NORMDIST(F22,0,1,0) -> 0.0048410734 | H22: =H21+1 -> 44372 | I22: =G22/VLOOKUP($J$5,$D$18:$G$750,4) -> 0.012135621 | J22: =(I22*$G$8)+$G$7 -> 110674.73 | K22: =N22*O22 -> 0 | L22: =IF(AND(E22>=$H$3,P22=0,E22<=$I$1),J22+K22,0) -> 110674.73 | M22: =D22 -> 5 | N22: =IF(E22<$J$6,0,IF(E22>=$I$1,0,1))*$I$10 -> 0 | O22: =IF(E22<$J$6,0,IF(E22>=$I$1,0,($J$5-D22)/($J$5-VLOOKUP($J$6,$H$17:$M$750,6)))) -> 0 | P22: 0 | Q22: =D22 -> 5 | R22: =IF(OR(E22<$J$6+1,E22>$I$1),0,1) -> 0
A23: Sat | B23: =IF(SUMIFS(CashFlow!$C$16:$C$40,CashFlow!$D$16:$D$40,CashFlowCalcs!$E23)>0,SUMIFS(CashFlow!$C$16:$C$40,CashFlow!$D$16:$D$40,CashFlowCalcs!$E23),B22) -> 0 | C23: =IF(LEFT(A23,1)="S","Y","N") -> Y | D23: =IF($C23="N",$D22+1,$D22) -> 5 | E23: =E22+1 -> 44373 | F23: =$F$18+((((D23)/($J$5+2)*3))) -> -2.9704142 | G23: =NORMDIST(F23,0,1,0) -> 0.0048410734 | H23: =H22+1 -> 44373 | I23: =G23/VLOOKUP($J$5,$D$18:$G$750,4) -> 0.012135621 | J23: =(I23*$G$8)+$G$7 -> 110674.73 | K23: =N23*O23 -> 0 | L23: =IF(AND(E23>=$H$3,P23=0,E23<=$I$1),J23+K23,0) -> 110674.73 | M23: =D23 -> 5 | N23: =IF(E23<$J$6,0,IF(E23>=$I$1,0,1))*$I$10 -> 0 | O23: =IF(E23<$J$6,0,IF(E23>=$I$1,0,($J$5-D23)/($J$5-VLOOKUP($J$6,$H$17:$M$750,6)))) -> 0 | P23: 0 | Q23: =D23 -> 5 | R23: =IF(OR(E23<$J$6+1,E23>$I$1),0,1) -> 0
A24: Sun | B24: =IF(SUMIFS(CashFlow!$C$16:$C$40,CashFlow!$D$16:$D$40,CashFlowCalcs!$E24)>0,SUMIFS(CashFlow!$C$16:$C$40,CashFlow!$D$16:$D$40,CashFlowCalcs!$E24),B23) -> 0 | C24: =IF(LEFT(A24,1)="S","Y","N") -> Y | D24: =IF($C24="N",$D23+1,$D23) -> 5 | E24: =E23+1 -> 44374 | F24: =$F$18+((((D24)/($J$5+2)*3))) -> -2.9704142 | G24: =NORMDIST(F24,0,1,0) -> 0.0048410734 | H24: =H23+1 -> 44374 | I24: =G24/VLOOKUP($J$5,$D$18:$G$750,4) -> 0.012135621 | J24: =(I24*$G$8)+$G$7 -> 110674.73 | K24: =N24*O24 -> 0 | L24: =IF(AND(E24>=$H$3,P24=0,E24<=$I$1),J24+K24,0) -> 110674.73 | M24: =D24 -> 5 | N24: =IF(E24<$J$6,0,IF(E24>=$I$1,0,1))*$I$10 -> 0 | O24: =IF(E24<$J$6,0,IF(E24>=$I$1,0,($J$5-D24)/($J$5-VLOOKUP($J$6,$H$17:$M$750,6)))) -> 0 | P24: 0 | Q24: =D24 -> 5 | R24: =IF(OR(E24<$J$6+1,E24>$I$1),0,1) -> 0
A25: =A18 -> Mon | B25: =IF(SUMIFS(CashFlow!$C$16:$C$40,CashFlow!$D$16:$D$40,CashFlowCalcs!$E25)>0,SUMIFS(CashFlow!$C$16:$C$40,CashFlow!$D$16:$D$40,CashFlowCalcs!$E25),B24) -> 0 | C25: =IF(LEFT(A25,1)="S","Y","N") -> N | D25: =IF($C25="N",$D24+1,$D24) -> 6 | E25: =E24+1 -> 44375 | F25: =$F$18+((((D25)/($J$5+2)*3))) -> -2.964497 | G25: =NORMDIST(F25,0,1,0) -> 0.0049268281 | H25: =H24+1 -> 44375 | I25: =G25/VLOOKUP($J$5,$D$18:$G$750,4) -> 0.012350591 | J25: =(I25*$G$8)+$G$7 -> 112635.22 | K25: =N25*O25 -> 0 | L25: =IF(AND(E25>=$H$3,P25=0,E25<=$I$1),J25+K25,0) -> 112635.22 | M25: =D25 -> 6 | N25: =IF(E25<$J$6,0,IF(E25>=$I$1,0,1))*$I$10 -> 0 | O25: =IF(E25<$J$6,0,IF(E25>=$I$1,0,($J$5-D25)/($J$5-VLOOKUP($J$6,$H$17:$M$750,6)))) -> 0 | P25: 0 | Q25: =D25 -> 6 | R25: =IF(OR(E25<$J$6+1,E25>$I$1),0,1) -> 0
A26: =A19 -> Tues | B26: =IF(SUMIFS(CashFlow!$C$16:$C$40,CashFlow!$D$16:$D$40,CashFlowCalcs!$E26)>0,SUMIFS(CashFlow!$C$16:$C$40,CashFlow!$D$16:$D$40,CashFlowCalcs!$E26),B25) -> 0 | C26: =IF(LEFT(A26,1)="S","Y","N") -> N | D26: =IF($C26="N",$D25+1,$D25) -> 7 | E26: =E25+1 -> 44376 | F26: =$F$18+((((D26)/($J$5+2)*3))) -> -2.9585799 | G26: =NORMDIST(F26,0,1,0) -> 0.0050139262 | H26: =H25+1 -> 44376 | I26: =G26/VLOOKUP($J$5,$D$18:$G$750,4) -> 0.012568929 | J26: =(I26*$G$8)+$G$7 -> 114626.43 | K26: =N26*O26 -> 0 | L26: =IF(AND(E26>=$H$3,P26=0,E26<=$I$1),J26+K26,0) -> 114626.43 | M26: =D26 -> 7 | N26: =IF(E26<$J$6,0,IF(E26>=$I$1,0,1))*$I$10 -> 0 | O26: =IF(E26<$J$6,0,IF(E26>=$I$1,0,($J$5-D26)/($J$5-VLOOKUP($J$6,$H$17:$M$750,6)))) -> 0 | P26: 0 | Q26: =D26 -> 7 | R26: =IF(OR(E26<$J$6+1,E26>$I$1),0,1) -> 0
A27: =A20 -> Wed | B27: =IF(SUMIFS(CashFlow!$C$16:$C$40,CashFlow!$D$16:$D$40,CashFlowCalcs!$E27)>0,SUMIFS(CashFlow!$C$16:$C$40,CashFlow!$D$16:$D$40,CashFlowCalcs!$E27),B26) -> 0 | C27: =IF(LEFT(A27,1)="S","Y","N") -> N | D27: =IF($C27="N",$D26+1,$D26) -> 8 | E27: =E26+1 -> 44377 | F27: =$F$18+((((D27)/($J$5+2)*3))) -> -2.9526627 | G27: =NORMDIST(F27,0,1,0) -> 0.0051023855 | H27: =H26+1 -> 44377 | I27: =G27/VLOOKUP($J$5,$D$18:$G$750,4) -> 0.012790679 | J27: =(I27*$G$8)+$G$7 -> 116648.75 | K27: =N27*O27 -> 0 | L27: =IF(AND(E27>=$H$3,P27=0,E27<=$I$1),J27+K27,0) -> 116648.75 | M27: =D27 -> 8 | N27: =IF(E27<$J$6,0,IF(E27>=$I$1,0,1))*$I$10 -> 0 | O27: =IF(E27<$J$6,0,IF(E27>=$I$1,0,($J$5-D27)/($J$5-VLOOKUP($J$6,$H$17:$M$750,6)))) -> 0 | P27: 0 | Q27: =D27 -> 8 | R27: =IF(OR(E27<$J$6+1,E27>$I$1),0,1) -> 0
A28: =A21 -> Thu | B28: =IF(SUMIFS(CashFlow!$C$16:$C$40,CashFlow!$D$16:$D$40,CashFlowCalcs!$E28)>0,SUMIFS(CashFlow!$C$16:$C$40,CashFlow!$D$16:$D$40,CashFlowCalcs!$E28),B27) -> 0 | C28: =IF(LEFT(A28,1)="S","Y","N") -> N | D28: =IF($C28="N",$D27+1,$D27) -> 9 | E28: =E27+1 -> 44378 | F28: =$F$18+((((D28)/($J$5+2)*3))) -> -2.9467456 | G28: =NORMDIST(F28,0,1,0) -> 0.0051922236 | H28: =H27+1 -> 44378 | I28: =G28/VLOOKUP($J$5,$D$18:$G$750,4) -> 0.013015886 | J28: =(I28*$G$8)+$G$7 -> 118702.59 | K28: =N28*O28 -> 0 | L28: =IF(AND(E28>=$H$3,P28=0,E28<=$I$1),J28+K28,0) -> 118702.59 | M28: =D28 -> 9 | N28: =IF(E28<$J$6,0,IF(E28>=$I$1,0,1))*$I$10 -> 0 | O28: =IF(E28<$J$6,0,IF(E28>=$I$1,0,($J$5-D28)/($J$5-VLOOKUP($J$6,$H$17:$M$750,6)))) -> 0 | P28: 0 | Q28: =D28 -> 9 | R28: =IF(OR(E28<$J$6+1,E28>$I$1),0,1) -> 0
A29: =A22 -> Fri | B29: =IF(SUMIFS(CashFlow!$C$16:$C$40,CashFlow!$D$16:$D$40,CashFlowCalcs!$E29)>0,SUMIFS(CashFlow!$C$16:$C$40,CashFlow!$D$16:$D$40,CashFlowCalcs!$E29),B28) -> 0 | C29: =IF(LEFT(A29,1)="S","Y","N") -> N | D29: =IF($C29="N",$D28+1,$D28) -> 10 | E29: =E28+1 -> 44379 | F29: =$F$18+((((D29)/($J$5+2)*3))) -> -2.9408284 | G29: =NORMDIST(F29,0,1,0) -> 0.0052834585 | H29: =H28+1 -> 44379 | I29: =G29/VLOOKUP($J$5,$D$18:$G$750,4) -> 0.013244594 | J29: =(I29*$G$8)+$G$7 -> 120788.37 | K29: =N29*O29 -> 0 | L29: =IF(AND(E29>=$H$3,P29=0,E29<=$I$1),J29+K29,0) -> 120788.37 | M29: =D29 -> 10 | N29: =IF(E29<$J$6,0,IF(E29>=$I$1,0,1))*$I$10 -> 0 | O29: =IF(E29<$J$6,0,IF(E29>=$I$1,0,($J$5-D29)/($J$5-VLOOKUP($J$6,$H$17:$M$750,6)))) -> 0 | P29: 0 | Q29: =D29 -> 10 | R29: =IF(OR(E29<$J$6+1,E29>$I$1),0,1) -> 0
A30: =A23 -> Sat | B30: =IF(SUMIFS(CashFlow!$C$16:$C$40,CashFlow!$D$16:$D$40,CashFlowCalcs!$E30)>0,SUMIFS(CashFlow!$C$16:$C$40,CashFlow!$D$16:$D$40,CashFlowCalcs!$E30),B29) -> 0 | C30: =IF(LEFT(A30,1)="S","Y","N") -> Y | D30: =IF($C30="N",$D29+1,$D29) -> 10 | E30: =E29+1 -> 44380 | F30: =$F$18+((((D30)/($J$5+2)*3))) -> -2.9408284 | G30: =NORMDIST(F30,0,1,0) -> 0.0052834585 | H30: =H29+1 -> 44380 | I30: =G30/VLOOKUP($J$5,$D$18:$G$750,4) -> 0.013244594 | J30: =(I30*$G$8)+$G$7 -> 120788.37 | K30: =N30*O30 -> 0 | L30: =IF(AND(E30>=$H$3,P30=0,E30<=$I$1),J30+K30,0) -> 120788.37 | M30: =D30 -> 10 | N30: =IF(E30<$J$6,0,IF(E30>=$I$1,0,1))*$I$10 -> 0 | O30: =IF(E30<$J$6,0,IF(E30>=$I$1,0,($J$5-D30)/($J$5-VLOOKUP($J$6,$H$17:$M$750,6)))) -> 0 | P30: 0 | Q30: =D30 -> 10 | R30: =IF(OR(E30<$J$6+1,E30>$I$1),0,1) -> 0
A31: =A24 -> Sun | B31: =IF(SUMIFS(CashFlow!$C$16:$C$40,CashFlow!$D$16:$D$40,CashFlowCalcs!$E31)>0,SUMIFS(CashFlow!$C$16:$C$40,CashFlow!$D$16:$D$40,CashFlowCalcs!$E31),B30) -> 0 | C31: =IF(LEFT(A31,1)="S","Y","N") -> Y | D31: =IF($C31="N",$D30+1,$D30) -> 10 | E31: =E30+1 -> 44381 | F31: =$F$18+((((D31)/($J$5+2)*3))) -> -2.9408284 | G31: =NORMDIST(F31,0,1,0) -> 0.0052834585 | H31: =H30+1 -> 44381 | I31: =G31/VLOOKUP($J$5,$D$18:$G$750,4) -> 0.013244594 | J31: =(I31*$G$8)+$G$7 -> 120788.37 | K31: =N31*O31 -> 0 | L31: =IF(AND(E31>=$H$3,P31=0,E31<=$I$1),J31+K31,0) -> 120788.37 | M31: =D31 -> 10 | N31: =IF(E31<$J$6,0,IF(E31>=$I$1,0,1))*$I$10 -> 0 | O31: =IF(E31<$J$6,0,IF(E31>=$I$1,0,($J$5-D31)/($J$5-VLOOKUP($J$6,$H$17:$M$750,6)))) -> 0 | P31: 0 | Q31: =D31 -> 10 | R31: =IF(OR(E31<$J$6+1,E31>$I$1),0,1) -> 0
A32: =A25 -> Mon | B32: =IF(SUMIFS(CashFlow!$C$16:$C$40,CashFlow!$D$16:$D$40,CashFlowCalcs!$E32)>0,SUMIFS(CashFlow!$C$16:$C$40,CashFlow!$D$16:$D$40,CashFlowCalcs!$E32),B31) -> 0 | C32: =IF(LEFT(A32,1)="S","Y","N") -> N | D32: =IF($C32="N",$D31+1,$D31) -> 11 | E32: =E31+1 -> 44382 | F32: =$F$18+((((D32)/($J$5+2)*3))) -> -2.9349112 | G32: =NORMDIST(F32,0,1,0) -> 0.0053761083 | H32: =H31+1 -> 44382 | I32: =G32/VLOOKUP($J$5,$D$18:$G$750,4) -> 0.013476849 | J32: =(I32*$G$8)+$G$7 -> 122906.49 | K32: =N32*O32 -> 0 | L32: =IF(AND(E32>=$H$3,P32=0,E32<=$I$1),J32+K32,0) -> 122906.49 | M32: =D32 -> 11 | N32: =IF(E32<$J$6,0,IF(E32>=$I$1,0,1))*$I$10 -> 0 | O32: =IF(E32<$J$6,0,IF(E32>=$I$1,0,($J$5-D32)/($J$5-VLOOKUP($J$6,$H$17:$M$750,6)))) -> 0 | P32: 0 | Q32: =D32 -> 11 | R32: =IF(OR(E32<$J$6+1,E32>$I$1),0,1) -> 0
A33: =A26 -> Tues | B33: =IF(SUMIFS(CashFlow!$C$16:$C$40,CashFlow!$D$16:$D$40,CashFlowCalcs!$E33)>0,SUMIFS(CashFlow!$C$16:$C$40,CashFlow!$D$16:$D$40,CashFlowCalcs!$E33),B32) -> 0 | C33: =IF(LEFT(A33,1)="S","Y","N") -> N | D33: =IF($C33="N",$D32+1,$D32) -> 12 | E33: =E32+1 -> 44383 | F33: =$F$18+((((D33)/($J$5+2)*3))) -> -2.9289941 | G33: =NORMDIST(F33,0,1,0) -> 0.0054701912 | H33: =H32+1 -> 44383 | I33: =G33/VLOOKUP($J$5,$D$18:$G$750,4) -> 0.013712696 | J33: =(I33*$G$8)+$G$7 -> 125057.38 | K33: =N33*O33 -> 0 | L33: =IF(AND(E33>=$H$3,P33=0,E33<=$I$1),J33+K33,0) -> 125057.38 | M33: =D33 -> 12 | N33: =IF(E33<$J$6,0,IF(E33>=$I$1,0,1))*$I$10 -> 0 | O33: =IF(E33<$J$6,0,IF(E33>=$I$1,0,($J$5-D33)/($J$5-VLOOKUP($J$6,$H$17:$M$750,6)))) -> 0 | P33: 0 | Q33: =D33 -> 12 | R33: =IF(OR(E33<$J$6+1,E33>$I$1),0,1) -> 0
A34: =A27 -> Wed | B34: =IF(SUMIFS(CashFlow!$C$16:$C$40,CashFlow!$D$16:$D$40,CashFlowCalcs!$E34)>0,SUMIFS(CashFlow!$C$16:$C$40,CashFlow!$D$16:$D$40,CashFlowCalcs!$E34),B33) -> 0 | C34: =IF(LEFT(A34,1)="S","Y","N") -> N | D34: =IF($C34="N",$D33+1,$D33) -> 13 | E34: =E33+1 -> 44384 | F34: =$F$18+((((D34)/($J$5+2)*3))) -> -2.9230769 | G34: =NORMDIST(F34,0,1,0) -> 0.0055657258 | H34: =H33+1 -> 44384 | I34: =G34/VLOOKUP($J$5,$D$18:$G$750,4) -> 0.013952183 | J34: =(I34*$G$8)+$G$7 -> 127241.45 | K34: =N34*O34 -> 0 | L34: =IF(AND(E34>=$H$3,P34=0,E34<=$I$1),J34+K34,0) -> 127241.45 | M34: =D34 -> 13 | N34: =IF(E34<$J$6,0,IF(E34>=$I$1,0,1))*$I$10 -> 0 | O34: =IF(E34<$J$6,0,IF(E34>=$I$1,0,($J$5-D34)/($J$5-VLOOKUP($J$6,$H$17:$M$750,6)))) -> 0 | P34: 0 | Q34: =D34 -> 13 | R34: =IF(OR(E34<$J$6+1,E34>$I$1),0,1) -> 0
A35: =A28 -> Thu | B35: =IF(SUMIFS(CashFlow!$C$16:$C$40,CashFlow!$D$16:$D$40,CashFlowCalcs!$E35)>0,SUMIFS(CashFlow!$C$16:$C$40,CashFlow!$D$16:$D$40,CashFlowCalcs!$E35),B34) -> 0 | C35: =IF(LEFT(A35,1)="S","Y","N") -> N | D35: =IF($C35="N",$D34+1,$D34) -> 14 | E35: =E34+1 -> 44385 | F35: =$F$18+((((D35)/($J$5+2)*3))) -> -2.9171598 | G35: =NORMDIST(F35,0,1,0) -> 0.0056627305 | H35: =H34+1 -> 44385 | I35: =G35/VLOOKUP($J$5,$D$18:$G$750,4) -> 0.014195354 | J35: =(I35*$G$8)+$G$7 -> 129459.14 | K35: =N35*O35 -> 0 | L35: =IF(AND(E35>=$H$3,P35=0,E35<=$I$1),J35+K35,0) -> 129459.14 | M35: =D35 -> 14 | N35: =IF(E35<$J$6,0,IF(E35>=$I$1,0,1))*$I$10 -> 0 | O35: =IF(E35<$J$6,0,IF(E35>=$I$1,0,($J$5-D35)/($J$5-VLOOKUP($J$6,$H$17:$M$750,6)))) -> 0 | P35: 0 | Q35: =D35 -> 14 | R35: =IF(OR(E35<$J$6+1,E35>$I$1),0,1) -> 0
A36: =A29 -> Fri | B36: =IF(SUMIFS(CashFlow!$C$16:$C$40,CashFlow!$D$16:$D$40,CashFlowCalcs!$E36)>0,SUMIFS(CashFlow!$C$16:$C$40,CashFlow!$D$16:$D$40,CashFlowCalcs!$E36),B35) -> 0 | C36: =IF(LEFT(A36,1)="S","Y","N") -> N | D36: =IF($C36="N",$D35+1,$D35) -> 15 | E36: =E35+1 -> 44386 | F36: =$F$18+((((D36)/($J$5+2)*3))) -> -2.9112426 | G36: =NORMDIST(F36,0,1,0) -> 0.0057612243 | H36: =H35+1 -> 44386 | I36: =G36/VLOOKUP($J$5,$D$18:$G$750,4) -> 0.014442259 | J36: =(I36*$G$8)+$G$7 -> 131710.86 | K36: =N36*O36 -> 0 | L36: =IF(AND(E36>=$H$3,P36=0,E36<=$I$1),J36+K36,0) -> 131710.86 | M36: =D36 -> 15 | N36: =IF(E36<$J$6,0,IF(E36>=$I$1,0,1))*$I$10 -> 0 | O36: =IF(E36<$J$6,0,IF(E36>=$I$1,0,($J$5-D36)/($J$5-VLOOKUP($J$6,$H$17:$M$750,6)))) -> 0 | P36: 0 | Q36: =D36 -> 15 | R36: =IF(OR(E36<$J$6+1,E36>$I$1),0,1) -> 0
... A283: =A276 -> Sun | B283: =IF(SUMIFS(CashFlow!$C$16:$C$40,CashFlow!$D$16:$D$40,CashFlowCalcs!$E283)>0,SUMIFS(CashFlow!$C$16:$C$40,CashFlow!$D$16:$D$40,CashFlowCalcs!$E283),B282) -> 8 | C283: =IF(LEFT(A283,1)="S","Y","N") -> Y | D283: =IF($C283="N",$D282+1,$D282) -> 190 | E283: =E282+1 -> 44633 | F283: =$F$18+((((D283)/($J$5+2)*3))) -> -1.8757396 | G283: =NORMDIST(F283,0,1,0) -> 0.068690928 | H283: =H282+1 -> 44633 | I283: =G283/VLOOKUP($J$5,$D$18:$G$750,4) -> 0.17219468 | J283: =(I283*$G$8)+$G$7 -> 1570385.2 | K283: =N283*O283 -> 0 | L283: =IF(AND(E283>=$H$3,P283=0,E283<=$I$1),J283+K283,0) -> 1570385.2 | M283: =D283 -> 190 | N283: =IF(E283<$J$6,0,IF(E283>=$I$1,0,1))*$I$10 -> 0 | O283: =IF(E283<$J$6,0,IF(E283>=$I$1,0,($J$5-D283)/($J$5-VLOOKUP($J$6,$H$17:$M$750,6)))) -> 0 | P283: 0 | Q283: =D283 -> 190 | R283: =IF(OR(E283<$J$6+1,E283>$I$1),0,1) -> 0
A284: =A277 -> Mon | B284: =IF(SUMIFS(CashFlow!$C$16:$C$40,CashFlow!$D$16:$D$40,CashFlowCalcs!$E284)>0,SUMIFS(CashFlow!$C$16:$C$40,CashFlow!$D$16:$D$40,CashFlowCalcs!$E284),B283) -> 8 | C284: Y | D284: =IF($C284="N",$D283+1,$D283) -> 190 | E284: =E283+1 -> 44634 | F284: =$F$18+((((D284)/($J$5+2)*3))) -> -1.8757396 | G284: =NORMDIST(F284,0,1,0) -> 0.068690928 | H284: =H283+1 -> 44634 | I284: =G284/VLOOKUP($J$5,$D$18:$G$750,4) -> 0.17219468 | J284: =(I284*$G$8)+$G$7 -> 1570385.2 | K284: =N284*O284 -> 0 | L284: =IF(AND(E284>=$H$3,P284=0,E284<=$I$1),J284+K284,0) -> 1570385.2 | M284: =D284 -> 190 | N284: =IF(E284<$J$6,0,IF(E284>=$I$1,0,1))*$I$10 -> 0 | O284: =IF(E284<$J$6,0,IF(E284>=$I$1,0,($J$5-D284)/($J$5-VLOOKUP($J$6,$H$17:$M$750,6)))) -> 0 | P284: 0 | Q284: =D284 -> 190 | R284: =IF(OR(E284<$J$6+1,E284>$I$1),0,1) -> 0
A285: =A278 -> Tues | B285: =IF(SUMIFS(CashFlow!$C$16:$C$40,CashFlow!$D$16:$D$40,CashFlowCalcs!$E285)>0,SUMIFS(CashFlow!$C$16:$C$40,CashFlow!$D$16:$D$40,CashFlowCalcs!$E285),B284) -> 8 | C285: Y | D285: =IF($C285="N",$D284+1,$D284) -> 190 | E285: =E284+1 -> 44635 | F285: =$F$18+((((D285)/($J$5+2)*3))) -> -1.8757396 | G285: =NORMDIST(F285,0,1,0) -> 0.068690928 | H285: =H284+1 -> 44635 | I285: =G285/VLOOKUP($J$5,$D$18:$G$750,4) -> 0.17219468 | J285: =(I285*$G$8)+$G$7 -> 1570385.2 | K285: =N285*O285 -> 0 | L285: =IF(AND(E285>=$H$3,P285=0,E285<=$I$1),J285+K285,0) -> 1570385.2 | M285: =D285 -> 190 | N285: =IF(E285<$J$6,0,IF(E285>=$I$1,0,1))*$I$10 -> 0 | O285: =IF(E285<$J$6,0,IF(E285>=$I$1,0,($J$5-D285)/($J$5-VLOOKUP($J$6,$H$17:$M$750,6)))) -> 0 | P285: 0 | Q285: =D285 -> 190 | R285: =IF(OR(E285<$J$6+1,E285>$I$1),0,1) -> 0
A286: =A279 -> Wed | B286: =IF(SUMIFS(CashFlow!$C$16:$C$40,CashFlow!$D$16:$D$40,CashFlowCalcs!$E286)>0,SUMIFS(CashFlow!$C$16:$C$40,CashFlow!$D$16:$D$40,CashFlowCalcs!$E286),B285) -> 8 | C286: Y | D286: =IF($C286="N",$D285+1,$D285) -> 190 | E286: =E285+1 -> 44636 | F286: =$F$18+((((D286)/($J$5+2)*3))) -> -1.8757396 | G286: =NORMDIST(F286,0,1,0) -> 0.068690928 | H286: =H285+1 -> 44636 | I286: =G286/VLOOKUP($J$5,$D$18:$G$750,4) -> 0.17219468 | J286: =(I286*$G$8)+$G$7 -> 1570385.2 | K286: =N286*O286 -> 0 | L286: =IF(AND(E286>=$H$3,P286=0,E286<=$I$1),J286+K286,0) -> 1570385.2 | M286: =D286 -> 190 | N286: =IF(E286<$J$6,0,IF(E286>=$I$1,0,1))*$I$10 -> 0 | O286: =IF(E286<$J$6,0,IF(E286>=$I$1,0,($J$5-D286)/($J$5-VLOOKUP($J$6,$H$17:$M$750,6)))) -> 0 | P286: 0 | Q286: =D286 -> 190 | R286: =IF(OR(E286<$J$6+1,E286>$I$1),0,1) -> 0
...

Sheet LevelChange
B1: Adjustment For Change in Levels
A2: 1 | B2: Substructures of properties (Plots 1,2,24,25,59 - 62) | C2: Orig qty | D2: Revd Qty | E2: Diff | F2: UoM | G2: Rate | H2: Value
A3: a | B3: Excavate to reduce level ne 0.25 deep | C3: 0 | D3: 11.55 | E3: =D3-C3 -> 11.55 | F3: m3 | G3: 3.5 | H3: =E3*G3 -> 40.425
A4: b | B4: Fill to make up levels in selected excavated material ne 0.25m dp | C4: 0 | D4: 5.99 | E4: =D4-C4 -> 5.99 | F4: m3 | G4: 3.5 | H4: =E4*G4 -> 20.965
A5: c | B5: Ditto ne 1m dp | C5: 120.63 | D5: 200.78 | E5: =D5-C5 -> 80.15 | F5: m3 | G5: 3.5 | H5: =E5*G5 -> 280.525
A6: d | B6: Ditto ne 2m dp | C6: 642.24 | D6: 0 | E6: =D6-C6 -> -642.24 | F6: m3 | G6: 3.5 | H6: =E6*G6 -> -2247.84
A7: e | B7: Excavate trench ne 1m deep | C7: =0+42.93 -> 42.93 | D7: =18.73+101.9 -> 120.63 | E7: =D7-C7 -> 77.7 | F7: m3 | G7: 4.5 | H7: =E7*G7 -> 349.65
A8: f | B8: Ditto not exc 2m deep | C8: 164.6 | D8: 0 | E8: =D8-C8 -> -164.6 | F8: m3 | G8: 4.5 | H8: =E8*G8 -> -740.7
A9: g | B9: Vol of concrete in trenches | C9: 123.62 | D9: 36.71 | E9: =D9-C9 -> -86.91 | F9: m3 | G9: 92.27 | H9: =E9*G9 -> -8019.1857
H10: =SUM(H3:H9) -> -10316.161
B11: Roads
A12: h
A13: i
A14: j
A15: k
A16: l
A17: m
A18: n
A19: o
A20: p

Sheet ADOPTEDROADS
A1: Residential Development at Crundale For Millbay Homes | X1: is incl in FA | Z1: Needs Checking
A2: Phase 1 | H2: Assumed to Chain Point 22m into Second Phase | M2: Surf | N2: 30 | O2: mm
A3: Adopted Roads | H3: Site Red Lvl | J3: 0.5 | K3: m | M3: Binder | N3: 50 | O3: mm | AE3: m2
A4: Tarmac | M4: wetmix | N4: 150 | O4: mm
M5: Type 1 | N5: 250 | O5: mm
M6: Type 3 - Open | O6: mm
N7: =SUM(N2:N6)/1000 -> 0.48 | O7: m
H8: =SUM(H10:H24) -> 514.1165 | L8: FINISHED LEVELS | W8: =SUM(W10:W24) -> 256.83679 | X8: =SUM(X10:X24) -> 1.5008843 | Y8: =SUM(Y10:Y24) -> 1.5008843 | Z8: =SUM(Z10:Z24) -> 0 | AA8: =SUM(AA10:AA24) -> 42.22775 | AB8: =SUM(AB10:AB24) -> 214.60904 | AC8: =(W8+X8-SUM(Y8:AB8)) -> 0 | AD8: =SUM(AD10:AD24) -> 514.1165 | AE8: =SUM(AE10:AE24) -> 506.8125 | AF8: =SUM(AF10:AF24) -> 514.1165 | AG8: =SUM(AG10:AG24) -> 514.1165 | AH8: =SUM(AH10:AH24) -> 514.1165
A9: Loc Ref | B9: Location | C9: Chain From | D9: Chain to | E9: Width | F9: Length | G9: X | H9: Area | I9: Lower Chain Existing Level | J9: Higher Chain Existing Level | K9: Average Existing Level | L9: Surf Lvl (Lower Chain - Side) | M9: Surf Lvl (Lower Chain- Mid) | N9: Surf Lvl (Higher Chain Side) | O9: Surf Lvl (Mid Chain Side) | P9: Av Surf Lvl (Lower) | Q9: Av Surf Lvl (Higher) | R9: Average Surface Level | S9: Form Lvl (Lower) | T9: Form Lvl (Higher) | U9: Form Lvl (Average) | V9: Average Exc (+) or Fill (-) | W9: Fill | X9: Cut | Y9: Exc to red lvls ne 0.25m | Z9: Exc to red lvls ne 1.0m | AA9: Fill to make up ne 0.25m | AB9: Fill to make up over 0.25 | AC9: Check | AD9: Compact btms of excns | AE9: Comp. Fill. Arising From Exc. | AF9: Type 1 as Eng Dwg - Item 10 | AG9: GeoTerxtile as Eng Dwg - Item 11 | AH9: Wet Mix as dwg - 150 thick
A10: 9 | B10: Road 1 | C10: 37 | D10: 40 | E10: 5 | F10: =D10-C10 -> 3 | H10: =E10*F10*IF(G10<>0,G10,1) -> 15 | I10: 41.19 | J10: 41.857 | K10: =SUM(I10:J10)/2 -> 41.5235 | L10: 42.025 | M10: 42.091 | N10: 41.742 | O10: 41.805 | P10: =SUM(L10:M10)/2 -> 42.058 | Q10: =SUM(N10:O10)/2 -> 41.7735 | R10: =SUM(P10:Q10)/2 -> 41.91575 | S10: 41.578 | T10: 41.2935 | U10: 41.43575 | V10: -0.58775 | W10: =IF(V10<0.0001,(H10*V10)*-1,0) -> 8.81625 | X10: =IF(W10=0,V10*H10,0) -> 0 | Y10: =IF(AND(V10>0,V10<0.251),X10,0) -> 0 | Z10: =IF(AND(V10>0.25,V10<1.01),X10,0) -> 0 | AA10: =IF(AND(V10<0,V10>-0.251),W10,0) -> 0 | AB10: =IF(V10<-0.251,W10,0) -> 8.81625 | AC10: =(W10+X10-SUM(Y10:AB10))=0 -> TRUE | AD10: =H10 -> 15 | AE10: =IF(V10<0,AD10,0) -> 15 | AF10: =AD10 -> 15 | AG10: =IF($AF10<>0,$AF10,0) -> 15 | AH10: =IF($AF10<>0,$AF10,0) -> 15
A11: 10 | B11: Road 1 | C11: 40 | D11: 43 | E11: 5 | F11: =D11-C11 -> 3 | H11: =E11*F11*IF(G11<>0,G11,1) -> 15 | I11: 41.857 | J11: 41.71795 | K11: =SUM(I11:J11)/2 -> 41.787475 | L11: 41.742 | M11: 41.805 | N11: 41.54005 | O11: 41.60515 | P11: =SUM(L11:M11)/2 -> 41.7735 | Q11: =SUM(N11:O11)/2 -> 41.5726 | R11: =SUM(P11:Q11)/2 -> 41.67305 | S11: 41.2935 | T11: 41.0926 | U11: 41.19305 | V11: -1.094425 | W11: =IF(V11<0.0001,(H11*V11)*-1,0) -> 16.416375 | X11: =IF(W11=0,V11*H11,0) -> 0 | Y11: =IF(AND(V11>0,V11<0.251),X11,0) -> 0 | Z11: =IF(AND(V11>0.25,V11<1.01),X11,0) -> 0 | AA11: =IF(AND(V11<0,V11>-0.251),W11,0) -> 0 | AB11: =IF(V11<-0.251,W11,0) -> 16.416375 | AC11: =(W11+X11-SUM(Y11:AB11))=0 -> TRUE | AD11: =H11 -> 15 | AE11: =IF(V11<0,AD11,0) -> 15 | AF11: =AD11 -> 15 | AG11: =IF($AF11<>0,$AF11,0) -> 15 | AH11: =IF($AF11<>0,$AF11,0) -> 15
A12: 11 | B12: Road 1 | C12: 43 | D12: 50 | E12: 5.25 | F12: =D12-C12 -> 7 | H12: =E12*F12*IF(G12<>0,G12,1) -> 36.75 | I12: 41.71795 | J12: 41.3935 | K12: =SUM(I12:J12)/2 -> 41.555725 | L12: 41.54005 | M12: 41.60515 | N12: 41.4535 | O12: 41.5195 | P12: =SUM(L12:M12)/2 -> 41.5726 | Q12: =SUM(N12:O12)/2 -> 41.4865 | R12: =SUM(P12:Q12)/2 -> 41.52955 | S12: 41.0926 | T12: 41.0065 | U12: 41.04955 | V12: -1.006175 | W12: =IF(V12<0.0001,(H12*V12)*-1,0) -> 36.976931 | X12: =IF(W12=0,V12*H12,0) -> 0 | Y12: =IF(AND(V12>0,V12<0.251),X12,0) -> 0 | Z12: =IF(AND(V12>0.25,V12<1.01),X12,0) -> 0 | AA12: =IF(AND(V12<0,V12>-0.251),W12,0) -> 0 | AB12: =IF(V12<-0.251,W12,0) -> 36.976931 | AC12: =(W12+X12-SUM(Y12:AB12))=0 -> TRUE | AD12: =H12 -> 36.75 | AE12: =IF(V12<0,AD12,0) -> 36.75 | AF12: =AD12 -> 36.75 | AG12: =IF($AF12<>0,$AF12,0) -> 36.75 | AH12: =IF($AF12<>0,$AF12,0) -> 36.75
A13: 12 | B13: Road 1 | C13: 50 | D13: 52 | E13: 5.25 | F13: =D13-C13 -> 2 | H13: =E13*F13*IF(G13<>0,G13,1) -> 10.5 | I13: 41.3935 | J13: 41.3008 | K13: =SUM(I13:J13)/2 -> 41.34715 | L13: 41.4535 | M13: 41.5195 | N13: 41.3958 | O13: 41.4624 | P13: =SUM(L13:M13)/2 -> 41.4865 | Q13: =SUM(N13:O13)/2 -> 41.4291 | R13: =SUM(P13:Q13)/2 -> 41.4578 | S13: 41.0065 | T13: 40.9491 | U13: 40.9778 | V13: -0.86935 | W13: =IF(V13<0.0001,(H13*V13)*-1,0) -> 9.128175 | X13: =IF(W13=0,V13*H13,0) -> 0 | Y13: =IF(AND(V13>0,V13<0.251),X13,0) -> 0 | Z13: =IF(AND(V13>0.25,V13<1.01),X13,0) -> 0 | AA13: =IF(AND(V13<0,V13>-0.251),W13,0) -> 0 | AB13: =IF(V13<-0.251,W13,0) -> 9.128175 | AC13: =(W13+X13-SUM(Y13:AB13))=0 -> TRUE | AD13: =H13 -> 10.5 | AE13: =IF(V13<0,AD13,0) -> 10.5 | AF13: =AD13 -> 10.5 | AG13: =IF($AF13<>0,$AF13,0) -> 10.5 | AH13: =IF($AF13<>0,$AF13,0) -> 10.5
A14: 13 | B14: Road 1 | C14: 52 | D14: 60 | E14: 5.5 | F14: =D14-C14 -> 8 | H14: =E14*F14*IF(G14<>0,G14,1) -> 44 | I14: 41.3008 | J14: 40.93 | K14: =SUM(I14:J14)/2 -> 41.1154 | L14: 41.3958 | M14: 41.4624 | N14: 41.165 | O14: 41.234 | P14: =SUM(L14:M14)/2 -> 41.4291 | Q14: =SUM(N14:O14)/2 -> 41.1995 | R14: =SUM(P14:Q14)/2 -> 41.3143 | S14: 40.9491 | T14: 40.7195 | U14: 40.8343 | V14: -0.7811 | W14: =IF(V14<0.0001,(H14*V14)*-1,0) -> 34.3684 | X14: =IF(W14=0,V14*H14,0) -> 0 | Y14: =IF(AND(V14>0,V14<0.251),X14,0) -> 0 | Z14: =IF(AND(V14>0.25,V14<1.01),X14,0) -> 0 | AA14: =IF(AND(V14<0,V14>-0.251),W14,0) -> 0 | AB14: =IF(V14<-0.251,W14,0) -> 34.3684 | AC14: =(W14+X14-SUM(Y14:AB14))=0 -> TRUE | AD14: =H14 -> 44 | AE14: =IF(V14<0,AD14,0) -> 44 | AF14: =AD14 -> 44 | AG14: =IF($AF14<>0,$AF14,0) -> 44 | AH14: =IF($AF14<>0,$AF14,0) -> 44
A15: 14 | B15: Road 1 | C15: 60 | D15: 70 | E15: 5.5 | F15: =D15-C15 -> 10 | H15: =E15*F15*IF(G15<>0,G15,1) -> 55 | I15: 40.93 | J15: 39.981024 | K15: =SUM(I15:J15)/2 -> 40.455512 | L15: 41.165 | M15: 41.234 | N15: 41.069 | O15: 41.138 | P15: =SUM(L15:M15)/2 -> 41.1995 | Q15: =SUM(N15:O15)/2 -> 41.1035 | R15: =SUM(P15:Q15)/2 -> 41.1515 | S15: 40.7195 | T15: 40.6235 | U15: 40.6715 | V15: -0.28401201 | W15: =IF(V15<0.0001,(H15*V15)*-1,0) -> 15.62066 | X15: =IF(W15=0,V15*H15,0) -> 0 | Y15: =IF(AND(V15>0,V15<0.251),X15,0) -> 0 | Z15: =IF(AND(V15>0.25,V15<1.01),X15,0) -> 0 | AA15: =IF(AND(V15<0,V15>-0.251),W15,0) -> 0 | AB15: =IF(V15<-0.251,W15,0) -> 15.62066 | AC15: =(W15+X15-SUM(Y15:AB15))=0 -> TRUE | AD15: =H15 -> 55 | AE15: =IF(V15<0,AD15,0) -> 55 | AF15: =AD15 -> 55 | AG15: =IF($AF15<>0,$AF15,0) -> 55 | AH15: =IF($AF15<>0,$AF15,0) -> 55
A16: 15 | B16: Road 1 | C16: 70 | D16: 71.328 | E16: 5.5 | F16: =D16-C16 -> 1.328 | H16: =E16*F16*IF(G16<>0,G16,1) -> 7.304 | I16: 39.981024 | J16: 39.855 | K16: =SUM(I16:J16)/2 -> 39.918012 | L16: 41.069 | M16: 41.138 | N16: 41.069 | O16: 41.138 | P16: =SUM(L16:M16)/2 -> 41.1035 | Q16: =SUM(N16:O16)/2 -> 41.1035 | R16: =SUM(P16:Q16)/2 -> 41.1035 | S16: 40.6235 | T16: 40.6235 | U16: 40.6235 | V16: 0.20548799 | W16: =IF(V16<0.0001,(H16*V16)*-1,0) -> 0 | X16: =IF(W16=0,V16*H16,0) -> 1.5008843 | Y16: =IF(AND(V16>0,V16<0.251),X16,0) -> 1.5008843 | Z16: =IF(AND(V16>0.25,V16<1.01),X16,0) -> 0 | AA16: =IF(AND(V16<0,V16>-0.251),W16,0) -> 0 | AB16: =IF(V16<-0.251,W16,0) -> 0 | AC16: =(W16+X16-SUM(Y16:AB16))=0 -> TRUE | AD16: =H16 -> 7.304 | AE16: =IF(V16<0,AD16,0) -> 0 | AF16: =AD16 -> 7.304 | AG16: =IF($AF16<>0,$AF16,0) -> 7.304 | AH16: =IF($AF16<>0,$AF16,0) -> 7.304
A17: 16 | B17: Road 2 | C17: 2.75 | D17: 20 | E17: 5.5 | F17: =D17-C17 -> 17.25 | H17: =E17*F17*IF(G17<>0,G17,1) -> 94.875 | I17: 39.855 | J17: 40.112 | K17: =SUM(I17:J17)/2 -> 39.9835 | L17: 40.8325 | M17: 40.9025 | N17: 40.024 | O17: 40.095 | P17: =SUM(L17:M17)/2 -> 40.8675 | Q17: =SUM(N17:O17)/2 -> 40.0595 | R17: =SUM(P17:Q17)/2 -> 40.4635 | S17: 40.3875 | T17: 39.5795 | U17: 39.9835 | V17: -0.5 | W17: =IF(V17<0.0001,(H17*V17)*-1,0) -> 47.4375 | X17: =IF(W17=0,V17*H17,0) -> 0 | Y17: =IF(AND(V17>0,V17<0.251),X17,0) -> 0 | Z17: =IF(AND(V17>0.25,V17<1.01),X17,0) -> 0 | AA17: =IF(AND(V17<0,V17>-0.251),W17,0) -> 0 | AB17: =IF(V17<-0.251,W17,0) -> 47.4375 | AC17: =(W17+X17-SUM(Y17:AB17))=0 -> TRUE | AD17: =H17 -> 94.875 | AE17: =IF(V17<0,AD17,0) -> 94.875 | AF17: =AD17 -> 94.875 | AG17: =IF($AF17<>0,$AF17,0) -> 94.875 | AH17: =IF($AF17<>0,$AF17,0) -> 94.875
