Workbook
Name ACT_GROSS: #REF!
Name AdoptedPathBuildUp: [1]ADOPTEDPATHS!$E$7
Name AdoptedRoadBuildUp: [1]ADOPTEDROADS!$N$7
Name BeamAndBlockOmission: Constants!$E$34
Name BeamAndBlockPartyOmission: Constants!$E$46
Name BeamBlockSlabBuildUp: [1]Constants!$E$12
Name BeamBlockSlabBuildUp1: SUBS!$U$2
Name BlockPavBuildUp: ADOPTEDROADS!#REF!
Name BlockPavBuildUp: [1]HARDSTAND!$O$7
Name CavIns: [1]Constants!$E$28
Name CF_ContractSum: CashFlow!$F$3
Name CF_NoOfVals: CashFlow!$E$6
Name CF_NoOfValsRemaining: CashFlow!$E$8
Name CF_Retention: CashFlow!$E$7
Name ClearCav: [1]Constants!$E$27
Name CompOnSite: CashFlow!$J$9
Name ConcFillInPartyWall: Constants!$E$45
Name Contract_Sum: #REF!
Name DefLiabPeriod: CashFlow!$E$9
Name DesFees: #REF!
Name Dwellings: #REF!
Name EmpProvSums: #REF!
Name EstGrossVal: #REF!
Name EstGrossVal: [2]CashFlowCalcs!$C$10:$E$395
Name EstGrossVal: #REF!
Name ExtCLtoIntCL: [1]Constants!$E$31
Name ExtFaceToCLofCav: Constants!$E$32
Name ExtSkinThick: [1]Constants!$E$26
Name ExtWallBuildUp: [1]Constants!$E$30
Name ExtWks: #REF!
Name FeesAndCharges: #REF!
Name FFLtoTopOfConcFooting: [1]Constants!$E$22
Name InternalTrench: [1]Constants!$E$17
Name IntSkin: [1]Constants!$E$29
Name MIN_TR_DEPTH: #REF!
Name MIN_TR_DEPTH: #REF!
Name MinDimFromFFLtoBtmOfTrench: [1]Constants!$E$24
Name MOS: #REF!
Name NewTopSoilDepth: [1]GARDENS!$AA$3
Name NewTopSoilThickness: [1]Constants!$E$3
Name NewTopSoilThicknessInM: [1]Constants!$H$3
Name PartyCavityWidth: [1]Constants!$E$42
Name PartyTrenchWidth: [1]Constants!$E$16
Name PartyWallBuildUp: [1]Constants!$E$44
Name PathBuildUp: ADOPTEDROADS!#REF!
Name PathBuildUp: [1]PLOTPATHS!$Z$4
Name PerimPathWidth: ADOPTEDROADS!$H$3
Name PerimPathWidth: [1]PLOTPATHS!$K$4
Name PerimTrenchWidth: [1]Constants!$E$15
Name PorTarmBuildUp: ADOPTEDROADS!#REF!
Name Prelims: #REF!
Name PrelimsPercent: #REF!
Name RetWallTable1: [1]WALLS!$F$7:$W$11
Name RunningOrder: #REF!
Name SiteTopSoilTh: [1]ADOPTEDROADS!$J$3
Name SlabMakeUp: #REF!
Name SlabMakeUp: #REF!
Name Spread: #REF!
Name Spread: #REF!
Name Spread_BG: [1]Constants!$E$6

Sheet CashFlow
C1: CONTRACT | E1: UWTSD New retail and accomodation development, SA1 Campus | I1: Last/Curr Val No : | J1: 25
C3: Contract Sum / Est FA | F3: 9119824.3 | I3: Max.Value | J3: 11999999
C4: Ditto Less 50% of retention | F4: =CF_ContractSum*(1-(CF_Retention/2)) -> 8891828.7 | I4: Min.Value | J4: 10000
H5: Min No of Vals | J5: 2
C6: No Of Valuations | E6: 25 | F6: (during contract period) | H6: Max No of Vals | J6: 30
C7: Retention | E7: 0.05 | H7: Start On Site Date | J7: 44368
C8: Remaining Vals | E8: 26 | H8: Contract Period: | J8: =ROUND((CompOnSite-StartOnSite)/7,0) -> 109 | K8: wks
C9: Defects Period | E9: 12 | F9: MONTHS | I9: Compl. Date | J9: 45131
C13: Val | D13: Date | E13: Original Est Gross | F13: Act Gross | G13: Adj Est Gross | H13: Adj Est Retention | I13: Adj Est Nett | J13: Adj Est Prev | K13: Estimated/Actual Cash Flow (Gross) | L13: % | M13: Nett Monthly Cashflow
K15: CHECK | M15: =SUM(M16:M40) -> 8891828.7
C16: 1 | D16: =StartOnSite+30.5 -> 44398.5 | E16: =IF(D16>$J$9,CF_ContractSum,VLOOKUP(D16,CashFlowCalcs!$H$18:$J$750,3)) -> 151002.89 | H16: =G16*$E$7 -> 0 | I16: =G16-H16 -> 0 | J16: 0 | K16: =IF($J$1=0,0,(IF(ISBLANK(F16)=FALSE,F16,VLOOKUP(D16,TAB_DATE1toNOOFDAYREM,8)))) -> 151002.89 | L16: 0.97 | M16: =K16*L16 -> 146472.8
C17: =+C16+1 -> 2 | D17: =D16+30.5+2 -> 44431 | E17: =IF(D17>$J$9,0,VLOOKUP(D17,CashFlowCalcs!$H$18:$J$750,3)) -> 220919.94 | H17: =G17*$E$7 -> 0 | I17: =G17-H17 -> 0 | J17: =IF(ISBLANK(F17)=TRUE,0,I16) -> 0 | K17: =IF($J$1=0,0,(IF(ISBLANK(F17)=FALSE,F17,VLOOKUP(D17,TAB_DATE1toNOOFDAYREM,8)))) -> 220919.94 | L17: =IF($C17>CF_NoOfVals,1,IF($C17=CF_NoOfVals,1-(CF_Retention/2),1-CF_Retention)) -> 0.95 | M17: =IF(C17>CF_NoOfVals,0,IF(C17=1,K17*L17,(K17*L17)-(K16*L16))) -> 63401.137
C18: =+C17+1 -> 3 | D18: =D17+30.5-2 -> 44459.5 | E18: =IF(D18>$J$9,0,VLOOKUP(D18,CashFlowCalcs!$H$18:$J$750,3)) -> 302964.5 | H18: =G18*$E$7 -> 0 | I18: =G18-H18 -> 0 | J18: =IF(ISBLANK(F18)=TRUE,0,I17) -> 0 | K18: =IF($J$1=0,0,(IF(ISBLANK(F18)=FALSE,F18,VLOOKUP(D18,TAB_DATE1toNOOFDAYREM,8)))) -> 302964.5 | L18: =IF($C18>CF_NoOfVals,1,IF($C18=CF_NoOfVals,1-(CF_Retention/2),1-CF_Retention)) -> 0.95 | M18: =IF(C18>CF_NoOfVals,0,IF(C18=1,K18*L18,(K18*L18)-(K17*L17))) -> 77942.334
C19: =+C18+1 -> 4 | D19: =D18+30.5+2+8 -> 44500 | E19: =IF(D19>$J$9,0,VLOOKUP(D19,CashFlowCalcs!$H$18:$J$750,3)) -> 467159.72 | H19: =G19*$E$7 -> 0 | I19: =G19-H19 -> 0 | J19: =IF(ISBLANK(F19)=TRUE,0,I18) -> 0 | K19: =IF($J$1=0,0,(IF(ISBLANK(F19)=FALSE,F19,VLOOKUP(D19,TAB_DATE1toNOOFDAYREM,8)))) -> 467159.72 | L19: =IF($C19>CF_NoOfVals,1,IF($C19=CF_NoOfVals,1-(CF_Retention/2),1-CF_Retention)) -> 0.95 | M19: =IF(C19>CF_NoOfVals,0,IF(C19=1,K19*L19,(K19*L19)-(K18*L18))) -> 155985.45
C20: =+C19+1 -> 5 | D20: =D19+30.5-7 -> 44523.5 | E20: =IF(D20>$J$9,0,VLOOKUP(D20,CashFlowCalcs!$H$18:$J$750,3)) -> 593977.46 | H20: =G20*$E$7 -> 0 | I20: =G20-H20 -> 0 | J20: =IF(ISBLANK(F20)=TRUE,0,I19) -> 0 | K20: =IF($J$1=0,0,(IF(ISBLANK(F20)=FALSE,F20,VLOOKUP(D20,TAB_DATE1toNOOFDAYREM,8)))) -> 593977.46 | L20: =IF($C20>CF_NoOfVals,1,IF($C20=CF_NoOfVals,1-(CF_Retention/2),1-CF_Retention)) -> 0.95 | M20: =IF(C20>CF_NoOfVals,0,IF(C20=1,K20*L20,(K20*L20)-(K19*L19))) -> 120476.85
C21: =+C20+1 -> 6 | D21: =D20+30.5-1-2 -> 44551 | E21: =IF(D21>$J$9,0,VLOOKUP(D21,CashFlowCalcs!$H$18:$J$750,3)) -> 777776.94 | H21: =G21*$E$7 -> 0 | I21: =G21-H21 -> 0 | J21: =IF(ISBLANK(F21)=TRUE,0,I20) -> 0 | K21: =IF($J$1=0,0,(IF(ISBLANK(F21)=FALSE,F21,VLOOKUP(D21,TAB_DATE1toNOOFDAYREM,8)))) -> 777776.94 | L21: =IF($C21>CF_NoOfVals,1,IF($C21=CF_NoOfVals,1-(CF_Retention/2),1-CF_Retention)) -> 0.95 | M21: =IF(C21>CF_NoOfVals,0,IF(C21=1,K21*L21,(K21*L21)-(K20*L20))) -> 174609.51
C22: =+C21+1 -> 7 | D22: =D21+28+6 -> 44585 | E22: =IF(D22>$J$9,0,VLOOKUP(D22,CashFlowCalcs!$H$18:$J$750,3)) -> 1055184.7 | H22: =G22*$E$7 -> 0 | I22: =G22-H22 -> 0 | J22: =IF(ISBLANK(F22)=TRUE,0,I21) -> 0 | K22: =IF($J$1=0,0,(IF(ISBLANK(F22)=FALSE,F22,VLOOKUP(D22,TAB_DATE1toNOOFDAYREM,8)))) -> 1055184.7 | L22: =IF($C22>CF_NoOfVals,1,IF($C22=CF_NoOfVals,1-(CF_Retention/2),1-CF_Retention)) -> 0.95 | M22: =IF(C22>CF_NoOfVals,0,IF(C22=1,K22*L22,(K22*L22)-(K21*L21))) -> 263537.38
C23: =+C22+1 -> 8 | D23: =D22+28 -> 44613 | E23: =IF(D23>$J$9,0,VLOOKUP(D23,CashFlowCalcs!$H$18:$J$750,3)) -> 1339776.7 | H23: =G23*$E$7 -> 0 | I23: =G23-H23 -> 0 | J23: =IF(ISBLANK(F23)=TRUE,0,I22) -> 0 | K23: =IF($J$1=0,0,(IF(ISBLANK(F23)=FALSE,F23,VLOOKUP(D23,TAB_DATE1toNOOFDAYREM,8)))) -> 1339776.7 | L23: =IF($C23>CF_NoOfVals,1,IF($C23=CF_NoOfVals,1-(CF_Retention/2),1-CF_Retention)) -> 0.95 | M23: =IF(C23>CF_NoOfVals,0,IF(C23=1,K23*L23,(K23*L23)-(K22*L22))) -> 270362.43
C24: =+C23+1 -> 9 | D24: =D23+28 -> 44641 | E24: =IF(D24>$J$9,0,VLOOKUP(D24,CashFlowCalcs!$H$18:$J$750,3)) -> 1570385.2 | H24: =G24*$E$7 -> 0 | I24: =G24-H24 -> 0 | J24: =IF(ISBLANK(F24)=TRUE,0,I23) -> 0 | K24: =IF($J$1=0,0,(IF(ISBLANK(F24)=FALSE,F24,VLOOKUP(D24,TAB_DATE1toNOOFDAYREM,8)))) -> 1570385.2 | L24: =IF($C24>CF_NoOfVals,1,IF($C24=CF_NoOfVals,1-(CF_Retention/2),1-CF_Retention)) -> 0.95 | M24: =IF(C24>CF_NoOfVals,0,IF(C24=1,K24*L24,(K24*L24)-(K23*L23))) -> 219078.06
C25: =+C24+1 -> 10 | D25: =D24+10+1-3 -> 44649 | E25: =IF(D25>$J$9,0,VLOOKUP(D25,CashFlowCalcs!$H$18:$J$750,3)) -> 1605522.1 | H25: =G25*$E$7 -> 0 | I25: =G25-H25 -> 0 | J25: =IF(ISBLANK(F25)=TRUE,0,I24) -> 0 | K25: =IF($J$1=0,0,(IF(ISBLANK(F25)=FALSE,F25,VLOOKUP(D25,TAB_DATE1toNOOFDAYREM,8)))) -> 1605522.1 | L25: =IF($C25>CF_NoOfVals,1,IF($C25=CF_NoOfVals,1-(CF_Retention/2),1-CF_Retention)) -> 0.95 | M25: =IF(C25>CF_NoOfVals,0,IF(C25=1,K25*L25,(K25*L25)-(K24*L24))) -> 33380.081
C26: =+C25+1 -> 11 | D26: =D25+30.5 -> 44679.5 | E26: =IF(D26>$J$9,0,VLOOKUP(D26,CashFlowCalcs!$H$18:$J$750,3)) -> 2029145 | H26: =G26*$E$7 -> 0 | I26: =G26-H26 -> 0 | J26: =IF(ISBLANK(F26)=TRUE,0,I25) -> 0 | K26: =IF($J$1=0,0,(IF(ISBLANK(F26)=FALSE,F26,VLOOKUP(D26,TAB_DATE1toNOOFDAYREM,8)))) -> 2029145 | L26: =IF($C26>CF_NoOfVals,1,IF($C26=CF_NoOfVals,1-(CF_Retention/2),1-CF_Retention)) -> 0.95 | M26: =IF(C26>CF_NoOfVals,0,IF(C26=1,K26*L26,(K26*L26)-(K25*L25))) -> 402441.67
C27: =+C26+1 -> 12 | D27: =D26+30.5 -> 44710 | E27: =IF(D27>$J$9,0,VLOOKUP(D27,CashFlowCalcs!$H$18:$J$750,3)) -> 2497593.9 | H27: =G27*$E$7 -> 0 | I27: =G27-H27 -> 0 | J27: =IF(ISBLANK(F27)=TRUE,0,I26) -> 0 | K27: =IF($J$1=0,0,(IF(ISBLANK(F27)=FALSE,F27,VLOOKUP(D27,TAB_DATE1toNOOFDAYREM,8)))) -> 2497593.9 | L27: =IF($C27>CF_NoOfVals,1,IF($C27=CF_NoOfVals,1-(CF_Retention/2),1-CF_Retention)) -> 0.95 | M27: =IF(C27>CF_NoOfVals,0,IF(C27=1,K27*L27,(K27*L27)-(K26*L26))) -> 445026.47
C28: =+C27+1 -> 13 | D28: =D27+30.5 -> 44740.5 | E28: =IF(D28>$J$9,0,VLOOKUP(D28,CashFlowCalcs!$H$18:$J$750,3)) -> 3053752.6 | H28: =G28*$E$7 -> 0 | I28: =G28-H28 -> 0 | J28: =IF(ISBLANK(F28)=TRUE,0,I27) -> 0 | K28: =IF($J$1=0,0,(IF(ISBLANK(F28)=FALSE,F28,VLOOKUP(D28,TAB_DATE1toNOOFDAYREM,8)))) -> 3053752.6 | L28: =IF($C28>CF_NoOfVals,1,IF($C28=CF_NoOfVals,1-(CF_Retention/2),1-CF_Retention)) -> 0.95 | M28: =IF(C28>CF_NoOfVals,0,IF(C28=1,K28*L28,(K28*L28)-(K27*L27))) -> 528350.8
C29: =+C28+1 -> 14 | D29: =D28+30.5 -> 44771 | E29: =IF(D29>$J$9,0,VLOOKUP(D29,CashFlowCalcs!$H$18:$J$750,3)) -> 3700373.6 | H29: =G29*$E$7 -> 0 | I29: =G29-H29 -> 0 | J29: =IF(ISBLANK(F29)=TRUE,0,I28) -> 0 | K29: =IF($J$1=0,0,(IF(ISBLANK(F29)=FALSE,F29,VLOOKUP(D29,TAB_DATE1toNOOFDAYREM,8)))) -> 3700373.6 | L29: =IF($C29>CF_NoOfVals,1,IF($C29=CF_NoOfVals,1-(CF_Retention/2),1-CF_Retention)) -> 0.95 | M29: =IF(C29>CF_NoOfVals,0,IF(C29=1,K29*L29,(K29*L29)-(K28*L28))) -> 614289.99
C30: =+C29+1 -> 15 | D30: =D29+30.5 -> 44801.5 | E30: =IF(D30>$J$9,0,VLOOKUP(D30,CashFlowCalcs!$H$18:$J$750,3)) -> 4307636 | H30: =G30*$E$7 -> 0 | I30: =G30-H30 -> 0 | J30: =IF(ISBLANK(F30)=TRUE,0,I29) -> 0 | K30: =IF($J$1=0,0,(IF(ISBLANK(F30)=FALSE,F30,VLOOKUP(D30,TAB_DATE1toNOOFDAYREM,8)))) -> 4307636 | L30: =IF($C30>CF_NoOfVals,1,IF($C30=CF_NoOfVals,1-(CF_Retention/2),1-CF_Retention)) -> 0.95 | M30: =IF(C30>CF_NoOfVals,0,IF(C30=1,K30*L30,(K30*L30)-(K29*L29))) -> 576899.24
C31: =+C30+1 -> 16 | D31: =D30+30.5 -> 44832 | E31: =IF(D31>$J$9,0,VLOOKUP(D31,CashFlowCalcs!$H$18:$J$750,3)) -> 5042107.9 | H31: =G31*$E$7 -> 0 | I31: =G31-H31 -> 0 | J31: =IF(ISBLANK(F31)=TRUE,0,I30) -> 0 | K31: =IF($J$1=0,0,(IF(ISBLANK(F31)=FALSE,F31,VLOOKUP(D31,TAB_DATE1toNOOFDAYREM,8)))) -> 5042107.9 | L31: =IF($C31>CF_NoOfVals,1,IF($C31=CF_NoOfVals,1-(CF_Retention/2),1-CF_Retention)) -> 0.95 | M31: =IF(C31>CF_NoOfVals,0,IF(C31=1,K31*L31,(K31*L31)-(K30*L30))) -> 697748.29
C32: =+C31+1 -> 17 | D32: =D31+30.5 -> 44862.5 | E32: =IF(D32>$J$9,0,VLOOKUP(D32,CashFlowCalcs!$H$18:$J$750,3)) -> 5760837.5 | H32: =G32*-1*$E$7 -> 0 | I32: =G32-H32 -> 0 | J32: =IF(ISBLANK(F32)=TRUE,0,I31) -> 0 | K32: =IF($J$1=0,0,(IF(ISBLANK(F32)=FALSE,F32,VLOOKUP(D32,TAB_DATE1toNOOFDAYREM,8)))) -> 5760837.5 | L32: =IF($C32>CF_NoOfVals,1,IF($C32=CF_NoOfVals,1-(CF_Retention/2),1-CF_Retention)) -> 0.95 | M32: =IF(C32>CF_NoOfVals,0,IF(C32=1,K32*L32,(K32*L32)-(K31*L31))) -> 682793.14
C33: =+C32+1 -> 18 | D33: =D32+30.5 -> 44893 | E33: =IF(D33>$J$9,0,VLOOKUP(D33,CashFlowCalcs!$H$18:$J$750,3)) -> 6439661.8 | H33: =G33*-1*$E$7 -> 0 | I33: =G33-H33 -> 0 | J33: =IF(ISBLANK(F33)=TRUE,0,I32) -> 0 | K33: =IF($J$1=0,0,(IF(ISBLANK(F33)=FALSE,F33,VLOOKUP(D33,TAB_DATE1toNOOFDAYREM,8)))) -> 6439661.8 | L33: =IF($C33>CF_NoOfVals,1,IF($C33=CF_NoOfVals,1-(CF_Retention/2),1-CF_Retention)) -> 0.95 | M33: =IF(C33>CF_NoOfVals,0,IF(C33=1,K33*L33,(K33*L33)-(K32*L32))) -> 644883.08
C34: =+C33+1 -> 19 | D34: =D33+30.5 -> 44923.5 | E34: =IF(D34>$J$9,0,VLOOKUP(D34,CashFlowCalcs!$H$18:$J$750,3)) -> 7117898.8 | H34: =G34*-1*$E$7 -> 0 | I34: =G34-H34 -> 0 | J34: =IF(ISBLANK(F34)=TRUE,0,I33) -> 0 | K34: =IF($J$1=0,0,(IF(ISBLANK(F34)=FALSE,F34,VLOOKUP(D34,TAB_DATE1toNOOFDAYREM,8)))) -> 7117898.8 | L34: =IF($C34>CF_NoOfVals,1,IF($C34=CF_NoOfVals,1-(CF_Retention/2),1-CF_Retention)) -> 0.95 | M34: =IF(C34>CF_NoOfVals,0,IF(C34=1,K34*L34,(K34*L34)-(K33*L33))) -> 644325.17
C35: =+C34+1 -> 20 | D35: =D34+30.5 -> 44954 | E35: =IF(D35>$J$9,0,VLOOKUP(D35,CashFlowCalcs!$H$18:$J$750,3)) -> 7735367.1 | H35: =G35*-1*$E$7 -> 0 | I35: =G35-H35 -> 0 | J35: =IF(ISBLANK(F35)=TRUE,0,I34) -> 0 | K35: =IF($J$1=0,0,(IF(ISBLANK(F35)=FALSE,F35,VLOOKUP(D35,TAB_DATE1toNOOFDAYREM,8)))) -> 7735367.1 | L35: =IF($C35>CF_NoOfVals,1,IF($C35=CF_NoOfVals,1-(CF_Retention/2),1-CF_Retention)) -> 0.95 | M35: =IF(C35>CF_NoOfVals,0,IF(C35=1,K35*L35,(K35*L35)-(K34*L34))) -> 586594.82
C36: =+C35+1 -> 21 | D36: =D35+30.5 -> 44984.5 | E36: =IF(D36>$J$9,0,VLOOKUP(D36,CashFlowCalcs!$H$18:$J$750,3)) -> 8243323.9 | H36: =G36*-1*$E$7 -> 0 | I36: =G36-H36 -> 0 | J36: =IF(ISBLANK(F36)=TRUE,0,I35) -> 0 | K36: =IF($J$1=0,0,(IF(ISBLANK(F36)=FALSE,F36,VLOOKUP(D36,TAB_DATE1toNOOFDAYREM,8)))) -> 8243323.9 | L36: =IF($C36>CF_NoOfVals,1,IF($C36=CF_NoOfVals,1-(CF_Retention/2),1-CF_Retention)) -> 0.95 | M36: =IF(C36>CF_NoOfVals,0,IF(C36=1,K36*L36,(K36*L36)-(K35*L35))) -> 482559.02
C37: =+C36+1 -> 22 | D37: =D36+30.5 -> 45015 | E37: =IF(D37>$J$9,0,VLOOKUP(D37,CashFlowCalcs!$H$18:$J$750,3)) -> 8508262.1 | H37: =G37*-1*$E$7 -> 0 | I37: =G37-H37 -> 0 | J37: =IF(ISBLANK(F37)=TRUE,0,I36) -> 0 | K37: =IF($J$1=0,0,(IF(ISBLANK(F37)=FALSE,F37,VLOOKUP(D37,TAB_DATE1toNOOFDAYREM,8)))) -> 8508262.1 | L37: =IF($C37>CF_NoOfVals,1,IF($C37=CF_NoOfVals,1-(CF_Retention/2),1-CF_Retention)) -> 0.95 | M37: =IF(C37>CF_NoOfVals,0,IF(C37=1,K37*L37,(K37*L37)-(K36*L36))) -> 251691.22
C38: =+C37+1 -> 23 | D38: =D37+30.5 -> 45045.5 | E38: =IF(D38>$J$9,0,VLOOKUP(D38,CashFlowCalcs!$H$18:$J$750,3)) -> 8843115.9 | H38: =G38*-1*$E$7 -> 0 | I38: =G38-H38 -> 0 | J38: =IF(ISBLANK(F38)=TRUE,0,I37) -> 0 | K38: =IF($J$1=0,0,(IF(ISBLANK(F38)=FALSE,F38,VLOOKUP(D38,TAB_DATE1toNOOFDAYREM,8)))) -> 8843115.9 | L38: =IF($C38>CF_NoOfVals,1,IF($C38=CF_NoOfVals,1-(CF_Retention/2),1-CF_Retention)) -> 0.95 | M38: =IF(C38>CF_NoOfVals,0,IF(C38=1,K38*L38,(K38*L38)-(K37*L37))) -> 318111.12
C39: =+C38+1 -> 24 | D39: =D38+30.5 -> 45076 | E39: =IF(D39>$J$9,0,VLOOKUP(D39,CashFlowCalcs!$H$18:$J$750,3)) -> 9056819.4 | H39: =G39*-1*$E$7 -> 0 | I39: =G39-H39 -> 0 | J39: =IF(ISBLANK(F39)=TRUE,0,I38) -> 0 | K39: =IF($J$1=0,0,(IF(ISBLANK(F39)=FALSE,F39,VLOOKUP(D39,TAB_DATE1toNOOFDAYREM,8)))) -> 9056819.4 | L39: =IF($C39>CF_NoOfVals,1,IF($C39=CF_NoOfVals,1-(CF_Retention/2),1-CF_Retention)) -> 0.95 | M39: =IF(C39>CF_NoOfVals,0,IF(C39=1,K39*L39,(K39*L39)-(K38*L38))) -> 203018.4
C40: =+C39+1 -> 25 | D40: =D39+30.5 -> 45106.5 | E40: =IF(D40>$J$9,0,VLOOKUP(D40,CashFlowCalcs!$H$18:$J$750,3)) -> 9119824.3 | H40: =G40*-1*$E$7 -> 0 | I40: =G40-H40 -> 0 | J40: =IF(ISBLANK(F40)=TRUE,0,I39) -> 0 | K40: =IF($J$1=0,0,(IF(ISBLANK(F40)=FALSE,F40,VLOOKUP(D40,TAB_DATE1toNOOFDAYREM,8)))) -> 9119824.3 | L40: =IF($C40>CF_NoOfVals,1,IF($C40=CF_NoOfVals,1-(CF_Retention/2),1-CF_Retention)) -> 0.975 | M40: =IF(C40>CF_NoOfVals,0,IF(C40=1,K40*L40,(K40*L40)-(K39*L39))) -> 287850.18

Sheet CashFlowARA
C1: CONTRACT | E1: =#REF!&" "&#REF! -> #REF! | I1: Last/Current Valuation No : | J1: =#REF! -> #REF! | K1: =#REF! -> #REF!
C3: Current Final Account | F3: =CashFlowCalcs!G6 -> 9119824.3 | I3: Max.Value | J3: 11999999
I4: Min.Value | J4: 10000
C5: Contract Prd | E5: =ROUND(J8/4.33333,0) -> #REF! | F5: MONTHS | H5: Min No of Vals | J5: 2
C6: No Of Valuations | E6: 16 | H6: Max No of Vals | J6: 25
C7: Retention | E7: 0.03 | H7: Start On Site Date | J7: =#REF! -> #REF!
C8: Remaining Vals | E8: =E6-J1 -> #REF! | H8: Contract Period: | J8: =#REF! -> #REF! | K8: wks
C9: Defects Period | E9: 12 | F9: MONTHS | I9: Compl. Date | J9: =+J7+(J8*7)+1 -> #REF!
C13: Val | D13: Date | E13: Original Est Gross | F13: Act Gross | G13: Adj Est Gross | H13: Adj Est Retention | I13: Adj Est Nett | J13: Adj Est Prev | K13: Estimated/Actual Cash Flow (Gross) | L13: Actual /Forecast Paymnt LESS Retention
L14: =SUM(L16:L40) -> #REF!
C16: 1 | D16: 42132 | E16: =IF(D16>$J$9,0,VLOOKUP(D16,CashFlowCalcs!$H$18:$J$750,3)) -> #REF! | F16: 57914.65 | G16: =IF(ISBLANK(F16)=TRUE,0,F16) -> 57914.65 | H16: =G16*$E$7 -> 1737.4395 | I16: =G16-H16 -> 56177.211 | J16: 0 | K16: =IF(ISBLANK(F16)=FALSE,F16,VLOOKUP(D16,CashFlowCalcs!$H$17:$O$750,5)) -> 57914.65 | L16: =IF(ISBLANK(E16)=TRUE,0,IF(ISBLANK(F16)=FALSE,I16-I15,(K16-K15)*0.97)) -> 56177.211 | M16: =IF(C15<$J$1,0,CashFlowCalcs!$H$14*(($E$6-C16)/(CashFlowCalcs!$H$15-1))) -> #REF!
B17: J | C17: =+C16+1 -> 2 | D17: =D16+28+5 -> 42165 | E17: =IF(D17>$J$9,0,VLOOKUP(D17,CashFlowCalcs!$H$18:$J$750,3)) -> #REF! | F17: 182957.69 | G17: =IF(ISBLANK(F17)=TRUE,0,F17) -> 182957.69 | H17: =G17*$E$7 -> 5488.7307 | I17: =G17-H17 -> 177468.96 | J17: =IF(ISBLANK(F17)=TRUE,0,I16) -> 56177.211 | K17: =IF(ISBLANK(F17)=FALSE,F17,VLOOKUP(D17,CashFlowCalcs!$H$17:$O$750,5)) -> 182957.69 | L17: =IF(ISBLANK(E17)=TRUE,0,IF(ISBLANK(F17)=FALSE,I17-I16,(K17-K16)*0.97)) -> 121291.75 | M17: =IF(C16<$J$1,0,CashFlowCalcs!$H$14*(($E$6-C17)/(CashFlowCalcs!$H$15-1))) -> #REF!
B18: K | C18: =+C17+1 -> 3 | D18: =D17+28+2 -> 42195 | E18: =IF(D18>$J$9,0,VLOOKUP(D18,CashFlowCalcs!$H$18:$J$750,3)) -> #REF! | F18: 267232.77 | G18: =IF(ISBLANK(F18)=TRUE,0,F18) -> 267232.77 | H18: =G18*$E$7 -> 8016.9831 | I18: =G18-H18 -> 259215.79 | J18: =IF(ISBLANK(F18)=TRUE,0,I17) -> 177468.96 | K18: =IF(ISBLANK(F18)=FALSE,F18,VLOOKUP(D18,CashFlowCalcs!$H$17:$O$750,5)) -> 267232.77 | L18: =IF(ISBLANK(E18)=TRUE,0,IF(ISBLANK(F18)=FALSE,I18-I17,(K18-K17)*0.97)) -> 81746.828 | M18: =IF(C17<$J$1,0,CashFlowCalcs!$H$14*(($E$6-C18)/(CashFlowCalcs!$H$15-1))) -> #REF!
B19: L | C19: =+C18+1 -> 4 | D19: =D18+27 -> 42222 | E19: =IF(D19>$J$9,0,VLOOKUP(D19,CashFlowCalcs!$H$18:$J$750,3)) -> #REF! | F19: 444030.77 | G19: =IF(ISBLANK(F19)=TRUE,0,F19) -> 444030.77 | H19: =G19*$E$7 -> 13320.923 | I19: =G19-H19 -> 430709.85 | J19: =IF(ISBLANK(F19)=TRUE,0,I18) -> 259215.79 | K19: =IF(ISBLANK(F19)=FALSE,F19,VLOOKUP(D19,CashFlowCalcs!$H$17:$O$750,5)) -> 444030.77 | L19: =IF(ISBLANK(E19)=TRUE,0,IF(ISBLANK(F19)=FALSE,I19-I18,(K19-K18)*0.97)) -> 171494.06 | M19: =CashFlowCalcs!$H$14*(($E$6-C19)/(CashFlowCalcs!$H$15-1)) -> #REF!
B20: M | C20: =+C19+1 -> 5 | D20: =ROUND(D19+30.5,0)+4 -> 42257 | E20: =IF(D20>$J$9,0,VLOOKUP(D20,CashFlowCalcs!$H$18:$J$750,3)) -> #REF! | F20: =[0]!ACT_GROSS -> #REF! | G20: =IF(ISBLANK(F20)=TRUE,0,F20) -> #REF! | H20: =G20*$E$7 -> #REF! | I20: =G20-H20 -> #REF! | J20: =IF(ISBLANK(F20)=TRUE,0,I19) -> 430709.85 | K20: =IF(ISBLANK(F20)=FALSE,F20,VLOOKUP(D20,CashFlowCalcs!$H$17:$O$750,5)) -> #REF! | L20: =IF(ISBLANK(E20)=TRUE,0,IF(ISBLANK(F20)=FALSE,I20-I19,(K20-K19)*0.97)) -> #REF! | M20: =CashFlowCalcs!$H$14*(($E$6-C20)/(CashFlowCalcs!$H$15-1)) -> #REF!
B21: N | C21: =+C20+1 -> 6 | D21: =ROUND(D20+30.5,0)+4 -> 42292 | E21: =IF(D21>$J$9,0,VLOOKUP(D21,CashFlowCalcs!$H$18:$J$750,3)) -> #REF! | F21: =#REF! -> #REF! | G21: =IF(ISBLANK(F21)=TRUE,0,F21) -> #REF! | H21: =G21*$E$7 -> #REF! | I21: =G21-H21 -> #REF! | J21: =IF(ISBLANK(F21)=TRUE,0,I20) -> #REF! | K21: =IF(ISBLANK(F21)=FALSE,F21,VLOOKUP(D21,CashFlowCalcs!$H$17:$O$750,5)) -> #REF! | L21: =IF(ISBLANK(E21)=TRUE,0,IF(ISBLANK(F21)=FALSE,I21-I20,(K21-K20)*0.97)) -> #REF! | M21: =CashFlowCalcs!$H$14*(($E$6-C21)/(CashFlowCalcs!$H$15-1)) -> #REF!
B22: O | C22: =+C21+1 -> 7 | D22: =ROUND(D21+30.5,0)-3 -> 42320 | E22: =IF(D22>$J$9,0,VLOOKUP(D22,CashFlowCalcs!$H$18:$J$750,3)) -> #REF! | G22: =IF(ISBLANK(F22)=TRUE,0,F22) -> 0 | H22: =G22*$E$7 -> 0 | I22: =G22-H22 -> 0 | J22: =IF(ISBLANK(F22)=TRUE,0,I21) -> 0 | K22: =IF(ISBLANK(F22)=FALSE,F22,VLOOKUP(D22,CashFlowCalcs!$H$17:$O$750,5)) -> #N/A | L22: =IF(ISBLANK(E22)=TRUE,0,IF(ISBLANK(F22)=FALSE,I22-I21,(K22-K21)*0.97)) -> #N/A | M22: =CashFlowCalcs!$H$14*(($E$6-C22)/(CashFlowCalcs!$H$15-1)) -> #REF!
B23: P | C23: =+C22+1 -> 8 | D23: =ROUND(D22+30.5,0)-3 -> 42348 | E23: =IF(D23>$J$9,0,VLOOKUP(D23,CashFlowCalcs!$H$18:$J$750,3)) -> #REF! | G23: =IF(ISBLANK(F23)=TRUE,0,F23) -> 0 | H23: =G23*$E$7 -> 0 | I23: =G23-H23 -> 0 | J23: =IF(ISBLANK(F23)=TRUE,0,I22) -> 0 | K23: =IF(ISBLANK(F23)=FALSE,F23,VLOOKUP(D23,CashFlowCalcs!$H$17:$O$750,5)) -> #N/A | L23: =IF(ISBLANK(E23)=TRUE,0,IF(ISBLANK(F23)=FALSE,I23-I22,(K23-K22)*0.97)) -> #N/A | M23: =CashFlowCalcs!$H$14*(($E$6-C23)/(CashFlowCalcs!$H$15-1)) -> #REF!
B24: Q | C24: =+C23+1 -> 9 | D24: =ROUND(D23+30.5,0) -> 42379 | E24: =IF(D24>$J$9,0,VLOOKUP(D24,CashFlowCalcs!$H$18:$J$750,3)) -> #REF! | G24: =IF(ISBLANK(F24)=TRUE,0,F24) -> 0 | H24: =G24*$E$7 -> 0 | I24: =G24-H24 -> 0 | J24: =IF(ISBLANK(F24)=TRUE,0,I23) -> 0 | K24: =IF(ISBLANK(F24)=FALSE,F24,VLOOKUP(D24,CashFlowCalcs!$H$17:$O$750,5)) -> #N/A | L24: =IF(ISBLANK(E24)=TRUE,0,IF(ISBLANK(F24)=FALSE,I24-I23,(K24-K23)*0.97)) -> #N/A | M24: =CashFlowCalcs!$H$14*(($E$6-C24)/(CashFlowCalcs!$H$15-1)) -> #REF!
B25: R | C25: =+C24+1 -> 10 | D25: =ROUND(D24+30.5,0) -> 42410 | E25: =IF(D25>$J$9,0,VLOOKUP(D25,CashFlowCalcs!$H$18:$J$750,3)) -> #REF! | G25: =IF(ISBLANK(F25)=TRUE,0,F25) -> 0 | H25: =G25*$E$7 -> 0 | I25: =G25-H25 -> 0 | J25: =IF(ISBLANK(F25)=TRUE,0,I24) -> 0 | K25: =IF(ISBLANK(F25)=FALSE,F25,VLOOKUP(D25,CashFlowCalcs!$H$17:$O$750,5)) -> #N/A | L25: =IF(ISBLANK(E25)=TRUE,0,IF(ISBLANK(F25)=FALSE,I25-I24,(K25-K24)*0.97)) -> #N/A | M25: =CashFlowCalcs!$H$14*(($E$6-C25)/(CashFlowCalcs!$H$15-1)) -> #REF!
B26: S | C26: =+C25+1 -> 11 | D26: =ROUND(D25+30.5,0) -> 42441 | E26: =IF(D26>$J$9,0,VLOOKUP(D26,CashFlowCalcs!$H$18:$J$750,3)) -> #REF! | G26: =IF(ISBLANK(F26)=TRUE,0,F26) -> 0 | H26: =G26*$E$7 -> 0 | I26: =G26-H26 -> 0 | J26: =IF(ISBLANK(F26)=TRUE,0,I25) -> 0 | K26: =IF(ISBLANK(F26)=FALSE,F26,VLOOKUP(D26,CashFlowCalcs!$H$17:$O$750,5)) -> #N/A | L26: =IF(ISBLANK(E26)=TRUE,0,IF(ISBLANK(F26)=FALSE,I26-I25,(K26-K25)*0.97)) -> #N/A | M26: =CashFlowCalcs!$H$14*(($E$6-C26)/(CashFlowCalcs!$H$15-1)) -> #REF!
B27: T | C27: =+C26+1 -> 12 | D27: =ROUND(D26+30.5,0) -> 42472 | E27: =IF(D27>$J$9,0,VLOOKUP(D27,CashFlowCalcs!$H$18:$J$750,3)) -> #REF! | G27: =IF(ISBLANK(F27)=TRUE,0,F27) -> 0 | H27: =G27*$E$7 -> 0 | I27: =G27-H27 -> 0 | J27: =IF(ISBLANK(F27)=TRUE,0,I26) -> 0 | K27: =IF(ISBLANK(F27)=FALSE,F27,VLOOKUP(D27,CashFlowCalcs!$H$17:$O$750,5)) -> #N/A | L27: =IF(ISBLANK(E27)=TRUE,0,IF(ISBLANK(F27)=FALSE,I27-I26,(K27-K26)*0.97)) -> #N/A | M27: =CashFlowCalcs!$H$14*(($E$6-C27)/(CashFlowCalcs!$H$15-1)) -> #REF!
B28: U | C28: =+C27+1 -> 13 | D28: =ROUND(D27+30.5,0) -> 42503 | E28: =IF(D28>$J$9,0,VLOOKUP(D28,CashFlowCalcs!$H$18:$J$750,3)) -> #REF! | G28: =IF(ISBLANK(F28)=TRUE,0,F28) -> 0 | H28: =G28*$E$7 -> 0 | I28: =G28-H28 -> 0 | J28: =IF(ISBLANK(F28)=TRUE,0,I27) -> 0 | K28: =IF(ISBLANK(F28)=FALSE,F28,VLOOKUP(D28,CashFlowCalcs!$H$17:$O$750,5)) -> #N/A | L28: =IF(ISBLANK(E28)=TRUE,0,IF(ISBLANK(F28)=FALSE,I28-I27,(K28-K27)*0.97)) -> #N/A | M28: =CashFlowCalcs!$H$14*(($E$6-C28)/(CashFlowCalcs!$H$15-1)) -> #REF!
B29: V | C29: =+C28+1 -> 14 | D29: =ROUND(D28+30.5,0) -> 42534 | E29: =IF(D29>$J$9,0,VLOOKUP(D29,CashFlowCalcs!$H$18:$J$750,3)) -> #REF! | G29: =IF(ISBLANK(F29)=TRUE,0,F29) -> 0 | H29: =G29*$E$7 -> 0 | I29: =G29-H29 -> 0 | J29: =IF(ISBLANK(F29)=TRUE,0,I28) -> 0 | K29: =IF(ISBLANK(F29)=FALSE,F29,VLOOKUP(D29,CashFlowCalcs!$H$17:$O$750,5)) -> #N/A | L29: =IF(ISBLANK(E29)=TRUE,0,IF(ISBLANK(F29)=FALSE,I29-I28,(K29-K28)*0.97)) -> #N/A | M29: =CashFlowCalcs!$H$14*(($E$6-C29)/(CashFlowCalcs!$H$15-1)) -> #REF!
B30: W | C30: =+C29+1 -> 15 | D30: =ROUND(D29+30.5,0) -> 42565 | E30: =IF(D30>$J$9,0,VLOOKUP(D30,CashFlowCalcs!$H$18:$J$750,3)) -> #REF! | G30: =IF(ISBLANK(F30)=TRUE,0,F30) -> 0 | H30: =G30*$E$7 -> 0 | I30: =G30-H30 -> 0 | J30: =IF(ISBLANK(F30)=TRUE,0,I29) -> 0 | K30: =IF(ISBLANK(F30)=FALSE,F30,VLOOKUP(D30,CashFlowCalcs!$H$17:$O$750,5)) -> #N/A | L30: =IF(ISBLANK(E30)=TRUE,0,IF(ISBLANK(F30)=FALSE,I30-I29,(K30-K29)*0.97)) -> #N/A | M30: =CashFlowCalcs!$H$14*(($E$6-C30)/(CashFlowCalcs!$H$15-1)) -> #REF!
B31: X | C31: =+C30+1 -> 16 | D31: =ROUND(D30+30.5,0)-9-5 -> 42582 | E31: =IF(D31>$J$9,0,VLOOKUP(D31,CashFlowCalcs!$H$18:$J$750,3)) -> #REF! | G31: =IF(ISBLANK(F31)=TRUE,0,F31) -> 0 | H31: =G31*$E$7 -> 0 | I31: =G31-H31 -> 0 | J31: =IF(ISBLANK(F31)=TRUE,0,I30) -> 0 | K31: =IF(ISBLANK(F31)=FALSE,F31,VLOOKUP(D31,CashFlowCalcs!$H$17:$O$750,5)) -> #N/A | L31: =IF(ISBLANK(E31)=TRUE,0,IF(ISBLANK(F31)=FALSE,I31-I30,(K31-K30)*0.97)) -> #N/A | M31: =CashFlowCalcs!$H$14*(($E$6-C31)/(CashFlowCalcs!$H$15-1)) -> #REF!
B32: Y | C32: =+C31+1 -> 17 | D32: =ROUND(D31+30.5,0) -> 42613 | E32: =IF(D32>$J$9,0,VLOOKUP(D32,CashFlowCalcs!$H$18:$J$750,3)) -> #REF! | G32: =IF(ISBLANK(F32)=TRUE,0,F32) -> 0 | H32: =G32*-1*$E$7 -> 0 | I32: =IF(C32<=$E$5,E32+H32,0) -> #REF! | J32: =IF(ISBLANK(F32)=TRUE,0,I31) -> 0 | K32: =IF(ISBLANK(F32)=FALSE,F32,VLOOKUP(D32,CashFlowCalcs!$H$17:$O$750,5)) -> #N/A | M32: =CashFlowCalcs!$H$14*(($E$6-C32)/(CashFlowCalcs!$H$15-1)) -> #REF!
B33: Z | C33: =+C32+1 -> 18 | D33: =ROUND(D32+30.5,0) -> 42644 | E33: =IF(D33>$J$9,0,VLOOKUP(D33,CashFlowCalcs!$H$18:$J$750,3)) -> #REF! | G33: =IF(ISBLANK(F33)=TRUE,0,F33) -> 0 | H33: =G33*-1*$E$7 -> 0 | I33: =IF(C33<=$E$5,E33+H33,0) -> #REF! | J33: =IF(ISBLANK(F33)=TRUE,0,I32) -> 0 | K33: =IF(ISBLANK(F33)=FALSE,F33,VLOOKUP(D33,CashFlowCalcs!$H$17:$O$750,5)) -> #N/A | M33: =CashFlowCalcs!$H$14*(($E$6-C33)/(CashFlowCalcs!$H$15-1)) -> #REF!
B34: AA | C34: =+C33+1 -> 19 | D34: =ROUND(D33+30.5,0) -> 42675 | E34: =IF(D34>$J$9,0,VLOOKUP(D34,CashFlowCalcs!$H$18:$J$750,3)) -> #REF! | G34: =IF(ISBLANK(F34)=TRUE,0,F34) -> 0 | H34: =G34*-1*$E$7 -> 0 | I34: =IF(C34<=$E$5,E34+H34,0) -> #REF! | J34: =IF(ISBLANK(F34)=TRUE,0,I33) -> 0 | K34: =IF(ISBLANK(F34)=FALSE,F34,VLOOKUP(D34,CashFlowCalcs!$H$17:$O$750,5)) -> #N/A | M34: =CashFlowCalcs!$H$14*(($E$6-C34)/(CashFlowCalcs!$H$15-1)) -> #REF!
B35: AB | C35: =+C34+1 -> 20 | D35: =ROUND(D34+30.5,0) -> 42706 | E35: =IF(D35>$J$9,0,VLOOKUP(D35,CashFlowCalcs!$H$18:$J$750,3)) -> #REF! | G35: =IF(ISBLANK(F35)=TRUE,0,F35) -> 0 | H35: =G35*-1*$E$7 -> 0 | I35: =IF(C35<=$E$5,E35+H35,0) -> #REF! | J35: =IF(ISBLANK(F35)=TRUE,0,I34) -> 0 | K35: =IF(ISBLANK(F35)=FALSE,F35,VLOOKUP(D35,CashFlowCalcs!$H$17:$O$750,5)) -> #N/A | M35: =CashFlowCalcs!$H$14*(($E$6-C35)/(CashFlowCalcs!$H$15-1)) -> #REF!
B36: AC | C36: =+C35+1 -> 21 | D36: =ROUND(D35+30.5,0) -> 42737 | E36: =IF(D36>$J$9,0,VLOOKUP(D36,CashFlowCalcs!$H$18:$J$750,3)) -> #REF! | G36: =IF(ISBLANK(F36)=TRUE,0,F36) -> 0 | H36: =G36*-1*$E$7 -> 0 | I36: =IF(C36<=$E$5,E36+H36,0) -> #REF! | J36: =IF(ISBLANK(F36)=TRUE,0,I35) -> 0 | K36: =IF(ISBLANK(F36)=FALSE,F36,VLOOKUP(D36,CashFlowCalcs!$H$17:$O$750,5)) -> #N/A | M36: =CashFlowCalcs!$H$14*(($E$6-C36)/(CashFlowCalcs!$H$15-1)) -> #REF!
B37: AD | C37: =+C36+1 -> 22 | D37: =ROUND(D36+30.5,0) -> 42768 | E37: =IF(D37>$J$9,0,VLOOKUP(D37,CashFlowCalcs!$H$18:$J$750,3)) -> #REF! | G37: =IF(ISBLANK(F37)=TRUE,0,F37) -> 0 | H37: =G37*-1*$E$7 -> 0 | I37: =IF(C37<=$E$5,E37+H37,0) -> #REF! | J37: =IF(ISBLANK(F37)=TRUE,0,I36) -> 0 | K37: =IF(ISBLANK(F37)=FALSE,F37,VLOOKUP(D37,CashFlowCalcs!$H$17:$O$750,5)) -> #N/A | M37: =CashFlowCalcs!$H$14*(($E$6-C37)/(CashFlowCalcs!$H$15-1)) -> #REF!
B38: AE | C38: =+C37+1 -> 23 | D38: =ROUND(D37+30.5,0) -> 42799 | E38: =IF(D38>$J$9,0,VLOOKUP(D38,CashFlowCalcs!$H$18:$J$750,3)) -> #REF! | G38: =IF(ISBLANK(F38)=TRUE,0,F38) -> 0 | H38: =G38*-1*$E$7 -> 0 | I38: =IF(C38<=$E$5,E38+H38,0) -> #REF! | J38: =IF(ISBLANK(F38)=TRUE,0,I37) -> 0 | K38: =IF(ISBLANK(F38)=FALSE,F38,VLOOKUP(D38,CashFlowCalcs!$H$17:$O$750,5)) -> #N/A | M38: =CashFlowCalcs!$H$14*(($E$6-C38)/(CashFlowCalcs!$H$15-1)) -> #REF!
B39: AF | C39: =+C38+1 -> 24 | D39: =ROUND(D38+30.5,0) -> 42830 | E39: =IF(D39>$J$9,0,VLOOKUP(D39,CashFlowCalcs!$H$18:$J$750,3)) -> #REF! | G39: =IF(ISBLANK(F39)=TRUE,0,F39) -> 0 | H39: =G39*-1*$E$7 -> 0 | I39: =IF(C39<=$E$5,E39+H39,0) -> #REF! | J39: =IF(ISBLANK(F39)=TRUE,0,I38) -> 0 | K39: =IF(ISBLANK(F39)=FALSE,F39,VLOOKUP(D39,CashFlowCalcs!$H$17:$O$750,5)) -> #N/A | M39: =CashFlowCalcs!$H$14*(($E$6-C39)/(CashFlowCalcs!$H$15-1)) -> #REF!
B40: AG | C40: =+C39+1 -> 25 | D40: =ROUND(D39+30.5,0) -> 42861 | E40: =IF(D40>$J$9,0,VLOOKUP(D40,CashFlowCalcs!$H$18:$J$750,3)) -> #REF! | G40: =IF(ISBLANK(F40)=TRUE,0,F40) -> 0 | H40: =G40*-1*$E$7 -> 0 | I40: =IF(C40<=$E$5,E40+H40,0) -> #REF! | J40: =IF(ISBLANK(F40)=TRUE,0,I39) -> 0 | K40: =IF(ISBLANK(F40)=FALSE,F40,VLOOKUP(D40,CashFlowCalcs!$H$17:$O$750,5)) -> #N/A | M40: =CashFlowCalcs!$H$14*(($E$6-C40)/(CashFlowCalcs!$H$15-1)) -> #REF!

Sheet CashFlowCalcs
D1: Contract Start Date | G1: =StartOnSite -> 44368 | H1: Finish Date | I1: =CompOnSite -> 45131 | J1: Days | K1: =I1-G1-1 -> 762 | N1: * based on Normal Distribution Curve
D2: Total Contract Length in Days In all periods) | G2: =I1-G1 -> 763 | I2: =VLOOKUP($I$1,$E$17:$Q$750,13) -> 505
D3: Mobilisation Period in Days | G3: Start Date | H3: =G1 -> 44368 | I3: Days | J3: =H4-H3 -> 0
D4: Twilight Period | G4: Start Date | H4: =H3 -> 44368 | I4: Days | J4: =H5-H4 -> 0 | N4: Complete
D5: On Site Period | G5: Start Date | H5: =H4 -> 44368 | I5: Days | J5: =VLOOKUP($I$1,TAB_DATE1_DAYNO,9)-VLOOKUP($H$5,TAB_DATE1_DAYNO,9)+1 -> 505 | N5: Leave !
D6: Contract Value (or Final Account) | G6: =CF_ContractSum -> 9119824.3 | H6: Current/Last Val & Date | I6: =CashFlow!J1 -> 25 | J6: =VLOOKUP(I6,CashFlow!$C$16:$D$40,2) -> 45106.5 | K6: =VLOOKUP($J$6,$E$17:$Q$750,13) -> 505
D7: Less Work Before Main Start (L) | I7: Est Val | J7: Act Val | L7: Original Est Left | M7: Act Left | N7: %
D8: Used In "S" Curve (S) | G8: =G6-G7 -> 9119824.3 | I8: =VLOOKUP($I$6,CashFlow!$C$16:$K$40,3) -> 9119824.3 | J8: =VLOOKUP($I$6,CashFlow!$C$16:$K$40,4) -> 0 | L8: =$G6-VLOOKUP($I6,CashFlow!$C$16:$K$40,3) -> 0 | M8: =$G6-VLOOKUP($I6,CashFlow!$C$16:$K$40,4) -> 9119824.3 | N8: =M8/L8 -> #DIV/0!
I9: Diff | J9: Per Day | L9: Diffence | M9: =M8-L8 -> 9119824.3 | R9: =J6+1 -> 45107.5
I10: =J8-I8 -> -9119824.3 | J10: =I10/(I1-J6) -> -372237.72
D11: Amount Outstanding | F11: =CashFlowARA!$F$3 -> 9119824.3 | G11: =MAX(CashFlow!$F$16:$F$40) -> 0 | H11: =F11-G11 -> 9119824.3
D12: Predicted Outstanding | F12: =CashFlow!$F$3 -> 9119824.3 | G12: =VLOOKUP(#REF!,CashFlow!C$16:G$40,3) -> #REF! | H12: =F12-G12 -> #REF!
D13: % adjustment
F14: Difference | H14: =H12-H11 -> #REF! | I14: =IF(H14>0,"AHEAD","BEHIND") -> #REF!
F15: Months Remaining | H15: =CashFlowARA!E6-CashFlowARA!J1 -> #REF!
D16: A | E16: B | F16: C | G16: D = Normdist of C | H16: E = B | I16: F = D / A | J16: G = (F x S) + L | K16: H | L16: I | M16: J | N16: K | O16: L
A17: Day | B17: Val No | C17: Holiday (Y/N) | D17: Day No (On site Period) | E17: Date1 | F17: X axis divided by On Site Period (From 3 to 0)* | G17: Y axis (Normal Distribution) from 3 to 0 | H17: Date | I17: Factor | J17: Original Gross Val at Start | K17: Running Adjustment | L17: Revised Estimated Gross Val | M17: Day No (As Col A) | N17: Difference | O17: No of Days remaining as Fraction | P17: Actual Val | Q17: DayNo1 | R17: Factor To Add | S17: Proportion Left
A18: Mon | B18: =SUMIFS(CashFlow!$C$16:$C$40,CashFlow!$D$16:$D$40,CashFlowCalcs!$E18) -> 0 | C18: =IF(LEFT(A18,1)="S","Y","N") -> N | D18: 1 | E18: =H5 -> 44368 | F18: -3 | G18: =NORMDIST(F18,0,1,0) -> 0.0044318484 | H18: =H5 -> 44368 | I18: =G18/VLOOKUP($J$5,$D$18:$G$750,4) -> 0.011109774 | J18: =(I18*$G$8)+$G$7 -> 101319.19 | K18: =N18*O18 -> 0 | L18: =IF(AND(E18>=$H$3,P18=0,E18<=$I$1),J18+K18,0) -> 101319.19 | M18: =D18 -> 1 | N18: =IF(E18<$J$6,0,IF(E18>=$I$1,0,1))*$I$10 -> 0 | O18: =IF(E18<$J$6,0,IF(E18>=$I$1,0,($J$5-D18)/($J$5-VLOOKUP($J$6,$H$17:$M$750,6)))) -> 0 | P18: 0 | Q18: =D18 -> 1 | R18: =IF(OR(E18<$J$6+1,E18>$I$1),0,1) -> 0
A19: Tues | B19: =IF(SUMIFS(CashFlow!$C$16:$C$40,CashFlow!$D$16:$D$40,CashFlowCalcs!$E19)>0,SUMIFS(CashFlow!$C$16:$C$40,CashFlow!$D$16:$D$40,CashFlowCalcs!$E19),B18) -> 0 | C19: =IF(LEFT(A19,1)="S","Y","N") -> N | D19: =IF($C19="N",$D18+1,$D18) -> 2 | E19: =E18+1 -> 44369 | F19: =$F$18+((((D19)/($J$5+2)*3))) -> -2.9881657 | G19: =NORMDIST(F19,0,1,0) -> 0.004591697 | H19: =H18+1 -> 44369 | I19: =G19/VLOOKUP($J$5,$D$18:$G$750,4) -> 0.011510484 | J19: =(I19*$G$8)+$G$7 -> 104973.59 | K19: =N19*O19 -> 0 | L19: =IF(AND(E19>=$H$3,P19=0,E19<=$I$1),J19+K19,0) -> 104973.59 | M19: =D19 -> 2 | N19: =IF(E19<$J$6,0,IF(E19>=$I$1,0,1))*$I$10 -> 0 | O19: =IF(E19<$J$6,0,IF(E19>=$I$1,0,($J$5-D19)/($J$5-VLOOKUP($J$6,$H$17:$M$750,6)))) -> 0 | P19: 0 | Q19: =D19 -> 2 | R19: =IF(OR(E19<$J$6+1,E19>$I$1),0,1) -> 0
A20: Wed | B20: =IF(SUMIFS(CashFlow!$C$16:$C$40,CashFlow!$D$16:$D$40,CashFlowCalcs!$E20)>0,SUMIFS(CashFlow!$C$16:$C$40,CashFlow!$D$16:$D$40,CashFlowCalcs!$E20),B19) -> 0 | C20: =IF(LEFT(A20,1)="S","Y","N") -> N | D20: =IF($C20="N",$D19+1,$D19) -> 3 | E20: =E19+1 -> 44370 | F20: =$F$18+((((D20)/($J$5+2)*3))) -> -2.9822485 | G20: =NORMDIST(F20,0,1,0) -> 0.0046735251 | H20: =H19+1 -> 44370 | I20: =G20/VLOOKUP($J$5,$D$18:$G$750,4) -> 0.011715611 | J20: =(I20*$G$8)+$G$7 -> 106844.31 | K20: =N20*O20 -> 0 | L20: =IF(AND(E20>=$H$3,P20=0,E20<=$I$1),J20+K20,0) -> 106844.31 | M20: =D20 -> 3 | N20: =IF(E20<$J$6,0,IF(E20>=$I$1,0,1))*$I$10 -> 0 | O20: =IF(E20<$J$6,0,IF(E20>=$I$1,0,($J$5-D20)/($J$5-VLOOKUP($J$6,$H$17:$M$750,6)))) -> 0 | P20: 0 | Q20: =D20 -> 3 | R20: =IF(OR(E20<$J$6+1,E20>$I$1),0,1) -> 0
A21: Thu | B21: =IF(SUMIFS(CashFlow!$C$16:$C$40,CashFlow!$D$16:$D$40,CashFlowCalcs!$E21)>0,SUMIFS(CashFlow!$C$16:$C$40,CashFlow!$D$16:$D$40,CashFlowCalcs!$E21),B20) -> 0 | C21: =IF(LEFT(A21,1)="S","Y","N") -> N | D21: =IF($C21="N",$D20+1,$D20) -> 4 | E21: =E20+1 -> 44371 | F21: =$F$18+((((D21)/($J$5+2)*3))) -> -2.9763314 | G21: =NORMDIST(F21,0,1,0) -> 0.0047566449 | H21: =H20+1 -> 44371 | I21: =G21/VLOOKUP($J$5,$D$18:$G$750,4) -> 0.011923975 | J21: =(I21*$G$8)+$G$7 -> 108744.56 | K21: =N21*O21 -> 0 | L21: =IF(AND(E21>=$H$3,P21=0,E21<=$I$1),J21+K21,0) -> 108744.56 | M21: =D21 -> 4 | N21: =IF(E21<$J$6,0,IF(E21>=$I$1,0,1))*$I$10 -> 0 | O21: =IF(E21<$J$6,0,IF(E21>=$I$1,0,($J$5-D21)/($J$5-VLOOKUP($J$6,$H$17:$M$750,6)))) -> 0 | P21: 0 | Q21: =D21 -> 4 | R21: =IF(OR(E21<$J$6+1,E21>$I$1),0,1) -> 0
A22: Fri | B22: =IF(SUMIFS(CashFlow!$C$16:$C$40,CashFlow!$D$16:$D$40,CashFlowCalcs!$E22)>0,SUMIFS(CashFlow!$C$16:$C$40,CashFlow!$D$16:$D$40,CashFlowCalcs!$E22),B21) -> 0 | C22: =IF(LEFT(A22,1)="S","Y","N") -> N | D22: =IF($C22="N",$D21+1,$D21) -> 5 | E22: =E21+1 -> 44372 | F22: =$F$18+((((D22)/($J$5+2)*3))) -> -2.9704142 | G22: =NORMDIST(F22,0,1,0) -> 0.0048410734 | H22: =H21+1 -> 44372 | I22: =G22/VLOOKUP($J$5,$D$18:$G$750,4) -> 0.012135621 | J22: =(I22*$G$8)+$G$7 -> 110674.73 | K22: =N22*O22 -> 0 | L22: =IF(AND(E22>=$H$3,P22=0,E22<=$I$1),J22+K22,0) -> 110674.73 | M22: =D22 -> 5 | N22: =IF(E22<$J$6,0,IF(E22>=$I$1,0,1))*$I$10 -> 0 | O22: =IF(E22<$J$6,0,IF(E22>=$I$1,0,($J$5-D22)/($J$5-VLOOKUP($J$6,$H$17:$M$750,6)))) -> 0 | P22: 0 | Q22: =D22 -> 5 | R22: =IF(OR(E22<$J$6+1,E22>$I$1),0,1) -> 0
A23: Sat | B23: =IF(SUMIFS(CashFlow!$C$16:$C$40,CashFlow!$D$16:$D$40,CashFlowCalcs!$E23)>0,SUMIFS(CashFlow!$C$16:$C$40,CashFlow!$D$16:$D$40,CashFlowCalcs!$E23),B22) -> 0 | C23: =IF(LEFT(A23,1)="S","Y","N") -> Y | D23: =IF($C23="N",$D22+1,$D22) -> 5 | E23: =E22+1 -> 44373 | F23: =$F$18+((((D23)/($J$5+2)*3))) -> -2.9704142 | G23: =NORMDIST(F23,0,1,0) -> 0.0048410734 | H23: =H22+1 -> 44373 | I23: =G23/VLOOKUP($J$5,$D$18:$G$750,4) -> 0.012135621 | J23: =(I23*$G$8)+$G$7 -> 110674.73 | K23: =N23*O23 -> 0 | L23: =IF(AND(E23>=$H$3,P23=0,E23<=$I$1),J23+K23,0) -> 110674.73 | M23: =D23 -> 5 | N23: =IF(E23<$J$6,0,IF(E23>=$I$1,0,1))*$I$10 -> 0 | O23: =IF(E23<$J$6,0,IF(E23>=$I$1,0,($J$5-D23)/($J$5-VLOOKUP($J$6,$H$17:$M$750,6)))) -> 0 | P23: 0 | Q23: =D23 -> 5 | R23: =IF(OR(E23<$J$6+1,E23>$I$1),0,1) -> 0
A24: Sun | B24: =IF(SUMIFS(CashFlow!$C$16:$C$40,CashFlow!$D$16:$D$40,CashFlowCalcs!$E24)>0,SUMIFS(CashFlow!$C$16:$C$40,CashFlow!$D$16:$D$40,CashFlowCalcs!$E24),B23) -> 0 | C24: =IF(LEFT(A24,1)="S","Y","N") -> Y | D24: =IF($C24="N",$D23+1,$D23) -> 5 | E24: =E23+1 -> 44374 | F24: =$F$18+((((D24)/($J$5+2)*3))) -> -2.9704142 | G24: =NORMDIST(F24,0,1,0) -> 0.0048410734 | H24: =H23+1 -> 44374 | I24: =G24/VLOOKUP($J$5,$D$18:$G$750,4) -> 0.012135621 | J24: =(I24*$G$8)+$G$7 -> 110674.73 | K24: =N24*O24 -> 0 | L24: =IF(AND(E24>=$H$3,P24=0,E24<=$I$1),J24+K24,0) -> 110674.73 | M24: =D24 -> 5 | N24: =IF(E24<$J$6,0,IF(E24>=$I$1,0,1))*$I$10 -> 0 | O24: =IF(E24<$J$6,0,IF(E24>=$I$1,0,($J$5-D24)/($J$5-VLOOKUP($J$6,$H$17:$M$750,6)))) -> 0 | P24: 0 | Q24: =D24 -> 5 | R24: =IF(OR(E24<$J$6+1,E24>$I$1),0,1) -> 0
A25: =A18 -> Mon | B25: =IF(SUMIFS(CashFlow!$C$16:$C$40,CashFlow!$D$16:$D$40,CashFlowCalcs!$E25)>0,SUMIFS(CashFlow!$C$16:$C$40,CashFlow!$D$16:$D$40,CashFlowCalcs!$E25),B24) -> 0 | C25: =IF(LEFT(A25,1)="S","Y","N") -> N | D25: =IF($C25="N",$D24+1,$D24) -> 6 | E25: =E24+1 -> 44375 | F25: =$F$18+((((D25)/($J$5+2)*3))) -> -2.964497 | G25: =NORMDIST(F25,0,1,0) -> 0.0049268281 | H25: =H24+1 -> 44375 | I25: =G25/VLOOKUP($J$5,$D$18:$G$750,4) -> 0.012350591 | J25: =(I25*$G$8)+$G$7 -> 112635.22 | K25: =N25*O25 -> 0 | L25: =IF(AND(E25>=$H$3,P25=0,E25<=$I$1),J25+K25,0) -> 112635.22 | M25: =D25 -> 6 | N25: =IF(E25<$J$6,0,IF(E25>=$I$1,0,1))*$I$10 -> 0 | O25: =IF(E25<$J$6,0,IF(E25>=$I$1,0,($J$5-D25)/($J$5-VLOOKUP($J$6,$H$17:$M$750,6)))) -> 0 | P25: 0 | Q25: =D25 -> 6 | R25: =IF(OR(E25<$J$6+1,E25>$I$1),0,1) -> 0
A26: =A19 -> Tues | B26: =IF(SUMIFS(CashFlow!$C$16:$C$40,CashFlow!$D$16:$D$40,CashFlowCalcs!$E26)>0,SUMIFS(CashFlow!$C$16:$C$40,CashFlow!$D$16:$D$40,CashFlowCalcs!$E26),B25) -> 0 | C26: =IF(LEFT(A26,1)="S","Y","N") -> N | D26: =IF($C26="N",$D25+1,$D25) -> 7 | E26: =E25+1 -> 44376 | F26: =$F$18+((((D26)/($J$5+2)*3))) -> -2.9585799 | G26: =NORMDIST(F26,0,1,0) -> 0.0050139262 | H26: =H25+1 -> 44376 | I26: =G26/VLOOKUP($J$5,$D$18:$G$750,4) -> 0.012568929 | J26: =(I26*$G$8)+$G$7 -> 114626.43 | K26: =N26*O26 -> 0 | L26: =IF(AND(E26>=$H$3,P26=0,E26<=$I$1),J26+K26,0) -> 114626.43 | M26: =D26 -> 7 | N26: =IF(E26<$J$6,0,IF(E26>=$I$1,0,1))*$I$10 -> 0 | O26: =IF(E26<$J$6,0,IF(E26>=$I$1,0,($J$5-D26)/($J$5-VLOOKUP($J$6,$H$17:$M$750,6)))) -> 0 | P26: 0 | Q26: =D26 -> 7 | R26: =IF(OR(E26<$J$6+1,E26>$I$1),0,1) -> 0
A27: =A20 -> Wed | B27: =IF(SUMIFS(CashFlow!$C$16:$C$40,CashFlow!$D$16:$D$40,CashFlowCalcs!$E27)>0,SUMIFS(CashFlow!$C$16:$C$40,CashFlow!$D$16:$D$40,CashFlowCalcs!$E27),B26) -> 0 | C27: =IF(LEFT(A27,1)="S","Y","N") -> N | D27: =IF($C27="N",$D26+1,$D26) -> 8 | E27: =E26+1 -> 44377 | F27: =$F$18+((((D27)/($J$5+2)*3))) -> -2.9526627 | G27: =NORMDIST(F27,0,1,0) -> 0.0051023855 | H27: =H26+1 -> 44377 | I27: =G27/VLOOKUP($J$5,$D$18:$G$750,4) -> 0.012790679 | J27: =(I27*$G$8)+$G$7 -> 116648.75 | K27: =N27*O27 -> 0 | L27: =IF(AND(E27>=$H$3,P27=0,E27<=$I$1),J27+K27,0) -> 116648.75 | M27: =D27 -> 8 | N27: =IF(E27<$J$6,0,IF(E27>=$I$1,0,1))*$I$10 -> 0 | O27: =IF(E27<$J$6,0,IF(E27>=$I$1,0,($J$5-D27)/($J$5-VLOOKUP($J$6,$H$17:$M$750,6)))) -> 0 | P27: 0 | Q27: =D27 -> 8 | R27: =IF(OR(E27<$J$6+1,E27>$I$1),0,1) -> 0
A28: =A21 -> Thu | B28: =IF(SUMIFS(CashFlow!$C$16:$C$40,CashFlow!$D$16:$D$40,CashFlowCalcs!$E28)>0,SUMIFS(CashFlow!$C$16:$C$40,CashFlow!$D$16:$D$40,CashFlowCalcs!$E28),B27) -> 0 | C28: =IF(LEFT(A28,1)="S","Y","N") -> N | D28: =IF($C28="N",$D27+1,$D27) -> 9 | E28: =E27+1 -> 44378 | F28: =$F$18+((((D28)/($J$5+2)*3))) -> -2.9467456 | G28: =NORMDIST(F28,0,1,0) -> 0.0051922236 | H28: =H27+1 -> 44378 | I28: =G28/VLOOKUP($J$5,$D$18:$G$750,4) -> 0.013015886 | J28: =(I28*$G$8)+$G$7 -> 118702.59 | K28: =N28*O28 -> 0 | L28: =IF(AND(E28>=$H$3,P28=0,E28<=$I$1),J28+K28,0) -> 118702.59 | M28: =D28 -> 9 | N28: =IF(E28<$J$6,0,IF(E28>=$I$1,0,1))*$I$10 -> 0 | O28: =IF(E28<$J$6,0,IF(E28>=$I$1,0,($J$5-D28)/($J$5-VLOOKUP($J$6,$H$17:$M$750,6)))) -> 0 | P28: 0 | Q28: =D28 -> 9 | R28: =IF(OR(E28<$J$6+1,E28>$I$1),0,1) -> 0
A29: =A22 -> Fri | B29: =IF(SUMIFS(CashFlow!$C$16:$C$40,CashFlow!$D$16:$D$40,CashFlowCalcs!$E29)>0,SUMIFS(CashFlow!$C$16:$C$40,CashFlow!$D$16:$D$40,CashFlowCalcs!$E29),B28) -> 0 | C29: =IF(LEFT(A29,1)="S","Y","N") -> N | D29: =IF($C29="N",$D28+1,$D28) -> 10 | E29: =E28+1 -> 44379 | F29: =$F$18+((((D29)/($J$5+2)*3))) -> -2.9408284 | G29: =NORMDIST(F29,0,1,0) -> 0.0052834585 | H29: =H28+1 -> 44379 | I29: =G29/VLOOKUP($J$5,$D$18:$G$750,4) -> 0.013244594 | J29: =(I29*$G$8)+$G$7 -> 120788.37 | K29: =N29*O29 -> 0 | L29: =IF(AND(E29>=$H$3,P29=0,E29<=$I$1),J29+K29,0) -> 120788.37 | M29: =D29 -> 10 | N29: =IF(E29<$J$6,0,IF(E29>=$I$1,0,1))*$I$10 -> 0 | O29: =IF(E29<$J$6,0,IF(E29>=$I$1,0,($J$5-D29)/($J$5-VLOOKUP($J$6,$H$17:$M$750,6)))) -> 0 | P29: 0 | Q29: =D29 -> 10 | R29: =IF(OR(E29<$J$6+1,E29>$I$1),0,1) -> 0
A30: =A23 -> Sat | B30: =IF(SUMIFS(CashFlow!$C$16:$C$40,CashFlow!$D$16:$D$40,CashFlowCalcs!$E30)>0,SUMIFS(CashFlow!$C$16:$C$40,CashFlow!$D$16:$D$40,CashFlowCalcs!$E30),B29) -> 0 | C30: =IF(LEFT(A30,1)="S","Y","N") -> Y | D30: =IF($C30="N",$D29+1,$D29) -> 10 | E30: =E29+1 -> 44380 | F30: =$F$18+((((D30)/($J$5+2)*3))) -> -2.9408284 | G30: =NORMDIST(F30,0,1,0) -> 0.0052834585 | H30: =H29+1 -> 44380 | I30: =G30/VLOOKUP($J$5,$D$18:$G$750,4) -> 0.013244594 | J30: =(I30*$G$8)+$G$7 -> 120788.37 | K30: =N30*O30 -> 0 | L30: =IF(AND(E30>=$H$3,P30=0,E30<=$I$1),J30+K30,0) -> 120788.37 | M30: =D30 -> 10 | N30: =IF(E30<$J$6,0,IF(E30>=$I$1,0,1))*$I$10 -> 0 | O30: =IF(E30<$J$6,0,IF(E30>=$I$1,0,($J$5-D30)/($J$5-VLOOKUP($J$6,$H$17:$M$750,6)))) -> 0 | P30: 0 | Q30: =D30 -> 10 | R30: =IF(OR(E30<$J$6+1,E30>$I$1),0,1) -> 0
A31: =A24 -> Sun | B31: =IF(SUMIFS(CashFlow!$C$16:$C$40,CashFlow!$D$16:$D$40,CashFlowCalcs!$E31)>0,SUMIFS(CashFlow!$C$16:$C$40,CashFlow!$D$16:$D$40,CashFlowCalcs!$E31),B30) -> 0 | C31: =IF(LEFT(A31,1)="S","Y","N") -> Y | D31: =IF($C31="N",$D30+1,$D30) -> 10 | E31: =E30+1 -> 44381 | F31: =$F$18+((((D31)/($J$5+2)*3))) -> -2.9408284 | G31: =NORMDIST(F31,0,1,0) -> 0.0052834585 | H31: =H30+1 -> 44381 | I31: =G31/VLOOKUP($J$5,$D$18:$G$750,4) -> 0.013244594 | J31: =(I31*$G$8)+$G$7 -> 120788.37 | K31: =N31*O31 -> 0 | L31: =IF(AND(E31>=$H$3,P31=0,E31<=$I$1),J31+K31,0) -> 120788.37 | M31: =D31 -> 10 | N31: =IF(E31<$J$6,0,IF(E31>=$I$1,0,1))*$I$10 -> 0 | O31: =IF(E31<$J$6,0,IF(E31>=$I$1,0,($J$5-D31)/($J$5-VLOOKUP($J$6,$H$17:$M$750,6)))) -> 0 | P31: 0 | Q31: =D31 -> 10 | R31: =IF(OR(E31<$J$6+1,E31>$I$1),0,1) -> 0
A32: =A25 -> Mon | B32: =IF(SUMIFS(CashFlow!$C$16:$C$40,CashFlow!$D$16:$D$40,CashFlowCalcs!$E32)>0,SUMIFS(CashFlow!$C$16:$C$40,CashFlow!$D$16:$D$40,CashFlowCalcs!$E32),B31) -> 0 | C32: =IF(LEFT(A32,1)="S","Y","N") -> N | D32: =IF($C32="N",$D31+1,$D31) -> 11 | E32: =E31+1 -> 44382 | F32: =$F$18+((((D32)/($J$5+2)*3))) -> -2.9349112 | G32: =NORMDIST(F32,0,1,0) -> 0.0053761083 | H32: =H31+1 -> 44382 | I32: =G32/VLOOKUP($J$5,$D$18:$G$750,4) -> 0.013476849 | J32: =(I32*$G$8)+$G$7 -> 122906.49 | K32: =N32*O32 -> 0 | L32: =IF(AND(E32>=$H$3,P32=0,E32<=$I$1),J32+K32,0) -> 122906.49 | M32: =D32 -> 11 | N32: =IF(E32<$J$6,0,IF(E32>=$I$1,0,1))*$I$10 -> 0 | O32: =IF(E32<$J$6,0,IF(E32>=$I$1,0,($J$5-D32)/($J$5-VLOOKUP($J$6,$H$17:$M$750,6)))) -> 0 | P32: 0 | Q32: =D32 -> 11 | R32: =IF(OR(E32<$J$6+1,E32>$I$1),0,1) -> 0
A33: =A26 -> Tues | B33: =IF(SUMIFS(CashFlow!$C$16:$C$40,CashFlow!$D$16:$D$40,CashFlowCalcs!$E33)>0,SUMIFS(CashFlow!$C$16:$C$40,CashFlow!$D$16:$D$40,CashFlowCalcs!$E33),B32) -> 0 | C33: =IF(LEFT(A33,1)="S","Y","N") -> N | D33: =IF($C33="N",$D32+1,$D32) -> 12 | E33: =E32+1 -> 44383 | F33: =$F$18+((((D33)/($J$5+2)*3))) -> -2.9289941 | G33: =NORMDIST(F33,0,1,0) -> 0.0054701912 | H33: =H32+1 -> 44383 | I33: =G33/VLOOKUP($J$5,$D$18:$G$750,4) -> 0.013712696 | J33: =(I33*$G$8)+$G$7 -> 125057.38 | K33: =N33*O33 -> 0 | L33: =IF(AND(E33>=$H$3,P33=0,E33<=$I$1),J33+K33,0) -> 125057.38 | M33: =D33 -> 12 | N33: =IF(E33<$J$6,0,IF(E33>=$I$1,0,1))*$I$10 -> 0 | O33: =IF(E33<$J$6,0,IF(E33>=$I$1,0,($J$5-D33)/($J$5-VLOOKUP($J$6,$H$17:$M$750,6)))) -> 0 | P33: 0 | Q33: =D33 -> 12 | R33: =IF(OR(E33<$J$6+1,E33>$I$1),0,1) -> 0
A34: =A27 -> Wed | B34: =IF(SUMIFS(CashFlow!$C$16:$C$40,CashFlow!$D$16:$D$40,CashFlowCalcs!$E34)>0,SUMIFS(CashFlow!$C$16:$C$40,CashFlow!$D$16:$D$40,CashFlowCalcs!$E34),B33) -> 0 | C34: =IF(LEFT(A34,1)="S","Y","N") -> N | D34: =IF($C34="N",$D33+1,$D33) -> 13 | E34: =E33+1 -> 44384 | F34: =$F$18+((((D34)/($J$5+2)*3))) -> -2.9230769 | G34: =NORMDIST(F34,0,1,0) -> 0.0055657258 | H34: =H33+1 -> 44384 | I34: =G34/VLOOKUP($J$5,$D$18:$G$750,4) -> 0.013952183 | J34: =(I34*$G$8)+$G$7 -> 127241.45 | K34: =N34*O34 -> 0 | L34: =IF(AND(E34>=$H$3,P34=0,E34<=$I$1),J34+K34,0) -> 127241.45 | M34: =D34 -> 13 | N34: =IF(E34<$J$6,0,IF(E34>=$I$1,0,1))*$I$10 -> 0 | O34: =IF(E34<$J$6,0,IF(E34>=$I$1,0,($J$5-D34)/($J$5-VLOOKUP($J$6,$H$17:$M$750,6)))) -> 0 | P34: 0 | Q34: =D34 -> 13 | R34: =IF(OR(E34<$J$6+1,E34>$I$1),0,1) -> 0
A35: =A28 -> Thu | B35: =IF(SUMIFS(CashFlow!$C$16:$C$40,CashFlow!$D$16:$D$40,CashFlowCalcs!$E35)>0,SUMIFS(CashFlow!$C$16:$C$40,CashFlow!$D$16:$D$40,CashFlowCalcs!$E35),B34) -> 0 | C35: =IF(LEFT(A35,1)="S","Y","N") -> N | D35: =IF($C35="N",$D34+1,$D34) -> 14 | E35: =E34+1 -> 44385 | F35: =$F$18+((((D35)/($J$5+2)*3))) -> -2.9171598 | G35: =NORMDIST(F35,0,1,0) -> 0.0056627305 | H35: =H34+1 -> 44385 | I35: =G35/VLOOKUP($J$5,$D$18:$G$750,4) -> 0.014195354 | J35: =(I35*$G$8)+$G$7 -> 129459.14 | K35: =N35*O35 -> 0 | L35: =IF(AND(E35>=$H$3,P35=0,E35<=$I$1),J35+K35,0) -> 129459.14 | M35: =D35 -> 14 | N35: =IF(E35<$J$6,0,IF(E35>=$I$1,0,1))*$I$10 -> 0 | O35: =IF(E35<$J$6,0,IF(E35>=$I$1,0,($J$5-D35)/($J$5-VLOOKUP($J$6,$H$17:$M$750,6)))) -> 0 | P35: 0 | Q35: =D35 -> 14 | R35: =IF(OR(E35<$J$6+1,E35>$I$1),0,1) -> 0
A36: =A29 -> Fri | B36: =IF(SUMIFS(CashFlow!$C$16:$C$40,CashFlow!$D$16:$D$40,CashFlowCalcs!$E36)>0,SUMIFS(CashFlow!$C$16:$C$40,CashFlow!$D$16:$D$40,CashFlowCalcs!$E36),B35) -> 0 | C36: =IF(LEFT(A36,1)="S","Y","N") -> N | D36: =IF($C36="N",$D35+1,$D35) -> 15 | E36: =E35+1 -> 44386 | F36: =$F$18+((((D36)/($J$5+2)*3))) -> -2.9112426 | G36: =NORMDIST(F36,0,1,0) -> 0.0057612243 | H36: =H35+1 -> 44386 | I36: =G36/VLOOKUP($J$5,$D$18:$G$750,4) -> 0.014442259 | J36: =(I36*$G$8)+$G$7 -> 131710.86 | K36: =N36*O36 -> 0 | L36: =IF(AND(E36>=$H$3,P36=0,E36<=$I$1),J36+K36,0) -> 131710.86 | M36: =D36 -> 15 | N36: =IF(E36<$J$6,0,IF(E36>=$I$1,0,1))*$I$10 -> 0 | O36: =IF(E36<$J$6,0,IF(E36>=$I$1,0,($J$5-D36)/($J$5-VLOOKUP($J$6,$H$17:$M$750,6)))) -> 0 | P36: 0 | Q36: =D36 -> 15 | R36: =IF(OR(E36<$J$6+1,E36>$I$1),0,1) -> 0
... A283: =A276 -> Sun | B283: =IF(SUMIFS(CashFlow!$C$16:$C$40,CashFlow!$D$16:$D$40,CashFlowCalcs!$E283)>0,SUMIFS(CashFlow!$C$16:$C$40,CashFlow!$D$16:$D$40,CashFlowCalcs!$E283),B282) -> 8 | C283: =IF(LEFT(A283,1)="S","Y","N") -> Y | D283: =IF($C283="N",$D282+1,$D282) -> 190 | E283: =E282+1 -> 44633 | F283: =$F$18+((((D283)/($J$5+2)*3))) -> -1.8757396 | G283: =NORMDIST(F283,0,1,0) -> 0.068690928 | H283: =H282+1 -> 44633 | I283: =G283/VLOOKUP($J$5,$D$18:$G$750,4) -> 0.17219468 | J283: =(I283*$G$8)+$G$7 -> 1570385.2 | K283: =N283*O283 -> 0 | L283: =IF(AND(E283>=$H$3,P283=0,E283<=$I$1),J283+K283,0) -> 1570385.2 | M283: =D283 -> 190 | N283: =IF(E283<$J$6,0,IF(E283>=$I$1,0,1))*$I$10 -> 0 | O283: =IF(E283<$J$6,0,IF(E283>=$I$1,0,($J$5-D283)/($J$5-VLOOKUP($J$6,$H$17:$M$750,6)))) -> 0 | P283: 0 | Q283: =D283 -> 190 | R283: =IF(OR(E283<$J$6+1,E283>$I$1),0,1) -> 0
A284: =A277 -> Mon | B284: =IF(SUMIFS(CashFlow!$C$16:$C$40,CashFlow!$D$16:$D$40,CashFlowCalcs!$E284)>0,SUMIFS(CashFlow!$C$16:$C$40,CashFlow!$D$16:$D$40,CashFlowCalcs!$E284),B283) -> 8 | C284: Y | D284: =IF($C284="N",$D283+1,$D283) -> 190 | E284: =E283+1 -> 44634 | F284: =$F$18+((((D284)/($J$5+2)*3))) -> -1.8757396 | G284: =NORMDIST(F284,0,1,0) -> 0.068690928 | H284: =H283+1 -> 44634 | I284: =G284/VLOOKUP($J$5,$D$18:$G$750,4) -> 0.17219468 | J284: =(I284*$G$8)+$G$7 -> 1570385.2 | K284: =N284*O284 -> 0 | L284: =IF(AND(E284>=$H$3,P284=0,E284<=$I$1),J284+K284,0) -> 1570385.2 | M284: =D284 -> 190 | N284: =IF(E284<$J$6,0,IF(E284>=$I$1,0,1))*$I$10 -> 0 | O284: =IF(E284<$J$6,0,IF(E284>=$I$1,0,($J$5-D284)/($J$5-VLOOKUP($J$6,$H$17:$M$750,6)))) -> 0 | P284: 0 | Q284: =D284 -> 190 | R284: =IF(OR(E284<$J$6+1,E284>$I$1),0,1) -> 0
A285: =A278 -> Tues | B285: =IF(SUMIFS(CashFlow!$C$16:$C$40,CashFlow!$D$16:$D$40,CashFlowCalcs!$E285)>0,SUMIFS(CashFlow!$C$16:$C$40,CashFlow!$D$16:$D$40,CashFlowCalcs!$E285),B284) -> 8 | C285: Y | D285: =IF($C285="N",$D284+1,$D284) -> 190 | E285: =E284+1 -> 44635 | F285: =$F$18+((((D285)/($J$5+2)*3))) -> -1.8757396 | G285: =NORMDIST(F285,0,1,0) -> 0.068690928 | H285: =H284+1 -> 44635 | I285: =G285/VLOOKUP($J$5,$D$18:$G$750,4) -> 0.17219468 | J285: =(I285*$G$8)+$G$7 -> 1570385.2 | K285: =N285*O285 -> 0 | L285: =IF(AND(E285>=$H$3,P285=0,E285<=$I$1),J285+K285,0) -> 1570385.2 | M285: =D285 -> 190 | N285: =IF(E285<$J$6,0,IF(E285>=$I$1,0,1))*$I$10 -> 0 | O285: =IF(E285<$J$6,0,IF(E285>=$I$1,0,($J$5-D285)/($J$5-VLOOKUP($J$6,$H$17:$M$750,6)))) -> 0 | P285: 0 | Q285: =D285 -> 190 | R285: =IF(OR(E285<$J$6+1,E285>$I$1),0,1) -> 0
A286: =A279 -> Wed | B286: =IF(SUMIFS(CashFlow!$C$16:$C$40,CashFlow!$D$16:$D$40,CashFlowCalcs!$E286)>0,SUMIFS(CashFlow!$C$16:$C$40,CashFlow!$D$16:$D$40,CashFlowCalcs!$E286),B285) -> 8 | C286: Y | D286: =IF($C286="N",$D285+1,$D285) -> 190 | E286: =E285+1 -> 44636 | F286: =$F$18+((((D286)/($J$5+2)*3))) -> -1.8757396 | G286: =NORMDIST(F286,0,1,0) -> 0.068690928 | H286: =H285+1 -> 44636 | I286: =G286/VLOOKUP($J$5,$D$18:$G$750,4) -> 0.17219468 | J286: =(I286*$G$8)+$G$7 -> 1570385.2 | K286: =N286*O286 -> 0 | L286: =IF(AND(E286>=$H$3,P286=0,E286<=$I$1),J286+K286,0) -> 1570385.2 | M286: =D286 -> 190 | N286: =IF(E286<$J$6,0,IF(E286>=$I$1,0,1))*$I$10 -> 0 | O286: =IF(E286<$J$6,0,IF(E286>=$I$1,0,($J$5-D286)/($J$5-VLOOKUP($J$6,$H$17:$M$750,6)))) -> 0 | P286: 0 | Q286: =D286 -> 190 | R286: =IF(OR(E286<$J$6+1,E286>$I$1),0,1) -> 0
A287: =A280 -> Thu | B287: =IF(SUMIFS(CashFlow!$C$16:$C$40,CashFlow!$D$16:$D$40,CashFlowCalcs!$E287)>0,SUMIFS(CashFlow!$C$16:$C$40,CashFlow!$D$16:$D$40,CashFlowCalcs!$E287),B286) -> 8 | C287: Y | D287: =IF($C287="N",$D286+1,$D286) -> 190 | E287: =E286+1 -> 44637 | F287: =$F$18+((((D287)/($J$5+2)*3))) -> -1.8757396 | G287: =NORMDIST(F287,0,1,0) -> 0.068690928 | H287: =H286+1 -> 44637 | I287: =G287/VLOOKUP($J$5,$D$18:$G$750,4) -> 0.17219468 | J287: =(I287*$G$8)+$G$7 -> 1570385.2 | K287: =N287*O287 -> 0 | L287: =IF(AND(E287>=$H$3,P287=0,E287<=$I$1),J287+K287,0) -> 1570385.2 | M287: =D287 -> 190 | N287: =IF(E287<$J$6,0,IF(E287>=$I$1,0,1))*$I$10 -> 0 | O287: =IF(E287<$J$6,0,IF(E287>=$I$1,0,($J$5-D287)/($J$5-VLOOKUP($J$6,$H$17:$M$750,6)))) -> 0 | P287: 0 | Q287: =D287 -> 190 | R287: =IF(OR(E287<$J$6+1,E287>$I$1),0,1) -> 0
A288: =A281 -> Fri | B288: =IF(SUMIFS(CashFlow!$C$16:$C$40,CashFlow!$D$16:$D$40,CashFlowCalcs!$E288)>0,SUMIFS(CashFlow!$C$16:$C$40,CashFlow!$D$16:$D$40,CashFlowCalcs!$E288),B287) -> 8 | C288: Y | D288: =IF($C288="N",$D287+1,$D287) -> 190 | E288: =E287+1 -> 44638 | F288: =$F$18+((((D288)/($J$5+2)*3))) -> -1.8757396 | G288: =NORMDIST(F288,0,1,0) -> 0.068690928 | H288: =H287+1 -> 44638 | I288: =G288/VLOOKUP($J$5,$D$18:$G$750,4) -> 0.17219468 | J288: =(I288*$G$8)+$G$7 -> 1570385.2 | K288: =N288*O288 -> 0 | L288: =IF(AND(E288>=$H$3,P288=0,E288<=$I$1),J288+K288,0) -> 1570385.2 | M288: =D288 -> 190 | N288: =IF(E288<$J$6,0,IF(E288>=$I$1,0,1))*$I$10 -> 0 | O288: =IF(E288<$J$6,0,IF(E288>=$I$1,0,($J$5-D288)/($J$5-VLOOKUP($J$6,$H$17:$M$750,6)))) -> 0 | P288: 0 | Q288: =D288 -> 190 | R288: =IF(OR(E288<$J$6+1,E288>$I$1),0,1) -> 0
A289: =A282 -> Sat | B289: =IF(SUMIFS(CashFlow!$C$16:$C$40,CashFlow!$D$16:$D$40,CashFlowCalcs!$E289)>0,SUMIFS(CashFlow!$C$16:$C$40,CashFlow!$D$16:$D$40,CashFlowCalcs!$E289),B288) -> 8 | C289: =IF(LEFT(A289,1)="S","Y","N") -> Y | D289: =IF($C289="N",$D288+1,$D288) -> 190 | E289: =E288+1 -> 44639 | F289: =$F$18+((((D289)/($J$5+2)*3))) -> -1.8757396 | G289: =NORMDIST(F289,0,1,0) -> 0.068690928 | H289: =H288+1 -> 44639 | I289: =G289/VLOOKUP($J$5,$D$18:$G$750,4) -> 0.17219468 | J289: =(I289*$G$8)+$G$7 -> 1570385.2 | K289: =N289*O289 -> 0 | L289: =IF(AND(E289>=$H$3,P289=0,E289<=$I$1),J289+K289,0) -> 1570385.2 | M289: =D289 -> 190 | N289: =IF(E289<$J$6,0,IF(E289>=$I$1,0,1))*$I$10 -> 0 | O289: =IF(E289<$J$6,0,IF(E289>=$I$1,0,($J$5-D289)/($J$5-VLOOKUP($J$6,$H$17:$M$750,6)))) -> 0 | P289: 0 | Q289: =D289 -> 190 | R289: =IF(OR(E289<$J$6+1,E289>$I$1),0,1) -> 0
A290: =A283 -> Sun | B290: =IF(SUMIFS(CashFlow!$C$16:$C$40,CashFlow!$D$16:$D$40,CashFlowCalcs!$E290)>0,SUMIFS(CashFlow!$C$16:$C$40,CashFlow!$D$16:$D$40,CashFlowCalcs!$E290),B289) -> 8 | C290: =IF(LEFT(A290,1)="S","Y","N") -> Y | D290: =IF($C290="N",$D289+1,$D289) -> 190 | E290: =E289+1 -> 44640 | F290: =$F$18+((((D290)/($J$5+2)*3))) -> -1.8757396 | G290: =NORMDIST(F290,0,1,0) -> 0.068690928 | H290: =H289+1 -> 44640 | I290: =G290/VLOOKUP($J$5,$D$18:$G$750,4) -> 0.17219468 | J290: =(I290*$G$8)+$G$7 -> 1570385.2 | K290: =N290*O290 -> 0 | L290: =IF(AND(E290>=$H$3,P290=0,E290<=$I$1),J290+K290,0) -> 1570385.2 | M290: =D290 -> 190 | N290: =IF(E290<$J$6,0,IF(E290>=$I$1,0,1))*$I$10 -> 0 | O290: =IF(E290<$J$6,0,IF(E290>=$I$1,0,($J$5-D290)/($J$5-VLOOKUP($J$6,$H$17:$M$750,6)))) -> 0 | P290: 0 | Q290: =D290 -> 190 | R290: =IF(OR(E290<$J$6+1,E290>$I$1),0,1) -> 0
A291: =A284 -> Mon | B291: =IF(SUMIFS(CashFlow!$C$16:$C$40,CashFlow!$D$16:$D$40,CashFlowCalcs!$E291)>0,SUMIFS(CashFlow!$C$16:$C$40,CashFlow!$D$16:$D$40,CashFlowCalcs!$E291),B290) -> 9 | C291: Y | D291: =IF($C291="N",$D290+1,$D290) -> 190 | E291: =E290+1 -> 44641 | F291: =$F$18+((((D291)/($J$5+2)*3))) -> -1.8757396 | G291: =NORMDIST(F291,0,1,0) -> 0.068690928 | H291: =H290+1 -> 44641 | I291: =G291/VLOOKUP($J$5,$D$18:$G$750,4) -> 0.17219468 | J291: =(I291*$G$8)+$G$7 -> 1570385.2 | K291: =N291*O291 -> 0 | L291: =IF(AND(E291>=$H$3,P291=0,E291<=$I$1),J291+K291,0) -> 1570385.2 | M291: =D291 -> 190 | N291: =IF(E291<$J$6,0,IF(E291>=$I$1,0,1))*$I$10 -> 0 | O291: =IF(E291<$J$6,0,IF(E291>=$I$1,0,($J$5-D291)/($J$5-VLOOKUP($J$6,$H$17:$M$750,6)))) -> 0 | P291: 0 | Q291: =D291 -> 190 | R291: =IF(OR(E291<$J$6+1,E291>$I$1),0,1) -> 0
A292: =A285 -> Tues | B292: =IF(SUMIFS(CashFlow!$C$16:$C$40,CashFlow!$D$16:$D$40,CashFlowCalcs!$E292)>0,SUMIFS(CashFlow!$C$16:$C$40,CashFlow!$D$16:$D$40,CashFlowCalcs!$E292),B291) -> 9 | C292: Y | D292: =IF($C292="N",$D291+1,$D291) -> 190 | E292: =E291+1 -> 44642 | F292: =$F$18+((((D292)/($J$5+2)*3))) -> -1.8757396 | G292: =NORMDIST(F292,0,1,0) -> 0.068690928 | H292: =H291+1 -> 44642 | I292: =G292/VLOOKUP($J$5,$D$18:$G$750,4) -> 0.17219468 | J292: =(I292*$G$8)+$G$7 -> 1570385.2 | K292: =N292*O292 -> 0 | L292: =IF(AND(E292>=$H$3,P292=0,E292<=$I$1),J292+K292,0) -> 1570385.2 | M292: =D292 -> 190 | N292: =IF(E292<$J$6,0,IF(E292>=$I$1,0,1))*$I$10 -> 0 | O292: =IF(E292<$J$6,0,IF(E292>=$I$1,0,($J$5-D292)/($J$5-VLOOKUP($J$6,$H$17:$M$750,6)))) -> 0 | P292: 0 | Q292: =D292 -> 190 | R292: =IF(OR(E292<$J$6+1,E292>$I$1),0,1) -> 0
A293: =A286 -> Wed | B293: =IF(SUMIFS(CashFlow!$C$16:$C$40,CashFlow!$D$16:$D$40,CashFlowCalcs!$E293)>0,SUMIFS(CashFlow!$C$16:$C$40,CashFlow!$D$16:$D$40,CashFlowCalcs!$E293),B292) -> 9 | C293: Y | D293: =IF($C293="N",$D292+1,$D292) -> 190 | E293: =E292+1 -> 44643 | F293: =$F$18+((((D293)/($J$5+2)*3))) -> -1.8757396 | G293: =NORMDIST(F293,0,1,0) -> 0.068690928 | H293: =H292+1 -> 44643 | I293: =G293/VLOOKUP($J$5,$D$18:$G$750,4) -> 0.17219468 | J293: =(I293*$G$8)+$G$7 -> 1570385.2 | K293: =N293*O293 -> 0 | L293: =IF(AND(E293>=$H$3,P293=0,E293<=$I$1),J293+K293,0) -> 1570385.2 | M293: =D293 -> 190 | N293: =IF(E293<$J$6,0,IF(E293>=$I$1,0,1))*$I$10 -> 0 | O293: =IF(E293<$J$6,0,IF(E293>=$I$1,0,($J$5-D293)/($J$5-VLOOKUP($J$6,$H$17:$M$750,6)))) -> 0 | P293: 0 | Q293: =D293 -> 190 | R293: =IF(OR(E293<$J$6+1,E293>$I$1),0,1) -> 0
A294: =A287 -> Thu | B294: =IF(SUMIFS(CashFlow!$C$16:$C$40,CashFlow!$D$16:$D$40,CashFlowCalcs!$E294)>0,SUMIFS(CashFlow!$C$16:$C$40,CashFlow!$D$16:$D$40,CashFlowCalcs!$E294),B293) -> 9 | C294: Y | D294: =IF($C294="N",$D293+1,$D293) -> 190 | E294: =E293+1 -> 44644 | F294: =$F$18+((((D294)/($J$5+2)*3))) -> -1.8757396 | G294: =NORMDIST(F294,0,1,0) -> 0.068690928 | H294: =H293+1 -> 44644 | I294: =G294/VLOOKUP($J$5,$D$18:$G$750,4) -> 0.17219468 | J294: =(I294*$G$8)+$G$7 -> 1570385.2 | K294: =N294*O294 -> 0 | L294: =IF(AND(E294>=$H$3,P294=0,E294<=$I$1),J294+K294,0) -> 1570385.2 | M294: =D294 -> 190 | N294: =IF(E294<$J$6,0,IF(E294>=$I$1,0,1))*$I$10 -> 0 | O294: =IF(E294<$J$6,0,IF(E294>=$I$1,0,($J$5-D294)/($J$5-VLOOKUP($J$6,$H$17:$M$750,6)))) -> 0 | P294: 0 | Q294: =D294 -> 190 | R294: =IF(OR(E294<$J$6+1,E294>$I$1),0,1) -> 0
A295: =A288 -> Fri | B295: =IF(SUMIFS(CashFlow!$C$16:$C$40,CashFlow!$D$16:$D$40,CashFlowCalcs!$E295)>0,SUMIFS(CashFlow!$C$16:$C$40,CashFlow!$D$16:$D$40,CashFlowCalcs!$E295),B294) -> 9 | C295: Y | D295: =IF($C295="N",$D294+1,$D294) -> 190 | E295: =E294+1 -> 44645 | F295: =$F$18+((((D295)/($J$5+2)*3))) -> -1.8757396 | G295: =NORMDIST(F295,0,1,0) -> 0.068690928 | H295: =H294+1 -> 44645 | I295: =G295/VLOOKUP($J$5,$D$18:$G$750,4) -> 0.17219468 | J295: =(I295*$G$8)+$G$7 -> 1570385.2 | K295: =N295*O295 -> 0 | L295: =IF(AND(E295>=$H$3,P295=0,E295<=$I$1),J295+K295,0) -> 1570385.2 | M295: =D295 -> 190 | N295: =IF(E295<$J$6,0,IF(E295>=$I$1,0,1))*$I$10 -> 0 | O295: =IF(E295<$J$6,0,IF(E295>=$I$1,0,($J$5-D295)/($J$5-VLOOKUP($J$6,$H$17:$M$750,6)))) -> 0 | P295: 0 | Q295: =D295 -> 190 | R295: =IF(OR(E295<$J$6+1,E295>$I$1),0,1) -> 0
A296: =A289 -> Sat | B296: =IF(SUMIFS(CashFlow!$C$16:$C$40,CashFlow!$D$16:$D$40,CashFlowCalcs!$E296)>0,SUMIFS(CashFlow!$C$16:$C$40,CashFlow!$D$16:$D$40,CashFlowCalcs!$E296),B295) -> 9 | C296: =IF(LEFT(A296,1)="S","Y","N") -> Y | D296: =IF($C296="N",$D295+1,$D295) -> 190 | E296: =E295+1 -> 44646 | F296: =$F$18+((((D296)/($J$5+2)*3))) -> -1.8757396 | G296: =NORMDIST(F296,0,1,0) -> 0.068690928 | H296: =H295+1 -> 44646 | I296: =G296/VLOOKUP($J$5,$D$18:$G$750,4) -> 0.17219468 | J296: =(I296*$G$8)+$G$7 -> 1570385.2 | K296: =N296*O296 -> 0 | L296: =IF(AND(E296>=$H$3,P296=0,E296<=$I$1),J296+K296,0) -> 1570385.2 | M296: =D296 -> 190 | N296: =IF(E296<$J$6,0,IF(E296>=$I$1,0,1))*$I$10 -> 0 | O296: =IF(E296<$J$6,0,IF(E296>=$I$1,0,($J$5-D296)/($J$5-VLOOKUP($J$6,$H$17:$M$750,6)))) -> 0 | P296: 0 | Q296: =D296 -> 190 | R296: =IF(OR(E296<$J$6+1,E296>$I$1),0,1) -> 0
A297: =A290 -> Sun | B297: =IF(SUMIFS(CashFlow!$C$16:$C$40,CashFlow!$D$16:$D$40,CashFlowCalcs!$E297)>0,SUMIFS(CashFlow!$C$16:$C$40,CashFlow!$D$16:$D$40,CashFlowCalcs!$E297),B296) -> 9 | C297: =IF(LEFT(A297,1)="S","Y","N") -> Y | D297: =IF($C297="N",$D296+1,$D296) -> 190 | E297: =E296+1 -> 44647 | F297: =$F$18+((((D297)/($J$5+2)*3))) -> -1.8757396 | G297: =NORMDIST(F297,0,1,0) -> 0.068690928 | H297: =H296+1 -> 44647 | I297: =G297/VLOOKUP($J$5,$D$18:$G$750,4) -> 0.17219468 | J297: =(I297*$G$8)+$G$7 -> 1570385.2 | K297: =N297*O297 -> 0 | L297: =IF(AND(E297>=$H$3,P297=0,E297<=$I$1),J297+K297,0) -> 1570385.2 | M297: =D297 -> 190 | N297: =IF(E297<$J$6,0,IF(E297>=$I$1,0,1))*$I$10 -> 0 | O297: =IF(E297<$J$6,0,IF(E297>=$I$1,0,($J$5-D297)/($J$5-VLOOKUP($J$6,$H$17:$M$750,6)))) -> 0 | P297: 0 | Q297: =D297 -> 190 | R297: =IF(OR(E297<$J$6+1,E297>$I$1),0,1) -> 0
A298: =A291 -> Mon | B298: =IF(SUMIFS(CashFlow!$C$16:$C$40,CashFlow!$D$16:$D$40,CashFlowCalcs!$E298)>0,SUMIFS(CashFlow!$C$16:$C$40,CashFlow!$D$16:$D$40,CashFlowCalcs!$E298),B297) -> 9 | C298: =IF(LEFT(A298,1)="S","Y","N") -> N | D298: =IF($C298="N",$D297+1,$D297) -> 191 | E298: =E297+1 -> 44648 | F298: =$F$18+((((D298)/($J$5+2)*3))) -> -1.8698225 | G298: =NORMDIST(F298,0,1,0) -> 0.069456363 | H298: =H297+1 -> 44648 | I298: =G298/VLOOKUP($J$5,$D$18:$G$750,4) -> 0.17411347 | J298: =(I298*$G$8)+$G$7 -> 1587884.3 | K298: =N298*O298 -> 0 | L298: =IF(AND(E298>=$H$3,P298=0,E298<=$I$1),J298+K298,0) -> 1587884.3 | M298: =D298 -> 191 | N298: =IF(E298<$J$6,0,IF(E298>=$I$1,0,1))*$I$10 -> 0 | O298: =IF(E298<$J$6,0,IF(E298>=$I$1,0,($J$5-D298)/($J$5-VLOOKUP($J$6,$H$17:$M$750,6)))) -> 0 | P298: 0 | Q298: =D298 -> 191 | R298: =IF(OR(E298<$J$6+1,E298>$I$1),0,1) -> 0 | S298: =(1-(IF(AND(R298=1,D297<$I$2),(1-I297)/(1-VLOOKUP($K$6,$D$17:$I$750,6)),0))) -> 1
A299: =A292 -> Tues | B299: =IF(SUMIFS(CashFlow!$C$16:$C$40,CashFlow!$D$16:$D$40,CashFlowCalcs!$E299)>0,SUMIFS(CashFlow!$C$16:$C$40,CashFlow!$D$16:$D$40,CashFlowCalcs!$E299),B298) -> 10 | C299: =IF(LEFT(A299,1)="S","Y","N") -> N | D299: =IF($C299="N",$D298+1,$D298) -> 192 | E299: =E298+1 -> 44649 | F299: =$F$18+((((D299)/($J$5+2)*3))) -> -1.8639053 | G299: =NORMDIST(F299,0,1,0) -> 0.070227868 | H299: =H298+1 -> 44649 | I299: =G299/VLOOKUP($J$5,$D$18:$G$750,4) -> 0.17604749 | J299: =(I299*$G$8)+$G$7 -> 1605522.1 | K299: =N299*O299 -> 0 | L299: =IF(AND(E299>=$H$3,P299=0,E299<=$I$1),J299+K299,0) -> 1605522.1 | M299: =D299 -> 192 | N299: =IF(E299<$J$6,0,IF(E299>=$I$1,0,1))*$I$10 -> 0 | O299: =IF(E299<$J$6,0,IF(E299>=$I$1,0,($J$5-D299)/($J$5-VLOOKUP($J$6,$H$17:$M$750,6)))) -> 0 | P299: 0 | Q299: =D299 -> 192 | R299: =IF(OR(E299<$J$6+1,E299>$I$1),0,1) -> 0 | S299: =(1-(IF(AND(R299=1,D298<$I$2),(1-I298)/(1-VLOOKUP($K$6,$D$17:$I$750,6)),0))) -> 1
A300: =A293 -> Wed | B300: =IF(SUMIFS(CashFlow!$C$16:$C$40,CashFlow!$D$16:$D$40,CashFlowCalcs!$E300)>0,SUMIFS(CashFlow!$C$16:$C$40,CashFlow!$D$16:$D$40,CashFlowCalcs!$E300),B299) -> 10 | C300: =IF(LEFT(A300,1)="S","Y","N") -> N | D300: =IF($C300="N",$D299+1,$D299) -> 193 | E300: =E299+1 -> 44650 | F300: =$F$18+((((D300)/($J$5+2)*3))) -> -1.8579882 | G300: =NORMDIST(F300,0,1,0) -> 0.071005457 | H300: =H299+1 -> 44650 | I300: =G300/VLOOKUP($J$5,$D$18:$G$750,4) -> 0.17799675 | J300: =(I300*$G$8)+$G$7 -> 1623299.1 | K300: =N300*O300 -> 0 | L300: =IF(AND(E300>=$H$3,P300=0,E300<=$I$1),J300+K300,0) -> 1623299.1 | M300: =D300 -> 193 | N300: =IF(E300<$J$6,0,IF(E300>=$I$1,0,1))*$I$10 -> 0 | O300: =IF(E300<$J$6,0,IF(E300>=$I$1,0,($J$5-D300)/($J$5-VLOOKUP($J$6,$H$17:$M$750,6)))) -> 0 | P300: 0 | Q300: =D300 -> 193 | R300: =IF(OR(E300<$J$6+1,E300>$I$1),0,1) -> 0 | S300: =(1-(IF(AND(R300=1,D299<$I$2),(1-I299)/(1-VLOOKUP($K$6,$D$17:$I$750,6)),0))) -> 1
A301: =A294 -> Thu | B301: =IF(SUMIFS(CashFlow!$C$16:$C$40,CashFlow!$D$16:$D$40,CashFlowCalcs!$E301)>0,SUMIFS(CashFlow!$C$16:$C$40,CashFlow!$D$16:$D$40,CashFlowCalcs!$E301),B300) -> 10 | C301: =IF(LEFT(A301,1)="S","Y","N") -> N | D301: =IF($C301="N",$D300+1,$D300) -> 194 | E301: =E300+1 -> 44651 | F301: =$F$18+((((D301)/($J$5+2)*3))) -> -1.852071 | G301: =NORMDIST(F301,0,1,0) -> 0.071789142 | H301: =H300+1 -> 44651 | I301: =G301/VLOOKUP($J$5,$D$18:$G$750,4) -> 0.17996129 | J301: =(I301*$G$8)+$G$7 -> 1641215.4 | K301: =N301*O301 -> 0 | L301: =IF(AND(E301>=$H$3,P301=0,E301<=$I$1),J301+K301,0) -> 1641215.4 | M301: =D301 -> 194 | N301: =IF(E301<$J$6,0,IF(E301>=$I$1,0,1))*$I$10 -> 0 | O301: =IF(E301<$J$6,0,IF(E301>=$I$1,0,($J$5-D301)/($J$5-VLOOKUP($J$6,$H$17:$M$750,6)))) -> 0 | P301: 0 | Q301: =D301 -> 194 | R301: =IF(OR(E301<$J$6+1,E301>$I$1),0,1) -> 0 | S301: =(1-(IF(AND(R301=1,D300<$I$2),(1-I300)/(1-VLOOKUP($K$6,$D$17:$I$750,6)),0))) -> 1
A302: =A295 -> Fri | B302: =IF(SUMIFS(CashFlow!$C$16:$C$40,CashFlow!$D$16:$D$40,CashFlowCalcs!$E302)>0,SUMIFS(CashFlow!$C$16:$C$40,CashFlow!$D$16:$D$40,CashFlowCalcs!$E302),B301) -> 10 | C302: =IF(LEFT(A302,1)="S","Y","N") -> N | D302: =IF($C302="N",$D301+1,$D301) -> 195 | E302: =E301+1 -> 44652 | F302: =$F$18+((((D302)/($J$5+2)*3))) -> -1.8461538 | G302: =NORMDIST(F302,0,1,0) -> 0.072578935 | H302: =H301+1 -> 44652 | I302: =G302/VLOOKUP($J$5,$D$18:$G$750,4) -> 0.18194115 | J302: =(I302*$G$8)+$G$7 -> 1659271.3 | K302: =N302*O302 -> 0 | L302: =IF(AND(E302>=$H$3,P302=0,E302<=$I$1),J302+K302,0) -> 1659271.3 | M302: =D302 -> 195 | N302: =IF(E302<$J$6,0,IF(E302>=$I$1,0,1))*$I$10 -> 0 | O302: =IF(E302<$J$6,0,IF(E302>=$I$1,0,($J$5-D302)/($J$5-VLOOKUP($J$6,$H$17:$M$750,6)))) -> 0 | P302: 0 | Q302: =D302 -> 195 | R302: =IF(OR(E302<$J$6+1,E302>$I$1),0,1) -> 0 | S302: =(1-(IF(AND(R302=1,D301<$I$2),(1-I301)/(1-VLOOKUP($K$6,$D$17:$I$750,6)),0))) -> 1
A303: =A296 -> Sat | B303: =IF(SUMIFS(CashFlow!$C$16:$C$40,CashFlow!$D$16:$D$40,CashFlowCalcs!$E303)>0,SUMIFS(CashFlow!$C$16:$C$40,CashFlow!$D$16:$D$40,CashFlowCalcs!$E303),B302) -> 10 | C303: =IF(LEFT(A303,1)="S","Y","N") -> Y | D303: =IF($C303="N",$D302+1,$D302) -> 195 | E303: =E302+1 -> 44653 | F303: =$F$18+((((D303)/($J$5+2)*3))) -> -1.8461538 | G303: =NORMDIST(F303,0,1,0) -> 0.072578935 | H303: =H302+1 -> 44653 | I303: =G303/VLOOKUP($J$5,$D$18:$G$750,4) -> 0.18194115 | J303: =(I303*$G$8)+$G$7 -> 1659271.3 | K303: =N303*O303 -> 0 | L303: =IF(AND(E303>=$H$3,P303=0,E303<=$I$1),J303+K303,0) -> 1659271.3 | M303: =D303 -> 195 | N303: =IF(E303<$J$6,0,IF(E303>=$I$1,0,1))*$I$10 -> 0 | O303: =IF(E303<$J$6,0,IF(E303>=$I$1,0,($J$5-D303)/($J$5-VLOOKUP($J$6,$H$17:$M$750,6)))) -> 0 | P303: 0 | Q303: =D303 -> 195 | R303: =IF(OR(E303<$J$6+1,E303>$I$1),0,1) -> 0 | S303: =(1-(IF(AND(R303=1,D302<$I$2),(1-I302)/(1-VLOOKUP($K$6,$D$17:$I$750,6)),0))) -> 1
A304: =A297 -> Sun | B304: =IF(SUMIFS(CashFlow!$C$16:$C$40,CashFlow!$D$16:$D$40,CashFlowCalcs!$E304)>0,SUMIFS(CashFlow!$C$16:$C$40,CashFlow!$D$16:$D$40,CashFlowCalcs!$E304),B303) -> 10 | C304: =IF(LEFT(A304,1)="S","Y","N") -> Y | D304: =IF($C304="N",$D303+1,$D303) -> 195 | E304: =E303+1 -> 44654 | F304: =$F$18+((((D304)/($J$5+2)*3))) -> -1.8461538 | G304: =NORMDIST(F304,0,1,0) -> 0.072578935 | H304: =H303+1 -> 44654 | I304: =G304/VLOOKUP($J$5,$D$18:$G$750,4) -> 0.18194115 | J304: =(I304*$G$8)+$G$7 -> 1659271.3 | K304: =N304*O304 -> 0 | L304: =IF(AND(E304>=$H$3,P304=0,E304<=$I$1),J304+K304,0) -> 1659271.3 | M304: =D304 -> 195 | N304: =IF(E304<$J$6,0,IF(E304>=$I$1,0,1))*$I$10 -> 0 | O304: =IF(E304<$J$6,0,IF(E304>=$I$1,0,($J$5-D304)/($J$5-VLOOKUP($J$6,$H$17:$M$750,6)))) -> 0 | P304: 0 | Q304: =D304 -> 195 | R304: =IF(OR(E304<$J$6+1,E304>$I$1),0,1) -> 0 | S304: =(1-(IF(AND(R304=1,D303<$I$2),(1-I303)/(1-VLOOKUP($K$6,$D$17:$I$750,6)),0))) -> 1
A305: =A298 -> Mon | B305: =IF(SUMIFS(CashFlow!$C$16:$C$40,CashFlow!$D$16:$D$40,CashFlowCalcs!$E305)>0,SUMIFS(CashFlow!$C$16:$C$40,CashFlow!$D$16:$D$40,CashFlowCalcs!$E305),B304) -> 10 | C305: =IF(LEFT(A305,1)="S","Y","N") -> N | D305: =IF($C305="N",$D304+1,$D304) -> 196 | E305: =E304+1 -> 44655 | F305: =$F$18+((((D305)/($J$5+2)*3))) -> -1.8402367 | G305: =NORMDIST(F305,0,1,0) -> 0.073374849 | H305: =H304+1 -> 44655 | I305: =G305/VLOOKUP($J$5,$D$18:$G$750,4) -> 0.18393635 | J305: =(I305*$G$8)+$G$7 -> 1677467.2 | K305: =N305*O305 -> 0 | L305: =IF(AND(E305>=$H$3,P305=0,E305<=$I$1),J305+K305,0) -> 1677467.2 | M305: =D305 -> 196 | N305: =IF(E305<$J$6,0,IF(E305>=$I$1,0,1))*$I$10 -> 0 | O305: =IF(E305<$J$6,0,IF(E305>=$I$1,0,($J$5-D305)/($J$5-VLOOKUP($J$6,$H$17:$M$750,6)))) -> 0 | P305: 0 | Q305: =D305 -> 196 | R305: =IF(OR(E305<$J$6+1,E305>$I$1),0,1) -> 0 | S305: =(1-(IF(AND(R305=1,D304<$I$2),(1-I304)/(1-VLOOKUP($K$6,$D$17:$I$750,6)),0))) -> 1
A306: =A299 -> Tues | B306: =IF(SUMIFS(CashFlow!$C$16:$C$40,CashFlow!$D$16:$D$40,CashFlowCalcs!$E306)>0,SUMIFS(CashFlow!$C$16:$C$40,CashFlow!$D$16:$D$40,CashFlowCalcs!$E306),B305) -> 10 | C306: =IF(LEFT(A306,1)="S","Y","N") -> N | D306: =IF($C306="N",$D305+1,$D305) -> 197 | E306: =E305+1 -> 44656 | F306: =$F$18+((((D306)/($J$5+2)*3))) -> -1.8343195 | G306: =NORMDIST(F306,0,1,0) -> 0.074176893 | H306: =H305+1 -> 44656 | I306: =G306/VLOOKUP($J$5,$D$18:$G$750,4) -> 0.18594692 | J306: =(I306*$G$8)+$G$7 -> 1695803.2 | K306: =N306*O306 -> 0 | L306: =IF(AND(E306>=$H$3,P306=0,E306<=$I$1),J306+K306,0) -> 1695803.2 | M306: =D306 -> 197 | N306: =IF(E306<$J$6,0,IF(E306>=$I$1,0,1))*$I$10 -> 0 | O306: =IF(E306<$J$6,0,IF(E306>=$I$1,0,($J$5-D306)/($J$5-VLOOKUP($J$6,$H$17:$M$750,6)))) -> 0 | P306: 0 | Q306: =D306 -> 197 | R306: =IF(OR(E306<$J$6+1,E306>$I$1),0,1) -> 0 | S306: =(1-(IF(AND(R306=1,D305<$I$2),(1-I305)/(1-VLOOKUP($K$6,$D$17:$I$750,6)),0)))*$M$8 -> 9119824.3
A307: =A300 -> Wed | B307: =IF(SUMIFS(CashFlow!$C$16:$C$40,CashFlow!$D$16:$D$40,CashFlowCalcs!$E307)>0,SUMIFS(CashFlow!$C$16:$C$40,CashFlow!$D$16:$D$40,CashFlowCalcs!$E307),B306) -> 10 | C307: =IF(LEFT(A307,1)="S","Y","N") -> N | D307: =IF($C307="N",$D306+1,$D306) -> 198 | E307: =E306+1 -> 44657 | F307: =$F$18+((((D307)/($J$5+2)*3))) -> -1.8284024 | G307: =NORMDIST(F307,0,1,0) -> 0.074985078 | H307: =H306+1 -> 44657 | I307: =G307/VLOOKUP($J$5,$D$18:$G$750,4) -> 0.18797288 | J307: =(I307*$G$8)+$G$7 -> 1714279.6 | K307: =N307*O307 -> 0 | L307: =IF(AND(E307>=$H$3,P307=0,E307<=$I$1),J307+K307,0) -> 1714279.6 | M307: =D307 -> 198 | N307: =IF(E307<$J$6,0,IF(E307>=$I$1,0,1))*$I$10 -> 0 | O307: =IF(E307<$J$6,0,IF(E307>=$I$1,0,($J$5-D307)/($J$5-VLOOKUP($J$6,$H$17:$M$750,6)))) -> 0 | P307: 0 | Q307: =D307 -> 198 | R307: =IF(OR(E307<$J$6+1,E307>$I$1),0,1) -> 0 | S307: =(1-(IF(AND(R307=1,D306<$I$2),(1-I306)/(1-VLOOKUP($K$6,$D$17:$I$750,6)),0)))*$M$8 -> 9119824.3
A308: =A301 -> Thu | B308: =IF(SUMIFS(CashFlow!$C$16:$C$40,CashFlow!$D$16:$D$40,CashFlowCalcs!$E308)>0,SUMIFS(CashFlow!$C$16:$C$40,CashFlow!$D$16:$D$40,CashFlowCalcs!$E308),B307) -> 10 | C308: =IF(LEFT(A308,1)="S","Y","N") -> N | D308: =IF($C308="N",$D307+1,$D307) -> 199 | E308: =E307+1 -> 44658 | F308: =$F$18+((((D308)/($J$5+2)*3))) -> -1.8224852 | G308: =NORMDIST(F308,0,1,0) -> 0.075799415 | H308: =H307+1 -> 44658 | I308: =G308/VLOOKUP($J$5,$D$18:$G$750,4) -> 0.19001426 | J308: =(I308*$G$8)+$G$7 -> 1732896.7 | K308: =N308*O308 -> 0 | L308: =IF(AND(E308>=$H$3,P308=0,E308<=$I$1),J308+K308,0) -> 1732896.7 | M308: =D308 -> 199 | N308: =IF(E308<$J$6,0,IF(E308>=$I$1,0,1))*$I$10 -> 0 | O308: =IF(E308<$J$6,0,IF(E308>=$I$1,0,($J$5-D308)/($J$5-VLOOKUP($J$6,$H$17:$M$750,6)))) -> 0 | P308: 0 | Q308: =D308 -> 199 | R308: =IF(OR(E308<$J$6+1,E308>$I$1),0,1) -> 0 | S308: =(1-(IF(AND(R308=1,D307<$I$2),(1-I307)/(1-VLOOKUP($K$6,$D$17:$I$750,6)),0)))*$M$8 -> 9119824.3
A309: =A302 -> Fri | B309: =IF(SUMIFS(CashFlow!$C$16:$C$40,CashFlow!$D$16:$D$40,CashFlowCalcs!$E309)>0,SUMIFS(CashFlow!$C$16:$C$40,CashFlow!$D$16:$D$40,CashFlowCalcs!$E309),B308) -> 10 | C309: =IF(LEFT(A309,1)="S","Y","N") -> N | D309: =IF($C309="N",$D308+1,$D308) -> 200 | E309: =E308+1 -> 44659 | F309: =$F$18+((((D309)/($J$5+2)*3))) -> -1.816568 | G309: =NORMDIST(F309,0,1,0) -> 0.076619914 | H309: =H308+1 -> 44659 | I309: =G309/VLOOKUP($J$5,$D$18:$G$750,4) -> 0.19207109 | J309: =(I309*$G$8)+$G$7 -> 1751654.6 | K309: =N309*O309 -> 0 | L309: =IF(AND(E309>=$H$3,P309=0,E309<=$I$1),J309+K309,0) -> 1751654.6 | M309: =D309 -> 200 | N309: =IF(E309<$J$6,0,IF(E309>=$I$1,0,1))*$I$10 -> 0 | O309: =IF(E309<$J$6,0,IF(E309>=$I$1,0,($J$5-D309)/($J$5-VLOOKUP($J$6,$H$17:$M$750,6)))) -> 0 | P309: 0 | Q309: =D309 -> 200 | R309: =IF(OR(E309<$J$6+1,E309>$I$1),0,1) -> 0 | S309: =(1-(IF(AND(R309=1,D308<$I$2),(1-I308)/(1-VLOOKUP($K$6,$D$17:$I$750,6)),0)))*$M$8 -> 9119824.3
A310: =A303 -> Sat | B310: =IF(SUMIFS(CashFlow!$C$16:$C$40,CashFlow!$D$16:$D$40,CashFlowCalcs!$E310)>0,SUMIFS(CashFlow!$C$16:$C$40,CashFlow!$D$16:$D$40,CashFlowCalcs!$E310),B309) -> 10 | C310: =IF(LEFT(A310,1)="S","Y","N") -> Y | D310: =IF($C310="N",$D309+1,$D309) -> 200 | E310: =E309+1 -> 44660 | F310: =$F$18+((((D310)/($J$5+2)*3))) -> -1.816568 | G310: =NORMDIST(F310,0,1,0) -> 0.076619914 | H310: =H309+1 -> 44660 | I310: =G310/VLOOKUP($J$5,$D$18:$G$750,4) -> 0.19207109 | J310: =(I310*$G$8)+$G$7 -> 1751654.6 | K310: =N310*O310 -> 0 | L310: =IF(AND(E310>=$H$3,P310=0,E310<=$I$1),J310+K310,0) -> 1751654.6 | M310: =D310 -> 200 | N310: =IF(E310<$J$6,0,IF(E310>=$I$1,0,1))*$I$10 -> 0 | O310: =IF(E310<$J$6,0,IF(E310>=$I$1,0,($J$5-D310)/($J$5-VLOOKUP($J$6,$H$17:$M$750,6)))) -> 0 | P310: 0 | Q310: =D310 -> 200 | R310: =IF(OR(E310<$J$6+1,E310>$I$1),0,1) -> 0 | S310: =(1-(IF(AND(R310=1,D309<$I$2),(1-I309)/(1-VLOOKUP($K$6,$D$17:$I$750,6)),0)))*$M$8 -> 9119824.3
A311: =A304 -> Sun | B311: =IF(SUMIFS(CashFlow!$C$16:$C$40,CashFlow!$D$16:$D$40,CashFlowCalcs!$E311)>0,SUMIFS(CashFlow!$C$16:$C$40,CashFlow!$D$16:$D$40,CashFlowCalcs!$E311),B310) -> 10 | C311: =IF(LEFT(A311,1)="S","Y","N") -> Y | D311: =IF($C311="N",$D310+1,$D310) -> 200 | E311: =E310+1 -> 44661 | F311: =$F$18+((((D311)/($J$5+2)*3))) -> -1.816568 | G311: =NORMDIST(F311,0,1,0) -> 0.076619914 | H311: =H310+1 -> 44661 | I311: =G311/VLOOKUP($J$5,$D$18:$G$750,4) -> 0.19207109 | J311: =(I311*$G$8)+$G$7 -> 1751654.6 | K311: =N311*O311 -> 0 | L311: =IF(AND(E311>=$H$3,P311=0,E311<=$I$1),J311+K311,0) -> 1751654.6 | M311: =D311 -> 200 | N311: =IF(E311<$J$6,0,IF(E311>=$I$1,0,1))*$I$10 -> 0 | O311: =IF(E311<$J$6,0,IF(E311>=$I$1,0,($J$5-D311)/($J$5-VLOOKUP($J$6,$H$17:$M$750,6)))) -> 0 | P311: 0 | Q311: =D311 -> 200 | R311: =IF(OR(E311<$J$6+1,E311>$I$1),0,1) -> 0 | S311: =(1-(IF(AND(R311=1,D310<$I$2),(1-I310)/(1-VLOOKUP($K$6,$D$17:$I$750,6)),0)))*$M$8 -> 9119824.3
A312: =A305 -> Mon | B312: =IF(SUMIFS(CashFlow!$C$16:$C$40,CashFlow!$D$16:$D$40,CashFlowCalcs!$E312)>0,SUMIFS(CashFlow!$C$16:$C$40,CashFlow!$D$16:$D$40,CashFlowCalcs!$E312),B311) -> 10 | C312: =IF(LEFT(A312,1)="S","Y","N") -> N | D312: =IF($C312="N",$D311+1,$D311) -> 201 | E312: =E311+1 -> 44662 | F312: =$F$18+((((D312)/($J$5+2)*3))) -> -1.8106509 | G312: =NORMDIST(F312,0,1,0) -> 0.077446581 | H312: =H311+1 -> 44662 | I312: =G312/VLOOKUP($J$5,$D$18:$G$750,4) -> 0.19414339 | J312: =(I312*$G$8)+$G$7 -> 1770553.6 | K312: =N312*O312 -> 0 | L312: =IF(AND(E312>=$H$3,P312=0,E312<=$I$1),J312+K312,0) -> 1770553.6 | M312: =D312 -> 201 | N312: =IF(E312<$J$6,0,IF(E312>=$I$1,0,1))*$I$10 -> 0 | O312: =IF(E312<$J$6,0,IF(E312>=$I$1,0,($J$5-D312)/($J$5-VLOOKUP($J$6,$H$17:$M$750,6)))) -> 0 | P312: 0 | Q312: =D312 -> 201 | R312: =IF(OR(E312<$J$6+1,E312>$I$1),0,1) -> 0 | S312: =(1-(IF(AND(R312=1,D311<$I$2),(1-I311)/(1-VLOOKUP($K$6,$D$17:$I$750,6)),0)))*$M$8 -> 9119824.3
A313: =A306 -> Tues | B313: =IF(SUMIFS(CashFlow!$C$16:$C$40,CashFlow!$D$16:$D$40,CashFlowCalcs!$E313)>0,SUMIFS(CashFlow!$C$16:$C$40,CashFlow!$D$16:$D$40,CashFlowCalcs!$E313),B312) -> 10 | C313: =IF(LEFT(A313,1)="S","Y","N") -> N | D313: =IF($C313="N",$D312+1,$D312) -> 202 | E313: =E312+1 -> 44663 | F313: =$F$18+((((D313)/($J$5+2)*3))) -> -1.8047337 | G313: =NORMDIST(F313,0,1,0) -> 0.078279428 | H313: =H312+1 -> 44663 | I313: =G313/VLOOKUP($J$5,$D$18:$G$750,4) -> 0.19623117 | J313: =(I313*$G$8)+$G$7 -> 1789593.8 | K313: =N313*O313 -> 0 | L313: =IF(AND(E313>=$H$3,P313=0,E313<=$I$1),J313+K313,0) -> 1789593.8 | M313: =D313 -> 202 | N313: =IF(E313<$J$6,0,IF(E313>=$I$1,0,1))*$I$10 -> 0 | O313: =IF(E313<$J$6,0,IF(E313>=$I$1,0,($J$5-D313)/($J$5-VLOOKUP($J$6,$H$17:$M$750,6)))) -> 0 | P313: 0 | Q313: =D313 -> 202 | R313: =IF(OR(E313<$J$6+1,E313>$I$1),0,1) -> 0 | S313: =(1-(IF(AND(R313=1,D312<$I$2),(1-I312)/(1-VLOOKUP($K$6,$D$17:$I$750,6)),0)))*$M$8 -> 9119824.3
A314: =A307 -> Wed | B314: =IF(SUMIFS(CashFlow!$C$16:$C$40,CashFlow!$D$16:$D$40,CashFlowCalcs!$E314)>0,SUMIFS(CashFlow!$C$16:$C$40,CashFlow!$D$16:$D$40,CashFlowCalcs!$E314),B313) -> 10 | C314: =IF(LEFT(A314,1)="S","Y","N") -> N | D314: =IF($C314="N",$D313+1,$D313) -> 203 | E314: =E313+1 -> 44664 | F314: =$F$18+((((D314)/($J$5+2)*3))) -> -1.7988166 | G314: =NORMDIST(F314,0,1,0) -> 0.07911846 | H314: =H313+1 -> 44664 | I314: =G314/VLOOKUP($J$5,$D$18:$G$750,4) -> 0.19833446 | J314: =(I314*$G$8)+$G$7 -> 1808775.4 | K314: =N314*O314 -> 0 | L314: =IF(AND(E314>=$H$3,P314=0,E314<=$I$1),J314+K314,0) -> 1808775.4 | M314: =D314 -> 203 | N314: =IF(E314<$J$6,0,IF(E314>=$I$1,0,1))*$I$10 -> 0 | O314: =IF(E314<$J$6,0,IF(E314>=$I$1,0,($J$5-D314)/($J$5-VLOOKUP($J$6,$H$17:$M$750,6)))) -> 0 | P314: 0 | Q314: =D314 -> 203 | R314: =IF(OR(E314<$J$6+1,E314>$I$1),0,1) -> 0 | S314: =(1-(IF(AND(R314=1,D313<$I$2),(1-I313)/(1-VLOOKUP($K$6,$D$17:$I$750,6)),0)))*$M$8 -> 9119824.3
A315: =A308 -> Thu | B315: =IF(SUMIFS(CashFlow!$C$16:$C$40,CashFlow!$D$16:$D$40,CashFlowCalcs!$E315)>0,SUMIFS(CashFlow!$C$16:$C$40,CashFlow!$D$16:$D$40,CashFlowCalcs!$E315),B314) -> 10 | C315: =IF(LEFT(A315,1)="S","Y","N") -> N | D315: =IF($C315="N",$D314+1,$D314) -> 204 | E315: =E314+1 -> 44665 | F315: =$F$18+((((D315)/($J$5+2)*3))) -> -1.7928994 | G315: =NORMDIST(F315,0,1,0) -> 0.079963686 | H315: =H314+1 -> 44665 | I315: =G315/VLOOKUP($J$5,$D$18:$G$750,4) -> 0.20045327 | J315: =(I315*$G$8)+$G$7 -> 1828098.6 | K315: =N315*O315 -> 0 | L315: =IF(AND(E315>=$H$3,P315=0,E315<=$I$1),J315+K315,0) -> 1828098.6 | M315: =D315 -> 204 | N315: =IF(E315<$J$6,0,IF(E315>=$I$1,0,1))*$I$10 -> 0 | O315: =IF(E315<$J$6,0,IF(E315>=$I$1,0,($J$5-D315)/($J$5-VLOOKUP($J$6,$H$17:$M$750,6)))) -> 0 | P315: 0 | Q315: =D315 -> 204 | R315: =IF(OR(E315<$J$6+1,E315>$I$1),0,1) -> 0 | S315: =(1-(IF(AND(R315=1,D314<$I$2),(1-I314)/(1-VLOOKUP($K$6,$D$17:$I$750,6)),0)))*$M$8 -> 9119824.3
A316: =A309 -> Fri | B316: =IF(SUMIFS(CashFlow!$C$16:$C$40,CashFlow!$D$16:$D$40,CashFlowCalcs!$E316)>0,SUMIFS(CashFlow!$C$16:$C$40,CashFlow!$D$16:$D$40,CashFlowCalcs!$E316),B315) -> 10 | C316: =IF(LEFT(A316,1)="S","Y","N") -> N | D316: =IF($C316="N",$D315+1,$D315) -> 205 | E316: =E315+1 -> 44666 | F316: =$F$18+((((D316)/($J$5+2)*3))) -> -1.7869822 | G316: =NORMDIST(F316,0,1,0) -> 0.080815111 | H316: =H315+1 -> 44666 | I316: =G316/VLOOKUP($J$5,$D$18:$G$750,4) -> 0.20258763 | J316: =(I316*$G$8)+$G$7 -> 1847563.6 | K316: =N316*O316 -> 0 | L316: =IF(AND(E316>=$H$3,P316=0,E316<=$I$1),J316+K316,0) -> 1847563.6 | M316: =D316 -> 205 | N316: =IF(E316<$J$6,0,IF(E316>=$I$1,0,1))*$I$10 -> 0 | O316: =IF(E316<$J$6,0,IF(E316>=$I$1,0,($J$5-D316)/($J$5-VLOOKUP($J$6,$H$17:$M$750,6)))) -> 0 | P316: 0 | Q316: =D316 -> 205 | R316: =IF(OR(E316<$J$6+1,E316>$I$1),0,1) -> 0 | S316: =(1-(IF(AND(R316=1,D315<$I$2),(1-I315)/(1-VLOOKUP($K$6,$D$17:$I$750,6)),0)))*$M$8 -> 9119824.3
A317: =A310 -> Sat | B317: =IF(SUMIFS(CashFlow!$C$16:$C$40,CashFlow!$D$16:$D$40,CashFlowCalcs!$E317)>0,SUMIFS(CashFlow!$C$16:$C$40,CashFlow!$D$16:$D$40,CashFlowCalcs!$E317),B316) -> 10 | C317: =IF(LEFT(A317,1)="S","Y","N") -> Y | D317: =IF($C317="N",$D316+1,$D316) -> 205 | E317: =E316+1 -> 44667 | F317: =$F$18+((((D317)/($J$5+2)*3))) -> -1.7869822 | G317: =NORMDIST(F317,0,1,0) -> 0.080815111 | H317: =H316+1 -> 44667 | I317: =G317/VLOOKUP($J$5,$D$18:$G$750,4) -> 0.20258763 | J317: =(I317*$G$8)+$G$7 -> 1847563.6 | K317: =N317*O317 -> 0 | L317: =IF(AND(E317>=$H$3,P317=0,E317<=$I$1),J317+K317,0) -> 1847563.6 | M317: =D317 -> 205 | N317: =IF(E317<$J$6,0,IF(E317>=$I$1,0,1))*$I$10 -> 0 | O317: =IF(E317<$J$6,0,IF(E317>=$I$1,0,($J$5-D317)/($J$5-VLOOKUP($J$6,$H$17:$M$750,6)))) -> 0 | P317: 0 | Q317: =D317 -> 205 | R317: =IF(OR(E317<$J$6+1,E317>$I$1),0,1) -> 0 | S317: =(1-(IF(AND(R317=1,D316<$I$2),(1-I316)/(1-VLOOKUP($K$6,$D$17:$I$750,6)),0)))*$M$8 -> 9119824.3
... A647: =A640 -> Sun | B647: =IF(SUMIFS(CashFlow!$C$16:$C$40,CashFlow!$D$16:$D$40,CashFlowCalcs!$E647)>0,SUMIFS(CashFlow!$C$16:$C$40,CashFlow!$D$16:$D$40,CashFlowCalcs!$E647),B646) -> 20 | C647: =IF(LEFT(A647,1)="S","Y","N") -> Y | D647: =IF($C647="N",$D646+1,$D646) -> 440 | E647: =E646+1 -> 44997 | F647: =$F$18+((((D647)/($J$5+2)*3))) -> -0.3964497 | G647: =NORMDIST(F647,0,1,0) -> 0.36879117 | H647: =H646+1 -> 44997 | I647: =G647/VLOOKUP($J$5,$D$18:$G$750,4) -> 0.92448712 | J647: =(I647*$G$8)+$G$7 -> 8431160.1 | K647: =N647*O647 -> 0 | L647: =IF(AND(E647>=$H$3,P647=0,E647<=$I$1),J647+K647,0) -> 8431160.1 | M647: =D647 -> 440 | N647: =IF(E647<$J$6,0,IF(E647>=$I$1,0,1))*$I$10 -> 0 | O647: =IF(E647<$J$6,0,IF(E647>=$I$1,0,($J$5-D647)/($J$5-VLOOKUP($J$6,$H$17:$M$750,6)))) -> 0 | P647: 0 | Q647: =D647 -> 440 | R647: =IF(OR(E647<$J$6+1,E647>$I$1),0,1) -> 0 | S647: =(1-(IF(AND(R647=1,D646<$I$2),(1-I646)/(1-VLOOKUP($K$6,$D$17:$I$750,6)),0)))*$M$8 -> 9119824.3
A648: =A641 -> Mon | B648: =IF(SUMIFS(CashFlow!$C$16:$C$40,CashFlow!$D$16:$D$40,CashFlowCalcs!$E648)>0,SUMIFS(CashFlow!$C$16:$C$40,CashFlow!$D$16:$D$40,CashFlowCalcs!$E648),B647) -> 20 | C648: Y | D648: =IF($C648="N",$D647+1,$D647) -> 440 | E648: =E647+1 -> 44998 | F648: =$F$18+((((D648)/($J$5+2)*3))) -> -0.3964497 | G648: =NORMDIST(F648,0,1,0) -> 0.36879117 | H648: =H647+1 -> 44998 | I648: =G648/VLOOKUP($J$5,$D$18:$G$750,4) -> 0.92448712 | J648: =(I648*$G$8)+$G$7 -> 8431160.1 | K648: =N648*O648 -> 0 | L648: =IF(AND(E648>=$H$3,P648=0,E648<=$I$1),J648+K648,0) -> 8431160.1 | M648: =D648 -> 440 | N648: =IF(E648<$J$6,0,IF(E648>=$I$1,0,1))*$I$10 -> 0 | O648: =IF(E648<$J$6,0,IF(E648>=$I$1,0,($J$5-D648)/($J$5-VLOOKUP($J$6,$H$17:$M$750,6)))) -> 0 | P648: 0 | Q648: =D648 -> 440 | R648: =IF(OR(E648<$J$6+1,E648>$I$1),0,1) -> 0 | S648: =(1-(IF(AND(R648=1,D647<$I$2),(1-I647)/(1-VLOOKUP($K$6,$D$17:$I$750,6)),0)))*$M$8 -> 9119824.3
A649: =A642 -> Tues | B649: =IF(SUMIFS(CashFlow!$C$16:$C$40,CashFlow!$D$16:$D$40,CashFlowCalcs!$E649)>0,SUMIFS(CashFlow!$C$16:$C$40,CashFlow!$D$16:$D$40,CashFlowCalcs!$E649),B648) -> 20 | C649: Y | D649: =IF($C649="N",$D648+1,$D648) -> 440 | E649: =E648+1 -> 44999 | F649: =$F$18+((((D649)/($J$5+2)*3))) -> -0.3964497 | G649: =NORMDIST(F649,0,1,0) -> 0.36879117 | H649: =H648+1 -> 44999 | I649: =G649/VLOOKUP($J$5,$D$18:$G$750,4) -> 0.92448712 | J649: =(I649*$G$8)+$G$7 -> 8431160.1 | K649: =N649*O649 -> 0 | L649: =IF(AND(E649>=$H$3,P649=0,E649<=$I$1),J649+K649,0) -> 8431160.1 | M649: =D649 -> 440 | N649: =IF(E649<$J$6,0,IF(E649>=$I$1,0,1))*$I$10 -> 0 | O649: =IF(E649<$J$6,0,IF(E649>=$I$1,0,($J$5-D649)/($J$5-VLOOKUP($J$6,$H$17:$M$750,6)))) -> 0 | P649: 0 | Q649: =D649 -> 440 | R649: =IF(OR(E649<$J$6+1,E649>$I$1),0,1) -> 0 | S649: =(1-(IF(AND(R649=1,D648<$I$2),(1-I648)/(1-VLOOKUP($K$6,$D$17:$I$750,6)),0)))*$M$8 -> 9119824.3
A650: =A643 -> Wed | B650: =IF(SUMIFS(CashFlow!$C$16:$C$40,CashFlow!$D$16:$D$40,CashFlowCalcs!$E650)>0,SUMIFS(CashFlow!$C$16:$C$40,CashFlow!$D$16:$D$40,CashFlowCalcs!$E650),B649) -> 20 | C650: Y | D650: =IF($C650="N",$D649+1,$D649) -> 440 | E650: =E649+1 -> 45000 | F650: =$F$18+((((D650)/($J$5+2)*3))) -> -0.3964497 | G650: =NORMDIST(F650,0,1,0) -> 0.36879117 | H650: =H649+1 -> 45000 | I650: =G650/VLOOKUP($J$5,$D$18:$G$750,4) -> 0.92448712 | J650: =(I650*$G$8)+$G$7 -> 8431160.1 | K650: =N650*O650 -> 0 | L650: =IF(AND(E650>=$H$3,P650=0,E650<=$I$1),J650+K650,0) -> 8431160.1 | M650: =D650 -> 440 | N650: =IF(E650<$J$6,0,IF(E650>=$I$1,0,1))*$I$10 -> 0 | O650: =IF(E650<$J$6,0,IF(E650>=$I$1,0,($J$5-D650)/($J$5-VLOOKUP($J$6,$H$17:$M$750,6)))) -> 0 | P650: 0 | Q650: =D650 -> 440 | R650: =IF(OR(E650<$J$6+1,E650>$I$1),0,1) -> 0 | S650: =(1-(IF(AND(R650=1,D649<$I$2),(1-I649)/(1-VLOOKUP($K$6,$D$17:$I$750,6)),0)))*$M$8 -> 9119824.3
A651: =A644 -> Thu | B651: =IF(SUMIFS(CashFlow!$C$16:$C$40,CashFlow!$D$16:$D$40,CashFlowCalcs!$E651)>0,SUMIFS(CashFlow!$C$16:$C$40,CashFlow!$D$16:$D$40,CashFlowCalcs!$E651),B650) -> 20 | C651: Y | D651: =IF($C651="N",$D650+1,$D650) -> 440 | E651: =E650+1 -> 45001 | F651: =$F$18+((((D651)/($J$5+2)*3))) -> -0.3964497 | G651: =NORMDIST(F651,0,1,0) -> 0.36879117 | H651: =H650+1 -> 45001 | I651: =G651/VLOOKUP($J$5,$D$18:$G$750,4) -> 0.92448712 | J651: =(I651*$G$8)+$G$7 -> 8431160.1 | K651: =N651*O651 -> 0 | L651: =IF(AND(E651>=$H$3,P651=0,E651<=$I$1),J651+K651,0) -> 8431160.1 | M651: =D651 -> 440 | N651: =IF(E651<$J$6,0,IF(E651>=$I$1,0,1))*$I$10 -> 0 | O651: =IF(E651<$J$6,0,IF(E651>=$I$1,0,($J$5-D651)/($J$5-VLOOKUP($J$6,$H$17:$M$750,6)))) -> 0 | P651: 0 | Q651: =D651 -> 440 | R651: =IF(OR(E651<$J$6+1,E651>$I$1),0,1) -> 0 | S651: =(1-(IF(AND(R651=1,D650<$I$2),(1-I650)/(1-VLOOKUP($K$6,$D$17:$I$750,6)),0)))*$M$8 -> 9119824.3
A652: =A645 -> Fri | B652: =IF(SUMIFS(CashFlow!$C$16:$C$40,CashFlow!$D$16:$D$40,CashFlowCalcs!$E652)>0,SUMIFS(CashFlow!$C$16:$C$40,CashFlow!$D$16:$D$40,CashFlowCalcs!$E652),B651) -> 20 | C652: Y | D652: =IF($C652="N",$D651+1,$D651) -> 440 | E652: =E651+1 -> 45002 | F652: =$F$18+((((D652)/($J$5+2)*3))) -> -0.3964497 | G652: =NORMDIST(F652,0,1,0) -> 0.36879117 | H652: =H651+1 -> 45002 | I652: =G652/VLOOKUP($J$5,$D$18:$G$750,4) -> 0.92448712 | J652: =(I652*$G$8)+$G$7 -> 8431160.1 | K652: =N652*O652 -> 0 | L652: =IF(AND(E652>=$H$3,P652=0,E652<=$I$1),J652+K652,0) -> 8431160.1 | M652: =D652 -> 440 | N652: =IF(E652<$J$6,0,IF(E652>=$I$1,0,1))*$I$10 -> 0 | O652: =IF(E652<$J$6,0,IF(E652>=$I$1,0,($J$5-D652)/($J$5-VLOOKUP($J$6,$H$17:$M$750,6)))) -> 0 | P652: 0 | Q652: =D652 -> 440 | R652: =IF(OR(E652<$J$6+1,E652>$I$1),0,1) -> 0 | S652: =(1-(IF(AND(R652=1,D651<$I$2),(1-I651)/(1-VLOOKUP($K$6,$D$17:$I$750,6)),0)))*$M$8 -> 9119824.3
A653: =A646 -> Sat | B653: =IF(SUMIFS(CashFlow!$C$16:$C$40,CashFlow!$D$16:$D$40,CashFlowCalcs!$E653)>0,SUMIFS(CashFlow!$C$16:$C$40,CashFlow!$D$16:$D$40,CashFlowCalcs!$E653),B652) -> 20 | C653: =IF(LEFT(A653,1)="S","Y","N") -> Y | D653: =IF($C653="N",$D652+1,$D652) -> 440 | E653: =E652+1 -> 45003 | F653: =$F$18+((((D653)/($J$5+2)*3))) -> -0.3964497 | G653: =NORMDIST(F653,0,1,0) -> 0.36879117 | H653: =H652+1 -> 45003 | I653: =G653/VLOOKUP($J$5,$D$18:$G$750,4) -> 0.92448712 | J653: =(I653*$G$8)+$G$7 -> 8431160.1 | K653: =N653*O653 -> 0 | L653: =IF(AND(E653>=$H$3,P653=0,E653<=$I$1),J653+K653,0) -> 8431160.1 | M653: =D653 -> 440 | N653: =IF(E653<$J$6,0,IF(E653>=$I$1,0,1))*$I$10 -> 0 | O653: =IF(E653<$J$6,0,IF(E653>=$I$1,0,($J$5-D653)/($J$5-VLOOKUP($J$6,$H$17:$M$750,6)))) -> 0 | P653: 0 | Q653: =D653 -> 440 | R653: =IF(OR(E653<$J$6+1,E653>$I$1),0,1) -> 0 | S653: =(1-(IF(AND(R653=1,D652<$I$2),(1-I652)/(1-VLOOKUP($K$6,$D$17:$I$750,6)),0)))*$M$8 -> 9119824.3
A654: =A647 -> Sun | B654: =IF(SUMIFS(CashFlow!$C$16:$C$40,CashFlow!$D$16:$D$40,CashFlowCalcs!$E654)>0,SUMIFS(CashFlow!$C$16:$C$40,CashFlow!$D$16:$D$40,CashFlowCalcs!$E654),B653) -> 20 | C654: =IF(LEFT(A654,1)="S","Y","N") -> Y | D654: =IF($C654="N",$D653+1,$D653) -> 440 | E654: =E653+1 -> 45004 | F654: =$F$18+((((D654)/($J$5+2)*3))) -> -0.3964497 | G654: =NORMDIST(F654,0,1,0) -> 0.36879117 | H654: =H653+1 -> 45004 | I654: =G654/VLOOKUP($J$5,$D$18:$G$750,4) -> 0.92448712 | J654: =(I654*$G$8)+$G$7 -> 8431160.1 | K654: =N654*O654 -> 0 | L654: =IF(AND(E654>=$H$3,P654=0,E654<=$I$1),J654+K654,0) -> 8431160.1 | M654: =D654 -> 440 | N654: =IF(E654<$J$6,0,IF(E654>=$I$1,0,1))*$I$10 -> 0 | O654: =IF(E654<$J$6,0,IF(E654>=$I$1,0,($J$5-D654)/($J$5-VLOOKUP($J$6,$H$17:$M$750,6)))) -> 0 | P654: 0 | Q654: =D654 -> 440 | R654: =IF(OR(E654<$J$6+1,E654>$I$1),0,1) -> 0 | S654: =(1-(IF(AND(R654=1,D653<$I$2),(1-I653)/(1-VLOOKUP($K$6,$D$17:$I$750,6)),0)))*$M$8 -> 9119824.3
A655: =A648 -> Mon | B655: =IF(SUMIFS(CashFlow!$C$16:$C$40,CashFlow!$D$16:$D$40,CashFlowCalcs!$E655)>0,SUMIFS(CashFlow!$C$16:$C$40,CashFlow!$D$16:$D$40,CashFlowCalcs!$E655),B654) -> 20 | C655: Y | D655: =IF($C655="N",$D654+1,$D654) -> 440 | E655: =E654+1 -> 45005 | F655: =$F$18+((((D655)/($J$5+2)*3))) -> -0.3964497 | G655: =NORMDIST(F655,0,1,0) -> 0.36879117 | H655: =H654+1 -> 45005 | I655: =G655/VLOOKUP($J$5,$D$18:$G$750,4) -> 0.92448712 | J655: =(I655*$G$8)+$G$7 -> 8431160.1 | K655: =N655*O655 -> 0 | L655: =IF(AND(E655>=$H$3,P655=0,E655<=$I$1),J655+K655,0) -> 8431160.1 | M655: =D655 -> 440 | N655: =IF(E655<$J$6,0,IF(E655>=$I$1,0,1))*$I$10 -> 0 | O655: =IF(E655<$J$6,0,IF(E655>=$I$1,0,($J$5-D655)/($J$5-VLOOKUP($J$6,$H$17:$M$750,6)))) -> 0 | P655: 0 | Q655: =D655 -> 440 | R655: =IF(OR(E655<$J$6+1,E655>$I$1),0,1) -> 0 | S655: =(1-(IF(AND(R655=1,D654<$I$2),(1-I654)/(1-VLOOKUP($K$6,$D$17:$I$750,6)),0)))*$M$8 -> 9119824.3
A656: =A649 -> Tues | B656: =IF(SUMIFS(CashFlow!$C$16:$C$40,CashFlow!$D$16:$D$40,CashFlowCalcs!$E656)>0,SUMIFS(CashFlow!$C$16:$C$40,CashFlow!$D$16:$D$40,CashFlowCalcs!$E656),B655) -> 20 | C656: Y | D656: =IF($C656="N",$D655+1,$D655) -> 440 | E656: =E655+1 -> 45006 | F656: =$F$18+((((D656)/($J$5+2)*3))) -> -0.3964497 | G656: =NORMDIST(F656,0,1,0) -> 0.36879117 | H656: =H655+1 -> 45006 | I656: =G656/VLOOKUP($J$5,$D$18:$G$750,4) -> 0.92448712 | J656: =(I656*$G$8)+$G$7 -> 8431160.1 | K656: =N656*O656 -> 0 | L656: =IF(AND(E656>=$H$3,P656=0,E656<=$I$1),J656+K656,0) -> 8431160.1 | M656: =D656 -> 440 | N656: =IF(E656<$J$6,0,IF(E656>=$I$1,0,1))*$I$10 -> 0 | O656: =IF(E656<$J$6,0,IF(E656>=$I$1,0,($J$5-D656)/($J$5-VLOOKUP($J$6,$H$17:$M$750,6)))) -> 0 | P656: 0 | Q656: =D656 -> 440 | R656: =IF(OR(E656<$J$6+1,E656>$I$1),0,1) -> 0 | S656: =(1-(IF(AND(R656=1,D655<$I$2),(1-I655)/(1-VLOOKUP($K$6,$D$17:$I$750,6)),0)))*$M$8 -> 9119824.3
A657: =A650 -> Wed | B657: =IF(SUMIFS(CashFlow!$C$16:$C$40,CashFlow!$D$16:$D$40,CashFlowCalcs!$E657)>0,SUMIFS(CashFlow!$C$16:$C$40,CashFlow!$D$16:$D$40,CashFlowCalcs!$E657),B656) -> 20 | C657: Y | D657: =IF($C657="N",$D656+1,$D656) -> 440 | E657: =E656+1 -> 45007 | F657: =$F$18+((((D657)/($J$5+2)*3))) -> -0.3964497 | G657: =NORMDIST(F657,0,1,0) -> 0.36879117 | H657: =H656+1 -> 45007 | I657: =G657/VLOOKUP($J$5,$D$18:$G$750,4) -> 0.92448712 | J657: =(I657*$G$8)+$G$7 -> 8431160.1 | K657: =N657*O657 -> 0 | L657: =IF(AND(E657>=$H$3,P657=0,E657<=$I$1),J657+K657,0) -> 8431160.1 | M657: =D657 -> 440 | N657: =IF(E657<$J$6,0,IF(E657>=$I$1,0,1))*$I$10 -> 0 | O657: =IF(E657<$J$6,0,IF(E657>=$I$1,0,($J$5-D657)/($J$5-VLOOKUP($J$6,$H$17:$M$750,6)))) -> 0 | P657: 0 | Q657: =D657 -> 440 | R657: =IF(OR(E657<$J$6+1,E657>$I$1),0,1) -> 0 | S657: =(1-(IF(AND(R657=1,D656<$I$2),(1-I656)/(1-VLOOKUP($K$6,$D$17:$I$750,6)),0)))*$M$8 -> 9119824.3
A658: =A651 -> Thu | B658: =IF(SUMIFS(CashFlow!$C$16:$C$40,CashFlow!$D$16:$D$40,CashFlowCalcs!$E658)>0,SUMIFS(CashFlow!$C$16:$C$40,CashFlow!$D$16:$D$40,CashFlowCalcs!$E658),B657) -> 20 | C658: Y | D658: =IF($C658="N",$D657+1,$D657) -> 440 | E658: =E657+1 -> 45008 | F658: =$F$18+((((D658)/($J$5+2)*3))) -> -0.3964497 | G658: =NORMDIST(F658,0,1,0) -> 0.36879117 | H658: =H657+1 -> 45008 | I658: =G658/VLOOKUP($J$5,$D$18:$G$750,4) -> 0.92448712 | J658: =(I658*$G$8)+$G$7 -> 8431160.1 | K658: =N658*O658 -> 0 | L658: =IF(AND(E658>=$H$3,P658=0,E658<=$I$1),J658+K658,0) -> 8431160.1 | M658: =D658 -> 440 | N658: =IF(E658<$J$6,0,IF(E658>=$I$1,0,1))*$I$10 -> 0 | O658: =IF(E658<$J$6,0,IF(E658>=$I$1,0,($J$5-D658)/($J$5-VLOOKUP($J$6,$H$17:$M$750,6)))) -> 0 | P658: 0 | Q658: =D658 -> 440 | R658: =IF(OR(E658<$J$6+1,E658>$I$1),0,1) -> 0 | S658: =(1-(IF(AND(R658=1,D657<$I$2),(1-I657)/(1-VLOOKUP($K$6,$D$17:$I$750,6)),0)))*$M$8 -> 9119824.3
A659: =A652 -> Fri | B659: =IF(SUMIFS(CashFlow!$C$16:$C$40,CashFlow!$D$16:$D$40,CashFlowCalcs!$E659)>0,SUMIFS(CashFlow!$C$16:$C$40,CashFlow!$D$16:$D$40,CashFlowCalcs!$E659),B658) -> 20 | C659: Y | D659: =IF($C659="N",$D658+1,$D658) -> 440 | E659: =E658+1 -> 45009 | F659: =$F$18+((((D659)/($J$5+2)*3))) -> -0.3964497 | G659: =NORMDIST(F659,0,1,0) -> 0.36879117 | H659: =H658+1 -> 45009 | I659: =G659/VLOOKUP($J$5,$D$18:$G$750,4) -> 0.92448712 | J659: =(I659*$G$8)+$G$7 -> 8431160.1 | K659: =N659*O659 -> 0 | L659: =IF(AND(E659>=$H$3,P659=0,E659<=$I$1),J659+K659,0) -> 8431160.1 | M659: =D659 -> 440 | N659: =IF(E659<$J$6,0,IF(E659>=$I$1,0,1))*$I$10 -> 0 | O659: =IF(E659<$J$6,0,IF(E659>=$I$1,0,($J$5-D659)/($J$5-VLOOKUP($J$6,$H$17:$M$750,6)))) -> 0 | P659: 0 | Q659: =D659 -> 440 | R659: =IF(OR(E659<$J$6+1,E659>$I$1),0,1) -> 0 | S659: =(1-(IF(AND(R659=1,D658<$I$2),(1-I658)/(1-VLOOKUP($K$6,$D$17:$I$750,6)),0)))*$M$8 -> 9119824.3
A660: =A653 -> Sat | B660: =IF(SUMIFS(CashFlow!$C$16:$C$40,CashFlow!$D$16:$D$40,CashFlowCalcs!$E660)>0,SUMIFS(CashFlow!$C$16:$C$40,CashFlow!$D$16:$D$40,CashFlowCalcs!$E660),B659) -> 20 | C660: =IF(LEFT(A660,1)="S","Y","N") -> Y | D660: =IF($C660="N",$D659+1,$D659) -> 440 | E660: =E659+1 -> 45010 | F660: =$F$18+((((D660)/($J$5+2)*3))) -> -0.3964497 | G660: =NORMDIST(F660,0,1,0) -> 0.36879117 | H660: =H659+1 -> 45010 | I660: =G660/VLOOKUP($J$5,$D$18:$G$750,4) -> 0.92448712 | J660: =(I660*$G$8)+$G$7 -> 8431160.1 | K660: =N660*O660 -> 0 | L660: =IF(AND(E660>=$H$3,P660=0,E660<=$I$1),J660+K660,0) -> 8431160.1 | M660: =D660 -> 440 | N660: =IF(E660<$J$6,0,IF(E660>=$I$1,0,1))*$I$10 -> 0 | O660: =IF(E660<$J$6,0,IF(E660>=$I$1,0,($J$5-D660)/($J$5-VLOOKUP($J$6,$H$17:$M$750,6)))) -> 0 | P660: 0 | Q660: =D660 -> 440 | R660: =IF(OR(E660<$J$6+1,E660>$I$1),0,1) -> 0 | S660: =(1-(IF(AND(R660=1,D659<$I$2),(1-I659)/(1-VLOOKUP($K$6,$D$17:$I$750,6)),0)))*$M$8 -> 9119824.3
A661: =A654 -> Sun | B661: =IF(SUMIFS(CashFlow!$C$16:$C$40,CashFlow!$D$16:$D$40,CashFlowCalcs!$E661)>0,SUMIFS(CashFlow!$C$16:$C$40,CashFlow!$D$16:$D$40,CashFlowCalcs!$E661),B660) -> 20 | C661: =IF(LEFT(A661,1)="S","Y","N") -> Y | D661: =IF($C661="N",$D660+1,$D660) -> 440 | E661: =E660+1 -> 45011 | F661: =$F$18+((((D661)/($J$5+2)*3))) -> -0.3964497 | G661: =NORMDIST(F661,0,1,0) -> 0.36879117 | H661: =H660+1 -> 45011 | I661: =G661/VLOOKUP($J$5,$D$18:$G$750,4) -> 0.92448712 | J661: =(I661*$G$8)+$G$7 -> 8431160.1 | K661: =N661*O661 -> 0 | L661: =IF(AND(E661>=$H$3,P661=0,E661<=$I$1),J661+K661,0) -> 8431160.1 | M661: =D661 -> 440 | N661: =IF(E661<$J$6,0,IF(E661>=$I$1,0,1))*$I$10 -> 0 | O661: =IF(E661<$J$6,0,IF(E661>=$I$1,0,($J$5-D661)/($J$5-VLOOKUP($J$6,$H$17:$M$750,6)))) -> 0 | P661: 0 | Q661: =D661 -> 440 | R661: =IF(OR(E661<$J$6+1,E661>$I$1),0,1) -> 0 | S661: =(1-(IF(AND(R661=1,D660<$I$2),(1-I660)/(1-VLOOKUP($K$6,$D$17:$I$750,6)),0)))*$M$8 -> 9119824.3
A662: =A655 -> Mon | B662: =IF(SUMIFS(CashFlow!$C$16:$C$40,CashFlow!$D$16:$D$40,CashFlowCalcs!$E662)>0,SUMIFS(CashFlow!$C$16:$C$40,CashFlow!$D$16:$D$40,CashFlowCalcs!$E662),B661) -> 20 | C662: =IF(LEFT(A662,1)="S","Y","N") -> N | D662: =IF($C662="N",$D661+1,$D661) -> 441 | E662: =E661+1 -> 45012 | F662: =$F$18+((((D662)/($J$5+2)*3))) -> -0.39053254 | G662: =NORMDIST(F662,0,1,0) -> 0.36965085 | H662: =H661+1 -> 45012 | I662: =G662/VLOOKUP($J$5,$D$18:$G$750,4) -> 0.92664216 | J662: =(I662*$G$8)+$G$7 -> 8450813.6 | K662: =N662*O662 -> 0 | L662: =IF(AND(E662>=$H$3,P662=0,E662<=$I$1),J662+K662,0) -> 8450813.6 | M662: =D662 -> 441 | N662: =IF(E662<$J$6,0,IF(E662>=$I$1,0,1))*$I$10 -> 0 | O662: =IF(E662<$J$6,0,IF(E662>=$I$1,0,($J$5-D662)/($J$5-VLOOKUP($J$6,$H$17:$M$750,6)))) -> 0 | P662: 0 | Q662: =D662 -> 441 | R662: =IF(OR(E662<$J$6+1,E662>$I$1),0,1) -> 0 | S662: =(1-(IF(AND(R662=1,D661<$I$2),(1-I661)/(1-VLOOKUP($K$6,$D$17:$I$750,6)),0)))*$M$8 -> 9119824.3
A663: =A656 -> Tues | B663: =IF(SUMIFS(CashFlow!$C$16:$C$40,CashFlow!$D$16:$D$40,CashFlowCalcs!$E663)>0,SUMIFS(CashFlow!$C$16:$C$40,CashFlow!$D$16:$D$40,CashFlowCalcs!$E663),B662) -> 20 | C663: =IF(LEFT(A663,1)="S","Y","N") -> N | D663: =IF($C663="N",$D662+1,$D662) -> 442 | E663: =E662+1 -> 45013 | F663: =$F$18+((((D663)/($J$5+2)*3))) -> -0.38461538 | G663: =NORMDIST(F663,0,1,0) -> 0.37049956 | H663: =H662+1 -> 45013 | I663: =G663/VLOOKUP($J$5,$D$18:$G$750,4) -> 0.9287697 | J663: =(I663*$G$8)+$G$7 -> 8470216.4 | K663: =N663*O663 -> 0 | L663: =IF(AND(E663>=$H$3,P663=0,E663<=$I$1),J663+K663,0) -> 8470216.4 | M663: =D663 -> 442 | N663: =IF(E663<$J$6,0,IF(E663>=$I$1,0,1))*$I$10 -> 0 | O663: =IF(E663<$J$6,0,IF(E663>=$I$1,0,($J$5-D663)/($J$5-VLOOKUP($J$6,$H$17:$M$750,6)))) -> 0 | P663: 0 | Q663: =D663 -> 442 | R663: =IF(OR(E663<$J$6+1,E663>$I$1),0,1) -> 0 | S663: =(1-(IF(AND(R663=1,D662<$I$2),(1-I662)/(1-VLOOKUP($K$6,$D$17:$I$750,6)),0)))*$M$8 -> 9119824.3
A664: =A657 -> Wed | B664: =IF(SUMIFS(CashFlow!$C$16:$C$40,CashFlow!$D$16:$D$40,CashFlowCalcs!$E664)>0,SUMIFS(CashFlow!$C$16:$C$40,CashFlow!$D$16:$D$40,CashFlowCalcs!$E664),B663) -> 20 | C664: =IF(LEFT(A664,1)="S","Y","N") -> N | D664: =IF($C664="N",$D663+1,$D663) -> 443 | E664: =E663+1 -> 45014 | F664: =$F$18+((((D664)/($J$5+2)*3))) -> -0.37869822 | G664: =NORMDIST(F664,0,1,0) -> 0.37133721 | H664: =H663+1 -> 45014 | I664: =G664/VLOOKUP($J$5,$D$18:$G$750,4) -> 0.93086953 | J664: =(I664*$G$8)+$G$7 -> 8489366.6 | K664: =N664*O664 -> 0 | L664: =IF(AND(E664>=$H$3,P664=0,E664<=$I$1),J664+K664,0) -> 8489366.6 | M664: =D664 -> 443 | N664: =IF(E664<$J$6,0,IF(E664>=$I$1,0,1))*$I$10 -> 0 | O664: =IF(E664<$J$6,0,IF(E664>=$I$1,0,($J$5-D664)/($J$5-VLOOKUP($J$6,$H$17:$M$750,6)))) -> 0 | P664: 0 | Q664: =D664 -> 443 | R664: =IF(OR(E664<$J$6+1,E664>$I$1),0,1) -> 0 | S664: =(1-(IF(AND(R664=1,D663<$I$2),(1-I663)/(1-VLOOKUP($K$6,$D$17:$I$750,6)),0)))*$M$8 -> 9119824.3
A665: =A658 -> Thu | B665: =IF(SUMIFS(CashFlow!$C$16:$C$40,CashFlow!$D$16:$D$40,CashFlowCalcs!$E665)>0,SUMIFS(CashFlow!$C$16:$C$40,CashFlow!$D$16:$D$40,CashFlowCalcs!$E665),B664) -> 22 | C665: =IF(LEFT(A665,1)="S","Y","N") -> N | D665: =IF($C665="N",$D664+1,$D664) -> 444 | E665: =E664+1 -> 45015 | F665: =$F$18+((((D665)/($J$5+2)*3))) -> -0.37278107 | G665: =NORMDIST(F665,0,1,0) -> 0.37216373 | H665: =H664+1 -> 45015 | I665: =G665/VLOOKUP($J$5,$D$18:$G$750,4) -> 0.93294145 | J665: =(I665*$G$8)+$G$7 -> 8508262.1 | K665: =N665*O665 -> 0 | L665: =IF(AND(E665>=$H$3,P665=0,E665<=$I$1),J665+K665,0) -> 8508262.1 | M665: =D665 -> 444 | N665: =IF(E665<$J$6,0,IF(E665>=$I$1,0,1))*$I$10 -> 0 | O665: =IF(E665<$J$6,0,IF(E665>=$I$1,0,($J$5-D665)/($J$5-VLOOKUP($J$6,$H$17:$M$750,6)))) -> 0 | P665: 0 | Q665: =D665 -> 444 | R665: =IF(OR(E665<$J$6+1,E665>$I$1),0,1) -> 0 | S665: =(1-(IF(AND(R665=1,D664<$I$2),(1-I664)/(1-VLOOKUP($K$6,$D$17:$I$750,6)),0)))*$M$8 -> 9119824.3
A666: =A659 -> Fri | B666: =IF(SUMIFS(CashFlow!$C$16:$C$40,CashFlow!$D$16:$D$40,CashFlowCalcs!$E666)>0,SUMIFS(CashFlow!$C$16:$C$40,CashFlow!$D$16:$D$40,CashFlowCalcs!$E666),B665) -> 22 | C666: =IF(LEFT(A666,1)="S","Y","N") -> N | D666: =IF($C666="N",$D665+1,$D665) -> 445 | E666: =E665+1 -> 45016 | F666: =$F$18+((((D666)/($J$5+2)*3))) -> -0.36686391 | G666: =NORMDIST(F666,0,1,0) -> 0.37297902 | H666: =H665+1 -> 45016 | I666: =G666/VLOOKUP($J$5,$D$18:$G$750,4) -> 0.93498524 | J666: =(I666*$G$8)+$G$7 -> 8526901.1 | K666: =N666*O666 -> 0 | L666: =IF(AND(E666>=$H$3,P666=0,E666<=$I$1),J666+K666,0) -> 8526901.1 | M666: =D666 -> 445 | N666: =IF(E666<$J$6,0,IF(E666>=$I$1,0,1))*$I$10 -> 0 | O666: =IF(E666<$J$6,0,IF(E666>=$I$1,0,($J$5-D666)/($J$5-VLOOKUP($J$6,$H$17:$M$750,6)))) -> 0 | P666: 0 | Q666: =D666 -> 445 | R666: =IF(OR(E666<$J$6+1,E666>$I$1),0,1) -> 0 | S666: =(1-(IF(AND(R666=1,D665<$I$2),(1-I665)/(1-VLOOKUP($K$6,$D$17:$I$750,6)),0)))*$M$8 -> 9119824.3
A667: =A660 -> Sat | B667: =IF(SUMIFS(CashFlow!$C$16:$C$40,CashFlow!$D$16:$D$40,CashFlowCalcs!$E667)>0,SUMIFS(CashFlow!$C$16:$C$40,CashFlow!$D$16:$D$40,CashFlowCalcs!$E667),B666) -> 22 | C667: =IF(LEFT(A667,1)="S","Y","N") -> Y | D667: =IF($C667="N",$D666+1,$D666) -> 445 | E667: =E666+1 -> 45017 | F667: =$F$18+((((D667)/($J$5+2)*3))) -> -0.36686391 | G667: =NORMDIST(F667,0,1,0) -> 0.37297902 | H667: =H666+1 -> 45017 | I667: =G667/VLOOKUP($J$5,$D$18:$G$750,4) -> 0.93498524 | J667: =(I667*$G$8)+$G$7 -> 8526901.1 | K667: =N667*O667 -> 0 | L667: =IF(AND(E667>=$H$3,P667=0,E667<=$I$1),J667+K667,0) -> 8526901.1 | M667: =D667 -> 445 | N667: =IF(E667<$J$6,0,IF(E667>=$I$1,0,1))*$I$10 -> 0 | O667: =IF(E667<$J$6,0,IF(E667>=$I$1,0,($J$5-D667)/($J$5-VLOOKUP($J$6,$H$17:$M$750,6)))) -> 0 | P667: 0 | Q667: =D667 -> 445 | R667: =IF(OR(E667<$J$6+1,E667>$I$1),0,1) -> 0 | S667: =(1-(IF(AND(R667=1,D666<$I$2),(1-I666)/(1-VLOOKUP($K$6,$D$17:$I$750,6)),0)))*$M$8 -> 9119824.3
A668: =A661 -> Sun | B668: =IF(SUMIFS(CashFlow!$C$16:$C$40,CashFlow!$D$16:$D$40,CashFlowCalcs!$E668)>0,SUMIFS(CashFlow!$C$16:$C$40,CashFlow!$D$16:$D$40,CashFlowCalcs!$E668),B667) -> 22 | C668: =IF(LEFT(A668,1)="S","Y","N") -> Y | D668: =IF($C668="N",$D667+1,$D667) -> 445 | E668: =E667+1 -> 45018 | F668: =$F$18+((((D668)/($J$5+2)*3))) -> -0.36686391 | G668: =NORMDIST(F668,0,1,0) -> 0.37297902 | H668: =H667+1 -> 45018 | I668: =G668/VLOOKUP($J$5,$D$18:$G$750,4) -> 0.93498524 | J668: =(I668*$G$8)+$G$7 -> 8526901.1 | K668: =N668*O668 -> 0 | L668: =IF(AND(E668>=$H$3,P668=0,E668<=$I$1),J668+K668,0) -> 8526901.1 | M668: =D668 -> 445 | N668: =IF(E668<$J$6,0,IF(E668>=$I$1,0,1))*$I$10 -> 0 | O668: =IF(E668<$J$6,0,IF(E668>=$I$1,0,($J$5-D668)/($J$5-VLOOKUP($J$6,$H$17:$M$750,6)))) -> 0 | P668: 0 | Q668: =D668 -> 445 | R668: =IF(OR(E668<$J$6+1,E668>$I$1),0,1) -> 0 | S668: =(1-(IF(AND(R668=1,D667<$I$2),(1-I667)/(1-VLOOKUP($K$6,$D$17:$I$750,6)),0)))*$M$8 -> 9119824.3
A669: =A662 -> Mon | B669: =IF(SUMIFS(CashFlow!$C$16:$C$40,CashFlow!$D$16:$D$40,CashFlowCalcs!$E669)>0,SUMIFS(CashFlow!$C$16:$C$40,CashFlow!$D$16:$D$40,CashFlowCalcs!$E669),B668) -> 22 | C669: =IF(LEFT(A669,1)="S","Y","N") -> N | D669: =IF($C669="N",$D668+1,$D668) -> 446 | E669: =E668+1 -> 45019 | F669: =$F$18+((((D669)/($J$5+2)*3))) -> -0.36094675 | G669: =NORMDIST(F669,0,1,0) -> 0.37378302 | H669: =H668+1 -> 45019 | I669: =G669/VLOOKUP($J$5,$D$18:$G$750,4) -> 0.9370007 | J669: =(I669*$G$8)+$G$7 -> 8545281.7 | K669: =N669*O669 -> 0 | L669: =IF(AND(E669>=$H$3,P669=0,E669<=$I$1),J669+K669,0) -> 8545281.7 | M669: =D669 -> 446 | N669: =IF(E669<$J$6,0,IF(E669>=$I$1,0,1))*$I$10 -> 0 | O669: =IF(E669<$J$6,0,IF(E669>=$I$1,0,($J$5-D669)/($J$5-VLOOKUP($J$6,$H$17:$M$750,6)))) -> 0 | P669: 0 | Q669: =D669 -> 446 | R669: =IF(OR(E669<$J$6+1,E669>$I$1),0,1) -> 0 | S669: =(1-(IF(AND(R669=1,D668<$I$2),(1-I668)/(1-VLOOKUP($K$6,$D$17:$I$750,6)),0)))*$M$8 -> 9119824.3
A670: =A663 -> Tues | B670: =IF(SUMIFS(CashFlow!$C$16:$C$40,CashFlow!$D$16:$D$40,CashFlowCalcs!$E670)>0,SUMIFS(CashFlow!$C$16:$C$40,CashFlow!$D$16:$D$40,CashFlowCalcs!$E670),B669) -> 22 | C670: =IF(LEFT(A670,1)="S","Y","N") -> N | D670: =IF($C670="N",$D669+1,$D669) -> 447 | E670: =E669+1 -> 45020 | F670: =$F$18+((((D670)/($J$5+2)*3))) -> -0.35502959 | G670: =NORMDIST(F670,0,1,0) -> 0.37457563 | H670: =H669+1 -> 45020 | I670: =G670/VLOOKUP($J$5,$D$18:$G$750,4) -> 0.93898763 | J670: =(I670*$G$8)+$G$7 -> 8563402.1 | K670: =N670*O670 -> 0 | L670: =IF(AND(E670>=$H$3,P670=0,E670<=$I$1),J670+K670,0) -> 8563402.1 | M670: =D670 -> 447 | N670: =IF(E670<$J$6,0,IF(E670>=$I$1,0,1))*$I$10 -> 0 | O670: =IF(E670<$J$6,0,IF(E670>=$I$1,0,($J$5-D670)/($J$5-VLOOKUP($J$6,$H$17:$M$750,6)))) -> 0 | P670: 0 | Q670: =D670 -> 447 | R670: =IF(OR(E670<$J$6+1,E670>$I$1),0,1) -> 0 | S670: =(1-(IF(AND(R670=1,D669<$I$2),(1-I669)/(1-VLOOKUP($K$6,$D$17:$I$750,6)),0)))*$M$8 -> 9119824.3
A671: =A664 -> Wed | B671: =IF(SUMIFS(CashFlow!$C$16:$C$40,CashFlow!$D$16:$D$40,CashFlowCalcs!$E671)>0,SUMIFS(CashFlow!$C$16:$C$40,CashFlow!$D$16:$D$40,CashFlowCalcs!$E671),B670) -> 22 | C671: =IF(LEFT(A671,1)="S","Y","N") -> N | D671: =IF($C671="N",$D670+1,$D670) -> 448 | E671: =E670+1 -> 45021 | F671: =$F$18+((((D671)/($J$5+2)*3))) -> -0.34911243 | G671: =NORMDIST(F671,0,1,0) -> 0.37535679 | H671: =H670+1 -> 45021 | I671: =G671/VLOOKUP($J$5,$D$18:$G$750,4) -> 0.94094582 | J671: =(I671*$G$8)+$G$7 -> 8581260.5 | K671: =N671*O671 -> 0 | L671: =IF(AND(E671>=$H$3,P671=0,E671<=$I$1),J671+K671,0) -> 8581260.5 | M671: =D671 -> 448 | N671: =IF(E671<$J$6,0,IF(E671>=$I$1,0,1))*$I$10 -> 0 | O671: =IF(E671<$J$6,0,IF(E671>=$I$1,0,($J$5-D671)/($J$5-VLOOKUP($J$6,$H$17:$M$750,6)))) -> 0 | P671: 0 | Q671: =D671 -> 448 | R671: =IF(OR(E671<$J$6+1,E671>$I$1),0,1) -> 0 | S671: =(1-(IF(AND(R671=1,D670<$I$2),(1-I670)/(1-VLOOKUP($K$6,$D$17:$I$750,6)),0)))*$M$8 -> 9119824.3
... A750: =A743 -> Fri | B750: =IF(SUMIFS(CashFlow!$C$16:$C$40,CashFlow!$D$16:$D$40,CashFlowCalcs!$E750)>0,SUMIFS(CashFlow!$C$16:$C$40,CashFlow!$D$16:$D$40,CashFlowCalcs!$E750),B749) -> 24 | C750: =IF(LEFT(A750,1)="S","Y","N") -> N | D750: =IF($C750="N",$D749+1,$D749) -> 505 | E750: =E749+1 -> 45100 | F750: =$F$18+((((D750)/($J$5+2)*3))) -> -0.01183432 | G750: =NORMDIST(F750,0,1,0) -> 0.39891435 | H750: =H749+1 -> 45100 | I750: =G750/VLOOKUP($J$5,$D$18:$G$750,4) -> 1 | J750: =(I750*$G$8)+$G$7 -> 9119824.3 | K750: =N750*O750 -> 0 | L750: =IF(AND(E750>=$H$3,P750=0,E750<=$I$1),J750+K750,0) -> 9119824.3 | M750: =D750 -> 505 | N750: =IF(E750<$J$6,0,IF(E750>=$I$1,0,1))*$I$10 -> 0 | O750: =IF(E750<$J$6,0,IF(E750>=$I$1,0,($J$5-D750)/($J$5-VLOOKUP($J$6,$H$17:$M$750,6)))) -> 0 | P750: 0 | Q750: =D750 -> 505 | R750: =IF(OR(E750<$J$6+1,E750>$I$1),0,1) -> 0 | S750: =(1-(IF(AND(R750=1,D749<$I$2),(1-I749)/(1-VLOOKUP($K$6,$D$17:$I$750,6)),0)))*$M$8 -> 9119824.3

Sheet LevelChange
B1: Adjustment For Change in Levels
A2: 1 | B2: Substructures of properties (Plots 1,2,24,25,59 - 62) | C2: Orig qty | D2: Revd Qty | E2: Diff | F2: UoM | G2: Rate | H2: Value
A3: a | B3: Excavate to reduce level ne 0.25 deep | C3: 0 | D3: 11.55 | E3: =D3-C3 -> 11.55 | F3: m3 | G3: 3.5 | H3: =E3*G3 -> 40.425
A4: b | B4: Fill to make up levels in selected excavated material ne 0.25m dp | C4: 0 | D4: 5.99 | E4: =D4-C4 -> 5.99 | F4: m3 | G4: 3.5 | H4: =E4*G4 -> 20.965
A5: c | B5: Ditto ne 1m dp | C5: 120.63 | D5: 200.78 | E5: =D5-C5 -> 80.15 | F5: m3 | G5: 3.5 | H5: =E5*G5 -> 280.525
A6: d | B6: Ditto ne 2m dp | C6: 642.24 | D6: 0 | E6: =D6-C6 -> -642.24 | F6: m3 | G6: 3.5 | H6: =E6*G6 -> -2247.84
A7: e | B7: Excavate trench ne 1m deep | C7: =0+42.93 -> 42.93 | D7: =18.73+101.9 -> 120.63 | E7: =D7-C7 -> 77.7 | F7: m3 | G7: 4.5 | H7: =E7*G7 -> 349.65
A8: f | B8: Ditto not exc 2m deep | C8: 164.6 | D8: 0 | E8: =D8-C8 -> -164.6 | F8: m3 | G8: 4.5 | H8: =E8*G8 -> -740.7
A9: g | B9: Vol of concrete in trenches | C9: 123.62 | D9: 36.71 | E9: =D9-C9 -> -86.91 | F9: m3 | G9: 92.27 | H9: =E9*G9 -> -8019.1857
H10: =SUM(H3:H9) -> -10316.161
B11: Roads
A12: h
A13: i
A14: j
A15: k
A16: l
A17: m
A18: n
A19: o
A20: p

Sheet ADOPTEDROADS
A1: Residential Development at Crundale For Millbay Homes | X1: is incl in FA | Z1: Needs Checking
A2: Phase 1 | H2: Assumed to Chain Point 22m into Second Phase | M2: Surf | N2: 30 | O2: mm
A3: Adopted Roads | H3: Site Red Lvl | J3: 0.5 | K3: m | M3: Binder | N3: 50 | O3: mm | AE3: m2
A4: Tarmac | M4: wetmix | N4: 150 | O4: mm
M5: Type 1 | N5: 250 | O5: mm
M6: Type 3 - Open | O6: mm
N7: =SUM(N2:N6)/1000 -> 0.48 | O7: m
H8: =SUM(H10:H24) -> 514.1165 | L8: FINISHED LEVELS | W8: =SUM(W10:W24) -> 256.83679 | X8: =SUM(X10:X24) -> 1.5008843 | Y8: =SUM(Y10:Y24) -> 1.5008843 | Z8: =SUM(Z10:Z24) -> 0 | AA8: =SUM(AA10:AA24) -> 42.22775 | AB8: =SUM(AB10:AB24) -> 214.60904 | AC8: =(W8+X8-SUM(Y8:AB8)) -> 0 | AD8: =SUM(AD10:AD24) -> 514.1165 | AE8: =SUM(AE10:AE24) -> 506.8125 | AF8: =SUM(AF10:AF24) -> 514.1165 | AG8: =SUM(AG10:AG24) -> 514.1165 | AH8: =SUM(AH10:AH24) -> 514.1165
A9: Loc Ref | B9: Location | C9: Chain From | D9: Chain to | E9: Width | F9: Length | G9: X | H9: Area | I9: Lower Chain Existing Level | J9: Higher Chain Existing Level | K9: Average Existing Level | L9: Surf Lvl (Lower Chain - Side) | M9: Surf Lvl (Lower Chain- Mid) | N9: Surf Lvl (Higher Chain Side) | O9: Surf Lvl (Mid Chain Side) | P9: Av Surf Lvl (Lower) | Q9: Av Surf Lvl (Higher) | R9: Average Surface Level | S9: Form Lvl (Lower) | T9: Form Lvl (Higher) | U9: Form Lvl (Average) | V9: Average Exc (+) or Fill (-) | W9: Fill | X9: Cut | Y9: Exc to red lvls ne 0.25m | Z9: Exc to red lvls ne 1.0m | AA9: Fill to make up ne 0.25m | AB9: Fill to make up over 0.25 | AC9: Check | AD9: Compact btms of excns | AE9: Comp. Fill. Arising From Exc. | AF9: Type 1 as Eng Dwg - Item 10 | AG9: GeoTerxtile as Eng Dwg - Item 11 | AH9: Wet Mix as dwg - 150 thick
A10: 9 | B10: Road 1 | C10: 37 | D10: 40 | E10: 5 | F10: =D10-C10 -> 3 | H10: =E10*F10*IF(G10<>0,G10,1) -> 15 | I10: 41.19 | J10: 41.857 | K10: =SUM(I10:J10)/2 -> 41.5235 | L10: 42.025 | M10: 42.091 | N10: 41.742 | O10: 41.805 | P10: =SUM(L10:M10)/2 -> 42.058 | Q10: =SUM(N10:O10)/2 -> 41.7735 | R10: =SUM(P10:Q10)/2 -> 41.91575 | S10: 41.578 | T10: 41.2935 | U10: 41.43575 | V10: -0.58775 | W10: =IF(V10<0.0001,(H10*V10)*-1,0) -> 8.81625 | X10: =IF(W10=0,V10*H10,0) -> 0 | Y10: =IF(AND(V10>0,V10<0.251),X10,0) -> 0 | Z10: =IF(AND(V10>0.25,V10<1.01),X10,0) -> 0 | AA10: =IF(AND(V10<0,V10>-0.251),W10,0) -> 0 | AB10: =IF(V10<-0.251,W10,0) -> 8.81625 | AC10: =(W10+X10-SUM(Y10:AB10))=0 -> TRUE | AD10: =H10 -> 15 | AE10: =IF(V10<0,AD10,0) -> 15 | AF10: =AD10 -> 15 | AG10: =IF($AF10<>0,$AF10,0) -> 15 | AH10: =IF($AF10<>0,$AF10,0) -> 15
A11: 10 | B11: Road 1 | C11: 40 | D11: 43 | E11: 5 | F11: =D11-C11 -> 3 | H11: =E11*F11*IF(G11<>0,G11,1) -> 15 | I11: 41.857 | J11: 41.71795 | K11: =SUM(I11:J11)/2 -> 41.787475 | L11: 41.742 | M11: 41.805 | N11: 41.54005 | O11: 41.60515 | P11: =SUM(L11:M11)/2 -> 41.7735 | Q11: =SUM(N11:O11)/2 -> 41.5726 | R11: =SUM(P11:Q11)/2 -> 41.67305 | S11: 41.2935 | T11: 41.0926 | U11: 41.19305 | V11: -1.094425 | W11: =IF(V11<0.0001,(H11*V11)*-1,0) -> 16.416375 | X11: =IF(W11=0,V11*H11,0) -> 0 | Y11: =IF(AND(V11>0,V11<0.251),X11,0) -> 0 | Z11: =IF(AND(V11>0.25,V11<1.01),X11,0) -> 0 | AA11: =IF(AND(V11<0,V11>-0.251),W11,0) -> 0 | AB11: =IF(V11<-0.251,W11,0) -> 16.416375 | AC11: =(W11+X11-SUM(Y11:AB11))=0 -> TRUE | AD11: =H11 -> 15 | AE11: =IF(V11<0,AD11,0) -> 15 | AF11: =AD11 -> 15 | AG11: =IF($AF11<>0,$AF11,0) -> 15 | AH11: =IF($AF11<>0,$AF11,0) -> 15
A12: 11 | B12: Road 1 | C12: 43 | D12: 50 | E12: 5.25 | F12: =D12-C12 -> 7 | H12: =E12*F12*IF(G12<>0,G12,1) -> 36.75 | I12: 41.71795 | J12: 41.3935 | K12: =SUM(I12:J12)/2 -> 41.555725 | L12: 41.54005 | M12: 41.60515 | N12: 41.4535 | O12: 41.5195 | P12: =SUM(L12:M12)/2 -> 41.5726 | Q12: =SUM(N12:O12)/2 -> 41.4865 | R12: =SUM(P12:Q12)/2 -> 41.52955 | S12: 41.0926 | T12: 41.0065 | U12: 41.04955 | V12: -1.006175 | W12: =IF(V12<0.0001,(H12*V12)*-1,0) -> 36.976931 | X12: =IF(W12=0,V12*H12,0) -> 0 | Y12: =IF(AND(V12>0,V12<0.251),X12,0) -> 0 | Z12: =IF(AND(V12>0.25,V12<1.01),X12,0) -> 0 | AA12: =IF(AND(V12<0,V12>-0.251),W12,0) -> 0 | AB12: =IF(V12<-0.251,W12,0) -> 36.976931 | AC12: =(W12+X12-SUM(Y12:AB12))=0 -> TRUE | AD12: =H12 -> 36.75 | AE12: =IF(V12<0,AD12,0) -> 36.75 | AF12: =AD12 -> 36.75 | AG12: =IF($AF12<>0,$AF12,0) -> 36.75 | AH12: =IF($AF12<>0,$AF12,0) -> 36.75
A13: 12 | B13: Road 1 | C13: 50 | D13: 52 | E13: 5.25 | F13: =D13-C13 -> 2 | H13: =E13*F13*IF(G13<>0,G13,1) -> 10.5 | I13: 41.3935 | J13: 41.3008 | K13: =SUM(I13:J13)/2 -> 41.34715 | L13: 41.4535 | M13: 41.5195 | N13: 41.3958 | O13: 41.4624 | P13: =SUM(L13:M13)/2 -> 41.4865 | Q13: =SUM(N13:O13)/2 -> 41.4291 | R13: =SUM(P13:Q13)/2 -> 41.4578 | S13: 41.0065 | T13: 40.9491 | U13: 40.9778 | V13: -0.86935 | W13: =IF(V13<0.0001,(H13*V13)*-1,0) -> 9.128175 | X13: =IF(W13=0,V13*H13,0) -> 0 | Y13: =IF(AND(V13>0,V13<0.251),X13,0) -> 0 | Z13: =IF(AND(V13>0.25,V13<1.01),X13,0) -> 0 | AA13: =IF(AND(V13<0,V13>-0.251),W13,0) -> 0 | AB13: =IF(V13<-0.251,W13,0) -> 9.128175 | AC13: =(W13+X13-SUM(Y13:AB13))=0 -> TRUE | AD13: =H13 -> 10.5 | AE13: =IF(V13<0,AD13,0) -> 10.5 | AF13: =AD13 -> 10.5 | AG13: =IF($AF13<>0,$AF13,0) -> 10.5 | AH13: =IF($AF13<>0,$AF13,0) -> 10.5
A14: 13 | B14: Road 1 | C14: 52 | D14: 60 | E14: 5.5 | F14: =D14-C14 -> 8 | H14: =E14*F14*IF(G14<>0,G14,1) -> 44 | I14: 41.3008 | J14: 40.93 | K14: =SUM(I14:J14)/2 -> 41.1154 | L14: 41.3958 | M14: 41.4624 | N14: 41.165 | O14: 41.234 | P14: =SUM(L14:M14)/2 -> 41.4291 | Q14: =SUM(N14:O14)/2 -> 41.1995 | R14: =SUM(P14:Q14)/2 -> 41.3143 | S14: 40.9491 | T14: 40.7195 | U14: 40.8343 | V14: -0.7811 | W14: =IF(V14<0.0001,(H14*V14)*-1,0) -> 34.3684 | X14: =IF(W14=0,V14*H14,0) -> 0 | Y14: =IF(AND(V14>0,V14<0.251),X14,0) -> 0 | Z14: =IF(AND(V14>0.25,V14<1.01),X14,0) -> 0 | AA14: =IF(AND(V14<0,V14>-0.251),W14,0) -> 0 | AB14: =IF(V14<-0.251,W14,0) -> 34.3684 | AC14: =(W14+X14-SUM(Y14:AB14))=0 -> TRUE | AD14: =H14 -> 44 | AE14: =IF(V14<0,AD14,0) -> 44 | AF14: =AD14 -> 44 | AG14: =IF($AF14<>0,$AF14,0) -> 44 | AH14: =IF($AF14<>0,$AF14,0) -> 44
A15: 14 | B15: Road 1 | C15: 60 | D15: 70 | E15: 5.5 | F15: =D15-C15 -> 10 | H15: =E15*F15*IF(G15<>0,G15,1) -> 55 | I15: 40.93 | J15: 39.981024 | K15: =SUM(I15:J15)/2 -> 40.455512 | L15: 41.165 | M15: 41.234 | N15: 41.069 | O15: 41.138 | P15: =SUM(L15:M15)/2 -> 41.1995 | Q15: =SUM(N15:O15)/2 -> 41.1035 | R15: =SUM(P15:Q15)/2 -> 41.1515 | S15: 40.7195 | T15: 40.6235 | U15: 40.6715 | V15: -0.28401201 | W15: =IF(V15<0.0001,(H15*V15)*-1,0) -> 15.62066 | X15: =IF(W15=0,V15*H15,0) -> 0 | Y15: =IF(AND(V15>0,V15<0.251),X15,0) -> 0 | Z15: =IF(AND(V15>0.25,V15<1.01),X15,0) -> 0 | AA15: =IF(AND(V15<0,V15>-0.251),W15,0) -> 0 | AB15: =IF(V15<-0.251,W15,0) -> 15.62066 | AC15: =(W15+X15-SUM(Y15:AB15))=0 -> TRUE | AD15: =H15 -> 55 | AE15: =IF(V15<0,AD15,0) -> 55 | AF15: =AD15 -> 55 | AG15: =IF($AF15<>0,$AF15,0) -> 55 | AH15: =IF($AF15<>0,$AF15,0) -> 55
A16: 15 | B16: Road 1 | C16: 70 | D16: 71.328 | E16: 5.5 | F16: =D16-C16 -> 1.328 | H16: =E16*F16*IF(G16<>0,G16,1) -> 7.304 | I16: 39.981024 | J16: 39.855 | K16: =SUM(I16:J16)/2 -> 39.918012 | L16: 41.069 | M16: 41.138 | N16: 41.069 | O16: 41.138 | P16: =SUM(L16:M16)/2 -> 41.1035 | Q16: =SUM(N16:O16)/2 -> 41.1035 | R16: =SUM(P16:Q16)/2 -> 41.1035 | S16: 40.6235 | T16: 40.6235 | U16: 40.6235 | V16: 0.20548799 | W16: =IF(V16<0.0001,(H16*V16)*-1,0) -> 0 | X16: =IF(W16=0,V16*H16,0) -> 1.5008843 | Y16: =IF(AND(V16>0,V16<0.251),X16,0) -> 1.5008843 | Z16: =IF(AND(V16>0.25,V16<1.01),X16,0) -> 0 | AA16: =IF(AND(V16<0,V16>-0.251),W16,0) -> 0 | AB16: =IF(V16<-0.251,W16,0) -> 0 | AC16: =(W16+X16-SUM(Y16:AB16))=0 -> TRUE | AD16: =H16 -> 7.304 | AE16: =IF(V16<0,AD16,0) -> 0 | AF16: =AD16 -> 7.304 | AG16: =IF($AF16<>0,$AF16,0) -> 7.304 | AH16: =IF($AF16<>0,$AF16,0) -> 7.304
A17: 16 | B17: Road 2 | C17: 2.75 | D17: 20 | E17: 5.5 | F17: =D17-C17 -> 17.25 | H17: =E17*F17*IF(G17<>0,G17,1) -> 94.875 | I17: 39.855 | J17: 40.112 | K17: =SUM(I17:J17)/2 -> 39.9835 | L17: 40.8325 | M17: 40.9025 | N17: 40.024 | O17: 40.095 | P17: =SUM(L17:M17)/2 -> 40.8675 | Q17: =SUM(N17:O17)/2 -> 40.0595 | R17: =SUM(P17:Q17)/2 -> 40.4635 | S17: 40.3875 | T17: 39.5795 | U17: 39.9835 | V17: -0.5 | W17: =IF(V17<0.0001,(H17*V17)*-1,0) -> 47.4375 | X17: =IF(W17=0,V17*H17,0) -> 0 | Y17: =IF(AND(V17>0,V17<0.251),X17,0) -> 0 | Z17: =IF(AND(V17>0.25,V17<1.01),X17,0) -> 0 | AA17: =IF(AND(V17<0,V17>-0.251),W17,0) -> 0 | AB17: =IF(V17<-0.251,W17,0) -> 47.4375 | AC17: =(W17+X17-SUM(Y17:AB17))=0 -> TRUE | AD17: =H17 -> 94.875 | AE17: =IF(V17<0,AD17,0) -> 94.875 | AF17: =AD17 -> 94.875 | AG17: =IF($AF17<>0,$AF17,0) -> 94.875 | AH17: =IF($AF17<>0,$AF17,0) -> 94.875
A18: 17 | B18: =B17 -> Road 2 | C18: 20 | D18: 35 | E18: 5.5 | F18: =D18-C18 -> 15 | H18: =E18*F18*IF(G18<>0,G18,1) -> 82.5 | I18: 40.112 | J18: 38.847 | K18: =SUM(I18:J18)/2 -> 39.4795 | L18: 40.024 | M18: 40.095 | N18: 39.137 | O18: 39.206 | P18: =SUM(L18:M18)/2 -> 40.0595 | Q18: =SUM(N18:O18)/2 -> 39.1715 | R18: =SUM(P18:Q18)/2 -> 39.6155 | S18: 39.5795 | T18: 38.6915 | U18: 39.1355 | V18: -0.844 | W18: =IF(V18<0.0001,(H18*V18)*-1,0) -> 69.63 | X18: =IF(W18=0,V18*H18,0) -> 0 | Y18: =IF(AND(V18>0,V18<0.251),X18,0) -> 0 | Z18: =IF(AND(V18>0.25,V18<1.01),X18,0) -> 0 | AA18: =IF(AND(V18<0,V18>-0.251),W18,0) -> 0 | AB18: =IF(V18<-0.251,W18,0) -> 69.63 | AC18: =(W18+X18-SUM(Y18:AB18))=0 -> TRUE | AD18: =H18 -> 82.5 | AE18: =IF(V18<0,AD18,0) -> 82.5 | AF18: =AD18 -> 82.5 | AG18: =IF($AF18<>0,$AF18,0) -> 82.5 | AH18: =IF($AF18<>0,$AF18,0) -> 82.5
A19: 26 | B19: Road 3 | C19: 2.75 | D19: 20 | E19: 5.75 | F19: =D19-C19 -> 17.25 | H19: =E19*F19*IF(G19<>0,G19,1) -> 99.1875 | I19: 39.855 | J19: 40.542 | K19: =SUM(I19:J19)/2 -> 40.1985 | L19: 40.8325 | M19: 40.9025 | N19: 41.028 | O19: 41.103 | P19: =SUM(L19:M19)/2 -> 40.8675 | Q19: =SUM(N19:O19)/2 -> 41.0655 | R19: =SUM(P19:Q19)/2 -> 40.9665 | S19: 40.3875 | T19: 40.5855 | U19: 40.4865 | V19: -0.212 | W19: =IF(V19<0.0001,(H19*V19)*-1,0) -> 21.02775 | X19: =IF(W19=0,V19*H19,0) -> 0 | Y19: =IF(AND(V19>0,V19<0.251),X19,0) -> 0 | Z19: =IF(AND(V19>0.25,V19<1.01),X19,0) -> 0 | AA19: =IF(AND(V19<0,V19>-0.251),W19,0) -> 21.02775 | AB19: =IF(V19<-0.251,W19,0) -> 0 | AC19: =(W19+X19-SUM(Y19:AB19))=0 -> TRUE | AD19: =H19 -> 99.1875 | AE19: =IF(V19<0,AD19,0) -> 99.1875 | AF19: =AD19 -> 99.1875 | AG19: =IF($AF19<>0,$AF19,0) -> 99.1875 | AH19: =IF($AF19<>0,$AF19,0) -> 99.1875
A20: 27 | B20: Road 3 | C20: 20 | D20: 22 | E20: 6 | F20: =D20-C20 -> 2 | H20: =E20*F20*IF(G20<>0,G20,1) -> 12 | I20: 40.542 | J20: 40.542 | K20: =SUM(I20:J20)/2 -> 40.542 | L20: 41.028 | M20: 41.103 | N20: 40.96 | O20: 41.035 | P20: =SUM(L20:M20)/2 -> 41.0655 | Q20: =SUM(N20:O20)/2 -> 40.9975 | R20: =SUM(P20:Q20)/2 -> 41.0315 | S20: 40.5855 | T20: 40.5175 | U20: 40.5515 | V20: -0.4905 | W20: =IF(V20<0.0001,(H20*V20)*-1,0) -> 5.886 | X20: =IF(W20=0,V20*H20,0) -> 0 | Y20: =IF(AND(V20>0,V20<0.251),X20,0) -> 0 | Z20: =IF(AND(V20>0.25,V20<1.01),X20,0) -> 0 | AA20: =IF(AND(V20<0,V20>-0.251),W20,0) -> 0 | AB20: =IF(V20<-0.251,W20,0) -> 5.886 | AC20: =(W20+X20-SUM(Y20:AB20))=0 -> TRUE | AD20: =H20 -> 12 | AE20: =IF(V20<0,AD20,0) -> 12 | AF20: =AD20 -> 12 | AG20: =IF($AF20<>0,$AF20,0) -> 12 | AH20: =IF($AF20<>0,$AF20,0) -> 12
A21: 28 | B21: Corners at Roads 1 & 2 | E21: 10 | F21: 10 | H21: =E21*F21*IF(G21<>0,G21,1) -> 100 | I21: 39.855 | J21: 40.542 | K21: =K19 -> 40.1985 | L21: 40.8325 | M21: 40.9025 | N21: 41.028 | O21: 41.103 | P21: =SUM(L21:M21)/2 -> 40.8675 | Q21: =SUM(N21:O21)/2 -> 41.0655 | R21: =SUM(P21:Q21)/2 -> 40.9665 | S21: 40.3875 | T21: 40.5855 | U21: 40.4865 | V21: -0.212 | W21: =IF(V21<0.0001,(H21*V21)*-1,0) -> 21.2 | X21: =IF(W21=0,V21*H21,0) -> 0 | Y21: =IF(AND(V21>0,V21<0.251),X21,0) -> 0 | Z21: =IF(AND(V21>0.25,V21<1.01),X21,0) -> 0 | AA21: =IF(AND(V21<0,V21>-0.251),W21,0) -> 21.2 | AB21: =IF(V21<-0.251,W21,0) -> 0 | AC21: =(W21+X21-SUM(Y21:AB21))=0 -> TRUE | AD21: =H21 -> 100 | AE21: =IF(V21<0,AD21,0) -> 100 | AF21: =AD21 -> 100 | AG21: =IF($AF21<>0,$AF21,0) -> 100 | AH21: =IF($AF21<>0,$AF21,0) -> 100
A22: 29 | B22: Ditto | E22: -10 | F22: 10 | G22: 0.79 | H22: =E22*F22*IF(G22<>0,G22,1) -> -79 | I22: 39.855 | J22: 40.542 | K22: =K20 -> 40.542 | L22: 40.8325 | M22: 41.103 | N22: 40.96 | O22: 41.035 | P22: =SUM(L22:M22)/2 -> 40.96775 | Q22: =SUM(N22:O22)/2 -> 40.9975 | R22: =SUM(P22:Q22)/2 -> 40.982625 | S22: 40.48775 | T22: 40.5175 | U22: 40.502625 | V22: -0.539375 | W22: =IF(V22<0.0001,(H22*V22)*-1,0) -> -42.610625 | X22: =IF(W22=0,V22*H22,0) -> 0 | Y22: =IF(AND(V22>0,V22<0.251),X22,0) -> 0 | Z22: =IF(AND(V22>0.25,V22<1.01),X22,0) -> 0 | AA22: =IF(AND(V22<0,V22>-0.251),W22,0) -> 0 | AB22: =IF(V22<-0.251,W22,0) -> -42.610625 | AC22: =(W22+X22-SUM(Y22:AB22))=0 -> TRUE | AD22: =H22 -> -79 | AE22: =IF(V22<0,AD22,0) -> -79 | AF22: =AD22 -> -79 | AG22: =IF($AF22<>0,$AF22,0) -> -79 | AH22: =IF($AF22<>0,$AF22,0) -> -79
A23: 30 | B23: Corners at Roads 1 & 2 | E23: 10 | F23: 10 | H23: =E23*F23*IF(G23<>0,G23,1) -> 100 | I23: 39.855 | J23: 40.542 | K23: =K22 -> 40.542 | L23: 40.8325 | M23: 40.9025 | N23: 41.028 | O23: 41.103 | P23: =SUM(L23:M23)/2 -> 40.8675 | Q23: =SUM(N23:O23)/2 -> 41.0655 | R23: =SUM(P23:Q23)/2 -> 40.9665 | S23: 40.3875 | T23: 40.5855 | U23: 40.4865 | V23: -0.5555 | W23: =IF(V23<0.0001,(H23*V23)*-1,0) -> 55.55 | X23: =IF(W23=0,V23*H23,0) -> 0 | Y23: =IF(AND(V23>0,V23<0.251),X23,0) -> 0 | Z23: =IF(AND(V23>0.25,V23<1.01),X23,0) -> 0 | AA23: =IF(AND(V23<0,V23>-0.251),W23,0) -> 0 | AB23: =IF(V23<-0.251,W23,0) -> 55.55 | AC23: =(W23+X23-SUM(Y23:AB23))=0 -> TRUE | AD23: =H23 -> 100 | AE23: =IF(V23<0,AD23,0) -> 100 | AF23: =AD23 -> 100 | AG23: =IF($AF23<>0,$AF23,0) -> 100 | AH23: =IF($AF23<>0,$AF23,0) -> 100
A24: 31 | B24: Ditto | E24: -10 | F24: 10 | G24: 0.79 | H24: =E24*F24*IF(G24<>0,G24,1) -> -79 | I24: 39.855 | J24: 40.542 | K24: =K22 -> 40.542 | L24: 40.8325 | M24: 41.103 | N24: 40.96 | O24: 41.035 | P24: =SUM(L24:M24)/2 -> 40.96775 | Q24: =SUM(N24:O24)/2 -> 40.9975 | R24: =SUM(P24:Q24)/2 -> 40.982625 | S24: 40.48775 | T24: 40.5175 | U24: 40.502625 | V24: -0.539375 | W24: =IF(V24<0.0001,(H24*V24)*-1,0) -> -42.610625 | X24: =IF(W24=0,V24*H24,0) -> 0 | Y24: =IF(AND(V24>0,V24<0.251),X24,0) -> 0 | Z24: =IF(AND(V24>0.25,V24<1.01),X24,0) -> 0 | AA24: =IF(AND(V24<0,V24>-0.251),W24,0) -> 0 | AB24: =IF(V24<-0.251,W24,0) -> -42.610625 | AC24: =(W24+X24-SUM(Y24:AB24))=0 -> TRUE | AD24: =H24 -> -79 | AE24: =IF(V24<0,AD24,0) -> -79 | AF24: =AD24 -> -79 | AG24: =IF($AF24<>0,$AF24,0) -> -79 | AH24: =IF($AF24<>0,$AF24,0) -> -79

Sheet SUBS
B1: Residential Development at Crundale For Millbay Homes | K1: is incl in FA | AZ1: No of Courses | BA1: No of Courses | BB1: No of Courses | BC1: No of Courses | BD1: Height in m | BE1: Height in m
B2: Phase 1 | S2: BeamBlockSlabBuildUp | U2: 500 | AF2: Width | AG2: Width | AZ2: 4 | BA2: 4 | BB2: 4 | BC2: 4 | BD2: 1.025 | BE2: =BD2 -> 1.025
A3: DIFFERENCE | U3: =U4-U16 -> -556.1043 | V3: =V4-V16 -> 11.5522 | W3: =W4-W16 -> 11.5522 | X3: =X4-X16 -> 0 | Y3: =Y4-Y16 -> 5.98605 | Z3: =Z4-Z16 -> 80.14725 | AA3: =AA4-AA16 -> -642.2376 | AB3: =AB4-AB16 -> -2.8421709e-14 | AP3: =AP4-AP16 -> 0 | AQ3: =AQ4-AQ16 -> 18.73 | AR3: =AR4-AR16 -> 0 | AS3: =AS4-AS16 -> 0 | AT3: =AT4-AT16 -> 58.97 | AU3: =AU4-AU16 -> -164.6 | AV3: =AV4-AV16 -> 0 | AY3: =AY4-AY16 -> -86.91 | AZ3: =AZ4-AZ16 -> 0 | BA3: =BA4-BA16 -> 0 | BB3: =BB4-BB16 -> 0 | BC3: =BC4-BC16 -> 0 | BD3: =BD4-BD16 -> 0 | BE3: =BE4-BE16 -> 0 | BF3: =BF4-BF16 -> 0 | BG3: =BG4-BG16 -> 0
A4: REVISED LEVELS | U4: =SUM(U6:U13) -> 206.7622 | V4: =SUM(V6:V13) -> 11.5522 | W4: =SUM(W6:W13) -> 11.5522 | X4: =SUM(X6:X13) -> 0 | Y4: =SUM(Y6:Y13) -> 5.98605 | Z4: =SUM(Z6:Z13) -> 200.77615 | AA4: =SUM(AA6:AA13) -> 0 | AB4: =(U4+V4-SUM(W4:AA4)) -> -2.8421709e-14 | AC4: Eng Section A - A | AL4: Btm of Trench 1 | AM4: Btm of Trench 2 | AN4: Btm of Trench | AP4: =SUM(AP6:AP13) -> 0 | AQ4: =SUM(AQ6:AQ13) -> 18.73 | AR4: =SUM(AR6:AR13) -> 0 | AS4: =SUM(AS6:AS13) -> 0 | AT4: =SUM(AT6:AT13) -> 101.9 | AU4: =SUM(AU6:AU13) -> 0 | AV4: =SUM(AV6:AV13) -> 654.25 | AY4: =ROUND(SUM(AY6:AY13),2) -> 36.71 | AZ4: =SUM(AZ6:AZ13)*(AZ2*0.225) -> 185.148 | BA4: =SUM(BA6:BA13)*(BA2*0.225) -> 23.3928 | BB4: =SUM(BB6:BB13)*(BB2*0.225) -> 56.8368 | BC4: =SUM(BC6:BC13)*(BC2*0.225) -> 172.476 | BD4: =SUM(BD5:BD13)*BD2 -> 205.9348 | BE4: =SUM(BE5:BE13)*BE2 -> 13.3209 | BF4: =SUM(BF6:BF13)*(BB2*225/1000) -> 192.5172 | BG4: =SUM(BG6:BG13) -> 205.72
A5: Plot | B5: Type | C5: Det,Semi, Mid Terr. (D , S , M) | D5: Width (side to Side) | E5: Length (Front to Back) | F5: Spr to Front | G5: Spr to Rear | H5: Spr to Left | I5: Spr To Right | J5: Width+ Spr Left & Right | K5: Length + Spr Front And Rear | L5: Max Area | M5: Adj | N5: Act Area | O5: Natural Ground level | P5: Depth Of Topsoil | Q5: New reduced Level | R5: Revised FFL | S5: Required formation | T5: Depth of Exc (+) or Fill (-) | U5: Fill | V5: Cut | W5: Exc to red lvls ne 0.25m | X5: Exc to red lvls ne 1.0m | Y5: Fill to make up ne 0.25m | Z5: Fill to make up ne 1.0m | AA5: Fill to make up ne 2.0m | AB5: Check | AC5: C/L of Perim. Trenches | AD5: Adjustments to Perimeter | AE5: Act C/L of Perim. Trenches | AF5: C/L of Party W. Trenches (Ext Face to Ext Face) | AG5: C/L of Internal Trenches | AH5: Surface Area of Perim Trenches | AI5: Surface Area of Party Wall Trenches x 50% | AJ5: Surface Area of Internal Trenches | AK5: Surface Area of Trenches | AL5: Max lvl of trench - based on min dim from FFL to U/S of conc | AM5: U/S of fill less 100mm scrape into "virgin" earth | AN5: Btm of Trench | AO5: Trench depth = Required Formation less Btm of Trench | AP5: Exc Trench ne 0.25m dp | AQ5: Exc Trench ne 1.00m dp | AR5: Exc Trench ne 2.00m dp | AS5: Exc Trench thru fill ne 0.25m dp | AT5: Exc Trench thru fill ne 1.00m dp | AU5: Exc Trench thru fill ne 2.00m dp | AV5: Compact btms of excns (includes Perimeter Paths) | AW5: Top of Concrete in Footing | AX5: Thickness of Concrete | AY5: Volume of Concrete | AZ5: C/L of 100mm blockwork to Perim. | BA5: C/L of 100mm block to Party Walls | BB5: C/L of 100 Block to Int. Walls | BC5: C/L of140 Blockwork to Perim. | BD5: C/L for Forming Cavity 100wide (Perim) | BE5: Ditto Party Wall | BF5: C/L of Conc Fill to Hollow Walls | BG5: DPC to Outer Skin
A6: 1 | B6: A | C6: D | D6: 8.754 | E6: 8.634 | F6: 1 | G6: 1 | H6: 1 | I6: 0.13 | J6: =ROUND(D6+H6+I6,2) -> 9.88 | K6: =ROUND(SUM(E6:G6),2) -> 10.63 | L6: =ROUND(J6*K6,2) -> 105.02 | M6: 0 | N6: =L6+M6 -> 105.02 | O6: 41.76 | P6: 0.5 | Q6: =O6-P6 -> 41.26 | R6: 41.65 | S6: =R6-(BeamBlockSlabBuildUp1/1000) -> 41.15 | T6: =SUM(Q6-S6) -> 0.11 | U6: =IF(T6<0.001,($N6*$T6)*-1,0) -> 0 | V6: =IF(T6>0.001,($N6*$T6),0) -> 11.5522 | W6: =IF(AND(T6>0,T6<0.251),V6,0) -> 11.5522 | X6: =IF(AND(T6>0.25,T6<1.01),V6,0) -> 0 | Y6: =IF(AND(T6<0,T6>-0.251),U6,0) -> 0 | Z6: =IF(AND(T6>-1.001,T6<-0.251),U6,0) -> 0 | AA6: =IF(AND(T6>-2.001,T6<-1),U6,0) -> 0 | AB6: =(U6+V6-SUM(W6:AA6))=0 -> TRUE | AC6: 33.416 | AD6: 0 | AE6: =SUM(AC6:AD6) -> 33.416 | AF6: 0 | AG6: =((K6*1000)-(2*$AF$4)+303)/1000 -> 10.933 | AH6: 20.0496 | AI6: 0 | AJ6: 4.91985 | AK6: =SUM(AH6:AJ6) -> 24.96945 | AL6: 40400 | AM6: =IF(T6<0,(S6+T6-0.1)*1000,0) -> 0 | AN6: =IF(AM6=0,AL6,IF(AL6<AM6,AL6,AM6)) -> 40400 | AO6: =(S6*1000)-AN6 -> 750 | AP6: =IF(AND(AO6<251,T6>0),AK6*AO6/1000,0) -> 0 | AQ6: =ROUND(IF(AND(AO6>250,AO6<1001,T6>0),AK6*AO6/1000,0),2) -> 18.73 | AR6: =ROUND(IF(AND(AO6>1000,AO6<2001,T6>0),AK6*AO6/1000,0),2) -> 0 | AS6: =IF(AND(AO6<251,T6<0),AK6*AO6/1000,0) -> 0 | AT6: =ROUND(IF(AND(AO6>250,AO6<1001,T6<0),AK6*AO6/1000,0),2) -> 0 | AU6: =ROUND(IF(AND(AO6>1000,AO6<2001,T6<0),AK6*AO6/1000,0),2) -> 0 | AV6: =N6 -> 105.02 | AW6: 40625 | AX6: =AW6-AN6 -> 225 | AY6: =ROUND(AK6*(AX6/1000),2) -> 5.62 | AZ6: 34.38 | BA6: 0 | BB6: =(8754-350-350+303)/1000 -> 8.357 | BC6: 32.62 | BD6: 33.576 | BE6: =IF(BA6=0,0,BA6/2) -> 0 | BF6: =(BD6)+(BE6) -> 33.576 | BG6: =AZ6 -> 34.38
A7: 2 | B7: A | C7: D | D7: 8.754 | E7: 8.634 | F7: 1 | G7: 1 | H7: 1 | I7: 1 | J7: =ROUND(D7+H7+I7,2) -> 10.75 | K7: =ROUND(SUM(E7:G7),2) -> 10.63 | L7: =ROUND(J7*K7,2) -> 114.27 | M7: 0 | N7: =L7+M7 -> 114.27 | O7: 41.02 | P7: 0.5 | Q7: =O7-P7 -> 40.52 | R7: 41.45 | S7: =R7-(BeamBlockSlabBuildUp1/1000) -> 40.95 | T7: =SUM(Q7-S7) -> -0.43 | U7: =IF(T7<0.001,($N7*$T7)*-1,0) -> 49.1361 | V7: =IF(T7>0.001,($N7*$T7),0) -> 0 | W7: =IF(AND(T7>0,T7<0.251),V7,0) -> 0 | X7: =IF(AND(T7>0.25,T7<1.01),V7,0) -> 0 | Y7: =IF(AND(T7<0,T7>-0.251),U7,0) -> 0 | Z7: =IF(AND(T7>-1.001,T7<-0.251),U7,0) -> 49.1361 | AA7: =IF(AND(T7>-2.001,T7<-1),U7,0) -> 0 | AB7: =(U7+V7-SUM(W7:AA7))=0 -> TRUE | AC7: 33.416 | AD7: 0 | AE7: =SUM(AC7:AD7) -> 33.416 | AF7: 0 | AG7: =((K7*1000)-(2*$AF$4)+303)/1000 -> 10.933 | AH7: 20.0496 | AI7: 0 | AJ7: 4.91985 | AK7: =SUM(AH7:AJ7) -> 24.96945 | AL7: 40200 | AM7: =IF(T7<0,(S7+T7-0.1)*1000,0) -> 40420 | AN7: =IF(AM7=0,AL7,IF(AL7<AM7,AL7,AM7)) -> 40200 | AO7: =(S7*1000)-AN7 -> 750 | AP7: =IF(AND(AO7<251,T7>0),AK7*AO7/1000,0) -> 0 | AQ7: =ROUND(IF(AND(AO7>250,AO7<1001,T7>0),AK7*AO7/1000,0),2) -> 0 | AR7: =ROUND(IF(AND(AO7>1000,AO7<2001,T7>0),AK7*AO7/1000,0),2) -> 0 | AS7: =IF(AND(AO7<251,T7<0),AK7*AO7/1000,0) -> 0 | AT7: =ROUND(IF(AND(AO7>250,AO7<1001,T7<0),AK7*AO7/1000,0),2) -> 18.73 | AU7: =ROUND(IF(AND(AO7>1000,AO7<2001,T7<0),AK7*AO7/1000,0),2) -> 0 | AV7: =N7 -> 114.27 | AW7: 40425 | AX7: =AW7-AN7 -> 225 | AY7: =ROUND(AK7*(AX7/1000),2) -> 5.62 | AZ7: 34.38 | BA7: 0 | BB7: =(8754-350-350+303)/1000 -> 8.357 | BC7: 32.62 | BD7: 33.576 | BE7: =IF(BA7=0,0,BA7/2) -> 0 | BF7: =(BD7)+(BE7) -> 33.576 | BG7: =AZ7 -> 34.38
A8: 24 | B8: A | C8: D | D8: 8.754 | E8: 8.634 | F8: 1 | G8: 1 | H8: 1 | I8: 0.13 | J8: =ROUND(D8+H8+I8,2) -> 9.88 | K8: =ROUND(SUM(E8:G8),2) -> 10.63 | L8: =ROUND(J8*K8,2) -> 105.02 | M8: 0 | N8: =L8+M8 -> 105.02 | O8: 39.22 | P8: 0.5 | Q8: =O8-P8 -> 38.72 | R8: 39.9 | S8: =R8-(BeamBlockSlabBuildUp1/1000) -> 39.4 | T8: =SUM(Q8-S8) -> -0.68 | U8: =IF(T8<0.001,($N8*$T8)*-1,0) -> 71.4136 | V8: =IF(T8>0.001,($N8*$T8),0) -> 0 | W8: =IF(AND(T8>0,T8<0.251),V8,0) -> 0 | X8: =IF(AND(T8>0.25,T8<1.01),V8,0) -> 0 | Y8: =IF(AND(T8<0,T8>-0.251),U8,0) -> 0 | Z8: =IF(AND(T8>-1.001,T8<-0.251),U8,0) -> 71.4136 | AA8: =IF(AND(T8>-2.001,T8<-1),U8,0) -> 0 | AB8: =(U8+V8-SUM(W8:AA8))=0 -> TRUE | AC8: 33.416 | AD8: 0 | AE8: =SUM(AC8:AD8) -> 33.416 | AF8: 0 | AG8: =((K8*1000)-(2*$AF$4)+303)/1000 -> 10.933 | AH8: 20.0496 | AI8: 0 | AJ8: 4.91985 | AK8: =SUM(AH8:AJ8) -> 24.96945 | AL8: 38650 | AM8: =IF(T8<0,(S8+T8-0.1)*1000,0) -> 38620 | AN8: =IF(AM8=0,AL8,IF(AL8<AM8,AL8,AM8)) -> 38620 | AO8: =(S8*1000)-AN8 -> 780 | AP8: =IF(AND(AO8<251,T8>0),AK8*AO8/1000,0) -> 0 | AQ8: =ROUND(IF(AND(AO8>250,AO8<1001,T8>0),AK8*AO8/1000,0),2) -> 0 | AR8: =ROUND(IF(AND(AO8>1000,AO8<2001,T8>0),AK8*AO8/1000,0),2) -> 0 | AS8: =IF(AND(AO8<251,T8<0),AK8*AO8/1000,0) -> 0 | AT8: =ROUND(IF(AND(AO8>250,AO8<1001,T8<0),AK8*AO8/1000,0),2) -> 19.48 | AU8: =ROUND(IF(AND(AO8>1000,AO8<2001,T8<0),AK8*AO8/1000,0),2) -> 0 | AV8: =N8 -> 105.02 | AW8: 38875 | AX8: =AW8-AN8 -> 255 | AY8: =ROUND(AK8*(AX8/1000),2) -> 6.37 | AZ8: 34.38 | BA8: 0 | BB8: =(8754-350-350+303)/1000 -> 8.357 | BC8: 32.62 | BD8: 33.576 | BE8: =IF(BA8=0,0,BA8/2) -> 0 | BF8: =(BD8)+(BE8) -> 33.576 | BG8: =AZ8 -> 34.38
A9: 25 | B9: A | C9: D | D9: 8.754 | E9: 8.634 | F9: 1 | G9: 1 | H9: 0.13 | I9: 1 | J9: =ROUND(D9+H9+I9,2) -> 9.88 | K9: =ROUND(SUM(E9:G9),2) -> 10.63 | L9: =ROUND(J9*K9,2) -> 105.02 | M9: 0 | N9: =L9+M9 -> 105.02 | O9: 39.29 | P9: 0.5 | Q9: =O9-P9 -> 38.79 | R9: 39.65 | S9: =R9-(BeamBlockSlabBuildUp1/1000) -> 39.15 | T9: =SUM(Q9-S9) -> -0.36 | U9: =IF(T9<0.001,($N9*$T9)*-1,0) -> 37.8072 | V9: =IF(T9>0.001,($N9*$T9),0) -> 0 | W9: =IF(AND(T9>0,T9<0.251),V9,0) -> 0 | X9: =IF(AND(T9>0.25,T9<1.01),V9,0) -> 0 | Y9: =IF(AND(T9<0,T9>-0.251),U9,0) -> 0 | Z9: =IF(AND(T9>-1.001,T9<-0.251),U9,0) -> 37.8072 | AA9: =IF(AND(T9>-2.001,T9<-1),U9,0) -> 0 | AB9: =(U9+V9-SUM(W9:AA9))=0 -> TRUE | AC9: 33.416 | AD9: 0 | AE9: =SUM(AC9:AD9) -> 33.416 | AF9: 0 | AG9: =((K9*1000)-(2*$AF$4)+303)/1000 -> 10.933 | AH9: 20.0496 | AI9: 0 | AJ9: 4.91985 | AK9: =SUM(AH9:AJ9) -> 24.96945 | AL9: 38400 | AM9: =IF(T9<0,(S9+T9-0.1)*1000,0) -> 38690 | AN9: =IF(AM9=0,AL9,IF(AL9<AM9,AL9,AM9)) -> 38400 | AO9: =(S9*1000)-AN9 -> 750 | AP9: =IF(AND(AO9<251,T9>0),AK9*AO9/1000,0) -> 0 | AQ9: =ROUND(IF(AND(AO9>250,AO9<1001,T9>0),AK9*AO9/1000,0),2) -> 0 | AR9: =ROUND(IF(AND(AO9>1000,AO9<2001,T9>0),AK9*AO9/1000,0),2) -> 0 | AS9: =IF(AND(AO9<251,T9<0),AK9*AO9/1000,0) -> 0 | AT9: =ROUND(IF(AND(AO9>250,AO9<1001,T9<0),AK9*AO9/1000,0),2) -> 18.73 | AU9: =ROUND(IF(AND(AO9>1000,AO9<2001,T9<0),AK9*AO9/1000,0),2) -> 0 | AV9: =N9 -> 105.02 | AW9: 38625 | AX9: =AW9-AN9 -> 225 | AY9: =ROUND(AK9*(AX9/1000),2) -> 5.62 | AZ9: 34.38 | BA9: 0 | BB9: =(8754-350-350+303)/1000 -> 8.357 | BC9: 32.62 | BD9: 33.576 | BE9: =IF(BA9=0,0,BA9/2) -> 0 | BF9: =(BD9)+(BE9) -> 33.576 | BG9: =AZ9 -> 34.38
A10: 59 | B10: G | C10: S | D10: =10.074/2 -> 5.037 | E10: 7.178 | F10: 1 | G10: 1 | H10: 1 | I10: 0 | J10: =ROUND(D10+H10+I10,2) -> 6.04 | K10: =ROUND(SUM(E10:G10),2) -> 9.18 | L10: =ROUND(J10*K10,2) -> 55.45 | M10: 0 | N10: =L10+M10 -> 55.45 | O10: 41.01 | P10: 0.5 | Q10: =O10-P10 -> 40.51 | R10: 41.5 | S10: =R10-(BeamBlockSlabBuildUp1/1000) -> 41 | T10: =SUM(Q10-S10) -> -0.49 | U10: =IF(T10<0.001,($N10*$T10)*-1,0) -> 27.1705 | V10: =IF(T10>0.001,($N10*$T10),0) -> 0 | W10: =IF(AND(T10>0,T10<0.251),V10,0) -> 0 | X10: =IF(AND(T10>0.25,T10<1.01),V10,0) -> 0 | Y10: =IF(AND(T10<0,T10>-0.251),U10,0) -> 0 | Z10: =IF(AND(T10>-1.001,T10<-0.251),U10,0) -> 27.1705 | AA10: =IF(AND(T10>-2.001,T10<-1),U10,0) -> 0 | AB10: =(U10+V10-SUM(W10:AA10))=0 -> TRUE | AC10: 16.572 | AD10: 0 | AE10: =SUM(AC10:AD10) -> 16.572 | AF10: =E10 -> 7.178 | AG10: 7.041 | AH10: 9.9432 | AI10: 1.8714 | AJ10: 3.16845 | AK10: =SUM(AH10:AJ10) -> 14.98305 | AL10: 40250 | AM10: =IF(T10<0,(S10+T10-0.1)*1000,0) -> 40410 | AN10: =IF(AM10=0,AL10,IF(AL10<AM10,AL10,AM10)) -> 40250 | AO10: =(S10*1000)-AN10 -> 750 | AP10: =IF(AND(AO10<251,T10>0),AK10*AO10/1000,0) -> 0 | AQ10: =ROUND(IF(AND(AO10>250,AO10<1001,T10>0),AK10*AO10/1000,0),2) -> 0 | AR10: =ROUND(IF(AND(AO10>1000,AO10<2001,T10>0),AK10*AO10/1000,0),2) -> 0 | AS10: =IF(AND(AO10<251,T10<0),AK10*AO10/1000,0) -> 0 | AT10: =ROUND(IF(AND(AO10>250,AO10<1001,T10<0),AK10*AO10/1000,0),2) -> 11.24 | AU10: =ROUND(IF(AND(AO10>1000,AO10<2001,T10<0),AK10*AO10/1000,0),2) -> 0 | AV10: =N10 -> 55.45 | AW10: 40475 | AX10: =AW10-AN10 -> 225 | AY10: =ROUND(AK10*(AX10/1000),2) -> 3.37 | AZ10: 17.05 | BA10: 6.498 | BB10: =(4512+2919)/1000 -> 7.431 | BC10: 15.29 | BD10: 16.652 | BE10: =IF(BA10=0,0,BA10/2) -> 3.249 | BF10: =(BD10)+(BE10) -> 19.901 | BG10: =AZ10 -> 17.05
A11: 60 | B11: G | C11: S | D11: =10.074/2 -> 5.037 | E11: 7.178 | F11: 1 | G11: 1 | H11: 0 | I11: =2.35/2 -> 1.175 | J11: =ROUND(D11+H11+I11,2) -> 6.21 | K11: =ROUND(SUM(E11:G11),2) -> 9.18 | L11: =ROUND(J11*K11,2) -> 57.01 | M11: 0 | N11: =L11+M11 -> 57.01 | O11: 41.49 | P11: 0.5 | Q11: =O11-P11 -> 40.99 | R11: 41.5 | S11: =R11-(BeamBlockSlabBuildUp1/1000) -> 41 | T11: =SUM(Q11-S11) -> -0.01 | U11: =IF(T11<0.001,($N11*$T11)*-1,0) -> 0.5701 | V11: =IF(T11>0.001,($N11*$T11),0) -> 0 | W11: =IF(AND(T11>0,T11<0.251),V11,0) -> 0 | X11: =IF(AND(T11>0.25,T11<1.01),V11,0) -> 0 | Y11: =IF(AND(T11<0,T11>-0.251),U11,0) -> 0.5701 | Z11: =IF(AND(T11>-1.001,T11<-0.251),U11,0) -> 0 | AA11: =IF(AND(T11>-2.001,T11<-1),U11,0) -> 0 | AB11: =(U11+V11-SUM(W11:AA11))=0 -> TRUE | AC11: 16.572 | AD11: 0 | AE11: =SUM(AC11:AD11) -> 16.572 | AF11: =E11 -> 7.178 | AG11: 7.041 | AH11: 9.9432 | AI11: 1.8714 | AJ11: 3.16845 | AK11: =SUM(AH11:AJ11) -> 14.98305 | AL11: 40250 | AM11: =IF(T11<0,(S11+T11-0.1)*1000,0) -> 40890 | AN11: =IF(AM11=0,AL11,IF(AL11<AM11,AL11,AM11)) -> 40250 | AO11: =(S11*1000)-AN11 -> 750 | AP11: =IF(AND(AO11<251,T11>0),AK11*AO11/1000,0) -> 0 | AQ11: =ROUND(IF(AND(AO11>250,AO11<1001,T11>0),AK11*AO11/1000,0),2) -> 0 | AR11: =ROUND(IF(AND(AO11>1000,AO11<2001,T11>0),AK11*AO11/1000,0),2) -> 0 | AS11: =IF(AND(AO11<251,T11<0),AK11*AO11/1000,0) -> 0 | AT11: =ROUND(IF(AND(AO11>250,AO11<1001,T11<0),AK11*AO11/1000,0),2) -> 11.24 | AU11: =ROUND(IF(AND(AO11>1000,AO11<2001,T11<0),AK11*AO11/1000,0),2) -> 0 | AV11: =N11 -> 57.01 | AW11: 40475 | AX11: =AW11-AN11 -> 225 | AY11: =ROUND(AK11*(AX11/1000),2) -> 3.37 | AZ11: 17.05 | BA11: 6.498 | BB11: =(4512+2919)/1000 -> 7.431 | BC11: 15.29 | BD11: 16.652 | BE11: =IF(BA11=0,0,BA11/2) -> 3.249 | BF11: =(BD11)+(BE11) -> 19.901 | BG11: =AZ11 -> 17.05
A12: 61 | B12: G | C12: S | D12: =10.074/2 -> 5.037 | E12: 7.178 | F12: 1 | G12: 1 | H12: =I11 -> 1.175 | I12: 0 | J12: =ROUND(D12+H12+I12,2) -> 6.21 | K12: =ROUND(SUM(E12:G12),2) -> 9.18 | L12: =ROUND(J12*K12,2) -> 57.01 | M12: 0 | N12: =L12+M12 -> 57.01 | O12: 41.53 | P12: 0.5 | Q12: =O12-P12 -> 41.03 | R12: 41.625 | S12: =R12-(BeamBlockSlabBuildUp1/1000) -> 41.125 | T12: =SUM(Q12-S12) -> -0.095 | U12: =IF(T12<0.001,($N12*$T12)*-1,0) -> 5.41595 | V12: =IF(T12>0.001,($N12*$T12),0) -> 0 | W12: =IF(AND(T12>0,T12<0.251),V12,0) -> 0 | X12: =IF(AND(T12>0.25,T12<1.01),V12,0) -> 0 | Y12: =IF(AND(T12<0,T12>-0.251),U12,0) -> 5.41595 | Z12: =IF(AND(T12>-1.001,T12<-0.251),U12,0) -> 0 | AA12: =IF(AND(T12>-2.001,T12<-1),U12,0) -> 0 | AB12: =(U12+V12-SUM(W12:AA12))=0 -> TRUE | AC12: 16.572 | AD12: 0 | AE12: =SUM(AC12:AD12) -> 16.572 | AF12: =E12 -> 7.178 | AG12: 7.041 | AH12: 9.9432 | AI12: 1.8714 | AJ12: 3.16845 | AK12: =SUM(AH12:AJ12) -> 14.98305 | AL12: 40375 | AM12: =IF(T12<0,(S12+T12-0.1)*1000,0) -> 40930 | AN12: =IF(AM12=0,AL12,IF(AL12<AM12,AL12,AM12)) -> 40375 | AO12: =(S12*1000)-AN12 -> 750 | AP12: =IF(AND(AO12<251,T12>0),AK12*AO12/1000,0) -> 0 | AQ12: =ROUND(IF(AND(AO12>250,AO12<1001,T12>0),AK12*AO12/1000,0),2) -> 0 | AR12: =ROUND(IF(AND(AO12>1000,AO12<2001,T12>0),AK12*AO12/1000,0),2) -> 0 | AS12: =IF(AND(AO12<251,T12<0),AK12*AO12/1000,0) -> 0 | AT12: =ROUND(IF(AND(AO12>250,AO12<1001,T12<0),AK12*AO12/1000,0),2) -> 11.24 | AU12: =ROUND(IF(AND(AO12>1000,AO12<2001,T12<0),AK12*AO12/1000,0),2) -> 0 | AV12: =N12 -> 57.01 | AW12: 40600 | AX12: =AW12-AN12 -> 225 | AY12: =ROUND(AK12*(AX12/1000),2) -> 3.37 | AZ12: 17.05 | BA12: 6.498 | BB12: =(4512+2919)/1000 -> 7.431 | BC12: 15.29 | BD12: 16.652 | BE12: =IF(BA12=0,0,BA12/2) -> 3.249 | BF12: =(BD12)+(BE12) -> 19.901 | BG12: =AZ12 -> 17.05
A13: 62 | B13: G | C13: S | D13: =10.074/2 -> 5.037 | E13: 7.178 | F13: 1 | G13: 1 | H13: 0 | I13: 1 | J13: =ROUND(D13+H13+I13,2) -> 6.04 | K13: =ROUND(SUM(E13:G13),2) -> 9.18 | L13: =ROUND(J13*K13,2) -> 55.45 | M13: 0 | N13: =L13+M13 -> 55.45 | O13: 41.35 | P13: 0.5 | Q13: =O13-P13 -> 40.85 | R13: 41.625 | S13: =R13-(BeamBlockSlabBuildUp1/1000) -> 41.125 | T13: =SUM(Q13-S13) -> -0.275 | U13: =IF(T13<0.001,($N13*$T13)*-1,0) -> 15.24875 | V13: =IF(T13>0.001,($N13*$T13),0) -> 0 | W13: =IF(AND(T13>0,T13<0.251),V13,0) -> 0 | X13: =IF(AND(T13>0.25,T13<1.01),V13,0) -> 0 | Y13: =IF(AND(T13<0,T13>-0.251),U13,0) -> 0 | Z13: =IF(AND(T13>-1.001,T13<-0.251),U13,0) -> 15.24875 | AA13: =IF(AND(T13>-2.001,T13<-1),U13,0) -> 0 | AB13: =(U13+V13-SUM(W13:AA13))=0 -> TRUE | AC13: 16.572 | AD13: 0 | AE13: =SUM(AC13:AD13) -> 16.572 | AF13: =E13 -> 7.178 | AG13: 7.041 | AH13: 9.9432 | AI13: 1.8714 | AJ13: 3.16845 | AK13: =SUM(AH13:AJ13) -> 14.98305 | AL13: 40375 | AM13: =IF(T13<0,(S13+T13-0.1)*1000,0) -> 40750 | AN13: =IF(AM13=0,AL13,IF(AL13<AM13,AL13,AM13)) -> 40375 | AO13: =(S13*1000)-AN13 -> 750 | AP13: =IF(AND(AO13<251,T13>0),AK13*AO13/1000,0) -> 0 | AQ13: =ROUND(IF(AND(AO13>250,AO13<1001,T13>0),AK13*AO13/1000,0),2) -> 0 | AR13: =ROUND(IF(AND(AO13>1000,AO13<2001,T13>0),AK13*AO13/1000,0),2) -> 0 | AS13: =IF(AND(AO13<251,T13<0),AK13*AO13/1000,0) -> 0 | AT13: =ROUND(IF(AND(AO13>250,AO13<1001,T13<0),AK13*AO13/1000,0),2) -> 11.24 | AU13: =ROUND(IF(AND(AO13>1000,AO13<2001,T13<0),AK13*AO13/1000,0),2) -> 0 | AV13: =N13 -> 55.45 | AW13: 40600 | AX13: =AW13-AN13 -> 225 | AY13: =ROUND(AK13*(AX13/1000),2) -> 3.37 | AZ13: 17.05 | BA13: 6.498 | BB13: =(4512+2919)/1000 -> 7.431 | BC13: 15.29 | BD13: 16.652 | BE13: =IF(BA13=0,0,BA13/2) -> 3.249 | BF13: =(BD13)+(BE13) -> 19.901 | BG13: =AZ13 -> 17.05
A16: ORIGINAL LEVELS | R16: ORIG FFL | U16: =SUM(U17:U24) -> 762.8665 | V16: =SUM(V17:V24) -> 0 | W16: =SUM(W17:W24) -> 0 | X16: =SUM(X17:X24) -> 0 | Y16: =SUM(Y17:Y24) -> 0 | Z16: =SUM(Z17:Z24) -> 120.6289 | AA16: =SUM(AA17:AA24) -> 642.2376 | AB16: =(U16+V16-SUM(W16:AA16)) -> 0 | AC16: Eng Section A - A | AL16: Btm of Trench 1 | AM16: Btm of Trench 2 | AN16: Btm of Trench | AP16: =SUM(AP17:AP24) -> 0 | AQ16: =SUM(AQ17:AQ24) -> 0 | AR16: =SUM(AR17:AR24) -> 0 | AS16: =SUM(AS17:AS24) -> 0 | AT16: =SUM(AT17:AT24) -> 42.93 | AU16: =SUM(AU17:AU24) -> 164.6 | AV16: =SUM(AV17:AV24) -> 654.25 | AY16: =ROUND(SUM(AY17:AY24),2) -> 123.62 | AZ16: =SUM(AZ17:AZ24)*(AZ2*0.225) -> 185.148 | BA16: =SUM(BA17:BA24)*(BA2*0.225) -> 23.3928 | BB16: =SUM(BB17:BB24)*(BB2*0.225) -> 56.8368 | BC16: =SUM(BC17:BC24)*(BC2*0.225) -> 172.476 | BD16: =SUM(BD17:BD24)*BD2 -> 205.9348 | BE16: =SUM(BE17:BE24)*BE2 -> 13.3209 | BF16: =SUM(BF17:BF24)*(BB2*225/1000) -> 192.5172 | BG16: =SUM(BG17:BG24) -> 205.72
A17: 1 | B17: A | C17: D | D17: 8.754 | E17: 8.634 | F17: 1 | G17: 1 | H17: 1 | I17: 0.13 | J17: =ROUND(D17+H17+I17,2) -> 9.88 | K17: =ROUND(SUM(E17:G17),2) -> 10.63 | L17: =ROUND(J17*K17,2) -> 105.02 | M17: 0 | N17: =L17+M17 -> 105.02 | O17: 41.76 | P17: 0.5 | Q17: =O17-P17 -> 41.26 | R17: 42.35 | S17: =R17-(BeamBlockSlabBuildUp1/1000) -> 41.85 | T17: =SUM(Q17-S17) -> -0.59 | U17: =IF(T17<0.001,($N17*$T17)*-1,0) -> 61.9618 | V17: =IF(T17>0.001,($N17*$T17),0) -> 0 | W17: =IF(AND(T17>0,T17<0.251),V17,0) -> 0 | X17: =IF(AND(T17>0.25,T17<1.01),V17,0) -> 0 | Y17: =IF(AND(T17<0,T17>-0.251),U17,0) -> 0 | Z17: =IF(AND(T17>-1.001,T17<-0.251),U17,0) -> 61.9618 | AA17: =IF(AND(T17>-2.001,T17<-1),U17,0) -> 0 | AB17: =(U17+V17-SUM(W17:AA17))=0 -> TRUE | AC17: 33.416 | AD17: 0 | AE17: =SUM(AC17:AD17) -> 33.416 | AF17: 0 | AG17: =((K17*1000)-(2*$AF$4)+303)/1000 -> 10.933 | AH17: 20.0496 | AI17: 0 | AJ17: 4.91985 | AK17: =SUM(AH17:AJ17) -> 24.96945 | AL17: 41100 | AM17: =IF(T17<0,(S17+T17-0.1)*1000,0) -> 41160 | AN17: =IF(AM17=0,AL17,IF(AL17<AM17,AL17,AM17)) -> 41100 | AO17: =(S17*1000)-AN17 -> 750 | AP17: =IF(AND(AO17<251,T17>0),AK17*AO17/1000,0) -> 0 | AQ17: =ROUND(IF(AND(AO17>250,AO17<1001,T17>0),AK17*AO17/1000,0),2) -> 0 | AR17: =ROUND(IF(AND(AO17>1000,AO17<2001,T17>0),AK17*AO17/1000,0),2) -> 0 | AS17: =IF(AND(AO17<251,T17<0),AK17*AO17/1000,0) -> 0 | AT17: =ROUND(IF(AND(AO17>250,AO17<1001,T17<0),AK17*AO17/1000,0),2) -> 18.73 | AU17: =ROUND(IF(AND(AO17>1000,AO17<2001,T17<0),AK17*AO17/1000,0),2) -> 0 | AV17: =N17 -> 105.02 | AW17: 41325 | AX17: =AW17-AN17 -> 225 | AY17: =ROUND(AK17*(AX17/1000),2) -> 5.62 | AZ17: 34.38 | BA17: 0 | BB17: =(8754-350-350+303)/1000 -> 8.357 | BC17: 32.62 | BD17: 33.576 | BE17: =IF(BA17=0,0,BA17/2) -> 0 | BF17: =(BD17)+(BE17) -> 33.576 | BG17: =AZ17 -> 34.38
A18: 2 | B18: A | C18: D | D18: 8.754 | E18: 8.634 | F18: 1 | G18: 1 | H18: 1 | I18: 1 | J18: =ROUND(D18+H18+I18,2) -> 10.75 | K18: =ROUND(SUM(E18:G18),2) -> 10.63 | L18: =ROUND(J18*K18,2) -> 114.27 | M18: 0 | N18: =L18+M18 -> 114.27 | O18: 41.02 | P18: 0.5 | Q18: =O18-P18 -> 40.52 | R18: 42.35 | S18: =R18-(BeamBlockSlabBuildUp1/1000) -> 41.85 | T18: =SUM(Q18-S18) -> -1.33 | U18: =IF(T18<0.001,($N18*$T18)*-1,0) -> 151.9791 | V18: =IF(T18>0.001,($N18*$T18),0) -> 0 | W18: =IF(AND(T18>0,T18<0.251),V18,0) -> 0 | X18: =IF(AND(T18>0.25,T18<1.01),V18,0) -> 0 | Y18: =IF(AND(T18<0,T18>-0.251),U18,0) -> 0 | Z18: =IF(AND(T18>-1.001,T18<-0.251),U18,0) -> 0 | AA18: =IF(AND(T18>-2.001,T18<-1),U18,0) -> 151.9791 | AB18: =(U18+V18-SUM(W18:AA18))=0 -> TRUE | AC18: 33.416 | AD18: 0 | AE18: =SUM(AC18:AD18) -> 33.416 | AF18: 0 | AG18: =((K18*1000)-(2*$AF$4)+303)/1000 -> 10.933 | AH18: 20.0496 | AI18: 0 | AJ18: 4.91985 | AK18: =SUM(AH18:AJ18) -> 24.96945 | AL18: 41100 | AM18: =IF(T18<0,(S18+T18-0.1)*1000,0) -> 40420 | AN18: =IF(AM18=0,AL18,IF(AL18<AM18,AL18,AM18)) -> 40420 | AO18: =(S18*1000)-AN18 -> 1430 | AP18: =IF(AND(AO18<251,T18>0),AK18*AO18/1000,0) -> 0 | AQ18: =ROUND(IF(AND(AO18>250,AO18<1001,T18>0),AK18*AO18/1000,0),2) -> 0 | AR18: =ROUND(IF(AND(AO18>1000,AO18<2001,T18>0),AK18*AO18/1000,0),2) -> 0 | AS18: =IF(AND(AO18<251,T18<0),AK18*AO18/1000,0) -> 0 | AT18: =ROUND(IF(AND(AO18>250,AO18<1001,T18<0),AK18*AO18/1000,0),2) -> 0 | AU18: =ROUND(IF(AND(AO18>1000,AO18<2001,T18<0),AK18*AO18/1000,0),2) -> 35.71 | AV18: =N18 -> 114.27 | AW18: 41325 | AX18: =AW18-AN18 -> 905 | AY18: =ROUND(AK18*(AX18/1000),2) -> 22.6 | AZ18: 34.38 | BA18: 0 | BB18: =(8754-350-350+303)/1000 -> 8.357 | BC18: 32.62 | BD18: 33.576 | BE18: =IF(BA18=0,0,BA18/2) -> 0 | BF18: =(BD18)+(BE18) -> 33.576 | BG18: =AZ18 -> 34.38
A19: 24 | B19: A | C19: D | D19: 8.754 | E19: 8.634 | F19: 1 | G19: 1 | H19: 1 | I19: 0.13 | J19: =ROUND(D19+H19+I19,2) -> 9.88 | K19: =ROUND(SUM(E19:G19),2) -> 10.63 | L19: =ROUND(J19*K19,2) -> 105.02 | M19: 0 | N19: =L19+M19 -> 105.02 | O19: 39.22 | P19: 0.5 | Q19: =O19-P19 -> 38.72 | R19: 41 | S19: =R19-(BeamBlockSlabBuildUp1/1000) -> 40.5 | T19: =SUM(Q19-S19) -> -1.78 | U19: =IF(T19<0.001,($N19*$T19)*-1,0) -> 186.9356 | V19: =IF(T19>0.001,($N19*$T19),0) -> 0 | W19: =IF(AND(T19>0,T19<0.251),V19,0) -> 0 | X19: =IF(AND(T19>0.25,T19<1.01),V19,0) -> 0 | Y19: =IF(AND(T19<0,T19>-0.251),U19,0) -> 0 | Z19: =IF(AND(T19>-1.001,T19<-0.251),U19,0) -> 0 | AA19: =IF(AND(T19>-2.001,T19<-1),U19,0) -> 186.9356 | AB19: =(U19+V19-SUM(W19:AA19))=0 -> TRUE | AC19: 33.416 | AD19: 0 | AE19: =SUM(AC19:AD19) -> 33.416 | AF19: 0 | AG19: =((K19*1000)-(2*$AF$4)+303)/1000 -> 10.933 | AH19: 20.0496 | AI19: 0 | AJ19: 4.91985 | AK19: =SUM(AH19:AJ19) -> 24.96945 | AL19: 39750 | AM19: =IF(T19<0,(S19+T19-0.1)*1000,0) -> 38620 | AN19: =IF(AM19=0,AL19,IF(AL19<AM19,AL19,AM19)) -> 38620 | AO19: =(S19*1000)-AN19 -> 1880 | AP19: =IF(AND(AO19<251,T19>0),AK19*AO19/1000,0) -> 0 | AQ19: =ROUND(IF(AND(AO19>250,AO19<1001,T19>0),AK19*AO19/1000,0),2) -> 0 | AR19: =ROUND(IF(AND(AO19>1000,AO19<2001,T19>0),AK19*AO19/1000,0),2) -> 0 | AS19: =IF(AND(AO19<251,T19<0),AK19*AO19/1000,0) -> 0 | AT19: =ROUND(IF(AND(AO19>250,AO19<1001,T19<0),AK19*AO19/1000,0),2) -> 0 | AU19: =ROUND(IF(AND(AO19>1000,AO19<2001,T19<0),AK19*AO19/1000,0),2) -> 46.94 | AV19: =N19 -> 105.02 | AW19: 39975 | AX19: =AW19-AN19 -> 1355 | AY19: =ROUND(AK19*(AX19/1000),2) -> 33.83 | AZ19: 34.38 | BA19: 0 | BB19: =(8754-350-350+303)/1000 -> 8.357 | BC19: 32.62 | BD19: 33.576 | BE19: =IF(BA19=0,0,BA19/2) -> 0 | BF19: =(BD19)+(BE19) -> 33.576 | BG19: =AZ19 -> 34.38
A20: 25 | B20: A | C20: D | D20: 8.754 | E20: 8.634 | F20: 1 | G20: 1 | H20: 0.13 | I20: 1 | J20: =ROUND(D20+H20+I20,2) -> 9.88 | K20: =ROUND(SUM(E20:G20),2) -> 10.63 | L20: =ROUND(J20*K20,2) -> 105.02 | M20: 0 | N20: =L20+M20 -> 105.02 | O20: 39.29 | P20: 0.5 | Q20: =O20-P20 -> 38.79 | R20: 40.75 | S20: =R20-(BeamBlockSlabBuildUp1/1000) -> 40.25 | T20: =SUM(Q20-S20) -> -1.46 | U20: =IF(T20<0.001,($N20*$T20)*-1,0) -> 153.3292 | V20: =IF(T20>0.001,($N20*$T20),0) -> 0 | W20: =IF(AND(T20>0,T20<0.251),V20,0) -> 0 | X20: =IF(AND(T20>0.25,T20<1.01),V20,0) -> 0 | Y20: =IF(AND(T20<0,T20>-0.251),U20,0) -> 0 | Z20: =IF(AND(T20>-1.001,T20<-0.251),U20,0) -> 0 | AA20: =IF(AND(T20>-2.001,T20<-1),U20,0) -> 153.3292 | AB20: =(U20+V20-SUM(W20:AA20))=0 -> TRUE | AC20: 33.416 | AD20: 0 | AE20: =SUM(AC20:AD20) -> 33.416 | AF20: 0 | AG20: =((K20*1000)-(2*$AF$4)+303)/1000 -> 10.933 | AH20: 20.0496 | AI20: 0 | AJ20: 4.91985 | AK20: =SUM(AH20:AJ20) -> 24.96945 | AL20: 39500 | AM20: =IF(T20<0,(S20+T20-0.1)*1000,0) -> 38690 | AN20: =IF(AM20=0,AL20,IF(AL20<AM20,AL20,AM20)) -> 38690 | AO20: =(S20*1000)-AN20 -> 1560 | AP20: =IF(AND(AO20<251,T20>0),AK20*AO20/1000,0) -> 0 | AQ20: =ROUND(IF(AND(AO20>250,AO20<1001,T20>0),AK20*AO20/1000,0),2) -> 0 | AR20: =ROUND(IF(AND(AO20>1000,AO20<2001,T20>0),AK20*AO20/1000,0),2) -> 0 | AS20: =IF(AND(AO20<251,T20<0),AK20*AO20/1000,0) -> 0 | AT20: =ROUND(IF(AND(AO20>250,AO20<1001,T20<0),AK20*AO20/1000,0),2) -> 0 | AU20: =ROUND(IF(AND(AO20>1000,AO20<2001,T20<0),AK20*AO20/1000,0),2) -> 38.95 | AV20: =N20 -> 105.02 | AW20: 39725 | AX20: =AW20-AN20 -> 1035 | AY20: =ROUND(AK20*(AX20/1000),2) -> 25.84 | AZ20: 34.38 | BA20: 0 | BB20: =(8754-350-350+303)/1000 -> 8.357 | BC20: 32.62 | BD20: 33.576 | BE20: =IF(BA20=0,0,BA20/2) -> 0 | BF20: =(BD20)+(BE20) -> 33.576 | BG20: =AZ20 -> 34.38
A21: 59 | B21: G | C21: S | D21: =10.074/2 -> 5.037 | E21: 7.178 | F21: 1 | G21: 1 | H21: 1 | I21: 0 | J21: =ROUND(D21+H21+I21,2) -> 6.04 | K21: =ROUND(SUM(E21:G21),2) -> 9.18 | L21: =ROUND(J21*K21,2) -> 55.45 | M21: 0 | N21: =L21+M21 -> 55.45 | O21: 41.01 | P21: 0.5 | Q21: =O21-P21 -> 40.51 | R21: 41.775 | S21: =R21-(BeamBlockSlabBuildUp1/1000) -> 41.275 | T21: =SUM(Q21-S21) -> -0.765 | U21: =IF(T21<0.001,($N21*$T21)*-1,0) -> 42.41925 | V21: =IF(T21>0.001,($N21*$T21),0) -> 0 | W21: =IF(AND(T21>0,T21<0.251),V21,0) -> 0 | X21: =IF(AND(T21>0.25,T21<1.01),V21,0) -> 0 | Y21: =IF(AND(T21<0,T21>-0.251),U21,0) -> 0 | Z21: =IF(AND(T21>-1.001,T21<-0.251),U21,0) -> 42.41925 | AA21: =IF(AND(T21>-2.001,T21<-1),U21,0) -> 0 | AB21: =(U21+V21-SUM(W21:AA21))=0 -> TRUE | AC21: 16.572 | AD21: 0 | AE21: =SUM(AC21:AD21) -> 16.572 | AF21: =E21 -> 7.178 | AG21: 7.041 | AH21: 9.9432 | AI21: 1.8714 | AJ21: 3.16845 | AK21: =SUM(AH21:AJ21) -> 14.98305 | AL21: 40525 | AM21: =IF(T21<0,(S21+T21-0.1)*1000,0) -> 40410 | AN21: =IF(AM21=0,AL21,IF(AL21<AM21,AL21,AM21)) -> 40410 | AO21: =(S21*1000)-AN21 -> 865 | AP21: =IF(AND(AO21<251,T21>0),AK21*AO21/1000,0) -> 0 | AQ21: =ROUND(IF(AND(AO21>250,AO21<1001,T21>0),AK21*AO21/1000,0),2) -> 0 | AR21: =ROUND(IF(AND(AO21>1000,AO21<2001,T21>0),AK21*AO21/1000,0),2) -> 0 | AS21: =IF(AND(AO21<251,T21<0),AK21*AO21/1000,0) -> 0 | AT21: =ROUND(IF(AND(AO21>250,AO21<1001,T21<0),AK21*AO21/1000,0),2) -> 12.96 | AU21: =ROUND(IF(AND(AO21>1000,AO21<2001,T21<0),AK21*AO21/1000,0),2) -> 0 | AV21: =N21 -> 55.45 | AW21: 40750 | AX21: =AW21-AN21 -> 340 | AY21: =ROUND(AK21*(AX21/1000),2) -> 5.09 | AZ21: 17.05 | BA21: 6.498 | BB21: =(4512+2919)/1000 -> 7.431 | BC21: 15.29 | BD21: 16.652 | BE21: =IF(BA21=0,0,BA21/2) -> 3.249 | BF21: =(BD21)+(BE21) -> 19.901 | BG21: =AZ21 -> 17.05
A22: 60 | B22: G | C22: S | D22: =10.074/2 -> 5.037 | E22: 7.178 | F22: 1 | G22: 1 | H22: 0 | I22: =2.35/2 -> 1.175 | J22: =ROUND(D22+H22+I22,2) -> 6.21 | K22: =ROUND(SUM(E22:G22),2) -> 9.18 | L22: =ROUND(J22*K22,2) -> 57.01 | M22: 0 | N22: =L22+M22 -> 57.01 | O22: 41.49 | P22: 0.5 | Q22: =O22-P22 -> 40.99 | R22: 41.775 | S22: =R22-(BeamBlockSlabBuildUp1/1000) -> 41.275 | T22: =SUM(Q22-S22) -> -0.285 | U22: =IF(T22<0.001,($N22*$T22)*-1,0) -> 16.24785 | V22: =IF(T22>0.001,($N22*$T22),0) -> 0 | W22: =IF(AND(T22>0,T22<0.251),V22,0) -> 0 | X22: =IF(AND(T22>0.25,T22<1.01),V22,0) -> 0 | Y22: =IF(AND(T22<0,T22>-0.251),U22,0) -> 0 | Z22: =IF(AND(T22>-1.001,T22<-0.251),U22,0) -> 16.24785 | AA22: =IF(AND(T22>-2.001,T22<-1),U22,0) -> 0 | AB22: =(U22+V22-SUM(W22:AA22))=0 -> TRUE | AC22: 16.572 | AD22: 0 | AE22: =SUM(AC22:AD22) -> 16.572 | AF22: =E22 -> 7.178 | AG22: 7.041 | AH22: 9.9432 | AI22: 1.8714 | AJ22: 3.16845 | AK22: =SUM(AH22:AJ22) -> 14.98305 | AL22: 40525 | AM22: =IF(T22<0,(S22+T22-0.1)*1000,0) -> 40890 | AN22: =IF(AM22=0,AL22,IF(AL22<AM22,AL22,AM22)) -> 40525 | AO22: =(S22*1000)-AN22 -> 750 | AP22: =IF(AND(AO22<251,T22>0),AK22*AO22/1000,0) -> 0 | AQ22: =ROUND(IF(AND(AO22>250,AO22<1001,T22>0),AK22*AO22/1000,0),2) -> 0 | AR22: =ROUND(IF(AND(AO22>1000,AO22<2001,T22>0),AK22*AO22/1000,0),2) -> 0 | AS22: =IF(AND(AO22<251,T22<0),AK22*AO22/1000,0) -> 0 | AT22: =ROUND(IF(AND(AO22>250,AO22<1001,T22<0),AK22*AO22/1000,0),2) -> 11.24 | AU22: =ROUND(IF(AND(AO22>1000,AO22<2001,T22<0),AK22*AO22/1000,0),2) -> 0 | AV22: =N22 -> 57.01 | AW22: 40750 | AX22: =AW22-AN22 -> 225 | AY22: =ROUND(AK22*(AX22/1000),2) -> 3.37 | AZ22: 17.05 | BA22: 6.498 | BB22: =(4512+2919)/1000 -> 7.431 | BC22: 15.29 | BD22: 16.652 | BE22: =IF(BA22=0,0,BA22/2) -> 3.249 | BF22: =(BD22)+(BE22) -> 19.901 | BG22: =AZ22 -> 17.05
A23: 61 | B23: G | C23: S | D23: =10.074/2 -> 5.037 | E23: 7.178 | F23: 1 | G23: 1 | H23: =I22 -> 1.175 | I23: 0 | J23: =ROUND(D23+H23+I23,2) -> 6.21 | K23: =ROUND(SUM(E23:G23),2) -> 9.18 | L23: =ROUND(J23*K23,2) -> 57.01 | M23: 0 | N23: =L23+M23 -> 57.01 | O23: 41.53 | P23: 0.5 | Q23: =O23-P23 -> 41.03 | R23: 42.775 | S23: =R23-(BeamBlockSlabBuildUp1/1000) -> 42.275 | T23: =SUM(Q23-S23) -> -1.245 | U23: =IF(T23<0.001,($N23*$T23)*-1,0) -> 70.97745 | V23: =IF(T23>0.001,($N23*$T23),0) -> 0 | W23: =IF(AND(T23>0,T23<0.251),V23,0) -> 0 | X23: =IF(AND(T23>0.25,T23<1.01),V23,0) -> 0 | Y23: =IF(AND(T23<0,T23>-0.251),U23,0) -> 0 | Z23: =IF(AND(T23>-1.001,T23<-0.251),U23,0) -> 0 | AA23: =IF(AND(T23>-2.001,T23<-1),U23,0) -> 70.97745 | AB23: =(U23+V23-SUM(W23:AA23))=0 -> TRUE | AC23: 16.572 | AD23: 0 | AE23: =SUM(AC23:AD23) -> 16.572 | AF23: =E23 -> 7.178 | AG23: 7.041 | AH23: 9.9432 | AI23: 1.8714 | AJ23: 3.16845 | AK23: =SUM(AH23:AJ23) -> 14.98305 | AL23: 41525 | AM23: =IF(T23<0,(S23+T23-0.1)*1000,0) -> 40930 | AN23: =IF(AM23=0,AL23,IF(AL23<AM23,AL23,AM23)) -> 40930 | AO23: =(S23*1000)-AN23 -> 1345 | AP23: =IF(AND(AO23<251,T23>0),AK23*AO23/1000,0) -> 0 | AQ23: =ROUND(IF(AND(AO23>250,AO23<1001,T23>0),AK23*AO23/1000,0),2) -> 0 | AR23: =ROUND(IF(AND(AO23>1000,AO23<2001,T23>0),AK23*AO23/1000,0),2) -> 0 | AS23: =IF(AND(AO23<251,T23<0),AK23*AO23/1000,0) -> 0 | AT23: =ROUND(IF(AND(AO23>250,AO23<1001,T23<0),AK23*AO23/1000,0),2) -> 0 | AU23: =ROUND(IF(AND(AO23>1000,AO23<2001,T23<0),AK23*AO23/1000,0),2) -> 20.15 | AV23: =N23 -> 57.01 | AW23: 41750 | AX23: =AW23-AN23 -> 820 | AY23: =ROUND(AK23*(AX23/1000),2) -> 12.29 | AZ23: 17.05 | BA23: 6.498 | BB23: =(4512+2919)/1000 -> 7.431 | BC23: 15.29 | BD23: 16.652 | BE23: =IF(BA23=0,0,BA23/2) -> 3.249 | BF23: =(BD23)+(BE23) -> 19.901 | BG23: =AZ23 -> 17.05
A24: 62 | B24: G | C24: S | D24: =10.074/2 -> 5.037 | E24: 7.178 | F24: 1 | G24: 1 | H24: 0 | I24: 1 | J24: =ROUND(D24+H24+I24,2) -> 6.04 | K24: =ROUND(SUM(E24:G24),2) -> 9.18 | L24: =ROUND(J24*K24,2) -> 55.45 | M24: 0 | N24: =L24+M24 -> 55.45 | O24: 41.35 | P24: 0.5 | Q24: =O24-P24 -> 40.85 | R24: 42.775 | S24: =R24-(BeamBlockSlabBuildUp1/1000) -> 42.275 | T24: =SUM(Q24-S24) -> -1.425 | U24: =IF(T24<0.001,($N24*$T24)*-1,0) -> 79.01625 | V24: =IF(T24>0.001,($N24*$T24),0) -> 0 | W24: =IF(AND(T24>0,T24<0.251),V24,0) -> 0 | X24: =IF(AND(T24>0.25,T24<1.01),V24,0) -> 0 | Y24: =IF(AND(T24<0,T24>-0.251),U24,0) -> 0 | Z24: =IF(AND(T24>-1.001,T24<-0.251),U24,0) -> 0 | AA24: =IF(AND(T24>-2.001,T24<-1),U24,0) -> 79.01625 | AB24: =(U24+V24-SUM(W24:AA24))=0 -> TRUE | AC24: 16.572 | AD24: 0 | AE24: =SUM(AC24:AD24) -> 16.572 | AF24: =E24 -> 7.178 | AG24: 7.041 | AH24: 9.9432 | AI24: 1.8714 | AJ24: 3.16845 | AK24: =SUM(AH24:AJ24) -> 14.98305 | AL24: 41525 | AM24: =IF(T24<0,(S24+T24-0.1)*1000,0) -> 40750 | AN24: =IF(AM24=0,AL24,IF(AL24<AM24,AL24,AM24)) -> 40750 | AO24: =(S24*1000)-AN24 -> 1525 | AP24: =IF(AND(AO24<251,T24>0),AK24*AO24/1000,0) -> 0 | AQ24: =ROUND(IF(AND(AO24>250,AO24<1001,T24>0),AK24*AO24/1000,0),2) -> 0 | AR24: =ROUND(IF(AND(AO24>1000,AO24<2001,T24>0),AK24*AO24/1000,0),2) -> 0 | AS24: =IF(AND(AO24<251,T24<0),AK24*AO24/1000,0) -> 0 | AT24: =ROUND(IF(AND(AO24>250,AO24<1001,T24<0),AK24*AO24/1000,0),2) -> 0 | AU24: =ROUND(IF(AND(AO24>1000,AO24<2001,T24<0),AK24*AO24/1000,0),2) -> 22.85 | AV24: =N24 -> 55.45 | AW24: 41750 | AX24: =AW24-AN24 -> 1000 | AY24: =ROUND(AK24*(AX24/1000),2) -> 14.98 | AZ24: 17.05 | BA24: 6.498 | BB24: =(4512+2919)/1000 -> 7.431 | BC24: 15.29 | BD24: 16.652 | BE24: =IF(BA24=0,0,BA24/2) -> 3.249 | BF24: =(BD24)+(BE24) -> 19.901 | BG24: =AZ24 -> 17.05

Sheet Constants
A1: CONSTANTS
A2: Assumed Topsoil Thickness (Extg) | E2: 500 | F2: mm | G2: OR | H2: 0.5 | I2: m
A3: NewTopsoil Thickness | E3: 150 | F3: mm | G3: OR | H3: 0.15 | I3: m
F4: mm
F5: mm
A6: Spread | E6: 130 | F6: mm
A7: Min Dept from EGL to Bot.of Trench | E7: 1000 | F7: mm
A8: Screed | E8: 75 | F8: mm
A9: Insulation | E9: 100 | F9: mm
A10: Beam | E10: 175 | F10: mm
A11: Void | E11: 150 | F11: mm
A12: Total Floor Lab Thickness (from FFL) | E12: =SUM(E8:E11) -> 500 | F12: mm
A13: Hieght of Vertical DPM to int face of ext wall | E13: 400 | F13: mm
A14: TRENCH WIDTHS
A15: Perimeter of House Plots | E15: 600 | F15: mm
A16: Party Walls | E16: 600 | F16: mm
A17: Internal Structural Walls | E17: 450 | F17: mm
A18: TRENCH DEPTHS
A19: Facings from FFL to cut block | E19: 225 | F19: mm
A20: cut block depth | E20: 125 | F20: mm
A21: Blocks from cut block to top of conc in ftg | E21: 675 | F21: mm
A22: FFL to top of conc in footing | E22: =SUM(E19:E21) -> 1025 | F22: mm
A23: min thickness of conc footing | E23: 225 | F23: mm
A24: Min dim from FFL to U/S of conc footing | E24: =E22+E23 -> 1250 | F24: mm
A25: WALLS | G25: External Face to C/L
A26: External Skin | E26: 100 | F26: mm | G26: 50
A27: Clear Cavity | E27: 50 | F27: mm | G27: 125
A28: Insulation Thickness | E28: 50 | F28: mm | G28: 175
A29: Internal Skin | E29: 140 | F29: mm | G29: =SUM(E26:E28)+E29/2 -> 270
A30: External Wall Build up | E30: =SUM(E26:E29) -> 340 | F30: mm
A31: C/L of Ext. Skin to C/L of Int. Skin | E31: 220 | F31: mm
A32: Ext Face to C/L of Cavity | E32: 150 | F32: mm
A33: Height of Conc Fill in Cavity | E33: =3*225 -> 675 | F33: mm
A34: Omission from Perimeter for Beam & Block Floor | E34: 200 | F34: mm
F35: mm
F36: mm
F37: mm
F38: mm
F39: mm
A40: Party Wall:
A41: Skin | E41: 100 | F41: mm
A42: Cavity | E42: 150 | F42: mm
A43: Skin | E43: =E41 -> 100 | F43: mm
A44: Party Wall Build up | E44: =SUM(E41:E43) -> 350 | F44: mm
A45: Height of Conc Fill in Cavity | E45: =4*225 -> 900 | F45: mm
A46: Omission from Perimeter for Beam & Block Floor (from C/L) | E46: 75 | F46: mm
F47: mm
F48: mm
F49: mm
F50: mm
