Workbook
Name ____INF1: #REF!
Name ____INF1: #REF!
Name ____INF2: #REF!
Name ____INF2: #REF!
Name ___INF1: #REF!
Name ___INF1: #REF!
Name ___INF2: #REF!
Name ___INF2: #REF!
Name __INF1: #REF!
Name __INF1: #REF!
Name __INF2: #REF!
Name __INF2: #REF!
Name _bar1: #REF!
Name _bar1: #REF!
Name _boh1: #REF!
Name _boh1: #REF!
Name _foh1: #REF!
Name _foh1: #REF!
Name _INF1: #REF!
Name _INF1: #REF!
Name _INF2: #REF!
Name _INF2: #REF!
Name Accept: [0]!Accept
Name Access: '[1]KING INPUT SHEET'!$D$28
Name ADDRESS1: #REF!
Name ADDRESS1: #REF!
Name ADDRESS2: #REF!
Name ADDRESS2: #REF!
Name admin1: #REF!
Name admin1: #REF!
Name Area: [2]Indices!$D$2:$F$81
Name BASE_DATE: '[3]Master Data Sheet'!$D$41
Name Base_Date: '[4]PROJECT INPUTS'!$E$9
Name bathrooms1: #REF!
Name bathrooms1: #REF!
Name BCIS_Location: [5]Library!$H$15:$I$94
Name BCIS_TPI: [5]Library!$K$15:$L$44
Name bedroomcorridors1: #REF!
Name bedroomcorridors1: #REF!
Name bedrooms1: #REF!
Name bedrooms1: #REF!
Name Beds: [6]DATA!$F$13
Name BlockABath: '[7]Block A - Data'!$H$54
Name BlockAens: '[7]Block A - Data'!$H$55
Name BlockAGIA: '[7]Block A - Data'!$E$31
Name BlockANIA: '[7]Block A - Data'!$G$31
Name BlockAUnits: '[7]Block A - Data'!$H$49
Name BlockBbath: '[7]Block B - Data'!$H$56
Name BlockBens: '[7]Block B - Data'!$H$57
Name BlockBGIA: '[7]Block B - Data'!$E$31
Name BlockBNIA: '[7]Block B - Data'!$G$31
Name BlockBUnits: '[7]Block B - Data'!$H$51
Name BlockCBath: '[7]Block C - Data'!$H$55
Name BlockCEns: '[7]Block C - Data'!$H$56
Name BlockCGIA: '[7]Block C - Data'!$E$31
Name BlockCNIA: '[7]Block C - Data'!$G$31
Name BlockCUnits: '[7]Block C - Data'!$H$50
Name BlockDBath: '[7]Block D - Data'!$H$60
Name BlockDEns: '[7]Block D - Data'!$H$61
Name BlockDGIA: '[7]Block D - Data'!$E$35

Sheet Front

Sheet Status
B2: NRM1 Elemental Cost Plan Template
B4: 44867
B12: Document Status
B13: Revision | C13: Date | D13: Status | E13: Prepared by | F13: Checked by | G13: Authorised by
B14: Rev A | C14: 11.11.22 | E14: Dalton Brown
B15: Rev B | C15: 23.11.22 | E15: Dalton Brown
B16: Rev C | C16: 04.12.22 | E16: Dalton Brown
B17: Rev D | C17: 14.12.22 | E17: Dalton Brown
B18: Rev E | C18: 15.01.23 | E18: Dalton Brown
B19: Rev F | C19: 23.01.23 | E19: Dalton Brown
B20: Rev G | C20: 06.02.23 | E20: Dalton Brown
B23: DISCLAIMER
B25: This document and its contents have been prepared and are intended solely for Keri Jones information and use in relation to innovation matrix
B26: Faithful+Gould assumes no responsibility to any other party in respect of or arising out of or in connection with this document and/or its contents.
B28: COPYRIGHT
B30: The copyright of this document is vested in Faithful+Gould. This document may not be reproduced in whole or in part without their express written permission.

Sheet Information Used
B6: Information Used & Assumptions
B8: 1 | C8: Information Used
C10: Design Drawings;
C12: 152481-STL-XX-XX-DR-A-PL_0003-Existing Site Plan
C13: 152481-STL-XX-00-DR-A-PL_011-Proposed Landscape Plan
C14: 152481-STL-XX-00-DR-A-PL_0103-Ground Floor Shell & Core
C15: 152481-STL-XX-01-DR-A-PL_0104-First Floor Shell & Core
C16: 152481-STL-XX-XX-DR-A-PL_0105-Roof Plan - Full Building
C17: 152481-STL-XX-XX-DR-A-PL_0201-Elevations GA
C18: 152481-STL-XX-XX-DR-A-PL_0202-Elevation Detail 01
C19: 152481-STL-XX-XX-DR-A-PL_0203-Elevation Detail 02
C20: 152481-STL-XX-XX-DR-A-PL_0301-Section
C21: 152481-STL-XX-XX-DR-A-PL_0501-Ground Floor Layout - Full Building
C22: 152481-STL-XX-XX-DR-A-PL_0502-First Floor Layout - Full Building
B26: 2 | C26: General Assumptions;
C28: External Works is excluded unless specifically identified within the cost plan.
C29: Cavity Wall with no insulation is assumed.
C30: Costs are based upon the information as provided.
C31: We have assumed a project bank account will not be required for this scheme.
C32: We have assumed that the area of works will be decanted for the project. No allowance is made for throughways or dealing with building occupants.
C33: The exact nature of specification for internal doors, screens, folding partitions and finishes is assumed.
C34: All costs are provisional awaiting design development.
C35: All base costs are based on Q42022
B37: 3 | C37: General Notes and Exclusions;
C39: All included costs are subject to variation following design development.
C40: Land Costs
C41: A risk allowance of 10% is included for this estimate.
C42: VAT is excluded from the estimate.
C43: Works will be undertaken in a single phase.
C44: Local Authority Fees
C45: Building Regulation fees
C46: Party Wall Awards
C47: Acquisition & associated legals

Sheet Summary Original
B2: Project details: Innovation Matrix
B5: Description: ..
B7: Building Works Estimate
B9: Based on GIA of: 2133m2 | G9: 1872
C11: Group Element | D11: Element Type | E11: Total | F11: £/m2
C13: Group element 0 | D13: FACILITATING WORKS - excluded from scope | E13: ='NRM1 DB '!K12 -> 350000 | F13: =E13/G9 -> 186.96581
C14: Group element 1 | D14: ='NRM1 DB '!C19 -> SUBSTRUCTURE | E14: ='NRM1 DB '!K19 -> 481545 | F14: =E14/G9 -> 257.23558
C15: Group element 2 | D15: ='NRM1 DB '!C26 -> SUPERSTRUCTURE | E15: ='NRM1 DB '!K26 -> 2302032.7 | F15: =E15/G9 -> 1229.7183 | G15: =SUM(F12:F20) -> 2626.8542
C16: Group element 3 | D16: ='NRM1 DB '!C163 -> INTERNAL FINISHES | E16: ='NRM1 DB '!K215 -> 221358.06 | F16: =E16/G9 -> 118.24682
C17: Group element 4 | D17: ='NRM1 DB '!C251 -> FITTINGS AND FURNISHINGS | E17: ='NRM1 DB '!K253 -> 0 | F17: =E17/G9 -> 0
C18: Group element 5 | D18: ='NRM1 DB '!C257 -> SERVICES | E18: ='NRM1 DB '!K259 -> 801290.2 | F18: =E18/G9 -> 428.03964
C19: Group element 8 | D19: EXTERNAL WORKS - excluded from scope | E19: 0 | F19: =E19/G9 -> 0
C20: Group element 9 | D20: ='NRM1 DB '!C294 -> MAIN CONTRACTOR'S PRELIMINARIES | E20: ='NRM1 DB '!K299 -> 761245.19 | F20: =E20/G9 -> 406.64807
B22: Works cost estimate (sub total A) | E22: =SUM(E12:E21) -> 4917471.1 | F22: =E22/G9 -> 2626.8542
C24: Location Factor Calculator
C26: Current TPI | D26: 1.24
C27: Forecasted 2022 Q4 TPI | D27: 1.284
E28: =(E22/D26)*D27 -> 5091962 | F28: =(F22/D26)*D27 -> 2720.0652
C30: Wales Location Factor | D30: 0.85
E31: =E28*D30 -> 4328167.7 | F31: =F28*D30 -> 2312.0554
C33: Prov Sums
C34: Revolving Doors | E34: 25000
B36: Project design team fees and other development costs (sub total B)
B39: Base cost estimate A + B (sub total C) | E39: =E31+E37 -> 4328167.7 | F39: =F22 -> 2626.8542
C41: Group element 13
C43: Design Contingency | D43: Risk allowance @ 2.5% | E43: =E39*2.5% -> 108204.19 | F43: =E43/G9 -> 57.801385
C44: Construction Risk | D44: Risk allowance @ 2.50% | E44: =E39*2.5% -> 108204.19 | F44: =E44/G9 -> 57.801385
C45: Employers Change Risk | D45: Risk allowance @ 2.50% | E45: =E39*2.5% -> 108204.19 | F45: =E45/G9 -> 57.801385
C46: Other Mis. Risk | D46: Risk allowance @ 2.5% | E46: 102495.19 | F46: =E46/G9 -> 54.751704
B48: Total Risk allowances (sub total D) | E48: =SUM(E43:E47) -> 427107.77 | F48: =E48/G9 -> 228.15586
B50: Total Construction Cost (C + D) | E50: =E39+E48 -> 4755275.5 | F50: =E50/G9 -> 2540.2113

Sheet NRM1 DB 
A1: Dalton Brown
A2: Cost Plan for Innoavation Matrix
A3: NRM 1 phaseologies
A4: Elemental Cost Plan
C8: Elements in red are NRM1 Phraseologies
A10: Ref. | C10: Element | D10: Timesing | E10: Quantity | G10: Unit | I10: Rate | J10: Sub-Total | K10: Group-Total | L10: Notes
I11: £ | J11: £ | K11: £
A12: 0 | C12: Facilited Works | K12: =J17 -> 350000 | L12: As per Query sheet 01
A14: 0 | C14: Facilited Works | E14: 29
E15: 81 | F15: =(E14*E15) -> 2349
F16: =F15 -> 2349
C17: Demolition Works | F17: 1 | G17: nr | I17: 350000 | J17: =F17*I17 -> 350000 | L17: Measures taken from drawing (Elevation Detail 01) Spons Pg 182
A19: 1 | C19: SUBSTRUCTURE | K19: =J24 -> 481545
A21: 1.1 | C21: Foundations | E21: 29
E22: 81 | F22: =(E21*E22) -> 2349
F23: =F22 -> 2349
A24: 1.1.1 | C24: Raft Foundations - Simple reinforced concrete raft on poorer ground for development up to two storey high. | F24: =ROUND(F23,0) -> 2349 | G24: m2 | I24: 205 | J24: =F24*I24 -> 481545 | L24: Measures taken from drawing (Elevation Detail 01) Spons Pg 182. Query sheet 01
A26: 2 | C26: SUPERSTRUCTURE | K26: =SUM(J26:J163) -> 2302032.7
A29: 2.1 | C29: Frame | E29: 27
E30: 79 | F30: =(E29*E30) -> 2133
F31: =F30 -> 2133
A32: 2.1.1 | C32: Steel Frame:composite beam and slab floors. Suspended slab:Permanent steel shuttering with 130mm thick concrete no coverings or finishes. | F32: =ROUND(F31,0) -> 2133 | G32: m2 | I32: 165 | J32: =F32*I32 -> 351945 | L32: Measures taken from drawing (Elevation Detail 01) Spons Pg 186
A34: 2.2 | C34: Upper Floors | E34: 26
E35: 72 | F35: =(E34*E35) -> 1872 | L35: All measures taken from first floor layout
C36: Deductions
F40: =F35 -> 1872
A42: 2.2.1 | C42: Softwood floors; timber joists; t&g chipboard; insulation between joists. | F42: =ROUND(F40,0) -> 1872 | G42: m2 | I42: Incl | J42: Incl | L42: Included within steel frame price
A44: 2.3 | C44: Roof | E44: 27
E45: 76 | F45: =(E44*E45) -> 2052
D46: 1 | L46: All measures taken from (Elevation GA)
F47: =SUM(F45:F46) -> 2052
A49: 2.3.1 | C49: Kingspan Box Profiled wall panel KS1000 FCColour TBC. Shown RAL 8019. | F49: =ROUND(F47,0) -> 2052 | G49: m2 | I49: 350 | J49: =F49*I49 -> 718200 | L49: As per query sheet 02
E52: 64 | F52: =(E52) -> 64
D53: 1 | L53: All measures taken from (Elevation GA)
F54: =SUM(F52:F53) -> 64
A56: 2.3.2 | C56: Day lite trapezodial rooflight plus KS1000 DLTR plus rooflights | F56: =ROUND(F54,0) -> 64 | G56: Nr | I56: 3000 | J56: =F56*I56 -> 192000 | L56: Rate taken off assumption
A58: 2.4 | C58: Stairs & Ramps | E58: 5 | L58: Number of flights
A60: 2.4.1 | C60: Staircase:terrazzo finish, mild steel balustrades and handrails:plastered soffit:balustrades and staircase soffit decoration | F60: =E58 -> 5 | G60: no | I60: 9100 | J60: =F60*I60 -> 45500 | L60: All measures taken from ground floor and first floor layout
L61: Spons page 194
A62: 2.5 | C62: External Walls
...
