Workbook

Sheet Interactive session summary
A1: Cohort 4 Year 1 | B1: MSc week | C1: Module | D1: Topic | E1: Start time | F1: End time | G1: Duration | I1: Cohort 3 Year 2 | J1: MSc week | K1: Module | L1: Topic | M1: Start time | N1: End time | O1: Duration
A2: ='Cohort 4 Y1'!D2 -> 45561 | B2: =VLOOKUP(A2,'Cohort 4 Y1'!$D$2:$I$34,6,FALSE) -> 1 | C2: =VLOOKUP(A2,'Cohort 4 Y1'!$D$2:$H$34,2,FALSE) -> BMDS7008 | D2: Induction; academic skills; module intro; WHO strategy; Rumball-Smith 2019 | E2: =VLOOKUP(A2,'Cohort 4 Y1'!D2:H34,3,FALSE) -> 0.54166667 | F2: =VLOOKUP(A2,'Cohort 4 Y1'!D2:H34,4,FALSE) -> 0.70833333 | G2: =F2-E2 -> 0.16666667 | I2: ='Cohort 3 Y2'!D3 -> 45568 | J2: =VLOOKUP(I2,'Cohort 3 Y2'!$D$2:$I$34,6,FALSE) -> 2 | K2: =VLOOKUP(I2,'Cohort 3 Y2'!$D$2:$H$36,2,FALSE) -> BMDS7002 | L2: Soft systems methodology. | M2: =VLOOKUP(I2,'Cohort 3 Y2'!D2:H36,3,FALSE) -> 0.54166667 | N2: =VLOOKUP(I2,'Cohort 3 Y2'!D2:H36,4,FALSE) -> 0.70833333 | O2: =N2-M2 -> 0.16666667
A3: ='Cohort 4 Y1'!D5 -> 45582 | B3: =VLOOKUP(A3,'Cohort 4 Y1'!$D$2:$I$34,6,FALSE) -> 4 | C3: =VLOOKUP(A3,'Cohort 4 Y1'!$D$2:$H$34,2,FALSE) -> BMDS7008 | D3: BMDS7008-03: Global digital health | E3: =VLOOKUP(A3,'Cohort 4 Y1'!D3:H35,3,FALSE) -> 0.54166667 | F3: =VLOOKUP(A3,'Cohort 4 Y1'!D3:H35,4,FALSE) -> 0.70833333 | G3: =F3-E3 -> 0.16666667 | I3: ='Cohort 3 Y2'!D6 -> 45589 | J3: =VLOOKUP(I3,'Cohort 3 Y2'!$D$2:$I$34,6,FALSE) -> 5 | K3: =VLOOKUP(I3,'Cohort 3 Y2'!$D$2:$H$36,2,FALSE) -> BMDS7002 | L3: BMDS7002-04: Understanding Human Factors and Systems Optimisation | M3: =VLOOKUP(I3,'Cohort 3 Y2'!D3:H35,3,FALSE) -> 0.54166667 | N3: =VLOOKUP(I3,'Cohort 3 Y2'!D3:H35,4,FALSE) -> 0.70833333 | O3: =N3-M3 -> 0.16666667
A4: ='Cohort 4 Y1'!D8 -> 45603 | B4: =VLOOKUP(A4,'Cohort 4 Y1'!$D$2:$I$34,6,FALSE) -> 7 | C4: =VLOOKUP(A4,'Cohort 4 Y1'!$D$2:$H$34,2,FALSE) -> BMDS7008 | D4: BMDS7008-05: Learning health systems - data and knowledge driven performance | E4: =VLOOKUP(A4,'Cohort 4 Y1'!D4:H36,3,FALSE) -> 0.54166667 | F4: =VLOOKUP(A4,'Cohort 4 Y1'!D4:H36,4,FALSE) -> 0.70833333 | G4: =F4-E4 -> 0.16666667 | I4: ='Cohort 3 Y2'!D9 -> 45610 | J4: =VLOOKUP(I4,'Cohort 3 Y2'!$D$2:$I$34,6,FALSE) -> 8 | K4: =VLOOKUP(I4,'Cohort 3 Y2'!$D$2:$H$36,2,FALSE) -> BMDS7002 | L4: BMDS7002-06: Wicked Problems | M4: =VLOOKUP(I4,'Cohort 3 Y2'!D4:H36,3,FALSE) -> 0.625 | N4: =VLOOKUP(I4,'Cohort 3 Y2'!D4:H36,4,FALSE) -> 0.70833333 | O4: =N4-M4 -> 0.083333333
A5: ='Cohort 4 Y1'!D11 -> 45624 | B5: =VLOOKUP(A5,'Cohort 4 Y1'!$D$2:$I$34,6,FALSE) -> 10 | C5: =VLOOKUP(A5,'Cohort 4 Y1'!$D$2:$H$34,2,FALSE) -> BMDS7009 | D5: BMDS7009-01: Intro to socio-technical project and programme management using STAT-HI | E5: =VLOOKUP(A5,'Cohort 4 Y1'!D5:H37,3,FALSE) -> 0.54166667 | F5: =VLOOKUP(A5,'Cohort 4 Y1'!D5:H37,4,FALSE) -> 0.70833333 | G5: =F5-E5 -> 0.16666667 | I5: ='Cohort 3 Y2'!D11 -> 45624 | J5: =VLOOKUP(I5,'Cohort 3 Y2'!$D$2:$I$34,6,FALSE) -> 10 | K5: =VLOOKUP(I5,'Cohort 3 Y2'!$D$2:$H$36,2,FALSE) -> BMDS7003 | L5: Epistemology and history of CDS; CW topic selection | M5: =VLOOKUP(I5,'Cohort 3 Y2'!D5:H36,3,FALSE) -> 0.54166667 | N5: =VLOOKUP(I5,'Cohort 3 Y2'!D5:H36,4,FALSE) -> 0.70833333 | O5: =N5-M5 -> 0.16666667
A6: ='Cohort 4 Y1'!D13 -> 45638 | B6: =VLOOKUP(A6,'Cohort 4 Y1'!$D$2:$I$34,6,FALSE) -> 12 | C6: =VLOOKUP(A6,'Cohort 4 Y1'!$D$2:$H$34,2,FALSE) -> BMDS7009 | D6: Student presentations; BMDS7009 CW Q&A | E6: =VLOOKUP(A6,'Cohort 4 Y1'!D6:H38,3,FALSE) -> 0.54166667 | F6: =VLOOKUP(A6,'Cohort 4 Y1'!D6:H38,4,FALSE) -> 0.625 | G6: =F6-E6 -> 0.083333333 | I6: ='Cohort 3 Y2'!D13 -> 45638 | J6: =VLOOKUP(I6,'Cohort 3 Y2'!$D$2:$I$34,6,FALSE) -> 12 | K6: =VLOOKUP(I6,'Cohort 3 Y2'!$D$2:$H$36,2,FALSE) -> BMDS7003 | L6: Student presentations | M6: =VLOOKUP(I6,'Cohort 3 Y2'!D6:H38,3,FALSE) -> 0.625 | N6: =VLOOKUP(I6,'Cohort 3 Y2'!D6:H38,4,FALSE) -> 0.70833333 | O6: =N6-M6 -> 0.083333333
A7: ='Cohort 4 Y1'!D17 -> 45666 | B7: =VLOOKUP(A7,'Cohort 4 Y1'!$D$2:$I$34,6,FALSE) -> 13 | C7: =VLOOKUP(A7,'Cohort 4 Y1'!$D$2:$H$34,2,FALSE) -> BMDS7009 | D7: Project, programme and change methodologies (PS recorded) (see BMDS7000 21/10/21); Ed case studies | E7: =VLOOKUP(A7,'Cohort 4 Y1'!D6:H38,3,FALSE) -> 0.54166667 | F7: =VLOOKUP(A7,'Cohort 4 Y1'!D6:H38,4,FALSE) -> 0.70833333 | G7: =F7-E7 -> 0.16666667 | I7: ='Cohort 3 Y2'!D18 -> 45673 | J7: =VLOOKUP(I7,'Cohort 3 Y2'!$D$2:$I$34,6,FALSE) -> 14 | K7: =VLOOKUP(I7,'Cohort 3 Y2'!$D$2:$H$36,2,FALSE) -> BMDS7003 | L7: SR/meta-analysis; Jeremy Wyatt EBM; Shaun Rowark RWE | M7: =VLOOKUP(I7,'Cohort 3 Y2'!D7:H39,3,FALSE) -> 0.54166667 | N7: =VLOOKUP(I7,'Cohort 3 Y2'!D7:H39,4,FALSE) -> 0.70833333 | O7: =N7-M7 -> 0.16666667
A8: ='Cohort 4 Y1'!D20 -> 45687 | B8: =VLOOKUP(A8,'Cohort 4 Y1'!$D$2:$I$34,6,FALSE) -> 16 | C8: =VLOOKUP(A8,'Cohort 4 Y1'!$D$2:$H$34,2,FALSE) -> BMDS7009 | D8: Transformation in complex environments; workflow modelling; BCW intro | E8: =VLOOKUP(A8,'Cohort 4 Y1'!D7:H39,3,FALSE) -> 0.54166667 | F8: =VLOOKUP(A8,'Cohort 4 Y1'!D7:H39,4,FALSE) -> 0.70833333 | G8: =F8-E8 -> 0.16666667 | I8: ='Cohort 3 Y2'!D22 -> 45701 | J8: =VLOOKUP(I8,'Cohort 3 Y2'!$D$2:$I$34,6,FALSE) -> 18 | K8: =VLOOKUP(I8,'Cohort 3 Y2'!$D$2:$H$36,2,FALSE) -> BMDS7003 | L8: NICE, CBK (as part 2 of 19/01/23 and updates); ontologies and taxonomies; reasoning; Rogers SNCT usage | M8: =VLOOKUP(I8,'Cohort 3 Y2'!D8:H40,3,FALSE) -> 0.54166667 | N8: =VLOOKUP(I8,'Cohort 3 Y2'!D8:H40,4,FALSE) -> 0.70833333 | O8: =N8-M8 -> 0.16666667
A9: ='Cohort 4 Y1'!D23 -> 45708 | B9: =VLOOKUP(A9,'Cohort 4 Y1'!$D$2:$I$34,6,FALSE) -> 19 | C9: =VLOOKUP(A9,'Cohort 4 Y1'!$D$2:$H$34,2,FALSE) -> BMDS7007 | E9: =VLOOKUP(A9,'Cohort 4 Y1'!D8:H40,3,FALSE) -> 0.54166667 | F9: =VLOOKUP(A9,'Cohort 4 Y1'!D8:H40,4,FALSE) -> 0.70833333 | G9: =F9-E9 -> 0.16666667
A10: ='Cohort 4 Y1'!D26 -> 45729 | B10: =VLOOKUP(A10,'Cohort 4 Y1'!$D$2:$I$34,6,FALSE) -> 22 | C10: =VLOOKUP(A10,'Cohort 4 Y1'!$D$2:$H$34,2,FALSE) -> BMDS7007 | D10: BMDS7007-01 NHS Providers guidance | E10: =VLOOKUP(A10,'Cohort 4 Y1'!D8:H40,3,FALSE) -> 0.54166667 | F10: =VLOOKUP(A10,'Cohort 4 Y1'!D8:H40,4,FALSE) -> 0.70833333 | G10: =F10-E10 -> 0.16666667 | I10: ='Cohort 3 Y2'!D25 -> 45722 | J10: =VLOOKUP(I10,'Cohort 3 Y2'!$D$2:$I$34,6,FALSE) -> 21 | K10: =VLOOKUP(I10,'Cohort 3 Y2'!$D$2:$H$36,2,FALSE) -> BMDS7010 | L10: BMDS7010-01 Install SPSS, review dissertation guidance | M10: =VLOOKUP(I10,'Cohort 3 Y2'!D9:H41,3,FALSE) -> 0.54166667 | N10: =VLOOKUP(I10,'Cohort 3 Y2'!D9:H41,4,FALSE) -> 0.70833333 | O10: =N10-M10 -> 0.16666667
A11: ='Cohort 4 Y1'!D29 -> 45750 | B11: =VLOOKUP(A11,'Cohort 4 Y1'!$D$2:$I$34,6,FALSE) -> 25 | C11: =VLOOKUP(A11,'Cohort 4 Y1'!$D$2:$H$34,2,FALSE) -> BMDS7007 | D11: BMDS7007-04 Eason | E11: =VLOOKUP(A11,'Cohort 4 Y1'!D9:H41,3,FALSE) -> 0.54166667 | F11: =VLOOKUP(A11,'Cohort 4 Y1'!D9:H41,4,FALSE) -> 0.70833333 | G11: =F11-E11 -> 0.16666667 | I11: ='Cohort 3 Y2'!D28 -> 45743 | J11: =VLOOKUP(I11,'Cohort 3 Y2'!$D$2:$I$34,6,FALSE) -> 24 | K11: =VLOOKUP(I11,'Cohort 3 Y2'!$D$2:$H$36,2,FALSE) -> BMDS7010 | L11: BMDS7010-02 | M11: =VLOOKUP(I11,'Cohort 3 Y2'!D10:H42,3,FALSE) -> 0.54166667 | N11: =VLOOKUP(I11,'Cohort 3 Y2'!D10:H42,4,FALSE) -> 0.70833333 | O11: =N11-M11 -> 0.16666667
I12: ='Cohort 3 Y2'!D30 -> 45757 | J12: =VLOOKUP(I12,'Cohort 3 Y2'!$D$2:$I$34,6,FALSE) -> 26 | K12: =VLOOKUP(I12,'Cohort 3 Y2'!$D$2:$H$36,2,FALSE) -> BMDS7010 | L12: BMDS7010 13:00-15:00 DM, AI and ML 15:00-17:00 Qualitative | M12: =VLOOKUP(I12,'Cohort 3 Y2'!D11:H43,3,FALSE) -> 0.625 | N12: =VLOOKUP(I12,'Cohort 3 Y2'!D11:H43,4,FALSE) -> 0.70833333 | O12: =N12-M12 -> 0.083333333
A14: =COUNTA(A2:A12) -> 10 | G14: =SUM(G2:G13) -> 1.5833333 | I14: =COUNTA(I2:I13) -> 10 | O14: =SUM(O2:O13) -> 1.4166667

Sheet Cohort 4 Y1
A1: Week | B1: W/C | C1: Session type | D1: Session date | E1: Module | F1: Start time | G1: End time | H1: Hours | I1: Week | J1: Term total h | K1: Term total sync | L1: Notes | O1: Sessions | P1: Hours | R1: Module | S1: Hours | T1: Weeks | U1: Sync | V1: Sync H
A2: 1 | B2: 45558 | C2: Sync | D2: =$B2+3 -> 45561 | E2: BMDS7008 | F2: 0.54166667 | G2: 0.70833333 | H2: =G2-F2 -> 0.16666667 | I2: =A2 -> 1 | N2: Sync | O2: =COUNTIF(C2:C34,N2) -> 10 | P2: =SUMIF(C2:C34,N2,$H$2:$H$34) -> 1.5833333 | R2: BMDS7008 | S2: =SUM(H2:H10) -> 1.25 | T2: =COUNT(B2:B10) -> 9 | U2: =COUNTIF(C2:C10, "Sync") -> 3 | V2: =SUM(H2+H5+H8) -> 0.5
A3: 2 | B3: =B2+7 -> 45565 | C3: Async | D3: =$B3+3 -> 45568 | E3: BMDS7008 | H3: 0.125 | I3: =A3 -> 2 | N3: Async | O3: =COUNTIF(C2:C34,N3) -> 18 | P3: =SUMIF(C2:C34,N3,$H$2:$H$34) -> 2.1666667 | R3: BMDS7009 | S3: =SUM(H11:H23) -> 1.25 | T3: =COUNTA(B11:B22)-2 -> 10 | U3: =COUNTIF(C11:C22, "Sync") -> 4 | V3: =SUM(H11+H13+H17+H20) -> 0.58333333
A4: 3 | B4: =B3+7 -> 45572 | C4: Async | D4: =$B4+3 -> 45575 | E4: BMDS7008 | H4: 0.125 | I4: =A4 -> 3 | R4: BMDS7007 | S4: =SUM(H24:H34) -> 1.25 | T4: =COUNTA(B23:B34)-3 -> 9 | U4: =COUNTIF(C23:C34, "Sync") -> 3 | V4: =SUM(H23+H26+H29) -> 0.5
A5: 4 | B5: =B4+7 -> 45579 | C5: Sync | D5: =$B5+3 -> 45582 | E5: BMDS7008 | F5: 0.54166667 | G5: 0.70833333 | H5: =G5-F5 -> 0.16666667 | I5: =A5 -> 4 | O5: =SUM(O2:O3) -> 28 | P5: =SUM(P2:P3) -> 3.75 | S5: =SUM(S2:S4) -> 3.75 | T5: =SUM(T2:T4) -> 28 | U5: =SUM(U2:U4) -> 10 | V5: =SUM(V2:V4) -> 1.5833333
A6: 5 | B6: =B5+7 -> 45586 | C6: Async | D6: =$B6+3 -> 45589 | E6: BMDS7008 | H6: 0.125 | I6: =A6 -> 5
A7: 6 | B7: =B6+7 -> 45593 | C7: Async | D7: =$B7+3 -> 45596 | E7: BMDS7008 | H7: 0.125 | I7: =A7 -> 6
A8: 7 | B8: =B7+7 -> 45600 | C8: Sync | D8: =$B8+3 -> 45603 | E8: BMDS7008 | F8: 0.54166667 | G8: 0.70833333 | H8: =G8-F8 -> 0.16666667 | I8: =A8 -> 7
A9: 8 | B9: =B8+7 -> 45607 | C9: Async | D9: =$B9+3 -> 45610 | E9: BMDS7008 | H9: 0.125 | I9: =A9 -> 8
A10: 9 | B10: =B9+7 -> 45614 | C10: Async | D10: =$B10+3 -> 45617 | E10: BMDS7008 | H10: 0.125 | I10: =A10 -> 9
A11: 10 | B11: =B10+7 -> 45621 | C11: Sync | D11: =$B11+3 -> 45624 | E11: BMDS7009 | F11: 0.54166667 | G11: 0.70833333 | H11: =G11-F11 -> 0.16666667 | I11: =A11 -> 10
A12: 11 | B12: =B11+7 -> 45628 | C12: Async | D12: =$B12+3 -> 45631 | E12: BMDS7009 | H12: 0.083333333 | I12: =A12 -> 11
A13: 12 | B13: =B12+7 -> 45635 | C13: Sync | D13: =$B13+3 -> 45638 | E13: BMDS7009 | F13: 0.54166667 | G13: 0.625 | H13: =G13-F13 -> 0.083333333 | I13: =A13 -> 12 | J13: =SUM(H2:H13) -> 1.5833333 | K13: =COUNTIF(C2:C13,N2) -> 5
B14: =B13+7 -> 45642 | D14: No teaching
B15: =B14+7 -> 45649
B16: =B15+7 -> 45656
A17: 13 | B17: =B16+7 -> 45663 | C17: Sync | D17: =$B17+3 -> 45666 | E17: BMDS7009 | F17: 0.54166667 | G17: 0.70833333 | H17: =G17-F17 -> 0.16666667 | I17: =A17 -> 13
A18: 14 | B18: =B17+7 -> 45670 | C18: Async | D18: =$B18+3 -> 45673 | E18: BMDS7009 | H18: 0.083333333 | I18: =A18 -> 14
A19: 15 | B19: =B18+7 -> 45677 | C19: Async | D19: =$B19+3 -> 45680 | E19: BMDS7009 | H19: 0.125 | I19: =A19 -> 15
A20: 16 | B20: =B19+7 -> 45684 | C20: Sync | D20: =$B20+3 -> 45687 | E20: BMDS7009 | F20: 0.54166667 | G20: 0.70833333 | H20: =G20-F20 -> 0.16666667 | I20: =A20 -> 16
A21: 17 | B21: =B20+7 -> 45691 | C21: Async | D21: =$B21+3 -> 45694 | E21: BMDS7009 | H21: 0.125 | I21: =A21 -> 17
A22: 18 | B22: =B21+7 -> 45698 | C22: Async | D22: =$B22+3 -> 45701 | E22: BMDS7009 | H22: 0.083333333 | I22: =A22 -> 18
A23: 19 | B23: =B22+7 -> 45705 | C23: Sync | D23: =$B23+3 -> 45708 | E23: BMDS7007 | F23: 0.54166667 | G23: 0.70833333 | H23: 0.16666667 | I23: =A23 -> 19
A24: 20 | B24: =B23+7 -> 45712 | C24: Async | D24: =$B24+3 -> 45715 | E24: BMDS7007 | H24: 0.125 | I24: =A24 -> 20
A25: 21 | B25: =B24+7 -> 45719 | C25: Async | D25: =$B25+3 -> 45722 | E25: BMDS7007 | H25: 0.125 | I25: =A25 -> 21
A26: 22 | B26: =B25+7 -> 45726 | C26: Sync | D26: =$B26+3 -> 45729 | E26: BMDS7007 | F26: 0.54166667 | G26: 0.70833333 | H26: 0.16666667 | I26: =A26 -> 22
A27: 23 | B27: =B26+7 -> 45733 | C27: Async | D27: =$B27+3 -> 45736 | E27: BMDS7007 | H27: 0.125 | I27: =A27 -> 23
A28: 24 | B28: =B27+7 -> 45740 | C28: Async | D28: =$B28+3 -> 45743 | E28: BMDS7007 | H28: 0.125 | I28: =A28 -> 24
A29: 25 | B29: =B28+7 -> 45747 | C29: Sync | D29: =$B29+3 -> 45750 | E29: BMDS7007 | F29: 0.54166667 | G29: 0.70833333 | H29: =G29-F29 -> 0.16666667 | I29: =A29 -> 25
A30: 26 | B30: =B29+7 -> 45754 | C30: Async | D30: =$B30+3 -> 45757 | E30: BMDS7007 | H30: 0.125 | I30: =A30 -> 26 | J30: =SUM(H17:H30) -> 1.875 | K30: =COUNTIF(C17:C30,N2) -> 5
B31: =B30+7 -> 45761 | C31: No teaching | L31: Good Friday 18/04/2025
B32: =B31+7 -> 45768 | L32: Easter Monday 21/04/2025
A33: 27 | B33: =B32+7 -> 45775 | C33: Async | D33: =$B33+3 -> 45778 | E33: BMDS7007 | H33: 0.125 | I33: =A33 -> 27
A34: 28 | B34: =B33+7 -> 45782 | C34: Async | D34: =$B34+3 -> 45785 | E34: BMDS7007 | H34: 0.16666667 | I34: =A34 -> 28 | J34: =SUM(H33:H34) -> 0.29166667 | L34: Bank Holiday 05/05/2025
A35: TOTAL | H35: =SUM(H2:H34) -> 3.75 | J35: =SUM(J2:J34) -> 3.75

Sheet Cohort 3 Y2
A1: Week | B1: W/C | C1: Session type | D1: Session date | E1: Module | F1: Start time | G1: End time | H1: Hours | I1: Week | J1: Term total h | K1: Term total sync | L1: Notes | O1: Sessions | P1: Hours | R1: Module | S1: Hours | T1: Weeks | U1: Sync | V1: Sync H
A2: 1 | B2: ='Cohort 4 Y1'!B2 -> 45558 | C2: Async | D2: =$B2+3 -> 45561 | E2: BMDS7002 | H2: 0.125 | I2: =A2 -> 1 | N2: Sync | O2: =COUNTIF($C$2:$D$36,N2) -> 10 | P2: =SUMIF($C$2:$C$36,N2,$H$2:$H$36) -> 1.4166667 | R2: BMDS7002 | S2: =SUM(H2:H10) -> 1.25 | T2: =COUNT(B2:B10) -> 9 | U2: =COUNTIF(C2:C10, "Sync") -> 3
A3: 2 | B3: =B2+7 -> 45565 | C3: Sync | D3: =$B3+3 -> 45568 | E3: BMDS7002 | F3: 0.54166667 | G3: 0.70833333 | H3: =G3-F3 -> 0.16666667 | I3: =A3 -> 2 | N3: Async | O3: =COUNTIF($C$2:$D$36,N3) -> 18 | P3: =SUMIF($C$2:$C$36,N3,$H$2:$H$36) -> 2.3333333 | R3: BMDS7003 | S3: =SUM(H11:H13)+SUM(H17:H23) -> 1.25 | T3: =COUNTA(B11:B22)-3 -> 9 | U3: =COUNTIF(C11:C22, "Sync") -> 4
A4: 3 | B4: =B3+7 -> 45572 | C4: Async | D4: =$B4+3 -> 45575 | E4: BMDS7002 | H4: 0.16666667 | I4: =A4 -> 3 | R4: BMDS7010 | S4: =SUM(H24:H29)+SUM(H30:H36) -> 5 | T4: =COUNTA(B23:B34)-2 -> 10 | U4: =COUNTIF(C23:C34, "Sync") -> 3
A5: 4 | B5: =B4+7 -> 45579 | C5: Async | D5: =$B5+3 -> 45582 | E5: BMDS7002 | H5: 0.16666667 | I5: =A5 -> 4 | O5: =SUM(O2:O3) -> 28 | P5: =SUM(P2:P3) -> 3.75 | S5: =SUM(S2:S4) -> 7.5 | T5: =SUM(T2:T4) -> 28 | U5: =SUM(U2:U4) -> 10
A6: 5 | B6: =B5+7 -> 45586 | C6: Sync | D6: =$B6+3 -> 45589 | E6: BMDS7002 | F6: 0.54166667 | G6: 0.70833333 | H6: =G6-F6 -> 0.16666667 | I6: =A6 -> 5
A7: 6 | B7: =B6+7 -> 45593 | C7: Async | D7: =$B7+3 -> 45596 | E7: BMDS7002 | H7: 0.125 | I7: =A7 -> 6
A8: 7 | B8: =B7+7 -> 45600 | C8: Async | D8: =$B8+3 -> 45603 | E8: BMDS7002 | H8: 0.125 | I8: =A8 -> 7
A9: 8 | B9: =B8+7 -> 45607 | C9: Sync | D9: =$B9+3 -> 45610 | E9: BMDS7002 | F9: 0.625 | G9: 0.70833333 | H9: =G9-F9 -> 0.083333333 | I9: =A9 -> 8
A10: 9 | B10: =B9+7 -> 45614 | C10: Async | D10: =$B10+3 -> 45617 | E10: BMDS7002 | H10: 0.125 | I10: =A10 -> 9
A11: 10 | B11: =B10+7 -> 45621 | C11: Sync | D11: =$B11+3 -> 45624 | E11: BMDS7003 | F11: 0.54166667 | G11: 0.70833333 | H11: =G11-F11 -> 0.16666667 | I11: =A11 -> 10
A12: 11 | B12: =B11+7 -> 45628 | C12: Async | D12: =$B12+3 -> 45631 | E12: BMDS7003 | H12: 0.125 | I12: =A12 -> 11
A13: 12 | B13: =B12+7 -> 45635 | C13: Sync | D13: =$B13+3 -> 45638 | E13: BMDS7003 | F13: 0.625 | G13: 0.70833333 | H13: =G13-F13 -> 0.083333333 | I13: =A13 -> 12 | J13: =SUM(H2:H13) -> 1.625 | K13: =COUNTIF(C2:C13,N2) -> 5
B14: =B13+7 -> 45642 | D14: No teaching
B15: =B14+7 -> 45649
B16: =B15+7 -> 45656
A17: 13 | B17: =B16+7 -> 45663 | C17: Async | D17: =$B17+3 -> 45666 | E17: BMDS7003 | H17: 0.125 | I17: =A17 -> 13
A18: 14 | B18: =B17+7 -> 45670 | C18: Sync | D18: =$B18+3 -> 45673 | E18: BMDS7003 | F18: 0.54166667 | G18: 0.70833333 | H18: =G18-F18 -> 0.16666667 | I18: =A18 -> 14
A19: 15 | B19: =B18+7 -> 45677 | C19: Async | D19: =$B19+3 -> 45680 | E19: BMDS7003 | H19: 0.083333333 | I19: =A19 -> 15
A20: 16 | B20: =B19+7 -> 45684 | C20: Async | D20: =$B20+3 -> 45687 | E20: BMDS7003 | H20: 0.083333333 | I20: =A20 -> 16
A21: 17 | B21: =B20+7 -> 45691 | C21: Async | D21: =$B21+3 -> 45694 | E21: BMDS7003 | H21: 0.125 | I21: =A21 -> 17
A22: 18 | B22: =B21+7 -> 45698 | C22: Sync | D22: =$B22+3 -> 45701 | E22: BMDS7003 | F22: 0.54166667 | G22: 0.70833333 | H22: =G22-F22 -> 0.16666667 | I22: =A22 -> 18
A23: 19 | B23: =B22+7 -> 45705 | C23: Async | D23: =$B23+3 -> 45708 | E23: BMDS7010 | H23: 0.125 | I23: =A23 -> 19
A24: 20 | B24: =B23+7 -> 45712 | C24: Async | D24: =$B24+3 -> 45715 | E24: BMDS7010 | H24: 0.16666667 | I24: =A24 -> 20
A25: 21 | B25: =B24+7 -> 45719 | C25: Sync | D25: =$B25+3 -> 45722 | E25: BMDS7010 | F25: 0.54166667 | G25: 0.70833333 | H25: =G25-F25 -> 0.16666667 | I25: =A25 -> 21
A26: 22 | B26: =B25+7 -> 45726 | C26: Async | D26: =$B26+3 -> 45729 | E26: BMDS7010 | H26: 0.16666667 | I26: =A26 -> 22
A27: 23 | B27: =B26+7 -> 45733 | C27: Async | D27: =$B27+3 -> 45736 | E27: BMDS7010 | H27: 0.16666667 | I27: =A27 -> 23
A28: 24 | B28: =B27+7 -> 45740 | C28: Sync | D28: =$B28+3 -> 45743 | E28: BMDS7010 | F28: 0.54166667 | G28: 0.70833333 | H28: =G28-F28 -> 0.16666667 | I28: =A28 -> 24
A29: 25 | B29: =B28+7 -> 45747 | C29: Async | D29: =$B29+3 -> 45750 | E29: BMDS7010 | H29: 0.16666667 | I29: =A29 -> 25
A30: 26 | B30: =B29+7 -> 45754 | C30: Sync | D30: =$B30+3 -> 45757 | E30: BMDS7010 | F30: 0.625 | G30: 0.70833333 | H30: =G30-F30 -> 0.083333333 | I30: =A30 -> 26 | J30: =SUM(H17:H30) -> 1.9583333 | K30: =COUNTIF(C17:C30,N2) -> 5
B31: =B30+7 -> 45761 | D31: No teaching | L31: Good Friday 18/04/2025
B32: =B31+7 -> 45768 | L32: Easter Monday 21/04/2025
A33: 27 | B33: =B32+7 -> 45775 | C33: Async | D33: =$B33+3 -> 45778 | E33: BMDS7010 | H33: 0.083333333 | I33: =A33 -> 27
A34: 28 | B34: =B33+7 -> 45782 | C34: Async | D34: =$B34+3 -> 45785 | E34: BMDS7010 | H34: 0.083333333 | I34: =A34 -> 28 | J34: =SUM(H33:H34) -> 0.16666667 | L34: Bank Holiday 05/05/2025
A35: TOTAL | H35: =SUM(H2:H34) -> 3.75 | J35: =SUM(J2:J34) -> 3.75

Sheet Cohort 2 Y3
A1: Week | B1: W/C | C1: Notional study date (Thurs)
A2: 1 | B2: 45558 | C2: =B2+3 -> 45561 | D2: Supervision starts
A3: 2 | B3: =B2+7 -> 45565 | C3: =B3+3 -> 45568
A4: 3 | B4: =B3+7 -> 45572 | C4: =B4+3 -> 45575
A5: 4 | B5: =B4+7 -> 45579 | C5: =B5+3 -> 45582
A6: 5 | B6: =B5+7 -> 45586 | C6: =B6+3 -> 45589
A7: 6 | B7: =B6+7 -> 45593 | C7: =B7+3 -> 45596
A8: 7 | B8: =B7+7 -> 45600 | C8: =B8+3 -> 45603
A9: 8 | B9: =B8+7 -> 45607 | C9: =B9+3 -> 45610
A10: 9 | B10: =B9+7 -> 45614 | C10: =B10+3 -> 45617
A11: 10 | B11: =B10+7 -> 45621 | C11: =B11+3 -> 45624
A12: 11 | B12: =B11+7 -> 45628 | C12: =B12+3 -> 45631
A13: 12 | B13: =B12+7 -> 45635 | C13: =B13+3 -> 45638
B15: =B13+7 -> 45642 | C15: =B15+3 -> 45645 | D15: No supervision
B16: =B15+7 -> 45649 | C16: =B16+3 -> 45652
B17: =B16+7 -> 45656 | C17: =B17+3 -> 45659
A18: 13 | B18: =B17+7 -> 45663 | C18: =B18+3 -> 45666 | D18: Progress review during January
A19: 14 | B19: =B18+7 -> 45670 | C19: =B19+3 -> 45673
A20: 15 | B20: =B19+7 -> 45677 | C20: =B20+3 -> 45680
A21: 16 | B21: =B20+7 -> 45684 | C21: =B21+3 -> 45687
A22: 17 | B22: =B21+7 -> 45691 | C22: =B22+3 -> 45694
A23: 18 | B23: =B22+7 -> 45698 | C23: =B23+3 -> 45701
A24: 19 | B24: =B23+7 -> 45705 | C24: =B24+3 -> 45708
A25: 20 | B25: =B24+7 -> 45712 | C25: =B25+3 -> 45715
A26: 21 | B26: =B25+7 -> 45719 | C26: =B26+3 -> 45722
A27: 22 | B27: =B26+7 -> 45726 | C27: =B27+3 -> 45729
A28: 23 | B28: =B27+7 -> 45733 | C28: =B28+3 -> 45736
A29: 24 | B29: =B28+7 -> 45740 | C29: =B29+3 -> 45743
A30: 25 | B30: =B29+7 -> 45747 | C30: =B30+3 -> 45750
A31: 26 | B31: =B30+7 -> 45754 | C31: =B31+3 -> 45757
B33: =B31+7 -> 45761 | C33: =B33+3 -> 45764 | D33: No supervision
B34: =B33+7 -> 45768 | C34: =B34+3 -> 45771
A35: 27 | B35: =B34+7 -> 45775 | C35: =B35+3 -> 45778
A36: 28 | B36: =B35+7 -> 45782 | C36: =B36+3 -> 45785 | D36: Submission deadline: 06/05/25
