Workbook

Sheet Specification
B1: Specification
B2: Engine CC | C2: 278 | E2: Gear Ratios | J2: Frontal Area | K2: =L17 -> 1.6912872
B3: Power (hp) | C3: 18 | E3: 1st | F3: 8 | G3: 80 | H3: =G3/F3 -> 10 | J3: cd | K3: 0.5
B4: Torque at 5500 rpm (Nm) | C4: 22 | E4: 2nd | F4: 10 | G4: 50 | H4: =G4/F4 -> 5 | J4: rho (kg/m^3) | K4: 1.225
B5: Top Speed (mph) | C5: 30 | E5: 3rd | F5: 12 | G5: 36 | H5: 3.5
B6: Length (m) | C6: 2.62 | E6: Final Drive | H6: 3
B7: Width (m) | C7: 1.65
B8: Height (m) | C8: 1.62 | E8: Drive Torque at Shaft (Nm) | F8: =C4*H3*0.97 -> 213.4 | J8: Max Angle of ascent | K8: =ASIN(F10/(C23*9.81))*180/PI() -> 21.514706
B9: Vehicle Mass (kg) | C9: 365 | E9: Drive Torque at Rear Wheel (Nm) | F9: =F8*H6 -> 640.2
B10: Ground Clearance (m) | C10: 0.3 | E10: Force (N) | F10: =F9/C17 -> 2016.378
B11: Tank Size (l) | C11: 29 | E11: Max Velocity (m/s) | F11: 13.4
B12: Petrol Mass (kg/l) | C12: 0.74 | E12: Max Accel (m/s-2) | F12: =F10/C23 -> 3.5977196
B13: Fuel Mass (kg) | C13: =C11*C12 -> 21.46 | E13: Max Deccel (Max Accelx1.2) | F13: =-F12*1.2 -> -4.3172636 | H13: Equivalent Mass | K13: Vehicle Area
B14: Driver+Passenger + Gear Mass (kg) | C14: 174 | H14: 1st gear | I14: =C23+(2*F18/C21+2*F17/C22)+F19*(H3^2/F18) -> 590.85611 | K14: Occupied Space | L14: =C8*C7 -> 2.673
B15: Rear Tyre Mass (kg)25x10x12 | C15: 9.3 | H15: 2nd gear | I15: =C23+(2*F18/C21+2*F17/C22)+F19*(H4^2/F18) -> 580.58319 | K15: Clearance Area | L15: =C10*(C7-2*C26) -> 0.3426
B16: Rear Wheel Mass (kg) | C16: 5.9 | E16: Inertia | H16: 3rd Gear | I16: =C23+(2*F18/C21+2*F17/C22)+F19*(H5^2/F18) -> 578.83679 | K16: Free Space | L16: =(C8-(2*C20))*(C26+0.1016)*2 -> 0.63911277
B17: Rear Tyre Radius (m) | C17: 0.3175 | E17: Front Wheels | F17: =C25*C22^2 -> 1.3004088 | K17: Frontal Area | L17: =L14-L16-L15 -> 1.6912872
B18: Front Tyre Mass (kg) | C18: 6.441012 | E18: Rear Wheels | F18: =C24*C21^2 -> 1.2411266
B19: Front Wheel Mass (kg) | C19: 5.9 | E19: Engine | F19: 0.17
B20: Front Tyre Radius (m) | C20: 0.36068
B21: k(rear) = 0.9r | C21: =C17*0.9 -> 0.28575
B22: k(front) = 0.9r | C22: =C20*0.9 -> 0.324612
B23: Total Mass(kg) | C23: =C13+C14+C9 -> 560.46
B24: Total Rear Wheel Mass (kg) | C24: =C16+C15 -> 15.2
B25: Total Front Wheel Mass (kg) | C25: =C19+C18 -> 12.341012
B26: Wheel Width (m) | C26: 0.254 | E26: Rolling Resistances | G26: Forces
E27: Long Grass | F27: 0.09 | G27: =$C$23*9.81*F27 -> 494.83013
E28: Short Grass | F28: 0.07 | G28: =$C$23*9.81*F28 -> 384.86788
E29: Dry Earth Road | F29: 0.03 | G29: =$C$23*9.81*F29 -> 164.94338
E30: Dry Asphalt | F30: 0.02 | G30: =$C$23*9.81*F30 -> 109.96225
E31: Wet Asphalt | F31: 0.024 | G31: =$C$23*9.81*F31 -> 131.9547
E32: Wet Earth Road | F32: 0.04 | G32: =$C$23*9.81*F32 -> 219.9245
E33: Gravel | F33: 0.02 | G33: =$C$23*9.81*F33 -> 109.96225
E34: Sand | F34: 0.2 | G34: =$C$23*9.81*F34 -> 1099.6225

Sheet RPM
A1: RPM | B1: Power | C1: Power | D1: Torque | F1: Speed 1st | G1: Force 1st | I1: Speed 2nd | J1: Force 2nd | L1: Speed 3rd | M1: Force 3rd
A2: 1000 | B2: 0.8 | C2: 0.8 | D2: =C2*7127/A2 -> 5.7016 | E2: 1000 | F2: =A2/(60*Specification!$H$3*Specification!$H$6)*2*PI()*Specification!$C$17 -> 1.1082841 | G2: =D2*Specification!$H$3*Specification!$H$6/Specification!$C$17 -> 538.73386 | H2: 1000 | I2: =A2/(60*Specification!$H$4*Specification!$H$6)*2*PI()*Specification!$C$17 -> 2.2165682 | J2: =D2*Specification!$H$4*Specification!$H$6/Specification!$C$17 -> 269.36693 | K2: 1000 | L2: =A2/(60*Specification!$H$5*Specification!$H$6)*2*PI()*Specification!$C$17 -> 3.1665259 | M2: =D2*Specification!$H$5*Specification!$H$6/Specification!$C$17 -> 188.55685 | N2: 1000
A3: =A2+100 -> 1100 | C3: 1.04 | D3: =C3*7127/A3 -> 6.7382545 | E3: =E2+100 -> 1100 | F3: =A3/(60*Specification!$H$3*Specification!$H$6)*2*PI()*Specification!$C$17 -> 1.2191125 | G3: =D3*Specification!$H$3*Specification!$H$6/Specification!$C$17 -> 636.68547 | H3: =H2+100 -> 1100 | I3: =A3/(60*Specification!$H$4*Specification!$H$6)*2*PI()*Specification!$C$17 -> 2.438225 | J3: =D3*Specification!$H$4*Specification!$H$6/Specification!$C$17 -> 318.34273 | K3: =K2+100 -> 1100 | L3: =A3/(60*Specification!$H$5*Specification!$H$6)*2*PI()*Specification!$C$17 -> 3.4831785 | M3: =D3*Specification!$H$5*Specification!$H$6/Specification!$C$17 -> 222.83991 | N3: =N2+100 -> 1100
A4: =A3+100 -> 1200 | C4: 1.28 | D4: =C4*7127/A4 -> 7.6021333 | E4: =E3+100 -> 1200 | F4: =A4/(60*Specification!$H$3*Specification!$H$6)*2*PI()*Specification!$C$17 -> 1.3299409 | G4: =D4*Specification!$H$3*Specification!$H$6/Specification!$C$17 -> 718.31181 | H4: =H3+100 -> 1200 | I4: =A4/(60*Specification!$H$4*Specification!$H$6)*2*PI()*Specification!$C$17 -> 2.6598818 | J4: =D4*Specification!$H$4*Specification!$H$6/Specification!$C$17 -> 359.15591 | K4: =K3+100 -> 1200 | L4: =A4/(60*Specification!$H$5*Specification!$H$6)*2*PI()*Specification!$C$17 -> 3.7998311 | M4: =D4*Specification!$H$5*Specification!$H$6/Specification!$C$17 -> 251.40913 | N4: =N3+100 -> 1200
A5: =A4+100 -> 1300 | C5: 1.52 | D5: =C5*7127/A5 -> 8.3331077 | E5: =E4+100 -> 1300 | F5: =A5/(60*Specification!$H$3*Specification!$H$6)*2*PI()*Specification!$C$17 -> 1.4407693 | G5: =D5*Specification!$H$3*Specification!$H$6/Specification!$C$17 -> 787.38025 | H5: =H4+100 -> 1300 | I5: =A5/(60*Specification!$H$4*Specification!$H$6)*2*PI()*Specification!$C$17 -> 2.8815386 | J5: =D5*Specification!$H$4*Specification!$H$6/Specification!$C$17 -> 393.69013 | K5: =K4+100 -> 1300 | L5: =A5/(60*Specification!$H$5*Specification!$H$6)*2*PI()*Specification!$C$17 -> 4.1164837 | M5: =D5*Specification!$H$5*Specification!$H$6/Specification!$C$17 -> 275.58309 | N5: =N4+100 -> 1300
A6: =A5+100 -> 1400 | C6: 1.76 | D6: =C6*7127/A6 -> 8.9596571 | E6: =E5+100 -> 1400 | F6: =A6/(60*Specification!$H$3*Specification!$H$6)*2*PI()*Specification!$C$17 -> 1.5515977 | G6: =D6*Specification!$H$3*Specification!$H$6/Specification!$C$17 -> 846.58178 | H6: =H5+100 -> 1400 | I6: =A6/(60*Specification!$H$4*Specification!$H$6)*2*PI()*Specification!$C$17 -> 3.1031954 | J6: =D6*Specification!$H$4*Specification!$H$6/Specification!$C$17 -> 423.29089 | K6: =K5+100 -> 1400 | L6: =A6/(60*Specification!$H$5*Specification!$H$6)*2*PI()*Specification!$C$17 -> 4.4331363 | M6: =D6*Specification!$H$5*Specification!$H$6/Specification!$C$17 -> 296.30362 | N6: =N5+100 -> 1400
A7: =A6+100 -> 1500 | B7: 2 | C7: 2 | D7: =C7*7127/A7 -> 9.5026667 | E7: =E6+100 -> 1500 | F7: =A7/(60*Specification!$H$3*Specification!$H$6)*2*PI()*Specification!$C$17 -> 1.6624261 | G7: =D7*Specification!$H$3*Specification!$H$6/Specification!$C$17 -> 897.88976 | H7: =H6+100 -> 1500 | I7: =A7/(60*Specification!$H$4*Specification!$H$6)*2*PI()*Specification!$C$17 -> 3.3248522 | J7: =D7*Specification!$H$4*Specification!$H$6/Specification!$C$17 -> 448.94488 | K7: =K6+100 -> 1500 | L7: =A7/(60*Specification!$H$5*Specification!$H$6)*2*PI()*Specification!$C$17 -> 4.7497889 | M7: =D7*Specification!$H$5*Specification!$H$6/Specification!$C$17 -> 314.26142 | N7: =N6+100 -> 1500
A8: =A7+100 -> 1600 | C8: 2.4 | D8: =C8*7127/A8 -> 10.6905 | E8: =E7+100 -> 1600 | F8: =A8/(60*Specification!$H$3*Specification!$H$6)*2*PI()*Specification!$C$17 -> 1.7732545 | G8: =D8*Specification!$H$3*Specification!$H$6/Specification!$C$17 -> 1010.126 | H8: =H7+100 -> 1600 | I8: =A8/(60*Specification!$H$4*Specification!$H$6)*2*PI()*Specification!$C$17 -> 3.546509 | J8: =D8*Specification!$H$4*Specification!$H$6/Specification!$C$17 -> 505.06299 | K8: =K7+100 -> 1600 | L8: =A8/(60*Specification!$H$5*Specification!$H$6)*2*PI()*Specification!$C$17 -> 5.0664415 | M8: =D8*Specification!$H$5*Specification!$H$6/Specification!$C$17 -> 353.54409 | N8: =N7+100 -> 1600
A9: =A8+100 -> 1700 | C9: 2.8 | D9: =C9*7127/A9 -> 11.738588 | E9: =E8+100 -> 1700 | F9: =A9/(60*Specification!$H$3*Specification!$H$6)*2*PI()*Specification!$C$17 -> 1.8840829 | G9: =D9*Specification!$H$3*Specification!$H$6/Specification!$C$17 -> 1109.1579 | H9: =H8+100 -> 1700 | I9: =A9/(60*Specification!$H$4*Specification!$H$6)*2*PI()*Specification!$C$17 -> 3.7681659 | J9: =D9*Specification!$H$4*Specification!$H$6/Specification!$C$17 -> 554.57897 | K9: =K8+100 -> 1700 | L9: =A9/(60*Specification!$H$5*Specification!$H$6)*2*PI()*Specification!$C$17 -> 5.3830941 | M9: =D9*Specification!$H$5*Specification!$H$6/Specification!$C$17 -> 388.20528 | N9: =N8+100 -> 1700
A10: =A9+100 -> 1800 | C10: 3.2 | D10: =C10*7127/A10 -> 12.670222 | E10: =E9+100 -> 1800 | F10: =A10/(60*Specification!$H$3*Specification!$H$6)*2*PI()*Specification!$C$17 -> 1.9949113 | G10: =D10*Specification!$H$3*Specification!$H$6/Specification!$C$17 -> 1197.1864 | H10: =H9+100 -> 1800 | I10: =A10/(60*Specification!$H$4*Specification!$H$6)*2*PI()*Specification!$C$17 -> 3.9898227 | J10: =D10*Specification!$H$4*Specification!$H$6/Specification!$C$17 -> 598.59318 | K10: =K9+100 -> 1800 | L10: =A10/(60*Specification!$H$5*Specification!$H$6)*2*PI()*Specification!$C$17 -> 5.6997467 | M10: =D10*Specification!$H$5*Specification!$H$6/Specification!$C$17 -> 419.01522 | N10: =N9+100 -> 1800
A11: =A10+100 -> 1900 | C11: 3.6 | D11: =C11*7127/A11 -> 13.503789 | E11: =E10+100 -> 1900 | F11: =A11/(60*Specification!$H$3*Specification!$H$6)*2*PI()*Specification!$C$17 -> 2.1057397 | G11: =D11*Specification!$H$3*Specification!$H$6/Specification!$C$17 -> 1275.9486 | H11: =H10+100 -> 1900 | I11: =A11/(60*Specification!$H$4*Specification!$H$6)*2*PI()*Specification!$C$17 -> 4.2114795 | J11: =D11*Specification!$H$4*Specification!$H$6/Specification!$C$17 -> 637.97431 | K11: =K10+100 -> 1900 | L11: =A11/(60*Specification!$H$5*Specification!$H$6)*2*PI()*Specification!$C$17 -> 6.0163993 | M11: =D11*Specification!$H$5*Specification!$H$6/Specification!$C$17 -> 446.58201 | N11: =N10+100 -> 1900
A12: =A11+100 -> 2000 | B12: 4 | C12: 4 | D12: =C12*7127/A12 -> 14.254 | E12: =E11+100 -> 2000 | F12: =A12/(60*Specification!$H$3*Specification!$H$6)*2*PI()*Specification!$C$17 -> 2.2165682 | G12: =D12*Specification!$H$3*Specification!$H$6/Specification!$C$17 -> 1346.8346 | H12: =H11+100 -> 2000 | I12: =A12/(60*Specification!$H$4*Specification!$H$6)*2*PI()*Specification!$C$17 -> 4.4331363 | J12: =D12*Specification!$H$4*Specification!$H$6/Specification!$C$17 -> 673.41732 | K12: =K11+100 -> 2000 | L12: =A12/(60*Specification!$H$5*Specification!$H$6)*2*PI()*Specification!$C$17 -> 6.3330519 | M12: =D12*Specification!$H$5*Specification!$H$6/Specification!$C$17 -> 471.39213 | N12: =N11+100 -> 2000
A13: =A12+100 -> 2100 | C13: 4.2 | D13: =C13*7127/A13 -> 14.254 | E13: =E12+100 -> 2100 | F13: =A13/(60*Specification!$H$3*Specification!$H$6)*2*PI()*Specification!$C$17 -> 2.3273966 | G13: =D13*Specification!$H$3*Specification!$H$6/Specification!$C$17 -> 1346.8346 | H13: =H12+100 -> 2100 | I13: =A13/(60*Specification!$H$4*Specification!$H$6)*2*PI()*Specification!$C$17 -> 4.6547931 | J13: =D13*Specification!$H$4*Specification!$H$6/Specification!$C$17 -> 673.41732 | K13: =K12+100 -> 2100 | L13: =A13/(60*Specification!$H$5*Specification!$H$6)*2*PI()*Specification!$C$17 -> 6.6497045 | M13: =D13*Specification!$H$5*Specification!$H$6/Specification!$C$17 -> 471.39213 | N13: =N12+100 -> 2100
A14: =A13+100 -> 2200 | C14: 4.4 | D14: =C14*7127/A14 -> 14.254 | E14: =E13+100 -> 2200 | F14: =A14/(60*Specification!$H$3*Specification!$H$6)*2*PI()*Specification!$C$17 -> 2.438225 | G14: =D14*Specification!$H$3*Specification!$H$6/Specification!$C$17 -> 1346.8346 | H14: =H13+100 -> 2200 | I14: =A14/(60*Specification!$H$4*Specification!$H$6)*2*PI()*Specification!$C$17 -> 4.8764499 | J14: =D14*Specification!$H$4*Specification!$H$6/Specification!$C$17 -> 673.41732 | K14: =K13+100 -> 2200 | L14: =A14/(60*Specification!$H$5*Specification!$H$6)*2*PI()*Specification!$C$17 -> 6.966357 | M14: =D14*Specification!$H$5*Specification!$H$6/Specification!$C$17 -> 471.39213 | N14: =N13+100 -> 2200
A15: =A14+100 -> 2300 | C15: 4.6 | D15: =C15*7127/A15 -> 14.254 | E15: =E14+100 -> 2300 | F15: =A15/(60*Specification!$H$3*Specification!$H$6)*2*PI()*Specification!$C$17 -> 2.5490534 | G15: =D15*Specification!$H$3*Specification!$H$6/Specification!$C$17 -> 1346.8346 | H15: =H14+100 -> 2300 | I15: =A15/(60*Specification!$H$4*Specification!$H$6)*2*PI()*Specification!$C$17 -> 5.0981067 | J15: =D15*Specification!$H$4*Specification!$H$6/Specification!$C$17 -> 673.41732 | K15: =K14+100 -> 2300 | L15: =A15/(60*Specification!$H$5*Specification!$H$6)*2*PI()*Specification!$C$17 -> 7.2830096 | M15: =D15*Specification!$H$5*Specification!$H$6/Specification!$C$17 -> 471.39213 | N15: =N14+100 -> 2300
A16: =A15+100 -> 2400 | C16: 4.8 | D16: =C16*7127/A16 -> 14.254 | E16: =E15+100 -> 2400 | F16: =A16/(60*Specification!$H$3*Specification!$H$6)*2*PI()*Specification!$C$17 -> 2.6598818 | G16: =D16*Specification!$H$3*Specification!$H$6/Specification!$C$17 -> 1346.8346 | H16: =H15+100 -> 2400 | I16: =A16/(60*Specification!$H$4*Specification!$H$6)*2*PI()*Specification!$C$17 -> 5.3197636 | J16: =D16*Specification!$H$4*Specification!$H$6/Specification!$C$17 -> 673.41732 | K16: =K15+100 -> 2400 | L16: =A16/(60*Specification!$H$5*Specification!$H$6)*2*PI()*Specification!$C$17 -> 7.5996622 | M16: =D16*Specification!$H$5*Specification!$H$6/Specification!$C$17 -> 471.39213 | N16: =N15+100 -> 2400
A17: =A16+100 -> 2500 | B17: 5 | C17: 5 | D17: =C17*7127/A17 -> 14.254 | E17: =E16+100 -> 2500 | F17: =A17/(60*Specification!$H$3*Specification!$H$6)*2*PI()*Specification!$C$17 -> 2.7707102 | G17: =D17*Specification!$H$3*Specification!$H$6/Specification!$C$17 -> 1346.8346 | H17: =H16+100 -> 2500 | I17: =A17/(60*Specification!$H$4*Specification!$H$6)*2*PI()*Specification!$C$17 -> 5.5414204 | J17: =D17*Specification!$H$4*Specification!$H$6/Specification!$C$17 -> 673.41732 | K17: =K16+100 -> 2500 | L17: =A17/(60*Specification!$H$5*Specification!$H$6)*2*PI()*Specification!$C$17 -> 7.9163148 | M17: =D17*Specification!$H$5*Specification!$H$6/Specification!$C$17 -> 471.39213 | N17: =N16+100 -> 2500
A18: =A17+100 -> 2600 | C18: 5.4 | D18: =C18*7127/A18 -> 14.802231 | E18: =E17+100 -> 2600 | F18: =A18/(60*Specification!$H$3*Specification!$H$6)*2*PI()*Specification!$C$17 -> 2.8815386 | G18: =D18*Specification!$H$3*Specification!$H$6/Specification!$C$17 -> 1398.636 | H18: =H17+100 -> 2600 | I18: =A18/(60*Specification!$H$4*Specification!$H$6)*2*PI()*Specification!$C$17 -> 5.7630772 | J18: =D18*Specification!$H$4*Specification!$H$6/Specification!$C$17 -> 699.31799 | K18: =K17+100 -> 2600 | L18: =A18/(60*Specification!$H$5*Specification!$H$6)*2*PI()*Specification!$C$17 -> 8.2329674 | M18: =D18*Specification!$H$5*Specification!$H$6/Specification!$C$17 -> 489.52259 | N18: =N17+100 -> 2600
A19: =A18+100 -> 2700 | C19: 5.8 | D19: =C19*7127/A19 -> 15.309852 | E19: =E18+100 -> 2700 | F19: =A19/(60*Specification!$H$3*Specification!$H$6)*2*PI()*Specification!$C$17 -> 2.992367 | G19: =D19*Specification!$H$3*Specification!$H$6/Specification!$C$17 -> 1446.6002 | H19: =H18+100 -> 2700 | I19: =A19/(60*Specification!$H$4*Specification!$H$6)*2*PI()*Specification!$C$17 -> 5.984734 | J19: =D19*Specification!$H$4*Specification!$H$6/Specification!$C$17 -> 723.30009 | K19: =K18+100 -> 2700 | L19: =A19/(60*Specification!$H$5*Specification!$H$6)*2*PI()*Specification!$C$17 -> 8.54962 | M19: =D19*Specification!$H$5*Specification!$H$6/Specification!$C$17 -> 506.31006 | N19: =N18+100 -> 2700
A20: =A19+100 -> 2800 | C20: 6.2 | D20: =C20*7127/A20 -> 15.781214 | E20: =E19+100 -> 2800 | F20: =A20/(60*Specification!$H$3*Specification!$H$6)*2*PI()*Specification!$C$17 -> 3.1031954 | G20: =D20*Specification!$H$3*Specification!$H$6/Specification!$C$17 -> 1491.1384 | H20: =H19+100 -> 2800 | I20: =A20/(60*Specification!$H$4*Specification!$H$6)*2*PI()*Specification!$C$17 -> 6.2063908 | J20: =D20*Specification!$H$4*Specification!$H$6/Specification!$C$17 -> 745.56918 | K20: =K19+100 -> 2800 | L20: =A20/(60*Specification!$H$5*Specification!$H$6)*2*PI()*Specification!$C$17 -> 8.8662726 | M20: =D20*Specification!$H$5*Specification!$H$6/Specification!$C$17 -> 521.89843 | N20: =N19+100 -> 2800
A21: =A20+100 -> 2900 | C21: 6.6 | D21: =C21*7127/A21 -> 16.220069 | E21: =E20+100 -> 2900 | F21: =A21/(60*Specification!$H$3*Specification!$H$6)*2*PI()*Specification!$C$17 -> 3.2140238 | G21: =D21*Specification!$H$3*Specification!$H$6/Specification!$C$17 -> 1532.6049 | H21: =H20+100 -> 2900 | I21: =A21/(60*Specification!$H$4*Specification!$H$6)*2*PI()*Specification!$C$17 -> 6.4280476 | J21: =D21*Specification!$H$4*Specification!$H$6/Specification!$C$17 -> 766.30247 | K21: =K20+100 -> 2900 | L21: =A21/(60*Specification!$H$5*Specification!$H$6)*2*PI()*Specification!$C$17 -> 9.1829252 | M21: =D21*Specification!$H$5*Specification!$H$6/Specification!$C$17 -> 536.41173 | N21: =N20+100 -> 2900
A22: =A21+100 -> 3000 | B22: 7 | C22: 7 | D22: =C22*7127/A22 -> 16.629667 | E22: =E21+100 -> 3000 | F22: =A22/(60*Specification!$H$3*Specification!$H$6)*2*PI()*Specification!$C$17 -> 3.3248522 | G22: =D22*Specification!$H$3*Specification!$H$6/Specification!$C$17 -> 1571.3071 | H22: =H21+100 -> 3000 | I22: =A22/(60*Specification!$H$4*Specification!$H$6)*2*PI()*Specification!$C$17 -> 6.6497045 | J22: =D22*Specification!$H$4*Specification!$H$6/Specification!$C$17 -> 785.65354 | K22: =K21+100 -> 3000 | L22: =A22/(60*Specification!$H$5*Specification!$H$6)*2*PI()*Specification!$C$17 -> 9.4995778 | M22: =D22*Specification!$H$5*Specification!$H$6/Specification!$C$17 -> 549.95748 | N22: =N21+100 -> 3000
A23: =A22+100 -> 3100 | C23: 7.5 | D23: =C23*7127/A23 -> 17.242742 | E23: =E22+100 -> 3100 | F23: =A23/(60*Specification!$H$3*Specification!$H$6)*2*PI()*Specification!$C$17 -> 3.4356806 | G23: =D23*Specification!$H$3*Specification!$H$6/Specification!$C$17 -> 1629.2355 | H23: =H22+100 -> 3100 | I23: =A23/(60*Specification!$H$4*Specification!$H$6)*2*PI()*Specification!$C$17 -> 6.8713613 | J23: =D23*Specification!$H$4*Specification!$H$6/Specification!$C$17 -> 814.61773 | K23: =K22+100 -> 3100 | L23: =A23/(60*Specification!$H$5*Specification!$H$6)*2*PI()*Specification!$C$17 -> 9.8162304 | M23: =D23*Specification!$H$5*Specification!$H$6/Specification!$C$17 -> 570.23241 | N23: =N22+100 -> 3100
A24: =A23+100 -> 3200 | C24: 8 | D24: =C24*7127/A24 -> 17.8175 | E24: =E23+100 -> 3200 | F24: =A24/(60*Specification!$H$3*Specification!$H$6)*2*PI()*Specification!$C$17 -> 3.546509 | G24: =D24*Specification!$H$3*Specification!$H$6/Specification!$C$17 -> 1683.5433 | H24: =H23+100 -> 3200 | I24: =A24/(60*Specification!$H$4*Specification!$H$6)*2*PI()*Specification!$C$17 -> 7.0930181 | J24: =D24*Specification!$H$4*Specification!$H$6/Specification!$C$17 -> 841.77165 | K24: =K23+100 -> 3200 | L24: =A24/(60*Specification!$H$5*Specification!$H$6)*2*PI()*Specification!$C$17 -> 10.132883 | M24: =D24*Specification!$H$5*Specification!$H$6/Specification!$C$17 -> 589.24016 | N24: =N23+100 -> 3200
A25: =A24+100 -> 3300 | C25: 8.5 | D25: =C25*7127/A25 -> 18.357424 | E25: =E24+100 -> 3300 | F25: =A25/(60*Specification!$H$3*Specification!$H$6)*2*PI()*Specification!$C$17 -> 3.6573374 | G25: =D25*Specification!$H$3*Specification!$H$6/Specification!$C$17 -> 1734.5598 | H25: =H24+100 -> 3300 | I25: =A25/(60*Specification!$H$4*Specification!$H$6)*2*PI()*Specification!$C$17 -> 7.3146749 | J25: =D25*Specification!$H$4*Specification!$H$6/Specification!$C$17 -> 867.27989 | K25: =K24+100 -> 3300 | L25: =A25/(60*Specification!$H$5*Specification!$H$6)*2*PI()*Specification!$C$17 -> 10.449536 | M25: =D25*Specification!$H$5*Specification!$H$6/Specification!$C$17 -> 607.09592 | N25: =N24+100 -> 3300
A26: =A25+100 -> 3400 | C26: 9 | D26: =C26*7127/A26 -> 18.865588 | E26: =E25+100 -> 3400 | F26: =A26/(60*Specification!$H$3*Specification!$H$6)*2*PI()*Specification!$C$17 -> 3.7681659 | G26: =D26*Specification!$H$3*Specification!$H$6/Specification!$C$17 -> 1782.5753 | H26: =H25+100 -> 3400 | I26: =A26/(60*Specification!$H$4*Specification!$H$6)*2*PI()*Specification!$C$17 -> 7.5363317 | J26: =D26*Specification!$H$4*Specification!$H$6/Specification!$C$17 -> 891.28763 | K26: =K25+100 -> 3400 | L26: =A26/(60*Specification!$H$5*Specification!$H$6)*2*PI()*Specification!$C$17 -> 10.766188 | M26: =D26*Specification!$H$5*Specification!$H$6/Specification!$C$17 -> 623.90134 | N26: =N25+100 -> 3400
A27: =A26+100 -> 3500 | B27: 9.5 | C27: 9.5 | D27: =C27*7127/A27 -> 19.344714 | E27: =E26+100 -> 3500 | F27: =A27/(60*Specification!$H$3*Specification!$H$6)*2*PI()*Specification!$C$17 -> 3.8789943 | G27: =D27*Specification!$H$3*Specification!$H$6/Specification!$C$17 -> 1827.847 | H27: =H26+100 -> 3500 | I27: =A27/(60*Specification!$H$4*Specification!$H$6)*2*PI()*Specification!$C$17 -> 7.7579885 | J27: =D27*Specification!$H$4*Specification!$H$6/Specification!$C$17 -> 913.92351 | K27: =K26+100 -> 3500 | L27: =A27/(60*Specification!$H$5*Specification!$H$6)*2*PI()*Specification!$C$17 -> 11.082841 | M27: =D27*Specification!$H$5*Specification!$H$6/Specification!$C$17 -> 639.74646 | N27: =N26+100 -> 3500
A28: =A27+100 -> 3600 | C28: 9.7 | D28: =C28*7127/A28 -> 19.203306 | E28: =E27+100 -> 3600 | F28: =A28/(60*Specification!$H$3*Specification!$H$6)*2*PI()*Specification!$C$17 -> 3.9898227 | G28: =D28*Specification!$H$3*Specification!$H$6/Specification!$C$17 -> 1814.4856 | H28: =H27+100 -> 3600 | I28: =A28/(60*Specification!$H$4*Specification!$H$6)*2*PI()*Specification!$C$17 -> 7.9796453 | J28: =D28*Specification!$H$4*Specification!$H$6/Specification!$C$17 -> 907.24278 | K28: =K27+100 -> 3600 | L28: =A28/(60*Specification!$H$5*Specification!$H$6)*2*PI()*Specification!$C$17 -> 11.399493 | M28: =D28*Specification!$H$5*Specification!$H$6/Specification!$C$17 -> 635.06995 | N28: =N27+100 -> 3600
A29: =A28+100 -> 3700 | C29: 9.9 | D29: =C29*7127/A29 -> 19.069541 | E29: =E28+100 -> 3700 | F29: =A29/(60*Specification!$H$3*Specification!$H$6)*2*PI()*Specification!$C$17 -> 4.1006511 | G29: =D29*Specification!$H$3*Specification!$H$6/Specification!$C$17 -> 1801.8464 | H29: =H28+100 -> 3700 | I29: =A29/(60*Specification!$H$4*Specification!$H$6)*2*PI()*Specification!$C$17 -> 8.2013022 | J29: =D29*Specification!$H$4*Specification!$H$6/Specification!$C$17 -> 900.92318 | K29: =K28+100 -> 3700 | L29: =A29/(60*Specification!$H$5*Specification!$H$6)*2*PI()*Specification!$C$17 -> 11.716146 | M29: =D29*Specification!$H$5*Specification!$H$6/Specification!$C$17 -> 630.64622 | N29: =N28+100 -> 3700
A30: =A29+100 -> 3800 | C30: 10.1 | D30: =C30*7127/A30 -> 18.942816 | E30: =E29+100 -> 3800 | F30: =A30/(60*Specification!$H$3*Specification!$H$6)*2*PI()*Specification!$C$17 -> 4.2114795 | G30: =D30*Specification!$H$3*Specification!$H$6/Specification!$C$17 -> 1789.8724 | H30: =H29+100 -> 3800 | I30: =A30/(60*Specification!$H$4*Specification!$H$6)*2*PI()*Specification!$C$17 -> 8.422959 | J30: =D30*Specification!$H$4*Specification!$H$6/Specification!$C$17 -> 894.93618 | K30: =K29+100 -> 3800 | L30: =A30/(60*Specification!$H$5*Specification!$H$6)*2*PI()*Specification!$C$17 -> 12.032799 | M30: =D30*Specification!$H$5*Specification!$H$6/Specification!$C$17 -> 626.45533 | N30: =N29+100 -> 3800
A31: =A30+100 -> 3900 | C31: 10.3 | D31: =C31*7127/A31 -> 18.82259 | E31: =E30+100 -> 3900 | F31: =A31/(60*Specification!$H$3*Specification!$H$6)*2*PI()*Specification!$C$17 -> 4.3223079 | G31: =D31*Specification!$H$3*Specification!$H$6/Specification!$C$17 -> 1778.5124 | H31: =H30+100 -> 3900 | I31: =A31/(60*Specification!$H$4*Specification!$H$6)*2*PI()*Specification!$C$17 -> 8.6446158 | J31: =D31*Specification!$H$4*Specification!$H$6/Specification!$C$17 -> 889.25621 | K31: =K30+100 -> 3900 | L31: =A31/(60*Specification!$H$5*Specification!$H$6)*2*PI()*Specification!$C$17 -> 12.349451 | M31: =D31*Specification!$H$5*Specification!$H$6/Specification!$C$17 -> 622.47935 | N31: =N30+100 -> 3900
A32: =A31+100 -> 4000 | B32: 10.5 | C32: 10.5 | D32: =C32*7127/A32 -> 18.708375 | E32: =E31+100 -> 4000 | F32: =A32/(60*Specification!$H$3*Specification!$H$6)*2*PI()*Specification!$C$17 -> 4.4331363 | G32: =D32*Specification!$H$3*Specification!$H$6/Specification!$C$17 -> 1767.7205 | H32: =H31+100 -> 4000 | I32: =A32/(60*Specification!$H$4*Specification!$H$6)*2*PI()*Specification!$C$17 -> 8.8662726 | J32: =D32*Specification!$H$4*Specification!$H$6/Specification!$C$17 -> 883.86024 | K32: =K31+100 -> 4000 | L32: =A32/(60*Specification!$H$5*Specification!$H$6)*2*PI()*Specification!$C$17 -> 12.666104 | M32: =D32*Specification!$H$5*Specification!$H$6/Specification!$C$17 -> 618.70217 | N32: =N31+100 -> 4000
A33: =A32+100 -> 4100 | C33: 10.8 | D33: =C33*7127/A33 -> 18.773561 | E33: =E32+100 -> 4100 | F33: =A33/(60*Specification!$H$3*Specification!$H$6)*2*PI()*Specification!$C$17 -> 4.5439647 | G33: =D33*Specification!$H$3*Specification!$H$6/Specification!$C$17 -> 1773.8798 | H33: =H32+100 -> 4100 | I33: =A33/(60*Specification!$H$4*Specification!$H$6)*2*PI()*Specification!$C$17 -> 9.0879294 | J33: =D33*Specification!$H$4*Specification!$H$6/Specification!$C$17 -> 886.93989 | K33: =K32+100 -> 4100 | L33: =A33/(60*Specification!$H$5*Specification!$H$6)*2*PI()*Specification!$C$17 -> 12.982756 | M33: =D33*Specification!$H$5*Specification!$H$6/Specification!$C$17 -> 620.85792 | N33: =N32+100 -> 4100
A34: =A33+100 -> 4200 | C34: 11.1 | D34: =C34*7127/A34 -> 18.835643 | E34: =E33+100 -> 4200 | F34: =A34/(60*Specification!$H$3*Specification!$H$6)*2*PI()*Specification!$C$17 -> 4.6547931 | G34: =D34*Specification!$H$3*Specification!$H$6/Specification!$C$17 -> 1779.7458 | H34: =H33+100 -> 4200 | I34: =A34/(60*Specification!$H$4*Specification!$H$6)*2*PI()*Specification!$C$17 -> 9.3095862 | J34: =D34*Specification!$H$4*Specification!$H$6/Specification!$C$17 -> 889.87289 | K34: =K33+100 -> 4200 | L34: =A34/(60*Specification!$H$5*Specification!$H$6)*2*PI()*Specification!$C$17 -> 13.299409 | M34: =D34*Specification!$H$5*Specification!$H$6/Specification!$C$17 -> 622.91102 | N34: =N33+100 -> 4200
A35: =A34+100 -> 4300 | C35: 11.4 | D35: =C35*7127/A35 -> 18.894837 | E35: =E34+100 -> 4300 | F35: =A35/(60*Specification!$H$3*Specification!$H$6)*2*PI()*Specification!$C$17 -> 4.7656215 | G35: =D35*Specification!$H$3*Specification!$H$6/Specification!$C$17 -> 1785.3389 | H35: =H34+100 -> 4300 | I35: =A35/(60*Specification!$H$4*Specification!$H$6)*2*PI()*Specification!$C$17 -> 9.531243 | J35: =D35*Specification!$H$4*Specification!$H$6/Specification!$C$17 -> 892.66947 | K35: =K34+100 -> 4300 | L35: =A35/(60*Specification!$H$5*Specification!$H$6)*2*PI()*Specification!$C$17 -> 13.616061 | M35: =D35*Specification!$H$5*Specification!$H$6/Specification!$C$17 -> 624.86863 | N35: =N34+100 -> 4300
A36: =A35+100 -> 4400 | C36: 11.7 | D36: =C36*7127/A36 -> 18.951341 | E36: =E35+100 -> 4400 | F36: =A36/(60*Specification!$H$3*Specification!$H$6)*2*PI()*Specification!$C$17 -> 4.8764499 | G36: =D36*Specification!$H$3*Specification!$H$6/Specification!$C$17 -> 1790.6779 | H36: =H35+100 -> 4400 | I36: =A36/(60*Specification!$H$4*Specification!$H$6)*2*PI()*Specification!$C$17 -> 9.7528999 | J36: =D36*Specification!$H$4*Specification!$H$6/Specification!$C$17 -> 895.33894 | K36: =K35+100 -> 4400 | L36: =A36/(60*Specification!$H$5*Specification!$H$6)*2*PI()*Specification!$C$17 -> 13.932714 | M36: =D36*Specification!$H$5*Specification!$H$6/Specification!$C$17 -> 626.73726 | N36: =N35+100 -> 4400
A37: =A36+100 -> 4500 | B37: 12 | C37: 12 | D37: =C37*7127/A37 -> 19.005333 | E37: =E36+100 -> 4500 | F37: =A37/(60*Specification!$H$3*Specification!$H$6)*2*PI()*Specification!$C$17 -> 4.9872783 | G37: =D37*Specification!$H$3*Specification!$H$6/Specification!$C$17 -> 1795.7795 | H37: =H36+100 -> 4500 | I37: =A37/(60*Specification!$H$4*Specification!$H$6)*2*PI()*Specification!$C$17 -> 9.9745567 | J37: =D37*Specification!$H$4*Specification!$H$6/Specification!$C$17 -> 897.88976 | K37: =K36+100 -> 4500 | L37: =A37/(60*Specification!$H$5*Specification!$H$6)*2*PI()*Specification!$C$17 -> 14.249367 | M37: =D37*Specification!$H$5*Specification!$H$6/Specification!$C$17 -> 628.52283 | N37: =N36+100 -> 4500
A38: =A37+100 -> 4600 | C38: 12.4 | D38: =C38*7127/A38 -> 19.211913 | E38: =E37+100 -> 4600 | F38: =A38/(60*Specification!$H$3*Specification!$H$6)*2*PI()*Specification!$C$17 -> 5.0981067 | G38: =D38*Specification!$H$3*Specification!$H$6/Specification!$C$17 -> 1815.2989 | H38: =H37+100 -> 4600 | I38: =A38/(60*Specification!$H$4*Specification!$H$6)*2*PI()*Specification!$C$17 -> 10.196213 | J38: =D38*Specification!$H$4*Specification!$H$6/Specification!$C$17 -> 907.64944 | K38: =K37+100 -> 4600 | L38: =A38/(60*Specification!$H$5*Specification!$H$6)*2*PI()*Specification!$C$17 -> 14.566019 | M38: =D38*Specification!$H$5*Specification!$H$6/Specification!$C$17 -> 635.3546 | N38: =N37+100 -> 4600
A39: =A38+100 -> 4700 | C39: 12.8 | D39: =C39*7127/A39 -> 19.409702 | E39: =E38+100 -> 4700 | F39: =A39/(60*Specification!$H$3*Specification!$H$6)*2*PI()*Specification!$C$17 -> 5.2089352 | G39: =D39*Specification!$H$3*Specification!$H$6/Specification!$C$17 -> 1833.9876 | H39: =H38+100 -> 4700 | I39: =A39/(60*Specification!$H$4*Specification!$H$6)*2*PI()*Specification!$C$17 -> 10.41787 | J39: =D39*Specification!$H$4*Specification!$H$6/Specification!$C$17 -> 916.9938 | K39: =K38+100 -> 4700 | L39: =A39/(60*Specification!$H$5*Specification!$H$6)*2*PI()*Specification!$C$17 -> 14.882672 | M39: =D39*Specification!$H$5*Specification!$H$6/Specification!$C$17 -> 641.89566 | N39: =N38+100 -> 4700
A40: =A39+100 -> 4800 | C40: 13.2 | D40: =C40*7127/A40 -> 19.59925 | E40: =E39+100 -> 4800 | F40: =A40/(60*Specification!$H$3*Specification!$H$6)*2*PI()*Specification!$C$17 -> 5.3197636 | G40: =D40*Specification!$H$3*Specification!$H$6/Specification!$C$17 -> 1851.8976 | H40: =H39+100 -> 4800 | I40: =A40/(60*Specification!$H$4*Specification!$H$6)*2*PI()*Specification!$C$17 -> 10.639527 | J40: =D40*Specification!$H$4*Specification!$H$6/Specification!$C$17 -> 925.94882 | K40: =K39+100 -> 4800 | L40: =A40/(60*Specification!$H$5*Specification!$H$6)*2*PI()*Specification!$C$17 -> 15.199324 | M40: =D40*Specification!$H$5*Specification!$H$6/Specification!$C$17 -> 648.16417 | N40: =N39+100 -> 4800
...

Sheet Track Design
B1: Length | C1: Radius | D1: Angle | E1: Surface | F1: Bumps | G1: Dist
A2: Straight 1 | B2: 300 | C2: 0 | D2: 0 | E2: Asphalt | F2: 0 | G2: =B2 -> 300
A3: Corner 1 | B3: =PI()*40 -> 125.66371 | C3: 40 | D3: 180 | E3: Asphalt | F3: 0 | G3: =B2+B3 -> 425.66371
A4: Corner 2 | B4: =PI()*20 -> 62.831853 | C4: 40 | D4: 90 | E4: Asphalt | F4: 0 | G4: =G3+B4 -> 488.49556
A5: Straight 2 | B5: 200 | C5: 0 | D5: 0 | E5: Dry Dirt | G5: =G4+B5 -> 688.49556
A6: Corner 3 | B6: =PI()*20 -> 62.831853 | C6: 40 | D6: 90 | E6: Dry Dirt | G6: =G5+B6 -> 751.32741
A7: Straight 3 | B7: 320 | C7: 0 | D7: 0 | E7: Dry Dirt | G7: =G6+B7 -> 1071.3274
A8: Corner 4 | B8: =PI()*40 -> 125.66371 | C8: 40 | D8: 180 | E8: Dry Dirt | G8: =G7+B8 -> 1196.9911
A9: Corner 5 | B9: =PI()*20 -> 62.831853 | C9: 40 | D9: 90 | E9: Dry Dirt | G9: =G8+B9 -> 1259.823
A10: Straight 4 | B10: 150 | C10: 0 | D10: 0 | E10: Wet Dirt | G10: =G9+B10 -> 1409.823
A11: Corner 6 | B11: =PI()*20 -> 62.831853 | C11: 40 | D11: 90 | E11: Wet Dirt | G11: =G10+B11 -> 1472.6548
A12: Corner 7 | B12: =PI()*20 -> 62.831853 | C12: 40 | D12: 90 | E12: Wet Dirt | G12: =G11+B12 -> 1535.4867
A13: Straight 5 | B13: 10 | C13: 0 | D13: 0 | E13: Asphalt | G13: =G12+B13 -> 1545.4867
A14: Corner 8 | B14: =PI()*20 -> 62.831853 | C14: 40 | D14: 90 | E14: Asphalt | G14: =G13+B14 -> 1608.3185
A15: Straight 6 | B15: 100 | C15: 0 | D15: 0 | E15: Asphalt | G15: =G14+B15 -> 1708.3185
B16: =SUM(B2:B15) -> 1708.3185

Sheet Track
A1: Distance (m) | B1: Velocity (m/s) | C1: RollResForce (N) | D1: AirResForce (N) | E1: Slope (deg) | F1: GravForce (N) | G1: AccelForce (N) | H1: Equiv Mass (kg) | I1: Accerlation (m/s^2) | J1: Gear | K1: RPM | L1: Time Elapsed (s) | M1: Elevation (m) | N1: Power (hp) | O1: Torque (Nm) | P1: Power (kw) | Q1: BSFC | R1: Fuel Flow | S1: Energy (kwh) | T1: Fuel Consumption (g) | U1: Total Consumption
A2: 1 | B2: 0 | C2: =Specification!$G$30 -> 109.96225 | D2: 0 | E2: 0 | F2: =Specification!$C$23*9.81*SIN((E2*PI()/180)) -> 0 | G2: =IF(J2=1,VLOOKUP(K2,RPM!$E$2:$H$62,3,FALSE)-F2-E2-D2,IF(J2=2,VLOOKUP(K2,RPM!$H$2:$K$62,3,FALSE)-F2-E2-D2,IF(J2=3,VLOOKUP(K2,RPM!$K$2:$N$62,3,FALSE)-F2-E2-D2))) -> 538.73386 | H2: =IF(J2=1,Specification!$I$14,IF(J2=2,Specification!$I$15,IF(J2=3,Specification!$I$16))) -> 590.85611 | I2: =G2/H2 -> 0.9117852 | J2: 1 | K2: 1000 | L2: =(B3-B2)/I2 -> 1.4810466 | M2: 0 | N2: =VLOOKUP(K2,RPM!$A$2:$D$62,4,FALSE) -> 5.7016 | O2: =VLOOKUP(K2,RPM!$A$2:$D$62,3,FALSE) -> 0.8 | P2: =N2*0.7457 -> 4.2516831 | Q2: 0 | R2: 0 | S2: 0 | T2: 0 | U2: 0
A3: =A2+1 -> 2 | B3: =IF(SQRT(B2^2+2*I2)>13.4112,13.4112,SQRT(B2^2+2*I2)) -> 1.3503964 | C3: =Specification!$G$30 -> 109.96225 | D3: =0.5*Specification!$K$4*Track!B3^2*Specification!$K$3*Specification!$K$2 -> 0.94453053 | E3: 0 | F3: =Specification!$C$23*9.81*SIN((E3*PI()/180)) -> 0 | G3: =IF(J3=1,VLOOKUP(K3,RPM!$E$2:$H$62,3,FALSE)-F3-E3-D3,IF(J3=2,VLOOKUP(K3,RPM!$H$2:$K$62,3,FALSE)-F3-E3-D3,IF(J3=3,VLOOKUP(K3,RPM!$K$2:$N$62,3,FALSE)-F3-E3-D3))) -> 717.36728 | H3: =IF(J3=1,Specification!$I$14,IF(J3=2,Specification!$I$15,IF(J3=3,Specification!$I$16))) -> 590.85611 | I3: =G3/H3 -> 1.214115 | J3: 1 | K3: =IF(J3=1,VLOOKUP(B3,RPM!$F$2:$H$62,3,TRUE),IF(J3=2,VLOOKUP(B3,RPM!$I$2:$K$62,3,TRUE),IF(J3=3,VLOOKUP(B3,RPM!$L$2:$N$62,3,TRUE)))) -> 1200 | L3: =IF(I3=0,ABS(1/B3)+L2,ABS((B4-B3)/I3)+L2) -> 2.0671468 | M3: =TAN(E3*PI()/180)+M2 -> 0 | N3: =VLOOKUP(K3,RPM!$A$2:$D$62,4,FALSE) -> 7.6021333 | O3: =VLOOKUP(K3,RPM!$A$2:$D$62,3,FALSE) -> 1.28 | P3: =N3*0.7457 -> 5.6689108 | Q3: {=_xlfn.XLOOKUP(O3,BSFC!$A$2:$A$24,_xlfn.XLOOKUP(K3,BSFC!$B$2:$O$2,BSFC!$B$2:$O$24,,-1),,-1)} -> 860 | R3: =Q3*P3/3600 -> 1.3542398 | S3: =(L3-L2)/3600*P3 -> 0.00092293049 | T3: =S3*Q3 -> 0.79372022 | U3: =U2+T3 -> 0.79372022
A4: =A3+1 -> 3 | B4: =IF(SQRT(B3^2+2*I3)>13.4112,13.4112,SQRT(B3^2+2*I3)) -> 2.0619894 | C4: =Specification!$G$30 -> 109.96225 | D4: =0.5*Specification!$K$4*Track!B4^2*Specification!$K$3*Specification!$K$2 -> 2.2022486 | E4: 0 | F4: =Specification!$C$23*9.81*SIN((E4*PI()/180)) -> 0 | G4: =IF(J4=1,VLOOKUP(K4,RPM!$E$2:$H$62,3,FALSE)-F4-E4-D4,IF(J4=2,VLOOKUP(K4,RPM!$H$2:$K$62,3,FALSE)-F4-E4-D4,IF(J4=3,VLOOKUP(K4,RPM!$K$2:$N$62,3,FALSE)-F4-E4-D4))) -> 1194.9841 | H4: =IF(J4=1,Specification!$I$14,IF(J4=2,Specification!$I$15,IF(J4=3,Specification!$I$16))) -> 590.85611 | I4: =G4/H4 -> 2.0224621 | J4: 1 | K4: =IF(J4=1,VLOOKUP(B4,RPM!$F$2:$H$62,3,TRUE),IF(J4=2,VLOOKUP(B4,RPM!$I$2:$K$62,3,TRUE),IF(J4=3,VLOOKUP(B4,RPM!$L$2:$N$62,3,TRUE)))) -> 1800 | L4: =IF(I4=0,ABS(1/B4)+L3,ABS((B5-B4)/I4)+L3) -> 2.4718091 | M4: =TAN(E4*PI()/180)+M3 -> 0 | N4: =VLOOKUP(K4,RPM!$A$2:$D$62,4,FALSE) -> 12.670222 | O4: =VLOOKUP(K4,RPM!$A$2:$D$62,3,FALSE) -> 3.2 | P4: =N4*0.7457 -> 9.4481847 | Q4: {=_xlfn.XLOOKUP(O4,BSFC!$A$2:$A$24,_xlfn.XLOOKUP(K4,BSFC!$B$2:$O$2,BSFC!$B$2:$O$24,,-1),,-1)} -> 752 | R4: =Q4*P4/3600 -> 1.9736208 | S4: =(L4-L3)/3600*P4 -> 0.0010620344 | T4: =S4*Q4 -> 0.79864989 | U4: =U3+T4 -> 1.5923701
A5: =A4+1 -> 4 | B5: =IF(SQRT(B4^2+2*I4)>13.4112,13.4112,SQRT(B4^2+2*I4)) -> 2.8804036 | C5: =Specification!$G$30 -> 109.96225 | D5: =0.5*Specification!$K$4*Track!B5^2*Specification!$K$3*Specification!$K$2 -> 4.2973442 | E5: 0 | F5: =Specification!$C$23*9.81*SIN((E5*PI()/180)) -> 0 | G5: =IF(J5=1,VLOOKUP(K5,RPM!$E$2:$H$62,3,FALSE)-F5-E5-D5,IF(J5=2,VLOOKUP(K5,RPM!$H$2:$K$62,3,FALSE)-F5-E5-D5,IF(J5=3,VLOOKUP(K5,RPM!$K$2:$N$62,3,FALSE)-F5-E5-D5))) -> 1342.5373 | H5: =IF(J5=1,Specification!$I$14,IF(J5=2,Specification!$I$15,IF(J5=3,Specification!$I$16))) -> 590.85611 | I5: =G5/H5 -> 2.2721899 | J5: 1 | K5: =IF(J5=1,VLOOKUP(B5,RPM!$F$2:$H$62,3,TRUE),IF(J5=2,VLOOKUP(B5,RPM!$I$2:$K$62,3,TRUE),IF(J5=3,VLOOKUP(B5,RPM!$L$2:$N$62,3,TRUE)))) -> 2500 | L5: =IF(I5=0,ABS(1/B5)+L4,ABS((B6-B5)/I5)+L4) -> 2.7812221 | M5: =TAN(E5*PI()/180)+M4 -> 0 | N5: =VLOOKUP(K5,RPM!$A$2:$D$62,4,FALSE) -> 14.254 | O5: =VLOOKUP(K5,RPM!$A$2:$D$62,3,FALSE) -> 5 | P5: =N5*0.7457 -> 10.629208 | Q5: {=_xlfn.XLOOKUP(O5,BSFC!$A$2:$A$24,_xlfn.XLOOKUP(K5,BSFC!$B$2:$O$2,BSFC!$B$2:$O$24,,-1),,-1)} -> 570 | R5: =Q5*P5/3600 -> 1.6829579 | S5: =(L5-L4)/3600*P5 -> 0.00091355978 | T5: =S5*Q5 -> 0.52072908 | U5: =U4+T5 -> 2.1130992
A6: =A5+1 -> 5 | B6: =IF(SQRT(B5^2+2*I5)>13.4112,13.4112,SQRT(B5^2+2*I5)) -> 3.5834487 | C6: =Specification!$G$30 -> 109.96225 | D6: =0.5*Specification!$K$4*Track!B6^2*Specification!$K$3*Specification!$K$2 -> 6.6511363 | E6: 0 | F6: =Specification!$C$23*9.81*SIN((E6*PI()/180)) -> 0 | G6: =IF(J6=1,VLOOKUP(K6,RPM!$E$2:$H$62,3,FALSE)-F6-E6-D6,IF(J6=2,VLOOKUP(K6,RPM!$H$2:$K$62,3,FALSE)-F6-E6-D6,IF(J6=3,VLOOKUP(K6,RPM!$K$2:$N$62,3,FALSE)-F6-E6-D6))) -> 1676.8922 | H6: =IF(J6=1,Specification!$I$14,IF(J6=2,Specification!$I$15,IF(J6=3,Specification!$I$16))) -> 590.85611 | I6: =G6/H6 -> 2.838072 | J6: 1 | K6: =IF(J6=1,VLOOKUP(B6,RPM!$F$2:$H$62,3,TRUE),IF(J6=2,VLOOKUP(B6,RPM!$I$2:$K$62,3,TRUE),IF(J6=3,VLOOKUP(B6,RPM!$L$2:$N$62,3,TRUE)))) -> 3200 | L6: =IF(I6=0,ABS(1/B6)+L5,ABS((B7-B6)/I6)+L5) -> 3.0348163 | M6: =TAN(E6*PI()/180)+M5 -> 0 | N6: =VLOOKUP(K6,RPM!$A$2:$D$62,4,FALSE) -> 17.8175 | O6: =VLOOKUP(K6,RPM!$A$2:$D$62,3,FALSE) -> 8 | P6: =N6*0.7457 -> 13.28651 | Q6: {=_xlfn.XLOOKUP(O6,BSFC!$A$2:$A$24,_xlfn.XLOOKUP(K6,BSFC!$B$2:$O$2,BSFC!$B$2:$O$24,,-1),,-1)} -> 430 | R6: =Q6*P6/3600 -> 1.5869998 | S6: =(L6-L5)/3600*P6 -> 0.00093593936 | T6: =S6*Q6 -> 0.40245393 | U6: =U5+T6 -> 2.5155531
A7: =A6+1 -> 6 | B7: =IF(SQRT(B6^2+2*I6)>13.4112,13.4112,SQRT(B6^2+2*I6)) -> 4.3031672 | C7: =Specification!$G$30 -> 109.96225 | D7: =0.5*Specification!$K$4*Track!B7^2*Specification!$K$3*Specification!$K$2 -> 9.5911331 | E7: 0 | F7: =Specification!$C$23*9.81*SIN((E7*PI()/180)) -> 0 | G7: =IF(J7=1,VLOOKUP(K7,RPM!$E$2:$H$62,3,FALSE)-F7-E7-D7,IF(J7=2,VLOOKUP(K7,RPM!$H$2:$K$62,3,FALSE)-F7-E7-D7,IF(J7=3,VLOOKUP(K7,RPM!$K$2:$N$62,3,FALSE)-F7-E7-D7))) -> 1780.2812 | H7: =IF(J7=1,Specification!$I$14,IF(J7=2,Specification!$I$15,IF(J7=3,Specification!$I$16))) -> 590.85611 | I7: =G7/H7 -> 3.0130537 | J7: 1 | K7: =IF(J7=1,VLOOKUP(B7,RPM!$F$2:$H$62,3,TRUE),IF(J7=2,VLOOKUP(B7,RPM!$I$2:$K$62,3,TRUE),IF(J7=3,VLOOKUP(B7,RPM!$L$2:$N$62,3,TRUE)))) -> 3800 | L7: =IF(I7=0,ABS(1/B7)+L6,ABS((B8-B7)/I7)+L6) -> 3.2508622 | M7: =TAN(E7*PI()/180)+M6 -> 0 | N7: =VLOOKUP(K7,RPM!$A$2:$D$62,4,FALSE) -> 18.942816 | O7: =VLOOKUP(K7,RPM!$A$2:$D$62,3,FALSE) -> 10.1 | P7: =N7*0.7457 -> 14.125658 | Q7: {=_xlfn.XLOOKUP(O7,BSFC!$A$2:$A$24,_xlfn.XLOOKUP(K7,BSFC!$B$2:$O$2,BSFC!$B$2:$O$24,,-1),,-1)} -> 360 | R7: =Q7*P7/3600 -> 1.4125658 | S7: =(L7-L6)/3600*P7 -> 0.00084771954 | T7: =S7*Q7 -> 0.30517903 | U7: =U6+T7 -> 2.8207321
A8: =A7+1 -> 7 | B8: =IF(SQRT(B7^2+2*I7)>13.4112,13.4112,SQRT(B7^2+2*I7)) -> 4.9541251 | C8: =Specification!$G$30 -> 109.96225 | D8: =0.5*Specification!$K$4*Track!B8^2*Specification!$K$3*Specification!$K$2 -> 12.712396 | E8: 0 | F8: =Specification!$C$23*9.81*SIN((E8*PI()/180)) -> 0 | G8: =IF(J8=1,VLOOKUP(K8,RPM!$E$2:$H$62,3,FALSE)-F8-E8-D8,IF(J8=2,VLOOKUP(K8,RPM!$H$2:$K$62,3,FALSE)-F8-E8-D8,IF(J8=3,VLOOKUP(K8,RPM!$K$2:$N$62,3,FALSE)-F8-E8-D8))) -> 1777.9655 | H8: =IF(J8=1,Specification!$I$14,IF(J8=2,Specification!$I$15,IF(J8=3,Specification!$I$16))) -> 590.85611 | I8: =G8/H8 -> 3.0091344 | J8: 1 | K8: =IF(J8=1,VLOOKUP(B8,RPM!$F$2:$H$62,3,TRUE),IF(J8=2,VLOOKUP(B8,RPM!$I$2:$K$62,3,TRUE),IF(J8=3,VLOOKUP(B8,RPM!$L$2:$N$62,3,TRUE)))) -> 4400 | L8: =IF(I8=0,ABS(1/B8)+L7,ABS((B9-B8)/I8)+L7) -> 3.4416585 | M8: =TAN(E8*PI()/180)+M7 -> 0 | N8: =VLOOKUP(K8,RPM!$A$2:$D$62,4,FALSE) -> 18.951341 | O8: =VLOOKUP(K8,RPM!$A$2:$D$62,3,FALSE) -> 11.7 | P8: =N8*0.7457 -> 14.132015 | Q8: {=_xlfn.XLOOKUP(O8,BSFC!$A$2:$A$24,_xlfn.XLOOKUP(K8,BSFC!$B$2:$O$2,BSFC!$B$2:$O$24,,-1),,-1)} -> 340 | R8: =Q8*P8/3600 -> 1.3346903 | S8: =(L8-L7)/3600*P8 -> 0.00074898237 | T8: =S8*Q8 -> 0.25465401 | U8: =U7+T8 -> 3.0753862
A9: =A8+1 -> 8 | B9: =IF(SQRT(B8^2+2*I8)>13.4112,13.4112,SQRT(B8^2+2*I8)) -> 5.5282569 | C9: =Specification!$G$30 -> 109.96225 | D9: =0.5*Specification!$K$4*Track!B9^2*Specification!$K$3*Specification!$K$2 -> 15.829599 | E9: 0 | F9: =Specification!$C$23*9.81*SIN((E9*PI()/180)) -> 0 | G9: =IF(J9=1,VLOOKUP(K9,RPM!$E$2:$H$62,3,FALSE)-F9-E9-D9,IF(J9=2,VLOOKUP(K9,RPM!$H$2:$K$62,3,FALSE)-F9-E9-D9,IF(J9=3,VLOOKUP(K9,RPM!$K$2:$N$62,3,FALSE)-F9-E9-D9))) -> 1853.2471 | H9: =IF(J9=1,Specification!$I$14,IF(J9=2,Specification!$I$15,IF(J9=3,Specification!$I$16))) -> 590.85611 | I9: =G9/H9 -> 3.1365454 | J9: 1 | K9: =IF(J9=1,VLOOKUP(B9,RPM!$F$2:$H$62,3,TRUE),IF(J9=2,VLOOKUP(B9,RPM!$I$2:$K$62,3,TRUE),IF(J9=3,VLOOKUP(B9,RPM!$L$2:$N$62,3,TRUE)))) -> 4900 | L9: =IF(I9=0,ABS(1/B9)+L8,ABS((B10-B9)/I9)+L8) -> 3.6141107 | M9: =TAN(E9*PI()/180)+M8 -> 0 | N9: =VLOOKUP(K9,RPM!$A$2:$D$62,4,FALSE) -> 19.781061 | O9: =VLOOKUP(K9,RPM!$A$2:$D$62,3,FALSE) -> 13.6 | P9: =N9*0.7457 -> 14.750737 | Q9: {=_xlfn.XLOOKUP(O9,BSFC!$A$2:$A$24,_xlfn.XLOOKUP(K9,BSFC!$B$2:$O$2,BSFC!$B$2:$O$24,,-1),,-1)} -> 280 | R9: =Q9*P9/3600 -> 1.1472796 | S9: =(L9-L8)/3600*P9 -> 0.00070661022 | T9: =S9*Q9 -> 0.19785086 | U9: =U8+T9 -> 3.273237
A10: =A9+1 -> 9 | B10: =IF(SQRT(B9^2+2*I9)>13.4112,13.4112,SQRT(B9^2+2*I9)) -> 6.069161 | C10: =Specification!$G$30 -> 109.96225 | D10: =0.5*Specification!$K$4*Track!B10^2*Specification!$K$3*Specification!$K$2 -> 19.078788 | E10: 0 | F10: =Specification!$C$23*9.81*SIN((E10*PI()/180)) -> 0 | G10: =IF(J10=1,VLOOKUP(K10,RPM!$E$2:$H$62,3,FALSE)-F10-E10-D10,IF(J10=2,VLOOKUP(K10,RPM!$H$2:$K$62,3,FALSE)-F10-E10-D10,IF(J10=3,VLOOKUP(K10,RPM!$K$2:$N$62,3,FALSE)-F10-E10-D10))) -> 2024.1193 | H10: =IF(J10=1,Specification!$I$14,IF(J10=2,Specification!$I$15,IF(J10=3,Specification!$I$16))) -> 590.85611 | I10: =G10/H10 -> 3.4257397 | J10: 1 | K10: =IF(J10=1,VLOOKUP(B10,RPM!$F$2:$H$62,3,TRUE),IF(J10=2,VLOOKUP(B10,RPM!$I$2:$K$62,3,TRUE),IF(J10=3,VLOOKUP(B10,RPM!$L$2:$N$62,3,TRUE)))) -> 5400 | L10: =IF(I10=0,ABS(1/B10)+L9,ABS((B11-B10)/I10)+L9) -> 3.7718554 | M10: =TAN(E10*PI()/180)+M9 -> 0 | N10: =VLOOKUP(K10,RPM!$A$2:$D$62,4,FALSE) -> 21.623846 | O10: =VLOOKUP(K10,RPM!$A$2:$D$62,3,FALSE) -> 16.384 | P10: =N10*0.7457 -> 16.124902 | Q10: {=_xlfn.XLOOKUP(O10,BSFC!$A$2:$A$24,_xlfn.XLOOKUP(K10,BSFC!$B$2:$O$2,BSFC!$B$2:$O$24,,-1),,-1)} -> 350 | R10: =Q10*P10/3600 -> 1.5676988 | S10: =(L10-L9)/3600*P10 -> 0.00070656051 | T10: =S10*Q10 -> 0.24729618 | U10: =U9+T10 -> 3.5205332
A11: =A10+1 -> 10 | B11: =IF(SQRT(B10^2+2*I10)>13.4112,13.4112,SQRT(B10^2+2*I10)) -> 6.6095533 | C11: =Specification!$G$30 -> 109.96225 | D11: =0.5*Specification!$K$4*Track!B11^2*Specification!$K$3*Specification!$K$2 -> 22.627558 | E11: 0 | F11: =Specification!$C$23*9.81*SIN((E11*PI()/180)) -> 0 | G11: =IF(J11=1,VLOOKUP(K11,RPM!$E$2:$H$62,3,FALSE)-F11-E11-D11,IF(J11=2,VLOOKUP(K11,RPM!$H$2:$K$62,3,FALSE)-F11-E11-D11,IF(J11=3,VLOOKUP(K11,RPM!$K$2:$N$62,3,FALSE)-F11-E11-D11))) -> 1917.2709 | H11: =IF(J11=1,Specification!$I$14,IF(J11=2,Specification!$I$15,IF(J11=3,Specification!$I$16))) -> 590.85611 | I11: =G11/H11 -> 3.2449032 | J11: 1 | K11: =IF(J11=1,VLOOKUP(B11,RPM!$F$2:$H$62,3,TRUE),IF(J11=2,VLOOKUP(B11,RPM!$I$2:$K$62,3,TRUE),IF(J11=3,VLOOKUP(B11,RPM!$L$2:$N$62,3,TRUE)))) -> 5900 | L11: =IF(I11=0,ABS(1/B11)+L10,ABS((B12-B11)/I11)+L10) -> 3.9179148 | M11: =TAN(E11*PI()/180)+M10 -> 0 | N11: =VLOOKUP(K11,RPM!$A$2:$D$62,4,FALSE) -> 20.530592 | O11: =VLOOKUP(K11,RPM!$A$2:$D$62,3,FALSE) -> 16.996 | P11: =N11*0.7457 -> 15.309662 | Q11: {=_xlfn.XLOOKUP(O11,BSFC!$A$2:$A$24,_xlfn.XLOOKUP(K11,BSFC!$B$2:$O$2,BSFC!$B$2:$O$24,,-1),,-1)} -> 350 | R11: =Q11*P11/3600 -> 1.4884394 | S11: =(L11-L10)/3600*P11 -> 0.00062114464 | T11: =S11*Q11 -> 0.21740062 | U11: =U10+T11 -> 3.7379338
A12: =A11+1 -> 11 | B12: =IF(SQRT(B11^2+2*I11)>13.4112,13.4112,SQRT(B11^2+2*I11)) -> 7.0835021 | C12: =Specification!$G$30 -> 109.96225 | D12: =0.5*Specification!$K$4*Track!B12^2*Specification!$K$3*Specification!$K$2 -> 25.988997 | E12: 0 | F12: =Specification!$C$23*9.81*SIN((E12*PI()/180)) -> 0 | G12: =IF(J12=1,VLOOKUP(K12,RPM!$E$2:$H$62,3,FALSE)-F12-E12-D12,IF(J12=2,VLOOKUP(K12,RPM!$H$2:$K$62,3,FALSE)-F12-E12-D12,IF(J12=3,VLOOKUP(K12,RPM!$K$2:$N$62,3,FALSE)-F12-E12-D12))) -> 1855.3038 | H12: =IF(J12=1,Specification!$I$14,IF(J12=2,Specification!$I$15,IF(J12=3,Specification!$I$16))) -> 590.85611 | I12: =G12/H12 -> 3.1400265 | J12: 1 | K12: =IF(J12=1,VLOOKUP(B12,RPM!$F$2:$H$62,3,TRUE),IF(J12=2,VLOOKUP(B12,RPM!$I$2:$K$62,3,TRUE),IF(J12=3,VLOOKUP(B12,RPM!$L$2:$N$62,3,TRUE)))) -> 6300 | L12: =IF(I12=0,ABS(1/B12)+L11,ABS((B13-B12)/I12)+L11) -> 4.0549272 | M12: =TAN(E12*PI()/180)+M11 -> 0 | N12: =VLOOKUP(K12,RPM!$A$2:$D$62,4,FALSE) -> 19.910349 | O12: =VLOOKUP(K12,RPM!$A$2:$D$62,3,FALSE) -> 17.6 | P12: =N12*0.7457 -> 14.847147 | Q12: {=_xlfn.XLOOKUP(O12,BSFC!$A$2:$A$24,_xlfn.XLOOKUP(K12,BSFC!$B$2:$O$2,BSFC!$B$2:$O$24,,-1),,-1)} -> 360 | R12: =Q12*P12/3600 -> 1.4847147 | S12: =(L12-L11)/3600*P12 -> 0.00056506729 | T12: =S12*Q12 -> 0.20342423 | U12: =U11+T12 -> 3.941358
A13: =A12+1 -> 12 | B13: =IF(SQRT(B12^2+2*I12)>13.4112,13.4112,SQRT(B12^2+2*I12)) -> 7.5137244 | C13: =Specification!$G$30 -> 109.96225 | D13: =0.5*Specification!$K$4*Track!B13^2*Specification!$K$3*Specification!$K$2 -> 29.241792 | E13: 0 | F13: =Specification!$C$23*9.81*SIN((E13*PI()/180)) -> 0 | G13: =IF(J13=1,VLOOKUP(K13,RPM!$E$2:$H$62,3,FALSE)-F13-E13-D13,IF(J13=2,VLOOKUP(K13,RPM!$H$2:$K$62,3,FALSE)-F13-E13-D13,IF(J13=3,VLOOKUP(K13,RPM!$K$2:$N$62,3,FALSE)-F13-E13-D13))) -> 1578.919 | H13: =IF(J13=1,Specification!$I$14,IF(J13=2,Specification!$I$15,IF(J13=3,Specification!$I$16))) -> 590.85611 | I13: =G13/H13 -> 2.6722563 | J13: 1 | K13: =IF(J13=1,VLOOKUP(B13,RPM!$F$2:$H$62,3,TRUE),IF(J13=2,VLOOKUP(B13,RPM!$I$2:$K$62,3,TRUE),IF(J13=3,VLOOKUP(B13,RPM!$L$2:$N$62,3,TRUE)))) -> 6700 | L13: =IF(I13=0,ABS(1/B13)+L12,ABS((B14-B13)/I13)+L12) -> 4.185008 | M13: =TAN(E13*PI()/180)+M12 -> 0 | N13: =VLOOKUP(K13,RPM!$A$2:$D$62,4,FALSE) -> 17.019701 | O13: =VLOOKUP(K13,RPM!$A$2:$D$62,3,FALSE) -> 16 | P13: =N13*0.7457 -> 12.691591 | Q13: {=_xlfn.XLOOKUP(O13,BSFC!$A$2:$A$24,_xlfn.XLOOKUP(K13,BSFC!$B$2:$O$2,BSFC!$B$2:$O$24,,-1),,-1)} -> 350 | R13: =Q13*P13/3600 -> 1.2339047 | S13: =(L13-L12)/3600*P13 -> 0.00045859236 | T13: =S13*Q13 -> 0.16050732 | U13: =U12+T13 -> 4.1018654
A14: =A13+1 -> 13 | B14: =IF(SQRT(B13^2+2*I13)>13.4112,13.4112,SQRT(B13^2+2*I13)) -> 7.8613337 | C14: =Specification!$G$30 -> 109.96225 | D14: =0.5*Specification!$K$4*Track!B14^2*Specification!$K$3*Specification!$K$2 -> 32.010019 | E14: 0 | F14: =Specification!$C$23*9.81*SIN((E14*PI()/180)) -> 0 | G14: =IF(J14=1,VLOOKUP(K14,RPM!$E$2:$H$62,3,FALSE)-F14-E14-D14,IF(J14=2,VLOOKUP(K14,RPM!$H$2:$K$62,3,FALSE)-F14-E14-D14,IF(J14=3,VLOOKUP(K14,RPM!$K$2:$N$62,3,FALSE)-F14-E14-D14))) -> 881.91349 | H14: =IF(J14=1,Specification!$I$14,IF(J14=2,Specification!$I$15,IF(J14=3,Specification!$I$16))) -> 580.58319 | I14: =G14/H14 -> 1.5190131 | J14: 2 | K14: =IF(J14=1,VLOOKUP(B14,RPM!$F$2:$H$62,3,TRUE),IF(J14=2,VLOOKUP(B14,RPM!$I$2:$K$62,3,TRUE),IF(J14=3,VLOOKUP(B14,RPM!$L$2:$N$62,3,TRUE)))) -> 3500 | L14: =IF(I14=0,ABS(1/B14)+L13,ABS((B15-B14)/I14)+L13) -> 4.3106868 | M14: =TAN(E14*PI()/180)+M13 -> 0 | N14: =VLOOKUP(K14,RPM!$A$2:$D$62,4,FALSE) -> 19.344714 | O14: =VLOOKUP(K14,RPM!$A$2:$D$62,3,FALSE) -> 9.5 | P14: =N14*0.7457 -> 14.425353 | Q14: {=_xlfn.XLOOKUP(O14,BSFC!$A$2:$A$24,_xlfn.XLOOKUP(K14,BSFC!$B$2:$O$2,BSFC!$B$2:$O$24,,-1),,-1)} -> 400 | R14: =Q14*P14/3600 -> 1.602817 | S14: =(L14-L13)/3600*P14 -> 0.00050360055 | T14: =S14*Q14 -> 0.20144022 | U14: =U13+T14 -> 4.3033056
... A54: =A53+1 -> 53 | B54: =IF(SQRT(B53^2+2*I53)>13.4112,13.4112,SQRT(B53^2+2*I53)) -> 13.4112 | C54: =Specification!$G$30 -> 109.96225 | D54: =0.5*Specification!$K$4*Track!B54^2*Specification!$K$3*Specification!$K$2 -> 93.159843 | E54: 0 | F54: =Specification!$C$23*9.81*SIN((E54*PI()/180)) -> 0 | G54: =IF(J54=1,VLOOKUP(K54,RPM!$E$2:$H$62,3,FALSE)-F54-E54-D54,IF(J54=2,VLOOKUP(K54,RPM!$H$2:$K$62,3,FALSE)-F54-E54-D54,IF(J54=3,VLOOKUP(K54,RPM!$K$2:$N$62,3,FALSE)-F54-E54-D54))) -> 529.75118 | H54: =IF(J54=1,Specification!$I$14,IF(J54=2,Specification!$I$15,IF(J54=3,Specification!$I$16))) -> 578.83679 | I54: =G54/H54 -> 0.91519957 | J54: 3 | K54: =IF(J54=1,VLOOKUP(B54,RPM!$F$2:$H$62,3,TRUE),IF(J54=2,VLOOKUP(B54,RPM!$I$2:$K$62,3,TRUE),IF(J54=3,VLOOKUP(B54,RPM!$L$2:$N$62,3,TRUE)))) -> 4200 | L54: =IF(I54=0,ABS(1/B54)+L53,ABS((B55-B54)/I54)+L53) -> 7.8926627 | M54: =TAN(E54*PI()/180)+M53 -> 0 | N54: =VLOOKUP(K54,RPM!$A$2:$D$62,4,FALSE) -> 18.835643 | O54: =VLOOKUP(K54,RPM!$A$2:$D$62,3,FALSE) -> 11.1 | P54: =N54*0.7457 -> 14.045739 | Q54: {=_xlfn.XLOOKUP(O54,BSFC!$A$2:$A$24,_xlfn.XLOOKUP(K54,BSFC!$B$2:$O$2,BSFC!$B$2:$O$24,,-1),,-1)} -> 340 | R54: =Q54*P54/3600 -> 1.326542 | S54: =(L54-L53)/3600*P54 -> 0 | T54: =S54*Q54 -> 0 | U54: =U53+T54 -> 9.2642223
A55: =A54+1 -> 54 | B55: =IF(SQRT(B54^2+2*I54)>13.4112,13.4112,SQRT(B54^2+2*I54)) -> 13.4112 | C55: =Specification!$G$30 -> 109.96225 | D55: =0.5*Specification!$K$4*Track!B55^2*Specification!$K$3*Specification!$K$2 -> 93.159843 | E55: 0 | F55: =Specification!$C$23*9.81*SIN((E55*PI()/180)) -> 0 | G55: =IF(J55=1,VLOOKUP(K55,RPM!$E$2:$H$62,3,FALSE)-F55-E55-D55,IF(J55=2,VLOOKUP(K55,RPM!$H$2:$K$62,3,FALSE)-F55-E55-D55,IF(J55=3,VLOOKUP(K55,RPM!$K$2:$N$62,3,FALSE)-F55-E55-D55))) -> 529.75118 | H55: =IF(J55=1,Specification!$I$14,IF(J55=2,Specification!$I$15,IF(J55=3,Specification!$I$16))) -> 578.83679 | I55: 0 | J55: 3 | K55: =IF(J55=1,VLOOKUP(B55,RPM!$F$2:$H$62,3,TRUE),IF(J55=2,VLOOKUP(B55,RPM!$I$2:$K$62,3,TRUE),IF(J55=3,VLOOKUP(B55,RPM!$L$2:$N$62,3,TRUE)))) -> 4200 | L55: =IF(I55=0,ABS(1/B55)+L54,ABS((B56-B55)/I55)+L54) -> 7.9672272 | M55: =TAN(E55*PI()/180)+M54 -> 0 | N55: =VLOOKUP(K55,RPM!$A$2:$D$62,4,FALSE) -> 18.835643 | O55: =VLOOKUP(K55,RPM!$A$2:$D$62,3,FALSE) -> 11.1 | P55: =N55*0.7457 -> 14.045739 | Q55: {=_xlfn.XLOOKUP(O55,BSFC!$A$2:$A$24,_xlfn.XLOOKUP(K55,BSFC!$B$2:$O$2,BSFC!$B$2:$O$24,,-1),,-1)} -> 340 | R55: =Q55*P55/3600 -> 1.326542 | S55: =(L55-L54)/3600*P55 -> 0.00029092058 | T55: =S55*Q55 -> 0.098912998 | U55: =U54+T55 -> 9.3631353
A56: =A55+1 -> 55 | B56: =IF(SQRT(B55^2+2*I55)>13.4112,13.4112,SQRT(B55^2+2*I55)) -> 13.4112 | C56: =Specification!$G$30 -> 109.96225 | D56: =0.5*Specification!$K$4*Track!B56^2*Specification!$K$3*Specification!$K$2 -> 93.159843 | E56: 0 | F56: =Specification!$C$23*9.81*SIN((E56*PI()/180)) -> 0 | G56: =IF(J56=1,VLOOKUP(K56,RPM!$E$2:$H$62,3,FALSE)-F56-E56-D56,IF(J56=2,VLOOKUP(K56,RPM!$H$2:$K$62,3,FALSE)-F56-E56-D56,IF(J56=3,VLOOKUP(K56,RPM!$K$2:$N$62,3,FALSE)-F56-E56-D56))) -> 529.75118 | H56: =IF(J56=1,Specification!$I$14,IF(J56=2,Specification!$I$15,IF(J56=3,Specification!$I$16))) -> 578.83679 | I56: 0 | J56: 3 | K56: =IF(J56=1,VLOOKUP(B56,RPM!$F$2:$H$62,3,TRUE),IF(J56=2,VLOOKUP(B56,RPM!$I$2:$K$62,3,TRUE),IF(J56=3,VLOOKUP(B56,RPM!$L$2:$N$62,3,TRUE)))) -> 4200 | L56: =IF(I56=0,ABS(1/B56)+L55,ABS((B57-B56)/I56)+L55) -> 8.0417918 | M56: =TAN(E56*PI()/180)+M55 -> 0 | N56: =VLOOKUP(K56,RPM!$A$2:$D$62,4,FALSE) -> 18.835643 | O56: =VLOOKUP(K56,RPM!$A$2:$D$62,3,FALSE) -> 11.1 | P56: =N56*0.7457 -> 14.045739 | Q56: {=_xlfn.XLOOKUP(O56,BSFC!$A$2:$A$24,_xlfn.XLOOKUP(K56,BSFC!$B$2:$O$2,BSFC!$B$2:$O$24,,-1),,-1)} -> 340 | R56: =Q56*P56/3600 -> 1.326542 | S56: =(L56-L55)/3600*P56 -> 0.00029092058 | T56: =S56*Q56 -> 0.098912998 | U56: =U55+T56 -> 9.4620483
A57: =A56+1 -> 56 | B57: =IF(SQRT(B56^2+2*I56)>13.4112,13.4112,SQRT(B56^2+2*I56)) -> 13.4112 | C57: =Specification!$G$30 -> 109.96225 | D57: =0.5*Specification!$K$4*Track!B57^2*Specification!$K$3*Specification!$K$2 -> 93.159843 | E57: 0 | F57: =Specification!$C$23*9.81*SIN((E57*PI()/180)) -> 0 | G57: =IF(J57=1,VLOOKUP(K57,RPM!$E$2:$H$62,3,FALSE)-F57-E57-D57,IF(J57=2,VLOOKUP(K57,RPM!$H$2:$K$62,3,FALSE)-F57-E57-D57,IF(J57=3,VLOOKUP(K57,RPM!$K$2:$N$62,3,FALSE)-F57-E57-D57))) -> 529.75118 | H57: =IF(J57=1,Specification!$I$14,IF(J57=2,Specification!$I$15,IF(J57=3,Specification!$I$16))) -> 578.83679 | I57: 0 | J57: 3 | K57: =IF(J57=1,VLOOKUP(B57,RPM!$F$2:$H$62,3,TRUE),IF(J57=2,VLOOKUP(B57,RPM!$I$2:$K$62,3,TRUE),IF(J57=3,VLOOKUP(B57,RPM!$L$2:$N$62,3,TRUE)))) -> 4200 | L57: =IF(I57=0,ABS(1/B57)+L56,ABS((B58-B57)/I57)+L56) -> 8.1163563 | M57: =TAN(E57*PI()/180)+M56 -> 0 | N57: =VLOOKUP(K57,RPM!$A$2:$D$62,4,FALSE) -> 18.835643 | O57: =VLOOKUP(K57,RPM!$A$2:$D$62,3,FALSE) -> 11.1 | P57: =N57*0.7457 -> 14.045739 | Q57: {=_xlfn.XLOOKUP(O57,BSFC!$A$2:$A$24,_xlfn.XLOOKUP(K57,BSFC!$B$2:$O$2,BSFC!$B$2:$O$24,,-1),,-1)} -> 340 | R57: =Q57*P57/3600 -> 1.326542 | S57: =(L57-L56)/3600*P57 -> 0.00029092058 | T57: =S57*Q57 -> 0.098912998 | U57: =U56+T57 -> 9.5609613
A58: =A57+1 -> 57 | B58: =IF(SQRT(B57^2+2*I57)>13.4112,13.4112,SQRT(B57^2+2*I57)) -> 13.4112 | C58: =Specification!$G$30 -> 109.96225 | D58: =0.5*Specification!$K$4*Track!B58^2*Specification!$K$3*Specification!$K$2 -> 93.159843 | E58: 0 | F58: =Specification!$C$23*9.81*SIN((E58*PI()/180)) -> 0 | G58: =IF(J58=1,VLOOKUP(K58,RPM!$E$2:$H$62,3,FALSE)-F58-E58-D58,IF(J58=2,VLOOKUP(K58,RPM!$H$2:$K$62,3,FALSE)-F58-E58-D58,IF(J58=3,VLOOKUP(K58,RPM!$K$2:$N$62,3,FALSE)-F58-E58-D58))) -> 529.75118 | H58: =IF(J58=1,Specification!$I$14,IF(J58=2,Specification!$I$15,IF(J58=3,Specification!$I$16))) -> 578.83679 | I58: 0 | J58: 3 | K58: =IF(J58=1,VLOOKUP(B58,RPM!$F$2:$H$62,3,TRUE),IF(J58=2,VLOOKUP(B58,RPM!$I$2:$K$62,3,TRUE),IF(J58=3,VLOOKUP(B58,RPM!$L$2:$N$62,3,TRUE)))) -> 4200 | L58: =IF(I58=0,ABS(1/B58)+L57,ABS((B59-B58)/I58)+L57) -> 8.1909209 | M58: =TAN(E58*PI()/180)+M57 -> 0 | N58: =VLOOKUP(K58,RPM!$A$2:$D$62,4,FALSE) -> 18.835643 | O58: =VLOOKUP(K58,RPM!$A$2:$D$62,3,FALSE) -> 11.1 | P58: =N58*0.7457 -> 14.045739 | Q58: {=_xlfn.XLOOKUP(O58,BSFC!$A$2:$A$24,_xlfn.XLOOKUP(K58,BSFC!$B$2:$O$2,BSFC!$B$2:$O$24,,-1),,-1)} -> 340 | R58: =Q58*P58/3600 -> 1.326542 | S58: =(L58-L57)/3600*P58 -> 0.00029092058 | T58: =S58*Q58 -> 0.098912998 | U58: =U57+T58 -> 9.6598743
A59: =A58+1 -> 58 | B59: =IF(SQRT(B58^2+2*I58)>13.4112,13.4112,SQRT(B58^2+2*I58)) -> 13.4112 | C59: =Specification!$G$30 -> 109.96225 | D59: =0.5*Specification!$K$4*Track!B59^2*Specification!$K$3*Specification!$K$2 -> 93.159843 | E59: 0 | F59: =Specification!$C$23*9.81*SIN((E59*PI()/180)) -> 0 | G59: =IF(J59=1,VLOOKUP(K59,RPM!$E$2:$H$62,3,FALSE)-F59-E59-D59,IF(J59=2,VLOOKUP(K59,RPM!$H$2:$K$62,3,FALSE)-F59-E59-D59,IF(J59=3,VLOOKUP(K59,RPM!$K$2:$N$62,3,FALSE)-F59-E59-D59))) -> 529.75118 | H59: =IF(J59=1,Specification!$I$14,IF(J59=2,Specification!$I$15,IF(J59=3,Specification!$I$16))) -> 578.83679 | I59: 0 | J59: 3 | K59: =IF(J59=1,VLOOKUP(B59,RPM!$F$2:$H$62,3,TRUE),IF(J59=2,VLOOKUP(B59,RPM!$I$2:$K$62,3,TRUE),IF(J59=3,VLOOKUP(B59,RPM!$L$2:$N$62,3,TRUE)))) -> 4200 | L59: =IF(I59=0,ABS(1/B59)+L58,ABS((B60-B59)/I59)+L58) -> 8.2654854 | M59: =TAN(E59*PI()/180)+M58 -> 0 | N59: =VLOOKUP(K59,RPM!$A$2:$D$62,4,FALSE) -> 18.835643 | O59: =VLOOKUP(K59,RPM!$A$2:$D$62,3,FALSE) -> 11.1 | P59: =N59*0.7457 -> 14.045739 | Q59: {=_xlfn.XLOOKUP(O59,BSFC!$A$2:$A$24,_xlfn.XLOOKUP(K59,BSFC!$B$2:$O$2,BSFC!$B$2:$O$24,,-1),,-1)} -> 340 | R59: =Q59*P59/3600 -> 1.326542 | S59: =(L59-L58)/3600*P59 -> 0.00029092058 | T59: =S59*Q59 -> 0.098912998 | U59: =U58+T59 -> 9.7587873
A60: =A59+1 -> 59 | B60: =IF(SQRT(B59^2+2*I59)>13.4112,13.4112,SQRT(B59^2+2*I59)) -> 13.4112 | C60: =Specification!$G$30 -> 109.96225 | D60: =0.5*Specification!$K$4*Track!B60^2*Specification!$K$3*Specification!$K$2 -> 93.159843 | E60: 0 | F60: =Specification!$C$23*9.81*SIN((E60*PI()/180)) -> 0 | G60: =IF(J60=1,VLOOKUP(K60,RPM!$E$2:$H$62,3,FALSE)-F60-E60-D60,IF(J60=2,VLOOKUP(K60,RPM!$H$2:$K$62,3,FALSE)-F60-E60-D60,IF(J60=3,VLOOKUP(K60,RPM!$K$2:$N$62,3,FALSE)-F60-E60-D60))) -> 529.75118 | H60: =IF(J60=1,Specification!$I$14,IF(J60=2,Specification!$I$15,IF(J60=3,Specification!$I$16))) -> 578.83679 | I60: 0 | J60: 3 | K60: =IF(J60=1,VLOOKUP(B60,RPM!$F$2:$H$62,3,TRUE),IF(J60=2,VLOOKUP(B60,RPM!$I$2:$K$62,3,TRUE),IF(J60=3,VLOOKUP(B60,RPM!$L$2:$N$62,3,TRUE)))) -> 4200 | L60: =IF(I60=0,ABS(1/B60)+L59,ABS((B61-B60)/I60)+L59) -> 8.34005 | M60: =TAN(E60*PI()/180)+M59 -> 0 | N60: =VLOOKUP(K60,RPM!$A$2:$D$62,4,FALSE) -> 18.835643 | O60: =VLOOKUP(K60,RPM!$A$2:$D$62,3,FALSE) -> 11.1 | P60: =N60*0.7457 -> 14.045739 | Q60: {=_xlfn.XLOOKUP(O60,BSFC!$A$2:$A$24,_xlfn.XLOOKUP(K60,BSFC!$B$2:$O$2,BSFC!$B$2:$O$24,,-1),,-1)} -> 340 | R60: =Q60*P60/3600 -> 1.326542 | S60: =(L60-L59)/3600*P60 -> 0.00029092058 | T60: =S60*Q60 -> 0.098912998 | U60: =U59+T60 -> 9.8577003
A61: =A60+1 -> 60 | B61: =IF(SQRT(B60^2+2*I60)>13.4112,13.4112,SQRT(B60^2+2*I60)) -> 13.4112 | C61: =Specification!$G$30 -> 109.96225 | D61: =0.5*Specification!$K$4*Track!B61^2*Specification!$K$3*Specification!$K$2 -> 93.159843 | E61: 0 | F61: =Specification!$C$23*9.81*SIN((E61*PI()/180)) -> 0 | G61: =IF(J61=1,VLOOKUP(K61,RPM!$E$2:$H$62,3,FALSE)-F61-E61-D61,IF(J61=2,VLOOKUP(K61,RPM!$H$2:$K$62,3,FALSE)-F61-E61-D61,IF(J61=3,VLOOKUP(K61,RPM!$K$2:$N$62,3,FALSE)-F61-E61-D61))) -> 529.75118 | H61: =IF(J61=1,Specification!$I$14,IF(J61=2,Specification!$I$15,IF(J61=3,Specification!$I$16))) -> 578.83679 | I61: 0 | J61: 3 | K61: =IF(J61=1,VLOOKUP(B61,RPM!$F$2:$H$62,3,TRUE),IF(J61=2,VLOOKUP(B61,RPM!$I$2:$K$62,3,TRUE),IF(J61=3,VLOOKUP(B61,RPM!$L$2:$N$62,3,TRUE)))) -> 4200 | L61: =IF(I61=0,ABS(1/B61)+L60,ABS((B62-B61)/I61)+L60) -> 8.4146145 | M61: =TAN(E61*PI()/180)+M60 -> 0 | N61: =VLOOKUP(K61,RPM!$A$2:$D$62,4,FALSE) -> 18.835643 | O61: =VLOOKUP(K61,RPM!$A$2:$D$62,3,FALSE) -> 11.1 | P61: =N61*0.7457 -> 14.045739 | Q61: {=_xlfn.XLOOKUP(O61,BSFC!$A$2:$A$24,_xlfn.XLOOKUP(K61,BSFC!$B$2:$O$2,BSFC!$B$2:$O$24,,-1),,-1)} -> 340 | R61: =Q61*P61/3600 -> 1.326542 | S61: =(L61-L60)/3600*P61 -> 0.00029092058 | T61: =S61*Q61 -> 0.098912998 | U61: =U60+T61 -> 9.9566133
A62: =A61+1 -> 61 | B62: =IF(SQRT(B61^2+2*I61)>13.4112,13.4112,SQRT(B61^2+2*I61)) -> 13.4112 | C62: =Specification!$G$30 -> 109.96225 | D62: =0.5*Specification!$K$4*Track!B62^2*Specification!$K$3*Specification!$K$2 -> 93.159843 | E62: 0 | F62: =Specification!$C$23*9.81*SIN((E62*PI()/180)) -> 0 | G62: =IF(J62=1,VLOOKUP(K62,RPM!$E$2:$H$62,3,FALSE)-F62-E62-D62,IF(J62=2,VLOOKUP(K62,RPM!$H$2:$K$62,3,FALSE)-F62-E62-D62,IF(J62=3,VLOOKUP(K62,RPM!$K$2:$N$62,3,FALSE)-F62-E62-D62))) -> 529.75118 | H62: =IF(J62=1,Specification!$I$14,IF(J62=2,Specification!$I$15,IF(J62=3,Specification!$I$16))) -> 578.83679 | I62: 0 | J62: 3 | K62: =IF(J62=1,VLOOKUP(B62,RPM!$F$2:$H$62,3,TRUE),IF(J62=2,VLOOKUP(B62,RPM!$I$2:$K$62,3,TRUE),IF(J62=3,VLOOKUP(B62,RPM!$L$2:$N$62,3,TRUE)))) -> 4200 | L62: =IF(I62=0,ABS(1/B62)+L61,ABS((B63-B62)/I62)+L61) -> 8.489179 | M62: =TAN(E62*PI()/180)+M61 -> 0 | N62: =VLOOKUP(K62,RPM!$A$2:$D$62,4,FALSE) -> 18.835643 | O62: =VLOOKUP(K62,RPM!$A$2:$D$62,3,FALSE) -> 11.1 | P62: =N62*0.7457 -> 14.045739 | Q62: {=_xlfn.XLOOKUP(O62,BSFC!$A$2:$A$24,_xlfn.XLOOKUP(K62,BSFC!$B$2:$O$2,BSFC!$B$2:$O$24,,-1),,-1)} -> 340 | R62: =Q62*P62/3600 -> 1.326542 | S62: =(L62-L61)/3600*P62 -> 0.00029092058 | T62: =S62*Q62 -> 0.098912998 | U62: =U61+T62 -> 10.055526
A63: =A62+1 -> 62 | B63: =IF(SQRT(B62^2+2*I62)>13.4112,13.4112,SQRT(B62^2+2*I62)) -> 13.4112 | C63: =Specification!$G$30 -> 109.96225 | D63: =0.5*Specification!$K$4*Track!B63^2*Specification!$K$3*Specification!$K$2 -> 93.159843 | E63: 0 | F63: =Specification!$C$23*9.81*SIN((E63*PI()/180)) -> 0 | G63: =IF(J63=1,VLOOKUP(K63,RPM!$E$2:$H$62,3,FALSE)-F63-E63-D63,IF(J63=2,VLOOKUP(K63,RPM!$H$2:$K$62,3,FALSE)-F63-E63-D63,IF(J63=3,VLOOKUP(K63,RPM!$K$2:$N$62,3,FALSE)-F63-E63-D63))) -> 529.75118 | H63: =IF(J63=1,Specification!$I$14,IF(J63=2,Specification!$I$15,IF(J63=3,Specification!$I$16))) -> 578.83679 | I63: 0 | J63: 3 | K63: =IF(J63=1,VLOOKUP(B63,RPM!$F$2:$H$62,3,TRUE),IF(J63=2,VLOOKUP(B63,RPM!$I$2:$K$62,3,TRUE),IF(J63=3,VLOOKUP(B63,RPM!$L$2:$N$62,3,TRUE)))) -> 4200 | L63: =IF(I63=0,ABS(1/B63)+L62,ABS((B64-B63)/I63)+L62) -> 8.5637436 | M63: =TAN(E63*PI()/180)+M62 -> 0 | N63: =VLOOKUP(K63,RPM!$A$2:$D$62,4,FALSE) -> 18.835643 | O63: =VLOOKUP(K63,RPM!$A$2:$D$62,3,FALSE) -> 11.1 | P63: =N63*0.7457 -> 14.045739 | Q63: {=_xlfn.XLOOKUP(O63,BSFC!$A$2:$A$24,_xlfn.XLOOKUP(K63,BSFC!$B$2:$O$2,BSFC!$B$2:$O$24,,-1),,-1)} -> 340 | R63: =Q63*P63/3600 -> 1.326542 | S63: =(L63-L62)/3600*P63 -> 0.00029092058 | T63: =S63*Q63 -> 0.098912998 | U63: =U62+T63 -> 10.154439
