Workbook

Sheet Specification
B1: Specification
B2: Engine CC | C2: 278 | E2: Gear Ratios | J2: Frontal Area | K2: =L17 -> 1.6912872
B3: Power (hp) | C3: 18 | E3: 1st | F3: 8 | G3: 80 | H3: =G3/F3 -> 10 | J3: cd | K3: 0.5
B4: Torque at 5500 rpm (Nm) | C4: 22 | E4: 2nd | F4: 10 | G4: 50 | H4: =G4/F4 -> 5 | J4: rho (kg/m^3) | K4: 1.225
B5: Top Speed (mph) | C5: 30 | E5: 3rd | F5: 12 | G5: 36 | H5: 3.5
B6: Length (m) | C6: 2.62 | E6: Final Drive | H6: 3
B7: Width (m) | C7: 1.65
B8: Height (m) | C8: 1.62 | E8: Drive Torque at Shaft (Nm) | F8: =C4*H3*0.97 -> 213.4 | J8: Max Angle of ascent | K8: =ASIN(F10/(C23*9.81))*180/PI() -> 21.514706
B9: Vehicle Mass (kg) | C9: 365 | E9: Drive Torque at Rear Wheel (Nm) | F9: =F8*H6 -> 640.2
B10: Ground Clearance (m) | C10: 0.3 | E10: Force (N) | F10: =F9/C17 -> 2016.378
B11: Tank Size (l) | C11: 29 | E11: Max Velocity (m/s) | F11: 13.4
B12: Petrol Mass (kg/l) | C12: 0.74 | E12: Max Accel (m/s-2) | F12: =F10/C23 -> 3.5977196
B13: Fuel Mass (kg) | C13: =C11*C12 -> 21.46 | E13: Max Deccel (Max Accelx1.2) | F13: =-F12*1.2 -> -4.3172636 | H13: Equivalent Mass | K13: Vehicle Area
B14: Driver+Passenger + Gear Mass (kg) | C14: 174 | H14: 1st gear | I14: =C23+(2*F18/C21+2*F17/C22)+F19*(H3^2/F18) -> 590.85611 | K14: Occupied Space | L14: =C8*C7 -> 2.673
B15: Rear Tyre Mass (kg)25x10x12 | C15: 9.3 | H15: 2nd gear | I15: =C23+(2*F18/C21+2*F17/C22)+F19*(H4^2/F18) -> 580.58319 | K15: Clearance Area | L15: =C10*(C7-2*C26) -> 0.3426
B16: Rear Wheel Mass (kg) | C16: 5.9 | E16: Inertia | H16: 3rd Gear | I16: =C23+(2*F18/C21+2*F17/C22)+F19*(H5^2/F18) -> 578.83679 | K16: Free Space | L16: =(C8-(2*C20))*(C26+0.1016)*2 -> 0.63911277
B17: Rear Tyre Radius (m) | C17: 0.3175 | E17: Front Wheels | F17: =C25*C22^2 -> 1.3004088 | K17: Frontal Area | L17: =L14-L16-L15 -> 1.6912872
B18: Front Tyre Mass (kg) | C18: 6.441012 | E18: Rear Wheels | F18: =C24*C21^2 -> 1.2411266
B19: Front Wheel Mass (kg) | C19: 5.9 | E19: Engine | F19: 0.17
B20: Front Tyre Radius (m) | C20: 0.36068
B21: k(rear) = 0.9r | C21: =C17*0.9 -> 0.28575
B22: k(front) = 0.9r | C22: =C20*0.9 -> 0.324612
B23: Total Mass(kg) | C23: =C13+C14+C9 -> 560.46
B24: Total Rear Wheel Mass (kg) | C24: =C16+C15 -> 15.2
B25: Total Front Wheel Mass (kg) | C25: =C19+C18 -> 12.341012
B26: Wheel Width (m) | C26: 0.254 | E26: Rolling Resistances | G26: Forces
E27: Long Grass | F27: 0.09 | G27: =$C$23*9.81*F27 -> 494.83013
E28: Short Grass | F28: 0.07 | G28: =$C$23*9.81*F28 -> 384.86788
E29: Dry Earth Road | F29: 0.03 | G29: =$C$23*9.81*F29 -> 164.94338
E30: Dry Asphalt | F30: 0.02 | G30: =$C$23*9.81*F30 -> 109.96225
E31: Wet Asphalt | F31: 0.024 | G31: =$C$23*9.81*F31 -> 131.9547
E32: Wet Earth Road | F32: 0.04 | G32: =$C$23*9.81*F32 -> 219.9245
E33: Gravel | F33: 0.02 | G33: =$C$23*9.81*F33 -> 109.96225
E34: Sand | F34: 0.2 | G34: =$C$23*9.81*F34 -> 1099.6225

Sheet RPM
A1: RPM | B1: Power | C1: Power | D1: Torque | F1: Speed 1st | G1: Force 1st | I1: Speed 2nd | J1: Force 2nd | L1: Speed 3rd | M1: Force 3rd
A2: 1000 | B2: 0.8 | C2: 0.8 | D2: =C2*7127/A2 -> 5.7016 | E2: 1000 | F2: =A2/(60*Specification!$H$3*Specification!$H$6)*2*PI()*Specification!$C$17 -> 1.1082841 | G2: =D2*Specification!$H$3*Specification!$H$6/Specification!$C$17 -> 538.73386 | H2: 1000 | I2: =A2/(60*Specification!$H$4*Specification!$H$6)*2*PI()*Specification!$C$17 -> 2.2165682 | J2: =D2*Specification!$H$4*Specification!$H$6/Specification!$C$17 -> 269.36693 | K2: 1000 | L2: =A2/(60*Specification!$H$5*Specification!$H$6)*2*PI()*Specification!$C$17 -> 3.1665259 | M2: =D2*Specification!$H$5*Specification!$H$6/Specification!$C$17 -> 188.55685 | N2: 1000
A3: =A2+100 -> 1100 | C3: 1.04 | D3: =C3*7127/A3 -> 6.7382545 | E3: =E2+100 -> 1100 | F3: =A3/(60*Specification!$H$3*Specification!$H$6)*2*PI()*Specification!$C$17 -> 1.2191125 | G3: =D3*Specification!$H$3*Specification!$H$6/Specification!$C$17 -> 636.68547 | H3: =H2+100 -> 1100 | I3: =A3/(60*Specification!$H$4*Specification!$H$6)*2*PI()*Specification!$C$17 -> 2.438225 | J3: =D3*Specification!$H$4*Specification!$H$6/Specification!$C$17 -> 318.34273 | K3: =K2+100 -> 1100 | L3: =A3/(60*Specification!$H$5*Specification!$H$6)*2*PI()*Specification!$C$17 -> 3.4831785 | M3: =D3*Specification!$H$5*Specification!$H$6/Specification!$C$17 -> 222.83991 | N3: =N2+100 -> 1100
A4: =A3+100 -> 1200 | C4: 1.28 | D4: =C4*7127/A4 -> 7.6021333 | E4: =E3+100 -> 1200 | F4: =A4/(60*Specification!$H$3*Specification!$H$6)*2*PI()*Specification!$C$17 -> 1.3299409 | G4: =D4*Specification!$H$3*Specification!$H$6/Specification!$C$17 -> 718.31181 | H4: =H3+100 -> 1200 | I4: =A4/(60*Specification!$H$4*Specification!$H$6)*2*PI()*Specification!$C$17 -> 2.6598818 | J4: =D4*Specification!$H$4*Specification!$H$6/Specification!$C$17 -> 359.15591 | K4: =K3+100 -> 1200 | L4: =A4/(60*Specification!$H$5*Specification!$H$6)*2*PI()*Specification!$C$17 -> 3.7998311 | M4: =D4*Specification!$H$5*Specification!$H$6/Specification!$C$17 -> 251.40913 | N4: =N3+100 -> 1200
A5: =A4+100 -> 1300 | C5: 1.52 | D5: =C5*7127/A5 -> 8.3331077 | E5: =E4+100 -> 1300 | F5: =A5/(60*Specification!$H$3*Specification!$H$6)*2*PI()*Specification!$C$17 -> 1.4407693 | G5: =D5*Specification!$H$3*Specification!$H$6/Specification!$C$17 -> 787.38025 | H5: =H4+100 -> 1300 | I5: =A5/(60*Specification!$H$4*Specification!$H$6)*2*PI()*Specification!$C$17 -> 2.8815386 | J5: =D5*Specification!$H$4*Specification!$H$6/Specification!$C$17 -> 393.69013 | K5: =K4+100 -> 1300 | L5: =A5/(60*Specification!$H$5*Specification!$H$6)*2*PI()*Specification!$C$17 -> 4.1164837 | M5: =D5*Specification!$H$5*Specification!$H$6/Specification!$C$17 -> 275.58309 | N5: =N4+100 -> 1300
A6: =A5+100 -> 1400 | C6: 1.76 | D6: =C6*7127/A6 -> 8.9596571 | E6: =E5+100 -> 1400 | F6: =A6/(60*Specification!$H$3*Specification!$H$6)*2*PI()*Specification!$C$17 -> 1.5515977 | G6: =D6*Specification!$H$3*Specification!$H$6/Specification!$C$17 -> 846.58178 | H6: =H5+100 -> 1400 | I6: =A6/(60*Specification!$H$4*Specification!$H$6)*2*PI()*Specification!$C$17 -> 3.1031954 | J6: =D6*Specification!$H$4*Specification!$H$6/Specification!$C$17 -> 423.29089 | K6: =K5+100 -> 1400 | L6: =A6/(60*Specification!$H$5*Specification!$H$6)*2*PI()*Specification!$C$17 -> 4.4331363 | M6: =D6*Specification!$H$5*Specification!$H$6/Specification!$C$17 -> 296.30362 | N6: =N5+100 -> 1400
A7: =A6+100 -> 1500 | B7: 2 | C7: 2 | D7: =C7*7127/A7 -> 9.5026667 | E7: =E6+100 -> 1500 | F7: =A7/(60*Specification!$H$3*Specification!$H$6)*2*PI()*Specification!$C$17 -> 1.6624261 | G7: =D7*Specification!$H$3*Specification!$H$6/Specification!$C$17 -> 897.88976 | H7: =H6+100 -> 1500 | I7: =A7/(60*Specification!$H$4*Specification!$H$6)*2*PI()*Specification!$C$17 -> 3.3248522 | J7: =D7*Specification!$H$4*Specification!$H$6/Specification!$C$17 -> 448.94488 | K7: =K6+100 -> 1500 | L7: =A7/(60*Specification!$H$5*Specification!$H$6)*2*PI()*Specification!$C$17 -> 4.7497889 | M7: =D7*Specification!$H$5*Specification!$H$6/Specification!$C$17 -> 314.26142 | N7: =N6+100 -> 1500
A8: =A7+100 -> 1600 | C8: 2.4 | D8: =C8*7127/A8 -> 10.6905 | E8: =E7+100 -> 1600 | F8: =A8/(60*Specification!$H$3*Specification!$H$6)*2*PI()*Specification!$C$17 -> 1.7732545 | G8: =D8*Specification!$H$3*Specification!$H$6/Specification!$C$17 -> 1010.126 | H8: =H7+100 -> 1600 | I8: =A8/(60*Specification!$H$4*Specification!$H$6)*2*PI()*Specification!$C$17 -> 3.546509 | J8: =D8*Specification!$H$4*Specification!$H$6/Specification!$C$17 -> 505.06299 | K8: =K7+100 -> 1600 | L8: =A8/(60*Specification!$H$5*Specification!$H$6)*2*PI()*Specification!$C$17 -> 5.0664415 | M8: =D8*Specification!$H$5*Specification!$H$6/Specification!$C$17 -> 353.54409 | N8: =N7+100 -> 1600
A9: =A8+100 -> 1700 | C9: 2.8 | D9: =C9*7127/A9 -> 11.738588 | E9: =E8+100 -> 1700 | F9: =A9/(60*Specification!$H$3*Specification!$H$6)*2*PI()*Specification!$C$17 -> 1.8840829 | G9: =D9*Specification!$H$3*Specification!$H$6/Specification!$C$17 -> 1109.1579 | H9: =H8+100 -> 1700 | I9: =A9/(60*Specification!$H$4*Specification!$H$6)*2*PI()*Specification!$C$17 -> 3.7681659 | J9: =D9*Specification!$H$4*Specification!$H$6/Specification!$C$17 -> 554.57897 | K9: =K8+100 -> 1700 | L9: =A9/(60*Specification!$H$5*Specification!$H$6)*2*PI()*Specification!$C$17 -> 5.3830941 | M9: =D9*Specification!$H$5*Specification!$H$6/Specification!$C$17 -> 388.20528 | N9: =N8+100 -> 1700
A10: =A9+100 -> 1800 | C10: 3.2 | D10: =C10*7127/A10 -> 12.670222 | E10: =E9+100 -> 1800 | F10: =A10/(60*Specification!$H$3*Specification!$H$6)*2*PI()*Specification!$C$17 -> 1.9949113 | G10: =D10*Specification!$H$3*Specification!$H$6/Specification!$C$17 -> 1197.1864 | H10: =H9+100 -> 1800 | I10: =A10/(60*Specification!$H$4*Specification!$H$6)*2*PI()*Specification!$C$17 -> 3.9898227 | J10: =D10*Specification!$H$4*Specification!$H$6/Specification!$C$17 -> 598.59318 | K10: =K9+100 -> 1800 | L10: =A10/(60*Specification!$H$5*Specification!$H$6)*2*PI()*Specification!$C$17 -> 5.6997467 | M10: =D10*Specification!$H$5*Specification!$H$6/Specification!$C$17 -> 419.01522 | N10: =N9+100 -> 1800
A11: =A10+100 -> 1900 | C11: 3.6 | D11: =C11*7127/A11 -> 13.503789 | E11: =E10+100 -> 1900 | F11: =A11/(60*Specification!$H$3*Specification!$H$6)*2*PI()*Specification!$C$17 -> 2.1057397 | G11: =D11*Specification!$H$3*Specification!$H$6/Specification!$C$17 -> 1275.9486 | H11: =H10+100 -> 1900 | I11: =A11/(60*Specification!$H$4*Specification!$H$6)*2*PI()*Specification!$C$17 -> 4.2114795 | J11: =D11*Specification!$H$4*Specification!$H$6/Specification!$C$17 -> 637.97431 | K11: =K10+100 -> 1900 | L11: =A11/(60*Specification!$H$5*Specification!$H$6)*2*PI()*Specification!$C$17 -> 6.0163993 | M11: =D11*Specification!$H$5*Specification!$H$6/Specification!$C$17 -> 446.58201 | N11: =N10+100 -> 1900
A12: =A11+100 -> 2000 | B12: 4 | C12: 4 | D12: =C12*7127/A12 -> 14.254 | E12: =E11+100 -> 2000 | F12: =A12/(60*Specification!$H$3*Specification!$H$6)*2*PI()*Specification!$C$17 -> 2.2165682 | G12: =D12*Specification!$H$3*Specification!$H$6/Specification!$C$17 -> 1346.8346 | H12: =H11+100 -> 2000 | I12: =A12/(60*Specification!$H$4*Specification!$H$6)*2*PI()*Specification!$C$17 -> 4.4331363 | J12: =D12*Specification!$H$4*Specification!$H$6/Specification!$C$17 -> 673.41732 | K12: =K11+100 -> 2000 | L12: =A12/(60*Specification!$H$5*Specification!$H$6)*2*PI()*Specification!$C$17 -> 6.3330519 | M12: =D12*Specification!$H$5*Specification!$H$6/Specification!$C$17 -> 471.39213 | N12: =N11+100 -> 2000
A13: =A12+100 -> 2100 | C13: 4.2 | D13: =C13*7127/A13 -> 14.254 | E13: =E12+100 -> 2100 | F13: =A13/(60*Specification!$H$3*Specification!$H$6)*2*PI()*Specification!$C$17 -> 2.3273966 | G13: =D13*Specification!$H$3*Specification!$H$6/Specification!$C$17 -> 1346.8346 | H13: =H12+100 -> 2100 | I13: =A13/(60*Specification!$H$4*Specification!$H$6)*2*PI()*Specification!$C$17 -> 4.6547931 | J13: =D13*Specification!$H$4*Specification!$H$6/Specification!$C$17 -> 673.41732 | K13: =K12+100 -> 2100 | L13: =A13/(60*Specification!$H$5*Specification!$H$6)*2*PI()*Specification!$C$17 -> 6.6497045 | M13: =D13*Specification!$H$5*Specification!$H$6/Specification!$C$17 -> 471.39213 | N13: =N12+100 -> 2100
A14: =A13+100 -> 2200 | C14: 4.4 | D14: =C14*7127/A14 -> 14.254 | E14: =E13+100 -> 2200 | F14: =A14/(60*Specification!$H$3*Specification!$H$6)*2*PI()*Specification!$C$17 -> 2.438225 | G14: =D14*Specification!$H$3*Specification!$H$6/Specification!$C$17 -> 1346.8346 | H14: =H13+100 -> 2200 | I14: =A14/(60*Specification!$H$4*Specification!$H$6)*2*PI()*Specification!$C$17 -> 4.8764499 | J14: =D14*Specification!$H$4*Specification!$H$6/Specification!$C$17 -> 673.41732 | K14: =K13+100 -> 2200 | L14: =A14/(60*Specification!$H$5*Specification!$H$6)*2*PI()*Specification!$C$17 -> 6.966357 | M14: =D14*Specification!$H$5*Specification!$H$6/Specification!$C$17 -> 471.39213 | N14: =N13+100 -> 2200
A15: =A14+100 -> 2300 | C15: 4.6 | D15: =C15*7127/A15 -> 14.254 | E15: =E14+100 -> 2300 | F15: =A15/(60*Specification!$H$3*Specification!$H$6)*2*PI()*Specification!$C$17 -> 2.5490534 | G15: =D15*Specification!$H$3*Specification!$H$6/Specification!$C$17 -> 1346.8346 | H15: =H14+100 -> 2300 | I15: =A15/(60*Specification!$H$4*Specification!$H$6)*2*PI()*Specification!$C$17 -> 5.0981067 | J15: =D15*Specification!$H$4*Specification!$H$6/Specification!$C$17 -> 673.41732 | K15: =K14+100 -> 2300 | L15: =A15/(60*Specification!$H$5*Specification!$H$6)*2*PI()*Specification!$C$17 -> 7.2830096 | M15: =D15*Specification!$H$5*Specification!$H$6/Specification!$C$17 -> 471.39213 | N15: =N14+100 -> 2300
A16: =A15+100 -> 2400 | C16: 4.8 | D16: =C16*7127/A16 -> 14.254 | E16: =E15+100 -> 2400 | F16: =A16/(60*Specification!$H$3*Specification!$H$6)*2*PI()*Specification!$C$17 -> 2.6598818 | G16: =D16*Specification!$H$3*Specification!$H$6/Specification!$C$17 -> 1346.8346 | H16: =H15+100 -> 2400 | I16: =A16/(60*Specification!$H$4*Specification!$H$6)*2*PI()*Specification!$C$17 -> 5.3197636 | J16: =D16*Specification!$H$4*Specification!$H$6/Specification!$C$17 -> 673.41732 | K16: =K15+100 -> 2400 | L16: =A16/(60*Specification!$H$5*Specification!$H$6)*2*PI()*Specification!$C$17 -> 7.5996622 | M16: =D16*Specification!$H$5*Specification!$H$6/Specification!$C$17 -> 471.39213 | N16: =N15+100 -> 2400
A17: =A16+100 -> 2500 | B17: 5 | C17: 5 | D17: =C17*7127/A17 -> 14.254 | E17: =E16+100 -> 2500 | F17: =A17/(60*Specification!$H$3*Specification!$H$6)*2*PI()*Specification!$C$17 -> 2.7707102 | G17: =D17*Specification!$H$3*Specification!$H$6/Specification!$C$17 -> 1346.8346 | H17: =H16+100 -> 2500 | I17: =A17/(60*Specification!$H$4*Specification!$H$6)*2*PI()*Specification!$C$17 -> 5.5414204 | J17: =D17*Specification!$H$4*Specification!$H$6/Specification!$C$17 -> 673.41732 | K17: =K16+100 -> 2500 | L17: =A17/(60*Specification!$H$5*Specification!$H$6)*2*PI()*Specification!$C$17 -> 7.9163148 | M17: =D17*Specification!$H$5*Specification!$H$6/Specification!$C$17 -> 471.39213 | N17: =N16+100 -> 2500
A18: =A17+100 -> 2600 | C18: 5.4 | D18: =C18*7127/A18 -> 14.802231 | E18: =E17+100 -> 2600 | F18: =A18/(60*Specification!$H$3*Specification!$H$6)*2*PI()*Specification!$C$17 -> 2.8815386 | G18: =D18*Specification!$H$3*Specification!$H$6/Specification!$C$17 -> 1398.636 | H18: =H17+100 -> 2600 | I18: =A18/(60*Specification!$H$4*Specification!$H$6)*2*PI()*Specification!$C$17 -> 5.7630772 | J18: =D18*Specification!$H$4*Specification!$H$6/Specification!$C$17 -> 699.31799 | K18: =K17+100 -> 2600 | L18: =A18/(60*Specification!$H$5*Specification!$H$6)*2*PI()*Specification!$C$17 -> 8.2329674 | M18: =D18*Specification!$H$5*Specification!$H$6/Specification!$C$17 -> 489.52259 | N18: =N17+100 -> 2600
A19: =A18+100 -> 2700 | C19: 5.8 | D19: =C19*7127/A19 -> 15.309852 | E19: =E18+100 -> 2700 | F19: =A19/(60*Specification!$H$3*Specification!$H$6)*2*PI()*Specification!$C$17 -> 2.992367 | G19: =D19*Specification!$H$3*Specification!$H$6/Specification!$C$17 -> 1446.6002 | H19: =H18+100 -> 2700 | I19: =A19/(60*Specification!$H$4*Specification!$H$6)*2*PI()*Specification!$C$17 -> 5.984734 | J19: =D19*Specification!$H$4*Specification!$H$6/Specification!$C$17 -> 723.30009 | K19: =K18+100 -> 2700 | L19: =A19/(60*Specification!$H$5*Specification!$H$6)*2*PI()*Specification!$C$17 -> 8.54962 | M19: =D19*Specification!$H$5*Specification!$H$6/Specification!$C$17 -> 506.31006 | N19: =N18+100 -> 2700
A20: =A19+100 -> 2800 | C20: 6.2 | D20: =C20*7127/A20 -> 15.781214 | E20: =E19+100 -> 2800 | F20: =A20/(60*Specification!$H$3*Specification!$H$6)*2*PI()*Specification!$C$17 -> 3.1031954 | G20: =D20*Specification!$H$3*Specification!$H$6/Specification!$C$17 -> 1491.1384 | H20: =H19+100 -> 2800 | I20: =A20/(60*Specification!$H$4*Specification!$H$6)*2*PI()*Specification!$C$17 -> 6.2063908 | J20: =D20*Specification!$H$4*Specification!$H$6/Specification!$C$17 -> 745.56918 | K20: =K19+100 -> 2800 | L20: =A20/(60*Specification!$H$5*Specification!$H$6)*2*PI()*Specification!$C$17 -> 8.8662726 | M20: =D20*Specification!$H$5*Specification!$H$6/Specification!$C$17 -> 521.89843 | N20: =N19+100 -> 2800
A21: =A20+100 -> 2900 | C21: 6.6 | D21: =C21*7127/A21 -> 16.220069 | E21: =E20+100 -> 2900 | F21: =A21/(60*Specification!$H$3*Specification!$H$6)*2*PI()*Specification!$C$17 -> 3.2140238 | G21: =D21*Specification!$H$3*Specification!$H$6/Specification!$C$17 -> 1532.6049 | H21: =H20+100 -> 2900 | I21: =A21/(60*Specification!$H$4*Specification!$H$6)*2*PI()*Specification!$C$17 -> 6.4280476 | J21: =D21*Specification!$H$4*Specification!$H$6/Specification!$C$17 -> 766.30247 | K21: =K20+100 -> 2900 | L21: =A21/(60*Specification!$H$5*Specification!$H$6)*2*PI()*Specification!$C$17 -> 9.1829252 | M21: =D21*Specification!$H$5*Specification!$H$6/Specification!$C$17 -> 536.41173 | N21: =N20+100 -> 2900
A22: =A21+100 -> 3000 | B22: 7 | C22: 7 | D22: =C22*7127/A22 -> 16.629667 | E22: =E21+100 -> 3000 | F22: =A22/(60*Specification!$H$3*Specification!$H$6)*2*PI()*Specification!$C$17 -> 3.3248522 | G22: =D22*Specification!$H$3*Specification!$H$6/Specification!$C$17 -> 1571.3071 | H22: =H21+100 -> 3000 | I22: =A22/(60*Specification!$H$4*Specification!$H$6)*2*PI()*Specification!$C$17 -> 6.6497045 | J22: =D22*Specification!$H$4*Specification!$H$6/Specification!$C$17 -> 785.65354 | K22: =K21+100 -> 3000 | L22: =A22/(60*Specification!$H$5*Specification!$H$6)*2*PI()*Specification!$C$17 -> 9.4995778 | M22: =D22*Specification!$H$5*Specification!$H$6/Specification!$C$17 -> 549.95748 | N22: =N21+100 -> 3000
A23: =A22+100 -> 3100 | C23: 7.5 | D23: =C23*7127/A23 -> 17.242742 | E23: =E22+100 -> 3100 | F23: =A23/(60*Specification!$H$3*Specification!$H$6)*2*PI()*Specification!$C$17 -> 3.4356806 | G23: =D23*Specification!$H$3*Specification!$H$6/Specification!$C$17 -> 1629.2355 | H23: =H22+100 -> 3100 | I23: =A23/(60*Specification!$H$4*Specification!$H$6)*2*PI()*Specification!$C$17 -> 6.8713613 | J23: =D23*Specification!$H$4*Specification!$H$6/Specification!$C$17 -> 814.61773 | K23: =K22+100 -> 3100 | L23: =A23/(60*Specification!$H$5*Specification!$H$6)*2*PI()*Specification!$C$17 -> 9.8162304 | M23: =D23*Specification!$H$5*Specification!$H$6/Specification!$C$17 -> 570.23241 | N23: =N22+100 -> 3100
A24: =A23+100 -> 3200 | C24: 8 | D24: =C24*7127/A24 -> 17.8175 | E24: =E23+100 -> 3200 | F24: =A24/(60*Specification!$H$3*Specification!$H$6)*2*PI()*Specification!$C$17 -> 3.546509 | G24: =D24*Specification!$H$3*Specification!$H$6/Specification!$C$17 -> 1683.5433 | H24: =H23+100 -> 3200 | I24: =A24/(60*Specification!$H$4*Specification!$H$6)*2*PI()*Specification!$C$17 -> 7.0930181 | J24: =D24*Specification!$H$4*Specification!$H$6/Specification!$C$17 -> 841.77165 | K24: =K23+100 -> 3200 | L24: =A24/(60*Specification!$H$5*Specification!$H$6)*2*PI()*Specification!$C$17 -> 10.132883 | M24: =D24*Specification!$H$5*Specification!$H$6/Specification!$C$17 -> 589.24016 | N24: =N23+100 -> 3200
A25: =A24+100 -> 3300 | C25: 8.5 | D25: =C25*7127/A25 -> 18.357424 | E25: =E24+100 -> 3300 | F25: =A25/(60*Specification!$H$3*Specification!$H$6)*2*PI()*Specification!$C$17 -> 3.6573374 | G25: =D25*Specification!$H$3*Specification!$H$6/Specification!$C$17 -> 1734.5598 | H25: =H24+100 -> 3300 | I25: =A25/(60*Specification!$H$4*Specification!$H$6)*2*PI()*Specification!$C$17 -> 7.3146749 | J25: =D25*Specification!$H$4*Specification!$H$6/Specification!$C$17 -> 867.27989 | K25: =K24+100 -> 3300 | L25: =A25/(60*Specification!$H$5*Specification!$H$6)*2*PI()*Specification!$C$17 -> 10.449536 | M25: =D25*Specification!$H$5*Specification!$H$6/Specification!$C$17 -> 607.09592 | N25: =N24+100 -> 3300
A26: =A25+100 -> 3400 | C26: 9 | D26: =C26*7127/A26 -> 18.865588 | E26: =E25+100 -> 3400 | F26: =A26/(60*Specification!$H$3*Specification!$H$6)*2*PI()*Specification!$C$17 -> 3.7681659 | G26: =D26*Specification!$H$3*Specification!$H$6/Specification!$C$17 -> 1782.5753 | H26: =H25+100 -> 3400 | I26: =A26/(60*Specification!$H$4*Specification!$H$6)*2*PI()*Specification!$C$17 -> 7.5363317 | J26: =D26*Specification!$H$4*Specification!$H$6/Specification!$C$17 -> 891.28763 | K26: =K25+100 -> 3400 | L26: =A26/(60*Specification!$H$5*Specification!$H$6)*2*PI()*Specification!$C$17 -> 10.766188 | M26: =D26*Specification!$H$5*Specification!$H$6/Specification!$C$17 -> 623.90134 | N26: =N25+100 -> 3400
A27: =A26+100 -> 3500 | B27: 9.5 | C27: 9.5 | D27: =C27*7127/A27 -> 19.344714 | E27: =E26+100 -> 3500 | F27: =A27/(60*Specification!$H$3*Specification!$H$6)*2*PI()*Specification!$C$17 -> 3.8789943 | G27: =D27*Specification!$H$3*Specification!$H$6/Specification!$C$17 -> 1827.847 | H27: =H26+100 -> 3500 | I27: =A27/(60*Specification!$H$4*Specification!$H$6)*2*PI()*Specification!$C$17 -> 7.7579885 | J27: =D27*Specification!$H$4*Specification!$H$6/Specification!$C$17 -> 913.92351 | K27: =K26+100 -> 3500 | L27: =A27/(60*Specification!$H$5*Specification!$H$6)*2*PI()*Specification!$C$17 -> 11.082841 | M27: =D27*Specification!$H$5*Specification!$H$6/Specification!$C$17 -> 639.74646 | N27: =N26+100 -> 3500
A28: =A27+100 -> 3600 | C28: 9.7 | D28: =C28*7127/A28 -> 19.203306 | E28: =E27+100 -> 3600 | F28: =A28/(60*Specification!$H$3*Specification!$H$6)*2*PI()*Specification!$C$17 -> 3.9898227 | G28: =D28*Specification!$H$3*Specification!$H$6/Specification!$C$17 -> 1814.4856 | H28: =H27+100 -> 3600 | I28: =A28/(60*Specification!$H$4*Specification!$H$6)*2*PI()*Specification!$C$17 -> 7.9796453 | J28: =D28*Specification!$H$4*Specification!$H$6/Specification!$C$17 -> 907.24278 | K28: =K27+100 -> 3600 | L28: =A28/(60*Specification!$H$5*Specification!$H$6)*2*PI()*Specification!$C$17 -> 11.399493 | M28: =D28*Specification!$H$5*Specification!$H$6/Specification!$C$17 -> 635.06995 | N28: =N27+100 -> 3600
A29: =A28+100 -> 3700 | C29: 9.9 | D29: =C29*7127/A29 -> 19.069541 | E29: =E28+100 -> 3700 | F29: =A29/(60*Specification!$H$3*Specification!$H$6)*2*PI()*Specification!$C$17 -> 4.1006511 | G29: =D29*Specification!$H$3*Specification!$H$6/Specification!$C$17 -> 1801.8464 | H29: =H28+100 -> 3700 | I29: =A29/(60*Specification!$H$4*Specification!$H$6)*2*PI()*Specification!$C$17 -> 8.2013022 | J29: =D29*Specification!$H$4*Specification!$H$6/Specification!$C$17 -> 900.92318 | K29: =K28+100 -> 3700 | L29: =A29/(60*Specification!$H$5*Specification!$H$6)*2*PI()*Specification!$C$17 -> 11.716146 | M29: =D29*Specification!$H$5*Specification!$H$6/Specification!$C$17 -> 630.64622 | N29: =N28+100 -> 3700
A30: =A29+100 -> 3800 | C30: 10.1 | D30: =C30*7127/A30 -> 18.942816 | E30: =E29+100 -> 3800 | F30: =A30/(60*Specification!$H$3*Specification!$H$6)*2*PI()*Specification!$C$17 -> 4.2114795 | G30: =D30*Specification!$H$3*Specification!$H$6/Specification!$C$17 -> 1789.8724 | H30: =H29+100 -> 3800 | I30: =A30/(60*Specification!$H$4*Specification!$H$6)*2*PI()*Specification!$C$17 -> 8.422959 | J30: =D30*Specification!$H$4*Specification!$H$6/Specification!$C$17 -> 894.93618 | K30: =K29+100 -> 3800 | L30: =A30/(60*Specification!$H$5*Specification!$H$6)*2*PI()*Specification!$C$17 -> 12.032799 | M30: =D30*Specification!$H$5*Specification!$H$6/Specification!$C$17 -> 626.45533 | N30: =N29+100 -> 3800
A31: =A30+100 -> 3900 | C31: 10.3 | D31: =C31*7127/A31 -> 18.82259 | E31: =E30+100 -> 3900 | F31: =A31/(60*Specification!$H$3*Specification!$H$6)*2*PI()*Specification!$C$17 -> 4.3223079 | G31: =D31*Specification!$H$3*Specification!$H$6/Specification!$C$17 -> 1778.5124 | H31: =H30+100 -> 3900 | I31: =A31/(60*Specification!$H$4*Specification!$H$6)*2*PI()*Specification!$C$17 -> 8.6446158 | J31: =D31*Specification!$H$4*Specification!$H$6/Specification!$C$17 -> 889.25621 | K31: =K30+100 -> 3900 | L31: =A31/(60*Specification!$H$5*Specification!$H$6)*2*PI()*Specification!$C$17 -> 12.349451 | M31: =D31*Specification!$H$5*Specification!$H$6/Specification!$C$17 -> 622.47935 | N31: =N30+100 -> 3900
A32: =A31+100 -> 4000 | B32: 10.5 | C32: 10.5 | D32: =C32*7127/A32 -> 18.708375 | E32: =E31+100 -> 4000 | F32: =A32/(60*Specification!$H$3*Specification!$H$6)*2*PI()*Specification!$C$17 -> 4.4331363 | G32: =D32*Specification!$H$3*Specification!$H$6/Specification!$C$17 -> 1767.7205 | H32: =H31+100 -> 4000 | I32: =A32/(60*Specification!$H$4*Specification!$H$6)*2*PI()*Specification!$C$17 -> 8.8662726 | J32: =D32*Specification!$H$4*Specification!$H$6/Specification!$C$17 -> 883.86024 | K32: =K31+100 -> 4000 | L32: =A32/(60*Specification!$H$5*Specification!$H$6)*2*PI()*Specification!$C$17 -> 12.666104 | M32: =D32*Specification!$H$5*Specification!$H$6/Specification!$C$17 -> 618.70217 | N32: =N31+100 -> 4000
A33: =A32+100 -> 4100 | C33: 10.8 | D33: =C33*7127/A33 -> 18.773561 | E33: =E32+100 -> 4100 | F33: =A33/(60*Specification!$H$3*Specification!$H$6)*2*PI()*Specification!$C$17 -> 4.5439647 | G33: =D33*Specification!$H$3*Specification!$H$6/Specification!$C$17 -> 1773.8798 | H33: =H32+100 -> 4100 | I33: =A33/(60*Specification!$H$4*Specification!$H$6)*2*PI()*Specification!$C$17 -> 9.0879294 | J33: =D33*Specification!$H$4*Specification!$H$6/Specification!$C$17 -> 886.93989 | K33: =K32+100 -> 4100 | L33: =A33/(60*Specification!$H$5*Specification!$H$6)*2*PI()*Specification!$C$17 -> 12.982756 | M33: =D33*Specification!$H$5*Specification!$H$6/Specification!$C$17 -> 620.85792 | N33: =N32+100 -> 4100
A34: =A33+100 -> 4200 | C34: 11.1 | D34: =C34*7127/A34 -> 18.835643 | E34: =E33+100 -> 4200 | F34: =A34/(60*Specification!$H$3*Specification!$H$6)*2*PI()*Specification!$C$17 -> 4.6547931 | G34: =D34*Specification!$H$3*Specification!$H$6/Specification!$C$17 -> 1779.7458 | H34: =H33+100 -> 4200 | I34: =A34/(60*Specification!$H$4*Specification!$H$6)*2*PI()*Specification!$C$17 -> 9.3095862 | J34: =D34*Specification!$H$4*Specification!$H$6/Specification!$C$17 -> 889.87289 | K34: =K33+100 -> 4200 | L34: =A34/(60*Specification!$H$5*Specification!$H$6)*2*PI()*Specification!$C$17 -> 13.299409 | M34: =D34*Specification!$H$5*Specification!$H$6/Specification!$C$17 -> 622.91102 | N34: =N33+100 -> 4200
A35: =A34+100 -> 4300 | C35: 11.4 | D35: =C35*7127/A35 -> 18.894837 | E35: =E34+100 -> 4300 | F35: =A35/(60*Specification!$H$3*Specification!$H$6)*2*PI()*Specification!$C$17 -> 4.7656215 | G35: =D35*Specification!$H$3*Specification!$H$6/Specification!$C$17 -> 1785.3389 | H35: =H34+100 -> 4300 | I35: =A35/(60*Specification!$H$4*Specification!$H$6)*2*PI()*Specification!$C$17 -> 9.531243 | J35: =D35*Specification!$H$4*Specification!$H$6/Specification!$C$17 -> 892.66947 | K35: =K34+100 -> 4300 | L35: =A35/(60*Specification!$H$5*Specification!$H$6)*2*PI()*Specification!$C$17 -> 13.616061 | M35: =D35*Specification!$H$5*Specification!$H$6/Specification!$C$17 -> 624.86863 | N35: =N34+100 -> 4300
A36: =A35+100 -> 4400 | C36: 11.7 | D36: =C36*7127/A36 -> 18.951341 | E36: =E35+100 -> 4400 | F36: =A36/(60*Specification!$H$3*Specification!$H$6)*2*PI()*Specification!$C$17 -> 4.8764499 | G36: =D36*Specification!$H$3*Specification!$H$6/Specification!$C$17 -> 1790.6779 | H36: =H35+100 -> 4400 | I36: =A36/(60*Specification!$H$4*Specification!$H$6)*2*PI()*Specification!$C$17 -> 9.7528999 | J36: =D36*Specification!$H$4*Specification!$H$6/Specification!$C$17 -> 895.33894 | K36: =K35+100 -> 4400 | L36: =A36/(60*Specification!$H$5*Specification!$H$6)*2*PI()*Specification!$C$17 -> 13.932714 | M36: =D36*Specification!$H$5*Specification!$H$6/Specification!$C$17 -> 626.73726 | N36: =N35+100 -> 4400
A37: =A36+100 -> 4500 | B37: 12 | C37: 12 | D37: =C37*7127/A37 -> 19.005333 | E37: =E36+100 -> 4500 | F37: =A37/(60*Specification!$H$3*Specification!$H$6)*2*PI()*Specification!$C$17 -> 4.9872783 | G37: =D37*Specification!$H$3*Specification!$H$6/Specification!$C$17 -> 1795.7795 | H37: =H36+100 -> 4500 | I37: =A37/(60*Specification!$H$4*Specification!$H$6)*2*PI()*Specification!$C$17 -> 9.9745567 | J37: =D37*Specification!$H$4*Specification!$H$6/Specification!$C$17 -> 897.88976 | K37: =K36+100 -> 4500 | L37: =A37/(60*Specification!$H$5*Specification!$H$6)*2*PI()*Specification!$C$17 -> 14.249367 | M37: =D37*Specification!$H$5*Specification!$H$6/Specification!$C$17 -> 628.52283 | N37: =N36+100 -> 4500
A38: =A37+100 -> 4600 | C38: 12.4 | D38: =C38*7127/A38 -> 19.211913 | E38: =E37+100 -> 4600 | F38: =A38/(60*Specification!$H$3*Specification!$H$6)*2*PI()*Specification!$C$17 -> 5.0981067 | G38: =D38*Specification!$H$3*Specification!$H$6/Specification!$C$17 -> 1815.2989 | H38: =H37+100 -> 4600 | I38: =A38/(60*Specification!$H$4*Specification!$H$6)*2*PI()*Specification!$C$17 -> 10.196213 | J38: =D38*Specification!$H$4*Specification!$H$6/Specification!$C$17 -> 907.64944 | K38: =K37+100 -> 4600 | L38: =A38/(60*Specification!$H$5*Specification!$H$6)*2*PI()*Specification!$C$17 -> 14.566019 | M38: =D38*Specification!$H$5*Specification!$H$6/Specification!$C$17 -> 635.3546 | N38: =N37+100 -> 4600
A39: =A38+100 -> 4700 | C39: 12.8 | D39: =C39*7127/A39 -> 19.409702 | E39: =E38+100 -> 4700 | F39: =A39/(60*Specification!$H$3*Specification!$H$6)*2*PI()*Specification!$C$17 -> 5.2089352 | G39: =D39*Specification!$H$3*Specification!$H$6/Specification!$C$17 -> 1833.9876 | H39: =H38+100 -> 4700 | I39: =A39/(60*Specification!$H$4*Specification!$H$6)*2*PI()*Specification!$C$17 -> 10.41787 | J39: =D39*Specification!$H$4*Specification!$H$6/Specification!$C$17 -> 916.9938 | K39: =K38+100 -> 4700 | L39: =A39/(60*Specification!$H$5*Specification!$H$6)*2*PI()*Specification!$C$17 -> 14.882672 | M39: =D39*Specification!$H$5*Specification!$H$6/Specification!$C$17 -> 641.89566 | N39: =N38+100 -> 4700
A40: =A39+100 -> 4800 | C40: 13.2 | D40: =C40*7127/A40 -> 19.59925 | E40: =E39+100 -> 4800 | F40: =A40/(60*Specification!$H$3*Specification!$H$6)*2*PI()*Specification!$C$17 -> 5.3197636 | G40: =D40*Specification!$H$3*Specification!$H$6/Specification!$C$17 -> 1851.8976 | H40: =H39+100 -> 4800 | I40: =A40/(60*Specification!$H$4*Specification!$H$6)*2*PI()*Specification!$C$17 -> 10.639527 | J40: =D40*Specification!$H$4*Specification!$H$6/Specification!$C$17 -> 925.94882 | K40: =K39+100 -> 4800 | L40: =A40/(60*Specification!$H$5*Specification!$H$6)*2*PI()*Specification!$C$17 -> 15.199324 | M40: =D40*Specification!$H$5*Specification!$H$6/Specification!$C$17 -> 648.16417 | N40: =N39+100 -> 4800
A41: =A40+100 -> 4900 | C41: 13.6 | D41: =C41*7127/A41 -> 19.781061 | E41: =E40+100 -> 4900 | F41: =A41/(60*Specification!$H$3*Specification!$H$6)*2*PI()*Specification!$C$17 -> 5.430592 | G41: =D41*Specification!$H$3*Specification!$H$6/Specification!$C$17 -> 1869.0767 | H41: =H40+100 -> 4900 | I41: =A41/(60*Specification!$H$4*Specification!$H$6)*2*PI()*Specification!$C$17 -> 10.861184 | J41: =D41*Specification!$H$4*Specification!$H$6/Specification!$C$17 -> 934.53833 | K41: =K40+100 -> 4900 | L41: =A41/(60*Specification!$H$5*Specification!$H$6)*2*PI()*Specification!$C$17 -> 15.515977 | M41: =D41*Specification!$H$5*Specification!$H$6/Specification!$C$17 -> 654.17683 | N41: =N40+100 -> 4900
A42: =A41+100 -> 5000 | B42: 14 | C42: 14 | D42: =C42*7127/A42 -> 19.9556 | E42: =E41+100 -> 5000 | F42: =A42/(60*Specification!$H$3*Specification!$H$6)*2*PI()*Specification!$C$17 -> 5.5414204 | G42: =D42*Specification!$H$3*Specification!$H$6/Specification!$C$17 -> 1885.5685 | H42: =H41+100 -> 5000 | I42: =A42/(60*Specification!$H$4*Specification!$H$6)*2*PI()*Specification!$C$17 -> 11.082841 | J42: =D42*Specification!$H$4*Specification!$H$6/Specification!$C$17 -> 942.78425 | K42: =K41+100 -> 5000 | L42: =A42/(60*Specification!$H$5*Specification!$H$6)*2*PI()*Specification!$C$17 -> 15.83263 | M42: =D42*Specification!$H$5*Specification!$H$6/Specification!$C$17 -> 659.94898 | N42: =N41+100 -> 5000
A43: =A42+100 -> 5100 | C43: 14.596 | D43: =C43*7127/A43 -> 20.397195 | E43: =E42+100 -> 5100 | F43: =A43/(60*Specification!$H$3*Specification!$H$6)*2*PI()*Specification!$C$17 -> 5.6522488 | G43: =D43*Specification!$H$3*Specification!$H$6/Specification!$C$17 -> 1927.294 | H43: =H42+100 -> 5100 | I43: =A43/(60*Specification!$H$4*Specification!$H$6)*2*PI()*Specification!$C$17 -> 11.304498 | J43: =D43*Specification!$H$4*Specification!$H$6/Specification!$C$17 -> 963.64698 | K43: =K42+100 -> 5100 | L43: =A43/(60*Specification!$H$5*Specification!$H$6)*2*PI()*Specification!$C$17 -> 16.149282 | M43: =D43*Specification!$H$5*Specification!$H$6/Specification!$C$17 -> 674.55289 | N43: =N42+100 -> 5100
A44: =A43+100 -> 5200 | C44: 15.192 | D44: =C44*7127/A44 -> 20.821805 | E44: =E43+100 -> 5200 | F44: =A44/(60*Specification!$H$3*Specification!$H$6)*2*PI()*Specification!$C$17 -> 5.7630772 | G44: =D44*Specification!$H$3*Specification!$H$6/Specification!$C$17 -> 1967.4146 | H44: =H43+100 -> 5200 | I44: =A44/(60*Specification!$H$4*Specification!$H$6)*2*PI()*Specification!$C$17 -> 11.526154 | J44: =D44*Specification!$H$4*Specification!$H$6/Specification!$C$17 -> 983.7073 | K44: =K43+100 -> 5200 | L44: =A44/(60*Specification!$H$5*Specification!$H$6)*2*PI()*Specification!$C$17 -> 16.465935 | M44: =D44*Specification!$H$5*Specification!$H$6/Specification!$C$17 -> 688.59511 | N44: =N43+100 -> 5200
A45: =A44+100 -> 5300 | C45: 15.788 | D45: =C45*7127/A45 -> 21.230392 | E45: =E44+100 -> 5300 | F45: =A45/(60*Specification!$H$3*Specification!$H$6)*2*PI()*Specification!$C$17 -> 5.8739056 | G45: =D45*Specification!$H$3*Specification!$H$6/Specification!$C$17 -> 2006.0213 | H45: =H44+100 -> 5300 | I45: =A45/(60*Specification!$H$4*Specification!$H$6)*2*PI()*Specification!$C$17 -> 11.747811 | J45: =D45*Specification!$H$4*Specification!$H$6/Specification!$C$17 -> 1003.0106 | K45: =K44+100 -> 5300 | L45: =A45/(60*Specification!$H$5*Specification!$H$6)*2*PI()*Specification!$C$17 -> 16.782587 | M45: =D45*Specification!$H$5*Specification!$H$6/Specification!$C$17 -> 702.10744 | N45: =N44+100 -> 5300
A46: =A45+100 -> 5400 | C46: 16.384 | D46: =C46*7127/A46 -> 21.623846 | E46: =E45+100 -> 5400 | F46: =A46/(60*Specification!$H$3*Specification!$H$6)*2*PI()*Specification!$C$17 -> 5.984734 | G46: =D46*Specification!$H$3*Specification!$H$6/Specification!$C$17 -> 2043.198 | H46: =H45+100 -> 5400 | I46: =A46/(60*Specification!$H$4*Specification!$H$6)*2*PI()*Specification!$C$17 -> 11.969468 | J46: =D46*Specification!$H$4*Specification!$H$6/Specification!$C$17 -> 1021.599 | K46: =K45+100 -> 5400 | L46: =A46/(60*Specification!$H$5*Specification!$H$6)*2*PI()*Specification!$C$17 -> 17.09924 | M46: =D46*Specification!$H$5*Specification!$H$6/Specification!$C$17 -> 715.11931 | N46: =N45+100 -> 5400
A47: =A46+100 -> 5500 | B47: 16.98 | C47: 16.98 | D47: =C47*7127/A47 -> 22.002993 | E47: =E46+100 -> 5500 | F47: =A47/(60*Specification!$H$3*Specification!$H$6)*2*PI()*Specification!$C$17 -> 6.0955624 | G47: =D47*Specification!$H$3*Specification!$H$6/Specification!$C$17 -> 2079.0229 | H47: =H46+100 -> 5500 | I47: =A47/(60*Specification!$H$4*Specification!$H$6)*2*PI()*Specification!$C$17 -> 12.191125 | J47: =D47*Specification!$H$4*Specification!$H$6/Specification!$C$17 -> 1039.5115 | K47: =K46+100 -> 5500 | L47: =A47/(60*Specification!$H$5*Specification!$H$6)*2*PI()*Specification!$C$17 -> 17.415893 | M47: =D47*Specification!$H$5*Specification!$H$6/Specification!$C$17 -> 727.65803 | N47: =N46+100 -> 5500
A48: =A47+100 -> 5600 | C48: 16.984 | D48: =C48*7127/A48 -> 21.615173 | E48: =E47+100 -> 5600 | F48: =A48/(60*Specification!$H$3*Specification!$H$6)*2*PI()*Specification!$C$17 -> 6.2063908 | G48: =D48*Specification!$H$3*Specification!$H$6/Specification!$C$17 -> 2042.3785 | H48: =H47+100 -> 5600 | I48: =A48/(60*Specification!$H$4*Specification!$H$6)*2*PI()*Specification!$C$17 -> 12.412782 | J48: =D48*Specification!$H$4*Specification!$H$6/Specification!$C$17 -> 1021.1893 | K48: =K47+100 -> 5600 | L48: =A48/(60*Specification!$H$5*Specification!$H$6)*2*PI()*Specification!$C$17 -> 17.732545 | M48: =D48*Specification!$H$5*Specification!$H$6/Specification!$C$17 -> 714.83249 | N48: =N47+100 -> 5600
A49: =A48+100 -> 5700 | C49: 16.988 | D49: =C49*7127/A49 -> 21.240961 | E49: =E48+100 -> 5700 | F49: =A49/(60*Specification!$H$3*Specification!$H$6)*2*PI()*Specification!$C$17 -> 6.3172192 | G49: =D49*Specification!$H$3*Specification!$H$6/Specification!$C$17 -> 2007.0199 | H49: =H48+100 -> 5700 | I49: =A49/(60*Specification!$H$4*Specification!$H$6)*2*PI()*Specification!$C$17 -> 12.634438 | J49: =D49*Specification!$H$4*Specification!$H$6/Specification!$C$17 -> 1003.51 | K49: =K48+100 -> 5700 | L49: =A49/(60*Specification!$H$5*Specification!$H$6)*2*PI()*Specification!$C$17 -> 18.049198 | M49: =D49*Specification!$H$5*Specification!$H$6/Specification!$C$17 -> 702.45697 | N49: =N48+100 -> 5700
A50: =A49+100 -> 5800 | C50: 16.992 | D50: =C50*7127/A50 -> 20.879652 | E50: =E49+100 -> 5800 | F50: =A50/(60*Specification!$H$3*Specification!$H$6)*2*PI()*Specification!$C$17 -> 6.4280476 | G50: =D50*Specification!$H$3*Specification!$H$6/Specification!$C$17 -> 1972.8805 | H50: =H49+100 -> 5800 | I50: =A50/(60*Specification!$H$4*Specification!$H$6)*2*PI()*Specification!$C$17 -> 12.856095 | J50: =D50*Specification!$H$4*Specification!$H$6/Specification!$C$17 -> 986.44027 | K50: =K49+100 -> 5800 | L50: =A50/(60*Specification!$H$5*Specification!$H$6)*2*PI()*Specification!$C$17 -> 18.36585 | M50: =D50*Specification!$H$5*Specification!$H$6/Specification!$C$17 -> 690.50819 | N50: =N49+100 -> 5800
A51: =A50+100 -> 5900 | C51: 16.996 | D51: =C51*7127/A51 -> 20.530592 | E51: =E50+100 -> 5900 | F51: =A51/(60*Specification!$H$3*Specification!$H$6)*2*PI()*Specification!$C$17 -> 6.538876 | G51: =D51*Specification!$H$3*Specification!$H$6/Specification!$C$17 -> 1939.8984 | H51: =H50+100 -> 5900 | I51: =A51/(60*Specification!$H$4*Specification!$H$6)*2*PI()*Specification!$C$17 -> 13.077752 | J51: =D51*Specification!$H$4*Specification!$H$6/Specification!$C$17 -> 969.94922 | K51: =K50+100 -> 5900 | L51: =A51/(60*Specification!$H$5*Specification!$H$6)*2*PI()*Specification!$C$17 -> 18.682503 | M51: =D51*Specification!$H$5*Specification!$H$6/Specification!$C$17 -> 678.96446 | N51: =N50+100 -> 5900
A52: =A51+100 -> 6000 | C52: 17 | D52: =C52*7127/A52 -> 20.193167 | E52: =E51+100 -> 6000 | F52: =A52/(60*Specification!$H$3*Specification!$H$6)*2*PI()*Specification!$C$17 -> 6.6497045 | G52: =D52*Specification!$H$3*Specification!$H$6/Specification!$C$17 -> 1908.0157 | H52: =H51+100 -> 6000 | I52: =A52/(60*Specification!$H$4*Specification!$H$6)*2*PI()*Specification!$C$17 -> 13.299409 | J52: =D52*Specification!$H$4*Specification!$H$6/Specification!$C$17 -> 954.00787 | K52: =K51+100 -> 6000 | L52: =A52/(60*Specification!$H$5*Specification!$H$6)*2*PI()*Specification!$C$17 -> 18.999156 | M52: =D52*Specification!$H$5*Specification!$H$6/Specification!$C$17 -> 667.80551 | N52: =N51+100 -> 6000
A53: =A52+100 -> 6100 | C53: 17.2 | D53: =C53*7127/A53 -> 20.095803 | E53: =E52+100 -> 6100 | F53: =A53/(60*Specification!$H$3*Specification!$H$6)*2*PI()*Specification!$C$17 -> 6.7605329 | G53: =D53*Specification!$H$3*Specification!$H$6/Specification!$C$17 -> 1898.8161 | H53: =H52+100 -> 6100 | I53: =A53/(60*Specification!$H$4*Specification!$H$6)*2*PI()*Specification!$C$17 -> 13.521066 | J53: =D53*Specification!$H$4*Specification!$H$6/Specification!$C$17 -> 949.40803 | K53: =K52+100 -> 6100 | L53: =A53/(60*Specification!$H$5*Specification!$H$6)*2*PI()*Specification!$C$17 -> 19.315808 | M53: =D53*Specification!$H$5*Specification!$H$6/Specification!$C$17 -> 664.58562 | N53: =N52+100 -> 6100
A54: =A53+100 -> 6200 | C54: 17.4 | D54: =C54*7127/A54 -> 20.001581 | E54: =E53+100 -> 6200 | F54: =A54/(60*Specification!$H$3*Specification!$H$6)*2*PI()*Specification!$C$17 -> 6.8713613 | G54: =D54*Specification!$H$3*Specification!$H$6/Specification!$C$17 -> 1889.9131 | H54: =H53+100 -> 6200 | I54: =A54/(60*Specification!$H$4*Specification!$H$6)*2*PI()*Specification!$C$17 -> 13.742723 | J54: =D54*Specification!$H$4*Specification!$H$6/Specification!$C$17 -> 944.95657 | K54: =K53+100 -> 6200 | L54: =A54/(60*Specification!$H$5*Specification!$H$6)*2*PI()*Specification!$C$17 -> 19.632461 | M54: =D54*Specification!$H$5*Specification!$H$6/Specification!$C$17 -> 661.4696 | N54: =N53+100 -> 6200
A55: =A54+100 -> 6300 | C55: 17.6 | D55: =C55*7127/A55 -> 19.910349 | E55: =E54+100 -> 6300 | F55: =A55/(60*Specification!$H$3*Specification!$H$6)*2*PI()*Specification!$C$17 -> 6.9821897 | G55: =D55*Specification!$H$3*Specification!$H$6/Specification!$C$17 -> 1881.2928 | H55: =H54+100 -> 6300 | I55: =A55/(60*Specification!$H$4*Specification!$H$6)*2*PI()*Specification!$C$17 -> 13.964379 | J55: =D55*Specification!$H$4*Specification!$H$6/Specification!$C$17 -> 940.64642 | K55: =K54+100 -> 6300 | L55: =A55/(60*Specification!$H$5*Specification!$H$6)*2*PI()*Specification!$C$17 -> 19.949113 | M55: =D55*Specification!$H$5*Specification!$H$6/Specification!$C$17 -> 658.45249 | N55: =N54+100 -> 6300
A56: =A55+100 -> 6400 | B56: 17.8 | C56: 17.8 | D56: =C56*7127/A56 -> 19.821969 | E56: =E55+100 -> 6400 | F56: =A56/(60*Specification!$H$3*Specification!$H$6)*2*PI()*Specification!$C$17 -> 7.0930181 | G56: =D56*Specification!$H$3*Specification!$H$6/Specification!$C$17 -> 1872.9419 | H56: =H55+100 -> 6400 | I56: =A56/(60*Specification!$H$4*Specification!$H$6)*2*PI()*Specification!$C$17 -> 14.186036 | J56: =D56*Specification!$H$4*Specification!$H$6/Specification!$C$17 -> 936.47096 | K56: =K55+100 -> 6400 | L56: =A56/(60*Specification!$H$5*Specification!$H$6)*2*PI()*Specification!$C$17 -> 20.265766 | M56: =D56*Specification!$H$5*Specification!$H$6/Specification!$C$17 -> 655.52968 | N56: =N55+100 -> 6400
A57: =A56+100 -> 6500 | B57: 18 | C57: 18 | D57: =C57*7127/A57 -> 19.736308 | E57: =E56+100 -> 6500 | F57: =A57/(60*Specification!$H$3*Specification!$H$6)*2*PI()*Specification!$C$17 -> 7.2038465 | G57: =D57*Specification!$H$3*Specification!$H$6/Specification!$C$17 -> 1864.848 | H57: =H56+100 -> 6500 | I57: =A57/(60*Specification!$H$4*Specification!$H$6)*2*PI()*Specification!$C$17 -> 14.407693 | J57: =D57*Specification!$H$4*Specification!$H$6/Specification!$C$17 -> 932.42399 | K57: =K56+100 -> 6500 | L57: =A57/(60*Specification!$H$5*Specification!$H$6)*2*PI()*Specification!$C$17 -> 20.582419 | M57: =D57*Specification!$H$5*Specification!$H$6/Specification!$C$17 -> 652.69679 | N57: =N56+100 -> 6500
A58: =A57+100 -> 6600 | C58: 17 | D58: =C58*7127/A58 -> 18.357424 | E58: =E57+100 -> 6600 | F58: =A58/(60*Specification!$H$3*Specification!$H$6)*2*PI()*Specification!$C$17 -> 7.3146749 | G58: =D58*Specification!$H$3*Specification!$H$6/Specification!$C$17 -> 1734.5598 | H58: =H57+100 -> 6600 | I58: =A58/(60*Specification!$H$4*Specification!$H$6)*2*PI()*Specification!$C$17 -> 14.62935 | J58: =D58*Specification!$H$4*Specification!$H$6/Specification!$C$17 -> 867.27989 | K58: =K57+100 -> 6600 | L58: =A58/(60*Specification!$H$5*Specification!$H$6)*2*PI()*Specification!$C$17 -> 20.899071 | M58: =D58*Specification!$H$5*Specification!$H$6/Specification!$C$17 -> 607.09592 | N58: =N57+100 -> 6600
A59: =A58+100 -> 6700 | C59: 16 | D59: =C59*7127/A59 -> 17.019701 | E59: =E58+100 -> 6700 | F59: =A59/(60*Specification!$H$3*Specification!$H$6)*2*PI()*Specification!$C$17 -> 7.4255033 | G59: =D59*Specification!$H$3*Specification!$H$6/Specification!$C$17 -> 1608.1608 | H59: =H58+100 -> 6700 | I59: =A59/(60*Specification!$H$4*Specification!$H$6)*2*PI()*Specification!$C$17 -> 14.851007 | J59: =D59*Specification!$H$4*Specification!$H$6/Specification!$C$17 -> 804.08039 | K59: =K58+100 -> 6700 | L59: =A59/(60*Specification!$H$5*Specification!$H$6)*2*PI()*Specification!$C$17 -> 21.215724 | M59: =D59*Specification!$H$5*Specification!$H$6/Specification!$C$17 -> 562.85627 | N59: =N58+100 -> 6700
A60: =A59+100 -> 6800 | C60: 15 | D60: =C60*7127/A60 -> 15.721324 | E60: =E59+100 -> 6800 | F60: =A60/(60*Specification!$H$3*Specification!$H$6)*2*PI()*Specification!$C$17 -> 7.5363317 | G60: =D60*Specification!$H$3*Specification!$H$6/Specification!$C$17 -> 1485.4794 | H60: =H59+100 -> 6800 | I60: =A60/(60*Specification!$H$4*Specification!$H$6)*2*PI()*Specification!$C$17 -> 15.072663 | J60: =D60*Specification!$H$4*Specification!$H$6/Specification!$C$17 -> 742.73969 | K60: =K59+100 -> 6800 | L60: =A60/(60*Specification!$H$5*Specification!$H$6)*2*PI()*Specification!$C$17 -> 21.532376 | M60: =D60*Specification!$H$5*Specification!$H$6/Specification!$C$17 -> 519.91779 | N60: =N59+100 -> 6800
A61: =A60+100 -> 6900 | C61: 14 | D61: =C61*7127/A61 -> 14.46058 | E61: =E60+100 -> 6900 | F61: =A61/(60*Specification!$H$3*Specification!$H$6)*2*PI()*Specification!$C$17 -> 7.6471601 | G61: =D61*Specification!$H$3*Specification!$H$6/Specification!$C$17 -> 1366.354 | H61: =H60+100 -> 6900 | I61: =A61/(60*Specification!$H$4*Specification!$H$6)*2*PI()*Specification!$C$17 -> 15.29432 | J61: =D61*Specification!$H$4*Specification!$H$6/Specification!$C$17 -> 683.17699 | K61: =K60+100 -> 6900 | L61: =A61/(60*Specification!$H$5*Specification!$H$6)*2*PI()*Specification!$C$17 -> 21.849029 | M61: =D61*Specification!$H$5*Specification!$H$6/Specification!$C$17 -> 478.2239 | N61: =N60+100 -> 6900
A62: =A61+100 -> 7000 | B62: 13 | C62: 13 | D62: =C62*7127/A62 -> 13.235857 | E62: =E61+100 -> 7000 | F62: =A62/(60*Specification!$H$3*Specification!$H$6)*2*PI()*Specification!$C$17 -> 7.7579885 | G62: =D62*Specification!$H$3*Specification!$H$6/Specification!$C$17 -> 1250.6322 | H62: =H61+100 -> 7000 | I62: =A62/(60*Specification!$H$4*Specification!$H$6)*2*PI()*Specification!$C$17 -> 15.515977 | J62: =D62*Specification!$H$4*Specification!$H$6/Specification!$C$17 -> 625.31609 | K62: =K61+100 -> 7000 | L62: =A62/(60*Specification!$H$5*Specification!$H$6)*2*PI()*Specification!$C$17 -> 22.165682 | M62: =D62*Specification!$H$5*Specification!$H$6/Specification!$C$17 -> 437.72126 | N62: =N61+100 -> 7000

Sheet Track Design
B1: Length | C1: Radius | D1: Angle | E1: Surface | F1: Bumps | G1: Dist
A2: Straight 1 | B2: 300 | C2: 0 | D2: 0 | E2: Asphalt | F2: 0 | G2: =B2 -> 300
A3: Corner 1 | B3: =PI()*40 -> 125.66371 | C3: 40 | D3: 180 | E3: Asphalt | F3: 0 | G3: =B2+B3 -> 425.66371
A4: Corner 2 | B4: =PI()*20 -> 62.831853 | C4: 40 | D4: 90 | E4: Asphalt | F4: 0 | G4: =G3+B4 -> 488.49556
A5: Straight 2 | B5: 200 | C5: 0 | D5: 0 | E5: Dry Dirt | G5: =G4+B5 -> 688.49556
A6: Corner 3 | B6: =PI()*20 -> 62.831853 | C6: 40 | D6: 90 | E6: Dry Dirt | G6: =G5+B6 -> 751.32741
A7: Straight 3 | B7: 320 | C7: 0 | D7: 0 | E7: Dry Dirt | G7: =G6+B7 -> 1071.3274
A8: Corner 4 | B8: =PI()*40 -> 125.66371 | C8: 40 | D8: 180 | E8: Dry Dirt | G8: =G7+B8 -> 1196.9911
A9: Corner 5 | B9: =PI()*20 -> 62.831853 | C9: 40 | D9: 90 | E9: Dry Dirt | G9: =G8+B9 -> 1259.823
A10: Straight 4 | B10: 150 | C10: 0 | D10: 0 | E10: Wet Dirt | G10: =G9+B10 -> 1409.823
A11: Corner 6 | B11: =PI()*20 -> 62.831853 | C11: 40 | D11: 90 | E11: Wet Dirt | G11: =G10+B11 -> 1472.6548
A12: Corner 7 | B12: =PI()*20 -> 62.831853 | C12: 40 | D12: 90 | E12: Wet Dirt | G12: =G11+B12 -> 1535.4867
A13: Straight 5 | B13: 10 | C13: 0 | D13: 0 | E13: Asphalt | G13: =G12+B13 -> 1545.4867
A14: Corner 8 | B14: =PI()*20 -> 62.831853 | C14: 40 | D14: 90 | E14: Asphalt | G14: =G13+B14 -> 1608.3185
A15: Straight 6 | B15: 100 | C15: 0 | D15: 0 | E15: Asphalt | G15: =G14+B15 -> 1708.3185
B16: =SUM(B2:B15) -> 1708.3185

Sheet Track
A1: Distance (m) | B1: Velocity (m/s) | C1: RollResForce (N) | D1: AirResForce (N) | E1: Slope (deg) | F1: GravForce (N) | G1: AccelForce (N) | H1: Equiv Mass (kg) | I1: Accerlation (m/s^2) | J1: Gear | K1: RPM | L1: Time Elapsed (s) | M1: Elevation (m) | N1: Power (hp) | O1: Torque (Nm) | P1: Power (kw) | Q1: BSFC | R1: Fuel Flow | S1: Energy (kwh) | T1: Fuel Consumption (g) | U1: Total Consumption
A2: 1 | B2: 0 | C2: =Specification!$G$30 -> 109.96225 | D2: 0 | E2: 0 | F2: =Specification!$C$23*9.81*SIN((E2*PI()/180)) -> 0 | G2: =IF(J2=1,VLOOKUP(K2,RPM!$E$2:$H$62,3,FALSE)-F2-E2-D2,IF(J2=2,VLOOKUP(K2,RPM!$H$2:$K$62,3,FALSE)-F2-E2-D2,IF(J2=3,VLOOKUP(K2,RPM!$K$2:$N$62,3,FALSE)-F2-E2-D2))) -> 538.73386 | H2: =IF(J2=1,Specification!$I$14,IF(J2=2,Specification!$I$15,IF(J2=3,Specification!$I$16))) -> 590.85611 | I2: =G2/H2 -> 0.9117852 | J2: 1 | K2: 1000 | L2: =(B3-B2)/I2 -> 1.4810466 | M2: 0 | N2: =VLOOKUP(K2,RPM!$A$2:$D$62,4,FALSE) -> 5.7016 | O2: =VLOOKUP(K2,RPM!$A$2:$D$62,3,FALSE) -> 0.8 | P2: =N2*0.7457 -> 4.2516831 | Q2: 0 | R2: 0 | S2: 0 | T2: 0 | U2: 0
A3: =A2+1 -> 2 | B3: =IF(SQRT(B2^2+2*I2)>13.4112,13.4112,SQRT(B2^2+2*I2)) -> 1.3503964 | C3: =Specification!$G$30 -> 109.96225 | D3: =0.5*Specification!$K$4*Track!B3^2*Specification!$K$3*Specification!$K$2 -> 0.94453053 | E3: 0 | F3: =Specification!$C$23*9.81*SIN((E3*PI()/180)) -> 0 | G3: =IF(J3=1,VLOOKUP(K3,RPM!$E$2:$H$62,3,FALSE)-F3-E3-D3,IF(J3=2,VLOOKUP(K3,RPM!$H$2:$K$62,3,FALSE)-F3-E3-D3,IF(J3=3,VLOOKUP(K3,RPM!$K$2:$N$62,3,FALSE)-F3-E3-D3))) -> 717.36728 | H3: =IF(J3=1,Specification!$I$14,IF(J3=2,Specification!$I$15,IF(J3=3,Specification!$I$16))) -> 590.85611 | I3: =G3/H3 -> 1.214115 | J3: 1 | K3: =IF(J3=1,VLOOKUP(B3,RPM!$F$2:$H$62,3,TRUE),IF(J3=2,VLOOKUP(B3,RPM!$I$2:$K$62,3,TRUE),IF(J3=3,VLOOKUP(B3,RPM!$L$2:$N$62,3,TRUE)))) -> 1200 | L3: =IF(I3=0,ABS(1/B3)+L2,ABS((B4-B3)/I3)+L2) -> 2.0671468 | M3: =TAN(E3*PI()/180)+M2 -> 0 | N3: =VLOOKUP(K3,RPM!$A$2:$D$62,4,FALSE) -> 7.6021333 | O3: =VLOOKUP(K3,RPM!$A$2:$D$62,3,FALSE) -> 1.28 | P3: =N3*0.7457 -> 5.6689108 | Q3: {=_xlfn.XLOOKUP(O3,BSFC!$A$2:$A$24,_xlfn.XLOOKUP(K3,BSFC!$B$2:$O$2,BSFC!$B$2:$O$24,,-1),,-1)} -> 860 | R3: =Q3*P3/3600 -> 1.3542398 | S3: =(L3-L2)/3600*P3 -> 0.00092293049 | T3: =S3*Q3 -> 0.79372022 | U3: =U2+T3 -> 0.79372022
A4: =A3+1 -> 3 | B4: =IF(SQRT(B3^2+2*I3)>13.4112,13.4112,SQRT(B3^2+2*I3)) -> 2.0619894 | C4: =Specification!$G$30 -> 109.96225 | D4: =0.5*Specification!$K$4*Track!B4^2*Specification!$K$3*Specification!$K$2 -> 2.2022486 | E4: 0 | F4: =Specification!$C$23*9.81*SIN((E4*PI()/180)) -> 0 | G4: =IF(J4=1,VLOOKUP(K4,RPM!$E$2:$H$62,3,FALSE)-F4-E4-D4,IF(J4=2,VLOOKUP(K4,RPM!$H$2:$K$62,3,FALSE)-F4-E4-D4,IF(J4=3,VLOOKUP(K4,RPM!$K$2:$N$62,3,FALSE)-F4-E4-D4))) -> 1194.9841 | H4: =IF(J4=1,Specification!$I$14,IF(J4=2,Specification!$I$15,IF(J4=3,Specification!$I$16))) -> 590.85611 | I4: =G4/H4 -> 2.0224621 | J4: 1 | K4: =IF(J4=1,VLOOKUP(B4,RPM!$F$2:$H$62,3,TRUE),IF(J4=2,VLOOKUP(B4,RPM!$I$2:$K$62,3,TRUE),IF(J4=3,VLOOKUP(B4,RPM!$L$2:$N$62,3,TRUE)))) -> 1800 | L4: =IF(I4=0,ABS(1/B4)+L3,ABS((B5-B4)/I4)+L3) -> 2.4718091 | M4: =TAN(E4*PI()/180)+M3 -> 0 | N4: =VLOOKUP(K4,RPM!$A$2:$D$62,4,FALSE) -> 12.670222 | O4: =VLOOKUP(K4,RPM!$A$2:$D$62,3,FALSE) -> 3.2 | P4: =N4*0.7457 -> 9.4481847 | Q4: {=_xlfn.XLOOKUP(O4,BSFC!$A$2:$A$24,_xlfn.XLOOKUP(K4,BSFC!$B$2:$O$2,BSFC!$B$2:$O$24,,-1),,-1)} -> 752 | R4: =Q4*P4/3600 -> 1.9736208 | S4: =(L4-L3)/3600*P4 -> 0.0010620344 | T4: =S4*Q4 -> 0.79864989 | U4: =U3+T4 -> 1.5923701
A5: =A4+1 -> 4 | B5: =IF(SQRT(B4^2+2*I4)>13.4112,13.4112,SQRT(B4^2+2*I4)) -> 2.8804036 | C5: =Specification!$G$30 -> 109.96225 | D5: =0.5*Specification!$K$4*Track!B5^2*Specification!$K$3*Specification!$K$2 -> 4.2973442 | E5: 0 | F5: =Specification!$C$23*9.81*SIN((E5*PI()/180)) -> 0 | G5: =IF(J5=1,VLOOKUP(K5,RPM!$E$2:$H$62,3,FALSE)-F5-E5-D5,IF(J5=2,VLOOKUP(K5,RPM!$H$2:$K$62,3,FALSE)-F5-E5-D5,IF(J5=3,VLOOKUP(K5,RPM!$K$2:$N$62,3,FALSE)-F5-E5-D5))) -> 1342.5373 | H5: =IF(J5=1,Specification!$I$14,IF(J5=2,Specification!$I$15,IF(J5=3,Specification!$I$16))) -> 590.85611 | I5: =G5/H5 -> 2.2721899 | J5: 1 | K5: =IF(J5=1,VLOOKUP(B5,RPM!$F$2:$H$62,3,TRUE),IF(J5=2,VLOOKUP(B5,RPM!$I$2:$K$62,3,TRUE),IF(J5=3,VLOOKUP(B5,RPM!$L$2:$N$62,3,TRUE)))) -> 2500 | L5: =IF(I5=0,ABS(1/B5)+L4,ABS((B6-B5)/I5)+L4) -> 2.7812221 | M5: =TAN(E5*PI()/180)+M4 -> 0 | N5: =VLOOKUP(K5,RPM!$A$2:$D$62,4,FALSE) -> 14.254 | O5: =VLOOKUP(K5,RPM!$A$2:$D$62,3,FALSE) -> 5 | P5: =N5*0.7457 -> 10.629208 | Q5: {=_xlfn.XLOOKUP(O5,BSFC!$A$2:$A$24,_xlfn.XLOOKUP(K5,BSFC!$B$2:$O$2,BSFC!$B$2:$O$24,,-1),,-1)} -> 570 | R5: =Q5*P5/3600 -> 1.6829579 | S5: =(L5-L4)/3600*P5 -> 0.00091355978 | T5: =S5*Q5 -> 0.52072908 | U5: =U4+T5 -> 2.1130992
A6: =A5+1 -> 5 | B6: =IF(SQRT(B5^2+2*I5)>13.4112,13.4112,SQRT(B5^2+2*I5)) -> 3.5834487 | C6: =Specification!$G$30 -> 109.96225 | D6: =0.5*Specification!$K$4*Track!B6^2*Specification!$K$3*Specification!$K$2 -> 6.6511363 | E6: 0 | F6: =Specification!$C$23*9.81*SIN((E6*PI()/180)) -> 0 | G6: =IF(J6=1,VLOOKUP(K6,RPM!$E$2:$H$62,3,FALSE)-F6-E6-D6,IF(J6=2,VLOOKUP(K6,RPM!$H$2:$K$62,3,FALSE)-F6-E6-D6,IF(J6=3,VLOOKUP(K6,RPM!$K$2:$N$62,3,FALSE)-F6-E6-D6))) -> 1676.8922 | H6: =IF(J6=1,Specification!$I$14,IF(J6=2,Specification!$I$15,IF(J6=3,Specification!$I$16))) -> 590.85611 | I6: =G6/H6 -> 2.838072 | J6: 1 | K6: =IF(J6=1,VLOOKUP(B6,RPM!$F$2:$H$62,3,TRUE),IF(J6=2,VLOOKUP(B6,RPM!$I$2:$K$62,3,TRUE),IF(J6=3,VLOOKUP(B6,RPM!$L$2:$N$62,3,TRUE)))) -> 3200 | L6: =IF(I6=0,ABS(1/B6)+L5,ABS((B7-B6)/I6)+L5) -> 3.0348163 | M6: =TAN(E6*PI()/180)+M5 -> 0 | N6: =VLOOKUP(K6,RPM!$A$2:$D$62,4,FALSE) -> 17.8175 | O6: =VLOOKUP(K6,RPM!$A$2:$D$62,3,FALSE) -> 8 | P6: =N6*0.7457 -> 13.28651 | Q6: {=_xlfn.XLOOKUP(O6,BSFC!$A$2:$A$24,_xlfn.XLOOKUP(K6,BSFC!$B$2:$O$2,BSFC!$B$2:$O$24,,-1),,-1)} -> 430 | R6: =Q6*P6/3600 -> 1.5869998 | S6: =(L6-L5)/3600*P6 -> 0.00093593936 | T6: =S6*Q6 -> 0.40245393 | U6: =U5+T6 -> 2.5155531
A7: =A6+1 -> 6 | B7: =IF(SQRT(B6^2+2*I6)>13.4112,13.4112,SQRT(B6^2+2*I6)) -> 4.3031672 | C7: =Specification!$G$30 -> 109.96225 | D7: =0.5*Specification!$K$4*Track!B7^2*Specification!$K$3*Specification!$K$2 -> 9.5911331 | E7: 0 | F7: =Specification!$C$23*9.81*SIN((E7*PI()/180)) -> 0 | G7: =IF(J7=1,VLOOKUP(K7,RPM!$E$2:$H$62,3,FALSE)-F7-E7-D7,IF(J7=2,VLOOKUP(K7,RPM!$H$2:$K$62,3,FALSE)-F7-E7-D7,IF(J7=3,VLOOKUP(K7,RPM!$K$2:$N$62,3,FALSE)-F7-E7-D7))) -> 1780.2812 | H7: =IF(J7=1,Specification!$I$14,IF(J7=2,Specification!$I$15,IF(J7=3,Specification!$I$16))) -> 590.85611 | I7: =G7/H7 -> 3.0130537 | J7: 1 | K7: =IF(J7=1,VLOOKUP(B7,RPM!$F$2:$H$62,3,TRUE),IF(J7=2,VLOOKUP(B7,RPM!$I$2:$K$62,3,TRUE),IF(J7=3,VLOOKUP(B7,RPM!$L$2:$N$62,3,TRUE)))) -> 3800 | L7: =IF(I7=0,ABS(1/B7)+L6,ABS((B8-B7)/I7)+L6) -> 3.2508622 | M7: =TAN(E7*PI()/180)+M6 -> 0 | N7: =VLOOKUP(K7,RPM!$A$2:$D$62,4,FALSE) -> 18.942816 | O7: =VLOOKUP(K7,RPM!$A$2:$D$62,3,FALSE) -> 10.1 | P7: =N7*0.7457 -> 14.125658 | Q7: {=_xlfn.XLOOKUP(O7,BSFC!$A$2:$A$24,_xlfn.XLOOKUP(K7,BSFC!$B$2:$O$2,BSFC!$B$2:$O$24,,-1),,-1)} -> 360 | R7: =Q7*P7/3600 -> 1.4125658 | S7: =(L7-L6)/3600*P7 -> 0.00084771954 | T7: =S7*Q7 -> 0.30517903 | U7: =U6+T7 -> 2.8207321
A8: =A7+1 -> 7 | B8: =IF(SQRT(B7^2+2*I7)>13.4112,13.4112,SQRT(B7^2+2*I7)) -> 4.9541251 | C8: =Specification!$G$30 -> 109.96225 | D8: =0.5*Specification!$K$4*Track!B8^2*Specification!$K$3*Specification!$K$2 -> 12.712396 | E8: 0 | F8: =Specification!$C$23*9.81*SIN((E8*PI()/180)) -> 0 | G8: =IF(J8=1,VLOOKUP(K8,RPM!$E$2:$H$62,3,FALSE)-F8-E8-D8,IF(J8=2,VLOOKUP(K8,RPM!$H$2:$K$62,3,FALSE)-F8-E8-D8,IF(J8=3,VLOOKUP(K8,RPM!$K$2:$N$62,3,FALSE)-F8-E8-D8))) -> 1777.9655 | H8: =IF(J8=1,Specification!$I$14,IF(J8=2,Specification!$I$15,IF(J8=3,Specification!$I$16))) -> 590.85611 | I8: =G8/H8 -> 3.0091344 | J8: 1 | K8: =IF(J8=1,VLOOKUP(B8,RPM!$F$2:$H$62,3,TRUE),IF(J8=2,VLOOKUP(B8,RPM!$I$2:$K$62,3,TRUE),IF(J8=3,VLOOKUP(B8,RPM!$L$2:$N$62,3,TRUE)))) -> 4400 | L8: =IF(I8=0,ABS(1/B8)+L7,ABS((B9-B8)/I8)+L7) -> 3.4416585 | M8: =TAN(E8*PI()/180)+M7 -> 0 | N8: =VLOOKUP(K8,RPM!$A$2:$D$62,4,FALSE) -> 18.951341 | O8: =VLOOKUP(K8,RPM!$A$2:$D$62,3,FALSE) -> 11.7 | P8: =N8*0.7457 -> 14.132015 | Q8: {=_xlfn.XLOOKUP(O8,BSFC!$A$2:$A$24,_xlfn.XLOOKUP(K8,BSFC!$B$2:$O$2,BSFC!$B$2:$O$24,,-1),,-1)} -> 340 | R8: =Q8*P8/3600 -> 1.3346903 | S8: =(L8-L7)/3600*P8 -> 0.00074898237 | T8: =S8*Q8 -> 0.25465401 | U8: =U7+T8 -> 3.0753862
A9: =A8+1 -> 8 | B9: =IF(SQRT(B8^2+2*I8)>13.4112,13.4112,SQRT(B8^2+2*I8)) -> 5.5282569 | C9: =Specification!$G$30 -> 109.96225 | D9: =0.5*Specification!$K$4*Track!B9^2*Specification!$K$3*Specification!$K$2 -> 15.829599 | E9: 0 | F9: =Specification!$C$23*9.81*SIN((E9*PI()/180)) -> 0 | G9: =IF(J9=1,VLOOKUP(K9,RPM!$E$2:$H$62,3,FALSE)-F9-E9-D9,IF(J9=2,VLOOKUP(K9,RPM!$H$2:$K$62,3,FALSE)-F9-E9-D9,IF(J9=3,VLOOKUP(K9,RPM!$K$2:$N$62,3,FALSE)-F9-E9-D9))) -> 1853.2471 | H9: =IF(J9=1,Specification!$I$14,IF(J9=2,Specification!$I$15,IF(J9=3,Specification!$I$16))) -> 590.85611 | I9: =G9/H9 -> 3.1365454 | J9: 1 | K9: =IF(J9=1,VLOOKUP(B9,RPM!$F$2:$H$62,3,TRUE),IF(J9=2,VLOOKUP(B9,RPM!$I$2:$K$62,3,TRUE),IF(J9=3,VLOOKUP(B9,RPM!$L$2:$N$62,3,TRUE)))) -> 4900 | L9: =IF(I9=0,ABS(1/B9)+L8,ABS((B10-B9)/I9)+L8) -> 3.6141107 | M9: =TAN(E9*PI()/180)+M8 -> 0 | N9: =VLOOKUP(K9,RPM!$A$2:$D$62,4,FALSE) -> 19.781061 | O9: =VLOOKUP(K9,RPM!$A$2:$D$62,3,FALSE) -> 13.6 | P9: =N9*0.7457 -> 14.750737 | Q9: {=_xlfn.XLOOKUP(O9,BSFC!$A$2:$A$24,_xlfn.XLOOKUP(K9,BSFC!$B$2:$O$2,BSFC!$B$2:$O$24,,-1),,-1)} -> 280 | R9: =Q9*P9/3600 -> 1.1472796 | S9: =(L9-L8)/3600*P9 -> 0.00070661022 | T9: =S9*Q9 -> 0.19785086 | U9: =U8+T9 -> 3.273237
A10: =A9+1 -> 9 | B10: =IF(SQRT(B9^2+2*I9)>13.4112,13.4112,SQRT(B9^2+2*I9)) -> 6.069161 | C10: =Specification!$G$30 -> 109.96225 | D10: =0.5*Specification!$K$4*Track!B10^2*Specification!$K$3*Specification!$K$2 -> 19.078788 | E10: 0 | F10: =Specification!$C$23*9.81*SIN((E10*PI()/180)) -> 0 | G10: =IF(J10=1,VLOOKUP(K10,RPM!$E$2:$H$62,3,FALSE)-F10-E10-D10,IF(J10=2,VLOOKUP(K10,RPM!$H$2:$K$62,3,FALSE)-F10-E10-D10,IF(J10=3,VLOOKUP(K10,RPM!$K$2:$N$62,3,FALSE)-F10-E10-D10))) -> 2024.1193 | H10: =IF(J10=1,Specification!$I$14,IF(J10=2,Specification!$I$15,IF(J10=3,Specification!$I$16))) -> 590.85611 | I10: =G10/H10 -> 3.4257397 | J10: 1 | K10: =IF(J10=1,VLOOKUP(B10,RPM!$F$2:$H$62,3,TRUE),IF(J10=2,VLOOKUP(B10,RPM!$I$2:$K$62,3,TRUE),IF(J10=3,VLOOKUP(B10,RPM!$L$2:$N$62,3,TRUE)))) -> 5400 | L10: =IF(I10=0,ABS(1/B10)+L9,ABS((B11-B10)/I10)+L9) -> 3.7718554 | M10: =TAN(E10*PI()/180)+M9 -> 0 | N10: =VLOOKUP(K10,RPM!$A$2:$D$62,4,FALSE) -> 21.623846 | O10: =VLOOKUP(K10,RPM!$A$2:$D$62,3,FALSE) -> 16.384 | P10: =N10*0.7457 -> 16.124902 | Q10: {=_xlfn.XLOOKUP(O10,BSFC!$A$2:$A$24,_xlfn.XLOOKUP(K10,BSFC!$B$2:$O$2,BSFC!$B$2:$O$24,,-1),,-1)} -> 350 | R10: =Q10*P10/3600 -> 1.5676988 | S10: =(L10-L9)/3600*P10 -> 0.00070656051 | T10: =S10*Q10 -> 0.24729618 | U10: =U9+T10 -> 3.5205332
A11: =A10+1 -> 10 | B11: =IF(SQRT(B10^2+2*I10)>13.4112,13.4112,SQRT(B10^2+2*I10)) -> 6.6095533 | C11: =Specification!$G$30 -> 109.96225 | D11: =0.5*Specification!$K$4*Track!B11^2*Specification!$K$3*Specification!$K$2 -> 22.627558 | E11: 0 | F11: =Specification!$C$23*9.81*SIN((E11*PI()/180)) -> 0 | G11: =IF(J11=1,VLOOKUP(K11,RPM!$E$2:$H$62,3,FALSE)-F11-E11-D11,IF(J11=2,VLOOKUP(K11,RPM!$H$2:$K$62,3,FALSE)-F11-E11-D11,IF(J11=3,VLOOKUP(K11,RPM!$K$2:$N$62,3,FALSE)-F11-E11-D11))) -> 1917.2709 | H11: =IF(J11=1,Specification!$I$14,IF(J11=2,Specification!$I$15,IF(J11=3,Specification!$I$16))) -> 590.85611 | I11: =G11/H11 -> 3.2449032 | J11: 1 | K11: =IF(J11=1,VLOOKUP(B11,RPM!$F$2:$H$62,3,TRUE),IF(J11=2,VLOOKUP(B11,RPM!$I$2:$K$62,3,TRUE),IF(J11=3,VLOOKUP(B11,RPM!$L$2:$N$62,3,TRUE)))) -> 5900 | L11: =IF(I11=0,ABS(1/B11)+L10,ABS((B12-B11)/I11)+L10) -> 3.9179148 | M11: =TAN(E11*PI()/180)+M10 -> 0 | N11: =VLOOKUP(K11,RPM!$A$2:$D$62,4,FALSE) -> 20.530592 | O11: =VLOOKUP(K11,RPM!$A$2:$D$62,3,FALSE) -> 16.996 | P11: =N11*0.7457 -> 15.309662 | Q11: {=_xlfn.XLOOKUP(O11,BSFC!$A$2:$A$24,_xlfn.XLOOKUP(K11,BSFC!$B$2:$O$2,BSFC!$B$2:$O$24,,-1),,-1)} -> 350 | R11: =Q11*P11/3600 -> 1.4884394 | S11: =(L11-L10)/3600*P11 -> 0.00062114464 | T11: =S11*Q11 -> 0.21740062 | U11: =U10+T11 -> 3.7379338
A12: =A11+1 -> 11 | B12: =IF(SQRT(B11^2+2*I11)>13.4112,13.4112,SQRT(B11^2+2*I11)) -> 7.0835021 | C12: =Specification!$G$30 -> 109.96225 | D12: =0.5*Specification!$K$4*Track!B12^2*Specification!$K$3*Specification!$K$2 -> 25.988997 | E12: 0 | F12: =Specification!$C$23*9.81*SIN((E12*PI()/180)) -> 0 | G12: =IF(J12=1,VLOOKUP(K12,RPM!$E$2:$H$62,3,FALSE)-F12-E12-D12,IF(J12=2,VLOOKUP(K12,RPM!$H$2:$K$62,3,FALSE)-F12-E12-D12,IF(J12=3,VLOOKUP(K12,RPM!$K$2:$N$62,3,FALSE)-F12-E12-D12))) -> 1855.3038 | H12: =IF(J12=1,Specification!$I$14,IF(J12=2,Specification!$I$15,IF(J12=3,Specification!$I$16))) -> 590.85611 | I12: =G12/H12 -> 3.1400265 | J12: 1 | K12: =IF(J12=1,VLOOKUP(B12,RPM!$F$2:$H$62,3,TRUE),IF(J12=2,VLOOKUP(B12,RPM!$I$2:$K$62,3,TRUE),IF(J12=3,VLOOKUP(B12,RPM!$L$2:$N$62,3,TRUE)))) -> 6300 | L12: =IF(I12=0,ABS(1/B12)+L11,ABS((B13-B12)/I12)+L11) -> 4.0549272 | M12: =TAN(E12*PI()/180)+M11 -> 0 | N12: =VLOOKUP(K12,RPM!$A$2:$D$62,4,FALSE) -> 19.910349 | O12: =VLOOKUP(K12,RPM!$A$2:$D$62,3,FALSE) -> 17.6 | P12: =N12*0.7457 -> 14.847147 | Q12: {=_xlfn.XLOOKUP(O12,BSFC!$A$2:$A$24,_xlfn.XLOOKUP(K12,BSFC!$B$2:$O$2,BSFC!$B$2:$O$24,,-1),,-1)} -> 360 | R12: =Q12*P12/3600 -> 1.4847147 | S12: =(L12-L11)/3600*P12 -> 0.00056506729 | T12: =S12*Q12 -> 0.20342423 | U12: =U11+T12 -> 3.941358
A13: =A12+1 -> 12 | B13: =IF(SQRT(B12^2+2*I12)>13.4112,13.4112,SQRT(B12^2+2*I12)) -> 7.5137244 | C13: =Specification!$G$30 -> 109.96225 | D13: =0.5*Specification!$K$4*Track!B13^2*Specification!$K$3*Specification!$K$2 -> 29.241792 | E13: 0 | F13: =Specification!$C$23*9.81*SIN((E13*PI()/180)) -> 0 | G13: =IF(J13=1,VLOOKUP(K13,RPM!$E$2:$H$62,3,FALSE)-F13-E13-D13,IF(J13=2,VLOOKUP(K13,RPM!$H$2:$K$62,3,FALSE)-F13-E13-D13,IF(J13=3,VLOOKUP(K13,RPM!$K$2:$N$62,3,FALSE)-F13-E13-D13))) -> 1578.919 | H13: =IF(J13=1,Specification!$I$14,IF(J13=2,Specification!$I$15,IF(J13=3,Specification!$I$16))) -> 590.85611 | I13: =G13/H13 -> 2.6722563 | J13: 1 | K13: =IF(J13=1,VLOOKUP(B13,RPM!$F$2:$H$62,3,TRUE),IF(J13=2,VLOOKUP(B13,RPM!$I$2:$K$62,3,TRUE),IF(J13=3,VLOOKUP(B13,RPM!$L$2:$N$62,3,TRUE)))) -> 6700 | L13: =IF(I13=0,ABS(1/B13)+L12,ABS((B14-B13)/I13)+L12) -> 4.185008 | M13: =TAN(E13*PI()/180)+M12 -> 0 | N13: =VLOOKUP(K13,RPM!$A$2:$D$62,4,FALSE) -> 17.019701 | O13: =VLOOKUP(K13,RPM!$A$2:$D$62,3,FALSE) -> 16 | P13: =N13*0.7457 -> 12.691591 | Q13: {=_xlfn.XLOOKUP(O13,BSFC!$A$2:$A$24,_xlfn.XLOOKUP(K13,BSFC!$B$2:$O$2,BSFC!$B$2:$O$24,,-1),,-1)} -> 350 | R13: =Q13*P13/3600 -> 1.2339047 | S13: =(L13-L12)/3600*P13 -> 0.00045859236 | T13: =S13*Q13 -> 0.16050732 | U13: =U12+T13 -> 4.1018654
A14: =A13+1 -> 13 | B14: =IF(SQRT(B13^2+2*I13)>13.4112,13.4112,SQRT(B13^2+2*I13)) -> 7.8613337 | C14: =Specification!$G$30 -> 109.96225 | D14: =0.5*Specification!$K$4*Track!B14^2*Specification!$K$3*Specification!$K$2 -> 32.010019 | E14: 0 | F14: =Specification!$C$23*9.81*SIN((E14*PI()/180)) -> 0 | G14: =IF(J14=1,VLOOKUP(K14,RPM!$E$2:$H$62,3,FALSE)-F14-E14-D14,IF(J14=2,VLOOKUP(K14,RPM!$H$2:$K$62,3,FALSE)-F14-E14-D14,IF(J14=3,VLOOKUP(K14,RPM!$K$2:$N$62,3,FALSE)-F14-E14-D14))) -> 881.91349 | H14: =IF(J14=1,Specification!$I$14,IF(J14=2,Specification!$I$15,IF(J14=3,Specification!$I$16))) -> 580.58319 | I14: =G14/H14 -> 1.5190131 | J14: 2 | K14: =IF(J14=1,VLOOKUP(B14,RPM!$F$2:$H$62,3,TRUE),IF(J14=2,VLOOKUP(B14,RPM!$I$2:$K$62,3,TRUE),IF(J14=3,VLOOKUP(B14,RPM!$L$2:$N$62,3,TRUE)))) -> 3500 | L14: =IF(I14=0,ABS(1/B14)+L13,ABS((B15-B14)/I14)+L13) -> 4.3106868 | M14: =TAN(E14*PI()/180)+M13 -> 0 | N14: =VLOOKUP(K14,RPM!$A$2:$D$62,4,FALSE) -> 19.344714 | O14: =VLOOKUP(K14,RPM!$A$2:$D$62,3,FALSE) -> 9.5 | P14: =N14*0.7457 -> 14.425353 | Q14: {=_xlfn.XLOOKUP(O14,BSFC!$A$2:$A$24,_xlfn.XLOOKUP(K14,BSFC!$B$2:$O$2,BSFC!$B$2:$O$24,,-1),,-1)} -> 400 | R14: =Q14*P14/3600 -> 1.602817 | S14: =(L14-L13)/3600*P14 -> 0.00050360055 | T14: =S14*Q14 -> 0.20144022 | U14: =U13+T14 -> 4.3033056
... A54: =A53+1 -> 53 | B54: =IF(SQRT(B53^2+2*I53)>13.4112,13.4112,SQRT(B53^2+2*I53)) -> 13.4112 | C54: =Specification!$G$30 -> 109.96225 | D54: =0.5*Specification!$K$4*Track!B54^2*Specification!$K$3*Specification!$K$2 -> 93.159843 | E54: 0 | F54: =Specification!$C$23*9.81*SIN((E54*PI()/180)) -> 0 | G54: =IF(J54=1,VLOOKUP(K54,RPM!$E$2:$H$62,3,FALSE)-F54-E54-D54,IF(J54=2,VLOOKUP(K54,RPM!$H$2:$K$62,3,FALSE)-F54-E54-D54,IF(J54=3,VLOOKUP(K54,RPM!$K$2:$N$62,3,FALSE)-F54-E54-D54))) -> 529.75118 | H54: =IF(J54=1,Specification!$I$14,IF(J54=2,Specification!$I$15,IF(J54=3,Specification!$I$16))) -> 578.83679 | I54: =G54/H54 -> 0.91519957 | J54: 3 | K54: =IF(J54=1,VLOOKUP(B54,RPM!$F$2:$H$62,3,TRUE),IF(J54=2,VLOOKUP(B54,RPM!$I$2:$K$62,3,TRUE),IF(J54=3,VLOOKUP(B54,RPM!$L$2:$N$62,3,TRUE)))) -> 4200 | L54: =IF(I54=0,ABS(1/B54)+L53,ABS((B55-B54)/I54)+L53) -> 7.8926627 | M54: =TAN(E54*PI()/180)+M53 -> 0 | N54: =VLOOKUP(K54,RPM!$A$2:$D$62,4,FALSE) -> 18.835643 | O54: =VLOOKUP(K54,RPM!$A$2:$D$62,3,FALSE) -> 11.1 | P54: =N54*0.7457 -> 14.045739 | Q54: {=_xlfn.XLOOKUP(O54,BSFC!$A$2:$A$24,_xlfn.XLOOKUP(K54,BSFC!$B$2:$O$2,BSFC!$B$2:$O$24,,-1),,-1)} -> 340 | R54: =Q54*P54/3600 -> 1.326542 | S54: =(L54-L53)/3600*P54 -> 0 | T54: =S54*Q54 -> 0 | U54: =U53+T54 -> 9.2642223
A55: =A54+1 -> 54 | B55: =IF(SQRT(B54^2+2*I54)>13.4112,13.4112,SQRT(B54^2+2*I54)) -> 13.4112 | C55: =Specification!$G$30 -> 109.96225 | D55: =0.5*Specification!$K$4*Track!B55^2*Specification!$K$3*Specification!$K$2 -> 93.159843 | E55: 0 | F55: =Specification!$C$23*9.81*SIN((E55*PI()/180)) -> 0 | G55: =IF(J55=1,VLOOKUP(K55,RPM!$E$2:$H$62,3,FALSE)-F55-E55-D55,IF(J55=2,VLOOKUP(K55,RPM!$H$2:$K$62,3,FALSE)-F55-E55-D55,IF(J55=3,VLOOKUP(K55,RPM!$K$2:$N$62,3,FALSE)-F55-E55-D55))) -> 529.75118 | H55: =IF(J55=1,Specification!$I$14,IF(J55=2,Specification!$I$15,IF(J55=3,Specification!$I$16))) -> 578.83679 | I55: 0 | J55: 3 | K55: =IF(J55=1,VLOOKUP(B55,RPM!$F$2:$H$62,3,TRUE),IF(J55=2,VLOOKUP(B55,RPM!$I$2:$K$62,3,TRUE),IF(J55=3,VLOOKUP(B55,RPM!$L$2:$N$62,3,TRUE)))) -> 4200 | L55: =IF(I55=0,ABS(1/B55)+L54,ABS((B56-B55)/I55)+L54) -> 7.9672272 | M55: =TAN(E55*PI()/180)+M54 -> 0 | N55: =VLOOKUP(K55,RPM!$A$2:$D$62,4,FALSE) -> 18.835643 | O55: =VLOOKUP(K55,RPM!$A$2:$D$62,3,FALSE) -> 11.1 | P55: =N55*0.7457 -> 14.045739 | Q55: {=_xlfn.XLOOKUP(O55,BSFC!$A$2:$A$24,_xlfn.XLOOKUP(K55,BSFC!$B$2:$O$2,BSFC!$B$2:$O$24,,-1),,-1)} -> 340 | R55: =Q55*P55/3600 -> 1.326542 | S55: =(L55-L54)/3600*P55 -> 0.00029092058 | T55: =S55*Q55 -> 0.098912998 | U55: =U54+T55 -> 9.3631353
A56: =A55+1 -> 55 | B56: =IF(SQRT(B55^2+2*I55)>13.4112,13.4112,SQRT(B55^2+2*I55)) -> 13.4112 | C56: =Specification!$G$30 -> 109.96225 | D56: =0.5*Specification!$K$4*Track!B56^2*Specification!$K$3*Specification!$K$2 -> 93.159843 | E56: 0 | F56: =Specification!$C$23*9.81*SIN((E56*PI()/180)) -> 0 | G56: =IF(J56=1,VLOOKUP(K56,RPM!$E$2:$H$62,3,FALSE)-F56-E56-D56,IF(J56=2,VLOOKUP(K56,RPM!$H$2:$K$62,3,FALSE)-F56-E56-D56,IF(J56=3,VLOOKUP(K56,RPM!$K$2:$N$62,3,FALSE)-F56-E56-D56))) -> 529.75118 | H56: =IF(J56=1,Specification!$I$14,IF(J56=2,Specification!$I$15,IF(J56=3,Specification!$I$16))) -> 578.83679 | I56: 0 | J56: 3 | K56: =IF(J56=1,VLOOKUP(B56,RPM!$F$2:$H$62,3,TRUE),IF(J56=2,VLOOKUP(B56,RPM!$I$2:$K$62,3,TRUE),IF(J56=3,VLOOKUP(B56,RPM!$L$2:$N$62,3,TRUE)))) -> 4200 | L56: =IF(I56=0,ABS(1/B56)+L55,ABS((B57-B56)/I56)+L55) -> 8.0417918 | M56: =TAN(E56*PI()/180)+M55 -> 0 | N56: =VLOOKUP(K56,RPM!$A$2:$D$62,4,FALSE) -> 18.835643 | O56: =VLOOKUP(K56,RPM!$A$2:$D$62,3,FALSE) -> 11.1 | P56: =N56*0.7457 -> 14.045739 | Q56: {=_xlfn.XLOOKUP(O56,BSFC!$A$2:$A$24,_xlfn.XLOOKUP(K56,BSFC!$B$2:$O$2,BSFC!$B$2:$O$24,,-1),,-1)} -> 340 | R56: =Q56*P56/3600 -> 1.326542 | S56: =(L56-L55)/3600*P56 -> 0.00029092058 | T56: =S56*Q56 -> 0.098912998 | U56: =U55+T56 -> 9.4620483
A57: =A56+1 -> 56 | B57: =IF(SQRT(B56^2+2*I56)>13.4112,13.4112,SQRT(B56^2+2*I56)) -> 13.4112 | C57: =Specification!$G$30 -> 109.96225 | D57: =0.5*Specification!$K$4*Track!B57^2*Specification!$K$3*Specification!$K$2 -> 93.159843 | E57: 0 | F57: =Specification!$C$23*9.81*SIN((E57*PI()/180)) -> 0 | G57: =IF(J57=1,VLOOKUP(K57,RPM!$E$2:$H$62,3,FALSE)-F57-E57-D57,IF(J57=2,VLOOKUP(K57,RPM!$H$2:$K$62,3,FALSE)-F57-E57-D57,IF(J57=3,VLOOKUP(K57,RPM!$K$2:$N$62,3,FALSE)-F57-E57-D57))) -> 529.75118 | H57: =IF(J57=1,Specification!$I$14,IF(J57=2,Specification!$I$15,IF(J57=3,Specification!$I$16))) -> 578.83679 | I57: 0 | J57: 3 | K57: =IF(J57=1,VLOOKUP(B57,RPM!$F$2:$H$62,3,TRUE),IF(J57=2,VLOOKUP(B57,RPM!$I$2:$K$62,3,TRUE),IF(J57=3,VLOOKUP(B57,RPM!$L$2:$N$62,3,TRUE)))) -> 4200 | L57: =IF(I57=0,ABS(1/B57)+L56,ABS((B58-B57)/I57)+L56) -> 8.1163563 | M57: =TAN(E57*PI()/180)+M56 -> 0 | N57: =VLOOKUP(K57,RPM!$A$2:$D$62,4,FALSE) -> 18.835643 | O57: =VLOOKUP(K57,RPM!$A$2:$D$62,3,FALSE) -> 11.1 | P57: =N57*0.7457 -> 14.045739 | Q57: {=_xlfn.XLOOKUP(O57,BSFC!$A$2:$A$24,_xlfn.XLOOKUP(K57,BSFC!$B$2:$O$2,BSFC!$B$2:$O$24,,-1),,-1)} -> 340 | R57: =Q57*P57/3600 -> 1.326542 | S57: =(L57-L56)/3600*P57 -> 0.00029092058 | T57: =S57*Q57 -> 0.098912998 | U57: =U56+T57 -> 9.5609613
A58: =A57+1 -> 57 | B58: =IF(SQRT(B57^2+2*I57)>13.4112,13.4112,SQRT(B57^2+2*I57)) -> 13.4112 | C58: =Specification!$G$30 -> 109.96225 | D58: =0.5*Specification!$K$4*Track!B58^2*Specification!$K$3*Specification!$K$2 -> 93.159843 | E58: 0 | F58: =Specification!$C$23*9.81*SIN((E58*PI()/180)) -> 0 | G58: =IF(J58=1,VLOOKUP(K58,RPM!$E$2:$H$62,3,FALSE)-F58-E58-D58,IF(J58=2,VLOOKUP(K58,RPM!$H$2:$K$62,3,FALSE)-F58-E58-D58,IF(J58=3,VLOOKUP(K58,RPM!$K$2:$N$62,3,FALSE)-F58-E58-D58))) -> 529.75118 | H58: =IF(J58=1,Specification!$I$14,IF(J58=2,Specification!$I$15,IF(J58=3,Specification!$I$16))) -> 578.83679 | I58: 0 | J58: 3 | K58: =IF(J58=1,VLOOKUP(B58,RPM!$F$2:$H$62,3,TRUE),IF(J58=2,VLOOKUP(B58,RPM!$I$2:$K$62,3,TRUE),IF(J58=3,VLOOKUP(B58,RPM!$L$2:$N$62,3,TRUE)))) -> 4200 | L58: =IF(I58=0,ABS(1/B58)+L57,ABS((B59-B58)/I58)+L57) -> 8.1909209 | M58: =TAN(E58*PI()/180)+M57 -> 0 | N58: =VLOOKUP(K58,RPM!$A$2:$D$62,4,FALSE) -> 18.835643 | O58: =VLOOKUP(K58,RPM!$A$2:$D$62,3,FALSE) -> 11.1 | P58: =N58*0.7457 -> 14.045739 | Q58: {=_xlfn.XLOOKUP(O58,BSFC!$A$2:$A$24,_xlfn.XLOOKUP(K58,BSFC!$B$2:$O$2,BSFC!$B$2:$O$24,,-1),,-1)} -> 340 | R58: =Q58*P58/3600 -> 1.326542 | S58: =(L58-L57)/3600*P58 -> 0.00029092058 | T58: =S58*Q58 -> 0.098912998 | U58: =U57+T58 -> 9.6598743
A59: =A58+1 -> 58 | B59: =IF(SQRT(B58^2+2*I58)>13.4112,13.4112,SQRT(B58^2+2*I58)) -> 13.4112 | C59: =Specification!$G$30 -> 109.96225 | D59: =0.5*Specification!$K$4*Track!B59^2*Specification!$K$3*Specification!$K$2 -> 93.159843 | E59: 0 | F59: =Specification!$C$23*9.81*SIN((E59*PI()/180)) -> 0 | G59: =IF(J59=1,VLOOKUP(K59,RPM!$E$2:$H$62,3,FALSE)-F59-E59-D59,IF(J59=2,VLOOKUP(K59,RPM!$H$2:$K$62,3,FALSE)-F59-E59-D59,IF(J59=3,VLOOKUP(K59,RPM!$K$2:$N$62,3,FALSE)-F59-E59-D59))) -> 529.75118 | H59: =IF(J59=1,Specification!$I$14,IF(J59=2,Specification!$I$15,IF(J59=3,Specification!$I$16))) -> 578.83679 | I59: 0 | J59: 3 | K59: =IF(J59=1,VLOOKUP(B59,RPM!$F$2:$H$62,3,TRUE),IF(J59=2,VLOOKUP(B59,RPM!$I$2:$K$62,3,TRUE),IF(J59=3,VLOOKUP(B59,RPM!$L$2:$N$62,3,TRUE)))) -> 4200 | L59: =IF(I59=0,ABS(1/B59)+L58,ABS((B60-B59)/I59)+L58) -> 8.2654854 | M59: =TAN(E59*PI()/180)+M58 -> 0 | N59: =VLOOKUP(K59,RPM!$A$2:$D$62,4,FALSE) -> 18.835643 | O59: =VLOOKUP(K59,RPM!$A$2:$D$62,3,FALSE) -> 11.1 | P59: =N59*0.7457 -> 14.045739 | Q59: {=_xlfn.XLOOKUP(O59,BSFC!$A$2:$A$24,_xlfn.XLOOKUP(K59,BSFC!$B$2:$O$2,BSFC!$B$2:$O$24,,-1),,-1)} -> 340 | R59: =Q59*P59/3600 -> 1.326542 | S59: =(L59-L58)/3600*P59 -> 0.00029092058 | T59: =S59*Q59 -> 0.098912998 | U59: =U58+T59 -> 9.7587873
A60: =A59+1 -> 59 | B60: =IF(SQRT(B59^2+2*I59)>13.4112,13.4112,SQRT(B59^2+2*I59)) -> 13.4112 | C60: =Specification!$G$30 -> 109.96225 | D60: =0.5*Specification!$K$4*Track!B60^2*Specification!$K$3*Specification!$K$2 -> 93.159843 | E60: 0 | F60: =Specification!$C$23*9.81*SIN((E60*PI()/180)) -> 0 | G60: =IF(J60=1,VLOOKUP(K60,RPM!$E$2:$H$62,3,FALSE)-F60-E60-D60,IF(J60=2,VLOOKUP(K60,RPM!$H$2:$K$62,3,FALSE)-F60-E60-D60,IF(J60=3,VLOOKUP(K60,RPM!$K$2:$N$62,3,FALSE)-F60-E60-D60))) -> 529.75118 | H60: =IF(J60=1,Specification!$I$14,IF(J60=2,Specification!$I$15,IF(J60=3,Specification!$I$16))) -> 578.83679 | I60: 0 | J60: 3 | K60: =IF(J60=1,VLOOKUP(B60,RPM!$F$2:$H$62,3,TRUE),IF(J60=2,VLOOKUP(B60,RPM!$I$2:$K$62,3,TRUE),IF(J60=3,VLOOKUP(B60,RPM!$L$2:$N$62,3,TRUE)))) -> 4200 | L60: =IF(I60=0,ABS(1/B60)+L59,ABS((B61-B60)/I60)+L59) -> 8.34005 | M60: =TAN(E60*PI()/180)+M59 -> 0 | N60: =VLOOKUP(K60,RPM!$A$2:$D$62,4,FALSE) -> 18.835643 | O60: =VLOOKUP(K60,RPM!$A$2:$D$62,3,FALSE) -> 11.1 | P60: =N60*0.7457 -> 14.045739 | Q60: {=_xlfn.XLOOKUP(O60,BSFC!$A$2:$A$24,_xlfn.XLOOKUP(K60,BSFC!$B$2:$O$2,BSFC!$B$2:$O$24,,-1),,-1)} -> 340 | R60: =Q60*P60/3600 -> 1.326542 | S60: =(L60-L59)/3600*P60 -> 0.00029092058 | T60: =S60*Q60 -> 0.098912998 | U60: =U59+T60 -> 9.8577003
A61: =A60+1 -> 60 | B61: =IF(SQRT(B60^2+2*I60)>13.4112,13.4112,SQRT(B60^2+2*I60)) -> 13.4112 | C61: =Specification!$G$30 -> 109.96225 | D61: =0.5*Specification!$K$4*Track!B61^2*Specification!$K$3*Specification!$K$2 -> 93.159843 | E61: 0 | F61: =Specification!$C$23*9.81*SIN((E61*PI()/180)) -> 0 | G61: =IF(J61=1,VLOOKUP(K61,RPM!$E$2:$H$62,3,FALSE)-F61-E61-D61,IF(J61=2,VLOOKUP(K61,RPM!$H$2:$K$62,3,FALSE)-F61-E61-D61,IF(J61=3,VLOOKUP(K61,RPM!$K$2:$N$62,3,FALSE)-F61-E61-D61))) -> 529.75118 | H61: =IF(J61=1,Specification!$I$14,IF(J61=2,Specification!$I$15,IF(J61=3,Specification!$I$16))) -> 578.83679 | I61: 0 | J61: 3 | K61: =IF(J61=1,VLOOKUP(B61,RPM!$F$2:$H$62,3,TRUE),IF(J61=2,VLOOKUP(B61,RPM!$I$2:$K$62,3,TRUE),IF(J61=3,VLOOKUP(B61,RPM!$L$2:$N$62,3,TRUE)))) -> 4200 | L61: =IF(I61=0,ABS(1/B61)+L60,ABS((B62-B61)/I61)+L60) -> 8.4146145 | M61: =TAN(E61*PI()/180)+M60 -> 0 | N61: =VLOOKUP(K61,RPM!$A$2:$D$62,4,FALSE) -> 18.835643 | O61: =VLOOKUP(K61,RPM!$A$2:$D$62,3,FALSE) -> 11.1 | P61: =N61*0.7457 -> 14.045739 | Q61: {=_xlfn.XLOOKUP(O61,BSFC!$A$2:$A$24,_xlfn.XLOOKUP(K61,BSFC!$B$2:$O$2,BSFC!$B$2:$O$24,,-1),,-1)} -> 340 | R61: =Q61*P61/3600 -> 1.326542 | S61: =(L61-L60)/3600*P61 -> 0.00029092058 | T61: =S61*Q61 -> 0.098912998 | U61: =U60+T61 -> 9.9566133
A62: =A61+1 -> 61 | B62: =IF(SQRT(B61^2+2*I61)>13.4112,13.4112,SQRT(B61^2+2*I61)) -> 13.4112 | C62: =Specification!$G$30 -> 109.96225 | D62: =0.5*Specification!$K$4*Track!B62^2*Specification!$K$3*Specification!$K$2 -> 93.159843 | E62: 0 | F62: =Specification!$C$23*9.81*SIN((E62*PI()/180)) -> 0 | G62: =IF(J62=1,VLOOKUP(K62,RPM!$E$2:$H$62,3,FALSE)-F62-E62-D62,IF(J62=2,VLOOKUP(K62,RPM!$H$2:$K$62,3,FALSE)-F62-E62-D62,IF(J62=3,VLOOKUP(K62,RPM!$K$2:$N$62,3,FALSE)-F62-E62-D62))) -> 529.75118 | H62: =IF(J62=1,Specification!$I$14,IF(J62=2,Specification!$I$15,IF(J62=3,Specification!$I$16))) -> 578.83679 | I62: 0 | J62: 3 | K62: =IF(J62=1,VLOOKUP(B62,RPM!$F$2:$H$62,3,TRUE),IF(J62=2,VLOOKUP(B62,RPM!$I$2:$K$62,3,TRUE),IF(J62=3,VLOOKUP(B62,RPM!$L$2:$N$62,3,TRUE)))) -> 4200 | L62: =IF(I62=0,ABS(1/B62)+L61,ABS((B63-B62)/I62)+L61) -> 8.489179 | M62: =TAN(E62*PI()/180)+M61 -> 0 | N62: =VLOOKUP(K62,RPM!$A$2:$D$62,4,FALSE) -> 18.835643 | O62: =VLOOKUP(K62,RPM!$A$2:$D$62,3,FALSE) -> 11.1 | P62: =N62*0.7457 -> 14.045739 | Q62: {=_xlfn.XLOOKUP(O62,BSFC!$A$2:$A$24,_xlfn.XLOOKUP(K62,BSFC!$B$2:$O$2,BSFC!$B$2:$O$24,,-1),,-1)} -> 340 | R62: =Q62*P62/3600 -> 1.326542 | S62: =(L62-L61)/3600*P62 -> 0.00029092058 | T62: =S62*Q62 -> 0.098912998 | U62: =U61+T62 -> 10.055526
A63: =A62+1 -> 62 | B63: =IF(SQRT(B62^2+2*I62)>13.4112,13.4112,SQRT(B62^2+2*I62)) -> 13.4112 | C63: =Specification!$G$30 -> 109.96225 | D63: =0.5*Specification!$K$4*Track!B63^2*Specification!$K$3*Specification!$K$2 -> 93.159843 | E63: 0 | F63: =Specification!$C$23*9.81*SIN((E63*PI()/180)) -> 0 | G63: =IF(J63=1,VLOOKUP(K63,RPM!$E$2:$H$62,3,FALSE)-F63-E63-D63,IF(J63=2,VLOOKUP(K63,RPM!$H$2:$K$62,3,FALSE)-F63-E63-D63,IF(J63=3,VLOOKUP(K63,RPM!$K$2:$N$62,3,FALSE)-F63-E63-D63))) -> 529.75118 | H63: =IF(J63=1,Specification!$I$14,IF(J63=2,Specification!$I$15,IF(J63=3,Specification!$I$16))) -> 578.83679 | I63: 0 | J63: 3 | K63: =IF(J63=1,VLOOKUP(B63,RPM!$F$2:$H$62,3,TRUE),IF(J63=2,VLOOKUP(B63,RPM!$I$2:$K$62,3,TRUE),IF(J63=3,VLOOKUP(B63,RPM!$L$2:$N$62,3,TRUE)))) -> 4200 | L63: =IF(I63=0,ABS(1/B63)+L62,ABS((B64-B63)/I63)+L62) -> 8.5637436 | M63: =TAN(E63*PI()/180)+M62 -> 0 | N63: =VLOOKUP(K63,RPM!$A$2:$D$62,4,FALSE) -> 18.835643 | O63: =VLOOKUP(K63,RPM!$A$2:$D$62,3,FALSE) -> 11.1 | P63: =N63*0.7457 -> 14.045739 | Q63: {=_xlfn.XLOOKUP(O63,BSFC!$A$2:$A$24,_xlfn.XLOOKUP(K63,BSFC!$B$2:$O$2,BSFC!$B$2:$O$24,,-1),,-1)} -> 340 | R63: =Q63*P63/3600 -> 1.326542 | S63: =(L63-L62)/3600*P63 -> 0.00029092058 | T63: =S63*Q63 -> 0.098912998 | U63: =U62+T63 -> 10.154439
A64: =A63+1 -> 63 | B64: =IF(SQRT(B63^2+2*I63)>13.4112,13.4112,SQRT(B63^2+2*I63)) -> 13.4112 | C64: =Specification!$G$30 -> 109.96225 | D64: =0.5*Specification!$K$4*Track!B64^2*Specification!$K$3*Specification!$K$2 -> 93.159843 | E64: 0 | F64: =Specification!$C$23*9.81*SIN((E64*PI()/180)) -> 0 | G64: =IF(J64=1,VLOOKUP(K64,RPM!$E$2:$H$62,3,FALSE)-F64-E64-D64,IF(J64=2,VLOOKUP(K64,RPM!$H$2:$K$62,3,FALSE)-F64-E64-D64,IF(J64=3,VLOOKUP(K64,RPM!$K$2:$N$62,3,FALSE)-F64-E64-D64))) -> 529.75118 | H64: =IF(J64=1,Specification!$I$14,IF(J64=2,Specification!$I$15,IF(J64=3,Specification!$I$16))) -> 578.83679 | I64: 0 | J64: 3 | K64: =IF(J64=1,VLOOKUP(B64,RPM!$F$2:$H$62,3,TRUE),IF(J64=2,VLOOKUP(B64,RPM!$I$2:$K$62,3,TRUE),IF(J64=3,VLOOKUP(B64,RPM!$L$2:$N$62,3,TRUE)))) -> 4200 | L64: =IF(I64=0,ABS(1/B64)+L63,ABS((B65-B64)/I64)+L63) -> 8.6383081 | M64: =TAN(E64*PI()/180)+M63 -> 0 | N64: =VLOOKUP(K64,RPM!$A$2:$D$62,4,FALSE) -> 18.835643 | O64: =VLOOKUP(K64,RPM!$A$2:$D$62,3,FALSE) -> 11.1 | P64: =N64*0.7457 -> 14.045739 | Q64: {=_xlfn.XLOOKUP(O64,BSFC!$A$2:$A$24,_xlfn.XLOOKUP(K64,BSFC!$B$2:$O$2,BSFC!$B$2:$O$24,,-1),,-1)} -> 340 | R64: =Q64*P64/3600 -> 1.326542 | S64: =(L64-L63)/3600*P64 -> 0.00029092058 | T64: =S64*Q64 -> 0.098912998 | U64: =U63+T64 -> 10.253352
A65: =A64+1 -> 64 | B65: =IF(SQRT(B64^2+2*I64)>13.4112,13.4112,SQRT(B64^2+2*I64)) -> 13.4112 | C65: =Specification!$G$30 -> 109.96225 | D65: =0.5*Specification!$K$4*Track!B65^2*Specification!$K$3*Specification!$K$2 -> 93.159843 | E65: 0 | F65: =Specification!$C$23*9.81*SIN((E65*PI()/180)) -> 0 | G65: =IF(J65=1,VLOOKUP(K65,RPM!$E$2:$H$62,3,FALSE)-F65-E65-D65,IF(J65=2,VLOOKUP(K65,RPM!$H$2:$K$62,3,FALSE)-F65-E65-D65,IF(J65=3,VLOOKUP(K65,RPM!$K$2:$N$62,3,FALSE)-F65-E65-D65))) -> 529.75118 | H65: =IF(J65=1,Specification!$I$14,IF(J65=2,Specification!$I$15,IF(J65=3,Specification!$I$16))) -> 578.83679 | I65: 0 | J65: 3 | K65: =IF(J65=1,VLOOKUP(B65,RPM!$F$2:$H$62,3,TRUE),IF(J65=2,VLOOKUP(B65,RPM!$I$2:$K$62,3,TRUE),IF(J65=3,VLOOKUP(B65,RPM!$L$2:$N$62,3,TRUE)))) -> 4200 | L65: =IF(I65=0,ABS(1/B65)+L64,ABS((B66-B65)/I65)+L64) -> 8.7128727 | M65: =TAN(E65*PI()/180)+M64 -> 0 | N65: =VLOOKUP(K65,RPM!$A$2:$D$62,4,FALSE) -> 18.835643 | O65: =VLOOKUP(K65,RPM!$A$2:$D$62,3,FALSE) -> 11.1 | P65: =N65*0.7457 -> 14.045739 | Q65: {=_xlfn.XLOOKUP(O65,BSFC!$A$2:$A$24,_xlfn.XLOOKUP(K65,BSFC!$B$2:$O$2,BSFC!$B$2:$O$24,,-1),,-1)} -> 340 | R65: =Q65*P65/3600 -> 1.326542 | S65: =(L65-L64)/3600*P65 -> 0.00029092058 | T65: =S65*Q65 -> 0.098912998 | U65: =U64+T65 -> 10.352265
A66: =A65+1 -> 65 | B66: =IF(SQRT(B65^2+2*I65)>13.4112,13.4112,SQRT(B65^2+2*I65)) -> 13.4112 | C66: =Specification!$G$30 -> 109.96225 | D66: =0.5*Specification!$K$4*Track!B66^2*Specification!$K$3*Specification!$K$2 -> 93.159843 | E66: 0 | F66: =Specification!$C$23*9.81*SIN((E66*PI()/180)) -> 0 | G66: =IF(J66=1,VLOOKUP(K66,RPM!$E$2:$H$62,3,FALSE)-F66-E66-D66,IF(J66=2,VLOOKUP(K66,RPM!$H$2:$K$62,3,FALSE)-F66-E66-D66,IF(J66=3,VLOOKUP(K66,RPM!$K$2:$N$62,3,FALSE)-F66-E66-D66))) -> 529.75118 | H66: =IF(J66=1,Specification!$I$14,IF(J66=2,Specification!$I$15,IF(J66=3,Specification!$I$16))) -> 578.83679 | I66: 0 | J66: 3 | K66: =IF(J66=1,VLOOKUP(B66,RPM!$F$2:$H$62,3,TRUE),IF(J66=2,VLOOKUP(B66,RPM!$I$2:$K$62,3,TRUE),IF(J66=3,VLOOKUP(B66,RPM!$L$2:$N$62,3,TRUE)))) -> 4200 | L66: =IF(I66=0,ABS(1/B66)+L65,ABS((B67-B66)/I66)+L65) -> 8.7874372 | M66: =TAN(E66*PI()/180)+M65 -> 0 | N66: =VLOOKUP(K66,RPM!$A$2:$D$62,4,FALSE) -> 18.835643 | O66: =VLOOKUP(K66,RPM!$A$2:$D$62,3,FALSE) -> 11.1 | P66: =N66*0.7457 -> 14.045739 | Q66: {=_xlfn.XLOOKUP(O66,BSFC!$A$2:$A$24,_xlfn.XLOOKUP(K66,BSFC!$B$2:$O$2,BSFC!$B$2:$O$24,,-1),,-1)} -> 340 | R66: =Q66*P66/3600 -> 1.326542 | S66: =(L66-L65)/3600*P66 -> 0.00029092058 | T66: =S66*Q66 -> 0.098912998 | U66: =U65+T66 -> 10.451178
... A288: =A287+1 -> 287 | B288: =IF(SQRT(B287^2+2*I287)>13.4112,13.4112,SQRT(B287^2+2*I287)) -> 13.4112 | C288: =Specification!$G$30 -> 109.96225 | D288: =0.5*Specification!$K$4*Track!B288^2*Specification!$K$3*Specification!$K$2 -> 93.159843 | E288: 0 | F288: =Specification!$C$23*9.81*SIN((E288*PI()/180)) -> 0 | G288: =IF(J288=1,VLOOKUP(K288,RPM!$E$2:$H$62,3,FALSE)-F288-E288-D288,IF(J288=2,VLOOKUP(K288,RPM!$H$2:$K$62,3,FALSE)-F288-E288-D288,IF(J288=3,VLOOKUP(K288,RPM!$K$2:$N$62,3,FALSE)-F288-E288-D288))) -> 529.75118 | H288: =IF(J288=1,Specification!$I$14,IF(J288=2,Specification!$I$15,IF(J288=3,Specification!$I$16))) -> 578.83679 | I288: 0 | J288: 3 | K288: =IF(J288=1,VLOOKUP(B288,RPM!$F$2:$H$62,3,TRUE),IF(J288=2,VLOOKUP(B288,RPM!$I$2:$K$62,3,TRUE),IF(J288=3,VLOOKUP(B288,RPM!$L$2:$N$62,3,TRUE)))) -> 4200 | L288: =IF(I288=0,ABS(1/B288)+L287,ABS((B289-B288)/I288)+L287) -> 25.340766 | M288: =TAN(E288*PI()/180)+M287 -> 0 | N288: =VLOOKUP(K288,RPM!$A$2:$D$62,4,FALSE) -> 18.835643 | O288: =VLOOKUP(K288,RPM!$A$2:$D$62,3,FALSE) -> 11.1 | P288: =N288*0.7457 -> 14.045739 | Q288: {=_xlfn.XLOOKUP(O288,BSFC!$A$2:$A$24,_xlfn.XLOOKUP(K288,BSFC!$B$2:$O$2,BSFC!$B$2:$O$24,,-1),,-1)} -> 340 | R288: =Q288*P288/3600 -> 1.326542 | S288: =(L288-L287)/3600*P288 -> 0.00029092058 | T288: =S288*Q288 -> 0.098912998 | U288: =U287+T288 -> 32.409864
A289: =A288+1 -> 288 | B289: =IF(SQRT(B288^2+2*I288)>13.4112,13.4112,SQRT(B288^2+2*I288)) -> 13.4112 | C289: =Specification!$G$30 -> 109.96225 | D289: =0.5*Specification!$K$4*Track!B289^2*Specification!$K$3*Specification!$K$2 -> 93.159843 | E289: 0 | F289: =Specification!$C$23*9.81*SIN((E289*PI()/180)) -> 0 | G289: =IF(J289=1,VLOOKUP(K289,RPM!$E$2:$H$62,3,FALSE)-F289-E289-D289,IF(J289=2,VLOOKUP(K289,RPM!$H$2:$K$62,3,FALSE)-F289-E289-D289,IF(J289=3,VLOOKUP(K289,RPM!$K$2:$N$62,3,FALSE)-F289-E289-D289))) -> 529.75118 | H289: =IF(J289=1,Specification!$I$14,IF(J289=2,Specification!$I$15,IF(J289=3,Specification!$I$16))) -> 578.83679 | I289: =Specification!$F$13 -> -4.3172636 | J289: 3 | K289: =IF(J289=1,VLOOKUP(B289,RPM!$F$2:$H$62,3,TRUE),IF(J289=2,VLOOKUP(B289,RPM!$I$2:$K$62,3,TRUE),IF(J289=3,VLOOKUP(B289,RPM!$L$2:$N$62,3,TRUE)))) -> 4200 | L289: =IF(I289=0,ABS(1/B289)+L288,ABS((B290-B289)/I289)+L288) -> 25.416247 | M289: =TAN(E289*PI()/180)+M288 -> 0 | N289: =VLOOKUP(K289,RPM!$A$2:$D$62,4,FALSE) -> 18.835643 | O289: =VLOOKUP(K289,RPM!$A$2:$D$62,3,FALSE) -> 11.1 | P289: =N289*0.7457 -> 14.045739 | Q289: {=_xlfn.XLOOKUP(O289,BSFC!$A$2:$A$24,_xlfn.XLOOKUP(K289,BSFC!$B$2:$O$2,BSFC!$B$2:$O$24,,-1),,-1)} -> 340 | R289: =Q289*P289/3600 -> 1.326542 | S289: =(L289-L288)/3600*P289 -> 0.00029449854 | T289: =S289*Q289 -> 0.1001295 | U289: =U288+T289 -> 32.509993
A290: =A289+1 -> 289 | B290: =IF(SQRT(B289^2+2*I289)>13.4112,13.4112,SQRT(B289^2+2*I289)) -> 13.085326 | C290: =Specification!$G$30 -> 109.96225 | D290: =0.5*Specification!$K$4*Track!B290^2*Specification!$K$3*Specification!$K$2 -> 88.687531 | E290: 0 | F290: =Specification!$C$23*9.81*SIN((E290*PI()/180)) -> 0 | G290: =IF(J290=1,VLOOKUP(K290,RPM!$E$2:$H$62,3,FALSE)-F290-E290-D290,IF(J290=2,VLOOKUP(K290,RPM!$H$2:$K$62,3,FALSE)-F290-E290-D290,IF(J290=3,VLOOKUP(K290,RPM!$K$2:$N$62,3,FALSE)-F290-E290-D290))) -> 532.17039 | H290: =IF(J290=1,Specification!$I$14,IF(J290=2,Specification!$I$15,IF(J290=3,Specification!$I$16))) -> 578.83679 | I290: =Specification!$F$13 -> -4.3172636 | J290: 3 | K290: =IF(J290=1,VLOOKUP(B290,RPM!$F$2:$H$62,3,TRUE),IF(J290=2,VLOOKUP(B290,RPM!$I$2:$K$62,3,TRUE),IF(J290=3,VLOOKUP(B290,RPM!$L$2:$N$62,3,TRUE)))) -> 4100 | L290: =IF(I290=0,ABS(1/B290)+L289,ABS((B291-B290)/I290)+L289) -> 25.493657 | M290: =TAN(E290*PI()/180)+M289 -> 0 | N290: =VLOOKUP(K290,RPM!$A$2:$D$62,4,FALSE) -> 18.773561 | O290: =VLOOKUP(K290,RPM!$A$2:$D$62,3,FALSE) -> 10.8 | P290: =N290*0.7457 -> 13.999444 | Q290: {=_xlfn.XLOOKUP(O290,BSFC!$A$2:$A$24,_xlfn.XLOOKUP(K290,BSFC!$B$2:$O$2,BSFC!$B$2:$O$24,,-1),,-1)} -> 360 | R290: =Q290*P290/3600 -> 1.3999444 | S290: =(L290-L289)/3600*P290 -> 0.00030102697 | T290: =S290*Q290 -> 0.10836971 | U290: =U289+T290 -> 32.618363
A291: =A290+1 -> 290 | B291: =IF(SQRT(B290^2+2*I290)>13.4112,13.4112,SQRT(B290^2+2*I290)) -> 12.751127 | C291: =Specification!$G$30 -> 109.96225 | D291: =0.5*Specification!$K$4*Track!B291^2*Specification!$K$3*Specification!$K$2 -> 84.21522 | E291: 0 | F291: =Specification!$C$23*9.81*SIN((E291*PI()/180)) -> 0 | G291: =IF(J291=1,VLOOKUP(K291,RPM!$E$2:$H$62,3,FALSE)-F291-E291-D291,IF(J291=2,VLOOKUP(K291,RPM!$H$2:$K$62,3,FALSE)-F291-E291-D291,IF(J291=3,VLOOKUP(K291,RPM!$K$2:$N$62,3,FALSE)-F291-E291-D291))) -> 534.48695 | H291: =IF(J291=1,Specification!$I$14,IF(J291=2,Specification!$I$15,IF(J291=3,Specification!$I$16))) -> 578.83679 | I291: =Specification!$F$13 -> -4.3172636 | J291: 3 | K291: =IF(J291=1,VLOOKUP(B291,RPM!$F$2:$H$62,3,TRUE),IF(J291=2,VLOOKUP(B291,RPM!$I$2:$K$62,3,TRUE),IF(J291=3,VLOOKUP(B291,RPM!$L$2:$N$62,3,TRUE)))) -> 4000 | L291: =IF(I291=0,ABS(1/B291)+L290,ABS((B292-B291)/I291)+L290) -> 25.573152 | M291: =TAN(E291*PI()/180)+M290 -> 0 | N291: =VLOOKUP(K291,RPM!$A$2:$D$62,4,FALSE) -> 18.708375 | O291: =VLOOKUP(K291,RPM!$A$2:$D$62,3,FALSE) -> 10.5 | P291: =N291*0.7457 -> 13.950835 | Q291: {=_xlfn.XLOOKUP(O291,BSFC!$A$2:$A$24,_xlfn.XLOOKUP(K291,BSFC!$B$2:$O$2,BSFC!$B$2:$O$24,,-1),,-1)} -> 360 | R291: =Q291*P291/3600 -> 1.3950835 | S291: =(L291-L290)/3600*P291 -> 0.00030805862 | T291: =S291*Q291 -> 0.1109011 | U291: =U290+T291 -> 32.729264
A292: =A291+1 -> 291 | B292: =IF(SQRT(B291^2+2*I291)>13.4112,13.4112,SQRT(B291^2+2*I291)) -> 12.407929 | C292: =Specification!$G$30 -> 109.96225 | D292: =0.5*Specification!$K$4*Track!B292^2*Specification!$K$3*Specification!$K$2 -> 79.742909 | E292: 0 | F292: =Specification!$C$23*9.81*SIN((E292*PI()/180)) -> 0 | G292: =IF(J292=1,VLOOKUP(K292,RPM!$E$2:$H$62,3,FALSE)-F292-E292-D292,IF(J292=2,VLOOKUP(K292,RPM!$H$2:$K$62,3,FALSE)-F292-E292-D292,IF(J292=3,VLOOKUP(K292,RPM!$K$2:$N$62,3,FALSE)-F292-E292-D292))) -> 542.73644 | H292: =IF(J292=1,Specification!$I$14,IF(J292=2,Specification!$I$15,IF(J292=3,Specification!$I$16))) -> 578.83679 | I292: =Specification!$F$13 -> -4.3172636 | J292: 3 | K292: =IF(J292=1,VLOOKUP(B292,RPM!$F$2:$H$62,3,TRUE),IF(J292=2,VLOOKUP(B292,RPM!$I$2:$K$62,3,TRUE),IF(J292=3,VLOOKUP(B292,RPM!$L$2:$N$62,3,TRUE)))) -> 3900 | L292: =IF(I292=0,ABS(1/B292)+L291,ABS((B293-B292)/I292)+L291) -> 25.654908 | M292: =TAN(E292*PI()/180)+M291 -> 0 | N292: =VLOOKUP(K292,RPM!$A$2:$D$62,4,FALSE) -> 18.82259 | O292: =VLOOKUP(K292,RPM!$A$2:$D$62,3,FALSE) -> 10.3 | P292: =N292*0.7457 -> 14.036005 | Q292: {=_xlfn.XLOOKUP(O292,BSFC!$A$2:$A$24,_xlfn.XLOOKUP(K292,BSFC!$B$2:$O$2,BSFC!$B$2:$O$24,,-1),,-1)} -> 360 | R292: =Q292*P292/3600 -> 1.4036005 | S292: =(L292-L291)/3600*P292 -> 0.00031875953 | T292: =S292*Q292 -> 0.11475343 | U292: =U291+T292 -> 32.844018
A293: =A292+1 -> 292 | B293: =IF(SQRT(B292^2+2*I292)>13.4112,13.4112,SQRT(B292^2+2*I292)) -> 12.054965 | C293: =Specification!$G$30 -> 109.96225 | D293: =0.5*Specification!$K$4*Track!B293^2*Specification!$K$3*Specification!$K$2 -> 75.270597 | E293: 0 | F293: =Specification!$C$23*9.81*SIN((E293*PI()/180)) -> 0 | G293: =IF(J293=1,VLOOKUP(K293,RPM!$E$2:$H$62,3,FALSE)-F293-E293-D293,IF(J293=2,VLOOKUP(K293,RPM!$H$2:$K$62,3,FALSE)-F293-E293-D293,IF(J293=3,VLOOKUP(K293,RPM!$K$2:$N$62,3,FALSE)-F293-E293-D293))) -> 551.18473 | H293: =IF(J293=1,Specification!$I$14,IF(J293=2,Specification!$I$15,IF(J293=3,Specification!$I$16))) -> 578.83679 | I293: =Specification!$F$13 -> -4.3172636 | J293: 3 | K293: =IF(J293=1,VLOOKUP(B293,RPM!$F$2:$H$62,3,TRUE),IF(J293=2,VLOOKUP(B293,RPM!$I$2:$K$62,3,TRUE),IF(J293=3,VLOOKUP(B293,RPM!$L$2:$N$62,3,TRUE)))) -> 3800 | L293: =IF(I293=0,ABS(1/B293)+L292,ABS((B294-B293)/I293)+L292) -> 25.739132 | M293: =TAN(E293*PI()/180)+M292 -> 0 | N293: =VLOOKUP(K293,RPM!$A$2:$D$62,4,FALSE) -> 18.942816 | O293: =VLOOKUP(K293,RPM!$A$2:$D$62,3,FALSE) -> 10.1 | P293: =N293*0.7457 -> 14.125658 | Q293: {=_xlfn.XLOOKUP(O293,BSFC!$A$2:$A$24,_xlfn.XLOOKUP(K293,BSFC!$B$2:$O$2,BSFC!$B$2:$O$24,,-1),,-1)} -> 360 | R293: =Q293*P293/3600 -> 1.4125658 | S293: =(L293-L292)/3600*P293 -> 0.00033047603 | T293: =S293*Q293 -> 0.11897137 | U293: =U292+T293 -> 32.962989
A294: =A293+1 -> 293 | B294: =IF(SQRT(B293^2+2*I293)>13.4112,13.4112,SQRT(B293^2+2*I293)) -> 11.691349 | C294: =Specification!$G$30 -> 109.96225 | D294: =0.5*Specification!$K$4*Track!B294^2*Specification!$K$3*Specification!$K$2 -> 70.798286 | E294: 0 | F294: =Specification!$C$23*9.81*SIN((E294*PI()/180)) -> 0 | G294: =IF(J294=1,VLOOKUP(K294,RPM!$E$2:$H$62,3,FALSE)-F294-E294-D294,IF(J294=2,VLOOKUP(K294,RPM!$H$2:$K$62,3,FALSE)-F294-E294-D294,IF(J294=3,VLOOKUP(K294,RPM!$K$2:$N$62,3,FALSE)-F294-E294-D294))) -> 564.27166 | H294: =IF(J294=1,Specification!$I$14,IF(J294=2,Specification!$I$15,IF(J294=3,Specification!$I$16))) -> 578.83679 | I294: =Specification!$F$13 -> -4.3172636 | J294: 3 | K294: =IF(J294=1,VLOOKUP(B294,RPM!$F$2:$H$62,3,TRUE),IF(J294=2,VLOOKUP(B294,RPM!$I$2:$K$62,3,TRUE),IF(J294=3,VLOOKUP(B294,RPM!$L$2:$N$62,3,TRUE)))) -> 3600 | L294: =IF(I294=0,ABS(1/B294)+L293,ABS((B295-B294)/I294)+L293) -> 25.82606 | M294: =TAN(E294*PI()/180)+M293 -> 0 | N294: =VLOOKUP(K294,RPM!$A$2:$D$62,4,FALSE) -> 19.203306 | O294: =VLOOKUP(K294,RPM!$A$2:$D$62,3,FALSE) -> 9.7 | P294: =N294*0.7457 -> 14.319905 | Q294: {=_xlfn.XLOOKUP(O294,BSFC!$A$2:$A$24,_xlfn.XLOOKUP(K294,BSFC!$B$2:$O$2,BSFC!$B$2:$O$24,,-1),,-1)} -> 400 | R294: =Q294*P294/3600 -> 1.5911006 | S294: =(L294-L293)/3600*P294 -> 0.00034578009 | T294: =S294*Q294 -> 0.13831204 | U294: =U293+T294 -> 33.101301
A295: =A294+1 -> 294 | B295: =IF(SQRT(B294^2+2*I294)>13.4112,13.4112,SQRT(B294^2+2*I294)) -> 11.316056 | C295: =Specification!$G$30 -> 109.96225 | D295: =0.5*Specification!$K$4*Track!B295^2*Specification!$K$3*Specification!$K$2 -> 66.325975 | E295: 0 | F295: =Specification!$C$23*9.81*SIN((E295*PI()/180)) -> 0 | G295: =IF(J295=1,VLOOKUP(K295,RPM!$E$2:$H$62,3,FALSE)-F295-E295-D295,IF(J295=2,VLOOKUP(K295,RPM!$H$2:$K$62,3,FALSE)-F295-E295-D295,IF(J295=3,VLOOKUP(K295,RPM!$K$2:$N$62,3,FALSE)-F295-E295-D295))) -> 573.42048 | H295: =IF(J295=1,Specification!$I$14,IF(J295=2,Specification!$I$15,IF(J295=3,Specification!$I$16))) -> 578.83679 | I295: =Specification!$F$13 -> -4.3172636 | J295: 3 | K295: =IF(J295=1,VLOOKUP(B295,RPM!$F$2:$H$62,3,TRUE),IF(J295=2,VLOOKUP(B295,RPM!$I$2:$K$62,3,TRUE),IF(J295=3,VLOOKUP(B295,RPM!$L$2:$N$62,3,TRUE)))) -> 3500 | L295: =IF(I295=0,ABS(1/B295)+L294,ABS((B296-B295)/I295)+L294) -> 25.915972 | M295: =TAN(E295*PI()/180)+M294 -> 0 | N295: =VLOOKUP(K295,RPM!$A$2:$D$62,4,FALSE) -> 19.344714 | O295: =VLOOKUP(K295,RPM!$A$2:$D$62,3,FALSE) -> 9.5 | P295: =N295*0.7457 -> 14.425353 | Q295: {=_xlfn.XLOOKUP(O295,BSFC!$A$2:$A$24,_xlfn.XLOOKUP(K295,BSFC!$B$2:$O$2,BSFC!$B$2:$O$24,,-1),,-1)} -> 400 | R295: =Q295*P295/3600 -> 1.602817 | S295: =(L295-L294)/3600*P295 -> 0.00036028177 | T295: =S295*Q295 -> 0.14411271 | U295: =U294+T295 -> 33.245414
A296: =A295+1 -> 295 | B296: =IF(SQRT(B295^2+2*I295)>13.4112,13.4112,SQRT(B295^2+2*I295)) -> 10.927882 | C296: =Specification!$G$30 -> 109.96225 | D296: =0.5*Specification!$K$4*Track!B296^2*Specification!$K$3*Specification!$K$2 -> 61.853663 | E296: 0 | F296: =Specification!$C$23*9.81*SIN((E296*PI()/180)) -> 0 | G296: =IF(J296=1,VLOOKUP(K296,RPM!$E$2:$H$62,3,FALSE)-F296-E296-D296,IF(J296=2,VLOOKUP(K296,RPM!$H$2:$K$62,3,FALSE)-F296-E296-D296,IF(J296=3,VLOOKUP(K296,RPM!$K$2:$N$62,3,FALSE)-F296-E296-D296))) -> 562.04768 | H296: =IF(J296=1,Specification!$I$14,IF(J296=2,Specification!$I$15,IF(J296=3,Specification!$I$16))) -> 578.83679 | I296: =Specification!$F$13 -> -4.3172636 | J296: 3 | K296: =IF(J296=1,VLOOKUP(B296,RPM!$F$2:$H$62,3,TRUE),IF(J296=2,VLOOKUP(B296,RPM!$I$2:$K$62,3,TRUE),IF(J296=3,VLOOKUP(B296,RPM!$L$2:$N$62,3,TRUE)))) -> 3400 | L296: =IF(I296=0,ABS(1/B296)+L295,ABS((B297-B296)/I296)+L295) -> 26.009198 | M296: =TAN(E296*PI()/180)+M295 -> 0 | N296: =VLOOKUP(K296,RPM!$A$2:$D$62,4,FALSE) -> 18.865588 | O296: =VLOOKUP(K296,RPM!$A$2:$D$62,3,FALSE) -> 9 | P296: =N296*0.7457 -> 14.068069 | Q296: {=_xlfn.XLOOKUP(O296,BSFC!$A$2:$A$24,_xlfn.XLOOKUP(K296,BSFC!$B$2:$O$2,BSFC!$B$2:$O$24,,-1),,-1)} -> 400 | R296: =Q296*P296/3600 -> 1.5631188 | S296: =(L296-L295)/3600*P296 -> 0.0003643076 | T296: =S296*Q296 -> 0.14572304 | U296: =U295+T296 -> 33.391137
A297: =A296+1 -> 296 | B297: =IF(SQRT(B296^2+2*I296)>13.4112,13.4112,SQRT(B296^2+2*I296)) -> 10.525401 | C297: =Specification!$G$30 -> 109.96225 | D297: =0.5*Specification!$K$4*Track!B297^2*Specification!$K$3*Specification!$K$2 -> 57.381352 | E297: 0 | F297: =Specification!$C$23*9.81*SIN((E297*PI()/180)) -> 0 | G297: =IF(J297=1,VLOOKUP(K297,RPM!$E$2:$H$62,3,FALSE)-F297-E297-D297,IF(J297=2,VLOOKUP(K297,RPM!$H$2:$K$62,3,FALSE)-F297-E297-D297,IF(J297=3,VLOOKUP(K297,RPM!$K$2:$N$62,3,FALSE)-F297-E297-D297))) -> 549.71457 | H297: =IF(J297=1,Specification!$I$14,IF(J297=2,Specification!$I$15,IF(J297=3,Specification!$I$16))) -> 578.83679 | I297: =Specification!$F$13 -> -4.3172636 | J297: 3 | K297: =IF(J297=1,VLOOKUP(B297,RPM!$F$2:$H$62,3,TRUE),IF(J297=2,VLOOKUP(B297,RPM!$I$2:$K$62,3,TRUE),IF(J297=3,VLOOKUP(B297,RPM!$L$2:$N$62,3,TRUE)))) -> 3300 | L297: =IF(I297=0,ABS(1/B297)+L296,ABS((B298-B297)/I297)+L296) -> 26.106134 | M297: =TAN(E297*PI()/180)+M296 -> 0 | N297: =VLOOKUP(K297,RPM!$A$2:$D$62,4,FALSE) -> 18.357424 | O297: =VLOOKUP(K297,RPM!$A$2:$D$62,3,FALSE) -> 8.5 | P297: =N297*0.7457 -> 13.689131 | Q297: {=_xlfn.XLOOKUP(O297,BSFC!$A$2:$A$24,_xlfn.XLOOKUP(K297,BSFC!$B$2:$O$2,BSFC!$B$2:$O$24,,-1),,-1)} -> 430 | R297: =Q297*P297/3600 -> 1.6350907 | S297: =(L297-L296)/3600*P297 -> 0.00036860023 | T297: =S297*Q297 -> 0.1584981 | U297: =U296+T297 -> 33.549635
A298: =A297+1 -> 297 | B298: =IF(SQRT(B297^2+2*I297)>13.4112,13.4112,SQRT(B297^2+2*I297)) -> 10.106906 | C298: =Specification!$G$30 -> 109.96225 | D298: =0.5*Specification!$K$4*Track!B298^2*Specification!$K$3*Specification!$K$2 -> 52.909041 | E298: 0 | F298: =Specification!$C$23*9.81*SIN((E298*PI()/180)) -> 0 | G298: =IF(J298=1,VLOOKUP(K298,RPM!$E$2:$H$62,3,FALSE)-F298-E298-D298,IF(J298=2,VLOOKUP(K298,RPM!$H$2:$K$62,3,FALSE)-F298-E298-D298,IF(J298=3,VLOOKUP(K298,RPM!$K$2:$N$62,3,FALSE)-F298-E298-D298))) -> 517.32337 | H298: =IF(J298=1,Specification!$I$14,IF(J298=2,Specification!$I$15,IF(J298=3,Specification!$I$16))) -> 578.83679 | I298: =Specification!$F$13 -> -4.3172636 | J298: 3 | K298: =IF(J298=1,VLOOKUP(B298,RPM!$F$2:$H$62,3,TRUE),IF(J298=2,VLOOKUP(B298,RPM!$I$2:$K$62,3,TRUE),IF(J298=3,VLOOKUP(B298,RPM!$L$2:$N$62,3,TRUE)))) -> 3100 | L298: =IF(I298=0,ABS(1/B298)+L297,ABS((B299-B298)/I298)+L297) -> 26.20726 | M298: =TAN(E298*PI()/180)+M297 -> 0 | N298: =VLOOKUP(K298,RPM!$A$2:$D$62,4,FALSE) -> 17.242742 | O298: =VLOOKUP(K298,RPM!$A$2:$D$62,3,FALSE) -> 7.5 | P298: =N298*0.7457 -> 12.857913 | Q298: {=_xlfn.XLOOKUP(O298,BSFC!$A$2:$A$24,_xlfn.XLOOKUP(K298,BSFC!$B$2:$O$2,BSFC!$B$2:$O$24,,-1),,-1)} -> 460 | R298: =Q298*P298/3600 -> 1.6429555 | S298: =(L298-L297)/3600*P298 -> 0.00036118748 | T298: =S298*Q298 -> 0.16614624 | U298: =U297+T298 -> 33.715781
A299: =A298+1 -> 298 | B299: =IF(SQRT(B298^2+2*I298)>13.4112,13.4112,SQRT(B298^2+2*I298)) -> 9.6703161 | C299: =Specification!$G$30 -> 109.96225 | D299: =0.5*Specification!$K$4*Track!B299^2*Specification!$K$3*Specification!$K$2 -> 48.436729 | E299: 0 | F299: =Specification!$C$23*9.81*SIN((E299*PI()/180)) -> 0 | G299: =IF(J299=1,VLOOKUP(K299,RPM!$E$2:$H$62,3,FALSE)-F299-E299-D299,IF(J299=2,VLOOKUP(K299,RPM!$H$2:$K$62,3,FALSE)-F299-E299-D299,IF(J299=3,VLOOKUP(K299,RPM!$K$2:$N$62,3,FALSE)-F299-E299-D299))) -> 501.52075 | H299: =IF(J299=1,Specification!$I$14,IF(J299=2,Specification!$I$15,IF(J299=3,Specification!$I$16))) -> 578.83679 | I299: =Specification!$F$13 -> -4.3172636 | J299: 3 | K299: =IF(J299=1,VLOOKUP(B299,RPM!$F$2:$H$62,3,TRUE),IF(J299=2,VLOOKUP(B299,RPM!$I$2:$K$62,3,TRUE),IF(J299=3,VLOOKUP(B299,RPM!$L$2:$N$62,3,TRUE)))) -> 3000 | L299: =IF(I299=0,ABS(1/B299)+L298,ABS((B300-B299)/I299)+L298) -> 26.313173 | M299: =TAN(E299*PI()/180)+M298 -> 0 | N299: =VLOOKUP(K299,RPM!$A$2:$D$62,4,FALSE) -> 16.629667 | O299: =VLOOKUP(K299,RPM!$A$2:$D$62,3,FALSE) -> 7 | P299: =N299*0.7457 -> 12.400742 | Q299: {=_xlfn.XLOOKUP(O299,BSFC!$A$2:$A$24,_xlfn.XLOOKUP(K299,BSFC!$B$2:$O$2,BSFC!$B$2:$O$24,,-1),,-1)} -> 460 | R299: =Q299*P299/3600 -> 1.5845393 | S299: =(L299-L298)/3600*P299 -> 0.00036483418 | T299: =S299*Q299 -> 0.16782372 | U299: =U298+T299 -> 33.883605
A300: =A299+1 -> 299 | B300: =IF(SQRT(B299^2+2*I299)>13.4112,13.4112,SQRT(B299^2+2*I299)) -> 9.2130607 | C300: =Specification!$G$30 -> 109.96225 | D300: =0.5*Specification!$K$4*Track!B300^2*Specification!$K$3*Specification!$K$2 -> 43.964418 | E300: 0 | F300: =Specification!$C$23*9.81*SIN((E300*PI()/180)) -> 0 | G300: =IF(J300=1,VLOOKUP(K300,RPM!$E$2:$H$62,3,FALSE)-F300-E300-D300,IF(J300=2,VLOOKUP(K300,RPM!$H$2:$K$62,3,FALSE)-F300-E300-D300,IF(J300=3,VLOOKUP(K300,RPM!$K$2:$N$62,3,FALSE)-F300-E300-D300))) -> 492.44731 | H300: =IF(J300=1,Specification!$I$14,IF(J300=2,Specification!$I$15,IF(J300=3,Specification!$I$16))) -> 578.83679 | I300: =Specification!$F$13 -> -4.3172636 | J300: 3 | K300: =IF(J300=1,VLOOKUP(B300,RPM!$F$2:$H$62,3,TRUE),IF(J300=2,VLOOKUP(B300,RPM!$I$2:$K$62,3,TRUE),IF(J300=3,VLOOKUP(B300,RPM!$L$2:$N$62,3,TRUE)))) -> 2900 | L300: =IF(I300=0,ABS(1/B300)+L299,ABS((B301-B300)/I300)+L299) -> 26.424625 | M300: =TAN(E300*PI()/180)+M299 -> 0 | N300: =VLOOKUP(K300,RPM!$A$2:$D$62,4,FALSE) -> 16.220069 | O300: =VLOOKUP(K300,RPM!$A$2:$D$62,3,FALSE) -> 6.6 | P300: =N300*0.7457 -> 12.095305 | Q300: {=_xlfn.XLOOKUP(O300,BSFC!$A$2:$A$24,_xlfn.XLOOKUP(K300,BSFC!$B$2:$O$2,BSFC!$B$2:$O$24,,-1),,-1)} -> 490 | R300: =Q300*P300/3600 -> 1.6463055 | S300: =(L300-L299)/3600*P300 -> 0.00037445703 | T300: =S300*Q300 -> 0.18348394 | U300: =U299+T300 -> 34.067089
A301: =A300+1 -> 300 | B301: =IF(SQRT(B300^2+2*I300)>13.4112,13.4112,SQRT(B300^2+2*I300)) -> 8.7318932 | C301: =Specification!$G$30 -> 109.96225 | D301: =0.5*Specification!$K$4*Track!B301^2*Specification!$K$3*Specification!$K$2 -> 39.492107 | E301: 0 | F301: =Specification!$C$23*9.81*SIN((E301*PI()/180)) -> 0 | G301: =IF(J301=1,VLOOKUP(K301,RPM!$E$2:$H$62,3,FALSE)-F301-E301-D301,IF(J301=2,VLOOKUP(K301,RPM!$H$2:$K$62,3,FALSE)-F301-E301-D301,IF(J301=3,VLOOKUP(K301,RPM!$K$2:$N$62,3,FALSE)-F301-E301-D301))) -> 466.81795 | H301: =IF(J301=1,Specification!$I$14,IF(J301=2,Specification!$I$15,IF(J301=3,Specification!$I$16))) -> 578.83679 | I301: =Specification!$F$13 -> -4.3172636 | J301: 3 | K301: =IF(J301=1,VLOOKUP(B301,RPM!$F$2:$H$62,3,TRUE),IF(J301=2,VLOOKUP(B301,RPM!$I$2:$K$62,3,TRUE),IF(J301=3,VLOOKUP(B301,RPM!$L$2:$N$62,3,TRUE)))) -> 2700 | L301: =IF(I301=0,ABS(1/B301)+L300,ABS((B302-B301)/I301)+L300) -> 26.542588 | M301: =TAN(E301*PI()/180)+M300 -> 0 | N301: =VLOOKUP(K301,RPM!$A$2:$D$62,4,FALSE) -> 15.309852 | O301: =VLOOKUP(K301,RPM!$A$2:$D$62,3,FALSE) -> 5.8 | P301: =N301*0.7457 -> 11.416557 | Q301: {=_xlfn.XLOOKUP(O301,BSFC!$A$2:$A$24,_xlfn.XLOOKUP(K301,BSFC!$B$2:$O$2,BSFC!$B$2:$O$24,,-1),,-1)} -> 570 | R301: =Q301*P301/3600 -> 1.8076214 | S301: =(L301-L300)/3600*P301 -> 0.0003740911 | T301: =S301*Q301 -> 0.21323193 | U301: =U300+T301 -> 34.280321
A302: =A301+1 -> 301 | B302: =IF(SQRT(B301^2+2*I301)>13.4112,13.4112,SQRT(B301^2+2*I301)) -> 8.2226171 | C302: =Specification!$G$30 -> 109.96225 | D302: =0.5*Specification!$K$4*Track!B302^2*Specification!$K$3*Specification!$K$2 -> 35.019795 | E302: 0 | F302: =Specification!$C$23*9.81*SIN((E302*PI()/180)) -> 0 | G302: =IF(J302=1,VLOOKUP(K302,RPM!$E$2:$H$62,3,FALSE)-F302-E302-D302,IF(J302=2,VLOOKUP(K302,RPM!$H$2:$K$62,3,FALSE)-F302-E302-D302,IF(J302=3,VLOOKUP(K302,RPM!$K$2:$N$62,3,FALSE)-F302-E302-D302))) -> 865.90338 | H302: =IF(J302=1,Specification!$I$14,IF(J302=2,Specification!$I$15,IF(J302=3,Specification!$I$16))) -> 580.58319 | I302: 0 | J302: 2 | K302: =IF(J302=1,VLOOKUP(B302,RPM!$F$2:$H$62,3,TRUE),IF(J302=2,VLOOKUP(B302,RPM!$I$2:$K$62,3,TRUE),IF(J302=3,VLOOKUP(B302,RPM!$L$2:$N$62,3,TRUE)))) -> 3700 | L302: =IF(I302=0,ABS(1/B302)+L301,ABS((B303-B302)/I302)+L301) -> 26.664204 | M302: =TAN(E302*PI()/180)+M301 -> 0 | N302: =VLOOKUP(K302,RPM!$A$2:$D$62,4,FALSE) -> 19.069541 | O302: =VLOOKUP(K302,RPM!$A$2:$D$62,3,FALSE) -> 9.9 | P302: =N302*0.7457 -> 14.220156 | Q302: {=_xlfn.XLOOKUP(O302,BSFC!$A$2:$A$24,_xlfn.XLOOKUP(K302,BSFC!$B$2:$O$2,BSFC!$B$2:$O$24,,-1),,-1)} -> 400 | R302: =Q302*P302/3600 -> 1.5800174 | S302: =(L302-L301)/3600*P302 -> 0.00048038762 | T302: =S302*Q302 -> 0.19215505 | U302: =U301+T302 -> 34.472476
A303: =A302+1 -> 302 | B303: =IF(SQRT(B302^2+2*I302)>13.4112,13.4112,SQRT(B302^2+2*I302)) -> 8.2226171 | C303: =Specification!$G$30 -> 109.96225 | D303: =0.5*Specification!$K$4*Track!B303^2*Specification!$K$3*Specification!$K$2 -> 35.019795 | E303: 0 | F303: =Specification!$C$23*9.81*SIN((E303*PI()/180)) -> 0 | G303: =IF(J303=1,VLOOKUP(K303,RPM!$E$2:$H$62,3,FALSE)-F303-E303-D303,IF(J303=2,VLOOKUP(K303,RPM!$H$2:$K$62,3,FALSE)-F303-E303-D303,IF(J303=3,VLOOKUP(K303,RPM!$K$2:$N$62,3,FALSE)-F303-E303-D303))) -> 865.90338 | H303: =IF(J303=1,Specification!$I$14,IF(J303=2,Specification!$I$15,IF(J303=3,Specification!$I$16))) -> 580.58319 | I303: 0 | J303: 2 | K303: =IF(J303=1,VLOOKUP(B303,RPM!$F$2:$H$62,3,TRUE),IF(J303=2,VLOOKUP(B303,RPM!$I$2:$K$62,3,TRUE),IF(J303=3,VLOOKUP(B303,RPM!$L$2:$N$62,3,TRUE)))) -> 3700 | L303: =IF(I303=0,ABS(1/B303)+L302,ABS((B304-B303)/I303)+L302) -> 26.785819 | M303: =TAN(E303*PI()/180)+M302 -> 0 | N303: =VLOOKUP(K303,RPM!$A$2:$D$62,4,FALSE) -> 19.069541 | O303: =VLOOKUP(K303,RPM!$A$2:$D$62,3,FALSE) -> 9.9 | P303: =N303*0.7457 -> 14.220156 | Q303: {=_xlfn.XLOOKUP(O303,BSFC!$A$2:$A$24,_xlfn.XLOOKUP(K303,BSFC!$B$2:$O$2,BSFC!$B$2:$O$24,,-1),,-1)} -> 400 | R303: =Q303*P303/3600 -> 1.5800174 | S303: =(L303-L302)/3600*P303 -> 0.00048038762 | T303: =S303*Q303 -> 0.19215505 | U303: =U302+T303 -> 34.664631
A304: =A303+1 -> 303 | B304: =IF(SQRT(B303^2+2*I303)>13.4112,13.4112,SQRT(B303^2+2*I303)) -> 8.2226171 | C304: =Specification!$G$30 -> 109.96225 | D304: =0.5*Specification!$K$4*Track!B304^2*Specification!$K$3*Specification!$K$2 -> 35.019795 | E304: 0 | F304: =Specification!$C$23*9.81*SIN((E304*PI()/180)) -> 0 | G304: =IF(J304=1,VLOOKUP(K304,RPM!$E$2:$H$62,3,FALSE)-F304-E304-D304,IF(J304=2,VLOOKUP(K304,RPM!$H$2:$K$62,3,FALSE)-F304-E304-D304,IF(J304=3,VLOOKUP(K304,RPM!$K$2:$N$62,3,FALSE)-F304-E304-D304))) -> 865.90338 | H304: =IF(J304=1,Specification!$I$14,IF(J304=2,Specification!$I$15,IF(J304=3,Specification!$I$16))) -> 580.58319 | I304: 0 | J304: 2 | K304: =IF(J304=1,VLOOKUP(B304,RPM!$F$2:$H$62,3,TRUE),IF(J304=2,VLOOKUP(B304,RPM!$I$2:$K$62,3,TRUE),IF(J304=3,VLOOKUP(B304,RPM!$L$2:$N$62,3,TRUE)))) -> 3700 | L304: =IF(I304=0,ABS(1/B304)+L303,ABS((B305-B304)/I304)+L303) -> 26.907435 | M304: =TAN(E304*PI()/180)+M303 -> 0 | N304: =VLOOKUP(K304,RPM!$A$2:$D$62,4,FALSE) -> 19.069541 | O304: =VLOOKUP(K304,RPM!$A$2:$D$62,3,FALSE) -> 9.9 | P304: =N304*0.7457 -> 14.220156 | Q304: {=_xlfn.XLOOKUP(O304,BSFC!$A$2:$A$24,_xlfn.XLOOKUP(K304,BSFC!$B$2:$O$2,BSFC!$B$2:$O$24,,-1),,-1)} -> 400 | R304: =Q304*P304/3600 -> 1.5800174 | S304: =(L304-L303)/3600*P304 -> 0.00048038762 | T304: =S304*Q304 -> 0.19215505 | U304: =U303+T304 -> 34.856786
A305: =A304+1 -> 304 | B305: =IF(SQRT(B304^2+2*I304)>13.4112,13.4112,SQRT(B304^2+2*I304)) -> 8.2226171 | C305: =Specification!$G$30 -> 109.96225 | D305: =0.5*Specification!$K$4*Track!B305^2*Specification!$K$3*Specification!$K$2 -> 35.019795 | E305: 0 | F305: =Specification!$C$23*9.81*SIN((E305*PI()/180)) -> 0 | G305: =IF(J305=1,VLOOKUP(K305,RPM!$E$2:$H$62,3,FALSE)-F305-E305-D305,IF(J305=2,VLOOKUP(K305,RPM!$H$2:$K$62,3,FALSE)-F305-E305-D305,IF(J305=3,VLOOKUP(K305,RPM!$K$2:$N$62,3,FALSE)-F305-E305-D305))) -> 865.90338 | H305: =IF(J305=1,Specification!$I$14,IF(J305=2,Specification!$I$15,IF(J305=3,Specification!$I$16))) -> 580.58319 | I305: 0 | J305: 2 | K305: =IF(J305=1,VLOOKUP(B305,RPM!$F$2:$H$62,3,TRUE),IF(J305=2,VLOOKUP(B305,RPM!$I$2:$K$62,3,TRUE),IF(J305=3,VLOOKUP(B305,RPM!$L$2:$N$62,3,TRUE)))) -> 3700 | L305: =IF(I305=0,ABS(1/B305)+L304,ABS((B306-B305)/I305)+L304) -> 27.029051 | M305: =TAN(E305*PI()/180)+M304 -> 0 | N305: =VLOOKUP(K305,RPM!$A$2:$D$62,4,FALSE) -> 19.069541 | O305: =VLOOKUP(K305,RPM!$A$2:$D$62,3,FALSE) -> 9.9 | P305: =N305*0.7457 -> 14.220156 | Q305: {=_xlfn.XLOOKUP(O305,BSFC!$A$2:$A$24,_xlfn.XLOOKUP(K305,BSFC!$B$2:$O$2,BSFC!$B$2:$O$24,,-1),,-1)} -> 400 | R305: =Q305*P305/3600 -> 1.5800174 | S305: =(L305-L304)/3600*P305 -> 0.00048038762 | T305: =S305*Q305 -> 0.19215505 | U305: =U304+T305 -> 35.048941
A306: =A305+1 -> 305 | B306: =IF(SQRT(B305^2+2*I305)>13.4112,13.4112,SQRT(B305^2+2*I305)) -> 8.2226171 | C306: =Specification!$G$30 -> 109.96225 | D306: =0.5*Specification!$K$4*Track!B306^2*Specification!$K$3*Specification!$K$2 -> 35.019795 | E306: 0 | F306: =Specification!$C$23*9.81*SIN((E306*PI()/180)) -> 0 | G306: =IF(J306=1,VLOOKUP(K306,RPM!$E$2:$H$62,3,FALSE)-F306-E306-D306,IF(J306=2,VLOOKUP(K306,RPM!$H$2:$K$62,3,FALSE)-F306-E306-D306,IF(J306=3,VLOOKUP(K306,RPM!$K$2:$N$62,3,FALSE)-F306-E306-D306))) -> 865.90338 | H306: =IF(J306=1,Specification!$I$14,IF(J306=2,Specification!$I$15,IF(J306=3,Specification!$I$16))) -> 580.58319 | I306: 0 | J306: 2 | K306: =IF(J306=1,VLOOKUP(B306,RPM!$F$2:$H$62,3,TRUE),IF(J306=2,VLOOKUP(B306,RPM!$I$2:$K$62,3,TRUE),IF(J306=3,VLOOKUP(B306,RPM!$L$2:$N$62,3,TRUE)))) -> 3700 | L306: =IF(I306=0,ABS(1/B306)+L305,ABS((B307-B306)/I306)+L305) -> 27.150667 | M306: =TAN(E306*PI()/180)+M305 -> 0 | N306: =VLOOKUP(K306,RPM!$A$2:$D$62,4,FALSE) -> 19.069541 | O306: =VLOOKUP(K306,RPM!$A$2:$D$62,3,FALSE) -> 9.9 | P306: =N306*0.7457 -> 14.220156 | Q306: {=_xlfn.XLOOKUP(O306,BSFC!$A$2:$A$24,_xlfn.XLOOKUP(K306,BSFC!$B$2:$O$2,BSFC!$B$2:$O$24,,-1),,-1)} -> 400 | R306: =Q306*P306/3600 -> 1.5800174 | S306: =(L306-L305)/3600*P306 -> 0.00048038762 | T306: =S306*Q306 -> 0.19215505 | U306: =U305+T306 -> 35.241096
A307: =A306+1 -> 306 | B307: =IF(SQRT(B306^2+2*I306)>13.4112,13.4112,SQRT(B306^2+2*I306)) -> 8.2226171 | C307: =Specification!$G$30 -> 109.96225 | D307: =0.5*Specification!$K$4*Track!B307^2*Specification!$K$3*Specification!$K$2 -> 35.019795 | E307: 0 | F307: =Specification!$C$23*9.81*SIN((E307*PI()/180)) -> 0 | G307: =IF(J307=1,VLOOKUP(K307,RPM!$E$2:$H$62,3,FALSE)-F307-E307-D307,IF(J307=2,VLOOKUP(K307,RPM!$H$2:$K$62,3,FALSE)-F307-E307-D307,IF(J307=3,VLOOKUP(K307,RPM!$K$2:$N$62,3,FALSE)-F307-E307-D307))) -> 865.90338 | H307: =IF(J307=1,Specification!$I$14,IF(J307=2,Specification!$I$15,IF(J307=3,Specification!$I$16))) -> 580.58319 | I307: 0 | J307: 2 | K307: =IF(J307=1,VLOOKUP(B307,RPM!$F$2:$H$62,3,TRUE),IF(J307=2,VLOOKUP(B307,RPM!$I$2:$K$62,3,TRUE),IF(J307=3,VLOOKUP(B307,RPM!$L$2:$N$62,3,TRUE)))) -> 3700 | L307: =IF(I307=0,ABS(1/B307)+L306,ABS((B308-B307)/I307)+L306) -> 27.272283 | M307: =TAN(E307*PI()/180)+M306 -> 0 | N307: =VLOOKUP(K307,RPM!$A$2:$D$62,4,FALSE) -> 19.069541 | O307: =VLOOKUP(K307,RPM!$A$2:$D$62,3,FALSE) -> 9.9 | P307: =N307*0.7457 -> 14.220156 | Q307: {=_xlfn.XLOOKUP(O307,BSFC!$A$2:$A$24,_xlfn.XLOOKUP(K307,BSFC!$B$2:$O$2,BSFC!$B$2:$O$24,,-1),,-1)} -> 400 | R307: =Q307*P307/3600 -> 1.5800174 | S307: =(L307-L306)/3600*P307 -> 0.00048038762 | T307: =S307*Q307 -> 0.19215505 | U307: =U306+T307 -> 35.433251
A308: =A307+1 -> 307 | B308: =IF(SQRT(B307^2+2*I307)>13.4112,13.4112,SQRT(B307^2+2*I307)) -> 8.2226171 | C308: =Specification!$G$30 -> 109.96225 | D308: =0.5*Specification!$K$4*Track!B308^2*Specification!$K$3*Specification!$K$2 -> 35.019795 | E308: 0 | F308: =Specification!$C$23*9.81*SIN((E308*PI()/180)) -> 0 | G308: =IF(J308=1,VLOOKUP(K308,RPM!$E$2:$H$62,3,FALSE)-F308-E308-D308,IF(J308=2,VLOOKUP(K308,RPM!$H$2:$K$62,3,FALSE)-F308-E308-D308,IF(J308=3,VLOOKUP(K308,RPM!$K$2:$N$62,3,FALSE)-F308-E308-D308))) -> 865.90338 | H308: =IF(J308=1,Specification!$I$14,IF(J308=2,Specification!$I$15,IF(J308=3,Specification!$I$16))) -> 580.58319 | I308: 0 | J308: 2 | K308: =IF(J308=1,VLOOKUP(B308,RPM!$F$2:$H$62,3,TRUE),IF(J308=2,VLOOKUP(B308,RPM!$I$2:$K$62,3,TRUE),IF(J308=3,VLOOKUP(B308,RPM!$L$2:$N$62,3,TRUE)))) -> 3700 | L308: =IF(I308=0,ABS(1/B308)+L307,ABS((B309-B308)/I308)+L307) -> 27.393898 | M308: =TAN(E308*PI()/180)+M307 -> 0 | N308: =VLOOKUP(K308,RPM!$A$2:$D$62,4,FALSE) -> 19.069541 | O308: =VLOOKUP(K308,RPM!$A$2:$D$62,3,FALSE) -> 9.9 | P308: =N308*0.7457 -> 14.220156 | Q308: {=_xlfn.XLOOKUP(O308,BSFC!$A$2:$A$24,_xlfn.XLOOKUP(K308,BSFC!$B$2:$O$2,BSFC!$B$2:$O$24,,-1),,-1)} -> 400 | R308: =Q308*P308/3600 -> 1.5800174 | S308: =(L308-L307)/3600*P308 -> 0.00048038762 | T308: =S308*Q308 -> 0.19215505 | U308: =U307+T308 -> 35.625406
A309: =A308+1 -> 308 | B309: =IF(SQRT(B308^2+2*I308)>13.4112,13.4112,SQRT(B308^2+2*I308)) -> 8.2226171 | C309: =Specification!$G$30 -> 109.96225 | D309: =0.5*Specification!$K$4*Track!B309^2*Specification!$K$3*Specification!$K$2 -> 35.019795 | E309: 0 | F309: =Specification!$C$23*9.81*SIN((E309*PI()/180)) -> 0 | G309: =IF(J309=1,VLOOKUP(K309,RPM!$E$2:$H$62,3,FALSE)-F309-E309-D309,IF(J309=2,VLOOKUP(K309,RPM!$H$2:$K$62,3,FALSE)-F309-E309-D309,IF(J309=3,VLOOKUP(K309,RPM!$K$2:$N$62,3,FALSE)-F309-E309-D309))) -> 865.90338 | H309: =IF(J309=1,Specification!$I$14,IF(J309=2,Specification!$I$15,IF(J309=3,Specification!$I$16))) -> 580.58319 | I309: 0 | J309: 2 | K309: =IF(J309=1,VLOOKUP(B309,RPM!$F$2:$H$62,3,TRUE),IF(J309=2,VLOOKUP(B309,RPM!$I$2:$K$62,3,TRUE),IF(J309=3,VLOOKUP(B309,RPM!$L$2:$N$62,3,TRUE)))) -> 3700 | L309: =IF(I309=0,ABS(1/B309)+L308,ABS((B310-B309)/I309)+L308) -> 27.515514 | M309: =TAN(E309*PI()/180)+M308 -> 0 | N309: =VLOOKUP(K309,RPM!$A$2:$D$62,4,FALSE) -> 19.069541 | O309: =VLOOKUP(K309,RPM!$A$2:$D$62,3,FALSE) -> 9.9 | P309: =N309*0.7457 -> 14.220156 | Q309: {=_xlfn.XLOOKUP(O309,BSFC!$A$2:$A$24,_xlfn.XLOOKUP(K309,BSFC!$B$2:$O$2,BSFC!$B$2:$O$24,,-1),,-1)} -> 400 | R309: =Q309*P309/3600 -> 1.5800174 | S309: =(L309-L308)/3600*P309 -> 0.00048038762 | T309: =S309*Q309 -> 0.19215505 | U309: =U308+T309 -> 35.817561
A310: =A309+1 -> 309 | B310: =IF(SQRT(B309^2+2*I309)>13.4112,13.4112,SQRT(B309^2+2*I309)) -> 8.2226171 | C310: =Specification!$G$30 -> 109.96225 | D310: =0.5*Specification!$K$4*Track!B310^2*Specification!$K$3*Specification!$K$2 -> 35.019795 | E310: 0 | F310: =Specification!$C$23*9.81*SIN((E310*PI()/180)) -> 0 | G310: =IF(J310=1,VLOOKUP(K310,RPM!$E$2:$H$62,3,FALSE)-F310-E310-D310,IF(J310=2,VLOOKUP(K310,RPM!$H$2:$K$62,3,FALSE)-F310-E310-D310,IF(J310=3,VLOOKUP(K310,RPM!$K$2:$N$62,3,FALSE)-F310-E310-D310))) -> 865.90338 | H310: =IF(J310=1,Specification!$I$14,IF(J310=2,Specification!$I$15,IF(J310=3,Specification!$I$16))) -> 580.58319 | I310: 0 | J310: 2 | K310: =IF(J310=1,VLOOKUP(B310,RPM!$F$2:$H$62,3,TRUE),IF(J310=2,VLOOKUP(B310,RPM!$I$2:$K$62,3,TRUE),IF(J310=3,VLOOKUP(B310,RPM!$L$2:$N$62,3,TRUE)))) -> 3700 | L310: =IF(I310=0,ABS(1/B310)+L309,ABS((B311-B310)/I310)+L309) -> 27.63713 | M310: =TAN(E310*PI()/180)+M309 -> 0 | N310: =VLOOKUP(K310,RPM!$A$2:$D$62,4,FALSE) -> 19.069541 | O310: =VLOOKUP(K310,RPM!$A$2:$D$62,3,FALSE) -> 9.9 | P310: =N310*0.7457 -> 14.220156 | Q310: {=_xlfn.XLOOKUP(O310,BSFC!$A$2:$A$24,_xlfn.XLOOKUP(K310,BSFC!$B$2:$O$2,BSFC!$B$2:$O$24,,-1),,-1)} -> 400 | R310: =Q310*P310/3600 -> 1.5800174 | S310: =(L310-L309)/3600*P310 -> 0.00048038762 | T310: =S310*Q310 -> 0.19215505 | U310: =U309+T310 -> 36.009716
A311: =A310+1 -> 310 | B311: =IF(SQRT(B310^2+2*I310)>13.4112,13.4112,SQRT(B310^2+2*I310)) -> 8.2226171 | C311: =Specification!$G$30 -> 109.96225 | D311: =0.5*Specification!$K$4*Track!B311^2*Specification!$K$3*Specification!$K$2 -> 35.019795 | E311: 0 | F311: =Specification!$C$23*9.81*SIN((E311*PI()/180)) -> 0 | G311: =IF(J311=1,VLOOKUP(K311,RPM!$E$2:$H$62,3,FALSE)-F311-E311-D311,IF(J311=2,VLOOKUP(K311,RPM!$H$2:$K$62,3,FALSE)-F311-E311-D311,IF(J311=3,VLOOKUP(K311,RPM!$K$2:$N$62,3,FALSE)-F311-E311-D311))) -> 865.90338 | H311: =IF(J311=1,Specification!$I$14,IF(J311=2,Specification!$I$15,IF(J311=3,Specification!$I$16))) -> 580.58319 | I311: 0 | J311: 2 | K311: =IF(J311=1,VLOOKUP(B311,RPM!$F$2:$H$62,3,TRUE),IF(J311=2,VLOOKUP(B311,RPM!$I$2:$K$62,3,TRUE),IF(J311=3,VLOOKUP(B311,RPM!$L$2:$N$62,3,TRUE)))) -> 3700 | L311: =IF(I311=0,ABS(1/B311)+L310,ABS((B312-B311)/I311)+L310) -> 27.758746 | M311: =TAN(E311*PI()/180)+M310 -> 0 | N311: =VLOOKUP(K311,RPM!$A$2:$D$62,4,FALSE) -> 19.069541 | O311: =VLOOKUP(K311,RPM!$A$2:$D$62,3,FALSE) -> 9.9 | P311: =N311*0.7457 -> 14.220156 | Q311: {=_xlfn.XLOOKUP(O311,BSFC!$A$2:$A$24,_xlfn.XLOOKUP(K311,BSFC!$B$2:$O$2,BSFC!$B$2:$O$24,,-1),,-1)} -> 400 | R311: =Q311*P311/3600 -> 1.5800174 | S311: =(L311-L310)/3600*P311 -> 0.00048038762 | T311: =S311*Q311 -> 0.19215505 | U311: =U310+T311 -> 36.201871
A312: =A311+1 -> 311 | B312: =IF(SQRT(B311^2+2*I311)>13.4112,13.4112,SQRT(B311^2+2*I311)) -> 8.2226171 | C312: =Specification!$G$30 -> 109.96225 | D312: =0.5*Specification!$K$4*Track!B312^2*Specification!$K$3*Specification!$K$2 -> 35.019795 | E312: 0 | F312: =Specification!$C$23*9.81*SIN((E312*PI()/180)) -> 0 | G312: =IF(J312=1,VLOOKUP(K312,RPM!$E$2:$H$62,3,FALSE)-F312-E312-D312,IF(J312=2,VLOOKUP(K312,RPM!$H$2:$K$62,3,FALSE)-F312-E312-D312,IF(J312=3,VLOOKUP(K312,RPM!$K$2:$N$62,3,FALSE)-F312-E312-D312))) -> 865.90338 | H312: =IF(J312=1,Specification!$I$14,IF(J312=2,Specification!$I$15,IF(J312=3,Specification!$I$16))) -> 580.58319 | I312: 0 | J312: 2 | K312: =IF(J312=1,VLOOKUP(B312,RPM!$F$2:$H$62,3,TRUE),IF(J312=2,VLOOKUP(B312,RPM!$I$2:$K$62,3,TRUE),IF(J312=3,VLOOKUP(B312,RPM!$L$2:$N$62,3,TRUE)))) -> 3700 | L312: =IF(I312=0,ABS(1/B312)+L311,ABS((B313-B312)/I312)+L311) -> 27.880361 | M312: =TAN(E312*PI()/180)+M311 -> 0 | N312: =VLOOKUP(K312,RPM!$A$2:$D$62,4,FALSE) -> 19.069541 | O312: =VLOOKUP(K312,RPM!$A$2:$D$62,3,FALSE) -> 9.9 | P312: =N312*0.7457 -> 14.220156 | Q312: {=_xlfn.XLOOKUP(O312,BSFC!$A$2:$A$24,_xlfn.XLOOKUP(K312,BSFC!$B$2:$O$2,BSFC!$B$2:$O$24,,-1),,-1)} -> 400 | R312: =Q312*P312/3600 -> 1.5800174 | S312: =(L312-L311)/3600*P312 -> 0.00048038762 | T312: =S312*Q312 -> 0.19215505 | U312: =U311+T312 -> 36.394026
A313: =A312+1 -> 312 | B313: =IF(SQRT(B312^2+2*I312)>13.4112,13.4112,SQRT(B312^2+2*I312)) -> 8.2226171 | C313: =Specification!$G$30 -> 109.96225 | D313: =0.5*Specification!$K$4*Track!B313^2*Specification!$K$3*Specification!$K$2 -> 35.019795 | E313: 0 | F313: =Specification!$C$23*9.81*SIN((E313*PI()/180)) -> 0 | G313: =IF(J313=1,VLOOKUP(K313,RPM!$E$2:$H$62,3,FALSE)-F313-E313-D313,IF(J313=2,VLOOKUP(K313,RPM!$H$2:$K$62,3,FALSE)-F313-E313-D313,IF(J313=3,VLOOKUP(K313,RPM!$K$2:$N$62,3,FALSE)-F313-E313-D313))) -> 865.90338 | H313: =IF(J313=1,Specification!$I$14,IF(J313=2,Specification!$I$15,IF(J313=3,Specification!$I$16))) -> 580.58319 | I313: 0 | J313: 2 | K313: =IF(J313=1,VLOOKUP(B313,RPM!$F$2:$H$62,3,TRUE),IF(J313=2,VLOOKUP(B313,RPM!$I$2:$K$62,3,TRUE),IF(J313=3,VLOOKUP(B313,RPM!$L$2:$N$62,3,TRUE)))) -> 3700 | L313: =IF(I313=0,ABS(1/B313)+L312,ABS((B314-B313)/I313)+L312) -> 28.001977 | M313: =TAN(E313*PI()/180)+M312 -> 0 | N313: =VLOOKUP(K313,RPM!$A$2:$D$62,4,FALSE) -> 19.069541 | O313: =VLOOKUP(K313,RPM!$A$2:$D$62,3,FALSE) -> 9.9 | P313: =N313*0.7457 -> 14.220156 | Q313: {=_xlfn.XLOOKUP(O313,BSFC!$A$2:$A$24,_xlfn.XLOOKUP(K313,BSFC!$B$2:$O$2,BSFC!$B$2:$O$24,,-1),,-1)} -> 400 | R313: =Q313*P313/3600 -> 1.5800174 | S313: =(L313-L312)/3600*P313 -> 0.00048038762 | T313: =S313*Q313 -> 0.19215505 | U313: =U312+T313 -> 36.586181
... A489: =A488+1 -> 488 | B489: =IF(SQRT(B488^2+2*I488)>13.4112,13.4112,SQRT(B488^2+2*I488)) -> 8.2226171 | C489: =Specification!$G$30 -> 109.96225 | D489: =0.5*Specification!$K$4*Track!B489^2*Specification!$K$3*Specification!$K$2 -> 35.019795 | E489: 0 | F489: =Specification!$C$23*9.81*SIN((E489*PI()/180)) -> 0 | G489: =IF(J489=1,VLOOKUP(K489,RPM!$E$2:$H$62,3,FALSE)-F489-E489-D489,IF(J489=2,VLOOKUP(K489,RPM!$H$2:$K$62,3,FALSE)-F489-E489-D489,IF(J489=3,VLOOKUP(K489,RPM!$K$2:$N$62,3,FALSE)-F489-E489-D489))) -> 865.90338 | H489: =IF(J489=1,Specification!$I$14,IF(J489=2,Specification!$I$15,IF(J489=3,Specification!$I$16))) -> 580.58319 | I489: 0 | J489: 2 | K489: =IF(J489=1,VLOOKUP(B489,RPM!$F$2:$H$62,3,TRUE),IF(J489=2,VLOOKUP(B489,RPM!$I$2:$K$62,3,TRUE),IF(J489=3,VLOOKUP(B489,RPM!$L$2:$N$62,3,TRUE)))) -> 3700 | L489: =IF(I489=0,ABS(1/B489)+L488,ABS((B490-B489)/I489)+L488) -> 49.406355 | M489: =TAN(E489*PI()/180)+M488 -> 0 | N489: =VLOOKUP(K489,RPM!$A$2:$D$62,4,FALSE) -> 19.069541 | O489: =VLOOKUP(K489,RPM!$A$2:$D$62,3,FALSE) -> 9.9 | P489: =N489*0.7457 -> 14.220156 | Q489: {=_xlfn.XLOOKUP(O489,BSFC!$A$2:$A$24,_xlfn.XLOOKUP(K489,BSFC!$B$2:$O$2,BSFC!$B$2:$O$24,,-1),,-1)} -> 400 | R489: =Q489*P489/3600 -> 1.5800174 | S489: =(L489-L488)/3600*P489 -> 0.00048038762 | T489: =S489*Q489 -> 0.19215505 | U489: =U488+T489 -> 70.40547
A490: =A489+1 -> 489 | B490: =IF(SQRT(B489^2+2*I489)>13.4112,13.4112,SQRT(B489^2+2*I489)) -> 8.2226171 | C490: =Specification!$G$29 -> 164.94338 | D490: =0.5*Specification!$K$4*Track!B490^2*Specification!$K$3*Specification!$K$2 -> 35.019795 | E490: 0 | F490: =Specification!$C$23*9.81*SIN((E490*PI()/180)) -> 0 | G490: =IF(J490=1,VLOOKUP(K490,RPM!$E$2:$H$62,3,FALSE)-F490-E490-D490,IF(J490=2,VLOOKUP(K490,RPM!$H$2:$K$62,3,FALSE)-F490-E490-D490,IF(J490=3,VLOOKUP(K490,RPM!$K$2:$N$62,3,FALSE)-F490-E490-D490))) -> 865.90338 | H490: =IF(J490=1,Specification!$I$14,IF(J490=2,Specification!$I$15,IF(J490=3,Specification!$I$16))) -> 580.58319 | I490: =G490/H490 -> 1.4914372 | J490: 2 | K490: =IF(J490=1,VLOOKUP(B490,RPM!$F$2:$H$62,3,TRUE),IF(J490=2,VLOOKUP(B490,RPM!$I$2:$K$62,3,TRUE),IF(J490=3,VLOOKUP(B490,RPM!$L$2:$N$62,3,TRUE)))) -> 3700 | L490: =IF(I490=0,ABS(1/B490)+L489,ABS((B491-B490)/I490)+L489) -> 49.526658 | M490: =TAN(E490*PI()/180)+M489 -> 0 | N490: =VLOOKUP(K490,RPM!$A$2:$D$62,4,FALSE) -> 19.069541 | O490: =VLOOKUP(K490,RPM!$A$2:$D$62,3,FALSE) -> 9.9 | P490: =N490*0.7457 -> 14.220156 | Q490: {=_xlfn.XLOOKUP(O490,BSFC!$A$2:$A$24,_xlfn.XLOOKUP(K490,BSFC!$B$2:$O$2,BSFC!$B$2:$O$24,,-1),,-1)} -> 400 | R490: =Q490*P490/3600 -> 1.5800174 | S490: =(L490-L489)/3600*P490 -> 0.00047520294 | T490: =S490*Q490 -> 0.19008118 | U490: =U489+T490 -> 70.595551
A491: =A490+1 -> 490 | B491: =IF(SQRT(B490^2+2*I490)>13.4112,13.4112,SQRT(B490^2+2*I490)) -> 8.4020418 | C491: =Specification!$G$29 -> 164.94338 | D491: =0.5*Specification!$K$4*Track!B491^2*Specification!$K$3*Specification!$K$2 -> 36.564795 | E491: 0 | F491: =Specification!$C$23*9.81*SIN((E491*PI()/180)) -> 0 | G491: =IF(J491=1,VLOOKUP(K491,RPM!$E$2:$H$62,3,FALSE)-F491-E491-D491,IF(J491=2,VLOOKUP(K491,RPM!$H$2:$K$62,3,FALSE)-F491-E491-D491,IF(J491=3,VLOOKUP(K491,RPM!$K$2:$N$62,3,FALSE)-F491-E491-D491))) -> 864.35838 | H491: =IF(J491=1,Specification!$I$14,IF(J491=2,Specification!$I$15,IF(J491=3,Specification!$I$16))) -> 580.58319 | I491: =G491/H491 -> 1.4887761 | J491: 2 | K491: =IF(J491=1,VLOOKUP(B491,RPM!$F$2:$H$62,3,TRUE),IF(J491=2,VLOOKUP(B491,RPM!$I$2:$K$62,3,TRUE),IF(J491=3,VLOOKUP(B491,RPM!$L$2:$N$62,3,TRUE)))) -> 3700 | L491: =IF(I491=0,ABS(1/B491)+L490,ABS((B492-B491)/I491)+L490) -> 49.644447 | M491: =TAN(E491*PI()/180)+M490 -> 0 | N491: =VLOOKUP(K491,RPM!$A$2:$D$62,4,FALSE) -> 19.069541 | O491: =VLOOKUP(K491,RPM!$A$2:$D$62,3,FALSE) -> 9.9 | P491: =N491*0.7457 -> 14.220156 | Q491: {=_xlfn.XLOOKUP(O491,BSFC!$A$2:$A$24,_xlfn.XLOOKUP(K491,BSFC!$B$2:$O$2,BSFC!$B$2:$O$24,,-1),,-1)} -> 400 | R491: =Q491*P491/3600 -> 1.5800174 | S491: =(L491-L490)/3600*P491 -> 0.00046527354 | T491: =S491*Q491 -> 0.18610942 | U491: =U490+T491 -> 70.78166
A492: =A491+1 -> 491 | B492: =IF(SQRT(B491^2+2*I491)>13.4112,13.4112,SQRT(B491^2+2*I491)) -> 8.577404 | C492: =Specification!$G$29 -> 164.94338 | D492: =0.5*Specification!$K$4*Track!B492^2*Specification!$K$3*Specification!$K$2 -> 38.107038 | E492: 0 | F492: =Specification!$C$23*9.81*SIN((E492*PI()/180)) -> 0 | G492: =IF(J492=1,VLOOKUP(K492,RPM!$E$2:$H$62,3,FALSE)-F492-E492-D492,IF(J492=2,VLOOKUP(K492,RPM!$H$2:$K$62,3,FALSE)-F492-E492-D492,IF(J492=3,VLOOKUP(K492,RPM!$K$2:$N$62,3,FALSE)-F492-E492-D492))) -> 856.82914 | H492: =IF(J492=1,Specification!$I$14,IF(J492=2,Specification!$I$15,IF(J492=3,Specification!$I$16))) -> 580.58319 | I492: =G492/H492 -> 1.4758077 | J492: 2 | K492: =IF(J492=1,VLOOKUP(B492,RPM!$F$2:$H$62,3,TRUE),IF(J492=2,VLOOKUP(B492,RPM!$I$2:$K$62,3,TRUE),IF(J492=3,VLOOKUP(B492,RPM!$L$2:$N$62,3,TRUE)))) -> 3800 | L492: =IF(I492=0,ABS(1/B492)+L491,ABS((B493-B492)/I492)+L491) -> 49.759886 | M492: =TAN(E492*PI()/180)+M491 -> 0 | N492: =VLOOKUP(K492,RPM!$A$2:$D$62,4,FALSE) -> 18.942816 | O492: =VLOOKUP(K492,RPM!$A$2:$D$62,3,FALSE) -> 10.1 | P492: =N492*0.7457 -> 14.125658 | Q492: {=_xlfn.XLOOKUP(O492,BSFC!$A$2:$A$24,_xlfn.XLOOKUP(K492,BSFC!$B$2:$O$2,BSFC!$B$2:$O$24,,-1),,-1)} -> 360 | R492: =Q492*P492/3600 -> 1.4125658 | S492: =(L492-L491)/3600*P492 -> 0.00045295867 | T492: =S492*Q492 -> 0.16306512 | U492: =U491+T492 -> 70.944725
A493: =A492+1 -> 492 | B493: =IF(SQRT(B492^2+2*I492)>13.4112,13.4112,SQRT(B492^2+2*I492)) -> 8.7477697 | C493: =Specification!$G$29 -> 164.94338 | D493: =0.5*Specification!$K$4*Track!B493^2*Specification!$K$3*Specification!$K$2 -> 39.635847 | E493: 0 | F493: =Specification!$C$23*9.81*SIN((E493*PI()/180)) -> 0 | G493: =IF(J493=1,VLOOKUP(K493,RPM!$E$2:$H$62,3,FALSE)-F493-E493-D493,IF(J493=2,VLOOKUP(K493,RPM!$H$2:$K$62,3,FALSE)-F493-E493-D493,IF(J493=3,VLOOKUP(K493,RPM!$K$2:$N$62,3,FALSE)-F493-E493-D493))) -> 849.62036 | H493: =IF(J493=1,Specification!$I$14,IF(J493=2,Specification!$I$15,IF(J493=3,Specification!$I$16))) -> 580.58319 | I493: =G493/H493 -> 1.4633913 | J493: 2 | K493: =IF(J493=1,VLOOKUP(B493,RPM!$F$2:$H$62,3,TRUE),IF(J493=2,VLOOKUP(B493,RPM!$I$2:$K$62,3,TRUE),IF(J493=3,VLOOKUP(B493,RPM!$L$2:$N$62,3,TRUE)))) -> 3900 | L493: =IF(I493=0,ABS(1/B493)+L492,ABS((B494-B493)/I493)+L492) -> 49.873128 | M493: =TAN(E493*PI()/180)+M492 -> 0 | N493: =VLOOKUP(K493,RPM!$A$2:$D$62,4,FALSE) -> 18.82259 | O493: =VLOOKUP(K493,RPM!$A$2:$D$62,3,FALSE) -> 10.3 | P493: =N493*0.7457 -> 14.036005 | Q493: {=_xlfn.XLOOKUP(O493,BSFC!$A$2:$A$24,_xlfn.XLOOKUP(K493,BSFC!$B$2:$O$2,BSFC!$B$2:$O$24,,-1),,-1)} -> 360 | R493: =Q493*P493/3600 -> 1.4036005 | S493: =(L493-L492)/3600*P493 -> 0.00044151901 | T493: =S493*Q493 -> 0.15894684 | U493: =U492+T493 -> 71.103672
A494: =A493+1 -> 493 | B494: =IF(SQRT(B493^2+2*I493)>13.4112,13.4112,SQRT(B493^2+2*I493)) -> 8.9134874 | C494: =Specification!$G$29 -> 164.94338 | D494: =0.5*Specification!$K$4*Track!B494^2*Specification!$K$3*Specification!$K$2 -> 41.151794 | E494: 0 | F494: =Specification!$C$23*9.81*SIN((E494*PI()/180)) -> 0 | G494: =IF(J494=1,VLOOKUP(K494,RPM!$E$2:$H$62,3,FALSE)-F494-E494-D494,IF(J494=2,VLOOKUP(K494,RPM!$H$2:$K$62,3,FALSE)-F494-E494-D494,IF(J494=3,VLOOKUP(K494,RPM!$K$2:$N$62,3,FALSE)-F494-E494-D494))) -> 842.70844 | H494: =IF(J494=1,Specification!$I$14,IF(J494=2,Specification!$I$15,IF(J494=3,Specification!$I$16))) -> 580.58319 | I494: =G494/H494 -> 1.4514861 | J494: 2 | K494: =IF(J494=1,VLOOKUP(B494,RPM!$F$2:$H$62,3,TRUE),IF(J494=2,VLOOKUP(B494,RPM!$I$2:$K$62,3,TRUE),IF(J494=3,VLOOKUP(B494,RPM!$L$2:$N$62,3,TRUE)))) -> 4000 | L494: =IF(I494=0,ABS(1/B494)+L493,ABS((B495-B494)/I494)+L493) -> 49.984312 | M494: =TAN(E494*PI()/180)+M493 -> 0 | N494: =VLOOKUP(K494,RPM!$A$2:$D$62,4,FALSE) -> 18.708375 | O494: =VLOOKUP(K494,RPM!$A$2:$D$62,3,FALSE) -> 10.5 | P494: =N494*0.7457 -> 13.950835 | Q494: {=_xlfn.XLOOKUP(O494,BSFC!$A$2:$A$24,_xlfn.XLOOKUP(K494,BSFC!$B$2:$O$2,BSFC!$B$2:$O$24,,-1),,-1)} -> 360 | R494: =Q494*P494/3600 -> 1.3950835 | S494: =(L494-L493)/3600*P494 -> 0.00043086007 | T494: =S494*Q494 -> 0.15510962 | U494: =U493+T494 -> 71.258782
A495: =A494+1 -> 494 | B495: =IF(SQRT(B494^2+2*I494)>13.4112,13.4112,SQRT(B494^2+2*I494)) -> 9.074868 | C495: =Specification!$G$29 -> 164.94338 | D495: =0.5*Specification!$K$4*Track!B495^2*Specification!$K$3*Specification!$K$2 -> 42.655408 | E495: 0 | F495: =Specification!$C$23*9.81*SIN((E495*PI()/180)) -> 0 | G495: =IF(J495=1,VLOOKUP(K495,RPM!$E$2:$H$62,3,FALSE)-F495-E495-D495,IF(J495=2,VLOOKUP(K495,RPM!$H$2:$K$62,3,FALSE)-F495-E495-D495,IF(J495=3,VLOOKUP(K495,RPM!$K$2:$N$62,3,FALSE)-F495-E495-D495))) -> 841.20483 | H495: =IF(J495=1,Specification!$I$14,IF(J495=2,Specification!$I$15,IF(J495=3,Specification!$I$16))) -> 580.58319 | I495: =G495/H495 -> 1.4488963 | J495: 2 | K495: =IF(J495=1,VLOOKUP(B495,RPM!$F$2:$H$62,3,TRUE),IF(J495=2,VLOOKUP(B495,RPM!$I$2:$K$62,3,TRUE),IF(J495=3,VLOOKUP(B495,RPM!$L$2:$N$62,3,TRUE)))) -> 4000 | L495: =IF(I495=0,ABS(1/B495)+L494,ABS((B496-B495)/I495)+L494) -> 50.093553 | M495: =TAN(E495*PI()/180)+M494 -> 0 | N495: =VLOOKUP(K495,RPM!$A$2:$D$62,4,FALSE) -> 18.708375 | O495: =VLOOKUP(K495,RPM!$A$2:$D$62,3,FALSE) -> 10.5 | P495: =N495*0.7457 -> 13.950835 | Q495: {=_xlfn.XLOOKUP(O495,BSFC!$A$2:$A$24,_xlfn.XLOOKUP(K495,BSFC!$B$2:$O$2,BSFC!$B$2:$O$24,,-1),,-1)} -> 360 | R495: =Q495*P495/3600 -> 1.3950835 | S495: =(L495-L494)/3600*P495 -> 0.00042333719 | T495: =S495*Q495 -> 0.15240139 | U495: =U494+T495 -> 71.411183
A496: =A495+1 -> 495 | B496: =IF(SQRT(B495^2+2*I495)>13.4112,13.4112,SQRT(B495^2+2*I495)) -> 9.233148 | C496: =Specification!$G$29 -> 164.94338 | D496: =0.5*Specification!$K$4*Track!B496^2*Specification!$K$3*Specification!$K$2 -> 44.156339 | E496: 0 | F496: =Specification!$C$23*9.81*SIN((E496*PI()/180)) -> 0 | G496: =IF(J496=1,VLOOKUP(K496,RPM!$E$2:$H$62,3,FALSE)-F496-E496-D496,IF(J496=2,VLOOKUP(K496,RPM!$H$2:$K$62,3,FALSE)-F496-E496-D496,IF(J496=3,VLOOKUP(K496,RPM!$K$2:$N$62,3,FALSE)-F496-E496-D496))) -> 842.78355 | H496: =IF(J496=1,Specification!$I$14,IF(J496=2,Specification!$I$15,IF(J496=3,Specification!$I$16))) -> 580.58319 | I496: =G496/H496 -> 1.4516155 | J496: 2 | K496: =IF(J496=1,VLOOKUP(B496,RPM!$F$2:$H$62,3,TRUE),IF(J496=2,VLOOKUP(B496,RPM!$I$2:$K$62,3,TRUE),IF(J496=3,VLOOKUP(B496,RPM!$L$2:$N$62,3,TRUE)))) -> 4100 | L496: =IF(I496=0,ABS(1/B496)+L495,ABS((B497-B496)/I496)+L495) -> 50.200952 | M496: =TAN(E496*PI()/180)+M495 -> 0 | N496: =VLOOKUP(K496,RPM!$A$2:$D$62,4,FALSE) -> 18.773561 | O496: =VLOOKUP(K496,RPM!$A$2:$D$62,3,FALSE) -> 10.8 | P496: =N496*0.7457 -> 13.999444 | Q496: {=_xlfn.XLOOKUP(O496,BSFC!$A$2:$A$24,_xlfn.XLOOKUP(K496,BSFC!$B$2:$O$2,BSFC!$B$2:$O$24,,-1),,-1)} -> 360 | R496: =Q496*P496/3600 -> 1.3999444 | S496: =(L496-L495)/3600*P496 -> 0.00041764508 | T496: =S496*Q496 -> 0.15035223 | U496: =U495+T496 -> 71.561535
A497: =A496+1 -> 496 | B497: =IF(SQRT(B496^2+2*I496)>13.4112,13.4112,SQRT(B496^2+2*I496)) -> 9.3890496 | C497: =Specification!$G$29 -> 164.94338 | D497: =0.5*Specification!$K$4*Track!B497^2*Specification!$K$3*Specification!$K$2 -> 45.660087 | E497: 0 | F497: =Specification!$C$23*9.81*SIN((E497*PI()/180)) -> 0 | G497: =IF(J497=1,VLOOKUP(K497,RPM!$E$2:$H$62,3,FALSE)-F497-E497-D497,IF(J497=2,VLOOKUP(K497,RPM!$H$2:$K$62,3,FALSE)-F497-E497-D497,IF(J497=3,VLOOKUP(K497,RPM!$K$2:$N$62,3,FALSE)-F497-E497-D497))) -> 844.2128 | H497: =IF(J497=1,Specification!$I$14,IF(J497=2,Specification!$I$15,IF(J497=3,Specification!$I$16))) -> 580.58319 | I497: =G497/H497 -> 1.4540772 | J497: 2 | K497: =IF(J497=1,VLOOKUP(B497,RPM!$F$2:$H$62,3,TRUE),IF(J497=2,VLOOKUP(B497,RPM!$I$2:$K$62,3,TRUE),IF(J497=3,VLOOKUP(B497,RPM!$L$2:$N$62,3,TRUE)))) -> 4200 | L497: =IF(I497=0,ABS(1/B497)+L496,ABS((B498-B497)/I497)+L496) -> 50.306595 | M497: =TAN(E497*PI()/180)+M496 -> 0 | N497: =VLOOKUP(K497,RPM!$A$2:$D$62,4,FALSE) -> 18.835643 | O497: =VLOOKUP(K497,RPM!$A$2:$D$62,3,FALSE) -> 11.1 | P497: =N497*0.7457 -> 14.045739 | Q497: {=_xlfn.XLOOKUP(O497,BSFC!$A$2:$A$24,_xlfn.XLOOKUP(K497,BSFC!$B$2:$O$2,BSFC!$B$2:$O$24,,-1),,-1)} -> 340 | R497: =Q497*P497/3600 -> 1.326542 | S497: =(L497-L496)/3600*P497 -> 0.00041217552 | T497: =S497*Q497 -> 0.14013968 | U497: =U496+T497 -> 71.701675
A498: =A497+1 -> 497 | B498: =IF(SQRT(B497^2+2*I497)>13.4112,13.4112,SQRT(B497^2+2*I497)) -> 9.5426625 | C498: =Specification!$G$29 -> 164.94338 | D498: =0.5*Specification!$K$4*Track!B498^2*Specification!$K$3*Specification!$K$2 -> 47.166385 | E498: 0 | F498: =Specification!$C$23*9.81*SIN((E498*PI()/180)) -> 0 | G498: =IF(J498=1,VLOOKUP(K498,RPM!$E$2:$H$62,3,FALSE)-F498-E498-D498,IF(J498=2,VLOOKUP(K498,RPM!$H$2:$K$62,3,FALSE)-F498-E498-D498,IF(J498=3,VLOOKUP(K498,RPM!$K$2:$N$62,3,FALSE)-F498-E498-D498))) -> 845.50309 | H498: =IF(J498=1,Specification!$I$14,IF(J498=2,Specification!$I$15,IF(J498=3,Specification!$I$16))) -> 580.58319 | I498: =G498/H498 -> 1.4562996 | J498: 2 | K498: =IF(J498=1,VLOOKUP(B498,RPM!$F$2:$H$62,3,TRUE),IF(J498=2,VLOOKUP(B498,RPM!$I$2:$K$62,3,TRUE),IF(J498=3,VLOOKUP(B498,RPM!$L$2:$N$62,3,TRUE)))) -> 4300 | L498: =IF(I498=0,ABS(1/B498)+L497,ABS((B499-B498)/I498)+L497) -> 50.410563 | M498: =TAN(E498*PI()/180)+M497 -> 0 | N498: =VLOOKUP(K498,RPM!$A$2:$D$62,4,FALSE) -> 18.894837 | O498: =VLOOKUP(K498,RPM!$A$2:$D$62,3,FALSE) -> 11.4 | P498: =N498*0.7457 -> 14.08988 | Q498: {=_xlfn.XLOOKUP(O498,BSFC!$A$2:$A$24,_xlfn.XLOOKUP(K498,BSFC!$B$2:$O$2,BSFC!$B$2:$O$24,,-1),,-1)} -> 340 | R498: =Q498*P498/3600 -> 1.3307109 | S498: =(L498-L497)/3600*P498 -> 0.00040691479 | T498: =S498*Q498 -> 0.13835103 | U498: =U497+T498 -> 71.840026
A499: =A498+1 -> 498 | B499: =IF(SQRT(B498^2+2*I498)>13.4112,13.4112,SQRT(B498^2+2*I498)) -> 9.6940707 | C499: =Specification!$G$29 -> 164.94338 | D499: =0.5*Specification!$K$4*Track!B499^2*Specification!$K$3*Specification!$K$2 -> 48.674986 | E499: 0 | F499: =Specification!$C$23*9.81*SIN((E499*PI()/180)) -> 0 | G499: =IF(J499=1,VLOOKUP(K499,RPM!$E$2:$H$62,3,FALSE)-F499-E499-D499,IF(J499=2,VLOOKUP(K499,RPM!$H$2:$K$62,3,FALSE)-F499-E499-D499,IF(J499=3,VLOOKUP(K499,RPM!$K$2:$N$62,3,FALSE)-F499-E499-D499))) -> 843.99449 | H499: =IF(J499=1,Specification!$I$14,IF(J499=2,Specification!$I$15,IF(J499=3,Specification!$I$16))) -> 580.58319 | I499: =G499/H499 -> 1.4537012 | J499: 2 | K499: =IF(J499=1,VLOOKUP(B499,RPM!$F$2:$H$62,3,TRUE),IF(J499=2,VLOOKUP(B499,RPM!$I$2:$K$62,3,TRUE),IF(J499=3,VLOOKUP(B499,RPM!$L$2:$N$62,3,TRUE)))) -> 4300 | L499: =IF(I499=0,ABS(1/B499)+L498,ABS((B500-B499)/I499)+L498) -> 50.512933 | M499: =TAN(E499*PI()/180)+M498 -> 0 | N499: =VLOOKUP(K499,RPM!$A$2:$D$62,4,FALSE) -> 18.894837 | O499: =VLOOKUP(K499,RPM!$A$2:$D$62,3,FALSE) -> 11.4 | P499: =N499*0.7457 -> 14.08988 | Q499: {=_xlfn.XLOOKUP(O499,BSFC!$A$2:$A$24,_xlfn.XLOOKUP(K499,BSFC!$B$2:$O$2,BSFC!$B$2:$O$24,,-1),,-1)} -> 340 | R499: =Q499*P499/3600 -> 1.3307109 | S499: =(L499-L498)/3600*P499 -> 0.00040066174 | T499: =S499*Q499 -> 0.13622499 | U499: =U498+T499 -> 71.976251
A500: =A499+1 -> 499 | B500: =IF(SQRT(B499^2+2*I499)>13.4112,13.4112,SQRT(B499^2+2*I499)) -> 9.8428862 | C500: =Specification!$G$29 -> 164.94338 | D500: =0.5*Specification!$K$4*Track!B500^2*Specification!$K$3*Specification!$K$2 -> 50.180894 | E500: 0 | F500: =Specification!$C$23*9.81*SIN((E500*PI()/180)) -> 0 | G500: =IF(J500=1,VLOOKUP(K500,RPM!$E$2:$H$62,3,FALSE)-F500-E500-D500,IF(J500=2,VLOOKUP(K500,RPM!$H$2:$K$62,3,FALSE)-F500-E500-D500,IF(J500=3,VLOOKUP(K500,RPM!$K$2:$N$62,3,FALSE)-F500-E500-D500))) -> 845.15805 | H500: =IF(J500=1,Specification!$I$14,IF(J500=2,Specification!$I$15,IF(J500=3,Specification!$I$16))) -> 580.58319 | I500: =G500/H500 -> 1.4557053 | J500: 2 | K500: =IF(J500=1,VLOOKUP(B500,RPM!$F$2:$H$62,3,TRUE),IF(J500=2,VLOOKUP(B500,RPM!$I$2:$K$62,3,TRUE),IF(J500=3,VLOOKUP(B500,RPM!$L$2:$N$62,3,TRUE)))) -> 4400 | L500: =IF(I500=0,ABS(1/B500)+L499,ABS((B501-B500)/I500)+L499) -> 50.613777 | M500: =TAN(E500*PI()/180)+M499 -> 0 | N500: =VLOOKUP(K500,RPM!$A$2:$D$62,4,FALSE) -> 18.951341 | O500: =VLOOKUP(K500,RPM!$A$2:$D$62,3,FALSE) -> 11.7 | P500: =N500*0.7457 -> 14.132015 | Q500: {=_xlfn.XLOOKUP(O500,BSFC!$A$2:$A$24,_xlfn.XLOOKUP(K500,BSFC!$B$2:$O$2,BSFC!$B$2:$O$24,,-1),,-1)} -> 340 | R500: =Q500*P500/3600 -> 1.3346903 | S500: =(L500-L499)/3600*P500 -> 0.00039586996 | T500: =S500*Q500 -> 0.13459579 | U500: =U499+T500 -> 72.110847
A501: =A500+1 -> 500 | B501: =IF(SQRT(B500^2+2*I500)>13.4112,13.4112,SQRT(B500^2+2*I500)) -> 9.9896857 | C501: =Specification!$G$29 -> 164.94338 | D501: =0.5*Specification!$K$4*Track!B501^2*Specification!$K$3*Specification!$K$2 -> 51.688879 | E501: 0 | F501: =Specification!$C$23*9.81*SIN((E501*PI()/180)) -> 0 | G501: =IF(J501=1,VLOOKUP(K501,RPM!$E$2:$H$62,3,FALSE)-F501-E501-D501,IF(J501=2,VLOOKUP(K501,RPM!$H$2:$K$62,3,FALSE)-F501-E501-D501,IF(J501=3,VLOOKUP(K501,RPM!$K$2:$N$62,3,FALSE)-F501-E501-D501))) -> 846.20088 | H501: =IF(J501=1,Specification!$I$14,IF(J501=2,Specification!$I$15,IF(J501=3,Specification!$I$16))) -> 580.58319 | I501: =G501/H501 -> 1.4575015 | J501: 2 | K501: =IF(J501=1,VLOOKUP(B501,RPM!$F$2:$H$62,3,TRUE),IF(J501=2,VLOOKUP(B501,RPM!$I$2:$K$62,3,TRUE),IF(J501=3,VLOOKUP(B501,RPM!$L$2:$N$62,3,TRUE)))) -> 4500 | L501: =IF(I501=0,ABS(1/B501)+L500,ABS((B502-B501)/I501)+L500) -> 50.71316 | M501: =TAN(E501*PI()/180)+M500 -> 0 | N501: =VLOOKUP(K501,RPM!$A$2:$D$62,4,FALSE) -> 19.005333 | O501: =VLOOKUP(K501,RPM!$A$2:$D$62,3,FALSE) -> 12 | P501: =N501*0.7457 -> 14.172277 | Q501: {=_xlfn.XLOOKUP(O501,BSFC!$A$2:$A$24,_xlfn.XLOOKUP(K501,BSFC!$B$2:$O$2,BSFC!$B$2:$O$24,,-1),,-1)} -> 305 | R501: =Q501*P501/3600 -> 1.2007068 | S501: =(L501-L500)/3600*P501 -> 0.00039124431 | T501: =S501*Q501 -> 0.11932951 | U501: =U500+T501 -> 72.230176
... A538: =A537+1 -> 537 | B538: =IF(SQRT(B537^2+2*I537)>13.4112,13.4112,SQRT(B537^2+2*I537)) -> 13.402934 | C538: =Specification!$G$29 -> 164.94338 | D538: =0.5*Specification!$K$4*Track!B538^2*Specification!$K$3*Specification!$K$2 -> 93.045035 | E538: 8 | F538: =Specification!$C$23*9.81*SIN((E538*PI()/180)) -> 765.18938 | G538: =IF(J538=1,VLOOKUP(K538,RPM!$E$2:$H$62,3,FALSE)-F538-E538-D538,IF(J538=2,VLOOKUP(K538,RPM!$H$2:$K$62,3,FALSE)-F538-E538-D538,IF(J538=3,VLOOKUP(K538,RPM!$K$2:$N$62,3,FALSE)-F538-E538-D538))) -> 87.773459 | H538: =IF(J538=1,Specification!$I$14,IF(J538=2,Specification!$I$15,IF(J538=3,Specification!$I$16))) -> 580.58319 | I538: =G538/H538 -> 0.15118154 | J538: 2 | K538: =IF(J538=1,VLOOKUP(B538,RPM!$F$2:$H$62,3,TRUE),IF(J538=2,VLOOKUP(B538,RPM!$I$2:$K$62,3,TRUE),IF(J538=3,VLOOKUP(B538,RPM!$L$2:$N$62,3,TRUE)))) -> 6000 | L538: =IF(I538=0,ABS(1/B538)+L537,ABS((B539-B538)/I538)+L537) -> 53.721482 | M538: =TAN(E538*PI()/180)+M537 -> 1.8954962 | N538: =VLOOKUP(K538,RPM!$A$2:$D$62,4,FALSE) -> 20.193167 | O538: =VLOOKUP(K538,RPM!$A$2:$D$62,3,FALSE) -> 17 | P538: =N538*0.7457 -> 15.058044 | Q538: {=_xlfn.XLOOKUP(O538,BSFC!$A$2:$A$24,_xlfn.XLOOKUP(K538,BSFC!$B$2:$O$2,BSFC!$B$2:$O$24,,-1),,-1)} -> 360 | R538: =Q538*P538/3600 -> 1.5058044 | S538: =(L538-L537)/3600*P538 -> 0.00022870763 | T538: =S538*Q538 -> 0.082334747 | U538: =U537+T538 -> 76.472535
A539: =A538+1 -> 538 | B539: =IF(SQRT(B538^2+2*I538)>13.4112,13.4112,SQRT(B538^2+2*I538)) -> 13.4112 | C539: =Specification!$G$29 -> 164.94338 | D539: =0.5*Specification!$K$4*Track!B539^2*Specification!$K$3*Specification!$K$2 -> 93.159843 | E539: 8 | F539: =Specification!$C$23*9.81*SIN((E539*PI()/180)) -> 765.18938 | G539: =IF(J539=1,VLOOKUP(K539,RPM!$E$2:$H$62,3,FALSE)-F539-E539-D539,IF(J539=2,VLOOKUP(K539,RPM!$H$2:$K$62,3,FALSE)-F539-E539-D539,IF(J539=3,VLOOKUP(K539,RPM!$K$2:$N$62,3,FALSE)-F539-E539-D539))) -> 87.658651 | H539: =IF(J539=1,Specification!$I$14,IF(J539=2,Specification!$I$15,IF(J539=3,Specification!$I$16))) -> 580.58319 | I539: 0 | J539: 2 | K539: =IF(J539=1,VLOOKUP(B539,RPM!$F$2:$H$62,3,TRUE),IF(J539=2,VLOOKUP(B539,RPM!$I$2:$K$62,3,TRUE),IF(J539=3,VLOOKUP(B539,RPM!$L$2:$N$62,3,TRUE)))) -> 6000 | L539: =IF(I539=0,ABS(1/B539)+L538,ABS((B540-B539)/I539)+L538) -> 53.796046 | M539: =TAN(E539*PI()/180)+M538 -> 2.0360371 | N539: =VLOOKUP(K539,RPM!$A$2:$D$62,4,FALSE) -> 20.193167 | O539: =VLOOKUP(K539,RPM!$A$2:$D$62,3,FALSE) -> 17 | P539: =N539*0.7457 -> 15.058044 | Q539: {=_xlfn.XLOOKUP(O539,BSFC!$A$2:$A$24,_xlfn.XLOOKUP(K539,BSFC!$B$2:$O$2,BSFC!$B$2:$O$24,,-1),,-1)} -> 360 | R539: =Q539*P539/3600 -> 1.5058044 | S539: =(L539-L538)/3600*P539 -> 0.00031188783 | T539: =S539*Q539 -> 0.11227962 | U539: =U538+T539 -> 76.584814
A540: =A539+1 -> 539 | B540: =IF(SQRT(B539^2+2*I539)>13.4112,13.4112,SQRT(B539^2+2*I539)) -> 13.4112 | C540: =Specification!$G$29 -> 164.94338 | D540: =0.5*Specification!$K$4*Track!B540^2*Specification!$K$3*Specification!$K$2 -> 93.159843 | E540: 7 | F540: =Specification!$C$23*9.81*SIN((E540*PI()/180)) -> 670.05137 | G540: =IF(J540=1,VLOOKUP(K540,RPM!$E$2:$H$62,3,FALSE)-F540-E540-D540,IF(J540=2,VLOOKUP(K540,RPM!$H$2:$K$62,3,FALSE)-F540-E540-D540,IF(J540=3,VLOOKUP(K540,RPM!$K$2:$N$62,3,FALSE)-F540-E540-D540))) -> 183.79666 | H540: =IF(J540=1,Specification!$I$14,IF(J540=2,Specification!$I$15,IF(J540=3,Specification!$I$16))) -> 580.58319 | I540: 0 | J540: 2 | K540: =IF(J540=1,VLOOKUP(B540,RPM!$F$2:$H$62,3,TRUE),IF(J540=2,VLOOKUP(B540,RPM!$I$2:$K$62,3,TRUE),IF(J540=3,VLOOKUP(B540,RPM!$L$2:$N$62,3,TRUE)))) -> 6000 | L540: =IF(I540=0,ABS(1/B540)+L539,ABS((B541-B540)/I540)+L539) -> 53.870611 | M540: =TAN(E540*PI()/180)+M539 -> 2.1588216 | N540: =VLOOKUP(K540,RPM!$A$2:$D$62,4,FALSE) -> 20.193167 | O540: =VLOOKUP(K540,RPM!$A$2:$D$62,3,FALSE) -> 17 | P540: =N540*0.7457 -> 15.058044 | Q540: {=_xlfn.XLOOKUP(O540,BSFC!$A$2:$A$24,_xlfn.XLOOKUP(K540,BSFC!$B$2:$O$2,BSFC!$B$2:$O$24,,-1),,-1)} -> 360 | R540: =Q540*P540/3600 -> 1.5058044 | S540: =(L540-L539)/3600*P540 -> 0.00031188783 | T540: =S540*Q540 -> 0.11227962 | U540: =U539+T540 -> 76.697094
A541: =A540+1 -> 540 | B541: =IF(SQRT(B540^2+2*I540)>13.4112,13.4112,SQRT(B540^2+2*I540)) -> 13.4112 | C541: =Specification!$G$29 -> 164.94338 | D541: =0.5*Specification!$K$4*Track!B541^2*Specification!$K$3*Specification!$K$2 -> 93.159843 | E541: 6 | F541: =Specification!$C$23*9.81*SIN((E541*PI()/180)) -> 574.70926 | G541: =IF(J541=1,VLOOKUP(K541,RPM!$E$2:$H$62,3,FALSE)-F541-E541-D541,IF(J541=2,VLOOKUP(K541,RPM!$H$2:$K$62,3,FALSE)-F541-E541-D541,IF(J541=3,VLOOKUP(K541,RPM!$K$2:$N$62,3,FALSE)-F541-E541-D541))) -> 280.13877 | H541: =IF(J541=1,Specification!$I$14,IF(J541=2,Specification!$I$15,IF(J541=3,Specification!$I$16))) -> 580.58319 | I541: 0 | J541: 2 | K541: =IF(J541=1,VLOOKUP(B541,RPM!$F$2:$H$62,3,TRUE),IF(J541=2,VLOOKUP(B541,RPM!$I$2:$K$62,3,TRUE),IF(J541=3,VLOOKUP(B541,RPM!$L$2:$N$62,3,TRUE)))) -> 6000 | L541: =IF(I541=0,ABS(1/B541)+L540,ABS((B542-B541)/I541)+L540) -> 53.945175 | M541: =TAN(E541*PI()/180)+M540 -> 2.2639259 | N541: =VLOOKUP(K541,RPM!$A$2:$D$62,4,FALSE) -> 20.193167 | O541: =VLOOKUP(K541,RPM!$A$2:$D$62,3,FALSE) -> 17 | P541: =N541*0.7457 -> 15.058044 | Q541: {=_xlfn.XLOOKUP(O541,BSFC!$A$2:$A$24,_xlfn.XLOOKUP(K541,BSFC!$B$2:$O$2,BSFC!$B$2:$O$24,,-1),,-1)} -> 360 | R541: =Q541*P541/3600 -> 1.5058044 | S541: =(L541-L540)/3600*P541 -> 0.00031188783 | T541: =S541*Q541 -> 0.11227962 | U541: =U540+T541 -> 76.809373
A542: =A541+1 -> 541 | B542: =IF(SQRT(B541^2+2*I541)>13.4112,13.4112,SQRT(B541^2+2*I541)) -> 13.4112 | C542: =Specification!$G$29 -> 164.94338 | D542: =0.5*Specification!$K$4*Track!B542^2*Specification!$K$3*Specification!$K$2 -> 93.159843 | E542: 5 | F542: =Specification!$C$23*9.81*SIN((E542*PI()/180)) -> 479.19209 | G542: =IF(J542=1,VLOOKUP(K542,RPM!$E$2:$H$62,3,FALSE)-F542-E542-D542,IF(J542=2,VLOOKUP(K542,RPM!$H$2:$K$62,3,FALSE)-F542-E542-D542,IF(J542=3,VLOOKUP(K542,RPM!$K$2:$N$62,3,FALSE)-F542-E542-D542))) -> 376.65594 | H542: =IF(J542=1,Specification!$I$14,IF(J542=2,Specification!$I$15,IF(J542=3,Specification!$I$16))) -> 580.58319 | I542: 0 | J542: 2 | K542: =IF(J542=1,VLOOKUP(B542,RPM!$F$2:$H$62,3,TRUE),IF(J542=2,VLOOKUP(B542,RPM!$I$2:$K$62,3,TRUE),IF(J542=3,VLOOKUP(B542,RPM!$L$2:$N$62,3,TRUE)))) -> 6000 | L542: =IF(I542=0,ABS(1/B542)+L541,ABS((B543-B542)/I542)+L541) -> 54.01974 | M542: =TAN(E542*PI()/180)+M541 -> 2.3514145 | N542: =VLOOKUP(K542,RPM!$A$2:$D$62,4,FALSE) -> 20.193167 | O542: =VLOOKUP(K542,RPM!$A$2:$D$62,3,FALSE) -> 17 | P542: =N542*0.7457 -> 15.058044 | Q542: {=_xlfn.XLOOKUP(O542,BSFC!$A$2:$A$24,_xlfn.XLOOKUP(K542,BSFC!$B$2:$O$2,BSFC!$B$2:$O$24,,-1),,-1)} -> 360 | R542: =Q542*P542/3600 -> 1.5058044 | S542: =(L542-L541)/3600*P542 -> 0.00031188783 | T542: =S542*Q542 -> 0.11227962 | U542: =U541+T542 -> 76.921653
A543: =A542+1 -> 542 | B543: =IF(SQRT(B542^2+2*I542)>13.4112,13.4112,SQRT(B542^2+2*I542)) -> 13.4112 | C543: =Specification!$G$29 -> 164.94338 | D543: =0.5*Specification!$K$4*Track!B543^2*Specification!$K$3*Specification!$K$2 -> 93.159843 | E543: 4 | F543: =Specification!$C$23*9.81*SIN((E543*PI()/180)) -> 383.52895 | G543: =IF(J543=1,VLOOKUP(K543,RPM!$E$2:$H$62,3,FALSE)-F543-E543-D543,IF(J543=2,VLOOKUP(K543,RPM!$H$2:$K$62,3,FALSE)-F543-E543-D543,IF(J543=3,VLOOKUP(K543,RPM!$K$2:$N$62,3,FALSE)-F543-E543-D543))) -> 142.22223 | H543: =IF(J543=1,Specification!$I$14,IF(J543=2,Specification!$I$15,IF(J543=3,Specification!$I$16))) -> 578.83679 | I543: 0 | J543: 3 | K543: =IF(J543=1,VLOOKUP(B543,RPM!$F$2:$H$62,3,TRUE),IF(J543=2,VLOOKUP(B543,RPM!$I$2:$K$62,3,TRUE),IF(J543=3,VLOOKUP(B543,RPM!$L$2:$N$62,3,TRUE)))) -> 4200 | L543: =IF(I543=0,ABS(1/B543)+L542,ABS((B544-B543)/I543)+L542) -> 54.094304 | M543: =TAN(E543*PI()/180)+M542 -> 2.4213413 | N543: =VLOOKUP(K543,RPM!$A$2:$D$62,4,FALSE) -> 18.835643 | O543: =VLOOKUP(K543,RPM!$A$2:$D$62,3,FALSE) -> 11.1 | P543: =N543*0.7457 -> 14.045739 | Q543: {=_xlfn.XLOOKUP(O543,BSFC!$A$2:$A$24,_xlfn.XLOOKUP(K543,BSFC!$B$2:$O$2,BSFC!$B$2:$O$24,,-1),,-1)} -> 340 | R543: =Q543*P543/3600 -> 1.326542 | S543: =(L543-L542)/3600*P543 -> 0.00029092058 | T543: =S543*Q543 -> 0.098912998 | U543: =U542+T543 -> 77.020566
A544: =A543+1 -> 543 | B544: =IF(SQRT(B543^2+2*I543)>13.4112,13.4112,SQRT(B543^2+2*I543)) -> 13.4112 | C544: =Specification!$G$29 -> 164.94338 | D544: =0.5*Specification!$K$4*Track!B544^2*Specification!$K$3*Specification!$K$2 -> 93.159843 | E544: 3 | F544: =Specification!$C$23*9.81*SIN((E544*PI()/180)) -> 287.74898 | G544: =IF(J544=1,VLOOKUP(K544,RPM!$E$2:$H$62,3,FALSE)-F544-E544-D544,IF(J544=2,VLOOKUP(K544,RPM!$H$2:$K$62,3,FALSE)-F544-E544-D544,IF(J544=3,VLOOKUP(K544,RPM!$K$2:$N$62,3,FALSE)-F544-E544-D544))) -> 239.0022 | H544: =IF(J544=1,Specification!$I$14,IF(J544=2,Specification!$I$15,IF(J544=3,Specification!$I$16))) -> 578.83679 | I544: 0 | J544: 3 | K544: =IF(J544=1,VLOOKUP(B544,RPM!$F$2:$H$62,3,TRUE),IF(J544=2,VLOOKUP(B544,RPM!$I$2:$K$62,3,TRUE),IF(J544=3,VLOOKUP(B544,RPM!$L$2:$N$62,3,TRUE)))) -> 4200 | L544: =IF(I544=0,ABS(1/B544)+L543,ABS((B545-B544)/I544)+L543) -> 54.168869 | M544: =TAN(E544*PI()/180)+M543 -> 2.4737491 | N544: =VLOOKUP(K544,RPM!$A$2:$D$62,4,FALSE) -> 18.835643 | O544: =VLOOKUP(K544,RPM!$A$2:$D$62,3,FALSE) -> 11.1 | P544: =N544*0.7457 -> 14.045739 | Q544: {=_xlfn.XLOOKUP(O544,BSFC!$A$2:$A$24,_xlfn.XLOOKUP(K544,BSFC!$B$2:$O$2,BSFC!$B$2:$O$24,,-1),,-1)} -> 340 | R544: =Q544*P544/3600 -> 1.326542 | S544: =(L544-L543)/3600*P544 -> 0.00029092058 | T544: =S544*Q544 -> 0.098912998 | U544: =U543+T544 -> 77.119479
A545: =A544+1 -> 544 | B545: =IF(SQRT(B544^2+2*I544)>13.4112,13.4112,SQRT(B544^2+2*I544)) -> 13.4112 | C545: =Specification!$G$29 -> 164.94338 | D545: =0.5*Specification!$K$4*Track!B545^2*Specification!$K$3*Specification!$K$2 -> 93.159843 | E545: 2 | F545: =Specification!$C$23*9.81*SIN((E545*PI()/180)) -> 191.88136 | G545: =IF(J545=1,VLOOKUP(K545,RPM!$E$2:$H$62,3,FALSE)-F545-E545-D545,IF(J545=2,VLOOKUP(K545,RPM!$H$2:$K$62,3,FALSE)-F545-E545-D545,IF(J545=3,VLOOKUP(K545,RPM!$K$2:$N$62,3,FALSE)-F545-E545-D545))) -> 335.86982 | H545: =IF(J545=1,Specification!$I$14,IF(J545=2,Specification!$I$15,IF(J545=3,Specification!$I$16))) -> 578.83679 | I545: 0 | J545: 3 | K545: =IF(J545=1,VLOOKUP(B545,RPM!$F$2:$H$62,3,TRUE),IF(J545=2,VLOOKUP(B545,RPM!$I$2:$K$62,3,TRUE),IF(J545=3,VLOOKUP(B545,RPM!$L$2:$N$62,3,TRUE)))) -> 4200 | L545: =IF(I545=0,ABS(1/B545)+L544,ABS((B546-B545)/I545)+L544) -> 54.243434 | M545: =TAN(E545*PI()/180)+M544 -> 2.5086699 | N545: =VLOOKUP(K545,RPM!$A$2:$D$62,4,FALSE) -> 18.835643 | O545: =VLOOKUP(K545,RPM!$A$2:$D$62,3,FALSE) -> 11.1 | P545: =N545*0.7457 -> 14.045739 | Q545: {=_xlfn.XLOOKUP(O545,BSFC!$A$2:$A$24,_xlfn.XLOOKUP(K545,BSFC!$B$2:$O$2,BSFC!$B$2:$O$24,,-1),,-1)} -> 340 | R545: =Q545*P545/3600 -> 1.326542 | S545: =(L545-L544)/3600*P545 -> 0.00029092058 | T545: =S545*Q545 -> 0.098912998 | U545: =U544+T545 -> 77.218392
A546: =A545+1 -> 545 | B546: =IF(SQRT(B545^2+2*I545)>13.4112,13.4112,SQRT(B545^2+2*I545)) -> 13.4112 | C546: =Specification!$G$29 -> 164.94338 | D546: =0.5*Specification!$K$4*Track!B546^2*Specification!$K$3*Specification!$K$2 -> 93.159843 | E546: 1 | F546: =Specification!$C$23*9.81*SIN((E546*PI()/180)) -> 95.955296 | G546: =IF(J546=1,VLOOKUP(K546,RPM!$E$2:$H$62,3,FALSE)-F546-E546-D546,IF(J546=2,VLOOKUP(K546,RPM!$H$2:$K$62,3,FALSE)-F546-E546-D546,IF(J546=3,VLOOKUP(K546,RPM!$K$2:$N$62,3,FALSE)-F546-E546-D546))) -> 432.79589 | H546: =IF(J546=1,Specification!$I$14,IF(J546=2,Specification!$I$15,IF(J546=3,Specification!$I$16))) -> 578.83679 | I546: 0 | J546: 3 | K546: =IF(J546=1,VLOOKUP(B546,RPM!$F$2:$H$62,3,TRUE),IF(J546=2,VLOOKUP(B546,RPM!$I$2:$K$62,3,TRUE),IF(J546=3,VLOOKUP(B546,RPM!$L$2:$N$62,3,TRUE)))) -> 4200 | L546: =IF(I546=0,ABS(1/B546)+L545,ABS((B547-B546)/I546)+L545) -> 54.317998 | M546: =TAN(E546*PI()/180)+M545 -> 2.526125 | N546: =VLOOKUP(K546,RPM!$A$2:$D$62,4,FALSE) -> 18.835643 | O546: =VLOOKUP(K546,RPM!$A$2:$D$62,3,FALSE) -> 11.1 | P546: =N546*0.7457 -> 14.045739 | Q546: {=_xlfn.XLOOKUP(O546,BSFC!$A$2:$A$24,_xlfn.XLOOKUP(K546,BSFC!$B$2:$O$2,BSFC!$B$2:$O$24,,-1),,-1)} -> 340 | R546: =Q546*P546/3600 -> 1.326542 | S546: =(L546-L545)/3600*P546 -> 0.00029092058 | T546: =S546*Q546 -> 0.098912998 | U546: =U545+T546 -> 77.317305
A547: =A546+1 -> 546 | B547: =IF(SQRT(B546^2+2*I546)>13.4112,13.4112,SQRT(B546^2+2*I546)) -> 13.4112 | C547: =Specification!$G$29 -> 164.94338 | D547: =0.5*Specification!$K$4*Track!B547^2*Specification!$K$3*Specification!$K$2 -> 93.159843 | E547: 0 | F547: =Specification!$C$23*9.81*SIN((E547*PI()/180)) -> 0 | G547: =IF(J547=1,VLOOKUP(K547,RPM!$E$2:$H$62,3,FALSE)-F547-E547-D547,IF(J547=2,VLOOKUP(K547,RPM!$H$2:$K$62,3,FALSE)-F547-E547-D547,IF(J547=3,VLOOKUP(K547,RPM!$K$2:$N$62,3,FALSE)-F547-E547-D547))) -> 529.75118 | H547: =IF(J547=1,Specification!$I$14,IF(J547=2,Specification!$I$15,IF(J547=3,Specification!$I$16))) -> 578.83679 | I547: 0 | J547: 3 | K547: =IF(J547=1,VLOOKUP(B547,RPM!$F$2:$H$62,3,TRUE),IF(J547=2,VLOOKUP(B547,RPM!$I$2:$K$62,3,TRUE),IF(J547=3,VLOOKUP(B547,RPM!$L$2:$N$62,3,TRUE)))) -> 4200 | L547: =IF(I547=0,ABS(1/B547)+L546,ABS((B548-B547)/I547)+L546) -> 54.392563 | M547: =TAN(E547*PI()/180)+M546 -> 2.526125 | N547: =VLOOKUP(K547,RPM!$A$2:$D$62,4,FALSE) -> 18.835643 | O547: =VLOOKUP(K547,RPM!$A$2:$D$62,3,FALSE) -> 11.1 | P547: =N547*0.7457 -> 14.045739 | Q547: {=_xlfn.XLOOKUP(O547,BSFC!$A$2:$A$24,_xlfn.XLOOKUP(K547,BSFC!$B$2:$O$2,BSFC!$B$2:$O$24,,-1),,-1)} -> 340 | R547: =Q547*P547/3600 -> 1.326542 | S547: =(L547-L546)/3600*P547 -> 0.00029092058 | T547: =S547*Q547 -> 0.098912998 | U547: =U546+T547 -> 77.416218
A548: =A547+1 -> 547 | B548: =IF(SQRT(B547^2+2*I547)>13.4112,13.4112,SQRT(B547^2+2*I547)) -> 13.4112 | C548: =Specification!$G$29 -> 164.94338 | D548: =0.5*Specification!$K$4*Track!B548^2*Specification!$K$3*Specification!$K$2 -> 93.159843 | E548: 0 | F548: =Specification!$C$23*9.81*SIN((E548*PI()/180)) -> 0 | G548: =IF(J548=1,VLOOKUP(K548,RPM!$E$2:$H$62,3,FALSE)-F548-E548-D548,IF(J548=2,VLOOKUP(K548,RPM!$H$2:$K$62,3,FALSE)-F548-E548-D548,IF(J548=3,VLOOKUP(K548,RPM!$K$2:$N$62,3,FALSE)-F548-E548-D548))) -> 529.75118 | H548: =IF(J548=1,Specification!$I$14,IF(J548=2,Specification!$I$15,IF(J548=3,Specification!$I$16))) -> 578.83679 | I548: 0 | J548: 3 | K548: =IF(J548=1,VLOOKUP(B548,RPM!$F$2:$H$62,3,TRUE),IF(J548=2,VLOOKUP(B548,RPM!$I$2:$K$62,3,TRUE),IF(J548=3,VLOOKUP(B548,RPM!$L$2:$N$62,3,TRUE)))) -> 4200 | L548: =IF(I548=0,ABS(1/B548)+L547,ABS((B549-B548)/I548)+L547) -> 54.467127 | M548: =TAN(E548*PI()/180)+M547 -> 2.526125 | N548: =VLOOKUP(K548,RPM!$A$2:$D$62,4,FALSE) -> 18.835643 | O548: =VLOOKUP(K548,RPM!$A$2:$D$62,3,FALSE) -> 11.1 | P548: =N548*0.7457 -> 14.045739 | Q548: {=_xlfn.XLOOKUP(O548,BSFC!$A$2:$A$24,_xlfn.XLOOKUP(K548,BSFC!$B$2:$O$2,BSFC!$B$2:$O$24,,-1),,-1)} -> 340 | R548: =Q548*P548/3600 -> 1.326542 | S548: =(L548-L547)/3600*P548 -> 0.00029092058 | T548: =S548*Q548 -> 0.098912998 | U548: =U547+T548 -> 77.515131
A549: =A548+1 -> 548 | B549: =IF(SQRT(B548^2+2*I548)>13.4112,13.4112,SQRT(B548^2+2*I548)) -> 13.4112 | C549: =Specification!$G$29 -> 164.94338 | D549: =0.5*Specification!$K$4*Track!B549^2*Specification!$K$3*Specification!$K$2 -> 93.159843 | E549: 0 | F549: =Specification!$C$23*9.81*SIN((E549*PI()/180)) -> 0 | G549: =IF(J549=1,VLOOKUP(K549,RPM!$E$2:$H$62,3,FALSE)-F549-E549-D549,IF(J549=2,VLOOKUP(K549,RPM!$H$2:$K$62,3,FALSE)-F549-E549-D549,IF(J549=3,VLOOKUP(K549,RPM!$K$2:$N$62,3,FALSE)-F549-E549-D549))) -> 529.75118 | H549: =IF(J549=1,Specification!$I$14,IF(J549=2,Specification!$I$15,IF(J549=3,Specification!$I$16))) -> 578.83679 | I549: 0 | J549: 3 | K549: =IF(J549=1,VLOOKUP(B549,RPM!$F$2:$H$62,3,TRUE),IF(J549=2,VLOOKUP(B549,RPM!$I$2:$K$62,3,TRUE),IF(J549=3,VLOOKUP(B549,RPM!$L$2:$N$62,3,TRUE)))) -> 4200 | L549: =IF(I549=0,ABS(1/B549)+L548,ABS((B550-B549)/I549)+L548) -> 54.541692 | M549: =TAN(E549*PI()/180)+M548 -> 2.526125 | N549: =VLOOKUP(K549,RPM!$A$2:$D$62,4,FALSE) -> 18.835643 | O549: =VLOOKUP(K549,RPM!$A$2:$D$62,3,FALSE) -> 11.1 | P549: =N549*0.7457 -> 14.045739 | Q549: {=_xlfn.XLOOKUP(O549,BSFC!$A$2:$A$24,_xlfn.XLOOKUP(K549,BSFC!$B$2:$O$2,BSFC!$B$2:$O$24,,-1),,-1)} -> 340 | R549: =Q549*P549/3600 -> 1.326542 | S549: =(L549-L548)/3600*P549 -> 0.00029092058 | T549: =S549*Q549 -> 0.098912998 | U549: =U548+T549 -> 77.614044
A550: =A549+1 -> 549 | B550: =IF(SQRT(B549^2+2*I549)>13.4112,13.4112,SQRT(B549^2+2*I549)) -> 13.4112 | C550: =Specification!$G$29 -> 164.94338 | D550: =0.5*Specification!$K$4*Track!B550^2*Specification!$K$3*Specification!$K$2 -> 93.159843 | E550: 0 | F550: =Specification!$C$23*9.81*SIN((E550*PI()/180)) -> 0 | G550: =IF(J550=1,VLOOKUP(K550,RPM!$E$2:$H$62,3,FALSE)-F550-E550-D550,IF(J550=2,VLOOKUP(K550,RPM!$H$2:$K$62,3,FALSE)-F550-E550-D550,IF(J550=3,VLOOKUP(K550,RPM!$K$2:$N$62,3,FALSE)-F550-E550-D550))) -> 529.75118 | H550: =IF(J550=1,Specification!$I$14,IF(J550=2,Specification!$I$15,IF(J550=3,Specification!$I$16))) -> 578.83679 | I550: 0 | J550: 3 | K550: =IF(J550=1,VLOOKUP(B550,RPM!$F$2:$H$62,3,TRUE),IF(J550=2,VLOOKUP(B550,RPM!$I$2:$K$62,3,TRUE),IF(J550=3,VLOOKUP(B550,RPM!$L$2:$N$62,3,TRUE)))) -> 4200 | L550: =IF(I550=0,ABS(1/B550)+L549,ABS((B551-B550)/I550)+L549) -> 54.616256 | M550: =TAN(E550*PI()/180)+M549 -> 2.526125 | N550: =VLOOKUP(K550,RPM!$A$2:$D$62,4,FALSE) -> 18.835643 | O550: =VLOOKUP(K550,RPM!$A$2:$D$62,3,FALSE) -> 11.1 | P550: =N550*0.7457 -> 14.045739 | Q550: {=_xlfn.XLOOKUP(O550,BSFC!$A$2:$A$24,_xlfn.XLOOKUP(K550,BSFC!$B$2:$O$2,BSFC!$B$2:$O$24,,-1),,-1)} -> 340 | R550: =Q550*P550/3600 -> 1.326542 | S550: =(L550-L549)/3600*P550 -> 0.00029092058 | T550: =S550*Q550 -> 0.098912998 | U550: =U549+T550 -> 77.712957
... A574: =A573+1 -> 573 | B574: =IF(SQRT(B573^2+2*I573)>13.4112,13.4112,SQRT(B573^2+2*I573)) -> 13.4112 | C574: =Specification!$G$29 -> 164.94338 | D574: =0.5*Specification!$K$4*Track!B574^2*Specification!$K$3*Specification!$K$2 -> 93.159843 | E574: -2 | F574: =Specification!$C$23*9.81*SIN((E574*PI()/180)) -> -191.88136 | G574: =IF(J574=1,VLOOKUP(K574,RPM!$E$2:$H$62,3,FALSE)-F574-E574-D574,IF(J574=2,VLOOKUP(K574,RPM!$H$2:$K$62,3,FALSE)-F574-E574-D574,IF(J574=3,VLOOKUP(K574,RPM!$K$2:$N$62,3,FALSE)-F574-E574-D574))) -> 723.63254 | H574: =IF(J574=1,Specification!$I$14,IF(J574=2,Specification!$I$15,IF(J574=3,Specification!$I$16))) -> 578.83679 | I574: 0 | J574: 3 | K574: =IF(J574=1,VLOOKUP(B574,RPM!$F$2:$H$62,3,TRUE),IF(J574=2,VLOOKUP(B574,RPM!$I$2:$K$62,3,TRUE),IF(J574=3,VLOOKUP(B574,RPM!$L$2:$N$62,3,TRUE)))) -> 4200 | L574: =IF(I574=0,ABS(1/B574)+L573,ABS((B575-B574)/I574)+L573) -> 56.405805 | M574: =TAN(E574*PI()/180)+M573 -> 0.017455065 | N574: =VLOOKUP(K574,RPM!$A$2:$D$62,4,FALSE) -> 18.835643 | O574: =VLOOKUP(K574,RPM!$A$2:$D$62,3,FALSE) -> 11.1 | P574: =N574*0.7457 -> 14.045739 | Q574: {=_xlfn.XLOOKUP(O574,BSFC!$A$2:$A$24,_xlfn.XLOOKUP(K574,BSFC!$B$2:$O$2,BSFC!$B$2:$O$24,,-1),,-1)} -> 340 | R574: =Q574*P574/3600 -> 1.326542 | S574: =(L574-L573)/3600*P574 -> 0.00029092058 | T574: =S574*Q574 -> 0.098912998 | U574: =U573+T574 -> 80.086869
A575: =A574+1 -> 574 | B575: =IF(SQRT(B574^2+2*I574)>13.4112,13.4112,SQRT(B574^2+2*I574)) -> 13.4112 | C575: =Specification!$G$29 -> 164.94338 | D575: =0.5*Specification!$K$4*Track!B575^2*Specification!$K$3*Specification!$K$2 -> 93.159843 | E575: -1 | F575: =Specification!$C$23*9.81*SIN((E575*PI()/180)) -> -95.955296 | G575: =IF(J575=1,VLOOKUP(K575,RPM!$E$2:$H$62,3,FALSE)-F575-E575-D575,IF(J575=2,VLOOKUP(K575,RPM!$H$2:$K$62,3,FALSE)-F575-E575-D575,IF(J575=3,VLOOKUP(K575,RPM!$K$2:$N$62,3,FALSE)-F575-E575-D575))) -> 626.70648 | H575: =IF(J575=1,Specification!$I$14,IF(J575=2,Specification!$I$15,IF(J575=3,Specification!$I$16))) -> 578.83679 | I575: 0 | J575: 3 | K575: =IF(J575=1,VLOOKUP(B575,RPM!$F$2:$H$62,3,TRUE),IF(J575=2,VLOOKUP(B575,RPM!$I$2:$K$62,3,TRUE),IF(J575=3,VLOOKUP(B575,RPM!$L$2:$N$62,3,TRUE)))) -> 4200 | L575: =IF(I575=0,ABS(1/B575)+L574,ABS((B576-B575)/I575)+L574) -> 56.48037 | M575: 0 | N575: =VLOOKUP(K575,RPM!$A$2:$D$62,4,FALSE) -> 18.835643 | O575: =VLOOKUP(K575,RPM!$A$2:$D$62,3,FALSE) -> 11.1 | P575: =N575*0.7457 -> 14.045739 | Q575: {=_xlfn.XLOOKUP(O575,BSFC!$A$2:$A$24,_xlfn.XLOOKUP(K575,BSFC!$B$2:$O$2,BSFC!$B$2:$O$24,,-1),,-1)} -> 340 | R575: =Q575*P575/3600 -> 1.326542 | S575: =(L575-L574)/3600*P575 -> 0.00029092058 | T575: =S575*Q575 -> 0.098912998 | U575: =U574+T575 -> 80.185782
A576: =A575+1 -> 575 | B576: =IF(SQRT(B575^2+2*I575)>13.4112,13.4112,SQRT(B575^2+2*I575)) -> 13.4112 | C576: =Specification!$G$29 -> 164.94338 | D576: =0.5*Specification!$K$4*Track!B576^2*Specification!$K$3*Specification!$K$2 -> 93.159843 | E576: 0 | F576: =Specification!$C$23*9.81*SIN((E576*PI()/180)) -> 0 | G576: =IF(J576=1,VLOOKUP(K576,RPM!$E$2:$H$62,3,FALSE)-F576-E576-D576,IF(J576=2,VLOOKUP(K576,RPM!$H$2:$K$62,3,FALSE)-F576-E576-D576,IF(J576=3,VLOOKUP(K576,RPM!$K$2:$N$62,3,FALSE)-F576-E576-D576))) -> 529.75118 | H576: =IF(J576=1,Specification!$I$14,IF(J576=2,Specification!$I$15,IF(J576=3,Specification!$I$16))) -> 578.83679 | I576: 0 | J576: 3 | K576: =IF(J576=1,VLOOKUP(B576,RPM!$F$2:$H$62,3,TRUE),IF(J576=2,VLOOKUP(B576,RPM!$I$2:$K$62,3,TRUE),IF(J576=3,VLOOKUP(B576,RPM!$L$2:$N$62,3,TRUE)))) -> 4200 | L576: =IF(I576=0,ABS(1/B576)+L575,ABS((B577-B576)/I576)+L575) -> 56.554934 | M576: =TAN(E576*PI()/180)+M575 -> 0 | N576: =VLOOKUP(K576,RPM!$A$2:$D$62,4,FALSE) -> 18.835643 | O576: =VLOOKUP(K576,RPM!$A$2:$D$62,3,FALSE) -> 11.1 | P576: =N576*0.7457 -> 14.045739 | Q576: {=_xlfn.XLOOKUP(O576,BSFC!$A$2:$A$24,_xlfn.XLOOKUP(K576,BSFC!$B$2:$O$2,BSFC!$B$2:$O$24,,-1),,-1)} -> 340 | R576: =Q576*P576/3600 -> 1.326542 | S576: =(L576-L575)/3600*P576 -> 0.00029092058 | T576: =S576*Q576 -> 0.098912998 | U576: =U575+T576 -> 80.284695
A577: =A576+1 -> 576 | B577: =IF(SQRT(B576^2+2*I576)>13.4112,13.4112,SQRT(B576^2+2*I576)) -> 13.4112 | C577: =Specification!$G$29 -> 164.94338 | D577: =0.5*Specification!$K$4*Track!B577^2*Specification!$K$3*Specification!$K$2 -> 93.159843 | E577: 0 | F577: =Specification!$C$23*9.81*SIN((E577*PI()/180)) -> 0 | G577: =IF(J577=1,VLOOKUP(K577,RPM!$E$2:$H$62,3,FALSE)-F577-E577-D577,IF(J577=2,VLOOKUP(K577,RPM!$H$2:$K$62,3,FALSE)-F577-E577-D577,IF(J577=3,VLOOKUP(K577,RPM!$K$2:$N$62,3,FALSE)-F577-E577-D577))) -> 529.75118 | H577: =IF(J577=1,Specification!$I$14,IF(J577=2,Specification!$I$15,IF(J577=3,Specification!$I$16))) -> 578.83679 | I577: 0 | J577: 3 | K577: =IF(J577=1,VLOOKUP(B577,RPM!$F$2:$H$62,3,TRUE),IF(J577=2,VLOOKUP(B577,RPM!$I$2:$K$62,3,TRUE),IF(J577=3,VLOOKUP(B577,RPM!$L$2:$N$62,3,TRUE)))) -> 4200 | L577: =IF(I577=0,ABS(1/B577)+L576,ABS((B578-B577)/I577)+L576) -> 56.629499 | M577: =TAN(E577*PI()/180)+M576 -> 0 | N577: =VLOOKUP(K577,RPM!$A$2:$D$62,4,FALSE) -> 18.835643 | O577: =VLOOKUP(K577,RPM!$A$2:$D$62,3,FALSE) -> 11.1 | P577: =N577*0.7457 -> 14.045739 | Q577: {=_xlfn.XLOOKUP(O577,BSFC!$A$2:$A$24,_xlfn.XLOOKUP(K577,BSFC!$B$2:$O$2,BSFC!$B$2:$O$24,,-1),,-1)} -> 340 | R577: =Q577*P577/3600 -> 1.326542 | S577: =(L577-L576)/3600*P577 -> 0.00029092058 | T577: =S577*Q577 -> 0.098912998 | U577: =U576+T577 -> 80.383608
A578: =A577+1 -> 577 | B578: =IF(SQRT(B577^2+2*I577)>13.4112,13.4112,SQRT(B577^2+2*I577)) -> 13.4112 | C578: =Specification!$G$29 -> 164.94338 | D578: =0.5*Specification!$K$4*Track!B578^2*Specification!$K$3*Specification!$K$2 -> 93.159843 | E578: 0 | F578: =Specification!$C$23*9.81*SIN((E578*PI()/180)) -> 0 | G578: =IF(J578=1,VLOOKUP(K578,RPM!$E$2:$H$62,3,FALSE)-F578-E578-D578,IF(J578=2,VLOOKUP(K578,RPM!$H$2:$K$62,3,FALSE)-F578-E578-D578,IF(J578=3,VLOOKUP(K578,RPM!$K$2:$N$62,3,FALSE)-F578-E578-D578))) -> 529.75118 | H578: =IF(J578=1,Specification!$I$14,IF(J578=2,Specification!$I$15,IF(J578=3,Specification!$I$16))) -> 578.83679 | I578: 0 | J578: 3 | K578: =IF(J578=1,VLOOKUP(B578,RPM!$F$2:$H$62,3,TRUE),IF(J578=2,VLOOKUP(B578,RPM!$I$2:$K$62,3,TRUE),IF(J578=3,VLOOKUP(B578,RPM!$L$2:$N$62,3,TRUE)))) -> 4200 | L578: =IF(I578=0,ABS(1/B578)+L577,ABS((B579-B578)/I578)+L577) -> 56.704063 | M578: =TAN(E578*PI()/180)+M577 -> 0 | N578: =VLOOKUP(K578,RPM!$A$2:$D$62,4,FALSE) -> 18.835643 | O578: =VLOOKUP(K578,RPM!$A$2:$D$62,3,FALSE) -> 11.1 | P578: =N578*0.7457 -> 14.045739 | Q578: {=_xlfn.XLOOKUP(O578,BSFC!$A$2:$A$24,_xlfn.XLOOKUP(K578,BSFC!$B$2:$O$2,BSFC!$B$2:$O$24,,-1),,-1)} -> 340 | R578: =Q578*P578/3600 -> 1.326542 | S578: =(L578-L577)/3600*P578 -> 0.00029092058 | T578: =S578*Q578 -> 0.098912998 | U578: =U577+T578 -> 80.482521
A579: =A578+1 -> 578 | B579: =IF(SQRT(B578^2+2*I578)>13.4112,13.4112,SQRT(B578^2+2*I578)) -> 13.4112 | C579: =Specification!$G$29 -> 164.94338 | D579: =0.5*Specification!$K$4*Track!B579^2*Specification!$K$3*Specification!$K$2 -> 93.159843 | E579: 0 | F579: =Specification!$C$23*9.81*SIN((E579*PI()/180)) -> 0 | G579: =IF(J579=1,VLOOKUP(K579,RPM!$E$2:$H$62,3,FALSE)-F579-E579-D579,IF(J579=2,VLOOKUP(K579,RPM!$H$2:$K$62,3,FALSE)-F579-E579-D579,IF(J579=3,VLOOKUP(K579,RPM!$K$2:$N$62,3,FALSE)-F579-E579-D579))) -> 529.75118 | H579: =IF(J579=1,Specification!$I$14,IF(J579=2,Specification!$I$15,IF(J579=3,Specification!$I$16))) -> 578.83679 | I579: 0 | J579: 3 | K579: =IF(J579=1,VLOOKUP(B579,RPM!$F$2:$H$62,3,TRUE),IF(J579=2,VLOOKUP(B579,RPM!$I$2:$K$62,3,TRUE),IF(J579=3,VLOOKUP(B579,RPM!$L$2:$N$62,3,TRUE)))) -> 4200 | L579: =IF(I579=0,ABS(1/B579)+L578,ABS((B580-B579)/I579)+L578) -> 56.778628 | M579: =TAN(E579*PI()/180)+M578 -> 0 | N579: =VLOOKUP(K579,RPM!$A$2:$D$62,4,FALSE) -> 18.835643 | O579: =VLOOKUP(K579,RPM!$A$2:$D$62,3,FALSE) -> 11.1 | P579: =N579*0.7457 -> 14.045739 | Q579: {=_xlfn.XLOOKUP(O579,BSFC!$A$2:$A$24,_xlfn.XLOOKUP(K579,BSFC!$B$2:$O$2,BSFC!$B$2:$O$24,,-1),,-1)} -> 340 | R579: =Q579*P579/3600 -> 1.326542 | S579: =(L579-L578)/3600*P579 -> 0.00029092058 | T579: =S579*Q579 -> 0.098912998 | U579: =U578+T579 -> 80.581434
A580: =A579+1 -> 579 | B580: =IF(SQRT(B579^2+2*I579)>13.4112,13.4112,SQRT(B579^2+2*I579)) -> 13.4112 | C580: =Specification!$G$29 -> 164.94338 | D580: =0.5*Specification!$K$4*Track!B580^2*Specification!$K$3*Specification!$K$2 -> 93.159843 | E580: 0 | F580: =Specification!$C$23*9.81*SIN((E580*PI()/180)) -> 0 | G580: =IF(J580=1,VLOOKUP(K580,RPM!$E$2:$H$62,3,FALSE)-F580-E580-D580,IF(J580=2,VLOOKUP(K580,RPM!$H$2:$K$62,3,FALSE)-F580-E580-D580,IF(J580=3,VLOOKUP(K580,RPM!$K$2:$N$62,3,FALSE)-F580-E580-D580))) -> 529.75118 | H580: =IF(J580=1,Specification!$I$14,IF(J580=2,Specification!$I$15,IF(J580=3,Specification!$I$16))) -> 578.83679 | I580: 0 | J580: 3 | K580: =IF(J580=1,VLOOKUP(B580,RPM!$F$2:$H$62,3,TRUE),IF(J580=2,VLOOKUP(B580,RPM!$I$2:$K$62,3,TRUE),IF(J580=3,VLOOKUP(B580,RPM!$L$2:$N$62,3,TRUE)))) -> 4200 | L580: =IF(I580=0,ABS(1/B580)+L579,ABS((B581-B580)/I580)+L579) -> 56.853193 | M580: =TAN(E580*PI()/180)+M579 -> 0 | N580: =VLOOKUP(K580,RPM!$A$2:$D$62,4,FALSE) -> 18.835643 | O580: =VLOOKUP(K580,RPM!$A$2:$D$62,3,FALSE) -> 11.1 | P580: =N580*0.7457 -> 14.045739 | Q580: {=_xlfn.XLOOKUP(O580,BSFC!$A$2:$A$24,_xlfn.XLOOKUP(K580,BSFC!$B$2:$O$2,BSFC!$B$2:$O$24,,-1),,-1)} -> 340 | R580: =Q580*P580/3600 -> 1.326542 | S580: =(L580-L579)/3600*P580 -> 0.00029092058 | T580: =S580*Q580 -> 0.098912998 | U580: =U579+T580 -> 80.680347
A581: =A580+1 -> 580 | B581: =IF(SQRT(B580^2+2*I580)>13.4112,13.4112,SQRT(B580^2+2*I580)) -> 13.4112 | C581: =Specification!$G$29 -> 164.94338 | D581: =0.5*Specification!$K$4*Track!B581^2*Specification!$K$3*Specification!$K$2 -> 93.159843 | E581: 0 | F581: =Specification!$C$23*9.81*SIN((E581*PI()/180)) -> 0 | G581: =IF(J581=1,VLOOKUP(K581,RPM!$E$2:$H$62,3,FALSE)-F581-E581-D581,IF(J581=2,VLOOKUP(K581,RPM!$H$2:$K$62,3,FALSE)-F581-E581-D581,IF(J581=3,VLOOKUP(K581,RPM!$K$2:$N$62,3,FALSE)-F581-E581-D581))) -> 529.75118 | H581: =IF(J581=1,Specification!$I$14,IF(J581=2,Specification!$I$15,IF(J581=3,Specification!$I$16))) -> 578.83679 | I581: 0 | J581: 3 | K581: =IF(J581=1,VLOOKUP(B581,RPM!$F$2:$H$62,3,TRUE),IF(J581=2,VLOOKUP(B581,RPM!$I$2:$K$62,3,TRUE),IF(J581=3,VLOOKUP(B581,RPM!$L$2:$N$62,3,TRUE)))) -> 4200 | L581: =IF(I581=0,ABS(1/B581)+L580,ABS((B582-B581)/I581)+L580) -> 56.927757 | M581: =TAN(E581*PI()/180)+M580 -> 0 | N581: =VLOOKUP(K581,RPM!$A$2:$D$62,4,FALSE) -> 18.835643 | O581: =VLOOKUP(K581,RPM!$A$2:$D$62,3,FALSE) -> 11.1 | P581: =N581*0.7457 -> 14.045739 | Q581: {=_xlfn.XLOOKUP(O581,BSFC!$A$2:$A$24,_xlfn.XLOOKUP(K581,BSFC!$B$2:$O$2,BSFC!$B$2:$O$24,,-1),,-1)} -> 340 | R581: =Q581*P581/3600 -> 1.326542 | S581: =(L581-L580)/3600*P581 -> 0.00029092058 | T581: =S581*Q581 -> 0.098912998 | U581: =U580+T581 -> 80.77926
A582: =A581+1 -> 581 | B582: =IF(SQRT(B581^2+2*I581)>13.4112,13.4112,SQRT(B581^2+2*I581)) -> 13.4112 | C582: =Specification!$G$29 -> 164.94338 | D582: =0.5*Specification!$K$4*Track!B582^2*Specification!$K$3*Specification!$K$2 -> 93.159843 | E582: 0 | F582: =Specification!$C$23*9.81*SIN((E582*PI()/180)) -> 0 | G582: =IF(J582=1,VLOOKUP(K582,RPM!$E$2:$H$62,3,FALSE)-F582-E582-D582,IF(J582=2,VLOOKUP(K582,RPM!$H$2:$K$62,3,FALSE)-F582-E582-D582,IF(J582=3,VLOOKUP(K582,RPM!$K$2:$N$62,3,FALSE)-F582-E582-D582))) -> 529.75118 | H582: =IF(J582=1,Specification!$I$14,IF(J582=2,Specification!$I$15,IF(J582=3,Specification!$I$16))) -> 578.83679 | I582: 0 | J582: 3 | K582: =IF(J582=1,VLOOKUP(B582,RPM!$F$2:$H$62,3,TRUE),IF(J582=2,VLOOKUP(B582,RPM!$I$2:$K$62,3,TRUE),IF(J582=3,VLOOKUP(B582,RPM!$L$2:$N$62,3,TRUE)))) -> 4200 | L582: =IF(I582=0,ABS(1/B582)+L581,ABS((B583-B582)/I582)+L581) -> 57.002322 | M582: =TAN(E582*PI()/180)+M581 -> 0 | N582: =VLOOKUP(K582,RPM!$A$2:$D$62,4,FALSE) -> 18.835643 | O582: =VLOOKUP(K582,RPM!$A$2:$D$62,3,FALSE) -> 11.1 | P582: =N582*0.7457 -> 14.045739 | Q582: {=_xlfn.XLOOKUP(O582,BSFC!$A$2:$A$24,_xlfn.XLOOKUP(K582,BSFC!$B$2:$O$2,BSFC!$B$2:$O$24,,-1),,-1)} -> 340 | R582: =Q582*P582/3600 -> 1.326542 | S582: =(L582-L581)/3600*P582 -> 0.00029092058 | T582: =S582*Q582 -> 0.098912998 | U582: =U581+T582 -> 80.878173
A583: =A582+1 -> 582 | B583: =IF(SQRT(B582^2+2*I582)>13.4112,13.4112,SQRT(B582^2+2*I582)) -> 13.4112 | C583: =Specification!$G$29 -> 164.94338 | D583: =0.5*Specification!$K$4*Track!B583^2*Specification!$K$3*Specification!$K$2 -> 93.159843 | E583: 0 | F583: =Specification!$C$23*9.81*SIN((E583*PI()/180)) -> 0 | G583: =IF(J583=1,VLOOKUP(K583,RPM!$E$2:$H$62,3,FALSE)-F583-E583-D583,IF(J583=2,VLOOKUP(K583,RPM!$H$2:$K$62,3,FALSE)-F583-E583-D583,IF(J583=3,VLOOKUP(K583,RPM!$K$2:$N$62,3,FALSE)-F583-E583-D583))) -> 529.75118 | H583: =IF(J583=1,Specification!$I$14,IF(J583=2,Specification!$I$15,IF(J583=3,Specification!$I$16))) -> 578.83679 | I583: 0 | J583: 3 | K583: =IF(J583=1,VLOOKUP(B583,RPM!$F$2:$H$62,3,TRUE),IF(J583=2,VLOOKUP(B583,RPM!$I$2:$K$62,3,TRUE),IF(J583=3,VLOOKUP(B583,RPM!$L$2:$N$62,3,TRUE)))) -> 4200 | L583: =IF(I583=0,ABS(1/B583)+L582,ABS((B584-B583)/I583)+L582) -> 57.076886 | M583: =TAN(E583*PI()/180)+M582 -> 0 | N583: =VLOOKUP(K583,RPM!$A$2:$D$62,4,FALSE) -> 18.835643 | O583: =VLOOKUP(K583,RPM!$A$2:$D$62,3,FALSE) -> 11.1 | P583: =N583*0.7457 -> 14.045739 | Q583: {=_xlfn.XLOOKUP(O583,BSFC!$A$2:$A$24,_xlfn.XLOOKUP(K583,BSFC!$B$2:$O$2,BSFC!$B$2:$O$24,,-1),,-1)} -> 340 | R583: =Q583*P583/3600 -> 1.326542 | S583: =(L583-L582)/3600*P583 -> 0.00029092058 | T583: =S583*Q583 -> 0.098912998 | U583: =U582+T583 -> 80.977086
A584: =A583+1 -> 583 | B584: =IF(SQRT(B583^2+2*I583)>13.4112,13.4112,SQRT(B583^2+2*I583)) -> 13.4112 | C584: =Specification!$G$29 -> 164.94338 | D584: =0.5*Specification!$K$4*Track!B584^2*Specification!$K$3*Specification!$K$2 -> 93.159843 | E584: 0 | F584: =Specification!$C$23*9.81*SIN((E584*PI()/180)) -> 0 | G584: =IF(J584=1,VLOOKUP(K584,RPM!$E$2:$H$62,3,FALSE)-F584-E584-D584,IF(J584=2,VLOOKUP(K584,RPM!$H$2:$K$62,3,FALSE)-F584-E584-D584,IF(J584=3,VLOOKUP(K584,RPM!$K$2:$N$62,3,FALSE)-F584-E584-D584))) -> 529.75118 | H584: =IF(J584=1,Specification!$I$14,IF(J584=2,Specification!$I$15,IF(J584=3,Specification!$I$16))) -> 578.83679 | I584: 0 | J584: 3 | K584: =IF(J584=1,VLOOKUP(B584,RPM!$F$2:$H$62,3,TRUE),IF(J584=2,VLOOKUP(B584,RPM!$I$2:$K$62,3,TRUE),IF(J584=3,VLOOKUP(B584,RPM!$L$2:$N$62,3,TRUE)))) -> 4200 | L584: =IF(I584=0,ABS(1/B584)+L583,ABS((B585-B584)/I584)+L583) -> 57.151451 | M584: =TAN(E584*PI()/180)+M583 -> 0 | N584: =VLOOKUP(K584,RPM!$A$2:$D$62,4,FALSE) -> 18.835643 | O584: =VLOOKUP(K584,RPM!$A$2:$D$62,3,FALSE) -> 11.1 | P584: =N584*0.7457 -> 14.045739 | Q584: {=_xlfn.XLOOKUP(O584,BSFC!$A$2:$A$24,_xlfn.XLOOKUP(K584,BSFC!$B$2:$O$2,BSFC!$B$2:$O$24,,-1),,-1)} -> 340 | R584: =Q584*P584/3600 -> 1.326542 | S584: =(L584-L583)/3600*P584 -> 0.00029092058 | T584: =S584*Q584 -> 0.098912998 | U584: =U583+T584 -> 81.075999
A585: =A584+1 -> 584 | B585: =IF(SQRT(B584^2+2*I584)>13.4112,13.4112,SQRT(B584^2+2*I584)) -> 13.4112 | C585: =Specification!$G$29 -> 164.94338 | D585: =0.5*Specification!$K$4*Track!B585^2*Specification!$K$3*Specification!$K$2 -> 93.159843 | E585: 0 | F585: =Specification!$C$23*9.81*SIN((E585*PI()/180)) -> 0 | G585: =IF(J585=1,VLOOKUP(K585,RPM!$E$2:$H$62,3,FALSE)-F585-E585-D585,IF(J585=2,VLOOKUP(K585,RPM!$H$2:$K$62,3,FALSE)-F585-E585-D585,IF(J585=3,VLOOKUP(K585,RPM!$K$2:$N$62,3,FALSE)-F585-E585-D585))) -> 529.75118 | H585: =IF(J585=1,Specification!$I$14,IF(J585=2,Specification!$I$15,IF(J585=3,Specification!$I$16))) -> 578.83679 | I585: 0 | J585: 3 | K585: =IF(J585=1,VLOOKUP(B585,RPM!$F$2:$H$62,3,TRUE),IF(J585=2,VLOOKUP(B585,RPM!$I$2:$K$62,3,TRUE),IF(J585=3,VLOOKUP(B585,RPM!$L$2:$N$62,3,TRUE)))) -> 4200 | L585: =IF(I585=0,ABS(1/B585)+L584,ABS((B586-B585)/I585)+L584) -> 57.226015 | M585: =TAN(E585*PI()/180)+M584 -> 0 | N585: =VLOOKUP(K585,RPM!$A$2:$D$62,4,FALSE) -> 18.835643 | O585: =VLOOKUP(K585,RPM!$A$2:$D$62,3,FALSE) -> 11.1 | P585: =N585*0.7457 -> 14.045739 | Q585: {=_xlfn.XLOOKUP(O585,BSFC!$A$2:$A$24,_xlfn.XLOOKUP(K585,BSFC!$B$2:$O$2,BSFC!$B$2:$O$24,,-1),,-1)} -> 340 | R585: =Q585*P585/3600 -> 1.326542 | S585: =(L585-L584)/3600*P585 -> 0.00029092058 | T585: =S585*Q585 -> 0.098912998 | U585: =U584+T585 -> 81.174912
A586: =A585+1 -> 585 | B586: =IF(SQRT(B585^2+2*I585)>13.4112,13.4112,SQRT(B585^2+2*I585)) -> 13.4112 | C586: =Specification!$G$29 -> 164.94338 | D586: =0.5*Specification!$K$4*Track!B586^2*Specification!$K$3*Specification!$K$2 -> 93.159843 | E586: 0 | F586: =Specification!$C$23*9.81*SIN((E586*PI()/180)) -> 0 | G586: =IF(J586=1,VLOOKUP(K586,RPM!$E$2:$H$62,3,FALSE)-F586-E586-D586,IF(J586=2,VLOOKUP(K586,RPM!$H$2:$K$62,3,FALSE)-F586-E586-D586,IF(J586=3,VLOOKUP(K586,RPM!$K$2:$N$62,3,FALSE)-F586-E586-D586))) -> 529.75118 | H586: =IF(J586=1,Specification!$I$14,IF(J586=2,Specification!$I$15,IF(J586=3,Specification!$I$16))) -> 578.83679 | I586: 0 | J586: 3 | K586: =IF(J586=1,VLOOKUP(B586,RPM!$F$2:$H$62,3,TRUE),IF(J586=2,VLOOKUP(B586,RPM!$I$2:$K$62,3,TRUE),IF(J586=3,VLOOKUP(B586,RPM!$L$2:$N$62,3,TRUE)))) -> 4200 | L586: =IF(I586=0,ABS(1/B586)+L585,ABS((B587-B586)/I586)+L585) -> 57.30058 | M586: =TAN(E586*PI()/180)+M585 -> 0 | N586: =VLOOKUP(K586,RPM!$A$2:$D$62,4,FALSE) -> 18.835643 | O586: =VLOOKUP(K586,RPM!$A$2:$D$62,3,FALSE) -> 11.1 | P586: =N586*0.7457 -> 14.045739 | Q586: {=_xlfn.XLOOKUP(O586,BSFC!$A$2:$A$24,_xlfn.XLOOKUP(K586,BSFC!$B$2:$O$2,BSFC!$B$2:$O$24,,-1),,-1)} -> 340 | R586: =Q586*P586/3600 -> 1.326542 | S586: =(L586-L585)/3600*P586 -> 0.00029092058 | T586: =S586*Q586 -> 0.098912998 | U586: =U585+T586 -> 81.273825
A587: =A586+1 -> 586 | B587: =IF(SQRT(B586^2+2*I586)>13.4112,13.4112,SQRT(B586^2+2*I586)) -> 13.4112 | C587: =Specification!$G$29 -> 164.94338 | D587: =0.5*Specification!$K$4*Track!B587^2*Specification!$K$3*Specification!$K$2 -> 93.159843 | E587: 0 | F587: =Specification!$C$23*9.81*SIN((E587*PI()/180)) -> 0 | G587: =IF(J587=1,VLOOKUP(K587,RPM!$E$2:$H$62,3,FALSE)-F587-E587-D587,IF(J587=2,VLOOKUP(K587,RPM!$H$2:$K$62,3,FALSE)-F587-E587-D587,IF(J587=3,VLOOKUP(K587,RPM!$K$2:$N$62,3,FALSE)-F587-E587-D587))) -> 529.75118 | H587: =IF(J587=1,Specification!$I$14,IF(J587=2,Specification!$I$15,IF(J587=3,Specification!$I$16))) -> 578.83679 | I587: 0 | J587: 3 | K587: =IF(J587=1,VLOOKUP(B587,RPM!$F$2:$H$62,3,TRUE),IF(J587=2,VLOOKUP(B587,RPM!$I$2:$K$62,3,TRUE),IF(J587=3,VLOOKUP(B587,RPM!$L$2:$N$62,3,TRUE)))) -> 4200 | L587: =IF(I587=0,ABS(1/B587)+L586,ABS((B588-B587)/I587)+L586) -> 57.375144 | M587: =TAN(E587*PI()/180)+M586 -> 0 | N587: =VLOOKUP(K587,RPM!$A$2:$D$62,4,FALSE) -> 18.835643 | O587: =VLOOKUP(K587,RPM!$A$2:$D$62,3,FALSE) -> 11.1 | P587: =N587*0.7457 -> 14.045739 | Q587: {=_xlfn.XLOOKUP(O587,BSFC!$A$2:$A$24,_xlfn.XLOOKUP(K587,BSFC!$B$2:$O$2,BSFC!$B$2:$O$24,,-1),,-1)} -> 340 | R587: =Q587*P587/3600 -> 1.326542 | S587: =(L587-L586)/3600*P587 -> 0.00029092058 | T587: =S587*Q587 -> 0.098912998 | U587: =U586+T587 -> 81.372738
... A647: =A646+1 -> 646 | B647: =IF(SQRT(B646^2+2*I646)>13.4112,13.4112,SQRT(B646^2+2*I646)) -> 13.4112 | C647: =Specification!$G$29 -> 164.94338 | D647: =0.5*Specification!$K$4*Track!B647^2*Specification!$K$3*Specification!$K$2 -> 93.159843 | E647: -2 | F647: =Specification!$C$23*9.81*SIN((E647*PI()/180)) -> -191.88136 | G647: =IF(J647=1,VLOOKUP(K647,RPM!$E$2:$H$62,3,FALSE)-F647-E647-D647,IF(J647=2,VLOOKUP(K647,RPM!$H$2:$K$62,3,FALSE)-F647-E647-D647,IF(J647=3,VLOOKUP(K647,RPM!$K$2:$N$62,3,FALSE)-F647-E647-D647))) -> 723.63254 | H647: =IF(J647=1,Specification!$I$14,IF(J647=2,Specification!$I$15,IF(J647=3,Specification!$I$16))) -> 578.83679 | I647: 0 | J647: 3 | K647: =IF(J647=1,VLOOKUP(B647,RPM!$F$2:$H$62,3,TRUE),IF(J647=2,VLOOKUP(B647,RPM!$I$2:$K$62,3,TRUE),IF(J647=3,VLOOKUP(B647,RPM!$L$2:$N$62,3,TRUE)))) -> 4200 | L647: =IF(I647=0,ABS(1/B647)+L646,ABS((B648-B647)/I647)+L646) -> 61.849017 | M647: =TAN(E647*PI()/180)+M646 -> 0.017455065 | N647: =VLOOKUP(K647,RPM!$A$2:$D$62,4,FALSE) -> 18.835643 | O647: =VLOOKUP(K647,RPM!$A$2:$D$62,3,FALSE) -> 11.1 | P647: =N647*0.7457 -> 14.045739 | Q647: {=_xlfn.XLOOKUP(O647,BSFC!$A$2:$A$24,_xlfn.XLOOKUP(K647,BSFC!$B$2:$O$2,BSFC!$B$2:$O$24,,-1),,-1)} -> 340 | R647: =Q647*P647/3600 -> 1.326542 | S647: =(L647-L646)/3600*P647 -> 0.00029092058 | T647: =S647*Q647 -> 0.098912998 | U647: =U646+T647 -> 87.534751
A648: =A647+1 -> 647 | B648: =IF(SQRT(B647^2+2*I647)>13.4112,13.4112,SQRT(B647^2+2*I647)) -> 13.4112 | C648: =Specification!$G$29 -> 164.94338 | D648: =0.5*Specification!$K$4*Track!B648^2*Specification!$K$3*Specification!$K$2 -> 93.159843 | E648: -1 | F648: =Specification!$C$23*9.81*SIN((E648*PI()/180)) -> -95.955296 | G648: =IF(J648=1,VLOOKUP(K648,RPM!$E$2:$H$62,3,FALSE)-F648-E648-D648,IF(J648=2,VLOOKUP(K648,RPM!$H$2:$K$62,3,FALSE)-F648-E648-D648,IF(J648=3,VLOOKUP(K648,RPM!$K$2:$N$62,3,FALSE)-F648-E648-D648))) -> 626.70648 | H648: =IF(J648=1,Specification!$I$14,IF(J648=2,Specification!$I$15,IF(J648=3,Specification!$I$16))) -> 578.83679 | I648: 0 | J648: 3 | K648: =IF(J648=1,VLOOKUP(B648,RPM!$F$2:$H$62,3,TRUE),IF(J648=2,VLOOKUP(B648,RPM!$I$2:$K$62,3,TRUE),IF(J648=3,VLOOKUP(B648,RPM!$L$2:$N$62,3,TRUE)))) -> 4200 | L648: =IF(I648=0,ABS(1/B648)+L647,ABS((B649-B648)/I648)+L647) -> 61.923581 | M648: 0 | N648: =VLOOKUP(K648,RPM!$A$2:$D$62,4,FALSE) -> 18.835643 | O648: =VLOOKUP(K648,RPM!$A$2:$D$62,3,FALSE) -> 11.1 | P648: =N648*0.7457 -> 14.045739 | Q648: {=_xlfn.XLOOKUP(O648,BSFC!$A$2:$A$24,_xlfn.XLOOKUP(K648,BSFC!$B$2:$O$2,BSFC!$B$2:$O$24,,-1),,-1)} -> 340 | R648: =Q648*P648/3600 -> 1.326542 | S648: =(L648-L647)/3600*P648 -> 0.00029092058 | T648: =S648*Q648 -> 0.098912998 | U648: =U647+T648 -> 87.633664
A649: =A648+1 -> 648 | B649: =IF(SQRT(B648^2+2*I648)>13.4112,13.4112,SQRT(B648^2+2*I648)) -> 13.4112 | C649: =Specification!$G$29 -> 164.94338 | D649: =0.5*Specification!$K$4*Track!B649^2*Specification!$K$3*Specification!$K$2 -> 93.159843 | E649: 0 | F649: =Specification!$C$23*9.81*SIN((E649*PI()/180)) -> 0 | G649: =IF(J649=1,VLOOKUP(K649,RPM!$E$2:$H$62,3,FALSE)-F649-E649-D649,IF(J649=2,VLOOKUP(K649,RPM!$H$2:$K$62,3,FALSE)-F649-E649-D649,IF(J649=3,VLOOKUP(K649,RPM!$K$2:$N$62,3,FALSE)-F649-E649-D649))) -> 529.75118 | H649: =IF(J649=1,Specification!$I$14,IF(J649=2,Specification!$I$15,IF(J649=3,Specification!$I$16))) -> 578.83679 | I649: 0 | J649: 3 | K649: =IF(J649=1,VLOOKUP(B649,RPM!$F$2:$H$62,3,TRUE),IF(J649=2,VLOOKUP(B649,RPM!$I$2:$K$62,3,TRUE),IF(J649=3,VLOOKUP(B649,RPM!$L$2:$N$62,3,TRUE)))) -> 4200 | L649: =IF(I649=0,ABS(1/B649)+L648,ABS((B650-B649)/I649)+L648) -> 61.998146 | M649: =TAN(E649*PI()/180)+M648 -> 0 | N649: =VLOOKUP(K649,RPM!$A$2:$D$62,4,FALSE) -> 18.835643 | O649: =VLOOKUP(K649,RPM!$A$2:$D$62,3,FALSE) -> 11.1 | P649: =N649*0.7457 -> 14.045739 | Q649: {=_xlfn.XLOOKUP(O649,BSFC!$A$2:$A$24,_xlfn.XLOOKUP(K649,BSFC!$B$2:$O$2,BSFC!$B$2:$O$24,,-1),,-1)} -> 340 | R649: =Q649*P649/3600 -> 1.326542 | S649: =(L649-L648)/3600*P649 -> 0.00029092058 | T649: =S649*Q649 -> 0.098912998 | U649: =U648+T649 -> 87.732577
A650: =A649+1 -> 649 | B650: =IF(SQRT(B649^2+2*I649)>13.4112,13.4112,SQRT(B649^2+2*I649)) -> 13.4112 | C650: =Specification!$G$29 -> 164.94338 | D650: =0.5*Specification!$K$4*Track!B650^2*Specification!$K$3*Specification!$K$2 -> 93.159843 | E650: 0 | F650: =Specification!$C$23*9.81*SIN((E650*PI()/180)) -> 0 | G650: =IF(J650=1,VLOOKUP(K650,RPM!$E$2:$H$62,3,FALSE)-F650-E650-D650,IF(J650=2,VLOOKUP(K650,RPM!$H$2:$K$62,3,FALSE)-F650-E650-D650,IF(J650=3,VLOOKUP(K650,RPM!$K$2:$N$62,3,FALSE)-F650-E650-D650))) -> 529.75118 | H650: =IF(J650=1,Specification!$I$14,IF(J650=2,Specification!$I$15,IF(J650=3,Specification!$I$16))) -> 578.83679 | I650: 0 | J650: 3 | K650: =IF(J650=1,VLOOKUP(B650,RPM!$F$2:$H$62,3,TRUE),IF(J650=2,VLOOKUP(B650,RPM!$I$2:$K$62,3,TRUE),IF(J650=3,VLOOKUP(B650,RPM!$L$2:$N$62,3,TRUE)))) -> 4200 | L650: =IF(I650=0,ABS(1/B650)+L649,ABS((B651-B650)/I650)+L649) -> 62.072711 | M650: =TAN(E650*PI()/180)+M649 -> 0 | N650: =VLOOKUP(K650,RPM!$A$2:$D$62,4,FALSE) -> 18.835643 | O650: =VLOOKUP(K650,RPM!$A$2:$D$62,3,FALSE) -> 11.1 | P650: =N650*0.7457 -> 14.045739 | Q650: {=_xlfn.XLOOKUP(O650,BSFC!$A$2:$A$24,_xlfn.XLOOKUP(K650,BSFC!$B$2:$O$2,BSFC!$B$2:$O$24,,-1),,-1)} -> 340 | R650: =Q650*P650/3600 -> 1.326542 | S650: =(L650-L649)/3600*P650 -> 0.00029092058 | T650: =S650*Q650 -> 0.098912998 | U650: =U649+T650 -> 87.83149
A651: =A650+1 -> 650 | B651: =IF(SQRT(B650^2+2*I650)>13.4112,13.4112,SQRT(B650^2+2*I650)) -> 13.4112 | C651: =Specification!$G$29 -> 164.94338 | D651: =0.5*Specification!$K$4*Track!B651^2*Specification!$K$3*Specification!$K$2 -> 93.159843 | E651: 0 | F651: =Specification!$C$23*9.81*SIN((E651*PI()/180)) -> 0 | G651: =IF(J651=1,VLOOKUP(K651,RPM!$E$2:$H$62,3,FALSE)-F651-E651-D651,IF(J651=2,VLOOKUP(K651,RPM!$H$2:$K$62,3,FALSE)-F651-E651-D651,IF(J651=3,VLOOKUP(K651,RPM!$K$2:$N$62,3,FALSE)-F651-E651-D651))) -> 529.75118 | H651: =IF(J651=1,Specification!$I$14,IF(J651=2,Specification!$I$15,IF(J651=3,Specification!$I$16))) -> 578.83679 | I651: 0 | J651: 3 | K651: =IF(J651=1,VLOOKUP(B651,RPM!$F$2:$H$62,3,TRUE),IF(J651=2,VLOOKUP(B651,RPM!$I$2:$K$62,3,TRUE),IF(J651=3,VLOOKUP(B651,RPM!$L$2:$N$62,3,TRUE)))) -> 4200 | L651: =IF(I651=0,ABS(1/B651)+L650,ABS((B652-B651)/I651)+L650) -> 62.147275 | M651: =TAN(E651*PI()/180)+M650 -> 0 | N651: =VLOOKUP(K651,RPM!$A$2:$D$62,4,FALSE) -> 18.835643 | O651: =VLOOKUP(K651,RPM!$A$2:$D$62,3,FALSE) -> 11.1 | P651: =N651*0.7457 -> 14.045739 | Q651: {=_xlfn.XLOOKUP(O651,BSFC!$A$2:$A$24,_xlfn.XLOOKUP(K651,BSFC!$B$2:$O$2,BSFC!$B$2:$O$24,,-1),,-1)} -> 340 | R651: =Q651*P651/3600 -> 1.326542 | S651: =(L651-L650)/3600*P651 -> 0.00029092058 | T651: =S651*Q651 -> 0.098912998 | U651: =U650+T651 -> 87.930403
A652: =A651+1 -> 651 | B652: =IF(SQRT(B651^2+2*I651)>13.4112,13.4112,SQRT(B651^2+2*I651)) -> 13.4112 | C652: =Specification!$G$29 -> 164.94338 | D652: =0.5*Specification!$K$4*Track!B652^2*Specification!$K$3*Specification!$K$2 -> 93.159843 | E652: 0 | F652: =Specification!$C$23*9.81*SIN((E652*PI()/180)) -> 0 | G652: =IF(J652=1,VLOOKUP(K652,RPM!$E$2:$H$62,3,FALSE)-F652-E652-D652,IF(J652=2,VLOOKUP(K652,RPM!$H$2:$K$62,3,FALSE)-F652-E652-D652,IF(J652=3,VLOOKUP(K652,RPM!$K$2:$N$62,3,FALSE)-F652-E652-D652))) -> 529.75118 | H652: =IF(J652=1,Specification!$I$14,IF(J652=2,Specification!$I$15,IF(J652=3,Specification!$I$16))) -> 578.83679 | I652: 0 | J652: 3 | K652: =IF(J652=1,VLOOKUP(B652,RPM!$F$2:$H$62,3,TRUE),IF(J652=2,VLOOKUP(B652,RPM!$I$2:$K$62,3,TRUE),IF(J652=3,VLOOKUP(B652,RPM!$L$2:$N$62,3,TRUE)))) -> 4200 | L652: =IF(I652=0,ABS(1/B652)+L651,ABS((B653-B652)/I652)+L651) -> 62.22184 | M652: =TAN(E652*PI()/180)+M651 -> 0 | N652: =VLOOKUP(K652,RPM!$A$2:$D$62,4,FALSE) -> 18.835643 | O652: =VLOOKUP(K652,RPM!$A$2:$D$62,3,FALSE) -> 11.1 | P652: =N652*0.7457 -> 14.045739 | Q652: {=_xlfn.XLOOKUP(O652,BSFC!$A$2:$A$24,_xlfn.XLOOKUP(K652,BSFC!$B$2:$O$2,BSFC!$B$2:$O$24,,-1),,-1)} -> 340 | R652: =Q652*P652/3600 -> 1.326542 | S652: =(L652-L651)/3600*P652 -> 0.00029092058 | T652: =S652*Q652 -> 0.098912998 | U652: =U651+T652 -> 88.029316
A653: =A652+1 -> 652 | B653: =IF(SQRT(B652^2+2*I652)>13.4112,13.4112,SQRT(B652^2+2*I652)) -> 13.4112 | C653: =Specification!$G$29 -> 164.94338 | D653: =0.5*Specification!$K$4*Track!B653^2*Specification!$K$3*Specification!$K$2 -> 93.159843 | E653: 0 | F653: =Specification!$C$23*9.81*SIN((E653*PI()/180)) -> 0 | G653: =IF(J653=1,VLOOKUP(K653,RPM!$E$2:$H$62,3,FALSE)-F653-E653-D653,IF(J653=2,VLOOKUP(K653,RPM!$H$2:$K$62,3,FALSE)-F653-E653-D653,IF(J653=3,VLOOKUP(K653,RPM!$K$2:$N$62,3,FALSE)-F653-E653-D653))) -> 529.75118 | H653: =IF(J653=1,Specification!$I$14,IF(J653=2,Specification!$I$15,IF(J653=3,Specification!$I$16))) -> 578.83679 | I653: 0 | J653: 3 | K653: =IF(J653=1,VLOOKUP(B653,RPM!$F$2:$H$62,3,TRUE),IF(J653=2,VLOOKUP(B653,RPM!$I$2:$K$62,3,TRUE),IF(J653=3,VLOOKUP(B653,RPM!$L$2:$N$62,3,TRUE)))) -> 4200 | L653: =IF(I653=0,ABS(1/B653)+L652,ABS((B654-B653)/I653)+L652) -> 62.296404 | M653: =TAN(E653*PI()/180)+M652 -> 0 | N653: =VLOOKUP(K653,RPM!$A$2:$D$62,4,FALSE) -> 18.835643 | O653: =VLOOKUP(K653,RPM!$A$2:$D$62,3,FALSE) -> 11.1 | P653: =N653*0.7457 -> 14.045739 | Q653: {=_xlfn.XLOOKUP(O653,BSFC!$A$2:$A$24,_xlfn.XLOOKUP(K653,BSFC!$B$2:$O$2,BSFC!$B$2:$O$24,,-1),,-1)} -> 340 | R653: =Q653*P653/3600 -> 1.326542 | S653: =(L653-L652)/3600*P653 -> 0.00029092058 | T653: =S653*Q653 -> 0.098912998 | U653: =U652+T653 -> 88.128229
...

Sheet BSFC
A1: BSFC | B1: 500 | C1: 1000 | D1: 1500 | E1: 2000 | F1: 2500 | G1: 3000 | H1: 3500 | I1: 4000 | J1: 4500 | K1: 5000 | L1: 5500 | M1: 6000 | N1: 6500 | O1: 7000
A2: 22 | B2: 0 | C2: 0 | D2: 0 | E2: 0 | F2: 0 | G2: 0 | H2: 0 | I2: 0 | J2: 0 | K2: 0 | L2: 450 | M2: 0 | N2: 0 | O2: 0
A3: 21 | B3: 0 | C3: 0 | D3: 0 | E3: 0 | F3: 0 | G3: 0 | H3: 0 | I3: 0 | J3: 0 | K3: 470 | L3: 435 | M3: 0 | N3: 0 | O3: 0
A4: 20 | B4: 0 | C4: 0 | D4: 0 | E4: 0 | F4: 0 | G4: 0 | H4: 0 | I4: 0 | J4: 480 | K4: 460 | L4: 410 | M4: 470 | N4: 0 | O4: 0
A5: 19 | B5: 0 | C5: 0 | D5: 0 | E5: 0 | F5: 0 | G5: 0 | H5: 0 | I5: 0 | J5: 475 | K5: 440 | L5: 390 | M5: 455 | N5: 505 | O5: 0
A6: 18 | B6: 0 | C6: 0 | D6: 0 | E6: 0 | F6: 0 | G6: 0 | H6: 490 | I6: 480 | J6: 465 | K6: 430 | L6: 370 | M6: 440 | N6: 490 | O6: 555
A7: 17 | B7: 0 | C7: 0 | D7: 0 | E7: 0 | F7: 0 | G7: 0 | H7: 495 | I7: 485 | J7: 450 | K7: 395 | L7: 360 | M7: 405 | N7: 485 | O7: 540
A8: 16 | B8: 0 | C8: 0 | D8: 0 | E8: 0 | F8: 510 | G8: 500 | H8: 500 | I8: 490 | J8: 445 | K8: 370 | L8: 350 | M8: 365 | N8: 480 | O8: 530
A9: 15 | B9: 0 | C9: 0 | D9: 0 | E9: 0 | F9: 515 | G9: 505 | H9: 490 | I9: 490 | J9: 440 | K9: 350 | L9: 325 | M9: 335 | N9: 440 | O9: 480
A10: 14 | B10: 0 | C10: 0 | D10: 0 | E10: 562.08052 | F10: 520 | G10: 510 | H10: 480 | I10: 475 | J10: 405 | K10: 330 | L10: 305 | M10: 330 | N10: 425 | O10: 475
A11: 13 | B11: 0 | C11: 0 | D11: 0 | E11: 575.53874 | F11: 540 | G11: 515 | H11: 470 | I11: 455 | J11: 380 | K11: 310 | L11: 280 | M11: 320 | N11: 450 | O11: 520
A12: 12 | B12: 0 | C12: 0 | D12: 0 | E12: 590.99204 | F12: 555 | G12: 520 | H12: 490 | I12: 460 | J12: 430 | K12: 290 | L12: 305 | M12: 320 | N12: 475 | O12: 535
A13: 11 | B13: 0 | C13: 0 | D13: 0 | E13: 601.42151 | F13: 575 | G13: 550 | H13: 510 | I13: 470 | J13: 435 | K13: 350 | L13: 340 | M13: 315 | N13: 500 | O13: 540
... A24: 0 | B24: 1490 | C24: 1400 | D24: 1320 | E24: 1240 | F24: 1160 | G24: 1110 | H24: 1070 | I24: 1025 | J24: 990 | K24: 950 | L24: 910 | M24: 905 | N24: 880 | O24: 870
