Workbook
Name Quality_Control: 'DragonOffice Supplies'!$P$3569:$Q$3573

Sheet Pivot breakdown
A3: Row Labels | B3: Sum of Profit
A4: Dyfed | B4: 150673.14
A5: Furniture | B5: 10659.83
A6: Bookcases | B6: 10088.84
A7: Chairs & Chairmats | B7: 2359.14
A8: Office Furnishings | B8: 5794.72 | F8: Row Labels | G8: Sum of Sum of Profit
A9: Tables | B9: -7582.87 | F9: Appliances | G9: 56552.65
A10: Office Supplies | B10: 46976.88 | F10: Binders and Binder Accessories | G10: 113454.36
A11: Appliances | B11: 16868.41 | F11: Bookcases | G11: -14774.29
A12: Binders and Binder Accessories | B12: 26816.47 | F12: Chairs & Chairmats | G12: 57658.06
A13: Envelopes | B13: 3074.2 | F13: Computer Peripherals | G13: 37174.92
A14: Labels | B14: 426.57 | F14: Copiers and Fax | G14: 30161.89
A15: Paper | B15: 6534.13 | F15: Dyfed | G15: 150673.14
A16: Pens & Art Supplies | B16: 560.31 | F16: Envelopes | G16: 25312.4
A17: Rubber Bands | B17: 72.55 | F17: Furniture | G17: 81892.2
A18: Scissors, Rulers and Trimmers | B18: -487.55 | F18: Gwent | G18: 295998.13
A19: Storage & Organization | B19: -6888.21 | F19: Labels | G19: 6212.31
A20: Technology | B20: 93036.43 | F20: Office Furnishings | G20: 53934.62
... A34: Envelopes | B34: 15246 | F34: Grand Total | G34: 2168040.6
A35: Labels | B35: 3034.27
A36: Paper | B36: 5406.64
A37: Pens & Art Supplies | B37: 2455.18
A38: Rubber Bands | B38: -71.97
A39: Scissors Rulers and Trimmers | B39: -97.32
A40: Scissors, Rulers and Trimmers | B40: -1034.47
A41: Storage & Organization | B41: 17689.81
A42: Technology | B42: 164234.92
A43: Computer Peripherals | B43: 21479.26
A44: Copiers and Fax | B44: -6587.21
A45: Office Machines | B45: 81229.62
A46: Telephones and Communication | B46: 68113.25
... A89: Grand Total | B89: 722680.2

Sheet Prediction using line equation
A3: Row Labels | B3: Sum of Sales | C3: Sum of Profit
A4: Corporate | B4: 2553143 | C4: 284169.77 | D4: =GETPIVOTDATA("Sum of Profit",$A$3,"Customer Segment","Corporate")/GETPIVOTDATA("Sum of Profit",$A$3) -> 0.71785478
A5: Small Business | B5: 1011036.2 | C5: 111689.92 | D5: =GETPIVOTDATA("Sum of Profit",$A$3,"Customer Segment","Small Business")/GETPIVOTDATA("Sum of Profit",$A$3) -> 0.28214522
A6: Grand Total | B6: 3564179.1 | C6: 395859.69

Sheet DragonOffice Supplies
A1: Order ID | B1: Returns | C1: Order Date | D1: Order Priority | E1: Order Quantity | F1: Sales | G1: Discount | H1: Ship Mode | I1: Profit | J1: Unit Price | K1: Shipping Cost | L1: Customer Name | M1: Region | N1: Customer Segment | O1: Product Category | P1: Product Sub-Category | Q1: Product Container | R1: Ship Date | S1: % Sales | T1: Return status | U1: Quality Impact | V1: Q18 | W1: Dayspast | X1: Number Checked
A2: 32 | B2: N | C2: 41835 | D2: High | E2: 15 | F2: 140.56 | G2: 0.04 | H2: Regular | I2: -128.38 | J2: 8.46 | K2: 8.99 | L2: Liz Pelletier | M2: Gwent | N2: Corporate | O2: Technology | P2: Computer Peripherals | Q2: Small Pack | R2: 41836 | S2: =F2/$F$3563 -> 2.2336131e-05 | T2: =IF(B2="Y", "Quality Check","") | U2: =IF(T2="Quality Check",VLOOKUP(S2,Quality_Control,2),"") | V2: {=SUM(IF(B2="Y",IF(D2="Critical",(F2:F3561),0)))} -> 0 | W2: =R2-C2 -> 1 | X2: =IF(T2="",0,1) -> 0
A3: 65 | B3: Y | C3: 41715 | D3: Critical | E3: 32 | F3: 3812.73 | G3: 0.02 | H3: Regular | I3: 1470.3 | J3: 115.79 | K3: 1.99 | L3: Tamara Dahlen | M3: Powys | N3: Corporate | O3: Technology | P3: Computer Peripherals | Q3: Small Pack | R3: 41716 | S3: =F3/$F$3563 -> 0.00060587391 | T3: =IF(B3="Y", "Quality Check","") -> Quality Check | U3: =IF(T3="Quality Check",VLOOKUP(S3,Quality_Control,2),"") -> Medium Impact | V3: {=SUM(IF(B3="Y",IF(D3="Critical",(F3:F3562),0)))} -> 6292802.5 | W3: =R3-C3 -> 1 | X3: =IF(T3="",0,1) -> 1
A4: 69 | B4: N | C4: 42524 | D4: Not Specified | E4: 28 | F4: 51.53 | G4: 0.03 | H4: Express | I4: 0.35 | J4: 1.68 | K4: 0.7 | L4: Jonathan Doherty | M4: Gwent | N4: Corporate | O4: Office Supplies | P4: Pens & Art Supplies | Q4: Wrap Bag | R4: 42526 | S4: =F4/$F$3563 -> 8.1885375e-06 | U4: =IF(T4="Quality Check",VLOOKUP(S4,Quality_Control,2),"") | V4: {=SUM(IF(B4="Y",IF(D4="Critical",(F4:F3563),0)))} -> 0 | W4: =R4-C4 -> 2 | X4: =IF(T4="",0,1) -> 0
A5: 69 | B5: Y | C5: 42524 | D5: Not Specified | E5: 42 | F5: 1186.06 | G5: 0.09 | H5: Regular | I5: 511.69 | J5: 30.93 | K5: 3.92 | L5: Jonathan Doherty | M5: Gwent | N5: Corporate | O5: Furniture | P5: Office Furnishings | Q5: Small Pack | R5: 42526 | S5: =F5/$F$3563 -> 0.00018847461 | U5: =IF(T5="Quality Check",VLOOKUP(S5,Quality_Control,2),"") | V5: {=SUM(IF(B5="Y",IF(D5="Critical",(F5:F3564),0)))} -> 0 | W5: =R5-C5 -> 2 | X5: =IF(T5="",0,1) -> 0
A6: 96 | B6: N | C6: 42476 | D6: High | E6: 37 | F6: 4158.1235 | G6: 0.01 | H6: Regular | I6: 1228.89 | J6: 125.99 | K6: 8.99 | L6: Keith Dawkins | M6: Gwent | N6: Home Office | O6: Technology | P6: Telephones and Communication | Q6: Small Box | R6: 42478 | S6: =F6/$F$3563 -> 0.00066075975 | U6: =IF(T6="Quality Check",VLOOKUP(S6,Quality_Control,2),"") | V6: {=SUM(IF(B6="Y",IF(D6="Critical",(F6:F3565),0)))} -> 0 | W6: =R6-C6 -> 2 | X6: =IF(T6="",0,1) -> 0
A7: 23361 | B7: N | C7: 41458 | D7: Critical | E7: 2 | F7: 3.23 | G7: 0.06 | H7: Regular | I7: -2.73 | J7: 1.26 | K7: 0.7 | L7: Benjamin Patterson | M7: Gwent | N7: Corporate | O7: Office Supplies | P7: Rubber Bands | Q7: Wrap Bag | R7: 41459 | S7: =F7/$F$3563 -> 5.1327336e-07 | U7: =IF(T7="Quality Check",VLOOKUP(S7,Quality_Control,2),"") | V7: {=SUM(IF(B7="Y",IF(D7="Critical",(F7:F3566),0)))} -> 0 | W7: =R7-C7 -> 1 | X7: =IF(T7="",0,1) -> 0
A8: 129 | B8: N | C8: 42326 | D8: Low | E8: 4 | F8: 32.72 | G8: 0.09 | H8: Regular | I8: -22.59 | J8: 6.48 | K8: 8.19 | L8: Pauline Chand | M8: Powys | N8: Corporate | O8: Office Supplies | P8: Paper | Q8: Small Box | R8: 42335 | S8: =F8/$F$3563 -> 5.199475e-06 | U8: =IF(T8="Quality Check",VLOOKUP(S8,Quality_Control,2),"") | V8: {=SUM(IF(B8="Y",IF(D8="Critical",(F8:F3567),0)))} -> 0 | W8: =R8-C8 -> 9 | X8: =IF(T8="",0,1) -> 0
A9: 130 | B9: N | C9: 42131 | D9: High | E9: 3 | F9: 461.89 | G9: 0.05 | H9: Express | I9: -309.82 | J9: 150.98 | K9: 13.99 | L9: Roy Collins | M9: Gwent | N9: Corporate | O9: Technology | P9: Office Machines | Q9: Medium Box | R9: 42133 | S9: =F9/$F$3563 -> 7.339809e-05 | U9: =IF(T9="Quality Check",VLOOKUP(S9,Quality_Control,2),"") | V9: {=SUM(IF(B9="Y",IF(D9="Critical",(F9:F3568),0)))} -> 0 | W9: =R9-C9 -> 2 | X9: =IF(T9="",0,1) -> 0
A10: 130 | B10: N | C10: 42131 | D10: High | E10: 29 | F10: 575.11 | G10: 0.02 | H10: Regular | I10: 71.75 | J10: 18.97 | K10: 9.03 | L10: Roy Collins | M10: Gwent | N10: Corporate | O10: Office Supplies | P10: Paper | Q10: Small Box | R10: 42132 | S10: =F10/$F$3563 -> 9.1389672e-05 | U10: =IF(T10="Quality Check",VLOOKUP(S10,Quality_Control,2),"") | V10: {=SUM(IF(B10="Y",IF(D10="Critical",(F10:F3569),0)))} -> 0 | W10: =R10-C10 -> 1 | X10: =IF(T10="",0,1) -> 0
A11: 130 | B11: N | C11: 42131 | D11: High | E11: 23 | F11: 236.46 | G11: 0.05 | H11: Regular | I11: -134.31 | J11: 9.71 | K11: 9.45 | L11: Roy Collins | M11: Gwent | N11: Corporate | O11: Office Supplies | P11: Storage & Organization | Q11: Small Box | R11: 42134 | S11: =F11/$F$3563 -> 3.7575423e-05 | U11: =IF(T11="Quality Check",VLOOKUP(S11,Quality_Control,2),"") | V11: {=SUM(IF(B11="Y",IF(D11="Critical",(F11:F3570),0)))} -> 0 | W11: =R11-C11 -> 3 | X11: =IF(T11="",0,1) -> 0
A12: 16545 | B12: N | C12: 41403 | D12: Not Specified | E12: 1 | F12: 4.99 | G12: 0.04 | H12: Regular | I12: -3.06 | J12: 3.68 | K12: 1.32 | L12: Carlos Soltero | M12: South Glamorgan | N12: Small Business | O12: Office Supplies | P12: Scissors, Rulers and Trimmers | Q12: Wrap Bag | R12: 41405 | S12: =F12/$F$3563 -> 7.9295172e-07 | U12: =IF(T12="Quality Check",VLOOKUP(S12,Quality_Control,2),"") | V12: {=SUM(IF(B12="Y",IF(D12="Critical",(F12:F3571),0)))} -> 0 | W12: =R12-C12 -> 2 | X12: =IF(T12="",0,1) -> 0
A13: 134 | B13: Y | C13: 42124 | D13: Not Specified | E13: 11 | F13: 1132.6 | G13: 0.01 | H13: Regular | I13: -310.21 | J13: 95.99 | K13: 35 | L13: Michael Dominguez | M13: Powys | N13: Home Office | O13: Office Supplies | P13: Storage & Organization | Q13: Large Box | R13: 42126 | S13: =F13/$F$3563 -> 0.00017997938 | U13: =IF(T13="Quality Check",VLOOKUP(S13,Quality_Control,2),"") | V13: {=SUM(IF(B13="Y",IF(D13="Critical",(F13:F3572),0)))} -> 0 | W13: =R13-C13 -> 2 | X13: =IF(T13="",0,1) -> 0
A14: 166 | B14: N | C14: 41893 | D14: High | E14: 10 | F14: 567.936 | G14: 0.02 | H14: Express | I14: -126.09 | J14: 65.99 | K14: 8.99 | L14: Valerie Jones | M14: Gwent | N14: Consumer | O14: Technology | P14: Telephones and Communication | Q14: Small Box | R14: 41895 | S14: =F14/$F$3563 -> 9.0249665e-05 | U14: =IF(T14="Quality Check",VLOOKUP(S14,Quality_Control,2),"") | V14: {=SUM(IF(B14="Y",IF(D14="Critical",(F14:F3573),0)))} -> 0 | W14: =R14-C14 -> 2 | X14: =IF(T14="",0,1) -> 0
A15: 14117 | B15: N | C15: 41511 | D15: Not Specified | E15: 4 | F15: 5.31 | G15: 0 | H15: Regular | I15: -1.5 | J15: 1.14 | K15: 0.7 | L15: Nathan Mautz | M15: Dyfed | N15: Corporate | O15: Office Supplies | P15: Rubber Bands | Q15: Wrap Bag | R15: 41513 | S15: =F15/$F$3563 -> 8.4380233e-07 | U15: =IF(T15="Quality Check",VLOOKUP(S15,Quality_Control,2),"") | V15: {=SUM(IF(B15="Y",IF(D15="Critical",(F15:F3574),0)))} -> 0 | W15: =R15-C15 -> 2 | X15: =IF(T15="",0,1) -> 0
... A22: 34849 | B22: N | C22: 41559 | D22: Critical | E22: 3 | F22: 11.76 | G22: 0.1 | H22: Regular | I22: -2.83 | J22: 4.13 | K22: 0.5 | L22: Lycoris Saunders | M22: Gwent | N22: Home Office | O22: Office Supplies | P22: Labels | Q22: Small Box | R22: 41561 | S22: =F22/$F$3563 -> 1.86876e-06 | U22: =IF(T22="Quality Check",VLOOKUP(S22,Quality_Control,2),"") | V22: {=SUM(IF(B22="Y",IF(D22="Critical",(F22:F3581),0)))} -> 0 | W22: =R22-C22 -> 2 | X22: =IF(T22="",0,1) -> 0
A23: 5061 | B23: Y | C23: 41499 | D23: Critical | E23: 4 | F23: 12.8 | G23: 0 | H23: Regular | I23: -2.21 | J23: 2.88 | K23: 0.7 | L23: Sean Wendt | M23: Dyfed | N23: Corporate | O23: Office Supplies | P23: Pens & Art Supplies | Q23: Wrap Bag | R23: 41501 | S23: =F23/$F$3563 -> 2.0340244e-06 | T23: =IF(B23="Y", "Quality Check","") -> Quality Check | U23: =IF(T23="Quality Check",VLOOKUP(S23,Quality_Control,2),"") -> Low Impact | V23: {=SUM(IF(B23="Y",IF(D23="Critical",(F23:F3582),0)))} -> 12572202 | W23: =R23-C23 -> 2 | X23: =IF(T23="",0,1) -> 1
A24: 231 | B24: N | C24: 42641 | D24: High | E24: 2 | F24: 689.74 | G24: 0.06 | H24: Regular | I24: -490.84 | J24: 363.25 | K24: 19.99 | L24: Sean Braxton | M24: Gwent | N24: Small Business | O24: Office Supplies | P24: Appliances | Q24: Small Box | R24: 42643 | S24: =F24/$F$3563 -> 0.00010960531 | U24: =IF(T24="Quality Check",VLOOKUP(S24,Quality_Control,2),"") | V24: {=SUM(IF(B24="Y",IF(D24="Critical",(F24:F3583),0)))} -> 0 | W24: =R24-C24 -> 2 | X24: =IF(T24="",0,1) -> 0
A25: 24196 | B25: N | C25: 41485 | D25: High | E25: 2 | F25: 13.44 | G25: 0.08 | H25: Regular | I25: -8.88 | J25: 4.28 | K25: 5.17 | L25: Nat Carroll | M25: Powys | N25: Home Office | O25: Office Supplies | P25: Paper | Q25: Small Box | R25: 41486 | S25: =F25/$F$3563 -> 2.1357257e-06 | U25: =IF(T25="Quality Check",VLOOKUP(S25,Quality_Control,2),"") | V25: {=SUM(IF(B25="Y",IF(D25="Critical",(F25:F3584),0)))} -> 0 | W25: =R25-C25 -> 1 | X25: =IF(T25="",0,1) -> 0
A26: 31330 | B26: N | C26: 41426 | D26: High | E26: 2 | F26: 13.5 | G26: 0.04 | H26: Regular | I26: -7.9 | J26: 5.98 | K26: 1.67 | L26: Paul Stevenson | M26: Gwent | N26: Corporate | O26: Office Supplies | P26: Pens & Art Supplies | Q26: Wrap Bag | R26: 41427 | S26: =F26/$F$3563 -> 2.1452602e-06 | U26: =IF(T26="Quality Check",VLOOKUP(S26,Quality_Control,2),"") | V26: {=SUM(IF(B26="Y",IF(D26="Critical",(F26:F3585),0)))} -> 0 | W26: =R26-C26 -> 1 | X26: =IF(T26="",0,1) -> 0
A27: 263 | B27: N | C27: 42506 | D27: High | E27: 25 | F27: 136.77 | G27: 0.09 | H27: Regular | I27: -136.25 | J27: 5.4 | K27: 7.78 | L27: Paul Lucas | M27: Gwent | N27: Corporate | O27: Office Supplies | P27: Binders and Binder Accessories | Q27: Small Box | R27: 42507 | S27: =F27/$F$3563 -> 2.1733869e-05 | U27: =IF(T27="Quality Check",VLOOKUP(S27,Quality_Control,2),"") | V27: {=SUM(IF(B27="Y",IF(D27="Critical",(F27:F3586),0)))} -> 0 | W27: =R27-C27 -> 1 | X27: =IF(T27="",0,1) -> 0
A28: 292 | B28: N | C28: 42015 | D28: High | E28: 43 | F28: 412.62 | G28: 0.08 | H28: Regular | I28: 175.54 | J28: 9.9 | K28: 1.39 | L28: Valerie Jones | M28: Gwent | N28: Consumer | O28: Office Supplies | P28: Envelopes | Q28: Small Box | R28: 42016 | S28: =F28/$F$3563 -> 6.5568685e-05 | U28: =IF(T28="Quality Check",VLOOKUP(S28,Quality_Control,2),"") | V28: {=SUM(IF(B28="Y",IF(D28="Critical",(F28:F3587),0)))} -> 0 | W28: =R28-C28 -> 1 | X28: =IF(T28="",0,1) -> 0
A29: 323 | B29: N | C29: 42454 | D29: Critical | E29: 20 | F29: 108.09 | G29: 0.07 | H29: Regular | I29: 25.76 | J29: 5.68 | K29: 1.39 | L29: Dario Medina | M29: Gwent | N29: Small Business | O29: Office Supplies | P29: Envelopes | Q29: Small Box | R29: 42456 | S29: =F29/$F$3563 -> 1.7176383e-05 | U29: =IF(T29="Quality Check",VLOOKUP(S29,Quality_Control,2),"") | V29: {=SUM(IF(B29="Y",IF(D29="Critical",(F29:F3588),0)))} -> 0 | W29: =R29-C29 -> 2 | X29: =IF(T29="",0,1) -> 0
A30: 323 | B30: N | C30: 42454 | D30: Critical | E30: 2 | F30: 55.34 | G30: 0.06 | H30: Regular | I30: -31.24 | J30: 22.84 | K30: 11.54 | L30: Dario Medina | M30: Gwent | N30: Small Business | O30: Office Supplies | P30: Paper | Q30: Small Box | R30: 42456 | S30: =F30/$F$3563 -> 8.7939776e-06 | U30: =IF(T30="Quality Check",VLOOKUP(S30,Quality_Control,2),"") | V30: {=SUM(IF(B30="Y",IF(D30="Critical",(F30:F3589),0)))} -> 0 | W30: =R30-C30 -> 2 | X30: =IF(T30="",0,1) -> 0
A31: 324 | B31: Y | C31: 42082 | D31: Critical | E31: 25 | F31: 3872.634 | G31: 0.02 | H31: Regular | I31: 667.33 | J31: 179.99 | K31: 13.99 | L31: Frank Gastineau | M31: Gwent | N31: Small Business | O31: Technology | P31: Telephones and Communication | Q31: Medium Box | R31: 42084 | S31: =F31/$F$3563 -> 0.00061539314 | T31: =IF(B31="Y", "Quality Check","") -> Quality Check | U31: =IF(T31="Quality Check",VLOOKUP(S31,Quality_Control,2),"") -> Medium Impact | V31: {=SUM(IF(B31="Y",IF(D31="Critical",(F31:F3590),0)))} -> 12570760 | W31: =R31-C31 -> 2 | X31: =IF(T31="",0,1) -> 1
A32: 30372 | B32: N | C32: 41516 | D32: High | E32: 1 | F32: 14.4 | G32: 0.1 | H32: Regular | I32: -7.39 | J32: 12.22 | K32: 2.85 | L32: Christopher Schild | M32: Dyfed | N32: Corporate | O32: Furniture | P32: Office Furnishings | Q32: Small Pack | R32: 41518 | S32: =F32/$F$3563 -> 2.2882775e-06 | U32: =IF(T32="Quality Check",VLOOKUP(S32,Quality_Control,2),"") | V32: {=SUM(IF(B32="Y",IF(D32="Critical",(F32:F3591),0)))} -> 0 | W32: =R32-C32 -> 2 | X32: =IF(T32="",0,1) -> 0
A33: 24097 | B33: N | C33: 41490 | D33: High | E33: 2 | F33: 15.31 | G33: 0.01 | H33: Regular | I33: -8.15 | J33: 4.98 | K33: 4.86 | L33: Anthony Johnson | M33: South Glamorgan | N33: Small Business | O33: Office Supplies | P33: Paper | Q33: Small Box | R33: 41492 | S33: =F33/$F$3563 -> 2.4328839e-06 | U33: =IF(T33="Quality Check",VLOOKUP(S33,Quality_Control,2),"") | V33: {=SUM(IF(B33="Y",IF(D33="Critical",(F33:F3592),0)))} -> 0 | W33: =R33-C33 -> 2 | X33: =IF(T33="",0,1) -> 0
A34: 355 | B34: N | C34: 42534 | D34: Low | E34: 16 | F34: 1239.6315 | G34: 0 | H34: Regular | I34: -172.55 | J34: 85.99 | K34: 0.99 | L34: Henry MacAllister | M34: Powys | N34: Small Business | O34: Technology | P34: Telephones and Communication | Q34: Wrap Bag | R34: 42539 | S34: =F34/$F$3563 -> 0.00019698756 | U34: =IF(T34="Quality Check",VLOOKUP(S34,Quality_Control,2),"") | V34: {=SUM(IF(B34="Y",IF(D34="Critical",(F34:F3593),0)))} -> 0 | W34: =R34-C34 -> 5 | X34: =IF(T34="",0,1) -> 0
A35: 388 | B35: N | C35: 42353 | D35: Not Specified | E35: 46 | F35: 517.93 | G35: 0.06 | H35: Regular | I35: -94.73 | J35: 11.7 | K35: 6.96 | L35: Jennifer Halladay | M35: Powys | N35: Home Office | O35: Office Supplies | P35: Appliances | Q35: Medium Box | R35: 42356 | S35: =F35/$F$3563 -> 8.2303303e-05 | U35: =IF(T35="Quality Check",VLOOKUP(S35,Quality_Control,2),"") | V35: {=SUM(IF(B35="Y",IF(D35="Critical",(F35:F3594),0)))} -> 0 | W35: =R35-C35 -> 3 | X35: =IF(T35="",0,1) -> 0
A36: 417 | B36: N | C36: 42406 | D36: Medium | E36: 39 | F36: 15260.78 | G36: 0.07 | H36: Delivery Van | I36: 8734.88 | J36: 500.98 | K36: 28.14 | L36: Robert Barroso | M36: Gwent | N36: Small Business | O36: Technology | P36: Office Machines | Q36: Jumbo Drum | R36: 42407 | S36: =F36/$F$3563 -> 0.0024250625 | U36: =IF(T36="Quality Check",VLOOKUP(S36,Quality_Control,2),"") | V36: {=SUM(IF(B36="Y",IF(D36="Critical",(F36:F3595),0)))} -> 0 | W36: =R36-C36 -> 1 | X36: =IF(T36="",0,1) -> 0
A37: 417 | B37: N | C37: 42406 | D37: Medium | E37: 3 | F37: 540.41 | G37: 0.1 | H37: Regular | I37: -170.98 | J37: 178.47 | K37: 19.99 | L37: Robert Barroso | M37: Gwent | N37: Small Business | O37: Office Supplies | P37: Storage & Organization | Q37: Small Box | R37: 42408 | S37: =F37/$F$3563 -> 8.5875559e-05 | U37: =IF(T37="Quality Check",VLOOKUP(S37,Quality_Control,2),"") | V37: {=SUM(IF(B37="Y",IF(D37="Critical",(F37:F3596),0)))} -> 0 | W37: =R37-C37 -> 2 | X37: =IF(T37="",0,1) -> 0
A38: 448 | B38: N | C38: 41871 | D38: Medium | E38: 22 | F38: 1162.4005 | G38: 0.09 | H38: Regular | I38: -284.63 | J38: 65.99 | K38: 19.99 | L38: Brad Thomas | M38: Gwent | N38: Corporate | O38: Technology | P38: Telephones and Communication | Q38: Small Box | R38: 41873 | S38: =F38/$F$3563 -> 0.00018471492 | U38: =IF(T38="Quality Check",VLOOKUP(S38,Quality_Control,2),"") | V38: {=SUM(IF(B38="Y",IF(D38="Critical",(F38:F3597),0)))} -> 0 | W38: =R38-C38 -> 2 | X38: =IF(T38="",0,1) -> 0
A39: 449 | B39: N | C39: 41839 | D39: High | E39: 45 | F39: 356.7 | G39: 0.02 | H39: Regular | I39: -48.97 | J39: 7.38 | K39: 5.21 | L39: Candace McMahon | M39: Powys | N39: Corporate | O39: Furniture | P39: Office Furnishings | Q39: Small Box | R39: 41841 | S39: =F39/$F$3563 -> 5.6682541e-05 | U39: =IF(T39="Quality Check",VLOOKUP(S39,Quality_Control,2),"") | V39: {=SUM(IF(B39="Y",IF(D39="Critical",(F39:F3598),0)))} -> 0 | W39: =R39-C39 -> 2 | X39: =IF(T39="",0,1) -> 0
A40: 487 | B40: N | C40: 42233 | D40: Critical | E40: 19 | F40: 210.4 | G40: 0.07 | H40: Regular | I40: -18.96 | J40: 10.89 | K40: 4.5 | L40: Valerie Dominguez | M40: Gwent | N40: Corporate | O40: Office Supplies | P40: Appliances | Q40: Small Box | R40: 42234 | S40: =F40/$F$3563 -> 3.3434277e-05 | U40: =IF(T40="Quality Check",VLOOKUP(S40,Quality_Control,2),"") | V40: {=SUM(IF(B40="Y",IF(D40="Critical",(F40:F3599),0)))} -> 0 | W40: =R40-C40 -> 1 | X40: =IF(T40="",0,1) -> 0
A41: 512 | B41: N | C41: 41778 | D41: Low | E41: 6 | F41: 1309.53 | G41: 0.06 | H41: Regular | I41: 19.18 | J41: 218.08 | K41: 18.06 | L41: Sam Craven | M41: Gwent | N41: Home Office | O41: Furniture | P41: Chairs & Chairmats | Q41: Large Box | R41: 41778 | S41: =F41/$F$3563 -> 0.000208095 | U41: =IF(T41="Quality Check",VLOOKUP(S41,Quality_Control,2),"") | V41: {=SUM(IF(B41="Y",IF(D41="Critical",(F41:F3600),0)))} -> 0 | W41: =R41-C41 -> 0 | X41: =IF(T41="",0,1) -> 0
A42: 512 | B42: N | C42: 41778 | D42: Low | E42: 48 | F42: 806.37 | G42: 0.01 | H42: Express | I42: -166.4 | J42: 15.42 | K42: 10.68 | L42: Sam Craven | M42: Gwent | N42: Home Office | O42: Office Supplies | P42: Storage & Organization | Q42: Small Box | R42: 41780 | S42: =F42/$F$3563 -> 0.00012813877 | U42: =IF(T42="Quality Check",VLOOKUP(S42,Quality_Control,2),"") | V42: {=SUM(IF(B42="Y",IF(D42="Critical",(F42:F3601),0)))} -> 0 | W42: =R42-C42 -> 2 | X42: =IF(T42="",0,1) -> 0
A43: 548 | B43: N | C43: 42633 | D43: Critical | E43: 41 | F43: 129.49 | G43: 0.04 | H43: Regular | I43: 36.02 | J43: 3.08 | K43: 0.99 | L43: Sung Chung | M43: Gwent | N43: Home Office | O43: Office Supplies | P43: Labels | Q43: Small Box | R43: 42634 | S43: =F43/$F$3563 -> 2.0577018e-05 | U43: =IF(T43="Quality Check",VLOOKUP(S43,Quality_Control,2),"") | V43: {=SUM(IF(B43="Y",IF(D43="Critical",(F43:F3602),0)))} -> 0 | W43: =R43-C43 -> 1 | X43: =IF(T43="",0,1) -> 0
... A60: 8834 | B60: N | C60: 41586 | D60: High | E60: 1 | F60: 16.73 | G60: 0.08 | H60: Regular | I60: -6.96 | J60: 12.64 | K60: 4.98 | L60: Ken Lonsdale | M60: Gwent | N60: Consumer | O60: Furniture | P60: Office Furnishings | Q60: Small Pack | R60: 41587 | S60: =F60/$F$3563 -> 2.6585335e-06 | U60: =IF(T60="Quality Check",VLOOKUP(S60,Quality_Control,2),"") | V60: {=SUM(IF(B60="Y",IF(D60="Critical",(F60:F3619),0)))} -> 0 | W60: =R60-C60 -> 1 | X60: =IF(T60="",0,1) -> 0
A61: 775 | B61: Y | C61: 41715 | D61: Critical | E61: 35 | F61: 43.57 | G61: 0.1 | H61: Regular | I61: -19.17 | J61: 1.26 | K61: 0.7 | L61: Peter McVee | M61: Dyfed | N61: Small Business | O61: Office Supplies | P61: Rubber Bands | Q61: Wrap Bag | R61: 41716 | S61: =F61/$F$3563 -> 6.9236285e-06 | T61: =IF(B61="Y", "Quality Check","") -> Quality Check | U61: =IF(T61="Quality Check",VLOOKUP(S61,Quality_Control,2),"") -> Low Impact | V61: {=SUM(IF(B61="Y",IF(D61="Critical",(F61:F3620),0)))} -> 12538254 | W61: =R61-C61 -> 1 | X61: =IF(T61="",0,1) -> 1
A62: 775 | B62: Y | C62: 41715 | D62: Critical | E62: 8 | F62: 31.87 | G62: 0.1 | H62: Regular | I62: -1.25 | J62: 4.26 | K62: 1.2 | L62: Peter McVee | M62: Dyfed | N62: Small Business | O62: Office Supplies | P62: Pens & Art Supplies | Q62: Wrap Bag | R62: 41717 | S62: =F62/$F$3563 -> 5.0644031e-06 | T62: =IF(B62="Y", "Quality Check","") -> Quality Check | U62: =IF(T62="Quality Check",VLOOKUP(S62,Quality_Control,2),"") -> Low Impact | V62: {=SUM(IF(B62="Y",IF(D62="Critical",(F62:F3621),0)))} -> 12538211 | W62: =R62-C62 -> 2 | X62: =IF(T62="",0,1) -> 1
...

Sheet Count Returns
A1: Returns | B1: 3240 | C1: N | D1: =COUNTIF('DragonOffice Supplies'!B1:B3561,"N") -> 3240
B2: 320 | C2: Y | D2: =COUNTIF('DragonOffice Supplies'!B2:B3561,"Y") -> 320 | E2: =COUNTIF('DragonOffice Supplies'!B2:B3561,"Y") -> 320
B3: =SUM(B1:B2) -> 3560

Sheet Extract some colums for pivot
A1: Sales | B1: Profit | C1: Product Category | D1: Product Sub-Category
A2: 140.56 | B2: -128.38 | C2: Technology | D2: Computer Peripherals
A3: 3812.73 | B3: 1470.3 | C3: Technology | D3: Computer Peripherals
A4: 51.53 | B4: 0.35 | C4: Office Supplies | D4: Pens & Art Supplies
A5: 1186.06 | B5: 511.69 | C5: Furniture | D5: Office Furnishings
A6: 4158.1235 | B6: 1228.89 | C6: Technology | D6: Telephones and Communication
A7: 75.57 | B7: 28.24 | C7: Office Supplies | D7: Labels
A8: 32.72 | B8: -22.59 | C8: Office Supplies | D8: Paper
A9: 461.89 | B9: -309.82 | C9: Technology | D9: Office Machines
A10: 575.11 | B10: 71.75 | C10: Office Supplies | D10: Paper
A11: 236.46 | B11: -134.31 | C11: Office Supplies | D11: Storage & Organization
A12: 4011.65 | B12: -603.8 | C12: Furniture | D12: Bookcases
A13: 1132.6 | B13: -310.21 | C13: Office Supplies | D13: Storage & Organization
... A3561: 68.03 | B3561: 8.87 | C3561: Office Supplies | D3561: Binders and Binder Accessories

Sheet Discounts offered
D1: How Many | F1: Record
B2: Max Discount | C2: =MAX('DragonOffice Supplies'!G2:G3561) -> 0.21 | D2: 1 | F2: 26567 | G2: N | H2: 42617 | I2: Critical | J2: 22 | K2: 338.52 | L2: 0.21 | M2: Regular | N2: -17.75 | O2: 14.98 | P2: 8.99 | Q2: Sylvia Foulston | R2: South Glamorgan | S2: Corporate | T2: Furniture | U2: Office Furnishings
B3: Min Discount | C3: =MIN('DragonOffice Supplies'!G3:G3562) -> 0 | D3: 295
A5: Inventory Counting Cycle
A6: Count Critical | B6: =COUNTIF('DragonOffice Supplies'!D1:D3561,"Critical") -> 658 | C6: A
A7: High | B7: =COUNTIF('DragonOffice Supplies'!D2:D3562,"High") -> 766 | C7: A
A8: Low | B8: =COUNTIF('DragonOffice Supplies'!D3:D3563,"Low") -> 766 | C8: C
A9: Medium | B9: =COUNTIF('DragonOffice Supplies'!D4:D3564,"Medium") -> 652 | C9: B
A10: Not Specified | B10: =COUNTIF('DragonOffice Supplies'!D5:D3565,"Not Specified") -> 717
B11: =SUM(B6:B10) -> 3559

Sheet Sheet1
A3: Row Labels | B3: Sum of Number Checked | C3: Sum of Order Quantity | D3: Sum of Profit | E3: Sum of Dayspast
A4: Critical
A5: N | B5: 0 | C5: 14778 | D5: 111017.92 | E5: 962
A6: Y | B6: 62 | C6: 1485 | D6: 440.48 | E6: 82
A7: Critical Total | B7: 62 | C7: 16263 | D7: 111458.4 | E7: 1044
A8: High
A9: N | B9: 0 | C9: 18514 | D9: 171830.49 | E9: 997
A10: Y | B10: 0 | C10: 1706 | D10: 25859.17 | E10: 93
A11: High Total | B11: 0 | C11: 20220 | D11: 197689.66 | E11: 1090
A12: Low
A13: N | B13: 0 | C13: 17958 | D13: 172494.79 | E13: -2862
A14: Y | B14: 0 | C14: 2122 | D14: 25107.31 | E14: -2574
A15: Low Total | B15: 0 | C15: 20080 | D15: 197602.1 | E15: -5436
A16: Medium
A17: N | B17: 0 | C17: 15169 | D17: 96981.45 | E17: 922
A18: Y | B18: 0 | C18: 1436 | D18: 23443.97 | E18: 72
A19: Medium Total | B19: 0 | C19: 16605 | D19: 120425.42 | E19: 994
A20: Not Specified
A21: N | B21: 0 | C21: 16494 | D21: 89171.54 | E21: 1004
A22: Y | B22: 0 | C22: 1684 | D22: 6333.08 | E22: 109
A23: Not Specified Total | B23: 0 | C23: 18178 | D23: 95504.62 | E23: 1113
A24: Grand Total | B24: 62 | C24: 91346 | D24: 722680.2 | E24: -1195
