Workbook

Sheet Letter Box
A1: Film_title | B1: Director | C1: Average_rating | D1: Genres | E1: Runtime | F1: Original_language | G1: Description | H1: Studios | I1: Watches | J1: List_appearances | K1: Likes | L1: Fans | M1: Lowest | N1: Medium | O1: Highest | P1: Total_ratings | Q1: Primary_genre
A2: Tiger Girl | B2: Jakob Lass | C2: 3.07 | D2: Action | E2: 90 | F2: German | G2: Having failed to get into the police force, Margarete takes up training as a security guard. One night she runs into a sexually agressive ex-colleague who insists on hailing a taxi to take her home to his place. Enter Tiger: short brown hair, a tough girl and a fighter, the cab driver. Realising that the situation is far from consensual, Tiger speeds off with Margarete, leaving her companion standing in the street. It wonâ€™t be the last time she rushes to Margareteâ€™s aid. Tiger lives in an attic flat with two men. She knows how to wield a baseball bat. Stealing a uniform from security and renaming Margarete â€˜Vanillaâ€™, she begins to steer her life in a completely different direction. | H2: Constantin Film, ARD | I2: 2155 | J2: 1054 | K2: 276 | L2: 0 | M2: 63 | N2: 377 | O2: 42 | P2: 1511 | Q2: Action
A3: Enter the Dragon | B3: Robert Clouse | C3: 3.82 | D3: Action | E3: 102 | F3: English | G3: A martial artist agrees to spy on a reclusive crime lord using his invitation to a tournament there as cover. | H3: Concord Productions, Warner Bros. Pictures, Orange Sky Golden Harvest, Sequoia Pictures | I3: 177437 | J3: 49115 | K3: 45978 | L3: 779 | M3: 356 | N3: 16819 | O3: 12067 | P3: 107667 | Q3: Action
A4: Omega Syndrome | B4: Joseph Manduke | C4: 2.86 | D4: Action | E4: 90 | F4: English | G4: An ex-GI's daughter is abducted by a gang of white supremacists. He calls on one of his former Army buddies, and together they set out to track down the gang and rescue his daughter. | H4: New World Pictures, Smart Egg Pictures, Prey Presentations | I4: 535 | J4: 570 | K4: 67 | L4: 0 | M4: 29 | N4: 92 | O4: 2 | P4: 419 | Q4: Action
A5: Bastille Day | B5: James Watkins | C5: 2.73 | D5: Action | E5: 92 | F5: English | G5: Michael Mason is an American pickpocket living in Paris who finds himself hunted by the CIA when he steals a bag that contains more than just a wallet. Sean Briar, the field agent on the case, soon realises that Michael is just a pawn in a much bigger game and is also his best asset to uncover a large-scale conspiracy. | H5: StudioCanal, VendÃ´me Pictures, Anonymous Content, Anton Capital Entertainment, Canal+, TF1 Films Production | I5: 33483 | J5: 3758 | K5: 3401 | L5: 5 | M5: 680 | N5: 7573 | O5: 403 | P5: 23654 | Q5: Action
A6: Outlaw Riders | B6: Tony Huston | C6: 3.27 | D6: Action | E6: 86 | F6: English | G6: An outlaw motorcycle gang is headed by two couples (Bambi Allan, Jennifer Bishop, Bill Bonner and Bryan West). The gang is badly hurt by a botched robbery and the four stars, the only survivors, eventually head to Mexico, where they have to combat a gang run by a sadistic Mexican (Rafael Campos). | H6: Unknown | I6: 41 | J6: 354 | K6: 2 | L6: 0 | M6: 4 | N6: 5 | O6: 1 | P6: 21 | Q6: Action
A7: Streets of Fire | B7: Walter Hill | C7: 3.54 | D7: Action | E7: 93 | F7: English | G7: Raven Shaddock and his gang of merciless biker friends kidnap rock singer Ellen Aim. Ellen's former lover, soldier-for-hire Tom Cody, happens to be passing through town on a visit. In an attempt to save his star act, Ellen's manager hires Tom to rescue her. Along with a former soldier, they battle through dangerous cityscapes, determined to get Ellen back. | H7: Universal Pictures, RKO Pictures LLC, Silver Pictures | I7: 46377 | J7: 19683 | K7: 14384 | L7: 426 | M7: 290 | N7: 6643 | O7: 3108 | P7: 33301 | Q7: Action
A8: 9 Deaths of the Ninja | B8: Emmett Alston | C8: 2.81 | D8: Action | E8: 94 | F8: English | G8: A trio of specialized soldiers is called in to stop a group of drug traffickers who have hijacked a busload of tourists in the Philippines and threaten to kill them all if one of their companions is not released from jail and the government does not stop its anti-drug policies. | H8: Crown International Pictures | I8: 1442 | J8: 1682 | K8: 233 | L8: 1 | M8: 77 | N8: 218 | O8: 31 | P8: 951 | Q8: Action
A9: Super Fly T.N.T. | B9: Ron O'Neal | C9: 3.27 | D9: Action | E9: 87 | F9: English | G9: A Harlem drug dealer and his girlfriend retire to Rome, where he joins an African revolution. | H9: Superfly Ltd., Paramount Pictures | I9: 334 | J9: 861 | K9: 41 | L9: 2 | M9: 23 | N9: 29 | O9: 5 | P9: 193 | Q9: Action
A10: Ballistic | B10: Kim Bass | C10: 3.27 | D10: Action | E10: 97 | F10: English | G10: Jesse Gavin is an undercover cop, part of an elite police team and highly skilled in lethal martial arts! She is suspended from the force after a witness that she was supposed to protect is killed. She must now find out what happened and clear up her name. | H10: Imperial Entertainment | I10: 120 | J10: 353 | K10: 11 | L10: 1 | M10: 2 | N10: 18 | O10: 2 | P10: 81 | Q10: Action
A11: The Wild Geese | B11: Andrew V. McLaglen | C11: 3.27 | D11: Action | E11: 134 | F11: English | G11: A British multinational company seeks to overthrow a vicious dictator in central Africa. It hires a band of (largely aged) mercenaries in London and sends them in to save the virtuous but imprisoned opposition leader who is also critically ill and due for execution. Just when the team has performed a perfect rescue, the multinational does a deal with the vicious dictator leaving the mercenary band to escape under their own steam and exact revenge. | H11: Richmond Productions | I11: 6600 | J11: 2381 | K11: 1121 | L11: 14 | M11: 65 | N11: 1320 | O11: 175 | P11: 4267 | Q11: Action
A12: Ninja Terminator | B12: Godfrey Ho | C12: 2.79 | D12: Action | E12: 92 | F12: English | G12: Three martial-arts students search for the Golden Ninja Warrior, a statue reputed to have magic powers. | H12: IFD Films & Arts Company | I12: 3894 | J12: 2689 | K12: 1003 | L12: 11 | M12: 287 | N12: 494 | O12: 188 | P12: 2734 | Q12: Action
A13: The Exterminator | B13: James Glickenhaus | C13: 3.02 | D13: Action | E13: 98 | F13: English | G13: When a man's best friend is killed on the streets of New York, he transforms into a violent killer, turning New York into a war zone. | H13: AVCO Embassy Pictures, Interstar | I13: 8130 | J13: 5074 | K13: 1538 | L13: 4 | M13: 189 | N13: 1603 | O13: 151 | P13: 5636 | Q13: Action
... A78: Berserk: The Golden Age Arc III â€“ The Advent | B78: Toshiyuki Kubooka | C78: 3.96 | D78: Action, Adventure, Animation, Fantasy, Drama | E78: 110 | F78: Japanese | G78: A year has passed since Guts parted ways with the Band of the Hawks. Meanwhile, his former mercenary group is plotting a rescue mission to save an imprisoned Griffith. | H78: Beyond C., Warner Bros. Pictures, STUDIO4â„ƒ | I78: 31905 | J78: 4857 | K78: 8622 | L78: 183 | M78: 136 | N78: 2379 | O78: 3814 | P78: 21267 | Q78: Action
A79: 9 | B79: Shane Acker | C79: 3.45 | D79: Action, Adventure, Animation, Thriller, Science Fiction | E79: 79 | F79: English | G79: When 9 first comes to life, he finds himself in a post-apocalyptic world. All humans are gone, and it is only by chance that he discovers a small community of others like him taking refuge from fearsome machines that roam the earth intent on their extinction. Despite being the neophyte of the group, 9 convinces the others that hiding will do them no good. | H79: Tim Burton Productions, Relativity Media, Arc Productions, Starz Animation, Focus Features | I79: 283145 | J79: 33976 | K79: 56650 | L79: 1900 | M79: 1885 | N79: 38177 | O79: 14887 | P79: 152261 | Q79: Action
A80: Casino Royale | B80: Val Guest, Ken Hughes | C80: 2.42 | D80: Action, Adventure, Comedy | E80: 131 | F80: English | G80: Sir James Bond is called back out of retirement to stop SMERSH. In order to trick SMERSH, James thinks up the ultimate plan - that every agent will be named 'James Bond'. One of the Bonds, whose real name is Evelyn Tremble is sent to take on Le Chiffre in a game of baccarat, but all the Bonds get more than they can handle. | H80: Famous Artists Productions, Columbia Pictures | I80: 41133 | J80: 12179 | K80: 3529 | L80: 28 | M80: 2642 | N80: 3820 | O80: 490 | P80: 21423 | Q80: Action
A81: Zoolander 2 | B81: Ben Stiller | C81: 2.19 | D81: Action, Adventure, Comedy | E81: 100 | F81: English | G81: Derek and Hansel are modelling again when an opposing company attempts to take them out from the business. | H81: Paramount Pictures, Red Hour, Scott Rudin Productions | I81: 203131 | J81: 16344 | K81: 17520 | L81: 101 | M81: 15345 | N81: 19307 | O81: 3770 | P81: 116065 | Q81: Action
A82: Team America: World Police | B82: Trey Parker | C82: 3.48 | D82: Action, Adventure, Comedy | E82: 97 | F82: English | G82: When North Korean ruler Kim Jong-il orchestrates a global terrorist plot, it's up to the heavily armed, highly specialized Team America unit to stop his dastardly scheme. The group, which has recruited troubled Broadway actor Gary Johnston, not only has to face off against Jong-il, but they must also contend with the Film Actors Guild, a cadre of Hollywood liberals at odds with Team America's 'policing the world' tactics. | H82: Paramount Pictures, Scott Rudin Productions, Parker-Stone Productions | I82: 220464 | J82: 27895 | K82: 40052 | L82: 347 | M82: 2554 | N82: 24958 | O82: 8573 | P82: 120057 | Q82: Action
A83: Armour of God | B83: Jackie Chan, Eric Tsang Chi-Wai | C83: 3.29 | D83: Action, Adventure, Comedy | E83: 97 | F83: Cantonese | G83: Jackie Chan stars as Asian Hawk, an Indiana Jones-style adventurer looking to make a fortune in exotic antiquities. After Hawk discovers a mysterious sword in Africa, a band of Satan-worshipping monks kidnap his ex-girlfriend Lorelei, demanding the sword as ransom as well as other pieces of the legendary Armour of God - a magical outfit dating back to the Crusades. | H83: Orange Sky Golden Harvest, Paragon Films | I83: 23193 | J83: 6241 | K83: 4096 | L83: 30 | M83: 125 | N83: 4363 | O83: 710 | P83: 14354 | Q83: Action
A84: Forbidden City Cop | B84: Vincent Kok Tak-Chiu, Stephen Chow | C84: 3.51 | D84: Action, Adventure, Comedy | E84: 89 | F84: Cantonese | G84: An imperial agent gets ridiculed for his various inventions, until his supportive wife encourages him to attend a conference, which's actually a trap to kill all the doctors serving the emperor, where his crazy inventions come in handy. | H84: "Wins Movie Production Limited", Samico Films Production Co., Ltd. | I84: 4247 | J84: 1427 | K84: 795 | L84: 4 | M84: 9 | N84: 681 | O84: 167 | P84: 2655 | Q84: Action
A85: The Man from U.N.C.L.E. | B85: Guy Ritchie | C85: 3.46 | D85: Action, Adventure, Comedy | E85: 116 | F85: English | G85: At the height of the Cold War, a mysterious criminal organization plans to use nuclear weapons and technology to upset the fragile balance of power between the United States and Soviet Union. CIA agent Napoleon Solo and KGB agent Illya Kuryakin are forced to put aside their hostilities and work together to stop the evildoers in their tracks. The duo's only lead is the daughter of a missing German scientist, whom they must find soon to prevent a global catastrophe. | H85: Wigram Productions, Davis Entertainment, RatPac Entertainment, Warner Bros. Pictures | I85: 456811 | J85: 47039 | K85: 96908 | L85: 1700 | M85: 2506 | N85: 66590 | O85: 16858 | P85: 279566 | Q85: Action
A86: Foodfight! | B86: Lawrence Kasanoff | C86: 1.29 | D86: Action, Adventure, Comedy, Animation, Family, War | E86: 91 | F86: English | G86: The evil Brand X joins a supermarket that becomes a city after closing time. | H86: Threshold Entertainment, C47 Productions, Natural Image, StoryArk Media, Threshold Animation Studios, Viva Kids | I86: 22540 | J86: 7440 | K86: 1953 | L86: 88 | M86: 2541 | N86: 190 | O86: 838 | P86: 16225 | Q86: Action
A87: RED | B87: Robert Schwentke | C87: 3.08 | D87: Action, Adventure, Comedy, Crime, Thriller | E87: 111 | F87: English | G87: After surviving an assault from a squad of hit men, retired CIA black ops agent Frank Moses reassembles his old team for an all-out war. Frank reunites with old Joe, crazy Marvin and wily Victoria to uncover a massive conspiracy that threatens their lives. Only their expert training will allow them to survive a near-impossible mission -- breaking into CIA headquarters. | H87: di Bonaventura Pictures, DC | I87: 261459 | J87: 21021 | K87: 30933 | L87: 226 | M87: 2754 | N87: 43412 | O87: 4739 | P87: 133411 | Q87: Action
A88: Maverick | B88: Richard Donner | C88: 3.4 | D88: Action, Adventure, Comedy, Drama, Western | E88: 127 | F88: English | G88: Bret Maverick is a gambler who would rather con someone than fight them, and needs an additional $3k in order to enter a winner-takes-all poker game beginning in a few days. He joins forces with a woman with a marvelous Southern accent, and the two try and enter the game. | H88: Warner Bros. Pictures, Icon Productions, Donner/Shuler-Donner Productions | I88: 67174 | J88: 10626 | K88: 10733 | L88: 75 | M88: 413 | N88: 10217 | O88: 1542 | P88: 35406 | Q88: Action
A89: Inspector Gadget | B89: David Kellogg | C89: 2.07 | D89: Action, Adventure, Comedy, Family | E89: 78 | F89: English | G89: John Brown is a bumbling but well-intentioned security guard who is badly injured in an explosion planned by an evil mastermind. He is taken to a laboratory, where Brenda, a leading robotics surgeon, replaces his damaged limbs with state-of-the-art gadgets and tools. Named "Inspector Gadget" by the press, John -- along with his niece, Penny, and her trusty dog, Brain -- uses his new powers to discover who was behind the explosion. | H89: DiC Entertainment, Walt Disney Pictures, Caravan Pictures, Avnet/Kerner Productions, Roger Birnbaum Productions | I89: 157340 | J89: 10305 | K89: 7312 | L89: 22 | M89: 9735 | N89: 8017 | O89: 891 | P89: 56853 | Q89: Action
A90: Argoman the Fantastic Superman | B90: Sergio Grieco | C90: 2.84 | D90: Action, Adventure, Comedy, Science Fiction | E90: 85 | F90: Italian | G90: Argoman is practically invincible with powers beyond the scope of mortal man. Who is Sir Reginald Hoover, he seems to know what mission Argoman is involved with? Will Jenabell become the Queen of the World and achieve her wishes to outsmart Argoman? | H90: Fida Cinematografica | I90: 864 | J90: 901 | K90: 128 | L90: 1 | M90: 74 | N90: 108 | O90: 15 | P90: 602 | Q90: Action
A91: Skiptrace | B91: Renny Harlin | C91: 2.49 | D91: Action, Adventure, Crime, Comedy | E91: 107 | F91: English | G91: A detective from Hong Kong teams up with an American gambler to battle against a notorious Chinese criminal. | H91: JC Group International, InterTitle Films, Cider Mill Pictures, Dasym Enetertainment, Talent International Media, Talent International Film Cultural Company, Lionsgate | I91: 14733 | J91: 2507 | K91: 1376 | L91: 4 | M91: 704 | N91: 2034 | O91: 218 | P91: 9159 | Q91: Action
... A512: Superman II: The Richard Donner Cut | B512: Richard Donner | C512: 3.59 | D512: Action, Science Fiction, Adventure | E512: 116 | F512: English | G512: Superman agrees to sacrifice his powers to start a relationship with Lois Lane, unaware that three Kryptonian criminals he inadvertently released are conquering Earth. | H512: Warner Bros. Pictures, DC, Dovemead Films | I512: 29332 | J512: 8849 | K512: 7167 | L512: 39 | M512: 83 | N512: 3422 | O512: 1308 | P512: 17960 | Q512: Action
A513: 65 | B513: Scott Beck, Bryan Woods | C513: 2.13 | D513: Action, Science Fiction, Adventure | E513: 92 | F513: English | G513: 65 million years ago, the only 2 survivors of a spaceship from Somaris that crash-landed on Earth, must fend off dinosaurs to reach the escape vessel in time before an imminent asteroid strike threatens to destroy the planet. | H513: Raimi Productions, Beck/Woods, Bron Studios, Columbia Pictures, TSG Entertainment | I513: 212314 | J513: 43795 | K513: 20568 | L513: 25 | M513: 17114 | N513: 32908 | O513: 1723 | P513: 174450 | Q513: Action
A514: AVP: Alien vs. Predator | B514: Paul W. S. Anderson | C514: 2.57 | D514: Action, Science Fiction, Adventure, Horror | E514: 100 | F514: English | G514: When scientists discover something near Antarctica that appears to be a buried Pyramid, they send a research team out to investigate. Little do they know that they are about to step into a hunting ground where Aliens are grown as sport for the Predator race. | H514: Studio Babelsberg, Davis Entertainment, Stillking Films, Lonlink Productions, Kut Productions, Inside Track Films, 20th Century Fox, Brandywine Productions | I514: 281879 | J514: 53719 | K514: 36612 | L514: 267 | M514: 10533 | N514: 43681 | O514: 4176 | P514: 172299 | Q514: Action
A515: Resident Evil: Afterlife | B515: Paul W. S. Anderson | C515: 2.5 | D515: Action, Science Fiction, Adventure, Horror | E515: 97 | F515: English | G515: In a world ravaged by a virus infection, turning its victims into the Undead, Alice continues on her journey to find survivors and lead them to safety. Her deadly battle with the Umbrella Corporation reaches new heights, but Alice gets some unexpected help from an old friend. A new lead that promises a safe haven from the Undead takes them to Los Angeles, but when they arrive the city is overrun by thousands of Undead - and Alice and her comrades are about to step into a deadly trap. | H515: Screen Gems, Constantin Film, Davis Films/Impact Pictures | I515: 162510 | J515: 24770 | K515: 18213 | L515: 116 | M515: 7818 | N515: 19865 | O515: 4156 | P515: 89755 | Q515: Action
A516: Gamera vs. Gyaos | B516: Noriaki Yuasa | C516: 3.06 | D516: Action, Science Fiction, Adventure, Horror | E516: 86 | F516: Japanese | G516: Unusual volcanic activity in Japan awakens Gyaos, a bloodthirsty flying monster with the power to slice things in half with an ultrasonic ray. While scientists and the military scramble to devise a way to stop this new threat, a young boy forms an alliance with Gamera; a monster no one else seems to trust. | H516: Daiei Film | I516: 6802 | J516: 5579 | K516: 1718 | L516: 1 | M516: 99 | N516: 1602 | O516: 118 | P516: 4776 | Q516: Action
A517: The Saint | B517: Phillip Noyce | C517: 2.83 | D517: Action, Science Fiction, Adventure, Thriller, Romance | E517: 116 | F517: English | G517: Simon Templar (The Saint), is a thief for hire, whose latest job to steal the secret process for cold fusion puts him at odds with a traitor bent on toppling the Russian government, as well as the woman who holds its secret. | H517: Paramount Pictures, Rysher Entertainment, Mace Neufeld Productions, Studio Trite | I517: 43056 | J517: 6022 | K517: 4938 | L517: 78 | M517: 921 | N517: 6527 | O517: 665 | P517: 22626 | Q517: Action
A518: Redline | B518: Takeshi Koike | C518: 4.09 | D518: Action, Science Fiction, Animation | E518: 102 | F518: Japanese | G518: A daredevil driver is determined to compete in Redline, the most popular race in the galaxy. The race only occurs every five years, but in order to participate he must overcome the mafia, the government and even love. | H518: TFC, Madhouse | I518: 85488 | J518: 23904 | K518: 33202 | L518: 2200 | M518: 175 | N518: 5888 | O518: 13027 | P518: 62408 | Q518: Action
A519: Starship Troopers: Invasion | B519: Shinji Aramaki | C519: 2.61 | D519: Action, Science Fiction, Animation | E519: 89 | F519: English | G519: The troopers of two starships have joined forces to terminate a massive bug attack at a Federation outpost. Before the mission can be completed and the survivors evacuated, one ship abruptly departs and goes inexplicably dark. The remaining battle-hardened troopers race to the rescue only to discover that the threat from the bugs is about to hit home. | H519: Sola Digital Arts, Stage 6 Films | I519: 4680 | J519: 1752 | K519: 457 | L519: 1 | M519: 236 | N519: 710 | O519: 60 | P519: 2985 | Q519: Action
A520: Mobile Suit Gundam I | B520: Ryoji Fujiwara, Yoshiyuki Tomino | C520: 3.56 | D520: Action, Science Fiction, Animation | E520: 139 | F520: Japanese | G520: In the year Universal Century 0079, humans have colonized the area of space lying in between the Earth and the moon. However, the ambitious Zabi family, rulers of the Duchy of Zeon, the grouping of colonies furthest from the earth, has sparked a war. | H520: SUNRISE | I520: 14458 | J520: 3469 | K520: 4107 | L520: 29 | M520: 35 | N520: 2365 | O520: 627 | P520: 10028 | Q520: Action
A521: Lensman | B521: Yoshiaki Kawajiri, Kazuyuki Hirokawa | C521: 3.23 | D521: Action, Science Fiction, Animation | E521: 107 | F521: Japanese | G521: In this animated adaptation of E. E. Doc Smith's groundbreaking science fiction serial "Grey Lensman" from the 1930s-1950s, Kimball Kinnison, a young man from the agricultural planet Mquie and his Valerian companion, Buscirk find a dying man with a legendary crystal lens embedded in his hand. As the man was dying, he mysteriously passed on the Lens to Kim. With more companions to come by, Kim must find out the purpose of the Lens before the Boskone dynasty does. | H521: TOHO, EE Doc Smith MK Company, MK Productions Ltd., Madhouse, Kodansha | I521: 879 | J521: 1055 | K521: 175 | L521: 2 | M521: 10 | N521: 168 | O521: 30 | P521: 513 | Q521: Action
A522: Patlabor 2: The Movie | B522: Mamoru Oshii | C522: 4.14 | D522: Action, Science Fiction, Animation, Thriller | E522: 116 | F522: Japanese | G522: A Japanese police unit who use giant anthropomorphic robots (called Labors) is caught up in a political struggle between the civilian authorities and the military when a terrorist act is blamed on an Air Force jet. With the aid of a government agent, the team gets close to a terrorist leader to stop things from going out of control when after the military is impelled to impose martial law. | H522: Production I.G, Bandai Visual, TFC, ING, Headgear | I522: 13263 | J522: 6584 | K522: 5033 | L522: 376 | M522: 24 | N522: 715 | O522: 2233 | P522: 8974 | Q522: Action
A523: The World's End | B523: Edgar Wright | C523: 3.62 | D523: Action, Science Fiction, Comedy | E523: 109 | F523: English | G523: Five friends who reunite in an attempt to top their epic pub crawl from 20 years earlier unwittingly become humankind's only hope for survival. | H523: Big Talk Studios, Working Title Films, Relativity Media, Working Title Films | I523: 554547 | J523: 84550 | K523: 136263 | L523: 2700 | M523: 2621 | N523: 74916 | O523: 27366 | P523: 357954 | Q523: Action
A524: Land of the Lost | B524: Brad Silberling | C524: 2.49 | D524: Action, Science Fiction, Comedy, Adventure | E524: 102 | F524: English | G524: On his latest expedition, Dr. Rick Marshall is sucked into a space-time vortex alongside his research assistant and a redneck survivalist. In this alternate universe, the trio make friends with a primate named Chaka, their only ally in a world full of dinosaurs and other fantastic creatures. | H524: Universal Pictures, Relativity Media, Sid & Marty Krofft Pictures, Mosaic Media Group | I524: 117561 | J524: 11875 | K524: 14256 | L524: 322 | M524: 6070 | N524: 12899 | O524: 2911 | P524: 65207 | Q524: Action
...

Sheet Charts
A1: Primary_genre | B1: count | C1: avg_rating | D1: avg_likes | E1: avg_watches
A2: Drama | B2: 2225 | C2: 3.47 | D2: 41258.56 | E2: 141205.86
A3: Comedy | B3: 1422 | C3: 3.19 | D3: 43613.34 | E3: 172600.45
A4: Horror | B4: 862 | C4: 2.99 | D4: 28217.93 | E4: 108736.11
A5: Thriller | B5: 800 | C5: 3.14 | D5: 35682.56 | E5: 152257.39
A6: Action | B6: 732 | C6: 3.07 | D6: 43625.59 | E6: 191184.91
A7: Crime | B7: 527 | C7: 3.38 | D7: 54188.17 | E7: 183330.83
A8: Romance | B8: 503 | C8: 3.36 | D8: 44107.31 | E8: 173728.64
A9: Science Fiction | B9: 441 | C9: 3.02 | D9: 65011.28 | E9: 254777.66
A10: Adventure | B10: 417 | C10: 3.11 | D10: 64951.69 | E10: 293819.86
A11: Documentary | B11: 335 | C11: 3.63 | D11: 5011.58 | E11: 20403.48
A15: Watches | B15: Likes
A16: 169219 | B16: 11791
A17: 5281 | B17: 868
A18: 5662 | B18: 669
A19: 134200 | B19: 27234
A20: 1457 | B20: 195
A21: 106 | B21: 17
A22: 69017 | B22: 21298
A23: 19105 | B23: 3330
A24: 138 | B24: 16
A25: 1007733 | B25: 312173
A26: 419693 | B26: 58856
A27: 6562 | B27: 1454
... A515: 39565 | B515: 13509

Sheet Descriptive Stats
B1: Average_rating | C1: Runtime | D1: Watches | E1: Likes | F1: Fans | G1: Total_ratings
A2: count | B2: {=COUNT('Letter Box'!A1:B9952+'Letter Box'!C2:C9970)} -> 26 | C2: =COUNT('Letter Box'!E2:E9970) -> 9969 | D2: =COUNT('Letter Box'!I2:I9970) -> 9969 | E2: =COUNT('Letter Box'!K2:K9970) -> 9969 | F2: =COUNT('Letter Box'!L2:L9970) -> 9969 | G2: =COUNT('Letter Box'!P2:P9970) -> 9969
A3: mean | B3: =AVERAGE('Letter Box'!C9970,'Letter Box'!C9970) -> 3.35 | C3: =AVERAGE('Letter Box'!E2:E9970) -> 103.17735 | D3: =AVERAGE('Letter Box'!I2:I9970) -> 170559.11 | E3: =AVERAGE('Letter Box'!K2:K9970) -> 43827.785 | F3: =AVERAGE('Letter Box'!L2:L9970) -> 1657.4512 | G3: =AVERAGE('Letter Box'!P2:P9970) -> 106551.77
A4: std | B4: =_xlfn.STDEV.S('Letter Box'!C1:C9970) -> 0.5259394 | C4: =STDEV('Letter Box'!E2:E9970) -> 38.120133 | D4: =STDEV('Letter Box'!I2:I9970) -> 458941.23 | E4: =STDEV('Letter Box'!K2:K9970) -> 151739.22 | F4: =STDEV('Letter Box'!L2:L9970) -> 9382.397 | G4: =STDEV('Letter Box'!P2:P9970) -> 295036.69
A5: min | B5: =MIN('Letter Box'!C2:C9970) -> 1.08 | C5: =MIN('Letter Box'!E2:E9970) -> 2 | D5: =MIN('Letter Box'!I2:I9970) -> 2 | E5: =MIN('Letter Box'!K2:K9970) -> 0 | F5: =MIN('Letter Box'!L2:L9970) -> 0 | G5: =MIN('Letter Box'!P2:P9970) -> 0
A6: 0.25 | B6: 2.95 | C6: 89 | D6: 2990 | E6: 458 | F6: 2 | G6: 1896
A7: 50% | B7: =MEDIAN('Letter Box'!C2:C9970) -> 3.27 | C7: =MEDIAN('Letter Box'!E2:E9970) -> 99 | D7: =MEDIAN('Letter Box'!I2:I9970) -> 18465 | E7: =MEDIAN('Letter Box'!K2:K9970) -> 3405 | F7: =MEDIAN('Letter Box'!L2:L9970) -> 24 | G7: =MEDIAN('Letter Box'!P2:P9970) -> 11842
A8: 75% | B8: 3.62 | C8: 113 | D8: 108531 | E8: 20150 | F8: 284 | G8: 67507
A9: max | B9: =MAX('Letter Box'!C2:C9970) -> 4.71 | C9: 907 | D9: =MAX('Letter Box'!I2:I9970) -> 5195503 | E9: =MAX('Letter Box'!K2:K9970) -> 2730813 | F9: =MAX('Letter Box'!L2:L9970) -> 326000 | G9: =MAX('Letter Box'!P2:P9970) -> 4091037

Sheet Genre Stats
A1: Primary_genre | B1: count | C1: avg_rating | D1: avg_likes | E1: avg_watches
A2: Drama | B2: 2225 | C2: 3.47 | D2: 41258.56 | E2: 141205.86
A3: Comedy | B3: 1422 | C3: 3.19 | D3: 43613.34 | E3: 172600.45
A4: Horror | B4: 862 | C4: 2.99 | D4: 28217.93 | E4: 108736.11
A5: Thriller | B5: 800 | C5: 3.14 | D5: 35682.56 | E5: 152257.39 | G5: =COUNTIF('Letter Box'!$R$2:$R$9970, A2) -> 0
A6: Action | B6: 732 | C6: 3.07 | D6: 43625.59 | E6: 191184.91
A7: Crime | B7: 527 | C7: 3.38 | D7: 54188.17 | E7: 183330.83
A8: Romance | B8: 503 | C8: 3.36 | D8: 44107.31 | E8: 173728.64
A9: Science Fiction | B9: 441 | C9: 3.02 | D9: 65011.28 | E9: 254777.66
A10: Adventure | B10: 417 | C10: 3.11 | D10: 64951.69 | E10: 293819.86
A11: Documentary | B11: 335 | C11: 3.63 | D11: 5011.58 | E11: 20403.48

Sheet Language Stats
A1: Original_language | B1: count | C1: avg_rating | D1: avg_likes
A2: English | B2: 8046 | C2: 3.21 | D2: 49507.22
A3: Italian | B3: 396 | C3: 3.31 | D3: 5163.39
A4: Japanese | B4: 308 | C4: 3.6 | D4: 43362.4
A5: French | B5: 290 | C5: 3.6 | D5: 21884.38
A6: Korean | B6: 145 | C6: 3.42 | D6: 36848.23
A7: Spanish | B7: 114 | C7: 3.45 | D7: 18157.43
A8: German | B8: 96 | C8: 3.5 | D8: 15193.08
A9: No spoken language | B9: 94 | C9: 3.64 | D9: 12223.2
A10: Chinese | B10: 65 | C10: 3.52 | D10: 7348.85
A11: Danish | B11: 60 | C11: 3.48 | D11: 11271.35

Sheet Correlations
B1: Runtime | C1: Fans | D1: Watches | E1: Likes | F1: Average_rating
A2: Runtime | B2: 1 | C2: 0.088 | D2: 0.146 | E2: 0.129 | F2: 0.187
A3: Fans | B3: 0.088 | C3: 1 | D3: 0.672 | E3: 0.8 | F3: 0.251
A4: Watches | B4: 0.146 | C4: 0.672 | D4: 1 | E4: 0.951 | F4: 0.249
A5: Likes | B5: 0.129 | C5: 0.8 | D5: 0.951 | E5: 1 | F5: 0.29
A6: Average_rating | B6: 0.187 | C6: 0.251 | D6: 0.249 | E6: 0.29 | F6: 1

Sheet Regression Coefs
A1: Variable | B1: Coefficient
A2: Intercept | B2: 3.012552
A3: Fans | B3: 3e-06
A4: Likes | B4: 1e-06
A5: Runtime | B5: 0.002105

Sheet Regression Info
A1: Metric | B1: Value
A2: R_squared | B2: 0.1081
A3: N_observations | B3: 9969

Sheet TTest Means
A1: Group | B1: Mean_rating
A2: English | B2: 3.212
A3: Non-English | B3: 3.51
