Workbook

Sheet VEHICLE
B2: VEHICLE | H2: RPM | I2: POWER | J2: POWER | K2: TORQUE | L2: FIRST
B3: NAME | C3: Renegade DX10-C | I3: BHP | J3: W | K3: NM | L3: VELOCITY | M3: VELOCITY | N3: FORCE | O3: Aero Drag Force | P3: Rolling Resistance (Gravel) | Q3: Rolling Resistance (Dirt) | R3: Rolling Resistance (Grass) | S3: Rolling Resistance (Ashphalt) | T3: Gradient Resistance | U3: Total Resistant Forces (Gravel) | V3: Total Resistant Forces (Dirt) | W3: Total Resistant Forces (Grass) | X3: Total Resistant Forces (Ashphalt) | Y3: Net Driving Force (Gravel) | Z3: Net Driving Force (Dirt) | AA3: Net Driving Force (Grass) | AB3: Net Driving Force (Ashphalt) | AC3: Available Engine Acceleration | AD3: Traction Limited Acceleration (Gravel) | AE3: Traction Limited Acceleration (Dirt) | AF3: Traction Limited Acceleration (Grass) | AG3: Traction Limited Acceleration (Ashphalt) | AH3: Traction Limited Deceleration (Gravel) | AI3: Traction Limited Deceleration (Dirt) | AJ3: Traction Limited Deceleration (Grass) | AK3: Traction Limited Deceleration (Ashphalt)
B4: ENGINE | C4: 4-Stroke Petrol ICE | L4: m/s | M4: mph | N4: N | O4: N | P4: N | Q4: N | R4: N | S4: N | T4: N | U4: N | V4: N | W4: N | X4: N | Y4: N | Z4: N | AA4: N | AB4: N | AC4: m/s² | AD4: m/s² | AE4: m/s² | AF4: m/s² | AG4: m/s² | AH4: m/s² | AI4: m/s² | AJ4: m/s² | AK4: m/s²
B5: TRANSMISSION | C5: Automatic CVT | H5: 750 | I5: =I6-0.75 -> 0.75 | J5: =I5*0.7457*1000 -> 559.275 | K5: =J5/((2*PI()*H5)/60) -> 7.1209105 | L5: =((($H5/$F$52)*($C$58))/(60))*2.24*0.44704 -> 1.1541559 | M5: =L5*2.237 -> 2.5818467 | N5: =(J5)/L5 -> 484.57493 | O5: =(0.5*$C$71*$C$28*$C$27*L5^2) -> 1.1850201 | P5: =0.02*9.81*($C$41+$C$42+$C$43+$C$44+$C$45+$C$46) -> 111.31015 | Q5: =0.05*9.81*($C$41+$C$42+$C$43+$C$44+$C$45+$C$46) -> 278.27537 | R5: =0.1*9.81*($C$41+$C$42+$C$43+$C$44+$C$45+$C$46) -> 556.55073 | S5: =0.013*9.81*$C$47 -> 72.351595 | T5: =9.81*SIN(RADIANS(0))*($C$47) -> 0 | U5: =O5+P5+T5 -> 112.49517 | V5: =O5+Q5+T5 -> 279.46039 | W5: =O5+R5+T5 -> 557.73575 | X5: =O5+S5+T5 -> 73.536615 | Y5: =N5-U5 -> 372.07976 | Z5: =N5-V5 -> 205.11454 | AA5: =IF(N5-W5<0,0,N5-W5) -> 0 | AB5: =N5-X5 -> 411.03831 | AC5: =N5/$C$68 -> 0.82169771 | AD5: =((((0.6)*($C$47)*(9.81)*(COS(0))*(($D$21)-(0.02)*(($C$21)-($C$37))))/($C$16))/(((1)-((0.6)*($C$21)))/($C$16)))*(10^-3) -> 2.0334491 | AE5: =((((0.68)*($C$47)*(9.81)*(COS(0))*(($D$21)-(0.05)*(($C$21)-($C$37))))/($C$16))/(((1)-((0.68)*($C$21)))/($C$16)))*(10^-3) -> 2.3693106 | AF5: =((((0.55)*($C$47)*(9.81)*(COS(0))*(($D$21)-(0.1)*(($C$21)-($C$37))))/($C$16))/(((1)-((0.55)*($C$21)))/($C$16)))*(10^-3) -> 1.8207441 | AG5: =((((0.85)*($C$47)*(9.81)*(COS(0))*(($D$21)-(0.013)*(($C$21)-($C$37))))/($C$16))/(((1)-((0.85)*($C$21)))/($C$16)))*(10^-3) -> 3.172205 | AH5: =0.6*9.81 -> 5.886 | AI5: =0.68*9.81 -> 6.6708 | AJ5: =0.55*9.81 -> 5.3955 | AK5: =0.85*9.81 -> 8.3385
B6: DRIVE | C6: CVT Clutch | H6: 1000 | I6: =I7-0.75 -> 1.5 | J6: =I6*0.7457*1000 -> 1118.55 | K6: =J6/((2*PI()*H6)/60) -> 10.681366 | L6: =((($H6/$F$52)*($C$58))/(60))*2.24*0.44704 -> 1.5388745 | M6: =L6*2.237 -> 3.4424623 | N6: =(J6)/L6 -> 726.86239 | O6: =(0.5*$C$71*$C$28*$C$27*L6^2) -> 2.1067024 | P6: =0.02*9.81*($C$41+$C$42+$C$43+$C$44+$C$45+$C$46) -> 111.31015 | Q6: =0.05*9.81*($C$41+$C$42+$C$43+$C$44+$C$45+$C$46) -> 278.27537 | R6: =0.1*9.81*($C$41+$C$42+$C$43+$C$44+$C$45+$C$46) -> 556.55073 | S6: =0.013*9.81*$C$47 -> 72.351595 | T6: =9.81*SIN(RADIANS(0))*($C$47) -> 0 | U6: =O6+P6+T6 -> 113.41685 | V6: =O6+Q6+T6 -> 280.38207 | W6: =O6+R6+T6 -> 558.65743 | X6: =O6+S6+T6 -> 74.458297 | Y6: =N6-U6 -> 613.44554 | Z6: =N6-V6 -> 446.48032 | AA6: =IF(N6-W6<0,0,N6-W6) -> 168.20496 | AB6: =N6-X6 -> 652.40409 | AC6: =N6/$C$68 -> 1.2325466 | AD6: =((((0.6)*($C$47)*(9.81)*(COS(0))*(($D$21)-(0.02)*(($C$21)-($C$37))))/($C$16))/(((1)-((0.6)*($C$21)))/($C$16)))*(10^-3) -> 2.0334491 | AE6: =((((0.68)*($C$47)*(9.81)*(COS(0))*(($D$21)-(0.05)*(($C$21)-($C$37))))/($C$16))/(((1)-((0.68)*($C$21)))/($C$16)))*(10^-3) -> 2.3693106 | AF6: =((((0.55)*($C$47)*(9.81)*(COS(0))*(($D$21)-(0.1)*(($C$21)-($C$37))))/($C$16))/(((1)-((0.55)*($C$21)))/($C$16)))*(10^-3) -> 1.8207441 | AG6: =((((0.85)*($C$47)*(9.81)*(COS(0))*(($D$21)-(0.013)*(($C$21)-($C$37))))/($C$16))/(((1)-((0.85)*($C$21)))/($C$16)))*(10^-3) -> 3.172205 | AH6: =0.6*9.81 -> 5.886 | AI6: =0.68*9.81 -> 6.6708 | AJ6: =0.55*9.81 -> 5.3955 | AK6: =0.85*9.81 -> 8.3385
B7: DIFFERENTIAL | C7: Locked Rear Axle | H7: 1250 | I7: =I8-0.75 -> 2.25 | J7: =I7*0.7457*1000 -> 1677.825 | K7: =J7/((2*PI()*H7)/60) -> 12.817639 | L7: =((($H7/$F$52)*($C$58))/(60))*2.24*0.44704 -> 1.9235931 | M7: =L7*2.237 -> 4.3030778 | N7: =(J7)/L7 -> 872.23487 | O7: =(0.5*$C$71*$C$28*$C$27*L7^2) -> 3.2917224 | P7: =0.02*9.81*($C$41+$C$42+$C$43+$C$44+$C$45+$C$46) -> 111.31015 | Q7: =0.05*9.81*($C$41+$C$42+$C$43+$C$44+$C$45+$C$46) -> 278.27537 | R7: =0.1*9.81*($C$41+$C$42+$C$43+$C$44+$C$45+$C$46) -> 556.55073 | S7: =0.013*9.81*$C$47 -> 72.351595 | T7: =9.81*SIN(RADIANS(0))*($C$47) -> 0 | U7: =O7+P7+T7 -> 114.60187 | V7: =O7+Q7+T7 -> 281.56709 | W7: =O7+R7+T7 -> 559.84245 | X7: =O7+S7+T7 -> 75.643317 | Y7: =N7-U7 -> 757.633 | Z7: =N7-V7 -> 590.66778 | AA7: =IF(N7-W7<0,0,N7-W7) -> 312.39242 | AB7: =N7-X7 -> 796.59155 | AC7: =N7/$C$68 -> 1.4790559 | AD7: =((((0.6)*($C$47)*(9.81)*(COS(0))*(($D$21)-(0.02)*(($C$21)-($C$37))))/($C$16))/(((1)-((0.6)*($C$21)))/($C$16)))*(10^-3) -> 2.0334491 | AE7: =((((0.68)*($C$47)*(9.81)*(COS(0))*(($D$21)-(0.05)*(($C$21)-($C$37))))/($C$16))/(((1)-((0.68)*($C$21)))/($C$16)))*(10^-3) -> 2.3693106 | AF7: =((((0.55)*($C$47)*(9.81)*(COS(0))*(($D$21)-(0.1)*(($C$21)-($C$37))))/($C$16))/(((1)-((0.55)*($C$21)))/($C$16)))*(10^-3) -> 1.8207441 | AG7: =((((0.85)*($C$47)*(9.81)*(COS(0))*(($D$21)-(0.013)*(($C$21)-($C$37))))/($C$16))/(((1)-((0.85)*($C$21)))/($C$16)))*(10^-3) -> 3.172205 | AH7: =0.6*9.81 -> 5.886 | AI7: =0.68*9.81 -> 6.6708 | AJ7: =0.55*9.81 -> 5.3955 | AK7: =0.85*9.81 -> 8.3385
H8: 1500 | I8: =I9-0.75 -> 3 | J8: =I8*0.7457*1000 -> 2237.1 | K8: =J8/((2*PI()*H8)/60) -> 14.241821 | L8: =((($H8/$F$52)*($C$58))/(60))*2.24*0.44704 -> 2.3083117 | M8: =L8*2.237 -> 5.1636934 | N8: =(J8)/L8 -> 969.14986 | O8: =(0.5*$C$71*$C$28*$C$27*L8^2) -> 4.7400803 | P8: =0.02*9.81*($C$41+$C$42+$C$43+$C$44+$C$45+$C$46) -> 111.31015 | Q8: =0.05*9.81*($C$41+$C$42+$C$43+$C$44+$C$45+$C$46) -> 278.27537 | R8: =0.1*9.81*($C$41+$C$42+$C$43+$C$44+$C$45+$C$46) -> 556.55073 | S8: =0.013*9.81*$C$47 -> 72.351595 | T8: =9.81*SIN(RADIANS(0))*($C$47) -> 0 | U8: =O8+P8+T8 -> 116.05023 | V8: =O8+Q8+T8 -> 283.01545 | W8: =O8+R8+T8 -> 561.29081 | X8: =O8+S8+T8 -> 77.091675 | Y8: =N8-U8 -> 853.09963 | Z8: =N8-V8 -> 686.13441 | AA8: =IF(N8-W8<0,0,N8-W8) -> 407.85905 | AB8: =N8-X8 -> 892.05818 | AC8: =N8/$C$68 -> 1.6433954 | AD8: =((((0.6)*($C$47)*(9.81)*(COS(0))*(($D$21)-(0.02)*(($C$21)-($C$37))))/($C$16))/(((1)-((0.6)*($C$21)))/($C$16)))*(10^-3) -> 2.0334491 | AE8: =((((0.68)*($C$47)*(9.81)*(COS(0))*(($D$21)-(0.05)*(($C$21)-($C$37))))/($C$16))/(((1)-((0.68)*($C$21)))/($C$16)))*(10^-3) -> 2.3693106 | AF8: =((((0.55)*($C$47)*(9.81)*(COS(0))*(($D$21)-(0.1)*(($C$21)-($C$37))))/($C$16))/(((1)-((0.55)*($C$21)))/($C$16)))*(10^-3) -> 1.8207441 | AG8: =((((0.85)*($C$47)*(9.81)*(COS(0))*(($D$21)-(0.013)*(($C$21)-($C$37))))/($C$16))/(((1)-((0.85)*($C$21)))/($C$16)))*(10^-3) -> 3.172205 | AH8: =0.6*9.81 -> 5.886 | AI8: =0.68*9.81 -> 6.6708 | AJ8: =0.55*9.81 -> 5.3955 | AK8: =0.85*9.81 -> 8.3385
B9: ENGINE SPECIFICATION | H9: 1750 | I9: =I10-0.75 -> 3.75 | J9: =I9*0.7457*1000 -> 2796.375 | K9: =J9/((2*PI()*H9)/60) -> 15.259094 | L9: =((($H9/$F$52)*($C$58))/(60))*2.24*0.44704 -> 2.6930304 | M9: =L9*2.237 -> 6.0243089 | N9: =(J9)/L9 -> 1038.3748 | O9: =(0.5*$C$71*$C$28*$C$27*L9^2) -> 6.451776 | P9: =0.02*9.81*($C$41+$C$42+$C$43+$C$44+$C$45+$C$46) -> 111.31015 | Q9: =0.05*9.81*($C$41+$C$42+$C$43+$C$44+$C$45+$C$46) -> 278.27537 | R9: =0.1*9.81*($C$41+$C$42+$C$43+$C$44+$C$45+$C$46) -> 556.55073 | S9: =0.013*9.81*$C$47 -> 72.351595 | T9: =9.81*SIN(RADIANS(0))*($C$47) -> 0 | U9: =O9+P9+T9 -> 117.76192 | V9: =O9+Q9+T9 -> 284.72714 | W9: =O9+R9+T9 -> 563.00251 | X9: =O9+S9+T9 -> 78.803371 | Y9: =N9-U9 -> 920.61292 | Z9: =N9-V9 -> 753.6477 | AA9: =IF(N9-W9<0,0,N9-W9) -> 475.37234 | AB9: =N9-X9 -> 959.57148 | AC9: =N9/$C$68 -> 1.7607808 | AD9: =((((0.6)*($C$47)*(9.81)*(COS(0))*(($D$21)-(0.02)*(($C$21)-($C$37))))/($C$16))/(((1)-((0.6)*($C$21)))/($C$16)))*(10^-3) -> 2.0334491 | AE9: =((((0.68)*($C$47)*(9.81)*(COS(0))*(($D$21)-(0.05)*(($C$21)-($C$37))))/($C$16))/(((1)-((0.68)*($C$21)))/($C$16)))*(10^-3) -> 2.3693106 | AF9: =((((0.55)*($C$47)*(9.81)*(COS(0))*(($D$21)-(0.1)*(($C$21)-($C$37))))/($C$16))/(((1)-((0.55)*($C$21)))/($C$16)))*(10^-3) -> 1.8207441 | AG9: =((((0.85)*($C$47)*(9.81)*(COS(0))*(($D$21)-(0.013)*(($C$21)-($C$37))))/($C$16))/(((1)-((0.85)*($C$21)))/($C$16)))*(10^-3) -> 3.172205 | AH9: =0.6*9.81 -> 5.886 | AI9: =0.68*9.81 -> 6.6708 | AJ9: =0.55*9.81 -> 5.3955 | AK9: =0.85*9.81 -> 8.3385
B10: VOLUME | C10: 278 | D10: cc | H10: 2000 | I10: =I11-0.75 -> 4.5 | J10: =I10*0.7457*1000 -> 3355.65 | K10: =J10/((2*PI()*H10)/60) -> 16.022049 | L10: =((($H10/$F$52)*($C$58))/(60))*2.24*0.44704 -> 3.077749 | M10: =L10*2.237 -> 6.8849245 | N10: =(J10)/L10 -> 1090.2936 | O10: =(0.5*$C$71*$C$28*$C$27*L10^2) -> 8.4268094 | P10: =0.02*9.81*($C$41+$C$42+$C$43+$C$44+$C$45+$C$46) -> 111.31015 | Q10: =0.05*9.81*($C$41+$C$42+$C$43+$C$44+$C$45+$C$46) -> 278.27537 | R10: =0.1*9.81*($C$41+$C$42+$C$43+$C$44+$C$45+$C$46) -> 556.55073 | S10: =0.013*9.81*$C$47 -> 72.351595 | T10: =9.81*SIN(RADIANS(0))*($C$47) -> 0 | U10: =O10+P10+T10 -> 119.73696 | V10: =O10+Q10+T10 -> 286.70217 | W10: =O10+R10+T10 -> 564.97754 | X10: =O10+S10+T10 -> 80.778404 | Y10: =N10-U10 -> 970.55663 | Z10: =N10-V10 -> 803.59141 | AA10: =IF(N10-W10<0,0,N10-W10) -> 525.31605 | AB10: =N10-X10 -> 1009.5152 | AC10: =N10/$C$68 -> 1.8488198 | AD10: =((((0.6)*($C$47)*(9.81)*(COS(0))*(($D$21)-(0.02)*(($C$21)-($C$37))))/($C$16))/(((1)-((0.6)*($C$21)))/($C$16)))*(10^-3) -> 2.0334491 | AE10: =((((0.68)*($C$47)*(9.81)*(COS(0))*(($D$21)-(0.05)*(($C$21)-($C$37))))/($C$16))/(((1)-((0.68)*($C$21)))/($C$16)))*(10^-3) -> 2.3693106 | AF10: =((((0.55)*($C$47)*(9.81)*(COS(0))*(($D$21)-(0.1)*(($C$21)-($C$37))))/($C$16))/(((1)-((0.55)*($C$21)))/($C$16)))*(10^-3) -> 1.8207441 | AG10: =((((0.85)*($C$47)*(9.81)*(COS(0))*(($D$21)-(0.013)*(($C$21)-($C$37))))/($C$16))/(((1)-((0.85)*($C$21)))/($C$16)))*(10^-3) -> 3.172205 | AH10: =0.6*9.81 -> 5.886 | AI10: =0.68*9.81 -> 6.6708 | AJ10: =0.55*9.81 -> 5.3955 | AK10: =0.85*9.81 -> 8.3385
B11: POWER | C11: 18 | D11: BHP @6500RPM | H11: 2250 | I11: =I12-0.75 -> 5.25 | J11: =I11*0.7457*1000 -> 3914.925 | K11: =J11/((2*PI()*H11)/60) -> 16.615458 | L11: =((($H11/$F$52)*($C$58))/(60))*2.24*0.44704 -> 3.4624676 | M11: =L11*2.237 -> 7.7455401 | N11: =(J11)/L11 -> 1130.6748 | O11: =(0.5*$C$71*$C$28*$C$27*L11^2) -> 10.665181 | P11: =0.02*9.81*($C$41+$C$42+$C$43+$C$44+$C$45+$C$46) -> 111.31015 | Q11: =0.05*9.81*($C$41+$C$42+$C$43+$C$44+$C$45+$C$46) -> 278.27537 | R11: =0.1*9.81*($C$41+$C$42+$C$43+$C$44+$C$45+$C$46) -> 556.55073 | S11: =0.013*9.81*$C$47 -> 72.351595 | T11: =9.81*SIN(RADIANS(0))*($C$47) -> 0 | U11: =O11+P11+T11 -> 121.97533 | V11: =O11+Q11+T11 -> 288.94055 | W11: =O11+R11+T11 -> 567.21591 | X11: =O11+S11+T11 -> 83.016776 | Y11: =N11-U11 -> 1008.6995 | Z11: =N11-V11 -> 841.73429 | AA11: =IF(N11-W11<0,0,N11-W11) -> 563.45892 | AB11: =N11-X11 -> 1047.6581 | AC11: =N11/$C$68 -> 1.9172947 | AD11: =((((0.6)*($C$47)*(9.81)*(COS(0))*(($D$21)-(0.02)*(($C$21)-($C$37))))/($C$16))/(((1)-((0.6)*($C$21)))/($C$16)))*(10^-3) -> 2.0334491 | AE11: =((((0.68)*($C$47)*(9.81)*(COS(0))*(($D$21)-(0.05)*(($C$21)-($C$37))))/($C$16))/(((1)-((0.68)*($C$21)))/($C$16)))*(10^-3) -> 2.3693106 | AF11: =((((0.55)*($C$47)*(9.81)*(COS(0))*(($D$21)-(0.1)*(($C$21)-($C$37))))/($C$16))/(((1)-((0.55)*($C$21)))/($C$16)))*(10^-3) -> 1.8207441 | AG11: =((((0.85)*($C$47)*(9.81)*(COS(0))*(($D$21)-(0.013)*(($C$21)-($C$37))))/($C$16))/(((1)-((0.85)*($C$21)))/($C$16)))*(10^-3) -> 3.172205 | AH11: =0.6*9.81 -> 5.886 | AI11: =0.68*9.81 -> 6.6708 | AJ11: =0.55*9.81 -> 5.3955 | AK11: =0.85*9.81 -> 8.3385
B12: POWER | C12: =C11/1.341 -> 13.422819 | D12: Kw @5500RPM | H12: 2500 | I12: =I13-0.75 -> 6 | J12: =I12*0.7457*1000 -> 4474.2 | K12: =J12/((2*PI()*H12)/60) -> 17.090185 | L12: =((($H12/$F$52)*($C$58))/(60))*2.24*0.44704 -> 3.8471862 | M12: =L12*2.237 -> 8.6061556 | N12: =(J12)/L12 -> 1162.9798 | O12: =(0.5*$C$71*$C$28*$C$27*L12^2) -> 13.16689 | P12: =0.02*9.81*($C$41+$C$42+$C$43+$C$44+$C$45+$C$46) -> 111.31015 | Q12: =0.05*9.81*($C$41+$C$42+$C$43+$C$44+$C$45+$C$46) -> 278.27537 | R12: =0.1*9.81*($C$41+$C$42+$C$43+$C$44+$C$45+$C$46) -> 556.55073 | S12: =0.013*9.81*$C$47 -> 72.351595 | T12: =9.81*SIN(RADIANS(0))*($C$47) -> 0 | U12: =O12+P12+T12 -> 124.47704 | V12: =O12+Q12+T12 -> 291.44225 | W12: =O12+R12+T12 -> 569.71762 | X12: =O12+S12+T12 -> 85.518485 | Y12: =N12-U12 -> 1038.5028 | Z12: =N12-V12 -> 871.53757 | AA12: =IF(N12-W12<0,0,N12-W12) -> 593.26221 | AB12: =N12-X12 -> 1077.4613 | AC12: =N12/$C$68 -> 1.9720745 | AD12: =((((0.6)*($C$47)*(9.81)*(COS(0))*(($D$21)-(0.02)*(($C$21)-($C$37))))/($C$16))/(((1)-((0.6)*($C$21)))/($C$16)))*(10^-3) -> 2.0334491 | AE12: =((((0.68)*($C$47)*(9.81)*(COS(0))*(($D$21)-(0.05)*(($C$21)-($C$37))))/($C$16))/(((1)-((0.68)*($C$21)))/($C$16)))*(10^-3) -> 2.3693106 | AF12: =((((0.55)*($C$47)*(9.81)*(COS(0))*(($D$21)-(0.1)*(($C$21)-($C$37))))/($C$16))/(((1)-((0.55)*($C$21)))/($C$16)))*(10^-3) -> 1.8207441 | AG12: =((((0.85)*($C$47)*(9.81)*(COS(0))*(($D$21)-(0.013)*(($C$21)-($C$37))))/($C$16))/(((1)-((0.85)*($C$21)))/($C$16)))*(10^-3) -> 3.172205 | AH12: =0.6*9.81 -> 5.886 | AI12: =0.68*9.81 -> 6.6708 | AJ12: =0.55*9.81 -> 5.3955 | AK12: =0.85*9.81 -> 8.3385
B13: TORQUE | C13: 22 | D13: NM | H13: 2750 | I13: =I14-0.75 -> 6.75 | J13: =I13*0.7457*1000 -> 5033.475 | K13: =J13/((2*PI()*H13)/60) -> 17.478598 | L13: =((($H13/$F$52)*($C$58))/(60))*2.24*0.44704 -> 4.2319049 | M13: =L13*2.237 -> 9.4667712 | N13: =(J13)/L13 -> 1189.4112 | O13: =(0.5*$C$71*$C$28*$C$27*L13^2) -> 15.931937 | P13: =0.02*9.81*($C$41+$C$42+$C$43+$C$44+$C$45+$C$46) -> 111.31015 | Q13: =0.05*9.81*($C$41+$C$42+$C$43+$C$44+$C$45+$C$46) -> 278.27537 | R13: =0.1*9.81*($C$41+$C$42+$C$43+$C$44+$C$45+$C$46) -> 556.55073 | S13: =0.013*9.81*$C$47 -> 72.351595 | T13: =9.81*SIN(RADIANS(0))*($C$47) -> 0 | U13: =O13+P13+T13 -> 127.24208 | V13: =O13+Q13+T13 -> 294.2073 | W13: =O13+R13+T13 -> 572.48267 | X13: =O13+S13+T13 -> 88.283532 | Y13: =N13-U13 -> 1062.1691 | Z13: =N13-V13 -> 895.20389 | AA13: =IF(N13-W13<0,0,N13-W13) -> 616.92852 | AB13: =N13-X13 -> 1101.1277 | AC13: =N13/$C$68 -> 2.0168944 | AD13: =((((0.6)*($C$47)*(9.81)*(COS(0))*(($D$21)-(0.02)*(($C$21)-($C$37))))/($C$16))/(((1)-((0.6)*($C$21)))/($C$16)))*(10^-3) -> 2.0334491 | AE13: =((((0.68)*($C$47)*(9.81)*(COS(0))*(($D$21)-(0.05)*(($C$21)-($C$37))))/($C$16))/(((1)-((0.68)*($C$21)))/($C$16)))*(10^-3) -> 2.3693106 | AF13: =((((0.55)*($C$47)*(9.81)*(COS(0))*(($D$21)-(0.1)*(($C$21)-($C$37))))/($C$16))/(((1)-((0.55)*($C$21)))/($C$16)))*(10^-3) -> 1.8207441 | AG13: =((((0.85)*($C$47)*(9.81)*(COS(0))*(($D$21)-(0.013)*(($C$21)-($C$37))))/($C$16))/(((1)-((0.85)*($C$21)))/($C$16)))*(10^-3) -> 3.172205 | AH13: =0.6*9.81 -> 5.886 | AI13: =0.68*9.81 -> 6.6708 | AJ13: =0.55*9.81 -> 5.3955 | AK13: =0.85*9.81 -> 8.3385
H14: 3000 | I14: =I15-0.75 -> 7.5 | J14: =I14*0.7457*1000 -> 5592.75 | K14: =J14/((2*PI()*H14)/60) -> 17.802276 | L14: =((($H14/$F$52)*($C$58))/(60))*2.24*0.44704 -> 4.6166235 | M14: =L14*2.237 -> 10.327387 | N14: =(J14)/L14 -> 1211.4373 | O14: =(0.5*$C$71*$C$28*$C$27*L14^2) -> 18.960321 | P14: =0.02*9.81*($C$41+$C$42+$C$43+$C$44+$C$45+$C$46) -> 111.31015 | Q14: =0.05*9.81*($C$41+$C$42+$C$43+$C$44+$C$45+$C$46) -> 278.27537 | R14: =0.1*9.81*($C$41+$C$42+$C$43+$C$44+$C$45+$C$46) -> 556.55073 | S14: =0.013*9.81*$C$47 -> 72.351595 | T14: =9.81*SIN(RADIANS(0))*($C$47) -> 0 | U14: =O14+P14+T14 -> 130.27047 | V14: =O14+Q14+T14 -> 297.23569 | W14: =O14+R14+T14 -> 575.51105 | X14: =O14+S14+T14 -> 91.311916 | Y14: =N14-U14 -> 1081.1669 | Z14: =N14-V14 -> 914.20163 | AA14: =IF(N14-W14<0,0,N14-W14) -> 635.92627 | AB14: =N14-X14 -> 1120.1254 | AC14: =N14/$C$68 -> 2.0542443 | AD14: =((((0.6)*($C$47)*(9.81)*(COS(0))*(($D$21)-(0.02)*(($C$21)-($C$37))))/($C$16))/(((1)-((0.6)*($C$21)))/($C$16)))*(10^-3) -> 2.0334491 | AE14: =((((0.68)*($C$47)*(9.81)*(COS(0))*(($D$21)-(0.05)*(($C$21)-($C$37))))/($C$16))/(((1)-((0.68)*($C$21)))/($C$16)))*(10^-3) -> 2.3693106 | AF14: =((((0.55)*($C$47)*(9.81)*(COS(0))*(($D$21)-(0.1)*(($C$21)-($C$37))))/($C$16))/(((1)-((0.55)*($C$21)))/($C$16)))*(10^-3) -> 1.8207441 | AG14: =((((0.85)*($C$47)*(9.81)*(COS(0))*(($D$21)-(0.013)*(($C$21)-($C$37))))/($C$16))/(((1)-((0.85)*($C$21)))/($C$16)))*(10^-3) -> 3.172205 | AH14: =0.6*9.81 -> 5.886 | AI14: =0.68*9.81 -> 6.6708 | AJ14: =0.55*9.81 -> 5.3955 | AK14: =0.85*9.81 -> 8.3385
B15: VEHICLE DIMENSIONS | H15: 3250 | I15: =I16-0.75 -> 8.25 | J15: =I15*0.7457*1000 -> 6152.025 | K15: =J15/((2*PI()*H15)/60) -> 18.076157 | L15: =((($H15/$F$52)*($C$58))/(60))*2.24*0.44704 -> 5.0013421 | M15: =L15*2.237 -> 11.188002 | N15: =(J15)/L15 -> 1230.0748 | O15: =(0.5*$C$71*$C$28*$C$27*L15^2) -> 22.252044 | P15: =0.02*9.81*($C$41+$C$42+$C$43+$C$44+$C$45+$C$46) -> 111.31015 | Q15: =0.05*9.81*($C$41+$C$42+$C$43+$C$44+$C$45+$C$46) -> 278.27537 | R15: =0.1*9.81*($C$41+$C$42+$C$43+$C$44+$C$45+$C$46) -> 556.55073 | S15: =0.013*9.81*$C$47 -> 72.351595 | T15: =9.81*SIN(RADIANS(0))*($C$47) -> 0 | U15: =O15+P15+T15 -> 133.56219 | V15: =O15+Q15+T15 -> 300.52741 | W15: =O15+R15+T15 -> 578.80277 | X15: =O15+S15+T15 -> 94.603639 | Y15: =N15-U15 -> 1096.5126 | Z15: =N15-V15 -> 929.54741 | AA15: =IF(N15-W15<0,0,N15-W15) -> 651.27204 | AB15: =N15-X15 -> 1135.4712 | AC15: =N15/$C$68 -> 2.085848 | AD15: =((((0.6)*($C$47)*(9.81)*(COS(0))*(($D$21)-(0.02)*(($C$21)-($C$37))))/($C$16))/(((1)-((0.6)*($C$21)))/($C$16)))*(10^-3) -> 2.0334491 | AE15: =((((0.68)*($C$47)*(9.81)*(COS(0))*(($D$21)-(0.05)*(($C$21)-($C$37))))/($C$16))/(((1)-((0.68)*($C$21)))/($C$16)))*(10^-3) -> 2.3693106 | AF15: =((((0.55)*($C$47)*(9.81)*(COS(0))*(($D$21)-(0.1)*(($C$21)-($C$37))))/($C$16))/(((1)-((0.55)*($C$21)))/($C$16)))*(10^-3) -> 1.8207441 | AG15: =((((0.85)*($C$47)*(9.81)*(COS(0))*(($D$21)-(0.013)*(($C$21)-($C$37))))/($C$16))/(((1)-((0.85)*($C$21)))/($C$16)))*(10^-3) -> 3.172205 | AH15: =0.6*9.81 -> 5.886 | AI15: =0.68*9.81 -> 6.6708 | AJ15: =0.55*9.81 -> 5.3955 | AK15: =0.85*9.81 -> 8.3385
B16: LENGTH | C16: 2.62 | D16: m | H16: 3500 | I16: =I17-0.75 -> 9 | J16: =I16*0.7457*1000 -> 6711.3 | K16: =J16/((2*PI()*H16)/60) -> 18.310913 | L16: =((($H16/$F$52)*($C$58))/(60))*2.24*0.44704 -> 5.3860607 | M16: =L16*2.237 -> 12.048618 | N16: =(J16)/L16 -> 1246.0498 | O16: =(0.5*$C$71*$C$28*$C$27*L16^2) -> 25.807104 | P16: =0.02*9.81*($C$41+$C$42+$C$43+$C$44+$C$45+$C$46) -> 111.31015 | Q16: =0.05*9.81*($C$41+$C$42+$C$43+$C$44+$C$45+$C$46) -> 278.27537 | R16: =0.1*9.81*($C$41+$C$42+$C$43+$C$44+$C$45+$C$46) -> 556.55073 | S16: =0.013*9.81*$C$47 -> 72.351595 | T16: =9.81*SIN(RADIANS(0))*($C$47) -> 0 | U16: =O16+P16+T16 -> 137.11725 | V16: =O16+Q16+T16 -> 304.08247 | W16: =O16+R16+T16 -> 582.35783 | X16: =O16+S16+T16 -> 98.158699 | Y16: =N16-U16 -> 1108.9326 | Z16: =N16-V16 -> 941.96735 | AA16: =IF(N16-W16<0,0,N16-W16) -> 663.69198 | AB16: =N16-X16 -> 1147.8911 | AC16: =N16/$C$68 -> 2.112937 | AD16: =((((0.6)*($C$47)*(9.81)*(COS(0))*(($D$21)-(0.02)*(($C$21)-($C$37))))/($C$16))/(((1)-((0.6)*($C$21)))/($C$16)))*(10^-3) -> 2.0334491 | AE16: =((((0.68)*($C$47)*(9.81)*(COS(0))*(($D$21)-(0.05)*(($C$21)-($C$37))))/($C$16))/(((1)-((0.68)*($C$21)))/($C$16)))*(10^-3) -> 2.3693106 | AF16: =((((0.55)*($C$47)*(9.81)*(COS(0))*(($D$21)-(0.1)*(($C$21)-($C$37))))/($C$16))/(((1)-((0.55)*($C$21)))/($C$16)))*(10^-3) -> 1.8207441 | AG16: =((((0.85)*($C$47)*(9.81)*(COS(0))*(($D$21)-(0.013)*(($C$21)-($C$37))))/($C$16))/(((1)-((0.85)*($C$21)))/($C$16)))*(10^-3) -> 3.172205 | AH16: =0.6*9.81 -> 5.886 | AI16: =0.68*9.81 -> 6.6708 | AJ16: =0.55*9.81 -> 5.3955 | AK16: =0.85*9.81 -> 8.3385
B17: WIDTH | C17: 1.65 | D17: m | H17: 3750 | I17: =I18-0.75 -> 9.75 | J17: =I17*0.7457*1000 -> 7270.575 | K17: =J17/((2*PI()*H17)/60) -> 18.514367 | L17: =((($H17/$F$52)*($C$58))/(60))*2.24*0.44704 -> 5.7707794 | M17: =L17*2.237 -> 12.909233 | N17: =(J17)/L17 -> 1259.8948 | O17: =(0.5*$C$71*$C$28*$C$27*L17^2) -> 29.625502 | P17: =0.02*9.81*($C$41+$C$42+$C$43+$C$44+$C$45+$C$46) -> 111.31015 | Q17: =0.05*9.81*($C$41+$C$42+$C$43+$C$44+$C$45+$C$46) -> 278.27537 | R17: =0.1*9.81*($C$41+$C$42+$C$43+$C$44+$C$45+$C$46) -> 556.55073 | S17: =0.013*9.81*$C$47 -> 72.351595 | T17: =9.81*SIN(RADIANS(0))*($C$47) -> 0 | U17: =O17+P17+T17 -> 140.93565 | V17: =O17+Q17+T17 -> 307.90087 | W17: =O17+R17+T17 -> 586.17623 | X17: =O17+S17+T17 -> 101.9771 | Y17: =N17-U17 -> 1118.9592 | Z17: =N17-V17 -> 951.99395 | AA17: =IF(N17-W17<0,0,N17-W17) -> 673.71858 | AB17: =N17-X17 -> 1157.9177 | AC17: =N17/$C$68 -> 2.136414 | AD17: =((((0.6)*($C$47)*(9.81)*(COS(0))*(($D$21)-(0.02)*(($C$21)-($C$37))))/($C$16))/(((1)-((0.6)*($C$21)))/($C$16)))*(10^-3) -> 2.0334491 | AE17: =((((0.68)*($C$47)*(9.81)*(COS(0))*(($D$21)-(0.05)*(($C$21)-($C$37))))/($C$16))/(((1)-((0.68)*($C$21)))/($C$16)))*(10^-3) -> 2.3693106 | AF17: =((((0.55)*($C$47)*(9.81)*(COS(0))*(($D$21)-(0.1)*(($C$21)-($C$37))))/($C$16))/(((1)-((0.55)*($C$21)))/($C$16)))*(10^-3) -> 1.8207441 | AG17: =((((0.85)*($C$47)*(9.81)*(COS(0))*(($D$21)-(0.013)*(($C$21)-($C$37))))/($C$16))/(((1)-((0.85)*($C$21)))/($C$16)))*(10^-3) -> 3.172205 | AH17: =0.6*9.81 -> 5.886 | AI17: =0.68*9.81 -> 6.6708 | AJ17: =0.55*9.81 -> 5.3955 | AK17: =0.85*9.81 -> 8.3385
B18: HEIGHT | C18: 1.62 | D18: m | H18: 4000 | I18: =I19-0.75 -> 10.5 | J18: =I18*0.7457*1000 -> 7829.85 | K18: =J18/((2*PI()*H18)/60) -> 18.69239 | L18: =((($H18/$F$52)*($C$58))/(60))*2.24*0.44704 -> 6.155498 | M18: =L18*2.237 -> 13.769849 | N18: =(J18)/L18 -> 1272.0092 | O18: =(0.5*$C$71*$C$28*$C$27*L18^2) -> 33.707238 | P18: =0.02*9.81*($C$41+$C$42+$C$43+$C$44+$C$45+$C$46) -> 111.31015 | Q18: =0.05*9.81*($C$41+$C$42+$C$43+$C$44+$C$45+$C$46) -> 278.27537 | R18: =0.1*9.81*($C$41+$C$42+$C$43+$C$44+$C$45+$C$46) -> 556.55073 | S18: =0.013*9.81*$C$47 -> 72.351595 | T18: =9.81*SIN(RADIANS(0))*($C$47) -> 0 | U18: =O18+P18+T18 -> 145.01738 | V18: =O18+Q18+T18 -> 311.9826 | W18: =O18+R18+T18 -> 590.25797 | X18: =O18+S18+T18 -> 106.05883 | Y18: =N18-U18 -> 1126.9918 | Z18: =N18-V18 -> 960.02658 | AA18: =IF(N18-W18<0,0,N18-W18) -> 681.75122 | AB18: =N18-X18 -> 1165.9504 | AC18: =N18/$C$68 -> 2.1569565 | AD18: =((((0.6)*($C$47)*(9.81)*(COS(0))*(($D$21)-(0.02)*(($C$21)-($C$37))))/($C$16))/(((1)-((0.6)*($C$21)))/($C$16)))*(10^-3) -> 2.0334491 | AE18: =((((0.68)*($C$47)*(9.81)*(COS(0))*(($D$21)-(0.05)*(($C$21)-($C$37))))/($C$16))/(((1)-((0.68)*($C$21)))/($C$16)))*(10^-3) -> 2.3693106 | AF18: =((((0.55)*($C$47)*(9.81)*(COS(0))*(($D$21)-(0.1)*(($C$21)-($C$37))))/($C$16))/(((1)-((0.55)*($C$21)))/($C$16)))*(10^-3) -> 1.8207441 | AG18: =((((0.85)*($C$47)*(9.81)*(COS(0))*(($D$21)-(0.013)*(($C$21)-($C$37))))/($C$16))/(((1)-((0.85)*($C$21)))/($C$16)))*(10^-3) -> 3.172205 | AH18: =0.6*9.81 -> 5.886 | AI18: =0.68*9.81 -> 6.6708 | AJ18: =0.55*9.81 -> 5.3955 | AK18: =0.85*9.81 -> 8.3385
B19: GROUND CLEARANCE | C19: 0.3 | D19: m | H19: 4250 | I19: =I20-0.75 -> 11.25 | J19: =I19*0.7457*1000 -> 8389.125 | K19: =J19/((2*PI()*H19)/60) -> 18.849469 | L19: =((($H19/$F$52)*($C$58))/(60))*2.24*0.44704 -> 6.5402166 | M19: =L19*2.237 -> 14.630465 | N19: =(J19)/L19 -> 1282.6983 | O19: =(0.5*$C$71*$C$28*$C$27*L19^2) -> 38.052311 | P19: =0.02*9.81*($C$41+$C$42+$C$43+$C$44+$C$45+$C$46) -> 111.31015 | Q19: =0.05*9.81*($C$41+$C$42+$C$43+$C$44+$C$45+$C$46) -> 278.27537 | R19: =0.1*9.81*($C$41+$C$42+$C$43+$C$44+$C$45+$C$46) -> 556.55073 | S19: =0.013*9.81*$C$47 -> 72.351595 | T19: =9.81*SIN(RADIANS(0))*($C$47) -> 0 | U19: =O19+P19+T19 -> 149.36246 | V19: =O19+Q19+T19 -> 316.32768 | W19: =O19+R19+T19 -> 594.60304 | X19: =O19+S19+T19 -> 110.40391 | Y19: =N19-U19 -> 1133.3359 | Z19: =N19-V19 -> 966.37066 | AA19: =IF(N19-W19<0,0,N19-W19) -> 688.0953 | AB19: =N19-X19 -> 1172.2944 | AC19: =N19/$C$68 -> 2.1750822 | AD19: =((((0.6)*($C$47)*(9.81)*(COS(0))*(($D$21)-(0.02)*(($C$21)-($C$37))))/($C$16))/(((1)-((0.6)*($C$21)))/($C$16)))*(10^-3) -> 2.0334491 | AE19: =((((0.68)*($C$47)*(9.81)*(COS(0))*(($D$21)-(0.05)*(($C$21)-($C$37))))/($C$16))/(((1)-((0.68)*($C$21)))/($C$16)))*(10^-3) -> 2.3693106 | AF19: =((((0.55)*($C$47)*(9.81)*(COS(0))*(($D$21)-(0.1)*(($C$21)-($C$37))))/($C$16))/(((1)-((0.55)*($C$21)))/($C$16)))*(10^-3) -> 1.8207441 | AG19: =((((0.85)*($C$47)*(9.81)*(COS(0))*(($D$21)-(0.013)*(($C$21)-($C$37))))/($C$16))/(((1)-((0.85)*($C$21)))/($C$16)))*(10^-3) -> 3.172205 | AH19: =0.6*9.81 -> 5.886 | AI19: =0.68*9.81 -> 6.6708 | AJ19: =0.55*9.81 -> 5.3955 | AK19: =0.85*9.81 -> 8.3385
B20: FRONTAL AREA | C20: =(C17*C18)*0.7 -> 1.8711 | D20: m² | H20: 4500 | I20: =I21-0.75 -> 12 | J20: =I20*0.7457*1000 -> 8948.4 | K20: =J20/((2*PI()*H20)/60) -> 18.989095 | L20: =((($H20/$F$52)*($C$58))/(60))*2.24*0.44704 -> 6.9249352 | M20: =L20*2.237 -> 15.49108 | N20: =(J20)/L20 -> 1292.1998 | O20: =(0.5*$C$71*$C$28*$C$27*L20^2) -> 42.660723 | P20: =0.02*9.81*($C$41+$C$42+$C$43+$C$44+$C$45+$C$46) -> 111.31015 | Q20: =0.05*9.81*($C$41+$C$42+$C$43+$C$44+$C$45+$C$46) -> 278.27537 | R20: =0.1*9.81*($C$41+$C$42+$C$43+$C$44+$C$45+$C$46) -> 556.55073 | S20: =0.013*9.81*$C$47 -> 72.351595 | T20: =9.81*SIN(RADIANS(0))*($C$47) -> 0 | U20: =O20+P20+T20 -> 153.97087 | V20: =O20+Q20+T20 -> 320.93609 | W20: =O20+R20+T20 -> 599.21145 | X20: =O20+S20+T20 -> 115.01232 | Y20: =N20-U20 -> 1138.2289 | Z20: =N20-V20 -> 971.26372 | AA20: =IF(N20-W20<0,0,N20-W20) -> 692.98836 | AB20: =N20-X20 -> 1177.1875 | AC20: =N20/$C$68 -> 2.1911939 | AD20: =((((0.6)*($C$47)*(9.81)*(COS(0))*(($D$21)-(0.02)*(($C$21)-($C$37))))/($C$16))/(((1)-((0.6)*($C$21)))/($C$16)))*(10^-3) -> 2.0334491 | AE20: =((((0.68)*($C$47)*(9.81)*(COS(0))*(($D$21)-(0.05)*(($C$21)-($C$37))))/($C$16))/(((1)-((0.68)*($C$21)))/($C$16)))*(10^-3) -> 2.3693106 | AF20: =((((0.55)*($C$47)*(9.81)*(COS(0))*(($D$21)-(0.1)*(($C$21)-($C$37))))/($C$16))/(((1)-((0.55)*($C$21)))/($C$16)))*(10^-3) -> 1.8207441 | AG20: =((((0.85)*($C$47)*(9.81)*(COS(0))*(($D$21)-(0.013)*(($C$21)-($C$37))))/($C$16))/(((1)-((0.85)*($C$21)))/($C$16)))*(10^-3) -> 3.172205 | AH20: =0.6*9.81 -> 5.886 | AI20: =0.68*9.81 -> 6.6708 | AJ20: =0.55*9.81 -> 5.3955 | AK20: =0.85*9.81 -> 8.3385
B21: C of G Height, Didtance from Front Wheel Centre | C21: 0.3 | D21: 0.5 | H21: 4750 | I21: =I22-0.75 -> 12.75 | J21: =I21*0.7457*1000 -> 9507.675 | K21: =J21/((2*PI()*H21)/60) -> 19.114023 | L21: =((($H21/$F$52)*($C$58))/(60))*2.24*0.44704 -> 7.3096539 | M21: =L21*2.237 -> 16.351696 | N21: =(J21)/L21 -> 1300.7011 | O21: =(0.5*$C$71*$C$28*$C$27*L21^2) -> 47.532472 | P21: =0.02*9.81*($C$41+$C$42+$C$43+$C$44+$C$45+$C$46) -> 111.31015 | Q21: =0.05*9.81*($C$41+$C$42+$C$43+$C$44+$C$45+$C$46) -> 278.27537 | R21: =0.1*9.81*($C$41+$C$42+$C$43+$C$44+$C$45+$C$46) -> 556.55073 | S21: =0.013*9.81*$C$47 -> 72.351595 | T21: =9.81*SIN(RADIANS(0))*($C$47) -> 0 | U21: =O21+P21+T21 -> 158.84262 | V21: =O21+Q21+T21 -> 325.80784 | W21: =O21+R21+T21 -> 604.0832 | X21: =O21+S21+T21 -> 119.88407 | Y21: =N21-U21 -> 1141.8585 | Z21: =N21-V21 -> 974.89329 | AA21: =IF(N21-W21<0,0,N21-W21) -> 696.61792 | AB21: =N21-X21 -> 1180.8171 | AC21: =N21/$C$68 -> 2.2056096 | AD21: =((((0.6)*($C$47)*(9.81)*(COS(0))*(($D$21)-(0.02)*(($C$21)-($C$37))))/($C$16))/(((1)-((0.6)*($C$21)))/($C$16)))*(10^-3) -> 2.0334491 | AE21: =((((0.68)*($C$47)*(9.81)*(COS(0))*(($D$21)-(0.05)*(($C$21)-($C$37))))/($C$16))/(((1)-((0.68)*($C$21)))/($C$16)))*(10^-3) -> 2.3693106 | AF21: =((((0.55)*($C$47)*(9.81)*(COS(0))*(($D$21)-(0.1)*(($C$21)-($C$37))))/($C$16))/(((1)-((0.55)*($C$21)))/($C$16)))*(10^-3) -> 1.8207441 | AG21: =((((0.85)*($C$47)*(9.81)*(COS(0))*(($D$21)-(0.013)*(($C$21)-($C$37))))/($C$16))/(((1)-((0.85)*($C$21)))/($C$16)))*(10^-3) -> 3.172205 | AH21: =0.6*9.81 -> 5.886 | AI21: =0.68*9.81 -> 6.6708 | AJ21: =0.55*9.81 -> 5.3955 | AK21: =0.85*9.81 -> 8.3385
B22: FUEL TANK | C22: 29 | D22: l | H22: 5000 | I22: =I23-0.75 -> 13.5 | J22: =I22*0.7457*1000 -> 10066.95 | K22: =J22/((2*PI()*H22)/60) -> 19.226458 | L22: =((($H22/$F$52)*($C$58))/(60))*2.24*0.44704 -> 7.6943725 | M22: =L22*2.237 -> 17.212311 | N22: =(J22)/L22 -> 1308.3523 | O22: =(0.5*$C$71*$C$28*$C$27*L22^2) -> 52.667559 | P22: =0.02*9.81*($C$41+$C$42+$C$43+$C$44+$C$45+$C$46) -> 111.31015 | Q22: =0.05*9.81*($C$41+$C$42+$C$43+$C$44+$C$45+$C$46) -> 278.27537 | R22: =0.1*9.81*($C$41+$C$42+$C$43+$C$44+$C$45+$C$46) -> 556.55073 | S22: =0.013*9.81*$C$47 -> 72.351595 | T22: =9.81*SIN(RADIANS(0))*($C$47) -> 0 | U22: =O22+P22+T22 -> 163.97771 | V22: =O22+Q22+T22 -> 330.94292 | W22: =O22+R22+T22 -> 609.21829 | X22: =O22+S22+T22 -> 125.01915 | Y22: =N22-U22 -> 1144.3746 | Z22: =N22-V22 -> 977.40938 | AA22: =IF(N22-W22<0,0,N22-W22) -> 699.13402 | AB22: =N22-X22 -> 1183.3332 | AC22: =N22/$C$68 -> 2.2185838 | AD22: =((((0.6)*($C$47)*(9.81)*(COS(0))*(($D$21)-(0.02)*(($C$21)-($C$37))))/($C$16))/(((1)-((0.6)*($C$21)))/($C$16)))*(10^-3) -> 2.0334491 | AE22: =((((0.68)*($C$47)*(9.81)*(COS(0))*(($D$21)-(0.05)*(($C$21)-($C$37))))/($C$16))/(((1)-((0.68)*($C$21)))/($C$16)))*(10^-3) -> 2.3693106 | AF22: =((((0.55)*($C$47)*(9.81)*(COS(0))*(($D$21)-(0.1)*(($C$21)-($C$37))))/($C$16))/(((1)-((0.55)*($C$21)))/($C$16)))*(10^-3) -> 1.8207441 | AG22: =((((0.85)*($C$47)*(9.81)*(COS(0))*(($D$21)-(0.013)*(($C$21)-($C$37))))/($C$16))/(((1)-((0.85)*($C$21)))/($C$16)))*(10^-3) -> 3.172205 | AH22: =0.6*9.81 -> 5.886 | AI22: =0.68*9.81 -> 6.6708 | AJ22: =0.55*9.81 -> 5.3955 | AK22: =0.85*9.81 -> 8.3385
H23: 5250 | I23: =I24-0.75 -> 14.25 | J23: =I23*0.7457*1000 -> 10626.225 | K23: =J23/((2*PI()*H23)/60) -> 19.328186 | L23: =((($H23/$F$52)*($C$58))/(60))*2.24*0.44704 -> 8.0790911 | M23: =L23*2.237 -> 18.072927 | N23: =(J23)/L23 -> 1315.2748 | O23: =(0.5*$C$71*$C$28*$C$27*L23^2) -> 58.065984 | P23: =0.02*9.81*($C$41+$C$42+$C$43+$C$44+$C$45+$C$46) -> 111.31015 | Q23: =0.05*9.81*($C$41+$C$42+$C$43+$C$44+$C$45+$C$46) -> 278.27537 | R23: =0.1*9.81*($C$41+$C$42+$C$43+$C$44+$C$45+$C$46) -> 556.55073 | S23: =0.013*9.81*$C$47 -> 72.351595 | T23: =9.81*SIN(RADIANS(0))*($C$47) -> 0 | U23: =O23+P23+T23 -> 169.37613 | V23: =O23+Q23+T23 -> 336.34135 | W23: =O23+R23+T23 -> 614.61671 | X23: =O23+S23+T23 -> 130.41758 | Y23: =N23-U23 -> 1145.8987 | Z23: =N23-V23 -> 978.93346 | AA23: =IF(N23-W23<0,0,N23-W23) -> 700.65809 | AB23: =N23-X23 -> 1184.8572 | AC23: =N23/$C$68 -> 2.2303224 | AD23: =((((0.6)*($C$47)*(9.81)*(COS(0))*(($D$21)-(0.02)*(($C$21)-($C$37))))/($C$16))/(((1)-((0.6)*($C$21)))/($C$16)))*(10^-3) -> 2.0334491 | AE23: =((((0.68)*($C$47)*(9.81)*(COS(0))*(($D$21)-(0.05)*(($C$21)-($C$37))))/($C$16))/(((1)-((0.68)*($C$21)))/($C$16)))*(10^-3) -> 2.3693106 | AF23: =((((0.55)*($C$47)*(9.81)*(COS(0))*(($D$21)-(0.1)*(($C$21)-($C$37))))/($C$16))/(((1)-((0.55)*($C$21)))/($C$16)))*(10^-3) -> 1.8207441 | AG23: =((((0.85)*($C$47)*(9.81)*(COS(0))*(($D$21)-(0.013)*(($C$21)-($C$37))))/($C$16))/(((1)-((0.85)*($C$21)))/($C$16)))*(10^-3) -> 3.172205 | AH23: =0.6*9.81 -> 5.886 | AI23: =0.68*9.81 -> 6.6708 | AJ23: =0.55*9.81 -> 5.3955 | AK23: =0.85*9.81 -> 8.3385
B24: VEHICLE CHARACTERISTICS | H24: 5500 | I24: =I25-0.75 -> 15 | J24: =I24*0.7457*1000 -> 11185.5 | K24: =J24/((2*PI()*H24)/60) -> 19.420665 | L24: =((($H24/$F$52)*($C$58))/(60))*2.24*0.44704 -> 8.4638097 | M24: =L24*2.237 -> 18.933542 | N24: =(J24)/L24 -> 1321.568 | O24: =(0.5*$C$71*$C$28*$C$27*L24^2) -> 63.727746 | P24: =0.02*9.81*($C$41+$C$42+$C$43+$C$44+$C$45+$C$46) -> 111.31015 | Q24: =0.05*9.81*($C$41+$C$42+$C$43+$C$44+$C$45+$C$46) -> 278.27537 | R24: =0.1*9.81*($C$41+$C$42+$C$43+$C$44+$C$45+$C$46) -> 556.55073 | S24: =0.013*9.81*$C$47 -> 72.351595 | T24: =9.81*SIN(RADIANS(0))*($C$47) -> 0 | U24: =O24+P24+T24 -> 175.03789 | V24: =O24+Q24+T24 -> 342.00311 | W24: =O24+R24+T24 -> 620.27848 | X24: =O24+S24+T24 -> 136.07934 | Y24: =N24-U24 -> 1146.5301 | Z24: =N24-V24 -> 979.56487 | AA24: =IF(N24-W24<0,0,N24-W24) -> 701.28951 | AB24: =N24-X24 -> 1185.4886 | AC24: =N24/$C$68 -> 2.2409938 | AD24: =((((0.6)*($C$47)*(9.81)*(COS(0))*(($D$21)-(0.02)*(($C$21)-($C$37))))/($C$16))/(((1)-((0.6)*($C$21)))/($C$16)))*(10^-3) -> 2.0334491 | AE24: =((((0.68)*($C$47)*(9.81)*(COS(0))*(($D$21)-(0.05)*(($C$21)-($C$37))))/($C$16))/(((1)-((0.68)*($C$21)))/($C$16)))*(10^-3) -> 2.3693106 | AF24: =((((0.55)*($C$47)*(9.81)*(COS(0))*(($D$21)-(0.1)*(($C$21)-($C$37))))/($C$16))/(((1)-((0.55)*($C$21)))/($C$16)))*(10^-3) -> 1.8207441 | AG24: =((((0.85)*($C$47)*(9.81)*(COS(0))*(($D$21)-(0.013)*(($C$21)-($C$37))))/($C$16))/(((1)-((0.85)*($C$21)))/($C$16)))*(10^-3) -> 3.172205 | AH24: =0.6*9.81 -> 5.886 | AI24: =0.68*9.81 -> 6.6708 | AJ24: =0.55*9.81 -> 5.3955 | AK24: =0.85*9.81 -> 8.3385
B25: MAX VELOCITY | C25: 30 | D25: mph | H25: 5750 | I25: =I26-0.75 -> 15.75 | J25: =I25*0.7457*1000 -> 11744.775 | K25: =K24-0.6 -> 18.820665 | L25: =((($H25/$F$52)*($C$58))/(60))*2.24*0.44704 -> 8.8485284 | M25: =L25*2.237 -> 19.794158 | N25: =(J25)/L25 -> 1327.3139 | O25: =(0.5*$C$71*$C$28*$C$27*L25^2) -> 69.652847 | P25: =0.02*9.81*($C$41+$C$42+$C$43+$C$44+$C$45+$C$46) -> 111.31015 | Q25: =0.05*9.81*($C$41+$C$42+$C$43+$C$44+$C$45+$C$46) -> 278.27537 | R25: =0.1*9.81*($C$41+$C$42+$C$43+$C$44+$C$45+$C$46) -> 556.55073 | S25: =0.013*9.81*$C$47 -> 72.351595 | T25: =9.81*SIN(RADIANS(0))*($C$47) -> 0 | U25: =O25+P25+T25 -> 180.96299 | V25: =O25+Q25+T25 -> 347.92821 | W25: =O25+R25+T25 -> 626.20358 | X25: =O25+S25+T25 -> 142.00444 | Y25: =N25-U25 -> 1146.3509 | Z25: =N25-V25 -> 979.38572 | AA25: =IF(N25-W25<0,0,N25-W25) -> 701.11036 | AB25: =N25-X25 -> 1185.3095 | AC25: =N25/$C$68 -> 2.2507372 | AD25: =((((0.6)*($C$47)*(9.81)*(COS(0))*(($D$21)-(0.02)*(($C$21)-($C$37))))/($C$16))/(((1)-((0.6)*($C$21)))/($C$16)))*(10^-3) -> 2.0334491 | AE25: =((((0.68)*($C$47)*(9.81)*(COS(0))*(($D$21)-(0.05)*(($C$21)-($C$37))))/($C$16))/(((1)-((0.68)*($C$21)))/($C$16)))*(10^-3) -> 2.3693106 | AF25: =((((0.55)*($C$47)*(9.81)*(COS(0))*(($D$21)-(0.1)*(($C$21)-($C$37))))/($C$16))/(((1)-((0.55)*($C$21)))/($C$16)))*(10^-3) -> 1.8207441 | AG25: =((((0.85)*($C$47)*(9.81)*(COS(0))*(($D$21)-(0.013)*(($C$21)-($C$37))))/($C$16))/(((1)-((0.85)*($C$21)))/($C$16)))*(10^-3) -> 3.172205 | AH25: =0.6*9.81 -> 5.886 | AI25: =0.68*9.81 -> 6.6708 | AJ25: =0.55*9.81 -> 5.3955 | AK25: =0.85*9.81 -> 8.3385
B26: MAX VELOCITY | C26: =C25/2.237 -> 13.410818 | D26: m/s | H26: 6000 | I26: =I27-0.75 -> 16.5 | J26: =I26*0.7457*1000 -> 12304.05 | K26: =K25-0.6 -> 18.220665 | L26: =((($H26/$F$52)*($C$58))/(60))*2.24*0.44704 -> 9.233247 | M26: =L26*2.237 -> 20.654774 | N26: =(J26)/L26 -> 1332.5811 | O26: =(0.5*$C$71*$C$28*$C$27*L26^2) -> 75.841285 | P26: =0.02*9.81*($C$41+$C$42+$C$43+$C$44+$C$45+$C$46) -> 111.31015 | Q26: =0.05*9.81*($C$41+$C$42+$C$43+$C$44+$C$45+$C$46) -> 278.27537 | R26: =0.1*9.81*($C$41+$C$42+$C$43+$C$44+$C$45+$C$46) -> 556.55073 | S26: =0.013*9.81*$C$47 -> 72.351595 | T26: =9.81*SIN(RADIANS(0))*($C$47) -> 0 | U26: =O26+P26+T26 -> 187.15143 | V26: =O26+Q26+T26 -> 354.11665 | W26: =O26+R26+T26 -> 632.39201 | X26: =O26+S26+T26 -> 148.19288 | Y26: =N26-U26 -> 1145.4296 | Z26: =N26-V26 -> 978.4644 | AA26: =IF(N26-W26<0,0,N26-W26) -> 700.18904 | AB26: =N26-X26 -> 1184.3882 | AC26: =N26/$C$68 -> 2.2596687 | AD26: =((((0.6)*($C$47)*(9.81)*(COS(0))*(($D$21)-(0.02)*(($C$21)-($C$37))))/($C$16))/(((1)-((0.6)*($C$21)))/($C$16)))*(10^-3) -> 2.0334491 | AE26: =((((0.68)*($C$47)*(9.81)*(COS(0))*(($D$21)-(0.05)*(($C$21)-($C$37))))/($C$16))/(((1)-((0.68)*($C$21)))/($C$16)))*(10^-3) -> 2.3693106 | AF26: =((((0.55)*($C$47)*(9.81)*(COS(0))*(($D$21)-(0.1)*(($C$21)-($C$37))))/($C$16))/(((1)-((0.55)*($C$21)))/($C$16)))*(10^-3) -> 1.8207441 | AG26: =((((0.85)*($C$47)*(9.81)*(COS(0))*(($D$21)-(0.013)*(($C$21)-($C$37))))/($C$16))/(((1)-((0.85)*($C$21)))/($C$16)))*(10^-3) -> 3.172205 | AH26: =0.6*9.81 -> 5.886 | AI26: =0.68*9.81 -> 6.6708 | AJ26: =0.55*9.81 -> 5.3955 | AK26: =0.85*9.81 -> 8.3385
B27: FRONTAL AERO AREA | C27: =(C18-C19)*C17 -> 2.178 | D27: m² | H27: 6250 | I27: =I28-0.75 -> 17.25 | J27: =I27*0.7457*1000 -> 12863.325 | K27: =K26-0.6 -> 17.620665 | L27: =((($H27/$F$52)*($C$58))/(60))*2.24*0.44704 -> 9.6179656 | M27: =L27*2.237 -> 21.515389 | N27: =(J27)/L27 -> 1337.4268 | O27: =(0.5*$C$71*$C$28*$C$27*L27^2) -> 82.293061 | P27: =0.02*9.81*($C$41+$C$42+$C$43+$C$44+$C$45+$C$46) -> 111.31015 | Q27: =0.05*9.81*($C$41+$C$42+$C$43+$C$44+$C$45+$C$46) -> 278.27537 | R27: =0.1*9.81*($C$41+$C$42+$C$43+$C$44+$C$45+$C$46) -> 556.55073 | S27: =0.013*9.81*$C$47 -> 72.351595 | T27: =9.81*SIN(RADIANS(0))*($C$47) -> 0 | U27: =O27+P27+T27 -> 193.60321 | V27: =O27+Q27+T27 -> 360.56843 | W27: =O27+R27+T27 -> 638.84379 | X27: =O27+S27+T27 -> 154.64466 | Y27: =N27-U27 -> 1143.8236 | Z27: =N27-V27 -> 976.85838 | AA27: =IF(N27-W27<0,0,N27-W27) -> 698.58301 | AB27: =N27-X27 -> 1182.7821 | AC27: =N27/$C$68 -> 2.2678857 | AD27: =((((0.6)*($C$47)*(9.81)*(COS(0))*(($D$21)-(0.02)*(($C$21)-($C$37))))/($C$16))/(((1)-((0.6)*($C$21)))/($C$16)))*(10^-3) -> 2.0334491 | AE27: =((((0.68)*($C$47)*(9.81)*(COS(0))*(($D$21)-(0.05)*(($C$21)-($C$37))))/($C$16))/(((1)-((0.68)*($C$21)))/($C$16)))*(10^-3) -> 2.3693106 | AF27: =((((0.55)*($C$47)*(9.81)*(COS(0))*(($D$21)-(0.1)*(($C$21)-($C$37))))/($C$16))/(((1)-((0.55)*($C$21)))/($C$16)))*(10^-3) -> 1.8207441 | AG27: =((((0.85)*($C$47)*(9.81)*(COS(0))*(($D$21)-(0.013)*(($C$21)-($C$37))))/($C$16))/(((1)-((0.85)*($C$21)))/($C$16)))*(10^-3) -> 3.172205 | AH27: =0.6*9.81 -> 5.886 | AI27: =0.68*9.81 -> 6.6708 | AJ27: =0.55*9.81 -> 5.3955 | AK27: =0.85*9.81 -> 8.3385
B28: COEFFICIENT OF DRAG | C28: 0.7 | D28: Value Taken from Book | H28: 6500 | I28: 18 | J28: =I28*0.7457*1000 -> 13422.6 | K28: =K27-0.6 -> 17.020665 | L28: =((($H28/$F$52)*($C$58))/(60))*2.24*0.44704 -> 10.002684 | M28: =L28*2.237 -> 22.376005 | N28: =(J28)/L28 -> 1341.8998 | O28: =(0.5*$C$71*$C$28*$C$27*L28^2) -> 89.008175 | P28: =0.02*9.81*($C$41+$C$42+$C$43+$C$44+$C$45+$C$46) -> 111.31015 | Q28: =0.05*9.81*($C$41+$C$42+$C$43+$C$44+$C$45+$C$46) -> 278.27537 | R28: =0.1*9.81*($C$41+$C$42+$C$43+$C$44+$C$45+$C$46) -> 556.55073 | S28: =0.013*9.81*$C$47 -> 72.351595 | T28: =9.81*SIN(RADIANS(0))*($C$47) -> 0 | U28: =O28+P28+T28 -> 200.31832 | V28: =O28+Q28+T28 -> 367.28354 | W28: =O28+R28+T28 -> 645.5589 | X28: =O28+S28+T28 -> 161.35977 | Y28: =N28-U28 -> 1141.5815 | Z28: =N28-V28 -> 974.61626 | AA28: =IF(N28-W28<0,0,N28-W28) -> 696.3409 | AB28: =N28-X28 -> 1180.54 | AC28: =N28/$C$68 -> 2.2754706 | AD28: =((((0.6)*($C$47)*(9.81)*(COS(0))*(($D$21)-(0.02)*(($C$21)-($C$37))))/($C$16))/(((1)-((0.6)*($C$21)))/($C$16)))*(10^-3) -> 2.0334491 | AE28: =((((0.68)*($C$47)*(9.81)*(COS(0))*(($D$21)-(0.05)*(($C$21)-($C$37))))/($C$16))/(((1)-((0.68)*($C$21)))/($C$16)))*(10^-3) -> 2.3693106 | AF28: =((((0.55)*($C$47)*(9.81)*(COS(0))*(($D$21)-(0.1)*(($C$21)-($C$37))))/($C$16))/(((1)-((0.55)*($C$21)))/($C$16)))*(10^-3) -> 1.8207441 | AG28: =((((0.85)*($C$47)*(9.81)*(COS(0))*(($D$21)-(0.013)*(($C$21)-($C$37))))/($C$16))/(((1)-((0.85)*($C$21)))/($C$16)))*(10^-3) -> 3.172205 | AH28: =0.6*9.81 -> 5.886 | AI28: =0.68*9.81 -> 6.6708 | AJ28: =0.55*9.81 -> 5.3955 | AK28: =0.85*9.81 -> 8.3385
H29: RPM | I29: POWER | J29: POWER | K29: TORQUE | L29: SECOND
B30: WHEEL DIMENSIONS | I30: BHP | J30: W | K30: NM | L30: VELOCITY | M30: VELOCITY | N30: FORCE | O30: Aero Drag Force | P30: Rolling Resistance (Gravel) | Q30: Rolling Resistance (Dirt) | R30: Rolling Resistance (Grass) | S30: Rolling Resistance (Ashphalt) | T30: Gradient Resistance | U30: Total Resistant Forces (Gravel) | V30: Total Resistant Forces (Dirt) | W30: Total Resistant Forces (Grass) | X30: Total Resistant Forces (Ashphalt) | Y30: Net Driving Force (Gravel) | Z30: Net Driving Force (Dirt) | AA30: Net Driving Force (Grass) | AB30: Net Driving Force (Ashphalt) | AC30: Available Engine Acceleration | AD30: Traction Limited Acceleration (Gravel) | AE30: Traction Limited Acceleration (Dirt) | AF30: Traction Limited Acceleration (Grass) | AG30: Traction Limited Acceleration (Ashphalt) | AH30: Traction Limited Deceleration (Gravel) | AI30: Traction Limited Deceleration (Dirt) | AJ30: Traction Limited Deceleration (Grass) | AK30: Traction Limited Deceleration (Ashphalt)
B31: FRONT WHEEL SIZE | C31: 12 | D31: in | L31: m/s | M31: mph | N31: N | O31: N | P31: N | Q31: N | R31: N | S31: N | T31: N | U31: N | V31: N | W31: N | X31: N | Y31: N | Z31: N | AA31: N | AB31: N | AC31: m/s² | AD31: m/s² | AE31: m/s² | AF31: m/s² | AG31: m/s² | AH31: m/s² | AI31: m/s² | AJ31: m/s² | AK31: m/s²
B32: FRONT WHEEL SIZE | C32: =C31/39.37 -> 0.30480061 | D32: m | H32: 750 | I32: =I33-0.75 -> 0.75 | J32: =I32*0.7457*1000 -> 559.275 | K32: =J32/((2*PI()*H32)/60) -> 7.1209105 | L32: =((($H5/$F$53)*($C$58))/(60))*2.24*0.44704 -> 1.374677 | M32: =L32*2.237 -> 3.0751524 | N32: =J5/L32 -> 406.84103 | O32: =(0.5*$C$71*$C$28*$C$27*L32^2) -> 1.6811176 | P32: =0.02*9.81*($C$41+$C$42+$C$43+$C$44+$C$45+$C$46) -> 111.31015 | Q32: =0.05*9.81*($C$41+$C$42+$C$43+$C$44+$C$45+$C$46) -> 278.27537 | R32: =0.1*9.81*($C$41+$C$42+$C$43+$C$44+$C$45+$C$46) -> 556.55073 | S32: =0.013*9.81*($C$41+$C$42+$C$43+$C$44+$C$45+$C$46) -> 72.351595 | T32: =9.81*SIN(RADIANS(0))*($C$47) -> 0 | U32: =O32+P32+T32 -> 112.99126 | V32: =O32+Q32+T32 -> 279.95648 | W32: =O32+R32+T32 -> 558.23185 | X32: =O32+S32+T32 -> 74.032712 | Y32: =N32-U32 -> 293.84977 | Z32: =N32-V32 -> 126.88455 | AA32: =IF(N32-W32<0,0,N32-W32) -> 0 | AB32: =N32-X32 -> 332.80832 | AC32: =N32/$C$69 -> 0.69270733 | AD32: =((((0.6)*($C$47)*(9.81)*(COS(0))*(($D$21)-(0.02)*(($C$21)-($C$37))))/($C$16))/(((1)-((0.6)*($C$21)))/($C$16)))*(10^-3) -> 2.0334491 | AE32: =((((0.68)*($C$47)*(9.81)*(COS(0))*(($D$21)-(0.05)*(($C$21)-($C$37))))/($C$16))/(((1)-((0.68)*($C$21)))/($C$16)))*(10^-3) -> 2.3693106 | AF32: =((((0.55)*($C$47)*(9.81)*(COS(0))*(($D$21)-(0.1)*(($C$21)-($C$37))))/($C$16))/(((1)-((0.55)*($C$21)))/($C$16)))*(10^-3) -> 1.8207441 | AG32: =((((0.85)*($C$47)*(9.81)*(COS(0))*(($D$21)-(0.013)*(($C$21)-($C$37))))/($C$16))/(((1)-((0.85)*($C$21)))/($C$16)))*(10^-3) -> 3.172205 | AH32: =0.6*9.81 -> 5.886 | AI32: =0.68*9.81 -> 6.6708 | AJ32: =0.55*9.81 -> 5.3955 | AK32: =0.85*9.81 -> 8.3385
B33: FRONT TYRE SIDE WALL | C33: 0.1524 | D33: m | H33: 1000 | I33: =I34-0.75 -> 1.5 | J33: =I33*0.7457*1000 -> 1118.55 | K33: =J33/((2*PI()*H33)/60) -> 10.681366 | L33: =((($H6/$F$53)*($C$58))/(60))*2.24*0.44704 -> 1.8329026 | M33: =L33*2.237 -> 4.1002032 | N33: =J6/L33 -> 610.26155 | O33: =(0.5*$C$71*$C$28*$C$27*L33^2) -> 2.9886535 | P33: =0.02*9.81*($C$41+$C$42+$C$43+$C$44+$C$45+$C$46) -> 111.31015 | Q33: =0.05*9.81*($C$41+$C$42+$C$43+$C$44+$C$45+$C$46) -> 278.27537 | R33: =0.1*9.81*($C$41+$C$42+$C$43+$C$44+$C$45+$C$46) -> 556.55073 | S33: =0.013*9.81*($C$41+$C$42+$C$43+$C$44+$C$45+$C$46) -> 72.351595 | T33: =9.81*SIN(RADIANS(0))*($C$47) -> 0 | U33: =O33+P33+T33 -> 114.2988 | V33: =O33+Q33+T33 -> 281.26402 | W33: =O33+R33+T33 -> 559.53938 | X33: =O33+S33+T33 -> 75.340248 | Y33: =N33-U33 -> 495.96275 | Z33: =N33-V33 -> 328.99753 | AA33: =IF(N33-W33<0,0,N33-W33) -> 50.722167 | AB33: =N33-X33 -> 534.9213 | AC33: =N33/$C$69 -> 1.039061 | AD33: =((((0.6)*($C$47)*(9.81)*(COS(0))*(($D$21)-(0.02)*(($C$21)-($C$37))))/($C$16))/(((1)-((0.6)*($C$21)))/($C$16)))*(10^-3) -> 2.0334491 | AE33: =((((0.68)*($C$47)*(9.81)*(COS(0))*(($D$21)-(0.05)*(($C$21)-($C$37))))/($C$16))/(((1)-((0.68)*($C$21)))/($C$16)))*(10^-3) -> 2.3693106 | AF33: =((((0.55)*($C$47)*(9.81)*(COS(0))*(($D$21)-(0.1)*(($C$21)-($C$37))))/($C$16))/(((1)-((0.55)*($C$21)))/($C$16)))*(10^-3) -> 1.8207441 | AG33: =((((0.85)*($C$47)*(9.81)*(COS(0))*(($D$21)-(0.013)*(($C$21)-($C$37))))/($C$16))/(((1)-((0.85)*($C$21)))/($C$16)))*(10^-3) -> 3.172205 | AH33: =0.6*9.81 -> 5.886 | AI33: =0.68*9.81 -> 6.6708 | AJ33: =0.55*9.81 -> 5.3955 | AK33: =0.85*9.81 -> 8.3385
B34: REAR WHEEL SIZE | C34: 10 | D34: in | H34: 1250 | I34: =I35-0.75 -> 2.25 | J34: =I34*0.7457*1000 -> 1677.825 | K34: =J34/((2*PI()*H34)/60) -> 12.817639 | L34: =((($H7/$F$53)*($C$58))/(60))*2.24*0.44704 -> 2.2911283 | M34: =L34*2.237 -> 5.125254 | N34: =J7/L34 -> 732.31386 | O34: =(0.5*$C$71*$C$28*$C$27*L34^2) -> 4.6697711 | P34: =0.02*9.81*($C$41+$C$42+$C$43+$C$44+$C$45+$C$46) -> 111.31015 | Q34: =0.05*9.81*($C$41+$C$42+$C$43+$C$44+$C$45+$C$46) -> 278.27537 | R34: =0.1*9.81*($C$41+$C$42+$C$43+$C$44+$C$45+$C$46) -> 556.55073 | S34: =0.013*9.81*($C$41+$C$42+$C$43+$C$44+$C$45+$C$46) -> 72.351595 | T34: =9.81*SIN(RADIANS(0))*($C$47) -> 0 | U34: =O34+P34+T34 -> 115.97992 | V34: =O34+Q34+T34 -> 282.94514 | W34: =O34+R34+T34 -> 561.2205 | X34: =O34+S34+T34 -> 77.021366 | Y34: =N34-U34 -> 616.33394 | Z34: =N34-V34 -> 449.36872 | AA34: =IF(N34-W34<0,0,N34-W34) -> 171.09336 | AB34: =N34-X34 -> 655.29249 | AC34: =N34/$C$69 -> 1.2468732 | AD34: =((((0.6)*($C$47)*(9.81)*(COS(0))*(($D$21)-(0.02)*(($C$21)-($C$37))))/($C$16))/(((1)-((0.6)*($C$21)))/($C$16)))*(10^-3) -> 2.0334491 | AE34: =((((0.68)*($C$47)*(9.81)*(COS(0))*(($D$21)-(0.05)*(($C$21)-($C$37))))/($C$16))/(((1)-((0.68)*($C$21)))/($C$16)))*(10^-3) -> 2.3693106 | AF34: =((((0.55)*($C$47)*(9.81)*(COS(0))*(($D$21)-(0.1)*(($C$21)-($C$37))))/($C$16))/(((1)-((0.55)*($C$21)))/($C$16)))*(10^-3) -> 1.8207441 | AG34: =((((0.85)*($C$47)*(9.81)*(COS(0))*(($D$21)-(0.013)*(($C$21)-($C$37))))/($C$16))/(((1)-((0.85)*($C$21)))/($C$16)))*(10^-3) -> 3.172205 | AH34: =0.6*9.81 -> 5.886 | AI34: =0.68*9.81 -> 6.6708 | AJ34: =0.55*9.81 -> 5.3955 | AK34: =0.85*9.81 -> 8.3385
B35: REAR WHEEL SIZE | C35: =C34/39.37 -> 0.25400051 | D35: m | H35: 1500 | I35: =I36-0.75 -> 3 | J35: =I35*0.7457*1000 -> 2237.1 | K35: =J35/((2*PI()*H35)/60) -> 14.241821 | L35: =((($H8/$F$53)*($C$58))/(60))*2.24*0.44704 -> 2.7493539 | M35: =L35*2.237 -> 6.1503048 | N35: =J8/L35 -> 813.68207 | O35: =(0.5*$C$71*$C$28*$C$27*L35^2) -> 6.7244703 | P35: =0.02*9.81*($C$41+$C$42+$C$43+$C$44+$C$45+$C$46) -> 111.31015 | Q35: =0.05*9.81*($C$41+$C$42+$C$43+$C$44+$C$45+$C$46) -> 278.27537 | R35: =0.1*9.81*($C$41+$C$42+$C$43+$C$44+$C$45+$C$46) -> 556.55073 | S35: =0.013*9.81*($C$41+$C$42+$C$43+$C$44+$C$45+$C$46) -> 72.351595 | T35: =9.81*SIN(RADIANS(0))*($C$47) -> 0 | U35: =O35+P35+T35 -> 118.03462 | V35: =O35+Q35+T35 -> 284.99984 | W35: =O35+R35+T35 -> 563.2752 | X35: =O35+S35+T35 -> 79.076065 | Y35: =N35-U35 -> 695.64745 | Z35: =N35-V35 -> 528.68223 | AA35: =IF(N35-W35<0,0,N35-W35) -> 250.40687 | AB35: =N35-X35 -> 734.606 | AC35: =N35/$C$69 -> 1.3854147 | AD35: =((((0.6)*($C$47)*(9.81)*(COS(0))*(($D$21)-(0.02)*(($C$21)-($C$37))))/($C$16))/(((1)-((0.6)*($C$21)))/($C$16)))*(10^-3) -> 2.0334491 | AE35: =((((0.68)*($C$47)*(9.81)*(COS(0))*(($D$21)-(0.05)*(($C$21)-($C$37))))/($C$16))/(((1)-((0.68)*($C$21)))/($C$16)))*(10^-3) -> 2.3693106 | AF35: =((((0.55)*($C$47)*(9.81)*(COS(0))*(($D$21)-(0.1)*(($C$21)-($C$37))))/($C$16))/(((1)-((0.55)*($C$21)))/($C$16)))*(10^-3) -> 1.8207441 | AG35: =((((0.85)*($C$47)*(9.81)*(COS(0))*(($D$21)-(0.013)*(($C$21)-($C$37))))/($C$16))/(((1)-((0.85)*($C$21)))/($C$16)))*(10^-3) -> 3.172205 | AH35: =0.6*9.81 -> 5.886 | AI35: =0.68*9.81 -> 6.6708 | AJ35: =0.55*9.81 -> 5.3955 | AK35: =0.85*9.81 -> 8.3385
B36: REAR TYRE SIDE WALL | C36: 0.1397 | D36: m | H36: 1750 | I36: =I37-0.75 -> 3.75 | J36: =I36*0.7457*1000 -> 2796.375 | K36: =J36/((2*PI()*H36)/60) -> 15.259094 | L36: =((($H9/$F$53)*($C$58))/(60))*2.24*0.44704 -> 3.2075796 | M36: =L36*2.237 -> 7.1753556 | N36: =J9/L36 -> 871.80221 | O36: =(0.5*$C$71*$C$28*$C$27*L36^2) -> 9.1527513 | P36: =0.02*9.81*($C$41+$C$42+$C$43+$C$44+$C$45+$C$46) -> 111.31015 | Q36: =0.05*9.81*($C$41+$C$42+$C$43+$C$44+$C$45+$C$46) -> 278.27537 | R36: =0.1*9.81*($C$41+$C$42+$C$43+$C$44+$C$45+$C$46) -> 556.55073 | S36: =0.013*9.81*($C$41+$C$42+$C$43+$C$44+$C$45+$C$46) -> 72.351595 | T36: =9.81*SIN(RADIANS(0))*($C$47) -> 0 | U36: =O36+P36+T36 -> 120.4629 | V36: =O36+Q36+T36 -> 287.42812 | W36: =O36+R36+T36 -> 565.70348 | X36: =O36+S36+T36 -> 81.504346 | Y36: =N36-U36 -> 751.33932 | Z36: =N36-V36 -> 584.3741 | AA36: =IF(N36-W36<0,0,N36-W36) -> 306.09873 | AB36: =N36-X36 -> 790.29787 | AC36: =N36/$C$69 -> 1.4843729 | AD36: =((((0.6)*($C$47)*(9.81)*(COS(0))*(($D$21)-(0.02)*(($C$21)-($C$37))))/($C$16))/(((1)-((0.6)*($C$21)))/($C$16)))*(10^-3) -> 2.0334491 | AE36: =((((0.68)*($C$47)*(9.81)*(COS(0))*(($D$21)-(0.05)*(($C$21)-($C$37))))/($C$16))/(((1)-((0.68)*($C$21)))/($C$16)))*(10^-3) -> 2.3693106 | AF36: =((((0.55)*($C$47)*(9.81)*(COS(0))*(($D$21)-(0.1)*(($C$21)-($C$37))))/($C$16))/(((1)-((0.55)*($C$21)))/($C$16)))*(10^-3) -> 1.8207441 | AG36: =((((0.85)*($C$47)*(9.81)*(COS(0))*(($D$21)-(0.013)*(($C$21)-($C$37))))/($C$16))/(((1)-((0.85)*($C$21)))/($C$16)))*(10^-3) -> 3.172205 | AH36: =0.6*9.81 -> 5.886 | AI36: =0.68*9.81 -> 6.6708 | AJ36: =0.55*9.81 -> 5.3955 | AK36: =0.85*9.81 -> 8.3385
B37: ROLLING RADIUS | C37: =(C35/2)+C36 -> 0.26670025 | D37: m | H37: 2000 | I37: =I38-0.75 -> 4.5 | J37: =I37*0.7457*1000 -> 3355.65 | K37: =J37/((2*PI()*H37)/60) -> 16.022049 | L37: =((($H10/$F$53)*($C$58))/(60))*2.24*0.44704 -> 3.6658053 | M37: =L37*2.237 -> 8.2004064 | N37: =J10/L37 -> 915.39233 | O37: =(0.5*$C$71*$C$28*$C$27*L37^2) -> 11.954614 | P37: =0.02*9.81*($C$41+$C$42+$C$43+$C$44+$C$45+$C$46) -> 111.31015 | Q37: =0.05*9.81*($C$41+$C$42+$C$43+$C$44+$C$45+$C$46) -> 278.27537 | R37: =0.1*9.81*($C$41+$C$42+$C$43+$C$44+$C$45+$C$46) -> 556.55073 | S37: =0.013*9.81*($C$41+$C$42+$C$43+$C$44+$C$45+$C$46) -> 72.351595 | T37: =9.81*SIN(RADIANS(0))*($C$47) -> 0 | U37: =O37+P37+T37 -> 123.26476 | V37: =O37+Q37+T37 -> 290.22998 | W37: =O37+R37+T37 -> 568.50534 | X37: =O37+S37+T37 -> 84.306209 | Y37: =N37-U37 -> 792.12757 | Z37: =N37-V37 -> 625.16235 | AA37: =IF(N37-W37<0,0,N37-W37) -> 346.88698 | AB37: =N37-X37 -> 831.08612 | AC37: =N37/$C$69 -> 1.5585915 | AD37: =((((0.6)*($C$47)*(9.81)*(COS(0))*(($D$21)-(0.02)*(($C$21)-($C$37))))/($C$16))/(((1)-((0.6)*($C$21)))/($C$16)))*(10^-3) -> 2.0334491 | AE37: =((((0.68)*($C$47)*(9.81)*(COS(0))*(($D$21)-(0.05)*(($C$21)-($C$37))))/($C$16))/(((1)-((0.68)*($C$21)))/($C$16)))*(10^-3) -> 2.3693106 | AF37: =((((0.55)*($C$47)*(9.81)*(COS(0))*(($D$21)-(0.1)*(($C$21)-($C$37))))/($C$16))/(((1)-((0.55)*($C$21)))/($C$16)))*(10^-3) -> 1.8207441 | AG37: =((((0.85)*($C$47)*(9.81)*(COS(0))*(($D$21)-(0.013)*(($C$21)-($C$37))))/($C$16))/(((1)-((0.85)*($C$21)))/($C$16)))*(10^-3) -> 3.172205 | AH37: =0.6*9.81 -> 5.886 | AI37: =0.68*9.81 -> 6.6708 | AJ37: =0.55*9.81 -> 5.3955 | AK37: =0.85*9.81 -> 8.3385
B38: ROLLING CIRCUMFERENCE | C38: =C37*PI()*2 -> 1.6757271 | D38: m | H38: 2250 | I38: =I39-0.75 -> 5.25 | J38: =I38*0.7457*1000 -> 3914.925 | K38: =J38/((2*PI()*H38)/60) -> 16.615458 | L38: =((($H11/$F$53)*($C$58))/(60))*2.24*0.44704 -> 4.1240309 | M38: =L38*2.237 -> 9.2254572 | N38: =J11/L38 -> 949.29574 | O38: =(0.5*$C$71*$C$28*$C$27*L38^2) -> 15.130058 | P38: =0.02*9.81*($C$41+$C$42+$C$43+$C$44+$C$45+$C$46) -> 111.31015 | Q38: =0.05*9.81*($C$41+$C$42+$C$43+$C$44+$C$45+$C$46) -> 278.27537 | R38: =0.1*9.81*($C$41+$C$42+$C$43+$C$44+$C$45+$C$46) -> 556.55073 | S38: =0.013*9.81*($C$41+$C$42+$C$43+$C$44+$C$45+$C$46) -> 72.351595 | T38: =9.81*SIN(RADIANS(0))*($C$47) -> 0 | U38: =O38+P38+T38 -> 126.4402 | V38: =O38+Q38+T38 -> 293.40542 | W38: =O38+R38+T38 -> 571.68079 | X38: =O38+S38+T38 -> 87.481653 | Y38: =N38-U38 -> 822.85554 | Z38: =N38-V38 -> 655.89032 | AA38: =IF(N38-W38<0,0,N38-W38) -> 377.61496 | AB38: =N38-X38 -> 861.81409 | AC38: =N38/$C$69 -> 1.6163171 | AD38: =((((0.6)*($C$47)*(9.81)*(COS(0))*(($D$21)-(0.02)*(($C$21)-($C$37))))/($C$16))/(((1)-((0.6)*($C$21)))/($C$16)))*(10^-3) -> 2.0334491 | AE38: =((((0.68)*($C$47)*(9.81)*(COS(0))*(($D$21)-(0.05)*(($C$21)-($C$37))))/($C$16))/(((1)-((0.68)*($C$21)))/($C$16)))*(10^-3) -> 2.3693106 | AF38: =((((0.55)*($C$47)*(9.81)*(COS(0))*(($D$21)-(0.1)*(($C$21)-($C$37))))/($C$16))/(((1)-((0.55)*($C$21)))/($C$16)))*(10^-3) -> 1.8207441 | AG38: =((((0.85)*($C$47)*(9.81)*(COS(0))*(($D$21)-(0.013)*(($C$21)-($C$37))))/($C$16))/(((1)-((0.85)*($C$21)))/($C$16)))*(10^-3) -> 3.172205 | AH38: =0.6*9.81 -> 5.886 | AI38: =0.68*9.81 -> 6.6708 | AJ38: =0.55*9.81 -> 5.3955 | AK38: =0.85*9.81 -> 8.3385
H39: 2500 | I39: =I40-0.75 -> 6 | J39: =I39*0.7457*1000 -> 4474.2 | K39: =J39/((2*PI()*H39)/60) -> 17.090185 | L39: =((($H12/$F$53)*($C$58))/(60))*2.24*0.44704 -> 4.5822566 | M39: =L39*2.237 -> 10.250508 | N39: =J12/L39 -> 976.41848 | O39: =(0.5*$C$71*$C$28*$C$27*L39^2) -> 18.679084 | P39: =0.02*9.81*($C$41+$C$42+$C$43+$C$44+$C$45+$C$46) -> 111.31015 | Q39: =0.05*9.81*($C$41+$C$42+$C$43+$C$44+$C$45+$C$46) -> 278.27537 | R39: =0.1*9.81*($C$41+$C$42+$C$43+$C$44+$C$45+$C$46) -> 556.55073 | S39: =0.013*9.81*($C$41+$C$42+$C$43+$C$44+$C$45+$C$46) -> 72.351595 | T39: =9.81*SIN(RADIANS(0))*($C$47) -> 0 | U39: =O39+P39+T39 -> 129.98923 | V39: =O39+Q39+T39 -> 296.95445 | W39: =O39+R39+T39 -> 575.22981 | X39: =O39+S39+T39 -> 91.030679 | Y39: =N39-U39 -> 846.42925 | Z39: =N39-V39 -> 679.46403 | AA39: =IF(N39-W39<0,0,N39-W39) -> 401.18867 | AB39: =N39-X39 -> 885.3878 | AC39: =N39/$C$69 -> 1.6624976 | AD39: =((((0.6)*($C$47)*(9.81)*(COS(0))*(($D$21)-(0.02)*(($C$21)-($C$37))))/($C$16))/(((1)-((0.6)*($C$21)))/($C$16)))*(10^-3) -> 2.0334491 | AE39: =((((0.68)*($C$47)*(9.81)*(COS(0))*(($D$21)-(0.05)*(($C$21)-($C$37))))/($C$16))/(((1)-((0.68)*($C$21)))/($C$16)))*(10^-3) -> 2.3693106 | AF39: =((((0.55)*($C$47)*(9.81)*(COS(0))*(($D$21)-(0.1)*(($C$21)-($C$37))))/($C$16))/(((1)-((0.55)*($C$21)))/($C$16)))*(10^-3) -> 1.8207441 | AG39: =((((0.85)*($C$47)*(9.81)*(COS(0))*(($D$21)-(0.013)*(($C$21)-($C$37))))/($C$16))/(((1)-((0.85)*($C$21)))/($C$16)))*(10^-3) -> 3.172205 | AH39: =0.6*9.81 -> 5.886 | AI39: =0.68*9.81 -> 6.6708 | AJ39: =0.55*9.81 -> 5.3955 | AK39: =0.85*9.81 -> 8.3385
B40: WEIGHT | H40: 2750 | I40: =I41-0.75 -> 6.75 | J40: =I40*0.7457*1000 -> 5033.475 | K40: =J40/((2*PI()*H40)/60) -> 17.478598 | L40: =((($H13/$F$53)*($C$58))/(60))*2.24*0.44704 -> 5.0404822 | M40: =L40*2.237 -> 11.275559 | N40: =J13/L40 -> 998.60981 | O40: =(0.5*$C$71*$C$28*$C$27*L40^2) -> 22.601692 | P40: =0.02*9.81*($C$41+$C$42+$C$43+$C$44+$C$45+$C$46) -> 111.31015 | Q40: =0.05*9.81*($C$41+$C$42+$C$43+$C$44+$C$45+$C$46) -> 278.27537 | R40: =0.1*9.81*($C$41+$C$42+$C$43+$C$44+$C$45+$C$46) -> 556.55073 | S40: =0.013*9.81*($C$41+$C$42+$C$43+$C$44+$C$45+$C$46) -> 72.351595 | T40: =9.81*SIN(RADIANS(0))*($C$47) -> 0 | U40: =O40+P40+T40 -> 133.91184 | V40: =O40+Q40+T40 -> 300.87706 | W40: =O40+R40+T40 -> 579.15242 | X40: =O40+S40+T40 -> 94.953287 | Y40: =N40-U40 -> 864.69797 | Z40: =N40-V40 -> 697.73275 | AA40: =IF(N40-W40<0,0,N40-W40) -> 419.45739 | AB40: =N40-X40 -> 903.65652 | AC40: =N40/$C$69 -> 1.7002816 | AD40: =((((0.6)*($C$47)*(9.81)*(COS(0))*(($D$21)-(0.02)*(($C$21)-($C$37))))/($C$16))/(((1)-((0.6)*($C$21)))/($C$16)))*(10^-3) -> 2.0334491 | AE40: =((((0.68)*($C$47)*(9.81)*(COS(0))*(($D$21)-(0.05)*(($C$21)-($C$37))))/($C$16))/(((1)-((0.68)*($C$21)))/($C$16)))*(10^-3) -> 2.3693106 | AF40: =((((0.55)*($C$47)*(9.81)*(COS(0))*(($D$21)-(0.1)*(($C$21)-($C$37))))/($C$16))/(((1)-((0.55)*($C$21)))/($C$16)))*(10^-3) -> 1.8207441 | AG40: =((((0.85)*($C$47)*(9.81)*(COS(0))*(($D$21)-(0.013)*(($C$21)-($C$37))))/($C$16))/(((1)-((0.85)*($C$21)))/($C$16)))*(10^-3) -> 3.172205 | AH40: =0.6*9.81 -> 5.886 | AI40: =0.68*9.81 -> 6.6708 | AJ40: =0.55*9.81 -> 5.3955 | AK40: =0.85*9.81 -> 8.3385
B41: CURB WEIGHT | C41: 365 | D41: kg | H41: 3000 | I41: =I42-0.75 -> 7.5 | J41: =I41*0.7457*1000 -> 5592.75 | K41: =J41/((2*PI()*H41)/60) -> 17.802276 | L41: =((($H14/$F$53)*($C$58))/(60))*2.24*0.44704 -> 5.4987079 | M41: =L41*2.237 -> 12.30061 | N41: =J14/L41 -> 1017.1026 | O41: =(0.5*$C$71*$C$28*$C$27*L41^2) -> 26.897881 | P41: =0.02*9.81*($C$41+$C$42+$C$43+$C$44+$C$45+$C$46) -> 111.31015 | Q41: =0.05*9.81*($C$41+$C$42+$C$43+$C$44+$C$45+$C$46) -> 278.27537 | R41: =0.1*9.81*($C$41+$C$42+$C$43+$C$44+$C$45+$C$46) -> 556.55073 | S41: =0.013*9.81*($C$41+$C$42+$C$43+$C$44+$C$45+$C$46) -> 72.351595 | T41: =9.81*SIN(RADIANS(0))*($C$47) -> 0 | U41: =O41+P41+T41 -> 138.20803 | V41: =O41+Q41+T41 -> 305.17325 | W41: =O41+R41+T41 -> 583.44861 | X41: =O41+S41+T41 -> 99.249476 | Y41: =N41-U41 -> 878.89456 | Z41: =N41-V41 -> 711.92934 | AA41: =IF(N41-W41<0,0,N41-W41) -> 433.65397 | AB41: =N41-X41 -> 917.85311 | AC41: =N41/$C$69 -> 1.7317683 | AD41: =((((0.6)*($C$47)*(9.81)*(COS(0))*(($D$21)-(0.02)*(($C$21)-($C$37))))/($C$16))/(((1)-((0.6)*($C$21)))/($C$16)))*(10^-3) -> 2.0334491 | AE41: =((((0.68)*($C$47)*(9.81)*(COS(0))*(($D$21)-(0.05)*(($C$21)-($C$37))))/($C$16))/(((1)-((0.68)*($C$21)))/($C$16)))*(10^-3) -> 2.3693106 | AF41: =((((0.55)*($C$47)*(9.81)*(COS(0))*(($D$21)-(0.1)*(($C$21)-($C$37))))/($C$16))/(((1)-((0.55)*($C$21)))/($C$16)))*(10^-3) -> 1.8207441 | AG41: =((((0.85)*($C$47)*(9.81)*(COS(0))*(($D$21)-(0.013)*(($C$21)-($C$37))))/($C$16))/(((1)-((0.85)*($C$21)))/($C$16)))*(10^-3) -> 3.172205 | AH41: =0.6*9.81 -> 5.886 | AI41: =0.68*9.81 -> 6.6708 | AJ41: =0.55*9.81 -> 5.3955 | AK41: =0.85*9.81 -> 8.3385
...

Sheet Track Map
C2: Surface | D2: Distance | E2: Radius
B3: S1 | C3: Ashphalt | D3: 166.45 | E3: N/A
B4: T1 | C4: Ashphalt | D4: 12.71 | E4: 17.38
B5: S2 | C5: Ashphalt | D5: 47.27 | E5: N/A
B6: T2 | C6: Ashphalt | D6: 17.13 | E6: 5.45
B7: S3 | C7: Ashphalt | D7: 57.6 | E7: N/A
B8: T3 | C8: Ashphalt | D8: 13.89 | E8: 16.23
B9: S4 | C9: Ashphalt | D9: 16.29 | E9: N/A
B10: T4 | C10: Dirt | D10: 13.97 | E10: 8.89
B11: S5 | C11: Dirt | D11: 30.01 | E11: N/A
B12: T5 | C12: Dirt | D12: 12.1 | E12: 7.68
B13: S6 | C13: Dirt | D13: 16.26 | E13: N/A
B14: T6 | C14: Dirt | D14: 11.1 | E14: 6.74
B15: S7 | C15: Dirt | D15: 62.16 | E15: N/A
B16: T7 | C16: Dirt | D16: 10.6 | E16: 7.17
B17: S8 | C17: Dirt | D17: 38.61 | E17: N/A
B18: T8 | C18: Dirt | D18: 11.26 | E18: 4.73
B19: S9 | C19: Dirt | D19: 23.1 | E19: N/A
B20: T9 | C20: Dirt | D20: 14.87 | E20: 11.76
B21: S10 | C21: Grass | D21: 123.24 | E21: N/A
B22: T10 | C22: Grass | D22: 18.47 | E22: 4.31
B23: S11 | C23: Grass | D23: 40.85 | E23: N/A
B24: T11 | C24: Grass | D24: 13.6 | E24: 12.52
B25: S12 | C25: Grass | D25: 48.07 | E25: N/A
B26: T12 | C26: Gravel | D26: 44.98 | E26: 16
B27: T13 | C27: Gravel | D27: 54.61 | E27: 9.5
B28: S13 | C28: Gravel | D28: 39.64 | E28: N/A
B29: T14 | C29: Gravel | D29: 14.91 | E29: 4.16
B30: S14 | C30: Gravel | D30: 16.92 | E30: N/A
B31: T15 | C31: Gravel | D31: 6.53 | E31: 6.41
B32: S15 | C32: Gravel | D32: 28.18 | E32: N/A
B33: T16 | C33: Gravel | D33: 10.07 | E33: 9.21
B34: S16 | C34: Gravel | D34: 30.45 | E34: N/A
B35: T17 | C35: Ashphalt | D35: 14.46 | E35: 9.25
B36: Total Distance | D36: =SUM(D3:D35) -> 1080.36

Sheet BSFC
B2: BSFC (g/Kwh) | C2: RPM | D2: 500 | E2: 750 | F2: 1000 | G2: 1250 | H2: 1500 | I2: 1750 | J2: 2000 | K2: 2250 | L2: 2500 | M2: 2750 | N2: 3000 | O2: 3250 | P2: 3500 | Q2: 3750 | R2: 4000 | S2: 4250 | T2: 4500 | U2: 4750 | V2: 5000 | W2: 5250 | X2: 5500 | Y2: 5750 | Z2: 6000 | AA2: 6250 | AB2: 6500 | AC2: 6750 | AD2: 7000
B3: Torque Demand (Nm) | D3: 0 | E3: 0 | F3: 0 | G3: 0 | H3: 0 | I3: 0 | J3: 0 | K3: 0 | L3: 0 | M3: 0 | N3: 0 | O3: 0 | P3: 0 | Q3: 0 | R3: 0 | S3: 0 | T3: 0 | U3: 0 | V3: 0 | W3: 0 | X3: 0 | Y3: 0 | Z3: 0 | AA3: 0 | AB3: 0 | AC3: 0 | AD3: 0
B4: 22 | D4: 0 | E4: 0 | F4: 0 | G4: 0 | H4: 0 | I4: 0 | J4: 0 | K4: 0 | L4: 0 | M4: 0 | N4: 0 | O4: 0 | P4: 0 | Q4: 0 | R4: 0 | S4: 0 | T4: 0 | U4: 0 | V4: 0 | W4: 0 | X4: 497.30185 | Y4: 0 | Z4: 0 | AA4: 0 | AB4: 0 | AC4: 0 | AD4: 0
B5: 21 | D5: 0 | E5: 0 | F5: 0 | G5: 0 | H5: 0 | I5: 0 | J5: 0 | K5: 0 | L5: 0 | M5: 0 | N5: 0 | O5: 0 | P5: 0 | Q5: 0 | R5: 0 | S5: 0 | T5: 0 | U5: 0 | V5: 511.26203 | W5: 503.78011 | X5: 473.6401 | Y5: 499.54048 | Z5: 0 | AA5: 0 | AB5: 0 | AC5: 0 | AD5: 0
B6: 20 | D6: 0 | E6: 0 | F6: 0 | G6: 0 | H6: 0 | I6: 0 | J6: 0 | K6: 0 | L6: 0 | M6: 0 | N6: 0 | O6: 0 | P6: 0 | Q6: 0 | R6: 0 | S6: 0 | T6: 523.34402 | U6: 515.72614 | V6: 501.71229 | W6: 494.23037 | X6: 449.97835 | Y6: 475.87873 | Z6: 509.84171 | AA6: 0 | AB6: 0 | AC6: 0 | AD6: 0
