Workbook

Sheet VEHICLE
B2: VEHICLE | H2: RPM | I2: POWER | J2: POWER | K2: TORQUE | L2: FIRST
B3: NAME | C3: Renegade DX10-C | I3: BHP | J3: W | K3: NM | L3: VELOCITY | M3: VELOCITY | N3: FORCE | O3: Aero Drag Force | P3: Rolling Resistance (Gravel) | Q3: Rolling Resistance (Dirt) | R3: Rolling Resistance (Grass) | S3: Rolling Resistance (Ashphalt) | T3: Gradient Resistance | U3: Total Resistant Forces (Gravel) | V3: Total Resistant Forces (Dirt) | W3: Total Resistant Forces (Grass) | X3: Total Resistant Forces (Ashphalt) | Y3: Net Driving Force (Gravel) | Z3: Net Driving Force (Dirt) | AA3: Net Driving Force (Grass) | AB3: Net Driving Force (Ashphalt) | AC3: Available Engine Acceleration | AD3: Traction Limited Acceleration (Gravel) | AE3: Traction Limited Acceleration (Dirt) | AF3: Traction Limited Acceleration (Grass) | AG3: Traction Limited Acceleration (Ashphalt) | AH3: Traction Limited Deceleration (Gravel) | AI3: Traction Limited Deceleration (Dirt) | AJ3: Traction Limited Deceleration (Grass) | AK3: Traction Limited Deceleration (Ashphalt)
B4: ENGINE | C4: 4-Stroke Petrol ICE | L4: m/s | M4: mph | N4: N | O4: N | P4: N | Q4: N | R4: N | S4: N | T4: N | U4: N | V4: N | W4: N | X4: N | Y4: N | Z4: N | AA4: N | AB4: N | AC4: m/s² | AD4: m/s² | AE4: m/s² | AF4: m/s² | AG4: m/s² | AH4: m/s² | AI4: m/s² | AJ4: m/s² | AK4: m/s²
B5: TRANSMISSION | C5: Automatic CVT | H5: 750 | I5: =I6-0.75 -> 0.75 | J5: =I5*0.7457*1000 -> 559.275 | K5: =J5/((2*PI()*H5)/60) -> 7.1209105 | L5: =((($H5/$F$52)*($C$58))/(60))*2.24*0.44704 -> 1.1541559 | M5: =L5*2.237 -> 2.5818467 | N5: =(J5)/L5 -> 484.57493 | O5: =(0.5*$C$71*$C$28*$C$27*L5^2) -> 1.1850201 | P5: =0.02*9.81*($C$41+$C$42+$C$43+$C$44+$C$45+$C$46) -> 111.31015 | Q5: =0.05*9.81*($C$41+$C$42+$C$43+$C$44+$C$45+$C$46) -> 278.27537 | R5: =0.1*9.81*($C$41+$C$42+$C$43+$C$44+$C$45+$C$46) -> 556.55073 | S5: =0.013*9.81*$C$47 -> 72.351595 | T5: =9.81*SIN(RADIANS(0))*($C$47) -> 0 | U5: =O5+P5+T5 -> 112.49517 | V5: =O5+Q5+T5 -> 279.46039 | W5: =O5+R5+T5 -> 557.73575 | X5: =O5+S5+T5 -> 73.536615 | Y5: =N5-U5 -> 372.07976 | Z5: =N5-V5 -> 205.11454 | AA5: =IF(N5-W5<0,0,N5-W5) -> 0 | AB5: =N5-X5 -> 411.03831 | AC5: =N5/$C$68 -> 0.82169771 | AD5: =((((0.6)*($C$47)*(9.81)*(COS(0))*(($D$21)-(0.02)*(($C$21)-($C$37))))/($C$16))/(((1)-((0.6)*($C$21)))/($C$16)))*(10^-3) -> 2.0334491 | AE5: =((((0.68)*($C$47)*(9.81)*(COS(0))*(($D$21)-(0.05)*(($C$21)-($C$37))))/($C$16))/(((1)-((0.68)*($C$21)))/($C$16)))*(10^-3) -> 2.3693106 | AF5: =((((0.55)*($C$47)*(9.81)*(COS(0))*(($D$21)-(0.1)*(($C$21)-($C$37))))/($C$16))/(((1)-((0.55)*($C$21)))/($C$16)))*(10^-3) -> 1.8207441 | AG5: =((((0.85)*($C$47)*(9.81)*(COS(0))*(($D$21)-(0.013)*(($C$21)-($C$37))))/($C$16))/(((1)-((0.85)*($C$21)))/($C$16)))*(10^-3) -> 3.172205 | AH5: =0.6*9.81 -> 5.886 | AI5: =0.68*9.81 -> 6.6708 | AJ5: =0.55*9.81 -> 5.3955 | AK5: =0.85*9.81 -> 8.3385
B6: DRIVE | C6: CVT Clutch | H6: 1000 | I6: =I7-0.75 -> 1.5 | J6: =I6*0.7457*1000 -> 1118.55 | K6: =J6/((2*PI()*H6)/60) -> 10.681366 | L6: =((($H6/$F$52)*($C$58))/(60))*2.24*0.44704 -> 1.5388745 | M6: =L6*2.237 -> 3.4424623 | N6: =(J6)/L6 -> 726.86239 | O6: =(0.5*$C$71*$C$28*$C$27*L6^2) -> 2.1067024 | P6: =0.02*9.81*($C$41+$C$42+$C$43+$C$44+$C$45+$C$46) -> 111.31015 | Q6: =0.05*9.81*($C$41+$C$42+$C$43+$C$44+$C$45+$C$46) -> 278.27537 | R6: =0.1*9.81*($C$41+$C$42+$C$43+$C$44+$C$45+$C$46) -> 556.55073 | S6: =0.013*9.81*$C$47 -> 72.351595 | T6: =9.81*SIN(RADIANS(0))*($C$47) -> 0 | U6: =O6+P6+T6 -> 113.41685 | V6: =O6+Q6+T6 -> 280.38207 | W6: =O6+R6+T6 -> 558.65743 | X6: =O6+S6+T6 -> 74.458297 | Y6: =N6-U6 -> 613.44554 | Z6: =N6-V6 -> 446.48032 | AA6: =IF(N6-W6<0,0,N6-W6) -> 168.20496 | AB6: =N6-X6 -> 652.40409 | AC6: =N6/$C$68 -> 1.2325466 | AD6: =((((0.6)*($C$47)*(9.81)*(COS(0))*(($D$21)-(0.02)*(($C$21)-($C$37))))/($C$16))/(((1)-((0.6)*($C$21)))/($C$16)))*(10^-3) -> 2.0334491 | AE6: =((((0.68)*($C$47)*(9.81)*(COS(0))*(($D$21)-(0.05)*(($C$21)-($C$37))))/($C$16))/(((1)-((0.68)*($C$21)))/($C$16)))*(10^-3) -> 2.3693106 | AF6: =((((0.55)*($C$47)*(9.81)*(COS(0))*(($D$21)-(0.1)*(($C$21)-($C$37))))/($C$16))/(((1)-((0.55)*($C$21)))/($C$16)))*(10^-3) -> 1.8207441 | AG6: =((((0.85)*($C$47)*(9.81)*(COS(0))*(($D$21)-(0.013)*(($C$21)-($C$37))))/($C$16))/(((1)-((0.85)*($C$21)))/($C$16)))*(10^-3) -> 3.172205 | AH6: =0.6*9.81 -> 5.886 | AI6: =0.68*9.81 -> 6.6708 | AJ6: =0.55*9.81 -> 5.3955 | AK6: =0.85*9.81 -> 8.3385
B7: DIFFERENTIAL | C7: Locked Rear Axle | H7: 1250 | I7: =I8-0.75 -> 2.25 | J7: =I7*0.7457*1000 -> 1677.825 | K7: =J7/((2*PI()*H7)/60) -> 12.817639 | L7: =((($H7/$F$52)*($C$58))/(60))*2.24*0.44704 -> 1.9235931 | M7: =L7*2.237 -> 4.3030778 | N7: =(J7)/L7 -> 872.23487 | O7: =(0.5*$C$71*$C$28*$C$27*L7^2) -> 3.2917224 | P7: =0.02*9.81*($C$41+$C$42+$C$43+$C$44+$C$45+$C$46) -> 111.31015 | Q7: =0.05*9.81*($C$41+$C$42+$C$43+$C$44+$C$45+$C$46) -> 278.27537 | R7: =0.1*9.81*($C$41+$C$42+$C$43+$C$44+$C$45+$C$46) -> 556.55073 | S7: =0.013*9.81*$C$47 -> 72.351595 | T7: =9.81*SIN(RADIANS(0))*($C$47) -> 0 | U7: =O7+P7+T7 -> 114.60187 | V7: =O7+Q7+T7 -> 281.56709 | W7: =O7+R7+T7 -> 559.84245 | X7: =O7+S7+T7 -> 75.643317 | Y7: =N7-U7 -> 757.633 | Z7: =N7-V7 -> 590.66778 | AA7: =IF(N7-W7<0,0,N7-W7) -> 312.39242 | AB7: =N7-X7 -> 796.59155 | AC7: =N7/$C$68 -> 1.4790559 | AD7: =((((0.6)*($C$47)*(9.81)*(COS(0))*(($D$21)-(0.02)*(($C$21)-($C$37))))/($C$16))/(((1)-((0.6)*($C$21)))/($C$16)))*(10^-3) -> 2.0334491 | AE7: =((((0.68)*($C$47)*(9.81)*(COS(0))*(($D$21)-(0.05)*(($C$21)-($C$37))))/($C$16))/(((1)-((0.68)*($C$21)))/($C$16)))*(10^-3) -> 2.3693106 | AF7: =((((0.55)*($C$47)*(9.81)*(COS(0))*(($D$21)-(0.1)*(($C$21)-($C$37))))/($C$16))/(((1)-((0.55)*($C$21)))/($C$16)))*(10^-3) -> 1.8207441 | AG7: =((((0.85)*($C$47)*(9.81)*(COS(0))*(($D$21)-(0.013)*(($C$21)-($C$37))))/($C$16))/(((1)-((0.85)*($C$21)))/($C$16)))*(10^-3) -> 3.172205 | AH7: =0.6*9.81 -> 5.886 | AI7: =0.68*9.81 -> 6.6708 | AJ7: =0.55*9.81 -> 5.3955 | AK7: =0.85*9.81 -> 8.3385
H8: 1500 | I8: =I9-0.75 -> 3 | J8: =I8*0.7457*1000 -> 2237.1 | K8: =J8/((2*PI()*H8)/60) -> 14.241821 | L8: =((($H8/$F$52)*($C$58))/(60))*2.24*0.44704 -> 2.3083117 | M8: =L8*2.237 -> 5.1636934 | N8: =(J8)/L8 -> 969.14986 | O8: =(0.5*$C$71*$C$28*$C$27*L8^2) -> 4.7400803 | P8: =0.02*9.81*($C$41+$C$42+$C$43+$C$44+$C$45+$C$46) -> 111.31015 | Q8: =0.05*9.81*($C$41+$C$42+$C$43+$C$44+$C$45+$C$46) -> 278.27537 | R8: =0.1*9.81*($C$41+$C$42+$C$43+$C$44+$C$45+$C$46) -> 556.55073 | S8: =0.013*9.81*$C$47 -> 72.351595 | T8: =9.81*SIN(RADIANS(0))*($C$47) -> 0 | U8: =O8+P8+T8 -> 116.05023 | V8: =O8+Q8+T8 -> 283.01545 | W8: =O8+R8+T8 -> 561.29081 | X8: =O8+S8+T8 -> 77.091675 | Y8: =N8-U8 -> 853.09963 | Z8: =N8-V8 -> 686.13441 | AA8: =IF(N8-W8<0,0,N8-W8) -> 407.85905 | AB8: =N8-X8 -> 892.05818 | AC8: =N8/$C$68 -> 1.6433954 | AD8: =((((0.6)*($C$47)*(9.81)*(COS(0))*(($D$21)-(0.02)*(($C$21)-($C$37))))/($C$16))/(((1)-((0.6)*($C$21)))/($C$16)))*(10^-3) -> 2.0334491 | AE8: =((((0.68)*($C$47)*(9.81)*(COS(0))*(($D$21)-(0.05)*(($C$21)-($C$37))))/($C$16))/(((1)-((0.68)*($C$21)))/($C$16)))*(10^-3) -> 2.3693106 | AF8: =((((0.55)*($C$47)*(9.81)*(COS(0))*(($D$21)-(0.1)*(($C$21)-($C$37))))/($C$16))/(((1)-((0.55)*($C$21)))/($C$16)))*(10^-3) -> 1.8207441 | AG8: =((((0.85)*($C$47)*(9.81)*(COS(0))*(($D$21)-(0.013)*(($C$21)-($C$37))))/($C$16))/(((1)-((0.85)*($C$21)))/($C$16)))*(10^-3) -> 3.172205 | AH8: =0.6*9.81 -> 5.886 | AI8: =0.68*9.81 -> 6.6708 | AJ8: =0.55*9.81 -> 5.3955 | AK8: =0.85*9.81 -> 8.3385
B9: ENGINE SPECIFICATION | H9: 1750 | I9: =I10-0.75 -> 3.75 | J9: =I9*0.7457*1000 -> 2796.375 | K9: =J9/((2*PI()*H9)/60) -> 15.259094 | L9: =((($H9/$F$52)*($C$58))/(60))*2.24*0.44704 -> 2.6930304 | M9: =L9*2.237 -> 6.0243089 | N9: =(J9)/L9 -> 1038.3748 | O9: =(0.5*$C$71*$C$28*$C$27*L9^2) -> 6.451776 | P9: =0.02*9.81*($C$41+$C$42+$C$43+$C$44+$C$45+$C$46) -> 111.31015 | Q9: =0.05*9.81*($C$41+$C$42+$C$43+$C$44+$C$45+$C$46) -> 278.27537 | R9: =0.1*9.81*($C$41+$C$42+$C$43+$C$44+$C$45+$C$46) -> 556.55073 | S9: =0.013*9.81*$C$47 -> 72.351595 | T9: =9.81*SIN(RADIANS(0))*($C$47) -> 0 | U9: =O9+P9+T9 -> 117.76192 | V9: =O9+Q9+T9 -> 284.72714 | W9: =O9+R9+T9 -> 563.00251 | X9: =O9+S9+T9 -> 78.803371 | Y9: =N9-U9 -> 920.61292 | Z9: =N9-V9 -> 753.6477 | AA9: =IF(N9-W9<0,0,N9-W9) -> 475.37234 | AB9: =N9-X9 -> 959.57148 | AC9: =N9/$C$68 -> 1.7607808 | AD9: =((((0.6)*($C$47)*(9.81)*(COS(0))*(($D$21)-(0.02)*(($C$21)-($C$37))))/($C$16))/(((1)-((0.6)*($C$21)))/($C$16)))*(10^-3) -> 2.0334491 | AE9: =((((0.68)*($C$47)*(9.81)*(COS(0))*(($D$21)-(0.05)*(($C$21)-($C$37))))/($C$16))/(((1)-((0.68)*($C$21)))/($C$16)))*(10^-3) -> 2.3693106 | AF9: =((((0.55)*($C$47)*(9.81)*(COS(0))*(($D$21)-(0.1)*(($C$21)-($C$37))))/($C$16))/(((1)-((0.55)*($C$21)))/($C$16)))*(10^-3) -> 1.8207441 | AG9: =((((0.85)*($C$47)*(9.81)*(COS(0))*(($D$21)-(0.013)*(($C$21)-($C$37))))/($C$16))/(((1)-((0.85)*($C$21)))/($C$16)))*(10^-3) -> 3.172205 | AH9: =0.6*9.81 -> 5.886 | AI9: =0.68*9.81 -> 6.6708 | AJ9: =0.55*9.81 -> 5.3955 | AK9: =0.85*9.81 -> 8.3385
B10: VOLUME | C10: 278 | D10: cc | H10: 2000 | I10: =I11-0.75 -> 4.5 | J10: =I10*0.7457*1000 -> 3355.65 | K10: =J10/((2*PI()*H10)/60) -> 16.022049 | L10: =((($H10/$F$52)*($C$58))/(60))*2.24*0.44704 -> 3.077749 | M10: =L10*2.237 -> 6.8849245 | N10: =(J10)/L10 -> 1090.2936 | O10: =(0.5*$C$71*$C$28*$C$27*L10^2) -> 8.4268094 | P10: =0.02*9.81*($C$41+$C$42+$C$43+$C$44+$C$45+$C$46) -> 111.31015 | Q10: =0.05*9.81*($C$41+$C$42+$C$43+$C$44+$C$45+$C$46) -> 278.27537 | R10: =0.1*9.81*($C$41+$C$42+$C$43+$C$44+$C$45+$C$46) -> 556.55073 | S10: =0.013*9.81*$C$47 -> 72.351595 | T10: =9.81*SIN(RADIANS(0))*($C$47) -> 0 | U10: =O10+P10+T10 -> 119.73696 | V10: =O10+Q10+T10 -> 286.70217 | W10: =O10+R10+T10 -> 564.97754 | X10: =O10+S10+T10 -> 80.778404 | Y10: =N10-U10 -> 970.55663 | Z10: =N10-V10 -> 803.59141 | AA10: =IF(N10-W10<0,0,N10-W10) -> 525.31605 | AB10: =N10-X10 -> 1009.5152 | AC10: =N10/$C$68 -> 1.8488198 | AD10: =((((0.6)*($C$47)*(9.81)*(COS(0))*(($D$21)-(0.02)*(($C$21)-($C$37))))/($C$16))/(((1)-((0.6)*($C$21)))/($C$16)))*(10^-3) -> 2.0334491 | AE10: =((((0.68)*($C$47)*(9.81)*(COS(0))*(($D$21)-(0.05)*(($C$21)-($C$37))))/($C$16))/(((1)-((0.68)*($C$21)))/($C$16)))*(10^-3) -> 2.3693106 | AF10: =((((0.55)*($C$47)*(9.81)*(COS(0))*(($D$21)-(0.1)*(($C$21)-($C$37))))/($C$16))/(((1)-((0.55)*($C$21)))/($C$16)))*(10^-3) -> 1.8207441 | AG10: =((((0.85)*($C$47)*(9.81)*(COS(0))*(($D$21)-(0.013)*(($C$21)-($C$37))))/($C$16))/(((1)-((0.85)*($C$21)))/($C$16)))*(10^-3) -> 3.172205 | AH10: =0.6*9.81 -> 5.886 | AI10: =0.68*9.81 -> 6.6708 | AJ10: =0.55*9.81 -> 5.3955 | AK10: =0.85*9.81 -> 8.3385
B11: POWER | C11: 18 | D11: BHP @6500RPM | H11: 2250 | I11: =I12-0.75 -> 5.25 | J11: =I11*0.7457*1000 -> 3914.925 | K11: =J11/((2*PI()*H11)/60) -> 16.615458 | L11: =((($H11/$F$52)*($C$58))/(60))*2.24*0.44704 -> 3.4624676 | M11: =L11*2.237 -> 7.7455401 | N11: =(J11)/L11 -> 1130.6748 | O11: =(0.5*$C$71*$C$28*$C$27*L11^2) -> 10.665181 | P11: =0.02*9.81*($C$41+$C$42+$C$43+$C$44+$C$45+$C$46) -> 111.31015 | Q11: =0.05*9.81*($C$41+$C$42+$C$43+$C$44+$C$45+$C$46) -> 278.27537 | R11: =0.1*9.81*($C$41+$C$42+$C$43+$C$44+$C$45+$C$46) -> 556.55073 | S11: =0.013*9.81*$C$47 -> 72.351595 | T11: =9.81*SIN(RADIANS(0))*($C$47) -> 0 | U11: =O11+P11+T11 -> 121.97533 | V11: =O11+Q11+T11 -> 288.94055 | W11: =O11+R11+T11 -> 567.21591 | X11: =O11+S11+T11 -> 83.016776 | Y11: =N11-U11 -> 1008.6995 | Z11: =N11-V11 -> 841.73429 | AA11: =IF(N11-W11<0,0,N11-W11) -> 563.45892 | AB11: =N11-X11 -> 1047.6581 | AC11: =N11/$C$68 -> 1.9172947 | AD11: =((((0.6)*($C$47)*(9.81)*(COS(0))*(($D$21)-(0.02)*(($C$21)-($C$37))))/($C$16))/(((1)-((0.6)*($C$21)))/($C$16)))*(10^-3) -> 2.0334491 | AE11: =((((0.68)*($C$47)*(9.81)*(COS(0))*(($D$21)-(0.05)*(($C$21)-($C$37))))/($C$16))/(((1)-((0.68)*($C$21)))/($C$16)))*(10^-3) -> 2.3693106 | AF11: =((((0.55)*($C$47)*(9.81)*(COS(0))*(($D$21)-(0.1)*(($C$21)-($C$37))))/($C$16))/(((1)-((0.55)*($C$21)))/($C$16)))*(10^-3) -> 1.8207441 | AG11: =((((0.85)*($C$47)*(9.81)*(COS(0))*(($D$21)-(0.013)*(($C$21)-($C$37))))/($C$16))/(((1)-((0.85)*($C$21)))/($C$16)))*(10^-3) -> 3.172205 | AH11: =0.6*9.81 -> 5.886 | AI11: =0.68*9.81 -> 6.6708 | AJ11: =0.55*9.81 -> 5.3955 | AK11: =0.85*9.81 -> 8.3385
B12: POWER | C12: =C11/1.341 -> 13.422819 | D12: Kw @5500RPM | H12: 2500 | I12: =I13-0.75 -> 6 | J12: =I12*0.7457*1000 -> 4474.2 | K12: =J12/((2*PI()*H12)/60) -> 17.090185 | L12: =((($H12/$F$52)*($C$58))/(60))*2.24*0.44704 -> 3.8471862 | M12: =L12*2.237 -> 8.6061556 | N12: =(J12)/L12 -> 1162.9798 | O12: =(0.5*$C$71*$C$28*$C$27*L12^2) -> 13.16689 | P12: =0.02*9.81*($C$41+$C$42+$C$43+$C$44+$C$45+$C$46) -> 111.31015 | Q12: =0.05*9.81*($C$41+$C$42+$C$43+$C$44+$C$45+$C$46) -> 278.27537 | R12: =0.1*9.81*($C$41+$C$42+$C$43+$C$44+$C$45+$C$46) -> 556.55073 | S12: =0.013*9.81*$C$47 -> 72.351595 | T12: =9.81*SIN(RADIANS(0))*($C$47) -> 0 | U12: =O12+P12+T12 -> 124.47704 | V12: =O12+Q12+T12 -> 291.44225 | W12: =O12+R12+T12 -> 569.71762 | X12: =O12+S12+T12 -> 85.518485 | Y12: =N12-U12 -> 1038.5028 | Z12: =N12-V12 -> 871.53757 | AA12: =IF(N12-W12<0,0,N12-W12) -> 593.26221 | AB12: =N12-X12 -> 1077.4613 | AC12: =N12/$C$68 -> 1.9720745 | AD12: =((((0.6)*($C$47)*(9.81)*(COS(0))*(($D$21)-(0.02)*(($C$21)-($C$37))))/($C$16))/(((1)-((0.6)*($C$21)))/($C$16)))*(10^-3) -> 2.0334491 | AE12: =((((0.68)*($C$47)*(9.81)*(COS(0))*(($D$21)-(0.05)*(($C$21)-($C$37))))/($C$16))/(((1)-((0.68)*($C$21)))/($C$16)))*(10^-3) -> 2.3693106 | AF12: =((((0.55)*($C$47)*(9.81)*(COS(0))*(($D$21)-(0.1)*(($C$21)-($C$37))))/($C$16))/(((1)-((0.55)*($C$21)))/($C$16)))*(10^-3) -> 1.8207441 | AG12: =((((0.85)*($C$47)*(9.81)*(COS(0))*(($D$21)-(0.013)*(($C$21)-($C$37))))/($C$16))/(((1)-((0.85)*($C$21)))/($C$16)))*(10^-3) -> 3.172205 | AH12: =0.6*9.81 -> 5.886 | AI12: =0.68*9.81 -> 6.6708 | AJ12: =0.55*9.81 -> 5.3955 | AK12: =0.85*9.81 -> 8.3385
B13: TORQUE | C13: 22 | D13: NM | H13: 2750 | I13: =I14-0.75 -> 6.75 | J13: =I13*0.7457*1000 -> 5033.475 | K13: =J13/((2*PI()*H13)/60) -> 17.478598 | L13: =((($H13/$F$52)*($C$58))/(60))*2.24*0.44704 -> 4.2319049 | M13: =L13*2.237 -> 9.4667712 | N13: =(J13)/L13 -> 1189.4112 | O13: =(0.5*$C$71*$C$28*$C$27*L13^2) -> 15.931937 | P13: =0.02*9.81*($C$41+$C$42+$C$43+$C$44+$C$45+$C$46) -> 111.31015 | Q13: =0.05*9.81*($C$41+$C$42+$C$43+$C$44+$C$45+$C$46) -> 278.27537 | R13: =0.1*9.81*($C$41+$C$42+$C$43+$C$44+$C$45+$C$46) -> 556.55073 | S13: =0.013*9.81*$C$47 -> 72.351595 | T13: =9.81*SIN(RADIANS(0))*($C$47) -> 0 | U13: =O13+P13+T13 -> 127.24208 | V13: =O13+Q13+T13 -> 294.2073 | W13: =O13+R13+T13 -> 572.48267 | X13: =O13+S13+T13 -> 88.283532 | Y13: =N13-U13 -> 1062.1691 | Z13: =N13-V13 -> 895.20389 | AA13: =IF(N13-W13<0,0,N13-W13) -> 616.92852 | AB13: =N13-X13 -> 1101.1277 | AC13: =N13/$C$68 -> 2.0168944 | AD13: =((((0.6)*($C$47)*(9.81)*(COS(0))*(($D$21)-(0.02)*(($C$21)-($C$37))))/($C$16))/(((1)-((0.6)*($C$21)))/($C$16)))*(10^-3) -> 2.0334491 | AE13: =((((0.68)*($C$47)*(9.81)*(COS(0))*(($D$21)-(0.05)*(($C$21)-($C$37))))/($C$16))/(((1)-((0.68)*($C$21)))/($C$16)))*(10^-3) -> 2.3693106 | AF13: =((((0.55)*($C$47)*(9.81)*(COS(0))*(($D$21)-(0.1)*(($C$21)-($C$37))))/($C$16))/(((1)-((0.55)*($C$21)))/($C$16)))*(10^-3) -> 1.8207441 | AG13: =((((0.85)*($C$47)*(9.81)*(COS(0))*(($D$21)-(0.013)*(($C$21)-($C$37))))/($C$16))/(((1)-((0.85)*($C$21)))/($C$16)))*(10^-3) -> 3.172205 | AH13: =0.6*9.81 -> 5.886 | AI13: =0.68*9.81 -> 6.6708 | AJ13: =0.55*9.81 -> 5.3955 | AK13: =0.85*9.81 -> 8.3385
H14: 3000 | I14: =I15-0.75 -> 7.5 | J14: =I14*0.7457*1000 -> 5592.75 | K14: =J14/((2*PI()*H14)/60) -> 17.802276 | L14: =((($H14/$F$52)*($C$58))/(60))*2.24*0.44704 -> 4.6166235 | M14: =L14*2.237 -> 10.327387 | N14: =(J14)/L14 -> 1211.4373 | O14: =(0.5*$C$71*$C$28*$C$27*L14^2) -> 18.960321 | P14: =0.02*9.81*($C$41+$C$42+$C$43+$C$44+$C$45+$C$46) -> 111.31015 | Q14: =0.05*9.81*($C$41+$C$42+$C$43+$C$44+$C$45+$C$46) -> 278.27537 | R14: =0.1*9.81*($C$41+$C$42+$C$43+$C$44+$C$45+$C$46) -> 556.55073 | S14: =0.013*9.81*$C$47 -> 72.351595 | T14: =9.81*SIN(RADIANS(0))*($C$47) -> 0 | U14: =O14+P14+T14 -> 130.27047 | V14: =O14+Q14+T14 -> 297.23569 | W14: =O14+R14+T14 -> 575.51105 | X14: =O14+S14+T14 -> 91.311916 | Y14: =N14-U14 -> 1081.1669 | Z14: =N14-V14 -> 914.20163 | AA14: =IF(N14-W14<0,0,N14-W14) -> 635.92627 | AB14: =N14-X14 -> 1120.1254 | AC14: =N14/$C$68 -> 2.0542443 | AD14: =((((0.6)*($C$47)*(9.81)*(COS(0))*(($D$21)-(0.02)*(($C$21)-($C$37))))/($C$16))/(((1)-((0.6)*($C$21)))/($C$16)))*(10^-3) -> 2.0334491 | AE14: =((((0.68)*($C$47)*(9.81)*(COS(0))*(($D$21)-(0.05)*(($C$21)-($C$37))))/($C$16))/(((1)-((0.68)*($C$21)))/($C$16)))*(10^-3) -> 2.3693106 | AF14: =((((0.55)*($C$47)*(9.81)*(COS(0))*(($D$21)-(0.1)*(($C$21)-($C$37))))/($C$16))/(((1)-((0.55)*($C$21)))/($C$16)))*(10^-3) -> 1.8207441 | AG14: =((((0.85)*($C$47)*(9.81)*(COS(0))*(($D$21)-(0.013)*(($C$21)-($C$37))))/($C$16))/(((1)-((0.85)*($C$21)))/($C$16)))*(10^-3) -> 3.172205 | AH14: =0.6*9.81 -> 5.886 | AI14: =0.68*9.81 -> 6.6708 | AJ14: =0.55*9.81 -> 5.3955 | AK14: =0.85*9.81 -> 8.3385
B15: VEHICLE DIMENSIONS | H15: 3250 | I15: =I16-0.75 -> 8.25 | J15: =I15*0.7457*1000 -> 6152.025 | K15: =J15/((2*PI()*H15)/60) -> 18.076157 | L15: =((($H15/$F$52)*($C$58))/(60))*2.24*0.44704 -> 5.0013421 | M15: =L15*2.237 -> 11.188002 | N15: =(J15)/L15 -> 1230.0748 | O15: =(0.5*$C$71*$C$28*$C$27*L15^2) -> 22.252044 | P15: =0.02*9.81*($C$41+$C$42+$C$43+$C$44+$C$45+$C$46) -> 111.31015 | Q15: =0.05*9.81*($C$41+$C$42+$C$43+$C$44+$C$45+$C$46) -> 278.27537 | R15: =0.1*9.81*($C$41+$C$42+$C$43+$C$44+$C$45+$C$46) -> 556.55073 | S15: =0.013*9.81*$C$47 -> 72.351595 | T15: =9.81*SIN(RADIANS(0))*($C$47) -> 0 | U15: =O15+P15+T15 -> 133.56219 | V15: =O15+Q15+T15 -> 300.52741 | W15: =O15+R15+T15 -> 578.80277 | X15: =O15+S15+T15 -> 94.603639 | Y15: =N15-U15 -> 1096.5126 | Z15: =N15-V15 -> 929.54741 | AA15: =IF(N15-W15<0,0,N15-W15) -> 651.27204 | AB15: =N15-X15 -> 1135.4712 | AC15: =N15/$C$68 -> 2.085848 | AD15: =((((0.6)*($C$47)*(9.81)*(COS(0))*(($D$21)-(0.02)*(($C$21)-($C$37))))/($C$16))/(((1)-((0.6)*($C$21)))/($C$16)))*(10^-3) -> 2.0334491 | AE15: =((((0.68)*($C$47)*(9.81)*(COS(0))*(($D$21)-(0.05)*(($C$21)-($C$37))))/($C$16))/(((1)-((0.68)*($C$21)))/($C$16)))*(10^-3) -> 2.3693106 | AF15: =((((0.55)*($C$47)*(9.81)*(COS(0))*(($D$21)-(0.1)*(($C$21)-($C$37))))/($C$16))/(((1)-((0.55)*($C$21)))/($C$16)))*(10^-3) -> 1.8207441 | AG15: =((((0.85)*($C$47)*(9.81)*(COS(0))*(($D$21)-(0.013)*(($C$21)-($C$37))))/($C$16))/(((1)-((0.85)*($C$21)))/($C$16)))*(10^-3) -> 3.172205 | AH15: =0.6*9.81 -> 5.886 | AI15: =0.68*9.81 -> 6.6708 | AJ15: =0.55*9.81 -> 5.3955 | AK15: =0.85*9.81 -> 8.3385
B16: LENGTH | C16: 2.62 | D16: m | H16: 3500 | I16: =I17-0.75 -> 9 | J16: =I16*0.7457*1000 -> 6711.3 | K16: =J16/((2*PI()*H16)/60) -> 18.310913 | L16: =((($H16/$F$52)*($C$58))/(60))*2.24*0.44704 -> 5.3860607 | M16: =L16*2.237 -> 12.048618 | N16: =(J16)/L16 -> 1246.0498 | O16: =(0.5*$C$71*$C$28*$C$27*L16^2) -> 25.807104 | P16: =0.02*9.81*($C$41+$C$42+$C$43+$C$44+$C$45+$C$46) -> 111.31015 | Q16: =0.05*9.81*($C$41+$C$42+$C$43+$C$44+$C$45+$C$46) -> 278.27537 | R16: =0.1*9.81*($C$41+$C$42+$C$43+$C$44+$C$45+$C$46) -> 556.55073 | S16: =0.013*9.81*$C$47 -> 72.351595 | T16: =9.81*SIN(RADIANS(0))*($C$47) -> 0 | U16: =O16+P16+T16 -> 137.11725 | V16: =O16+Q16+T16 -> 304.08247 | W16: =O16+R16+T16 -> 582.35783 | X16: =O16+S16+T16 -> 98.158699 | Y16: =N16-U16 -> 1108.9326 | Z16: =N16-V16 -> 941.96735 | AA16: =IF(N16-W16<0,0,N16-W16) -> 663.69198 | AB16: =N16-X16 -> 1147.8911 | AC16: =N16/$C$68 -> 2.112937 | AD16: =((((0.6)*($C$47)*(9.81)*(COS(0))*(($D$21)-(0.02)*(($C$21)-($C$37))))/($C$16))/(((1)-((0.6)*($C$21)))/($C$16)))*(10^-3) -> 2.0334491 | AE16: =((((0.68)*($C$47)*(9.81)*(COS(0))*(($D$21)-(0.05)*(($C$21)-($C$37))))/($C$16))/(((1)-((0.68)*($C$21)))/($C$16)))*(10^-3) -> 2.3693106 | AF16: =((((0.55)*($C$47)*(9.81)*(COS(0))*(($D$21)-(0.1)*(($C$21)-($C$37))))/($C$16))/(((1)-((0.55)*($C$21)))/($C$16)))*(10^-3) -> 1.8207441 | AG16: =((((0.85)*($C$47)*(9.81)*(COS(0))*(($D$21)-(0.013)*(($C$21)-($C$37))))/($C$16))/(((1)-((0.85)*($C$21)))/($C$16)))*(10^-3) -> 3.172205 | AH16: =0.6*9.81 -> 5.886 | AI16: =0.68*9.81 -> 6.6708 | AJ16: =0.55*9.81 -> 5.3955 | AK16: =0.85*9.81 -> 8.3385
B17: WIDTH | C17: 1.65 | D17: m | H17: 3750 | I17: =I18-0.75 -> 9.75 | J17: =I17*0.7457*1000 -> 7270.575 | K17: =J17/((2*PI()*H17)/60) -> 18.514367 | L17: =((($H17/$F$52)*($C$58))/(60))*2.24*0.44704 -> 5.7707794 | M17: =L17*2.237 -> 12.909233 | N17: =(J17)/L17 -> 1259.8948 | O17: =(0.5*$C$71*$C$28*$C$27*L17^2) -> 29.625502 | P17: =0.02*9.81*($C$41+$C$42+$C$43+$C$44+$C$45+$C$46) -> 111.31015 | Q17: =0.05*9.81*($C$41+$C$42+$C$43+$C$44+$C$45+$C$46) -> 278.27537 | R17: =0.1*9.81*($C$41+$C$42+$C$43+$C$44+$C$45+$C$46) -> 556.55073 | S17: =0.013*9.81*$C$47 -> 72.351595 | T17: =9.81*SIN(RADIANS(0))*($C$47) -> 0 | U17: =O17+P17+T17 -> 140.93565 | V17: =O17+Q17+T17 -> 307.90087 | W17: =O17+R17+T17 -> 586.17623 | X17: =O17+S17+T17 -> 101.9771 | Y17: =N17-U17 -> 1118.9592 | Z17: =N17-V17 -> 951.99395 | AA17: =IF(N17-W17<0,0,N17-W17) -> 673.71858 | AB17: =N17-X17 -> 1157.9177 | AC17: =N17/$C$68 -> 2.136414 | AD17: =((((0.6)*($C$47)*(9.81)*(COS(0))*(($D$21)-(0.02)*(($C$21)-($C$37))))/($C$16))/(((1)-((0.6)*($C$21)))/($C$16)))*(10^-3) -> 2.0334491 | AE17: =((((0.68)*($C$47)*(9.81)*(COS(0))*(($D$21)-(0.05)*(($C$21)-($C$37))))/($C$16))/(((1)-((0.68)*($C$21)))/($C$16)))*(10^-3) -> 2.3693106 | AF17: =((((0.55)*($C$47)*(9.81)*(COS(0))*(($D$21)-(0.1)*(($C$21)-($C$37))))/($C$16))/(((1)-((0.55)*($C$21)))/($C$16)))*(10^-3) -> 1.8207441 | AG17: =((((0.85)*($C$47)*(9.81)*(COS(0))*(($D$21)-(0.013)*(($C$21)-($C$37))))/($C$16))/(((1)-((0.85)*($C$21)))/($C$16)))*(10^-3) -> 3.172205 | AH17: =0.6*9.81 -> 5.886 | AI17: =0.68*9.81 -> 6.6708 | AJ17: =0.55*9.81 -> 5.3955 | AK17: =0.85*9.81 -> 8.3385
B18: HEIGHT | C18: 1.62 | D18: m | H18: 4000 | I18: =I19-0.75 -> 10.5 | J18: =I18*0.7457*1000 -> 7829.85 | K18: =J18/((2*PI()*H18)/60) -> 18.69239 | L18: =((($H18/$F$52)*($C$58))/(60))*2.24*0.44704 -> 6.155498 | M18: =L18*2.237 -> 13.769849 | N18: =(J18)/L18 -> 1272.0092 | O18: =(0.5*$C$71*$C$28*$C$27*L18^2) -> 33.707238 | P18: =0.02*9.81*($C$41+$C$42+$C$43+$C$44+$C$45+$C$46) -> 111.31015 | Q18: =0.05*9.81*($C$41+$C$42+$C$43+$C$44+$C$45+$C$46) -> 278.27537 | R18: =0.1*9.81*($C$41+$C$42+$C$43+$C$44+$C$45+$C$46) -> 556.55073 | S18: =0.013*9.81*$C$47 -> 72.351595 | T18: =9.81*SIN(RADIANS(0))*($C$47) -> 0 | U18: =O18+P18+T18 -> 145.01738 | V18: =O18+Q18+T18 -> 311.9826 | W18: =O18+R18+T18 -> 590.25797 | X18: =O18+S18+T18 -> 106.05883 | Y18: =N18-U18 -> 1126.9918 | Z18: =N18-V18 -> 960.02658 | AA18: =IF(N18-W18<0,0,N18-W18) -> 681.75122 | AB18: =N18-X18 -> 1165.9504 | AC18: =N18/$C$68 -> 2.1569565 | AD18: =((((0.6)*($C$47)*(9.81)*(COS(0))*(($D$21)-(0.02)*(($C$21)-($C$37))))/($C$16))/(((1)-((0.6)*($C$21)))/($C$16)))*(10^-3) -> 2.0334491 | AE18: =((((0.68)*($C$47)*(9.81)*(COS(0))*(($D$21)-(0.05)*(($C$21)-($C$37))))/($C$16))/(((1)-((0.68)*($C$21)))/($C$16)))*(10^-3) -> 2.3693106 | AF18: =((((0.55)*($C$47)*(9.81)*(COS(0))*(($D$21)-(0.1)*(($C$21)-($C$37))))/($C$16))/(((1)-((0.55)*($C$21)))/($C$16)))*(10^-3) -> 1.8207441 | AG18: =((((0.85)*($C$47)*(9.81)*(COS(0))*(($D$21)-(0.013)*(($C$21)-($C$37))))/($C$16))/(((1)-((0.85)*($C$21)))/($C$16)))*(10^-3) -> 3.172205 | AH18: =0.6*9.81 -> 5.886 | AI18: =0.68*9.81 -> 6.6708 | AJ18: =0.55*9.81 -> 5.3955 | AK18: =0.85*9.81 -> 8.3385
B19: GROUND CLEARANCE | C19: 0.3 | D19: m | H19: 4250 | I19: =I20-0.75 -> 11.25 | J19: =I19*0.7457*1000 -> 8389.125 | K19: =J19/((2*PI()*H19)/60) -> 18.849469 | L19: =((($H19/$F$52)*($C$58))/(60))*2.24*0.44704 -> 6.5402166 | M19: =L19*2.237 -> 14.630465 | N19: =(J19)/L19 -> 1282.6983 | O19: =(0.5*$C$71*$C$28*$C$27*L19^2) -> 38.052311 | P19: =0.02*9.81*($C$41+$C$42+$C$43+$C$44+$C$45+$C$46) -> 111.31015 | Q19: =0.05*9.81*($C$41+$C$42+$C$43+$C$44+$C$45+$C$46) -> 278.27537 | R19: =0.1*9.81*($C$41+$C$42+$C$43+$C$44+$C$45+$C$46) -> 556.55073 | S19: =0.013*9.81*$C$47 -> 72.351595 | T19: =9.81*SIN(RADIANS(0))*($C$47) -> 0 | U19: =O19+P19+T19 -> 149.36246 | V19: =O19+Q19+T19 -> 316.32768 | W19: =O19+R19+T19 -> 594.60304 | X19: =O19+S19+T19 -> 110.40391 | Y19: =N19-U19 -> 1133.3359 | Z19: =N19-V19 -> 966.37066 | AA19: =IF(N19-W19<0,0,N19-W19) -> 688.0953 | AB19: =N19-X19 -> 1172.2944 | AC19: =N19/$C$68 -> 2.1750822 | AD19: =((((0.6)*($C$47)*(9.81)*(COS(0))*(($D$21)-(0.02)*(($C$21)-($C$37))))/($C$16))/(((1)-((0.6)*($C$21)))/($C$16)))*(10^-3) -> 2.0334491 | AE19: =((((0.68)*($C$47)*(9.81)*(COS(0))*(($D$21)-(0.05)*(($C$21)-($C$37))))/($C$16))/(((1)-((0.68)*($C$21)))/($C$16)))*(10^-3) -> 2.3693106 | AF19: =((((0.55)*($C$47)*(9.81)*(COS(0))*(($D$21)-(0.1)*(($C$21)-($C$37))))/($C$16))/(((1)-((0.55)*($C$21)))/($C$16)))*(10^-3) -> 1.8207441 | AG19: =((((0.85)*($C$47)*(9.81)*(COS(0))*(($D$21)-(0.013)*(($C$21)-($C$37))))/($C$16))/(((1)-((0.85)*($C$21)))/($C$16)))*(10^-3) -> 3.172205 | AH19: =0.6*9.81 -> 5.886 | AI19: =0.68*9.81 -> 6.6708 | AJ19: =0.55*9.81 -> 5.3955 | AK19: =0.85*9.81 -> 8.3385
B20: FRONTAL AREA | C20: =(C17*C18)*0.7 -> 1.8711 | D20: m² | H20: 4500 | I20: =I21-0.75 -> 12 | J20: =I20*0.7457*1000 -> 8948.4 | K20: =J20/((2*PI()*H20)/60) -> 18.989095 | L20: =((($H20/$F$52)*($C$58))/(60))*2.24*0.44704 -> 6.9249352 | M20: =L20*2.237 -> 15.49108 | N20: =(J20)/L20 -> 1292.1998 | O20: =(0.5*$C$71*$C$28*$C$27*L20^2) -> 42.660723 | P20: =0.02*9.81*($C$41+$C$42+$C$43+$C$44+$C$45+$C$46) -> 111.31015 | Q20: =0.05*9.81*($C$41+$C$42+$C$43+$C$44+$C$45+$C$46) -> 278.27537 | R20: =0.1*9.81*($C$41+$C$42+$C$43+$C$44+$C$45+$C$46) -> 556.55073 | S20: =0.013*9.81*$C$47 -> 72.351595 | T20: =9.81*SIN(RADIANS(0))*($C$47) -> 0 | U20: =O20+P20+T20 -> 153.97087 | V20: =O20+Q20+T20 -> 320.93609 | W20: =O20+R20+T20 -> 599.21145 | X20: =O20+S20+T20 -> 115.01232 | Y20: =N20-U20 -> 1138.2289 | Z20: =N20-V20 -> 971.26372 | AA20: =IF(N20-W20<0,0,N20-W20) -> 692.98836 | AB20: =N20-X20 -> 1177.1875 | AC20: =N20/$C$68 -> 2.1911939 | AD20: =((((0.6)*($C$47)*(9.81)*(COS(0))*(($D$21)-(0.02)*(($C$21)-($C$37))))/($C$16))/(((1)-((0.6)*($C$21)))/($C$16)))*(10^-3) -> 2.0334491 | AE20: =((((0.68)*($C$47)*(9.81)*(COS(0))*(($D$21)-(0.05)*(($C$21)-($C$37))))/($C$16))/(((1)-((0.68)*($C$21)))/($C$16)))*(10^-3) -> 2.3693106 | AF20: =((((0.55)*($C$47)*(9.81)*(COS(0))*(($D$21)-(0.1)*(($C$21)-($C$37))))/($C$16))/(((1)-((0.55)*($C$21)))/($C$16)))*(10^-3) -> 1.8207441 | AG20: =((((0.85)*($C$47)*(9.81)*(COS(0))*(($D$21)-(0.013)*(($C$21)-($C$37))))/($C$16))/(((1)-((0.85)*($C$21)))/($C$16)))*(10^-3) -> 3.172205 | AH20: =0.6*9.81 -> 5.886 | AI20: =0.68*9.81 -> 6.6708 | AJ20: =0.55*9.81 -> 5.3955 | AK20: =0.85*9.81 -> 8.3385
B21: C of G Height, Didtance from Front Wheel Centre | C21: 0.3 | D21: 0.5 | H21: 4750 | I21: =I22-0.75 -> 12.75 | J21: =I21*0.7457*1000 -> 9507.675 | K21: =J21/((2*PI()*H21)/60) -> 19.114023 | L21: =((($H21/$F$52)*($C$58))/(60))*2.24*0.44704 -> 7.3096539 | M21: =L21*2.237 -> 16.351696 | N21: =(J21)/L21 -> 1300.7011 | O21: =(0.5*$C$71*$C$28*$C$27*L21^2) -> 47.532472 | P21: =0.02*9.81*($C$41+$C$42+$C$43+$C$44+$C$45+$C$46) -> 111.31015 | Q21: =0.05*9.81*($C$41+$C$42+$C$43+$C$44+$C$45+$C$46) -> 278.27537 | R21: =0.1*9.81*($C$41+$C$42+$C$43+$C$44+$C$45+$C$46) -> 556.55073 | S21: =0.013*9.81*$C$47 -> 72.351595 | T21: =9.81*SIN(RADIANS(0))*($C$47) -> 0 | U21: =O21+P21+T21 -> 158.84262 | V21: =O21+Q21+T21 -> 325.80784 | W21: =O21+R21+T21 -> 604.0832 | X21: =O21+S21+T21 -> 119.88407 | Y21: =N21-U21 -> 1141.8585 | Z21: =N21-V21 -> 974.89329 | AA21: =IF(N21-W21<0,0,N21-W21) -> 696.61792 | AB21: =N21-X21 -> 1180.8171 | AC21: =N21/$C$68 -> 2.2056096 | AD21: =((((0.6)*($C$47)*(9.81)*(COS(0))*(($D$21)-(0.02)*(($C$21)-($C$37))))/($C$16))/(((1)-((0.6)*($C$21)))/($C$16)))*(10^-3) -> 2.0334491 | AE21: =((((0.68)*($C$47)*(9.81)*(COS(0))*(($D$21)-(0.05)*(($C$21)-($C$37))))/($C$16))/(((1)-((0.68)*($C$21)))/($C$16)))*(10^-3) -> 2.3693106 | AF21: =((((0.55)*($C$47)*(9.81)*(COS(0))*(($D$21)-(0.1)*(($C$21)-($C$37))))/($C$16))/(((1)-((0.55)*($C$21)))/($C$16)))*(10^-3) -> 1.8207441 | AG21: =((((0.85)*($C$47)*(9.81)*(COS(0))*(($D$21)-(0.013)*(($C$21)-($C$37))))/($C$16))/(((1)-((0.85)*($C$21)))/($C$16)))*(10^-3) -> 3.172205 | AH21: =0.6*9.81 -> 5.886 | AI21: =0.68*9.81 -> 6.6708 | AJ21: =0.55*9.81 -> 5.3955 | AK21: =0.85*9.81 -> 8.3385
B22: FUEL TANK | C22: 29 | D22: l | H22: 5000 | I22: =I23-0.75 -> 13.5 | J22: =I22*0.7457*1000 -> 10066.95 | K22: =J22/((2*PI()*H22)/60) -> 19.226458 | L22: =((($H22/$F$52)*($C$58))/(60))*2.24*0.44704 -> 7.6943725 | M22: =L22*2.237 -> 17.212311 | N22: =(J22)/L22 -> 1308.3523 | O22: =(0.5*$C$71*$C$28*$C$27*L22^2) -> 52.667559 | P22: =0.02*9.81*($C$41+$C$42+$C$43+$C$44+$C$45+$C$46) -> 111.31015 | Q22: =0.05*9.81*($C$41+$C$42+$C$43+$C$44+$C$45+$C$46) -> 278.27537 | R22: =0.1*9.81*($C$41+$C$42+$C$43+$C$44+$C$45+$C$46) -> 556.55073 | S22: =0.013*9.81*$C$47 -> 72.351595 | T22: =9.81*SIN(RADIANS(0))*($C$47) -> 0 | U22: =O22+P22+T22 -> 163.97771 | V22: =O22+Q22+T22 -> 330.94292 | W22: =O22+R22+T22 -> 609.21829 | X22: =O22+S22+T22 -> 125.01915 | Y22: =N22-U22 -> 1144.3746 | Z22: =N22-V22 -> 977.40938 | AA22: =IF(N22-W22<0,0,N22-W22) -> 699.13402 | AB22: =N22-X22 -> 1183.3332 | AC22: =N22/$C$68 -> 2.2185838 | AD22: =((((0.6)*($C$47)*(9.81)*(COS(0))*(($D$21)-(0.02)*(($C$21)-($C$37))))/($C$16))/(((1)-((0.6)*($C$21)))/($C$16)))*(10^-3) -> 2.0334491 | AE22: =((((0.68)*($C$47)*(9.81)*(COS(0))*(($D$21)-(0.05)*(($C$21)-($C$37))))/($C$16))/(((1)-((0.68)*($C$21)))/($C$16)))*(10^-3) -> 2.3693106 | AF22: =((((0.55)*($C$47)*(9.81)*(COS(0))*(($D$21)-(0.1)*(($C$21)-($C$37))))/($C$16))/(((1)-((0.55)*($C$21)))/($C$16)))*(10^-3) -> 1.8207441 | AG22: =((((0.85)*($C$47)*(9.81)*(COS(0))*(($D$21)-(0.013)*(($C$21)-($C$37))))/($C$16))/(((1)-((0.85)*($C$21)))/($C$16)))*(10^-3) -> 3.172205 | AH22: =0.6*9.81 -> 5.886 | AI22: =0.68*9.81 -> 6.6708 | AJ22: =0.55*9.81 -> 5.3955 | AK22: =0.85*9.81 -> 8.3385
H23: 5250 | I23: =I24-0.75 -> 14.25 | J23: =I23*0.7457*1000 -> 10626.225 | K23: =J23/((2*PI()*H23)/60) -> 19.328186 | L23: =((($H23/$F$52)*($C$58))/(60))*2.24*0.44704 -> 8.0790911 | M23: =L23*2.237 -> 18.072927 | N23: =(J23)/L23 -> 1315.2748 | O23: =(0.5*$C$71*$C$28*$C$27*L23^2) -> 58.065984 | P23: =0.02*9.81*($C$41+$C$42+$C$43+$C$44+$C$45+$C$46) -> 111.31015 | Q23: =0.05*9.81*($C$41+$C$42+$C$43+$C$44+$C$45+$C$46) -> 278.27537 | R23: =0.1*9.81*($C$41+$C$42+$C$43+$C$44+$C$45+$C$46) -> 556.55073 | S23: =0.013*9.81*$C$47 -> 72.351595 | T23: =9.81*SIN(RADIANS(0))*($C$47) -> 0 | U23: =O23+P23+T23 -> 169.37613 | V23: =O23+Q23+T23 -> 336.34135 | W23: =O23+R23+T23 -> 614.61671 | X23: =O23+S23+T23 -> 130.41758 | Y23: =N23-U23 -> 1145.8987 | Z23: =N23-V23 -> 978.93346 | AA23: =IF(N23-W23<0,0,N23-W23) -> 700.65809 | AB23: =N23-X23 -> 1184.8572 | AC23: =N23/$C$68 -> 2.2303224 | AD23: =((((0.6)*($C$47)*(9.81)*(COS(0))*(($D$21)-(0.02)*(($C$21)-($C$37))))/($C$16))/(((1)-((0.6)*($C$21)))/($C$16)))*(10^-3) -> 2.0334491 | AE23: =((((0.68)*($C$47)*(9.81)*(COS(0))*(($D$21)-(0.05)*(($C$21)-($C$37))))/($C$16))/(((1)-((0.68)*($C$21)))/($C$16)))*(10^-3) -> 2.3693106 | AF23: =((((0.55)*($C$47)*(9.81)*(COS(0))*(($D$21)-(0.1)*(($C$21)-($C$37))))/($C$16))/(((1)-((0.55)*($C$21)))/($C$16)))*(10^-3) -> 1.8207441 | AG23: =((((0.85)*($C$47)*(9.81)*(COS(0))*(($D$21)-(0.013)*(($C$21)-($C$37))))/($C$16))/(((1)-((0.85)*($C$21)))/($C$16)))*(10^-3) -> 3.172205 | AH23: =0.6*9.81 -> 5.886 | AI23: =0.68*9.81 -> 6.6708 | AJ23: =0.55*9.81 -> 5.3955 | AK23: =0.85*9.81 -> 8.3385
B24: VEHICLE CHARACTERISTICS | H24: 5500 | I24: =I25-0.75 -> 15 | J24: =I24*0.7457*1000 -> 11185.5 | K24: =J24/((2*PI()*H24)/60) -> 19.420665 | L24: =((($H24/$F$52)*($C$58))/(60))*2.24*0.44704 -> 8.4638097 | M24: =L24*2.237 -> 18.933542 | N24: =(J24)/L24 -> 1321.568 | O24: =(0.5*$C$71*$C$28*$C$27*L24^2) -> 63.727746 | P24: =0.02*9.81*($C$41+$C$42+$C$43+$C$44+$C$45+$C$46) -> 111.31015 | Q24: =0.05*9.81*($C$41+$C$42+$C$43+$C$44+$C$45+$C$46) -> 278.27537 | R24: =0.1*9.81*($C$41+$C$42+$C$43+$C$44+$C$45+$C$46) -> 556.55073 | S24: =0.013*9.81*$C$47 -> 72.351595 | T24: =9.81*SIN(RADIANS(0))*($C$47) -> 0 | U24: =O24+P24+T24 -> 175.03789 | V24: =O24+Q24+T24 -> 342.00311 | W24: =O24+R24+T24 -> 620.27848 | X24: =O24+S24+T24 -> 136.07934 | Y24: =N24-U24 -> 1146.5301 | Z24: =N24-V24 -> 979.56487 | AA24: =IF(N24-W24<0,0,N24-W24) -> 701.28951 | AB24: =N24-X24 -> 1185.4886 | AC24: =N24/$C$68 -> 2.2409938 | AD24: =((((0.6)*($C$47)*(9.81)*(COS(0))*(($D$21)-(0.02)*(($C$21)-($C$37))))/($C$16))/(((1)-((0.6)*($C$21)))/($C$16)))*(10^-3) -> 2.0334491 | AE24: =((((0.68)*($C$47)*(9.81)*(COS(0))*(($D$21)-(0.05)*(($C$21)-($C$37))))/($C$16))/(((1)-((0.68)*($C$21)))/($C$16)))*(10^-3) -> 2.3693106 | AF24: =((((0.55)*($C$47)*(9.81)*(COS(0))*(($D$21)-(0.1)*(($C$21)-($C$37))))/($C$16))/(((1)-((0.55)*($C$21)))/($C$16)))*(10^-3) -> 1.8207441 | AG24: =((((0.85)*($C$47)*(9.81)*(COS(0))*(($D$21)-(0.013)*(($C$21)-($C$37))))/($C$16))/(((1)-((0.85)*($C$21)))/($C$16)))*(10^-3) -> 3.172205 | AH24: =0.6*9.81 -> 5.886 | AI24: =0.68*9.81 -> 6.6708 | AJ24: =0.55*9.81 -> 5.3955 | AK24: =0.85*9.81 -> 8.3385
B25: MAX VELOCITY | C25: 30 | D25: mph | H25: 5750 | I25: =I26-0.75 -> 15.75 | J25: =I25*0.7457*1000 -> 11744.775 | K25: =K24-0.6 -> 18.820665 | L25: =((($H25/$F$52)*($C$58))/(60))*2.24*0.44704 -> 8.8485284 | M25: =L25*2.237 -> 19.794158 | N25: =(J25)/L25 -> 1327.3139 | O25: =(0.5*$C$71*$C$28*$C$27*L25^2) -> 69.652847 | P25: =0.02*9.81*($C$41+$C$42+$C$43+$C$44+$C$45+$C$46) -> 111.31015 | Q25: =0.05*9.81*($C$41+$C$42+$C$43+$C$44+$C$45+$C$46) -> 278.27537 | R25: =0.1*9.81*($C$41+$C$42+$C$43+$C$44+$C$45+$C$46) -> 556.55073 | S25: =0.013*9.81*$C$47 -> 72.351595 | T25: =9.81*SIN(RADIANS(0))*($C$47) -> 0 | U25: =O25+P25+T25 -> 180.96299 | V25: =O25+Q25+T25 -> 347.92821 | W25: =O25+R25+T25 -> 626.20358 | X25: =O25+S25+T25 -> 142.00444 | Y25: =N25-U25 -> 1146.3509 | Z25: =N25-V25 -> 979.38572 | AA25: =IF(N25-W25<0,0,N25-W25) -> 701.11036 | AB25: =N25-X25 -> 1185.3095 | AC25: =N25/$C$68 -> 2.2507372 | AD25: =((((0.6)*($C$47)*(9.81)*(COS(0))*(($D$21)-(0.02)*(($C$21)-($C$37))))/($C$16))/(((1)-((0.6)*($C$21)))/($C$16)))*(10^-3) -> 2.0334491 | AE25: =((((0.68)*($C$47)*(9.81)*(COS(0))*(($D$21)-(0.05)*(($C$21)-($C$37))))/($C$16))/(((1)-((0.68)*($C$21)))/($C$16)))*(10^-3) -> 2.3693106 | AF25: =((((0.55)*($C$47)*(9.81)*(COS(0))*(($D$21)-(0.1)*(($C$21)-($C$37))))/($C$16))/(((1)-((0.55)*($C$21)))/($C$16)))*(10^-3) -> 1.8207441 | AG25: =((((0.85)*($C$47)*(9.81)*(COS(0))*(($D$21)-(0.013)*(($C$21)-($C$37))))/($C$16))/(((1)-((0.85)*($C$21)))/($C$16)))*(10^-3) -> 3.172205 | AH25: =0.6*9.81 -> 5.886 | AI25: =0.68*9.81 -> 6.6708 | AJ25: =0.55*9.81 -> 5.3955 | AK25: =0.85*9.81 -> 8.3385
B26: MAX VELOCITY | C26: =C25/2.237 -> 13.410818 | D26: m/s | H26: 6000 | I26: =I27-0.75 -> 16.5 | J26: =I26*0.7457*1000 -> 12304.05 | K26: =K25-0.6 -> 18.220665 | L26: =((($H26/$F$52)*($C$58))/(60))*2.24*0.44704 -> 9.233247 | M26: =L26*2.237 -> 20.654774 | N26: =(J26)/L26 -> 1332.5811 | O26: =(0.5*$C$71*$C$28*$C$27*L26^2) -> 75.841285 | P26: =0.02*9.81*($C$41+$C$42+$C$43+$C$44+$C$45+$C$46) -> 111.31015 | Q26: =0.05*9.81*($C$41+$C$42+$C$43+$C$44+$C$45+$C$46) -> 278.27537 | R26: =0.1*9.81*($C$41+$C$42+$C$43+$C$44+$C$45+$C$46) -> 556.55073 | S26: =0.013*9.81*$C$47 -> 72.351595 | T26: =9.81*SIN(RADIANS(0))*($C$47) -> 0 | U26: =O26+P26+T26 -> 187.15143 | V26: =O26+Q26+T26 -> 354.11665 | W26: =O26+R26+T26 -> 632.39201 | X26: =O26+S26+T26 -> 148.19288 | Y26: =N26-U26 -> 1145.4296 | Z26: =N26-V26 -> 978.4644 | AA26: =IF(N26-W26<0,0,N26-W26) -> 700.18904 | AB26: =N26-X26 -> 1184.3882 | AC26: =N26/$C$68 -> 2.2596687 | AD26: =((((0.6)*($C$47)*(9.81)*(COS(0))*(($D$21)-(0.02)*(($C$21)-($C$37))))/($C$16))/(((1)-((0.6)*($C$21)))/($C$16)))*(10^-3) -> 2.0334491 | AE26: =((((0.68)*($C$47)*(9.81)*(COS(0))*(($D$21)-(0.05)*(($C$21)-($C$37))))/($C$16))/(((1)-((0.68)*($C$21)))/($C$16)))*(10^-3) -> 2.3693106 | AF26: =((((0.55)*($C$47)*(9.81)*(COS(0))*(($D$21)-(0.1)*(($C$21)-($C$37))))/($C$16))/(((1)-((0.55)*($C$21)))/($C$16)))*(10^-3) -> 1.8207441 | AG26: =((((0.85)*($C$47)*(9.81)*(COS(0))*(($D$21)-(0.013)*(($C$21)-($C$37))))/($C$16))/(((1)-((0.85)*($C$21)))/($C$16)))*(10^-3) -> 3.172205 | AH26: =0.6*9.81 -> 5.886 | AI26: =0.68*9.81 -> 6.6708 | AJ26: =0.55*9.81 -> 5.3955 | AK26: =0.85*9.81 -> 8.3385
B27: FRONTAL AERO AREA | C27: =(C18-C19)*C17 -> 2.178 | D27: m² | H27: 6250 | I27: =I28-0.75 -> 17.25 | J27: =I27*0.7457*1000 -> 12863.325 | K27: =K26-0.6 -> 17.620665 | L27: =((($H27/$F$52)*($C$58))/(60))*2.24*0.44704 -> 9.6179656 | M27: =L27*2.237 -> 21.515389 | N27: =(J27)/L27 -> 1337.4268 | O27: =(0.5*$C$71*$C$28*$C$27*L27^2) -> 82.293061 | P27: =0.02*9.81*($C$41+$C$42+$C$43+$C$44+$C$45+$C$46) -> 111.31015 | Q27: =0.05*9.81*($C$41+$C$42+$C$43+$C$44+$C$45+$C$46) -> 278.27537 | R27: =0.1*9.81*($C$41+$C$42+$C$43+$C$44+$C$45+$C$46) -> 556.55073 | S27: =0.013*9.81*$C$47 -> 72.351595 | T27: =9.81*SIN(RADIANS(0))*($C$47) -> 0 | U27: =O27+P27+T27 -> 193.60321 | V27: =O27+Q27+T27 -> 360.56843 | W27: =O27+R27+T27 -> 638.84379 | X27: =O27+S27+T27 -> 154.64466 | Y27: =N27-U27 -> 1143.8236 | Z27: =N27-V27 -> 976.85838 | AA27: =IF(N27-W27<0,0,N27-W27) -> 698.58301 | AB27: =N27-X27 -> 1182.7821 | AC27: =N27/$C$68 -> 2.2678857 | AD27: =((((0.6)*($C$47)*(9.81)*(COS(0))*(($D$21)-(0.02)*(($C$21)-($C$37))))/($C$16))/(((1)-((0.6)*($C$21)))/($C$16)))*(10^-3) -> 2.0334491 | AE27: =((((0.68)*($C$47)*(9.81)*(COS(0))*(($D$21)-(0.05)*(($C$21)-($C$37))))/($C$16))/(((1)-((0.68)*($C$21)))/($C$16)))*(10^-3) -> 2.3693106 | AF27: =((((0.55)*($C$47)*(9.81)*(COS(0))*(($D$21)-(0.1)*(($C$21)-($C$37))))/($C$16))/(((1)-((0.55)*($C$21)))/($C$16)))*(10^-3) -> 1.8207441 | AG27: =((((0.85)*($C$47)*(9.81)*(COS(0))*(($D$21)-(0.013)*(($C$21)-($C$37))))/($C$16))/(((1)-((0.85)*($C$21)))/($C$16)))*(10^-3) -> 3.172205 | AH27: =0.6*9.81 -> 5.886 | AI27: =0.68*9.81 -> 6.6708 | AJ27: =0.55*9.81 -> 5.3955 | AK27: =0.85*9.81 -> 8.3385
B28: COEFFICIENT OF DRAG | C28: 0.7 | D28: Value Taken from Book | H28: 6500 | I28: 18 | J28: =I28*0.7457*1000 -> 13422.6 | K28: =K27-0.6 -> 17.020665 | L28: =((($H28/$F$52)*($C$58))/(60))*2.24*0.44704 -> 10.002684 | M28: =L28*2.237 -> 22.376005 | N28: =(J28)/L28 -> 1341.8998 | O28: =(0.5*$C$71*$C$28*$C$27*L28^2) -> 89.008175 | P28: =0.02*9.81*($C$41+$C$42+$C$43+$C$44+$C$45+$C$46) -> 111.31015 | Q28: =0.05*9.81*($C$41+$C$42+$C$43+$C$44+$C$45+$C$46) -> 278.27537 | R28: =0.1*9.81*($C$41+$C$42+$C$43+$C$44+$C$45+$C$46) -> 556.55073 | S28: =0.013*9.81*$C$47 -> 72.351595 | T28: =9.81*SIN(RADIANS(0))*($C$47) -> 0 | U28: =O28+P28+T28 -> 200.31832 | V28: =O28+Q28+T28 -> 367.28354 | W28: =O28+R28+T28 -> 645.5589 | X28: =O28+S28+T28 -> 161.35977 | Y28: =N28-U28 -> 1141.5815 | Z28: =N28-V28 -> 974.61626 | AA28: =IF(N28-W28<0,0,N28-W28) -> 696.3409 | AB28: =N28-X28 -> 1180.54 | AC28: =N28/$C$68 -> 2.2754706 | AD28: =((((0.6)*($C$47)*(9.81)*(COS(0))*(($D$21)-(0.02)*(($C$21)-($C$37))))/($C$16))/(((1)-((0.6)*($C$21)))/($C$16)))*(10^-3) -> 2.0334491 | AE28: =((((0.68)*($C$47)*(9.81)*(COS(0))*(($D$21)-(0.05)*(($C$21)-($C$37))))/($C$16))/(((1)-((0.68)*($C$21)))/($C$16)))*(10^-3) -> 2.3693106 | AF28: =((((0.55)*($C$47)*(9.81)*(COS(0))*(($D$21)-(0.1)*(($C$21)-($C$37))))/($C$16))/(((1)-((0.55)*($C$21)))/($C$16)))*(10^-3) -> 1.8207441 | AG28: =((((0.85)*($C$47)*(9.81)*(COS(0))*(($D$21)-(0.013)*(($C$21)-($C$37))))/($C$16))/(((1)-((0.85)*($C$21)))/($C$16)))*(10^-3) -> 3.172205 | AH28: =0.6*9.81 -> 5.886 | AI28: =0.68*9.81 -> 6.6708 | AJ28: =0.55*9.81 -> 5.3955 | AK28: =0.85*9.81 -> 8.3385
H29: RPM | I29: POWER | J29: POWER | K29: TORQUE | L29: SECOND
B30: WHEEL DIMENSIONS | I30: BHP | J30: W | K30: NM | L30: VELOCITY | M30: VELOCITY | N30: FORCE | O30: Aero Drag Force | P30: Rolling Resistance (Gravel) | Q30: Rolling Resistance (Dirt) | R30: Rolling Resistance (Grass) | S30: Rolling Resistance (Ashphalt) | T30: Gradient Resistance | U30: Total Resistant Forces (Gravel) | V30: Total Resistant Forces (Dirt) | W30: Total Resistant Forces (Grass) | X30: Total Resistant Forces (Ashphalt) | Y30: Net Driving Force (Gravel) | Z30: Net Driving Force (Dirt) | AA30: Net Driving Force (Grass) | AB30: Net Driving Force (Ashphalt) | AC30: Available Engine Acceleration | AD30: Traction Limited Acceleration (Gravel) | AE30: Traction Limited Acceleration (Dirt) | AF30: Traction Limited Acceleration (Grass) | AG30: Traction Limited Acceleration (Ashphalt) | AH30: Traction Limited Deceleration (Gravel) | AI30: Traction Limited Deceleration (Dirt) | AJ30: Traction Limited Deceleration (Grass) | AK30: Traction Limited Deceleration (Ashphalt)
B31: FRONT WHEEL SIZE | C31: 12 | D31: in | L31: m/s | M31: mph | N31: N | O31: N | P31: N | Q31: N | R31: N | S31: N | T31: N | U31: N | V31: N | W31: N | X31: N | Y31: N | Z31: N | AA31: N | AB31: N | AC31: m/s² | AD31: m/s² | AE31: m/s² | AF31: m/s² | AG31: m/s² | AH31: m/s² | AI31: m/s² | AJ31: m/s² | AK31: m/s²
B32: FRONT WHEEL SIZE | C32: =C31/39.37 -> 0.30480061 | D32: m | H32: 750 | I32: =I33-0.75 -> 0.75 | J32: =I32*0.7457*1000 -> 559.275 | K32: =J32/((2*PI()*H32)/60) -> 7.1209105 | L32: =((($H5/$F$53)*($C$58))/(60))*2.24*0.44704 -> 1.374677 | M32: =L32*2.237 -> 3.0751524 | N32: =J5/L32 -> 406.84103 | O32: =(0.5*$C$71*$C$28*$C$27*L32^2) -> 1.6811176 | P32: =0.02*9.81*($C$41+$C$42+$C$43+$C$44+$C$45+$C$46) -> 111.31015 | Q32: =0.05*9.81*($C$41+$C$42+$C$43+$C$44+$C$45+$C$46) -> 278.27537 | R32: =0.1*9.81*($C$41+$C$42+$C$43+$C$44+$C$45+$C$46) -> 556.55073 | S32: =0.013*9.81*($C$41+$C$42+$C$43+$C$44+$C$45+$C$46) -> 72.351595 | T32: =9.81*SIN(RADIANS(0))*($C$47) -> 0 | U32: =O32+P32+T32 -> 112.99126 | V32: =O32+Q32+T32 -> 279.95648 | W32: =O32+R32+T32 -> 558.23185 | X32: =O32+S32+T32 -> 74.032712 | Y32: =N32-U32 -> 293.84977 | Z32: =N32-V32 -> 126.88455 | AA32: =IF(N32-W32<0,0,N32-W32) -> 0 | AB32: =N32-X32 -> 332.80832 | AC32: =N32/$C$69 -> 0.69270733 | AD32: =((((0.6)*($C$47)*(9.81)*(COS(0))*(($D$21)-(0.02)*(($C$21)-($C$37))))/($C$16))/(((1)-((0.6)*($C$21)))/($C$16)))*(10^-3) -> 2.0334491 | AE32: =((((0.68)*($C$47)*(9.81)*(COS(0))*(($D$21)-(0.05)*(($C$21)-($C$37))))/($C$16))/(((1)-((0.68)*($C$21)))/($C$16)))*(10^-3) -> 2.3693106 | AF32: =((((0.55)*($C$47)*(9.81)*(COS(0))*(($D$21)-(0.1)*(($C$21)-($C$37))))/($C$16))/(((1)-((0.55)*($C$21)))/($C$16)))*(10^-3) -> 1.8207441 | AG32: =((((0.85)*($C$47)*(9.81)*(COS(0))*(($D$21)-(0.013)*(($C$21)-($C$37))))/($C$16))/(((1)-((0.85)*($C$21)))/($C$16)))*(10^-3) -> 3.172205 | AH32: =0.6*9.81 -> 5.886 | AI32: =0.68*9.81 -> 6.6708 | AJ32: =0.55*9.81 -> 5.3955 | AK32: =0.85*9.81 -> 8.3385
B33: FRONT TYRE SIDE WALL | C33: 0.1524 | D33: m | H33: 1000 | I33: =I34-0.75 -> 1.5 | J33: =I33*0.7457*1000 -> 1118.55 | K33: =J33/((2*PI()*H33)/60) -> 10.681366 | L33: =((($H6/$F$53)*($C$58))/(60))*2.24*0.44704 -> 1.8329026 | M33: =L33*2.237 -> 4.1002032 | N33: =J6/L33 -> 610.26155 | O33: =(0.5*$C$71*$C$28*$C$27*L33^2) -> 2.9886535 | P33: =0.02*9.81*($C$41+$C$42+$C$43+$C$44+$C$45+$C$46) -> 111.31015 | Q33: =0.05*9.81*($C$41+$C$42+$C$43+$C$44+$C$45+$C$46) -> 278.27537 | R33: =0.1*9.81*($C$41+$C$42+$C$43+$C$44+$C$45+$C$46) -> 556.55073 | S33: =0.013*9.81*($C$41+$C$42+$C$43+$C$44+$C$45+$C$46) -> 72.351595 | T33: =9.81*SIN(RADIANS(0))*($C$47) -> 0 | U33: =O33+P33+T33 -> 114.2988 | V33: =O33+Q33+T33 -> 281.26402 | W33: =O33+R33+T33 -> 559.53938 | X33: =O33+S33+T33 -> 75.340248 | Y33: =N33-U33 -> 495.96275 | Z33: =N33-V33 -> 328.99753 | AA33: =IF(N33-W33<0,0,N33-W33) -> 50.722167 | AB33: =N33-X33 -> 534.9213 | AC33: =N33/$C$69 -> 1.039061 | AD33: =((((0.6)*($C$47)*(9.81)*(COS(0))*(($D$21)-(0.02)*(($C$21)-($C$37))))/($C$16))/(((1)-((0.6)*($C$21)))/($C$16)))*(10^-3) -> 2.0334491 | AE33: =((((0.68)*($C$47)*(9.81)*(COS(0))*(($D$21)-(0.05)*(($C$21)-($C$37))))/($C$16))/(((1)-((0.68)*($C$21)))/($C$16)))*(10^-3) -> 2.3693106 | AF33: =((((0.55)*($C$47)*(9.81)*(COS(0))*(($D$21)-(0.1)*(($C$21)-($C$37))))/($C$16))/(((1)-((0.55)*($C$21)))/($C$16)))*(10^-3) -> 1.8207441 | AG33: =((((0.85)*($C$47)*(9.81)*(COS(0))*(($D$21)-(0.013)*(($C$21)-($C$37))))/($C$16))/(((1)-((0.85)*($C$21)))/($C$16)))*(10^-3) -> 3.172205 | AH33: =0.6*9.81 -> 5.886 | AI33: =0.68*9.81 -> 6.6708 | AJ33: =0.55*9.81 -> 5.3955 | AK33: =0.85*9.81 -> 8.3385
B34: REAR WHEEL SIZE | C34: 10 | D34: in | H34: 1250 | I34: =I35-0.75 -> 2.25 | J34: =I34*0.7457*1000 -> 1677.825 | K34: =J34/((2*PI()*H34)/60) -> 12.817639 | L34: =((($H7/$F$53)*($C$58))/(60))*2.24*0.44704 -> 2.2911283 | M34: =L34*2.237 -> 5.125254 | N34: =J7/L34 -> 732.31386 | O34: =(0.5*$C$71*$C$28*$C$27*L34^2) -> 4.6697711 | P34: =0.02*9.81*($C$41+$C$42+$C$43+$C$44+$C$45+$C$46) -> 111.31015 | Q34: =0.05*9.81*($C$41+$C$42+$C$43+$C$44+$C$45+$C$46) -> 278.27537 | R34: =0.1*9.81*($C$41+$C$42+$C$43+$C$44+$C$45+$C$46) -> 556.55073 | S34: =0.013*9.81*($C$41+$C$42+$C$43+$C$44+$C$45+$C$46) -> 72.351595 | T34: =9.81*SIN(RADIANS(0))*($C$47) -> 0 | U34: =O34+P34+T34 -> 115.97992 | V34: =O34+Q34+T34 -> 282.94514 | W34: =O34+R34+T34 -> 561.2205 | X34: =O34+S34+T34 -> 77.021366 | Y34: =N34-U34 -> 616.33394 | Z34: =N34-V34 -> 449.36872 | AA34: =IF(N34-W34<0,0,N34-W34) -> 171.09336 | AB34: =N34-X34 -> 655.29249 | AC34: =N34/$C$69 -> 1.2468732 | AD34: =((((0.6)*($C$47)*(9.81)*(COS(0))*(($D$21)-(0.02)*(($C$21)-($C$37))))/($C$16))/(((1)-((0.6)*($C$21)))/($C$16)))*(10^-3) -> 2.0334491 | AE34: =((((0.68)*($C$47)*(9.81)*(COS(0))*(($D$21)-(0.05)*(($C$21)-($C$37))))/($C$16))/(((1)-((0.68)*($C$21)))/($C$16)))*(10^-3) -> 2.3693106 | AF34: =((((0.55)*($C$47)*(9.81)*(COS(0))*(($D$21)-(0.1)*(($C$21)-($C$37))))/($C$16))/(((1)-((0.55)*($C$21)))/($C$16)))*(10^-3) -> 1.8207441 | AG34: =((((0.85)*($C$47)*(9.81)*(COS(0))*(($D$21)-(0.013)*(($C$21)-($C$37))))/($C$16))/(((1)-((0.85)*($C$21)))/($C$16)))*(10^-3) -> 3.172205 | AH34: =0.6*9.81 -> 5.886 | AI34: =0.68*9.81 -> 6.6708 | AJ34: =0.55*9.81 -> 5.3955 | AK34: =0.85*9.81 -> 8.3385
B35: REAR WHEEL SIZE | C35: =C34/39.37 -> 0.25400051 | D35: m | H35: 1500 | I35: =I36-0.75 -> 3 | J35: =I35*0.7457*1000 -> 2237.1 | K35: =J35/((2*PI()*H35)/60) -> 14.241821 | L35: =((($H8/$F$53)*($C$58))/(60))*2.24*0.44704 -> 2.7493539 | M35: =L35*2.237 -> 6.1503048 | N35: =J8/L35 -> 813.68207 | O35: =(0.5*$C$71*$C$28*$C$27*L35^2) -> 6.7244703 | P35: =0.02*9.81*($C$41+$C$42+$C$43+$C$44+$C$45+$C$46) -> 111.31015 | Q35: =0.05*9.81*($C$41+$C$42+$C$43+$C$44+$C$45+$C$46) -> 278.27537 | R35: =0.1*9.81*($C$41+$C$42+$C$43+$C$44+$C$45+$C$46) -> 556.55073 | S35: =0.013*9.81*($C$41+$C$42+$C$43+$C$44+$C$45+$C$46) -> 72.351595 | T35: =9.81*SIN(RADIANS(0))*($C$47) -> 0 | U35: =O35+P35+T35 -> 118.03462 | V35: =O35+Q35+T35 -> 284.99984 | W35: =O35+R35+T35 -> 563.2752 | X35: =O35+S35+T35 -> 79.076065 | Y35: =N35-U35 -> 695.64745 | Z35: =N35-V35 -> 528.68223 | AA35: =IF(N35-W35<0,0,N35-W35) -> 250.40687 | AB35: =N35-X35 -> 734.606 | AC35: =N35/$C$69 -> 1.3854147 | AD35: =((((0.6)*($C$47)*(9.81)*(COS(0))*(($D$21)-(0.02)*(($C$21)-($C$37))))/($C$16))/(((1)-((0.6)*($C$21)))/($C$16)))*(10^-3) -> 2.0334491 | AE35: =((((0.68)*($C$47)*(9.81)*(COS(0))*(($D$21)-(0.05)*(($C$21)-($C$37))))/($C$16))/(((1)-((0.68)*($C$21)))/($C$16)))*(10^-3) -> 2.3693106 | AF35: =((((0.55)*($C$47)*(9.81)*(COS(0))*(($D$21)-(0.1)*(($C$21)-($C$37))))/($C$16))/(((1)-((0.55)*($C$21)))/($C$16)))*(10^-3) -> 1.8207441 | AG35: =((((0.85)*($C$47)*(9.81)*(COS(0))*(($D$21)-(0.013)*(($C$21)-($C$37))))/($C$16))/(((1)-((0.85)*($C$21)))/($C$16)))*(10^-3) -> 3.172205 | AH35: =0.6*9.81 -> 5.886 | AI35: =0.68*9.81 -> 6.6708 | AJ35: =0.55*9.81 -> 5.3955 | AK35: =0.85*9.81 -> 8.3385
B36: REAR TYRE SIDE WALL | C36: 0.1397 | D36: m | H36: 1750 | I36: =I37-0.75 -> 3.75 | J36: =I36*0.7457*1000 -> 2796.375 | K36: =J36/((2*PI()*H36)/60) -> 15.259094 | L36: =((($H9/$F$53)*($C$58))/(60))*2.24*0.44704 -> 3.2075796 | M36: =L36*2.237 -> 7.1753556 | N36: =J9/L36 -> 871.80221 | O36: =(0.5*$C$71*$C$28*$C$27*L36^2) -> 9.1527513 | P36: =0.02*9.81*($C$41+$C$42+$C$43+$C$44+$C$45+$C$46) -> 111.31015 | Q36: =0.05*9.81*($C$41+$C$42+$C$43+$C$44+$C$45+$C$46) -> 278.27537 | R36: =0.1*9.81*($C$41+$C$42+$C$43+$C$44+$C$45+$C$46) -> 556.55073 | S36: =0.013*9.81*($C$41+$C$42+$C$43+$C$44+$C$45+$C$46) -> 72.351595 | T36: =9.81*SIN(RADIANS(0))*($C$47) -> 0 | U36: =O36+P36+T36 -> 120.4629 | V36: =O36+Q36+T36 -> 287.42812 | W36: =O36+R36+T36 -> 565.70348 | X36: =O36+S36+T36 -> 81.504346 | Y36: =N36-U36 -> 751.33932 | Z36: =N36-V36 -> 584.3741 | AA36: =IF(N36-W36<0,0,N36-W36) -> 306.09873 | AB36: =N36-X36 -> 790.29787 | AC36: =N36/$C$69 -> 1.4843729 | AD36: =((((0.6)*($C$47)*(9.81)*(COS(0))*(($D$21)-(0.02)*(($C$21)-($C$37))))/($C$16))/(((1)-((0.6)*($C$21)))/($C$16)))*(10^-3) -> 2.0334491 | AE36: =((((0.68)*($C$47)*(9.81)*(COS(0))*(($D$21)-(0.05)*(($C$21)-($C$37))))/($C$16))/(((1)-((0.68)*($C$21)))/($C$16)))*(10^-3) -> 2.3693106 | AF36: =((((0.55)*($C$47)*(9.81)*(COS(0))*(($D$21)-(0.1)*(($C$21)-($C$37))))/($C$16))/(((1)-((0.55)*($C$21)))/($C$16)))*(10^-3) -> 1.8207441 | AG36: =((((0.85)*($C$47)*(9.81)*(COS(0))*(($D$21)-(0.013)*(($C$21)-($C$37))))/($C$16))/(((1)-((0.85)*($C$21)))/($C$16)))*(10^-3) -> 3.172205 | AH36: =0.6*9.81 -> 5.886 | AI36: =0.68*9.81 -> 6.6708 | AJ36: =0.55*9.81 -> 5.3955 | AK36: =0.85*9.81 -> 8.3385
B37: ROLLING RADIUS | C37: =(C35/2)+C36 -> 0.26670025 | D37: m | H37: 2000 | I37: =I38-0.75 -> 4.5 | J37: =I37*0.7457*1000 -> 3355.65 | K37: =J37/((2*PI()*H37)/60) -> 16.022049 | L37: =((($H10/$F$53)*($C$58))/(60))*2.24*0.44704 -> 3.6658053 | M37: =L37*2.237 -> 8.2004064 | N37: =J10/L37 -> 915.39233 | O37: =(0.5*$C$71*$C$28*$C$27*L37^2) -> 11.954614 | P37: =0.02*9.81*($C$41+$C$42+$C$43+$C$44+$C$45+$C$46) -> 111.31015 | Q37: =0.05*9.81*($C$41+$C$42+$C$43+$C$44+$C$45+$C$46) -> 278.27537 | R37: =0.1*9.81*($C$41+$C$42+$C$43+$C$44+$C$45+$C$46) -> 556.55073 | S37: =0.013*9.81*($C$41+$C$42+$C$43+$C$44+$C$45+$C$46) -> 72.351595 | T37: =9.81*SIN(RADIANS(0))*($C$47) -> 0 | U37: =O37+P37+T37 -> 123.26476 | V37: =O37+Q37+T37 -> 290.22998 | W37: =O37+R37+T37 -> 568.50534 | X37: =O37+S37+T37 -> 84.306209 | Y37: =N37-U37 -> 792.12757 | Z37: =N37-V37 -> 625.16235 | AA37: =IF(N37-W37<0,0,N37-W37) -> 346.88698 | AB37: =N37-X37 -> 831.08612 | AC37: =N37/$C$69 -> 1.5585915 | AD37: =((((0.6)*($C$47)*(9.81)*(COS(0))*(($D$21)-(0.02)*(($C$21)-($C$37))))/($C$16))/(((1)-((0.6)*($C$21)))/($C$16)))*(10^-3) -> 2.0334491 | AE37: =((((0.68)*($C$47)*(9.81)*(COS(0))*(($D$21)-(0.05)*(($C$21)-($C$37))))/($C$16))/(((1)-((0.68)*($C$21)))/($C$16)))*(10^-3) -> 2.3693106 | AF37: =((((0.55)*($C$47)*(9.81)*(COS(0))*(($D$21)-(0.1)*(($C$21)-($C$37))))/($C$16))/(((1)-((0.55)*($C$21)))/($C$16)))*(10^-3) -> 1.8207441 | AG37: =((((0.85)*($C$47)*(9.81)*(COS(0))*(($D$21)-(0.013)*(($C$21)-($C$37))))/($C$16))/(((1)-((0.85)*($C$21)))/($C$16)))*(10^-3) -> 3.172205 | AH37: =0.6*9.81 -> 5.886 | AI37: =0.68*9.81 -> 6.6708 | AJ37: =0.55*9.81 -> 5.3955 | AK37: =0.85*9.81 -> 8.3385
B38: ROLLING CIRCUMFERENCE | C38: =C37*PI()*2 -> 1.6757271 | D38: m | H38: 2250 | I38: =I39-0.75 -> 5.25 | J38: =I38*0.7457*1000 -> 3914.925 | K38: =J38/((2*PI()*H38)/60) -> 16.615458 | L38: =((($H11/$F$53)*($C$58))/(60))*2.24*0.44704 -> 4.1240309 | M38: =L38*2.237 -> 9.2254572 | N38: =J11/L38 -> 949.29574 | O38: =(0.5*$C$71*$C$28*$C$27*L38^2) -> 15.130058 | P38: =0.02*9.81*($C$41+$C$42+$C$43+$C$44+$C$45+$C$46) -> 111.31015 | Q38: =0.05*9.81*($C$41+$C$42+$C$43+$C$44+$C$45+$C$46) -> 278.27537 | R38: =0.1*9.81*($C$41+$C$42+$C$43+$C$44+$C$45+$C$46) -> 556.55073 | S38: =0.013*9.81*($C$41+$C$42+$C$43+$C$44+$C$45+$C$46) -> 72.351595 | T38: =9.81*SIN(RADIANS(0))*($C$47) -> 0 | U38: =O38+P38+T38 -> 126.4402 | V38: =O38+Q38+T38 -> 293.40542 | W38: =O38+R38+T38 -> 571.68079 | X38: =O38+S38+T38 -> 87.481653 | Y38: =N38-U38 -> 822.85554 | Z38: =N38-V38 -> 655.89032 | AA38: =IF(N38-W38<0,0,N38-W38) -> 377.61496 | AB38: =N38-X38 -> 861.81409 | AC38: =N38/$C$69 -> 1.6163171 | AD38: =((((0.6)*($C$47)*(9.81)*(COS(0))*(($D$21)-(0.02)*(($C$21)-($C$37))))/($C$16))/(((1)-((0.6)*($C$21)))/($C$16)))*(10^-3) -> 2.0334491 | AE38: =((((0.68)*($C$47)*(9.81)*(COS(0))*(($D$21)-(0.05)*(($C$21)-($C$37))))/($C$16))/(((1)-((0.68)*($C$21)))/($C$16)))*(10^-3) -> 2.3693106 | AF38: =((((0.55)*($C$47)*(9.81)*(COS(0))*(($D$21)-(0.1)*(($C$21)-($C$37))))/($C$16))/(((1)-((0.55)*($C$21)))/($C$16)))*(10^-3) -> 1.8207441 | AG38: =((((0.85)*($C$47)*(9.81)*(COS(0))*(($D$21)-(0.013)*(($C$21)-($C$37))))/($C$16))/(((1)-((0.85)*($C$21)))/($C$16)))*(10^-3) -> 3.172205 | AH38: =0.6*9.81 -> 5.886 | AI38: =0.68*9.81 -> 6.6708 | AJ38: =0.55*9.81 -> 5.3955 | AK38: =0.85*9.81 -> 8.3385
H39: 2500 | I39: =I40-0.75 -> 6 | J39: =I39*0.7457*1000 -> 4474.2 | K39: =J39/((2*PI()*H39)/60) -> 17.090185 | L39: =((($H12/$F$53)*($C$58))/(60))*2.24*0.44704 -> 4.5822566 | M39: =L39*2.237 -> 10.250508 | N39: =J12/L39 -> 976.41848 | O39: =(0.5*$C$71*$C$28*$C$27*L39^2) -> 18.679084 | P39: =0.02*9.81*($C$41+$C$42+$C$43+$C$44+$C$45+$C$46) -> 111.31015 | Q39: =0.05*9.81*($C$41+$C$42+$C$43+$C$44+$C$45+$C$46) -> 278.27537 | R39: =0.1*9.81*($C$41+$C$42+$C$43+$C$44+$C$45+$C$46) -> 556.55073 | S39: =0.013*9.81*($C$41+$C$42+$C$43+$C$44+$C$45+$C$46) -> 72.351595 | T39: =9.81*SIN(RADIANS(0))*($C$47) -> 0 | U39: =O39+P39+T39 -> 129.98923 | V39: =O39+Q39+T39 -> 296.95445 | W39: =O39+R39+T39 -> 575.22981 | X39: =O39+S39+T39 -> 91.030679 | Y39: =N39-U39 -> 846.42925 | Z39: =N39-V39 -> 679.46403 | AA39: =IF(N39-W39<0,0,N39-W39) -> 401.18867 | AB39: =N39-X39 -> 885.3878 | AC39: =N39/$C$69 -> 1.6624976 | AD39: =((((0.6)*($C$47)*(9.81)*(COS(0))*(($D$21)-(0.02)*(($C$21)-($C$37))))/($C$16))/(((1)-((0.6)*($C$21)))/($C$16)))*(10^-3) -> 2.0334491 | AE39: =((((0.68)*($C$47)*(9.81)*(COS(0))*(($D$21)-(0.05)*(($C$21)-($C$37))))/($C$16))/(((1)-((0.68)*($C$21)))/($C$16)))*(10^-3) -> 2.3693106 | AF39: =((((0.55)*($C$47)*(9.81)*(COS(0))*(($D$21)-(0.1)*(($C$21)-($C$37))))/($C$16))/(((1)-((0.55)*($C$21)))/($C$16)))*(10^-3) -> 1.8207441 | AG39: =((((0.85)*($C$47)*(9.81)*(COS(0))*(($D$21)-(0.013)*(($C$21)-($C$37))))/($C$16))/(((1)-((0.85)*($C$21)))/($C$16)))*(10^-3) -> 3.172205 | AH39: =0.6*9.81 -> 5.886 | AI39: =0.68*9.81 -> 6.6708 | AJ39: =0.55*9.81 -> 5.3955 | AK39: =0.85*9.81 -> 8.3385
B40: WEIGHT | H40: 2750 | I40: =I41-0.75 -> 6.75 | J40: =I40*0.7457*1000 -> 5033.475 | K40: =J40/((2*PI()*H40)/60) -> 17.478598 | L40: =((($H13/$F$53)*($C$58))/(60))*2.24*0.44704 -> 5.0404822 | M40: =L40*2.237 -> 11.275559 | N40: =J13/L40 -> 998.60981 | O40: =(0.5*$C$71*$C$28*$C$27*L40^2) -> 22.601692 | P40: =0.02*9.81*($C$41+$C$42+$C$43+$C$44+$C$45+$C$46) -> 111.31015 | Q40: =0.05*9.81*($C$41+$C$42+$C$43+$C$44+$C$45+$C$46) -> 278.27537 | R40: =0.1*9.81*($C$41+$C$42+$C$43+$C$44+$C$45+$C$46) -> 556.55073 | S40: =0.013*9.81*($C$41+$C$42+$C$43+$C$44+$C$45+$C$46) -> 72.351595 | T40: =9.81*SIN(RADIANS(0))*($C$47) -> 0 | U40: =O40+P40+T40 -> 133.91184 | V40: =O40+Q40+T40 -> 300.87706 | W40: =O40+R40+T40 -> 579.15242 | X40: =O40+S40+T40 -> 94.953287 | Y40: =N40-U40 -> 864.69797 | Z40: =N40-V40 -> 697.73275 | AA40: =IF(N40-W40<0,0,N40-W40) -> 419.45739 | AB40: =N40-X40 -> 903.65652 | AC40: =N40/$C$69 -> 1.7002816 | AD40: =((((0.6)*($C$47)*(9.81)*(COS(0))*(($D$21)-(0.02)*(($C$21)-($C$37))))/($C$16))/(((1)-((0.6)*($C$21)))/($C$16)))*(10^-3) -> 2.0334491 | AE40: =((((0.68)*($C$47)*(9.81)*(COS(0))*(($D$21)-(0.05)*(($C$21)-($C$37))))/($C$16))/(((1)-((0.68)*($C$21)))/($C$16)))*(10^-3) -> 2.3693106 | AF40: =((((0.55)*($C$47)*(9.81)*(COS(0))*(($D$21)-(0.1)*(($C$21)-($C$37))))/($C$16))/(((1)-((0.55)*($C$21)))/($C$16)))*(10^-3) -> 1.8207441 | AG40: =((((0.85)*($C$47)*(9.81)*(COS(0))*(($D$21)-(0.013)*(($C$21)-($C$37))))/($C$16))/(((1)-((0.85)*($C$21)))/($C$16)))*(10^-3) -> 3.172205 | AH40: =0.6*9.81 -> 5.886 | AI40: =0.68*9.81 -> 6.6708 | AJ40: =0.55*9.81 -> 5.3955 | AK40: =0.85*9.81 -> 8.3385
B41: CURB WEIGHT | C41: 365 | D41: kg | H41: 3000 | I41: =I42-0.75 -> 7.5 | J41: =I41*0.7457*1000 -> 5592.75 | K41: =J41/((2*PI()*H41)/60) -> 17.802276 | L41: =((($H14/$F$53)*($C$58))/(60))*2.24*0.44704 -> 5.4987079 | M41: =L41*2.237 -> 12.30061 | N41: =J14/L41 -> 1017.1026 | O41: =(0.5*$C$71*$C$28*$C$27*L41^2) -> 26.897881 | P41: =0.02*9.81*($C$41+$C$42+$C$43+$C$44+$C$45+$C$46) -> 111.31015 | Q41: =0.05*9.81*($C$41+$C$42+$C$43+$C$44+$C$45+$C$46) -> 278.27537 | R41: =0.1*9.81*($C$41+$C$42+$C$43+$C$44+$C$45+$C$46) -> 556.55073 | S41: =0.013*9.81*($C$41+$C$42+$C$43+$C$44+$C$45+$C$46) -> 72.351595 | T41: =9.81*SIN(RADIANS(0))*($C$47) -> 0 | U41: =O41+P41+T41 -> 138.20803 | V41: =O41+Q41+T41 -> 305.17325 | W41: =O41+R41+T41 -> 583.44861 | X41: =O41+S41+T41 -> 99.249476 | Y41: =N41-U41 -> 878.89456 | Z41: =N41-V41 -> 711.92934 | AA41: =IF(N41-W41<0,0,N41-W41) -> 433.65397 | AB41: =N41-X41 -> 917.85311 | AC41: =N41/$C$69 -> 1.7317683 | AD41: =((((0.6)*($C$47)*(9.81)*(COS(0))*(($D$21)-(0.02)*(($C$21)-($C$37))))/($C$16))/(((1)-((0.6)*($C$21)))/($C$16)))*(10^-3) -> 2.0334491 | AE41: =((((0.68)*($C$47)*(9.81)*(COS(0))*(($D$21)-(0.05)*(($C$21)-($C$37))))/($C$16))/(((1)-((0.68)*($C$21)))/($C$16)))*(10^-3) -> 2.3693106 | AF41: =((((0.55)*($C$47)*(9.81)*(COS(0))*(($D$21)-(0.1)*(($C$21)-($C$37))))/($C$16))/(((1)-((0.55)*($C$21)))/($C$16)))*(10^-3) -> 1.8207441 | AG41: =((((0.85)*($C$47)*(9.81)*(COS(0))*(($D$21)-(0.013)*(($C$21)-($C$37))))/($C$16))/(((1)-((0.85)*($C$21)))/($C$16)))*(10^-3) -> 3.172205 | AH41: =0.6*9.81 -> 5.886 | AI41: =0.68*9.81 -> 6.6708 | AJ41: =0.55*9.81 -> 5.3955 | AK41: =0.85*9.81 -> 8.3385
B42: DRIVER | C42: 80 | D42: kg | H42: 3250 | I42: =I43-0.75 -> 8.25 | J42: =I42*0.7457*1000 -> 6152.025 | K42: =J42/((2*PI()*H42)/60) -> 18.076157 | L42: =((($H15/$F$53)*($C$58))/(60))*2.24*0.44704 -> 5.9569335 | M42: =L42*2.237 -> 13.32566 | N42: =J15/L42 -> 1032.7503 | O42: =(0.5*$C$71*$C$28*$C$27*L42^2) -> 31.567652 | P42: =0.02*9.81*($C$41+$C$42+$C$43+$C$44+$C$45+$C$46) -> 111.31015 | Q42: =0.05*9.81*($C$41+$C$42+$C$43+$C$44+$C$45+$C$46) -> 278.27537 | R42: =0.1*9.81*($C$41+$C$42+$C$43+$C$44+$C$45+$C$46) -> 556.55073 | S42: =0.013*9.81*($C$41+$C$42+$C$43+$C$44+$C$45+$C$46) -> 72.351595 | T42: =9.81*SIN(RADIANS(0))*($C$47) -> 0 | U42: =O42+P42+T42 -> 142.8778 | V42: =O42+Q42+T42 -> 309.84302 | W42: =O42+R42+T42 -> 588.11838 | X42: =O42+S42+T42 -> 103.91925 | Y42: =N42-U42 -> 889.87252 | Z42: =N42-V42 -> 722.9073 | AA42: =IF(N42-W42<0,0,N42-W42) -> 444.63193 | AB42: =N42-X42 -> 928.83107 | AC42: =N42/$C$69 -> 1.7584109 | AD42: =((((0.6)*($C$47)*(9.81)*(COS(0))*(($D$21)-(0.02)*(($C$21)-($C$37))))/($C$16))/(((1)-((0.6)*($C$21)))/($C$16)))*(10^-3) -> 2.0334491 | AE42: =((((0.68)*($C$47)*(9.81)*(COS(0))*(($D$21)-(0.05)*(($C$21)-($C$37))))/($C$16))/(((1)-((0.68)*($C$21)))/($C$16)))*(10^-3) -> 2.3693106 | AF42: =((((0.55)*($C$47)*(9.81)*(COS(0))*(($D$21)-(0.1)*(($C$21)-($C$37))))/($C$16))/(((1)-((0.55)*($C$21)))/($C$16)))*(10^-3) -> 1.8207441 | AG42: =((((0.85)*($C$47)*(9.81)*(COS(0))*(($D$21)-(0.013)*(($C$21)-($C$37))))/($C$16))/(((1)-((0.85)*($C$21)))/($C$16)))*(10^-3) -> 3.172205 | AH42: =0.6*9.81 -> 5.886 | AI42: =0.68*9.81 -> 6.6708 | AJ42: =0.55*9.81 -> 5.3955 | AK42: =0.85*9.81 -> 8.3385
B43: DRIVER KIT | C43: 10 | D43: kg | H43: 3500 | I43: =I44-0.75 -> 9 | J43: =I43*0.7457*1000 -> 6711.3 | K43: =J43/((2*PI()*H43)/60) -> 18.310913 | L43: =((($H16/$F$53)*($C$58))/(60))*2.24*0.44704 -> 6.4151592 | M43: =L43*2.237 -> 14.350711 | N43: =J16/L43 -> 1046.1627 | O43: =(0.5*$C$71*$C$28*$C$27*L43^2) -> 36.611005 | P43: =0.02*9.81*($C$41+$C$42+$C$43+$C$44+$C$45+$C$46) -> 111.31015 | Q43: =0.05*9.81*($C$41+$C$42+$C$43+$C$44+$C$45+$C$46) -> 278.27537 | R43: =0.1*9.81*($C$41+$C$42+$C$43+$C$44+$C$45+$C$46) -> 556.55073 | S43: =0.013*9.81*($C$41+$C$42+$C$43+$C$44+$C$45+$C$46) -> 72.351595 | T43: =9.81*SIN(RADIANS(0))*($C$47) -> 0 | U43: =O43+P43+T43 -> 147.92115 | V43: =O43+Q43+T43 -> 314.88637 | W43: =O43+R43+T43 -> 593.16174 | X43: =O43+S43+T43 -> 108.9626 | Y43: =N43-U43 -> 898.24151 | Z43: =N43-V43 -> 731.27629 | AA43: =IF(N43-W43<0,0,N43-W43) -> 453.00092 | AB43: =N43-X43 -> 937.20006 | AC43: =N43/$C$69 -> 1.7812474 | AD43: =((((0.6)*($C$47)*(9.81)*(COS(0))*(($D$21)-(0.02)*(($C$21)-($C$37))))/($C$16))/(((1)-((0.6)*($C$21)))/($C$16)))*(10^-3) -> 2.0334491 | AE43: =((((0.68)*($C$47)*(9.81)*(COS(0))*(($D$21)-(0.05)*(($C$21)-($C$37))))/($C$16))/(((1)-((0.68)*($C$21)))/($C$16)))*(10^-3) -> 2.3693106 | AF43: =((((0.55)*($C$47)*(9.81)*(COS(0))*(($D$21)-(0.1)*(($C$21)-($C$37))))/($C$16))/(((1)-((0.55)*($C$21)))/($C$16)))*(10^-3) -> 1.8207441 | AG43: =((((0.85)*($C$47)*(9.81)*(COS(0))*(($D$21)-(0.013)*(($C$21)-($C$37))))/($C$16))/(((1)-((0.85)*($C$21)))/($C$16)))*(10^-3) -> 3.172205 | AH43: =0.6*9.81 -> 5.886 | AI43: =0.68*9.81 -> 6.6708 | AJ43: =0.55*9.81 -> 5.3955 | AK43: =0.85*9.81 -> 8.3385
B44: PASSENGER | C44: 80 | D44: kg | H44: 3750 | I44: =I45-0.75 -> 9.75 | J44: =I44*0.7457*1000 -> 7270.575 | K44: =J44/((2*PI()*H44)/60) -> 18.514367 | L44: =((($H17/$F$53)*($C$58))/(60))*2.24*0.44704 -> 6.8733849 | M44: =L44*2.237 -> 15.375762 | N44: =J17/L44 -> 1057.7867 | O44: =(0.5*$C$71*$C$28*$C$27*L44^2) -> 42.02794 | P44: =0.02*9.81*($C$41+$C$42+$C$43+$C$44+$C$45+$C$46) -> 111.31015 | Q44: =0.05*9.81*($C$41+$C$42+$C$43+$C$44+$C$45+$C$46) -> 278.27537 | R44: =0.1*9.81*($C$41+$C$42+$C$43+$C$44+$C$45+$C$46) -> 556.55073 | S44: =0.013*9.81*($C$41+$C$42+$C$43+$C$44+$C$45+$C$46) -> 72.351595 | T44: =9.81*SIN(RADIANS(0))*($C$47) -> 0 | U44: =O44+P44+T44 -> 153.33809 | V44: =O44+Q44+T44 -> 320.3033 | W44: =O44+R44+T44 -> 598.57867 | X44: =O44+S44+T44 -> 114.37953 | Y44: =N44-U44 -> 904.4486 | Z44: =N44-V44 -> 737.48338 | AA44: =IF(N44-W44<0,0,N44-W44) -> 459.20802 | AB44: =N44-X44 -> 943.40715 | AC44: =N44/$C$69 -> 1.8010391 | AD44: =((((0.6)*($C$47)*(9.81)*(COS(0))*(($D$21)-(0.02)*(($C$21)-($C$37))))/($C$16))/(((1)-((0.6)*($C$21)))/($C$16)))*(10^-3) -> 2.0334491 | AE44: =((((0.68)*($C$47)*(9.81)*(COS(0))*(($D$21)-(0.05)*(($C$21)-($C$37))))/($C$16))/(((1)-((0.68)*($C$21)))/($C$16)))*(10^-3) -> 2.3693106 | AF44: =((((0.55)*($C$47)*(9.81)*(COS(0))*(($D$21)-(0.1)*(($C$21)-($C$37))))/($C$16))/(((1)-((0.55)*($C$21)))/($C$16)))*(10^-3) -> 1.8207441 | AG44: =((((0.85)*($C$47)*(9.81)*(COS(0))*(($D$21)-(0.013)*(($C$21)-($C$37))))/($C$16))/(((1)-((0.85)*($C$21)))/($C$16)))*(10^-3) -> 3.172205 | AH44: =0.6*9.81 -> 5.886 | AI44: =0.68*9.81 -> 6.6708 | AJ44: =0.55*9.81 -> 5.3955 | AK44: =0.85*9.81 -> 8.3385
B45: PASSENGER KIT | C45: 10 | D45: kg | H45: 4000 | I45: =I46-0.75 -> 10.5 | J45: =I45*0.7457*1000 -> 7829.85 | K45: =J45/((2*PI()*H45)/60) -> 18.69239 | L45: =((($H18/$F$53)*($C$58))/(60))*2.24*0.44704 -> 7.3316105 | M45: =L45*2.237 -> 16.400813 | N45: =J18/L45 -> 1067.9577 | O45: =(0.5*$C$71*$C$28*$C$27*L45^2) -> 47.818456 | P45: =0.02*9.81*($C$41+$C$42+$C$43+$C$44+$C$45+$C$46) -> 111.31015 | Q45: =0.05*9.81*($C$41+$C$42+$C$43+$C$44+$C$45+$C$46) -> 278.27537 | R45: =0.1*9.81*($C$41+$C$42+$C$43+$C$44+$C$45+$C$46) -> 556.55073 | S45: =0.013*9.81*($C$41+$C$42+$C$43+$C$44+$C$45+$C$46) -> 72.351595 | T45: =9.81*SIN(RADIANS(0))*($C$47) -> 0 | U45: =O45+P45+T45 -> 159.1286 | V45: =O45+Q45+T45 -> 326.09382 | W45: =O45+R45+T45 -> 604.36919 | X45: =O45+S45+T45 -> 120.17005 | Y45: =N45-U45 -> 908.82911 | Z45: =N45-V45 -> 741.86389 | AA45: =IF(N45-W45<0,0,N45-W45) -> 463.58853 | AB45: =N45-X45 -> 947.78766 | AC45: =N45/$C$69 -> 1.8183567 | AD45: =((((0.6)*($C$47)*(9.81)*(COS(0))*(($D$21)-(0.02)*(($C$21)-($C$37))))/($C$16))/(((1)-((0.6)*($C$21)))/($C$16)))*(10^-3) -> 2.0334491 | AE45: =((((0.68)*($C$47)*(9.81)*(COS(0))*(($D$21)-(0.05)*(($C$21)-($C$37))))/($C$16))/(((1)-((0.68)*($C$21)))/($C$16)))*(10^-3) -> 2.3693106 | AF45: =((((0.55)*($C$47)*(9.81)*(COS(0))*(($D$21)-(0.1)*(($C$21)-($C$37))))/($C$16))/(((1)-((0.55)*($C$21)))/($C$16)))*(10^-3) -> 1.8207441 | AG45: =((((0.85)*($C$47)*(9.81)*(COS(0))*(($D$21)-(0.013)*(($C$21)-($C$37))))/($C$16))/(((1)-((0.85)*($C$21)))/($C$16)))*(10^-3) -> 3.172205 | AH45: =0.6*9.81 -> 5.886 | AI45: =0.68*9.81 -> 6.6708 | AJ45: =0.55*9.81 -> 5.3955 | AK45: =0.85*9.81 -> 8.3385
B46: FUEL | C46: =C22*0.77 -> 22.33 | D46: kg | H46: 4250 | I46: =I47-0.75 -> 11.25 | J46: =I46*0.7457*1000 -> 8389.125 | K46: =J46/((2*PI()*H46)/60) -> 18.849469 | L46: =((($H19/$F$53)*($C$58))/(60))*2.24*0.44704 -> 7.7898362 | M46: =L46*2.237 -> 17.425864 | N46: =J19/L46 -> 1076.9321 | O46: =(0.5*$C$71*$C$28*$C$27*L46^2) -> 53.982554 | P46: =0.02*9.81*($C$41+$C$42+$C$43+$C$44+$C$45+$C$46) -> 111.31015 | Q46: =0.05*9.81*($C$41+$C$42+$C$43+$C$44+$C$45+$C$46) -> 278.27537 | R46: =0.1*9.81*($C$41+$C$42+$C$43+$C$44+$C$45+$C$46) -> 556.55073 | S46: =0.013*9.81*($C$41+$C$42+$C$43+$C$44+$C$45+$C$46) -> 72.351595 | T46: =9.81*SIN(RADIANS(0))*($C$47) -> 0 | U46: =O46+P46+T46 -> 165.2927 | V46: =O46+Q46+T46 -> 332.25792 | W46: =O46+R46+T46 -> 610.53328 | X46: =O46+S46+T46 -> 126.33415 | Y46: =N46-U46 -> 911.63945 | Z46: =N46-V46 -> 744.67423 | AA46: =IF(N46-W46<0,0,N46-W46) -> 466.39886 | AB46: =N46-X46 -> 950.598 | AC46: =N46/$C$69 -> 1.8336371 | AD46: =((((0.6)*($C$47)*(9.81)*(COS(0))*(($D$21)-(0.02)*(($C$21)-($C$37))))/($C$16))/(((1)-((0.6)*($C$21)))/($C$16)))*(10^-3) -> 2.0334491 | AE46: =((((0.68)*($C$47)*(9.81)*(COS(0))*(($D$21)-(0.05)*(($C$21)-($C$37))))/($C$16))/(((1)-((0.68)*($C$21)))/($C$16)))*(10^-3) -> 2.3693106 | AF46: =((((0.55)*($C$47)*(9.81)*(COS(0))*(($D$21)-(0.1)*(($C$21)-($C$37))))/($C$16))/(((1)-((0.55)*($C$21)))/($C$16)))*(10^-3) -> 1.8207441 | AG46: =((((0.85)*($C$47)*(9.81)*(COS(0))*(($D$21)-(0.013)*(($C$21)-($C$37))))/($C$16))/(((1)-((0.85)*($C$21)))/($C$16)))*(10^-3) -> 3.172205 | AH46: =0.6*9.81 -> 5.886 | AI46: =0.68*9.81 -> 6.6708 | AJ46: =0.55*9.81 -> 5.3955 | AK46: =0.85*9.81 -> 8.3385
B47: TOTAL | C47: =SUM(C41:C46) -> 567.33 | D47: kg | H47: 4500 | I47: =I48-0.75 -> 12 | J47: =I47*0.7457*1000 -> 8948.4 | K47: =J47/((2*PI()*H47)/60) -> 18.989095 | L47: =((($H20/$F$53)*($C$58))/(60))*2.24*0.44704 -> 8.2480618 | M47: =L47*2.237 -> 18.450914 | N47: =J20/L47 -> 1084.9094 | O47: =(0.5*$C$71*$C$28*$C$27*L47^2) -> 60.520233 | P47: =0.02*9.81*($C$41+$C$42+$C$43+$C$44+$C$45+$C$46) -> 111.31015 | Q47: =0.05*9.81*($C$41+$C$42+$C$43+$C$44+$C$45+$C$46) -> 278.27537 | R47: =0.1*9.81*($C$41+$C$42+$C$43+$C$44+$C$45+$C$46) -> 556.55073 | S47: =0.013*9.81*($C$41+$C$42+$C$43+$C$44+$C$45+$C$46) -> 72.351595 | T47: =9.81*SIN(RADIANS(0))*($C$47) -> 0 | U47: =O47+P47+T47 -> 171.83038 | V47: =O47+Q47+T47 -> 338.7956 | W47: =O47+R47+T47 -> 617.07096 | X47: =O47+S47+T47 -> 132.87183 | Y47: =N47-U47 -> 913.07904 | Z47: =N47-V47 -> 746.11382 | AA47: =IF(N47-W47<0,0,N47-W47) -> 467.83846 | AB47: =N47-X47 -> 952.03759 | AC47: =N47/$C$69 -> 1.8472196 | AD47: =((((0.6)*($C$47)*(9.81)*(COS(0))*(($D$21)-(0.02)*(($C$21)-($C$37))))/($C$16))/(((1)-((0.6)*($C$21)))/($C$16)))*(10^-3) -> 2.0334491 | AE47: =((((0.68)*($C$47)*(9.81)*(COS(0))*(($D$21)-(0.05)*(($C$21)-($C$37))))/($C$16))/(((1)-((0.68)*($C$21)))/($C$16)))*(10^-3) -> 2.3693106 | AF47: =((((0.55)*($C$47)*(9.81)*(COS(0))*(($D$21)-(0.1)*(($C$21)-($C$37))))/($C$16))/(((1)-((0.55)*($C$21)))/($C$16)))*(10^-3) -> 1.8207441 | AG47: =((((0.85)*($C$47)*(9.81)*(COS(0))*(($D$21)-(0.013)*(($C$21)-($C$37))))/($C$16))/(((1)-((0.85)*($C$21)))/($C$16)))*(10^-3) -> 3.172205 | AH47: =0.6*9.81 -> 5.886 | AI47: =0.68*9.81 -> 6.6708 | AJ47: =0.55*9.81 -> 5.3955 | AK47: =0.85*9.81 -> 8.3385
H48: 4750 | I48: =I49-0.75 -> 12.75 | J48: =I48*0.7457*1000 -> 9507.675 | K48: =J48/((2*PI()*H48)/60) -> 19.114023 | L48: =((($H21/$F$53)*($C$58))/(60))*2.24*0.44704 -> 8.7062875 | M48: =L48*2.237 -> 19.475965 | N48: =J21/L48 -> 1092.047 | O48: =(0.5*$C$71*$C$28*$C$27*L48^2) -> 67.431494 | P48: =0.02*9.81*($C$41+$C$42+$C$43+$C$44+$C$45+$C$46) -> 111.31015 | Q48: =0.05*9.81*($C$41+$C$42+$C$43+$C$44+$C$45+$C$46) -> 278.27537 | R48: =0.1*9.81*($C$41+$C$42+$C$43+$C$44+$C$45+$C$46) -> 556.55073 | S48: =0.013*9.81*($C$41+$C$42+$C$43+$C$44+$C$45+$C$46) -> 72.351595 | T48: =9.81*SIN(RADIANS(0))*($C$47) -> 0 | U48: =O48+P48+T48 -> 178.74164 | V48: =O48+Q48+T48 -> 345.70686 | W48: =O48+R48+T48 -> 623.98222 | X48: =O48+S48+T48 -> 139.78309 | Y48: =N48-U48 -> 913.30534 | Z48: =N48-V48 -> 746.34013 | AA48: =IF(N48-W48<0,0,N48-W48) -> 468.06476 | AB48: =N48-X48 -> 952.2639 | AC48: =N48/$C$69 -> 1.8593723 | AD48: =((((0.6)*($C$47)*(9.81)*(COS(0))*(($D$21)-(0.02)*(($C$21)-($C$37))))/($C$16))/(((1)-((0.6)*($C$21)))/($C$16)))*(10^-3) -> 2.0334491 | AE48: =((((0.68)*($C$47)*(9.81)*(COS(0))*(($D$21)-(0.05)*(($C$21)-($C$37))))/($C$16))/(((1)-((0.68)*($C$21)))/($C$16)))*(10^-3) -> 2.3693106 | AF48: =((((0.55)*($C$47)*(9.81)*(COS(0))*(($D$21)-(0.1)*(($C$21)-($C$37))))/($C$16))/(((1)-((0.55)*($C$21)))/($C$16)))*(10^-3) -> 1.8207441 | AG48: =((((0.85)*($C$47)*(9.81)*(COS(0))*(($D$21)-(0.013)*(($C$21)-($C$37))))/($C$16))/(((1)-((0.85)*($C$21)))/($C$16)))*(10^-3) -> 3.172205 | AH48: =0.6*9.81 -> 5.886 | AI48: =0.68*9.81 -> 6.6708 | AJ48: =0.55*9.81 -> 5.3955 | AK48: =0.85*9.81 -> 8.3385
B49: GEARING | H49: 5000 | I49: =I50-0.75 -> 13.5 | J49: =I49*0.7457*1000 -> 10066.95 | K49: =J49/((2*PI()*H49)/60) -> 19.226458 | L49: =((($H22/$F$53)*($C$58))/(60))*2.24*0.44704 -> 9.1645131 | M49: =L49*2.237 -> 20.501016 | N49: =J22/L49 -> 1098.4708 | O49: =(0.5*$C$71*$C$28*$C$27*L49^2) -> 74.716337 | P49: =0.02*9.81*($C$41+$C$42+$C$43+$C$44+$C$45+$C$46) -> 111.31015 | Q49: =0.05*9.81*($C$41+$C$42+$C$43+$C$44+$C$45+$C$46) -> 278.27537 | R49: =0.1*9.81*($C$41+$C$42+$C$43+$C$44+$C$45+$C$46) -> 556.55073 | S49: =0.013*9.81*($C$41+$C$42+$C$43+$C$44+$C$45+$C$46) -> 72.351595 | T49: =9.81*SIN(RADIANS(0))*($C$47) -> 0 | U49: =O49+P49+T49 -> 186.02648 | V49: =O49+Q49+T49 -> 352.9917 | W49: =O49+R49+T49 -> 631.26707 | X49: =O49+S49+T49 -> 147.06793 | Y49: =N49-U49 -> 912.44431 | Z49: =N49-V49 -> 745.47909 | AA49: =IF(N49-W49<0,0,N49-W49) -> 467.20372 | AB49: =N49-X49 -> 951.40286 | AC49: =N49/$C$69 -> 1.8703098 | AD49: =((((0.6)*($C$47)*(9.81)*(COS(0))*(($D$21)-(0.02)*(($C$21)-($C$37))))/($C$16))/(((1)-((0.6)*($C$21)))/($C$16)))*(10^-3) -> 2.0334491 | AE49: =((((0.68)*($C$47)*(9.81)*(COS(0))*(($D$21)-(0.05)*(($C$21)-($C$37))))/($C$16))/(((1)-((0.68)*($C$21)))/($C$16)))*(10^-3) -> 2.3693106 | AF49: =((((0.55)*($C$47)*(9.81)*(COS(0))*(($D$21)-(0.1)*(($C$21)-($C$37))))/($C$16))/(((1)-((0.55)*($C$21)))/($C$16)))*(10^-3) -> 1.8207441 | AG49: =((((0.85)*($C$47)*(9.81)*(COS(0))*(($D$21)-(0.013)*(($C$21)-($C$37))))/($C$16))/(((1)-((0.85)*($C$21)))/($C$16)))*(10^-3) -> 3.172205 | AH49: =0.6*9.81 -> 5.886 | AI49: =0.68*9.81 -> 6.6708 | AJ49: =0.55*9.81 -> 5.3955 | AK49: =0.85*9.81 -> 8.3385
C50: INPUT | D50: OUTPUT | E50: RATIO | F50: FINAL RATIO | H50: 5250 | I50: =I51-0.75 -> 14.25 | J50: =I50*0.7457*1000 -> 10626.225 | K50: =J50/((2*PI()*H50)/60)-1.5 -> 17.828186 | L50: =((($H23/$F$53)*($C$58))/(60))*2.24*0.44704 -> 9.6227388 | M50: =L50*2.237 -> 21.526067 | N50: =J23/L50 -> 1104.2828 | O50: =(0.5*$C$71*$C$28*$C$27*L50^2) -> 82.374762 | P50: =0.02*9.81*($C$41+$C$42+$C$43+$C$44+$C$45+$C$46) -> 111.31015 | Q50: =0.05*9.81*($C$41+$C$42+$C$43+$C$44+$C$45+$C$46) -> 278.27537 | R50: =0.1*9.81*($C$41+$C$42+$C$43+$C$44+$C$45+$C$46) -> 556.55073 | S50: =0.013*9.81*($C$41+$C$42+$C$43+$C$44+$C$45+$C$46) -> 72.351595 | T50: =9.81*SIN(RADIANS(0))*($C$47) -> 0 | U50: =O50+P50+T50 -> 193.68491 | V50: =O50+Q50+T50 -> 360.65013 | W50: =O50+R50+T50 -> 638.92549 | X50: =O50+S50+T50 -> 154.72636 | Y50: =N50-U50 -> 910.5979 | Z50: =N50-V50 -> 743.63268 | AA50: =IF(N50-W50<0,0,N50-W50) -> 465.35731 | AB50: =N50-X50 -> 949.55645 | AC50: =N50/$C$69 -> 1.8802056 | AD50: =((((0.6)*($C$47)*(9.81)*(COS(0))*(($D$21)-(0.02)*(($C$21)-($C$37))))/($C$16))/(((1)-((0.6)*($C$21)))/($C$16)))*(10^-3) -> 2.0334491 | AE50: =((((0.68)*($C$47)*(9.81)*(COS(0))*(($D$21)-(0.05)*(($C$21)-($C$37))))/($C$16))/(((1)-((0.68)*($C$21)))/($C$16)))*(10^-3) -> 2.3693106 | AF50: =((((0.55)*($C$47)*(9.81)*(COS(0))*(($D$21)-(0.1)*(($C$21)-($C$37))))/($C$16))/(((1)-((0.55)*($C$21)))/($C$16)))*(10^-3) -> 1.8207441 | AG50: =((((0.85)*($C$47)*(9.81)*(COS(0))*(($D$21)-(0.013)*(($C$21)-($C$37))))/($C$16))/(((1)-((0.85)*($C$21)))/($C$16)))*(10^-3) -> 3.172205 | AH50: =0.6*9.81 -> 5.886 | AI50: =0.68*9.81 -> 6.6708 | AJ50: =0.55*9.81 -> 5.3955 | AK50: =0.85*9.81 -> 8.3385
B51: PRIMARY | C51: 26 | D51: 85 | E51: =D51/C51 -> 3.2692308 | H51: 5500 | I51: =I52-0.75 -> 15 | J51: =I51*0.7457*1000 -> 11185.5 | K51: =K50-1.5 -> 16.328186 | L51: =((($H24/$F$53)*($C$58))/(60))*2.24*0.44704 -> 10.080964 | M51: =L51*2.237 -> 22.551118 | N51: =J24/L51 -> 1109.5665 | O51: =(0.5*$C$71*$C$28*$C$27*L51^2) -> 90.406768 | P51: =0.02*9.81*($C$41+$C$42+$C$43+$C$44+$C$45+$C$46) -> 111.31015 | Q51: =0.05*9.81*($C$41+$C$42+$C$43+$C$44+$C$45+$C$46) -> 278.27537 | R51: =0.1*9.81*($C$41+$C$42+$C$43+$C$44+$C$45+$C$46) -> 556.55073 | S51: =0.013*9.81*($C$41+$C$42+$C$43+$C$44+$C$45+$C$46) -> 72.351595 | T51: =9.81*SIN(RADIANS(0))*($C$47) -> 0 | U51: =O51+P51+T51 -> 201.71691 | V51: =O51+Q51+T51 -> 368.68213 | W51: =O51+R51+T51 -> 646.9575 | X51: =O51+S51+T51 -> 162.75836 | Y51: =N51-U51 -> 907.84954 | Z51: =N51-V51 -> 740.88432 | AA51: =IF(N51-W51<0,0,N51-W51) -> 462.60896 | AB51: =N51-X51 -> 946.80809 | AC51: =N51/$C$69 -> 1.8892018 | AD51: =((((0.6)*($C$47)*(9.81)*(COS(0))*(($D$21)-(0.02)*(($C$21)-($C$37))))/($C$16))/(((1)-((0.6)*($C$21)))/($C$16)))*(10^-3) -> 2.0334491 | AE51: =((((0.68)*($C$47)*(9.81)*(COS(0))*(($D$21)-(0.05)*(($C$21)-($C$37))))/($C$16))/(((1)-((0.68)*($C$21)))/($C$16)))*(10^-3) -> 2.3693106 | AF51: =((((0.55)*($C$47)*(9.81)*(COS(0))*(($D$21)-(0.1)*(($C$21)-($C$37))))/($C$16))/(((1)-((0.55)*($C$21)))/($C$16)))*(10^-3) -> 1.8207441 | AG51: =((((0.85)*($C$47)*(9.81)*(COS(0))*(($D$21)-(0.013)*(($C$21)-($C$37))))/($C$16))/(((1)-((0.85)*($C$21)))/($C$16)))*(10^-3) -> 3.172205 | AH51: =0.6*9.81 -> 5.886 | AI51: =0.68*9.81 -> 6.6708 | AJ51: =0.55*9.81 -> 5.3955 | AK51: =0.85*9.81 -> 8.3385
B52: FIRST | C52: 24 | D52: 13 | E52: =C52/D52 -> 1.8461538 | F52: =$E$51*E52*$E$55 -> 21.12426 | H52: 5750 | I52: =I53-0.75 -> 15.75 | J52: =I52*0.7457*1000 -> 11744.775 | K52: =K51-1.5 -> 14.828186 | L52: =((($H25/$F$53)*($C$58))/(60))*2.24*0.44704 -> 10.53919 | M52: =L52*2.237 -> 23.576168 | N52: =J25/L52 -> 1114.3907 | O52: =(0.5*$C$71*$C$28*$C$27*L52^2) -> 98.812356 | P52: =0.02*9.81*($C$41+$C$42+$C$43+$C$44+$C$45+$C$46) -> 111.31015 | Q52: =0.05*9.81*($C$41+$C$42+$C$43+$C$44+$C$45+$C$46) -> 278.27537 | R52: =0.1*9.81*($C$41+$C$42+$C$43+$C$44+$C$45+$C$46) -> 556.55073 | S52: =0.013*9.81*($C$41+$C$42+$C$43+$C$44+$C$45+$C$46) -> 72.351595 | T52: =9.81*SIN(RADIANS(0))*($C$47) -> 0 | U52: =O52+P52+T52 -> 210.1225 | V52: =O52+Q52+T52 -> 377.08772 | W52: =O52+R52+T52 -> 655.36309 | X52: =O52+S52+T52 -> 171.16395 | Y52: =N52-U52 -> 904.26815 | Z52: =N52-V52 -> 737.30294 | AA52: =IF(N52-W52<0,0,N52-W52) -> 459.02757 | AB52: =N52-X52 -> 943.22671 | AC52: =N52/$C$69 -> 1.8974157 | AD52: =((((0.6)*($C$47)*(9.81)*(COS(0))*(($D$21)-(0.02)*(($C$21)-($C$37))))/($C$16))/(((1)-((0.6)*($C$21)))/($C$16)))*(10^-3) -> 2.0334491 | AE52: =((((0.68)*($C$47)*(9.81)*(COS(0))*(($D$21)-(0.05)*(($C$21)-($C$37))))/($C$16))/(((1)-((0.68)*($C$21)))/($C$16)))*(10^-3) -> 2.3693106 | AF52: =((((0.55)*($C$47)*(9.81)*(COS(0))*(($D$21)-(0.1)*(($C$21)-($C$37))))/($C$16))/(((1)-((0.55)*($C$21)))/($C$16)))*(10^-3) -> 1.8207441 | AG52: =((((0.85)*($C$47)*(9.81)*(COS(0))*(($D$21)-(0.013)*(($C$21)-($C$37))))/($C$16))/(((1)-((0.85)*($C$21)))/($C$16)))*(10^-3) -> 3.172205 | AH52: =0.6*9.81 -> 5.886 | AI52: =0.68*9.81 -> 6.6708 | AJ52: =0.55*9.81 -> 5.3955 | AK52: =0.85*9.81 -> 8.3385
B53: SECOND | C53: 31 | D53: 20 | E53: =C53/D53 -> 1.55 | F53: =$E$51*E53*$E$55 -> 17.735577 | H53: 6000 | I53: =I54-0.75 -> 16.5 | J53: =I53*0.7457*1000 -> 12304.05 | K53: =K52-1.5 -> 13.328186 | L53: =((($H26/$F$53)*($C$58))/(60))*2.24*0.44704 -> 10.997416 | M53: =L53*2.237 -> 24.601219 | N53: =J26/L53 -> 1118.8128 | O53: =(0.5*$C$71*$C$28*$C$27*L53^2) -> 107.59153 | P53: =0.02*9.81*($C$41+$C$42+$C$43+$C$44+$C$45+$C$46) -> 111.31015 | Q53: =0.05*9.81*($C$41+$C$42+$C$43+$C$44+$C$45+$C$46) -> 278.27537 | R53: =0.1*9.81*($C$41+$C$42+$C$43+$C$44+$C$45+$C$46) -> 556.55073 | S53: =0.013*9.81*($C$41+$C$42+$C$43+$C$44+$C$45+$C$46) -> 72.351595 | T53: =9.81*SIN(RADIANS(0))*($C$47) -> 0 | U53: =O53+P53+T53 -> 218.90167 | V53: =O53+Q53+T53 -> 385.86689 | W53: =O53+R53+T53 -> 664.14226 | X53: =O53+S53+T53 -> 179.94312 | Y53: =N53-U53 -> 899.91117 | Z53: =N53-V53 -> 732.94595 | AA53: =IF(N53-W53<0,0,N53-W53) -> 454.67059 | AB53: =N53-X53 -> 938.86972 | AC53: =N53/$C$69 -> 1.9049452 | AD53: =((((0.6)*($C$47)*(9.81)*(COS(0))*(($D$21)-(0.02)*(($C$21)-($C$37))))/($C$16))/(((1)-((0.6)*($C$21)))/($C$16)))*(10^-3) -> 2.0334491 | AE53: =((((0.68)*($C$47)*(9.81)*(COS(0))*(($D$21)-(0.05)*(($C$21)-($C$37))))/($C$16))/(((1)-((0.68)*($C$21)))/($C$16)))*(10^-3) -> 2.3693106 | AF53: =((((0.55)*($C$47)*(9.81)*(COS(0))*(($D$21)-(0.1)*(($C$21)-($C$37))))/($C$16))/(((1)-((0.55)*($C$21)))/($C$16)))*(10^-3) -> 1.8207441 | AG53: =((((0.85)*($C$47)*(9.81)*(COS(0))*(($D$21)-(0.013)*(($C$21)-($C$37))))/($C$16))/(((1)-((0.85)*($C$21)))/($C$16)))*(10^-3) -> 3.172205 | AH53: =0.6*9.81 -> 5.886 | AI53: =0.68*9.81 -> 6.6708 | AJ53: =0.55*9.81 -> 5.3955 | AK53: =0.85*9.81 -> 8.3385
B54: THIRD | C54: 33 | D54: 27 | E54: =C54/D54 -> 1.2222222 | F54: =$E$51*E54*$E$55 -> 13.985043 | H54: 6250 | I54: =I55-0.75 -> 17.25 | J54: =I54*0.7457*1000 -> 12863.325 | K54: =K53-1.5 -> 11.828186 | L54: =((($H27/$F$53)*($C$58))/(60))*2.24*0.44704 -> 11.455641 | M54: =L54*2.237 -> 25.62627 | N54: =J27/L54 -> 1122.8813 | O54: =(0.5*$C$71*$C$28*$C$27*L54^2) -> 116.74428 | P54: =0.02*9.81*($C$41+$C$42+$C$43+$C$44+$C$45+$C$46) -> 111.31015 | Q54: =0.05*9.81*($C$41+$C$42+$C$43+$C$44+$C$45+$C$46) -> 278.27537 | R54: =0.1*9.81*($C$41+$C$42+$C$43+$C$44+$C$45+$C$46) -> 556.55073 | S54: =0.013*9.81*($C$41+$C$42+$C$43+$C$44+$C$45+$C$46) -> 72.351595 | T54: =9.81*SIN(RADIANS(0))*($C$47) -> 0 | U54: =O54+P54+T54 -> 228.05442 | V54: =O54+Q54+T54 -> 395.01964 | W54: =O54+R54+T54 -> 673.29501 | X54: =O54+S54+T54 -> 189.09587 | Y54: =N54-U54 -> 894.82683 | Z54: =N54-V54 -> 727.86161 | AA54: =IF(N54-W54<0,0,N54-W54) -> 449.58625 | AB54: =N54-X54 -> 933.78538 | AC54: =N54/$C$69 -> 1.9118722 | AD54: =((((0.6)*($C$47)*(9.81)*(COS(0))*(($D$21)-(0.02)*(($C$21)-($C$37))))/($C$16))/(((1)-((0.6)*($C$21)))/($C$16)))*(10^-3) -> 2.0334491 | AE54: =((((0.68)*($C$47)*(9.81)*(COS(0))*(($D$21)-(0.05)*(($C$21)-($C$37))))/($C$16))/(((1)-((0.68)*($C$21)))/($C$16)))*(10^-3) -> 2.3693106 | AF54: =((((0.55)*($C$47)*(9.81)*(COS(0))*(($D$21)-(0.1)*(($C$21)-($C$37))))/($C$16))/(((1)-((0.55)*($C$21)))/($C$16)))*(10^-3) -> 1.8207441 | AG54: =((((0.85)*($C$47)*(9.81)*(COS(0))*(($D$21)-(0.013)*(($C$21)-($C$37))))/($C$16))/(((1)-((0.85)*($C$21)))/($C$16)))*(10^-3) -> 3.172205 | AH54: =0.6*9.81 -> 5.886 | AI54: =0.68*9.81 -> 6.6708 | AJ54: =0.55*9.81 -> 5.3955 | AK54: =0.85*9.81 -> 8.3385
B55: FINAL | C55: 12 | D55: 42 | E55: =D55/C55 -> 3.5 | H55: 6500 | I55: 18 | J55: =I55*0.7457*1000 -> 13422.6 | K55: =K54-1.5 -> 10.328186 | L55: =((($H28/$F$53)*($C$58))/(60))*2.24*0.44704 -> 11.913867 | M55: =L55*2.237 -> 26.651321 | N55: =J28/L55 -> 1126.6367 | O55: =(0.5*$C$71*$C$28*$C$27*L55^2) -> 126.27061 | P55: =0.02*9.81*($C$41+$C$42+$C$43+$C$44+$C$45+$C$46) -> 111.31015 | Q55: =0.05*9.81*($C$41+$C$42+$C$43+$C$44+$C$45+$C$46) -> 278.27537 | R55: =0.1*9.81*($C$41+$C$42+$C$43+$C$44+$C$45+$C$46) -> 556.55073 | S55: =0.013*9.81*($C$41+$C$42+$C$43+$C$44+$C$45+$C$46) -> 72.351595 | T55: =9.81*SIN(RADIANS(0))*($C$47) -> 0 | U55: =O55+P55+T55 -> 237.58076 | V55: =O55+Q55+T55 -> 404.54597 | W55: =O55+R55+T55 -> 682.82134 | X55: =O55+S55+T55 -> 198.6222 | Y55: =N55-U55 -> 889.05595 | Z55: =N55-V55 -> 722.09073 | AA55: =IF(N55-W55<0,0,N55-W55) -> 443.81537 | AB55: =N55-X55 -> 928.0145 | AC55: =N55/$C$69 -> 1.9182665 | AD55: =((((0.6)*($C$47)*(9.81)*(COS(0))*(($D$21)-(0.02)*(($C$21)-($C$37))))/($C$16))/(((1)-((0.6)*($C$21)))/($C$16)))*(10^-3) -> 2.0334491 | AE55: =((((0.68)*($C$47)*(9.81)*(COS(0))*(($D$21)-(0.05)*(($C$21)-($C$37))))/($C$16))/(((1)-((0.68)*($C$21)))/($C$16)))*(10^-3) -> 2.3693106 | AF55: =((((0.55)*($C$47)*(9.81)*(COS(0))*(($D$21)-(0.1)*(($C$21)-($C$37))))/($C$16))/(((1)-((0.55)*($C$21)))/($C$16)))*(10^-3) -> 1.8207441 | AG55: =((((0.85)*($C$47)*(9.81)*(COS(0))*(($D$21)-(0.013)*(($C$21)-($C$37))))/($C$16))/(((1)-((0.85)*($C$21)))/($C$16)))*(10^-3) -> 3.172205 | AH55: =0.6*9.81 -> 5.886 | AI55: =0.68*9.81 -> 6.6708 | AJ55: =0.55*9.81 -> 5.3955 | AK55: =0.85*9.81 -> 8.3385
H56: RPM | I56: POWER | J56: POWER | K56: TORQUE | L56: THIRD
B57: WHEEL TRAVEL | I57: BHP | J57: W | K57: NM | L57: VELOCITY | M57: VELOCITY | N57: FORCE | O57: Aero Drag Force | P57: Rolling Resistance (Gravel) | Q57: Rolling Resistance (Dirt) | R57: Rolling Resistance (Grass) | S57: Rolling Resistance (Ashphalt) | T57: Gradient Resistance | U57: Total Resistant Forces (Gravel) | V57: Total Resistant Forces (Dirt) | W57: Total Resistant Forces (Grass) | X57: Total Resistant Forces (Ashphalt) | Y57: Net Driving Force (Gravel) | Z57: Net Driving Force (Dirt) | AA57: Net Driving Force (Grass) | AB57: Net Driving Force (Ashphalt) | AC57: Available Engine Acceleration | AD57: Traction Limited Acceleration (Gravel) | AE57: Traction Limited Acceleration (Dirt) | AF57: Traction Limited Acceleration (Grass) | AG57: Traction Limited Acceleration (Ashphalt) | AH57: Traction Limited Deceleration (Gravel) | AI57: Traction Limited Deceleration (Dirt) | AJ57: Traction Limited Deceleration (Grass) | AK57: Traction Limited Deceleration (Ashphalt)
B58: φ | C58: =2*PI()*0.31 -> 1.9477874 | D58: m | L58: m/s | M58: mph | N58: N | O58: N | P58: N | Q58: N | R58: N | S58: N | T58: N | U58: N | V58: N | W58: N | X58: N | Y58: N | Z58: N | AA58: N | AB58: N | AC58: m/s² | AD58: m/s² | AE58: m/s² | AF58: m/s² | AG58: m/s² | AH58: m/s² | AI58: m/s² | AJ58: m/s² | AK58: m/s²
B59: REAR WHEEL TRAVEL | C59: =C55/D55*0.607*PI() -> 0.54484193 | D59: m | H59: 750 | I59: =I60-0.75 -> 0.75 | J59: =I59*0.7457*1000 -> 559.275 | K59: =J59/((2*PI()*H59)/60) -> 7.1209105 | L59: =((($H5/$F$54)*($C$58))/(60))*2.24*0.44704 -> 1.7433403 | M59: =L59*2.237 -> 3.8998523 | N59: =J5/L59 -> 320.80655 | O59: =(0.5*$C$71*$C$28*$C$27*L59^2) -> 2.7037164 | P59: =0.02*9.81*($C$41+$C$42+$C$43+$C$44+$C$45+$C$46) -> 111.31015 | Q59: =0.05*9.81*($C$41+$C$42+$C$43+$C$44+$C$45+$C$46) -> 278.27537 | R59: =0.1*9.81*($C$41+$C$42+$C$43+$C$44+$C$45+$C$46) -> 556.55073 | S59: =0.013*9.81*($C$41+$C$42+$C$43+$C$44+$C$45+$C$46) -> 72.351595 | T59: =9.81*SIN(RADIANS(0))*($C$47) -> 0 | U59: =O59+P59+T59 -> 114.01386 | V59: =O59+Q59+T59 -> 280.97908 | W59: =O59+R59+T59 -> 559.25445 | X59: =O59+S59+T59 -> 75.055311 | Y59: =N59-U59 -> 206.79269 | Z59: =N59-V59 -> 39.827468 | AA59: =IF(N59-W59<0,0,N59-W59) -> 0 | AB59: =N59-X59 -> 245.75124 | AC59: =N59/$C$70 -> 0.54824811 | AD59: =((((0.6)*($C$47)*(9.81)*(COS(0))*(($D$21)-(0.02)*(($C$21)-($C$37))))/($C$16))/(((1)-((0.6)*($C$21)))/($C$16)))*(10^-3) -> 2.0334491 | AE59: =((((0.68)*($C$47)*(9.81)*(COS(0))*(($D$21)-(0.05)*(($C$21)-($C$37))))/($C$16))/(((1)-((0.68)*($C$21)))/($C$16)))*(10^-3) -> 2.3693106 | AF59: =((((0.55)*($C$47)*(9.81)*(COS(0))*(($D$21)-(0.1)*(($C$21)-($C$37))))/($C$16))/(((1)-((0.55)*($C$21)))/($C$16)))*(10^-3) -> 1.8207441 | AG59: =((((0.85)*($C$47)*(9.81)*(COS(0))*(($D$21)-(0.013)*(($C$21)-($C$37))))/($C$16))/(((1)-((0.85)*($C$21)))/($C$16)))*(10^-3) -> 3.172205 | AH59: =0.6*9.81 -> 5.886 | AI59: =0.68*9.81 -> 6.6708 | AJ59: =0.55*9.81 -> 5.3955 | AK59: =0.85*9.81 -> 8.3385
C60: SPROCKET ROTATION | E60: WHEEL TRAVEL (m) | H60: 1000 | I60: =I61-0.75 -> 1.5 | J60: =I60*0.7457*1000 -> 1118.55 | K60: =J60/((2*PI()*H60)/60) -> 10.681366 | L60: =((($H6/$F$54)*($C$58))/(60))*2.24*0.44704 -> 2.3244538 | M60: =L60*2.237 -> 5.1998031 | N60: =J6/L60 -> 481.20982 | O60: =(0.5*$C$71*$C$28*$C$27*L60^2) -> 4.8066069 | P60: =0.02*9.81*($C$41+$C$42+$C$43+$C$44+$C$45+$C$46) -> 111.31015 | Q60: =0.05*9.81*($C$41+$C$42+$C$43+$C$44+$C$45+$C$46) -> 278.27537 | R60: =0.1*9.81*($C$41+$C$42+$C$43+$C$44+$C$45+$C$46) -> 556.55073 | S60: =0.013*9.81*($C$41+$C$42+$C$43+$C$44+$C$45+$C$46) -> 72.351595 | T60: =9.81*SIN(RADIANS(0))*($C$47) -> 0 | U60: =O60+P60+T60 -> 116.11675 | V60: =O60+Q60+T60 -> 283.08197 | W60: =O60+R60+T60 -> 561.35734 | X60: =O60+S60+T60 -> 77.158202 | Y60: =N60-U60 -> 365.09307 | Z60: =N60-V60 -> 198.12785 | AA60: =IF(N60-W60<0,0,N60-W60) -> 0 | AB60: =N60-X60 -> 404.05162 | AC60: =N60/$C$70 -> 0.82237216 | AD60: =((((0.6)*($C$47)*(9.81)*(COS(0))*(($D$21)-(0.02)*(($C$21)-($C$37))))/($C$16))/(((1)-((0.6)*($C$21)))/($C$16)))*(10^-3) -> 2.0334491 | AE60: =((((0.68)*($C$47)*(9.81)*(COS(0))*(($D$21)-(0.05)*(($C$21)-($C$37))))/($C$16))/(((1)-((0.68)*($C$21)))/($C$16)))*(10^-3) -> 2.3693106 | AF60: =((((0.55)*($C$47)*(9.81)*(COS(0))*(($D$21)-(0.1)*(($C$21)-($C$37))))/($C$16))/(((1)-((0.55)*($C$21)))/($C$16)))*(10^-3) -> 1.8207441 | AG60: =((((0.85)*($C$47)*(9.81)*(COS(0))*(($D$21)-(0.013)*(($C$21)-($C$37))))/($C$16))/(((1)-((0.85)*($C$21)))/($C$16)))*(10^-3) -> 3.172205 | AH60: =0.6*9.81 -> 5.886 | AI60: =0.68*9.81 -> 6.6708 | AJ60: =0.55*9.81 -> 5.3955 | AK60: =0.85*9.81 -> 8.3385
B61: FIRST | C61: 1 | E61: =$C$59/E52 -> 0.29512271 | H61: 1250 | I61: =I62-0.75 -> 2.25 | J61: =I61*0.7457*1000 -> 1677.825 | K61: =J61/((2*PI()*H61)/60) -> 12.817639 | L61: =((($H7/$F$54)*($C$58))/(60))*2.24*0.44704 -> 2.9055672 | M61: =L61*2.237 -> 6.4997539 | N61: =J7/L61 -> 577.45179 | O61: =(0.5*$C$71*$C$28*$C$27*L61^2) -> 7.5103233 | P61: =0.02*9.81*($C$41+$C$42+$C$43+$C$44+$C$45+$C$46) -> 111.31015 | Q61: =0.05*9.81*($C$41+$C$42+$C$43+$C$44+$C$45+$C$46) -> 278.27537 | R61: =0.1*9.81*($C$41+$C$42+$C$43+$C$44+$C$45+$C$46) -> 556.55073 | S61: =0.013*9.81*($C$41+$C$42+$C$43+$C$44+$C$45+$C$46) -> 72.351595 | T61: =9.81*SIN(RADIANS(0))*($C$47) -> 0 | U61: =O61+P61+T61 -> 118.82047 | V61: =O61+Q61+T61 -> 285.78569 | W61: =O61+R61+T61 -> 564.06105 | X61: =O61+S61+T61 -> 79.861918 | Y61: =N61-U61 -> 458.63132 | Z61: =N61-V61 -> 291.6661 | AA61: =IF(N61-W61<0,0,N61-W61) -> 13.390736 | AB61: =N61-X61 -> 497.58987 | AC61: =N61/$C$70 -> 0.98684659 | AD61: =((((0.6)*($C$47)*(9.81)*(COS(0))*(($D$21)-(0.02)*(($C$21)-($C$37))))/($C$16))/(((1)-((0.6)*($C$21)))/($C$16)))*(10^-3) -> 2.0334491 | AE61: =((((0.68)*($C$47)*(9.81)*(COS(0))*(($D$21)-(0.05)*(($C$21)-($C$37))))/($C$16))/(((1)-((0.68)*($C$21)))/($C$16)))*(10^-3) -> 2.3693106 | AF61: =((((0.55)*($C$47)*(9.81)*(COS(0))*(($D$21)-(0.1)*(($C$21)-($C$37))))/($C$16))/(((1)-((0.55)*($C$21)))/($C$16)))*(10^-3) -> 1.8207441 | AG61: =((((0.85)*($C$47)*(9.81)*(COS(0))*(($D$21)-(0.013)*(($C$21)-($C$37))))/($C$16))/(((1)-((0.85)*($C$21)))/($C$16)))*(10^-3) -> 3.172205 | AH61: =0.6*9.81 -> 5.886 | AI61: =0.68*9.81 -> 6.6708 | AJ61: =0.55*9.81 -> 5.3955 | AK61: =0.85*9.81 -> 8.3385
B62: SECOND | C62: 1 | E62: =$C$59/E53 -> 0.35151092 | H62: 1500 | I62: =I63-0.75 -> 3 | J62: =I62*0.7457*1000 -> 2237.1 | K62: =J62/((2*PI()*H62)/60) -> 14.241821 | L62: =((($H8/$F$54)*($C$58))/(60))*2.24*0.44704 -> 3.4866807 | M62: =L62*2.237 -> 7.7997047 | N62: =J8/L62 -> 641.6131 | O62: =(0.5*$C$71*$C$28*$C$27*L62^2) -> 10.814866 | P62: =0.02*9.81*($C$41+$C$42+$C$43+$C$44+$C$45+$C$46) -> 111.31015 | Q62: =0.05*9.81*($C$41+$C$42+$C$43+$C$44+$C$45+$C$46) -> 278.27537 | R62: =0.1*9.81*($C$41+$C$42+$C$43+$C$44+$C$45+$C$46) -> 556.55073 | S62: =0.013*9.81*($C$41+$C$42+$C$43+$C$44+$C$45+$C$46) -> 72.351595 | T62: =9.81*SIN(RADIANS(0))*($C$47) -> 0 | U62: =O62+P62+T62 -> 122.12501 | V62: =O62+Q62+T62 -> 289.09023 | W62: =O62+R62+T62 -> 567.3656 | X62: =O62+S62+T62 -> 83.166461 | Y62: =N62-U62 -> 519.48809 | Z62: =N62-V62 -> 352.52287 | AA62: =IF(N62-W62<0,0,N62-W62) -> 74.247504 | AB62: =N62-X62 -> 558.44664 | AC62: =N62/$C$70 -> 1.0964962 | AD62: =((((0.6)*($C$47)*(9.81)*(COS(0))*(($D$21)-(0.02)*(($C$21)-($C$37))))/($C$16))/(((1)-((0.6)*($C$21)))/($C$16)))*(10^-3) -> 2.0334491 | AE62: =((((0.68)*($C$47)*(9.81)*(COS(0))*(($D$21)-(0.05)*(($C$21)-($C$37))))/($C$16))/(((1)-((0.68)*($C$21)))/($C$16)))*(10^-3) -> 2.3693106 | AF62: =((((0.55)*($C$47)*(9.81)*(COS(0))*(($D$21)-(0.1)*(($C$21)-($C$37))))/($C$16))/(((1)-((0.55)*($C$21)))/($C$16)))*(10^-3) -> 1.8207441 | AG62: =((((0.85)*($C$47)*(9.81)*(COS(0))*(($D$21)-(0.013)*(($C$21)-($C$37))))/($C$16))/(((1)-((0.85)*($C$21)))/($C$16)))*(10^-3) -> 3.172205 | AH62: =0.6*9.81 -> 5.886 | AI62: =0.68*9.81 -> 6.6708 | AJ62: =0.55*9.81 -> 5.3955 | AK62: =0.85*9.81 -> 8.3385
B63: THIRD | C63: 1 | E63: =$C$59/E54 -> 0.44577976 | H63: 1750 | I63: =I64-0.75 -> 3.75 | J63: =I63*0.7457*1000 -> 2796.375 | K63: =J63/((2*PI()*H63)/60) -> 15.259094 | L63: =((($H9/$F$54)*($C$58))/(60))*2.24*0.44704 -> 4.0677941 | M63: =L63*2.237 -> 9.0996555 | N63: =J9/L63 -> 687.44261 | O63: =(0.5*$C$71*$C$28*$C$27*L63^2) -> 14.720234 | P63: =0.02*9.81*($C$41+$C$42+$C$43+$C$44+$C$45+$C$46) -> 111.31015 | Q63: =0.05*9.81*($C$41+$C$42+$C$43+$C$44+$C$45+$C$46) -> 278.27537 | R63: =0.1*9.81*($C$41+$C$42+$C$43+$C$44+$C$45+$C$46) -> 556.55073 | S63: =0.013*9.81*($C$41+$C$42+$C$43+$C$44+$C$45+$C$46) -> 72.351595 | T63: =9.81*SIN(RADIANS(0))*($C$47) -> 0 | U63: =O63+P63+T63 -> 126.03038 | V63: =O63+Q63+T63 -> 292.9956 | W63: =O63+R63+T63 -> 571.27096 | X63: =O63+S63+T63 -> 87.071829 | Y63: =N63-U63 -> 561.41223 | Z63: =N63-V63 -> 394.44701 | AA63: =IF(N63-W63<0,0,N63-W63) -> 116.17164 | AB63: =N63-X63 -> 600.37078 | AC63: =N63/$C$70 -> 1.1748174 | AD63: =((((0.6)*($C$47)*(9.81)*(COS(0))*(($D$21)-(0.02)*(($C$21)-($C$37))))/($C$16))/(((1)-((0.6)*($C$21)))/($C$16)))*(10^-3) -> 2.0334491 | AE63: =((((0.68)*($C$47)*(9.81)*(COS(0))*(($D$21)-(0.05)*(($C$21)-($C$37))))/($C$16))/(((1)-((0.68)*($C$21)))/($C$16)))*(10^-3) -> 2.3693106 | AF63: =((((0.55)*($C$47)*(9.81)*(COS(0))*(($D$21)-(0.1)*(($C$21)-($C$37))))/($C$16))/(((1)-((0.55)*($C$21)))/($C$16)))*(10^-3) -> 1.8207441 | AG63: =((((0.85)*($C$47)*(9.81)*(COS(0))*(($D$21)-(0.013)*(($C$21)-($C$37))))/($C$16))/(((1)-((0.85)*($C$21)))/($C$16)))*(10^-3) -> 3.172205 | AH63: =0.6*9.81 -> 5.886 | AI63: =0.68*9.81 -> 6.6708 | AJ63: =0.55*9.81 -> 5.3955 | AK63: =0.85*9.81 -> 8.3385
H64: 2000 | I64: =I65-0.75 -> 4.5 | J64: =I64*0.7457*1000 -> 3355.65 | K64: =J64/((2*PI()*H64)/60) -> 16.022049 | L64: =((($H10/$F$54)*($C$58))/(60))*2.24*0.44704 -> 4.6489076 | M64: =L64*2.237 -> 10.399606 | N64: =J10/L64 -> 721.81474 | O64: =(0.5*$C$71*$C$28*$C$27*L64^2) -> 19.226428 | P64: =0.02*9.81*($C$41+$C$42+$C$43+$C$44+$C$45+$C$46) -> 111.31015 | Q64: =0.05*9.81*($C$41+$C$42+$C$43+$C$44+$C$45+$C$46) -> 278.27537 | R64: =0.1*9.81*($C$41+$C$42+$C$43+$C$44+$C$45+$C$46) -> 556.55073 | S64: =0.013*9.81*($C$41+$C$42+$C$43+$C$44+$C$45+$C$46) -> 72.351595 | T64: =9.81*SIN(RADIANS(0))*($C$47) -> 0 | U64: =O64+P64+T64 -> 130.53657 | V64: =O64+Q64+T64 -> 297.50179 | W64: =O64+R64+T64 -> 575.77716 | X64: =O64+S64+T64 -> 91.578023 | Y64: =N64-U64 -> 591.27816 | Z64: =N64-V64 -> 424.31294 | AA64: =IF(N64-W64<0,0,N64-W64) -> 146.03758 | AB64: =N64-X64 -> 630.23671 | AC64: =N64/$C$70 -> 1.2335582 | AD64: =((((0.6)*($C$47)*(9.81)*(COS(0))*(($D$21)-(0.02)*(($C$21)-($C$37))))/($C$16))/(((1)-((0.6)*($C$21)))/($C$16)))*(10^-3) -> 2.0334491 | AE64: =((((0.68)*($C$47)*(9.81)*(COS(0))*(($D$21)-(0.05)*(($C$21)-($C$37))))/($C$16))/(((1)-((0.68)*($C$21)))/($C$16)))*(10^-3) -> 2.3693106 | AF64: =((((0.55)*($C$47)*(9.81)*(COS(0))*(($D$21)-(0.1)*(($C$21)-($C$37))))/($C$16))/(((1)-((0.55)*($C$21)))/($C$16)))*(10^-3) -> 1.8207441 | AG64: =((((0.85)*($C$47)*(9.81)*(COS(0))*(($D$21)-(0.013)*(($C$21)-($C$37))))/($C$16))/(((1)-((0.85)*($C$21)))/($C$16)))*(10^-3) -> 3.172205 | AH64: =0.6*9.81 -> 5.886 | AI64: =0.68*9.81 -> 6.6708 | AJ64: =0.55*9.81 -> 5.3955 | AK64: =0.85*9.81 -> 8.3385
B65: INERTIA AND REDUCED MASSES | H65: 2250 | I65: =I66-0.75 -> 5.25 | J65: =I65*0.7457*1000 -> 3914.925 | K65: =J65/((2*PI()*H65)/60) -> 16.615458 | L65: =((($H11/$F$54)*($C$58))/(60))*2.24*0.44704 -> 5.230021 | M65: =L65*2.237 -> 11.699557 | N65: =J11/L65 -> 748.54862 | O65: =(0.5*$C$71*$C$28*$C$27*L65^2) -> 24.333448 | P65: =0.02*9.81*($C$41+$C$42+$C$43+$C$44+$C$45+$C$46) -> 111.31015 | Q65: =0.05*9.81*($C$41+$C$42+$C$43+$C$44+$C$45+$C$46) -> 278.27537 | R65: =0.1*9.81*($C$41+$C$42+$C$43+$C$44+$C$45+$C$46) -> 556.55073 | S65: =0.013*9.81*($C$41+$C$42+$C$43+$C$44+$C$45+$C$46) -> 72.351595 | T65: =9.81*SIN(RADIANS(0))*($C$47) -> 0 | U65: =O65+P65+T65 -> 135.64359 | V65: =O65+Q65+T65 -> 302.60881 | W65: =O65+R65+T65 -> 580.88418 | X65: =O65+S65+T65 -> 96.685043 | Y65: =N65-U65 -> 612.90502 | Z65: =N65-V65 -> 445.9398 | AA65: =IF(N65-W65<0,0,N65-W65) -> 167.66444 | AB65: =N65-X65 -> 651.86357 | AC65: =N65/$C$70 -> 1.2792456 | AD65: =((((0.6)*($C$47)*(9.81)*(COS(0))*(($D$21)-(0.02)*(($C$21)-($C$37))))/($C$16))/(((1)-((0.6)*($C$21)))/($C$16)))*(10^-3) -> 2.0334491 | AE65: =((((0.68)*($C$47)*(9.81)*(COS(0))*(($D$21)-(0.05)*(($C$21)-($C$37))))/($C$16))/(((1)-((0.68)*($C$21)))/($C$16)))*(10^-3) -> 2.3693106 | AF65: =((((0.55)*($C$47)*(9.81)*(COS(0))*(($D$21)-(0.1)*(($C$21)-($C$37))))/($C$16))/(((1)-((0.55)*($C$21)))/($C$16)))*(10^-3) -> 1.8207441 | AG65: =((((0.85)*($C$47)*(9.81)*(COS(0))*(($D$21)-(0.013)*(($C$21)-($C$37))))/($C$16))/(((1)-((0.85)*($C$21)))/($C$16)))*(10^-3) -> 3.172205 | AH65: =0.6*9.81 -> 5.886 | AI65: =0.68*9.81 -> 6.6708 | AJ65: =0.55*9.81 -> 5.3955 | AK65: =0.85*9.81 -> 8.3385
B66: WHEEL INERTIA | C66: 0.95 | D66: kgm² | H66: 2500 | I66: =I67-0.75 -> 6 | J66: =I66*0.7457*1000 -> 4474.2 | K66: =J66/((2*PI()*H66)/60) -> 17.090185 | L66: =((($H12/$F$54)*($C$58))/(60))*2.24*0.44704 -> 5.8111345 | M66: =L66*2.237 -> 12.999508 | N66: =J12/L66 -> 769.93572 | O66: =(0.5*$C$71*$C$28*$C$27*L66^2) -> 30.041293 | P66: =0.02*9.81*($C$41+$C$42+$C$43+$C$44+$C$45+$C$46) -> 111.31015 | Q66: =0.05*9.81*($C$41+$C$42+$C$43+$C$44+$C$45+$C$46) -> 278.27537 | R66: =0.1*9.81*($C$41+$C$42+$C$43+$C$44+$C$45+$C$46) -> 556.55073 | S66: =0.013*9.81*($C$41+$C$42+$C$43+$C$44+$C$45+$C$46) -> 72.351595 | T66: =9.81*SIN(RADIANS(0))*($C$47) -> 0 | U66: =O66+P66+T66 -> 141.35144 | V66: =O66+Q66+T66 -> 308.31666 | W66: =O66+R66+T66 -> 586.59202 | X66: =O66+S66+T66 -> 102.39289 | Y66: =N66-U66 -> 628.58428 | Z66: =N66-V66 -> 461.61906 | AA66: =IF(N66-W66<0,0,N66-W66) -> 183.3437 | AB66: =N66-X66 -> 667.54283 | AC66: =N66/$C$70 -> 1.3157955 | AD66: =((((0.6)*($C$47)*(9.81)*(COS(0))*(($D$21)-(0.02)*(($C$21)-($C$37))))/($C$16))/(((1)-((0.6)*($C$21)))/($C$16)))*(10^-3) -> 2.0334491 | AE66: =((((0.68)*($C$47)*(9.81)*(COS(0))*(($D$21)-(0.05)*(($C$21)-($C$37))))/($C$16))/(((1)-((0.68)*($C$21)))/($C$16)))*(10^-3) -> 2.3693106 | AF66: =((((0.55)*($C$47)*(9.81)*(COS(0))*(($D$21)-(0.1)*(($C$21)-($C$37))))/($C$16))/(((1)-((0.55)*($C$21)))/($C$16)))*(10^-3) -> 1.8207441 | AG66: =((((0.85)*($C$47)*(9.81)*(COS(0))*(($D$21)-(0.013)*(($C$21)-($C$37))))/($C$16))/(((1)-((0.85)*($C$21)))/($C$16)))*(10^-3) -> 3.172205 | AH66: =0.6*9.81 -> 5.886 | AI66: =0.68*9.81 -> 6.6708 | AJ66: =0.55*9.81 -> 5.3955 | AK66: =0.85*9.81 -> 8.3385
B67: ENGINE INERTIA | C67: 0.17 | D67: kgm² | H67: 2750 | I67: =I68-0.75 -> 6.75 | J67: =I67*0.7457*1000 -> 5033.475 | K67: =J67/((2*PI()*H67)/60) -> 17.478598 | L67: =((($H13/$F$54)*($C$58))/(60))*2.24*0.44704 -> 6.3922479 | M67: =L67*2.237 -> 14.299459 | N67: =J13/L67 -> 787.43426 | O67: =(0.5*$C$71*$C$28*$C$27*L67^2) -> 36.349965 | P67: =0.02*9.81*($C$41+$C$42+$C$43+$C$44+$C$45+$C$46) -> 111.31015 | Q67: =0.05*9.81*($C$41+$C$42+$C$43+$C$44+$C$45+$C$46) -> 278.27537 | R67: =0.1*9.81*($C$41+$C$42+$C$43+$C$44+$C$45+$C$46) -> 556.55073 | S67: =0.013*9.81*($C$41+$C$42+$C$43+$C$44+$C$45+$C$46) -> 72.351595 | T67: =9.81*SIN(RADIANS(0))*($C$47) -> 0 | U67: =O67+P67+T67 -> 147.66011 | V67: =O67+Q67+T67 -> 314.62533 | W67: =O67+R67+T67 -> 592.90069 | X67: =O67+S67+T67 -> 108.70156 | Y67: =N67-U67 -> 639.77415 | Z67: =N67-V67 -> 472.80893 | AA67: =IF(N67-W67<0,0,N67-W67) -> 194.53356 | AB67: =N67-X67 -> 678.7327 | AC67: =N67/$C$70 -> 1.3456999 | AD67: =((((0.6)*($C$47)*(9.81)*(COS(0))*(($D$21)-(0.02)*(($C$21)-($C$37))))/($C$16))/(((1)-((0.6)*($C$21)))/($C$16)))*(10^-3) -> 2.0334491 | AE67: =((((0.68)*($C$47)*(9.81)*(COS(0))*(($D$21)-(0.05)*(($C$21)-($C$37))))/($C$16))/(((1)-((0.68)*($C$21)))/($C$16)))*(10^-3) -> 2.3693106 | AF67: =((((0.55)*($C$47)*(9.81)*(COS(0))*(($D$21)-(0.1)*(($C$21)-($C$37))))/($C$16))/(((1)-((0.55)*($C$21)))/($C$16)))*(10^-3) -> 1.8207441 | AG67: =((((0.85)*($C$47)*(9.81)*(COS(0))*(($D$21)-(0.013)*(($C$21)-($C$37))))/($C$16))/(((1)-((0.85)*($C$21)))/($C$16)))*(10^-3) -> 3.172205 | AH67: =0.6*9.81 -> 5.886 | AI67: =0.68*9.81 -> 6.6708 | AJ67: =0.55*9.81 -> 5.3955 | AK67: =0.85*9.81 -> 8.3385
B68: FIRST | C68: =$C$47+4*($C$66/$C$37)+$C$67*(E52^2/$C$37^2) -> 589.72408 | H68: 3000 | I68: =I69-0.75 -> 7.5 | J68: =I68*0.7457*1000 -> 5592.75 | K68: =J68/((2*PI()*H68)/60) -> 17.802276 | L68: =((($H14/$F$54)*($C$58))/(60))*2.24*0.44704 -> 6.9733614 | M68: =L68*2.237 -> 15.599409 | N68: =J14/L68 -> 802.01637 | O68: =(0.5*$C$71*$C$28*$C$27*L68^2) -> 43.259462 | P68: =0.02*9.81*($C$41+$C$42+$C$43+$C$44+$C$45+$C$46) -> 111.31015 | Q68: =0.05*9.81*($C$41+$C$42+$C$43+$C$44+$C$45+$C$46) -> 278.27537 | R68: =0.1*9.81*($C$41+$C$42+$C$43+$C$44+$C$45+$C$46) -> 556.55073 | S68: =0.013*9.81*($C$41+$C$42+$C$43+$C$44+$C$45+$C$46) -> 72.351595 | T68: =9.81*SIN(RADIANS(0))*($C$47) -> 0 | U68: =O68+P68+T68 -> 154.56961 | V68: =O68+Q68+T68 -> 321.53483 | W68: =O68+R68+T68 -> 599.81019 | X68: =O68+S68+T68 -> 115.61106 | Y68: =N68-U68 -> 647.44677 | Z68: =N68-V68 -> 480.48155 | AA68: =IF(N68-W68<0,0,N68-W68) -> 202.20618 | AB68: =N68-X68 -> 686.40532 | AC68: =N68/$C$70 -> 1.3706203 | AD68: =((((0.6)*($C$47)*(9.81)*(COS(0))*(($D$21)-(0.02)*(($C$21)-($C$37))))/($C$16))/(((1)-((0.6)*($C$21)))/($C$16)))*(10^-3) -> 2.0334491 | AE68: =((((0.68)*($C$47)*(9.81)*(COS(0))*(($D$21)-(0.05)*(($C$21)-($C$37))))/($C$16))/(((1)-((0.68)*($C$21)))/($C$16)))*(10^-3) -> 2.3693106 | AF68: =((((0.55)*($C$47)*(9.81)*(COS(0))*(($D$21)-(0.1)*(($C$21)-($C$37))))/($C$16))/(((1)-((0.55)*($C$21)))/($C$16)))*(10^-3) -> 1.8207441 | AG68: =((((0.85)*($C$47)*(9.81)*(COS(0))*(($D$21)-(0.013)*(($C$21)-($C$37))))/($C$16))/(((1)-((0.85)*($C$21)))/($C$16)))*(10^-3) -> 3.172205 | AH68: =0.6*9.81 -> 5.886 | AI68: =0.68*9.81 -> 6.6708 | AJ68: =0.55*9.81 -> 5.3955 | AK68: =0.85*9.81 -> 8.3385
B69: SECOND | C69: =$C$47+4*($C$66/$C$37)+$C$67*(E53^2/$C$37^2) -> 587.32024 | H69: 3250 | I69: =I70-0.75 -> 8.25 | J69: =I69*0.7457*1000 -> 6152.025 | K69: =J69/((2*PI()*H69)/60) -> 18.076157 | L69: =((($H15/$F$54)*($C$58))/(60))*2.24*0.44704 -> 7.5544748 | M69: =L69*2.237 -> 16.89936 | N69: =J15/L69 -> 814.35509 | O69: =(0.5*$C$71*$C$28*$C$27*L69^2) -> 50.769786 | P69: =0.02*9.81*($C$41+$C$42+$C$43+$C$44+$C$45+$C$46) -> 111.31015 | Q69: =0.05*9.81*($C$41+$C$42+$C$43+$C$44+$C$45+$C$46) -> 278.27537 | R69: =0.1*9.81*($C$41+$C$42+$C$43+$C$44+$C$45+$C$46) -> 556.55073 | S69: =0.013*9.81*($C$41+$C$42+$C$43+$C$44+$C$45+$C$46) -> 72.351595 | T69: =9.81*SIN(RADIANS(0))*($C$47) -> 0 | U69: =O69+P69+T69 -> 162.07993 | V69: =O69+Q69+T69 -> 329.04515 | W69: =O69+R69+T69 -> 607.32052 | X69: =O69+S69+T69 -> 123.12138 | Y69: =N69-U69 -> 652.27516 | Z69: =N69-V69 -> 485.30994 | AA69: =IF(N69-W69<0,0,N69-W69) -> 207.03457 | AB69: =N69-X69 -> 691.23371 | AC69: =N69/$C$70 -> 1.3917067 | AD69: =((((0.6)*($C$47)*(9.81)*(COS(0))*(($D$21)-(0.02)*(($C$21)-($C$37))))/($C$16))/(((1)-((0.6)*($C$21)))/($C$16)))*(10^-3) -> 2.0334491 | AE69: =((((0.68)*($C$47)*(9.81)*(COS(0))*(($D$21)-(0.05)*(($C$21)-($C$37))))/($C$16))/(((1)-((0.68)*($C$21)))/($C$16)))*(10^-3) -> 2.3693106 | AF69: =((((0.55)*($C$47)*(9.81)*(COS(0))*(($D$21)-(0.1)*(($C$21)-($C$37))))/($C$16))/(((1)-((0.55)*($C$21)))/($C$16)))*(10^-3) -> 1.8207441 | AG69: =((((0.85)*($C$47)*(9.81)*(COS(0))*(($D$21)-(0.013)*(($C$21)-($C$37))))/($C$16))/(((1)-((0.85)*($C$21)))/($C$16)))*(10^-3) -> 3.172205 | AH69: =0.6*9.81 -> 5.886 | AI69: =0.68*9.81 -> 6.6708 | AJ69: =0.55*9.81 -> 5.3955 | AK69: =0.85*9.81 -> 8.3385
B70: THIRD | C70: =$C$47+4*($C$66/$C$37)+$C$67*(E54^2/$C$37^2) -> 585.14849 | H70: 3500 | I70: =I71-0.75 -> 9 | J70: =I70*0.7457*1000 -> 6711.3 | K70: =J70/((2*PI()*H70)/60) -> 18.310913 | L70: =((($H16/$F$54)*($C$58))/(60))*2.24*0.44704 -> 8.1355883 | M70: =L70*2.237 -> 18.199311 | N70: =J16/L70 -> 824.93113 | O70: =(0.5*$C$71*$C$28*$C$27*L70^2) -> 58.880935 | P70: =0.02*9.81*($C$41+$C$42+$C$43+$C$44+$C$45+$C$46) -> 111.31015 | Q70: =0.05*9.81*($C$41+$C$42+$C$43+$C$44+$C$45+$C$46) -> 278.27537 | R70: =0.1*9.81*($C$41+$C$42+$C$43+$C$44+$C$45+$C$46) -> 556.55073 | S70: =0.013*9.81*($C$41+$C$42+$C$43+$C$44+$C$45+$C$46) -> 72.351595 | T70: =9.81*SIN(RADIANS(0))*($C$47) -> 0 | U70: =O70+P70+T70 -> 170.19108 | V70: =O70+Q70+T70 -> 337.1563 | W70: =O70+R70+T70 -> 615.43167 | X70: =O70+S70+T70 -> 131.23253 | Y70: =N70-U70 -> 654.74005 | Z70: =N70-V70 -> 487.77483 | AA70: =IF(N70-W70<0,0,N70-W70) -> 209.49946 | AB70: =N70-X70 -> 693.6986 | AC70: =N70/$C$70 -> 1.4097808 | AD70: =((((0.6)*($C$47)*(9.81)*(COS(0))*(($D$21)-(0.02)*(($C$21)-($C$37))))/($C$16))/(((1)-((0.6)*($C$21)))/($C$16)))*(10^-3) -> 2.0334491 | AE70: =((((0.68)*($C$47)*(9.81)*(COS(0))*(($D$21)-(0.05)*(($C$21)-($C$37))))/($C$16))/(((1)-((0.68)*($C$21)))/($C$16)))*(10^-3) -> 2.3693106 | AF70: =((((0.55)*($C$47)*(9.81)*(COS(0))*(($D$21)-(0.1)*(($C$21)-($C$37))))/($C$16))/(((1)-((0.55)*($C$21)))/($C$16)))*(10^-3) -> 1.8207441 | AG70: =((((0.85)*($C$47)*(9.81)*(COS(0))*(($D$21)-(0.013)*(($C$21)-($C$37))))/($C$16))/(((1)-((0.85)*($C$21)))/($C$16)))*(10^-3) -> 3.172205 | AH70: =0.6*9.81 -> 5.886 | AI70: =0.68*9.81 -> 6.6708 | AJ70: =0.55*9.81 -> 5.3955 | AK70: =0.85*9.81 -> 8.3385
B71: Air Density kg/m^3 | C71: 1.167 | H71: 3750 | I71: =I72-0.75 -> 9.75 | J71: =I71*0.7457*1000 -> 7270.575 | K71: =J71/((2*PI()*H71)/60) -> 18.514367 | L71: =((($H17/$F$54)*($C$58))/(60))*2.24*0.44704 -> 8.7167017 | M71: =L71*2.237 -> 19.499262 | N71: =J17/L71 -> 834.09703 | O71: =(0.5*$C$71*$C$28*$C$27*L71^2) -> 67.59291 | P71: =0.02*9.81*($C$41+$C$42+$C$43+$C$44+$C$45+$C$46) -> 111.31015 | Q71: =0.05*9.81*($C$41+$C$42+$C$43+$C$44+$C$45+$C$46) -> 278.27537 | R71: =0.1*9.81*($C$41+$C$42+$C$43+$C$44+$C$45+$C$46) -> 556.55073 | S71: =0.013*9.81*($C$41+$C$42+$C$43+$C$44+$C$45+$C$46) -> 72.351595 | T71: =9.81*SIN(RADIANS(0))*($C$47) -> 0 | U71: =O71+P71+T71 -> 178.90306 | V71: =O71+Q71+T71 -> 345.86828 | W71: =O71+R71+T71 -> 624.14364 | X71: =O71+S71+T71 -> 139.94451 | Y71: =N71-U71 -> 655.19397 | Z71: =N71-V71 -> 488.22875 | AA71: =IF(N71-W71<0,0,N71-W71) -> 209.95339 | AB71: =N71-X71 -> 694.15252 | AC71: =N71/$C$70 -> 1.4254451 | AD71: =((((0.6)*($C$47)*(9.81)*(COS(0))*(($D$21)-(0.02)*(($C$21)-($C$37))))/($C$16))/(((1)-((0.6)*($C$21)))/($C$16)))*(10^-3) -> 2.0334491 | AE71: =((((0.68)*($C$47)*(9.81)*(COS(0))*(($D$21)-(0.05)*(($C$21)-($C$37))))/($C$16))/(((1)-((0.68)*($C$21)))/($C$16)))*(10^-3) -> 2.3693106 | AF71: =((((0.55)*($C$47)*(9.81)*(COS(0))*(($D$21)-(0.1)*(($C$21)-($C$37))))/($C$16))/(((1)-((0.55)*($C$21)))/($C$16)))*(10^-3) -> 1.8207441 | AG71: =((((0.85)*($C$47)*(9.81)*(COS(0))*(($D$21)-(0.013)*(($C$21)-($C$37))))/($C$16))/(((1)-((0.85)*($C$21)))/($C$16)))*(10^-3) -> 3.172205 | AH71: =0.6*9.81 -> 5.886 | AI71: =0.68*9.81 -> 6.6708 | AJ71: =0.55*9.81 -> 5.3955 | AK71: =0.85*9.81 -> 8.3385
H72: 4000 | I72: =I73-0.75 -> 10.5 | J72: =I72*0.7457*1000 -> 7829.85 | K72: =J72/((2*PI()*H72)/60) -> 18.69239 | L72: =((($H18/$F$54)*($C$58))/(60))*2.24*0.44704 -> 9.2978152 | M72: =L72*2.237 -> 20.799213 | N72: =J18/L72 -> 842.11719 | O72: =(0.5*$C$71*$C$28*$C$27*L72^2) -> 76.905711 | P72: =0.02*9.81*($C$41+$C$42+$C$43+$C$44+$C$45+$C$46) -> 111.31015 | Q72: =0.05*9.81*($C$41+$C$42+$C$43+$C$44+$C$45+$C$46) -> 278.27537 | R72: =0.1*9.81*($C$41+$C$42+$C$43+$C$44+$C$45+$C$46) -> 556.55073 | S72: =0.013*9.81*($C$41+$C$42+$C$43+$C$44+$C$45+$C$46) -> 72.351595 | T72: =9.81*SIN(RADIANS(0))*($C$47) -> 0 | U72: =O72+P72+T72 -> 188.21586 | V72: =O72+Q72+T72 -> 355.18108 | W72: =O72+R72+T72 -> 633.45644 | X72: =O72+S72+T72 -> 149.25731 | Y72: =N72-U72 -> 653.90134 | Z72: =N72-V72 -> 486.93612 | AA72: =IF(N72-W72<0,0,N72-W72) -> 208.66075 | AB72: =N72-X72 -> 692.85989 | AC72: =N72/$C$70 -> 1.4391513 | AD72: =((((0.6)*($C$47)*(9.81)*(COS(0))*(($D$21)-(0.02)*(($C$21)-($C$37))))/($C$16))/(((1)-((0.6)*($C$21)))/($C$16)))*(10^-3) -> 2.0334491 | AE72: =((((0.68)*($C$47)*(9.81)*(COS(0))*(($D$21)-(0.05)*(($C$21)-($C$37))))/($C$16))/(((1)-((0.68)*($C$21)))/($C$16)))*(10^-3) -> 2.3693106 | AF72: =((((0.55)*($C$47)*(9.81)*(COS(0))*(($D$21)-(0.1)*(($C$21)-($C$37))))/($C$16))/(((1)-((0.55)*($C$21)))/($C$16)))*(10^-3) -> 1.8207441 | AG72: =((((0.85)*($C$47)*(9.81)*(COS(0))*(($D$21)-(0.013)*(($C$21)-($C$37))))/($C$16))/(((1)-((0.85)*($C$21)))/($C$16)))*(10^-3) -> 3.172205 | AH72: =0.6*9.81 -> 5.886 | AI72: =0.68*9.81 -> 6.6708 | AJ72: =0.55*9.81 -> 5.3955 | AK72: =0.85*9.81 -> 8.3385
B73: Fuel Usage | H73: 4250 | I73: =I74-0.75 -> 11.25 | J73: =I73*0.7457*1000 -> 8389.125 | K73: =J73/((2*PI()*H73)/60) -> 18.849469 | L73: =((($H19/$F$54)*($C$58))/(60))*2.24*0.44704 -> 9.8789286 | M73: =L73*2.237 -> 22.099163 | N73: =J19/L73 -> 849.19381 | O73: =(0.5*$C$71*$C$28*$C$27*L73^2) -> 86.819338 | P73: =0.02*9.81*($C$41+$C$42+$C$43+$C$44+$C$45+$C$46) -> 111.31015 | Q73: =0.05*9.81*($C$41+$C$42+$C$43+$C$44+$C$45+$C$46) -> 278.27537 | R73: =0.1*9.81*($C$41+$C$42+$C$43+$C$44+$C$45+$C$46) -> 556.55073 | S73: =0.013*9.81*($C$41+$C$42+$C$43+$C$44+$C$45+$C$46) -> 72.351595 | T73: =9.81*SIN(RADIANS(0))*($C$47) -> 0 | U73: =O73+P73+T73 -> 198.12948 | V73: =O73+Q73+T73 -> 365.0947 | W73: =O73+R73+T73 -> 643.37007 | X73: =O73+S73+T73 -> 159.17093 | Y73: =N73-U73 -> 651.06432 | Z73: =N73-V73 -> 484.0991 | AA73: =IF(N73-W73<0,0,N73-W73) -> 205.82374 | AB73: =N73-X73 -> 690.02288 | AC73: =N73/$C$70 -> 1.451245 | AD73: =((((0.6)*($C$47)*(9.81)*(COS(0))*(($D$21)-(0.02)*(($C$21)-($C$37))))/($C$16))/(((1)-((0.6)*($C$21)))/($C$16)))*(10^-3) -> 2.0334491 | AE73: =((((0.68)*($C$47)*(9.81)*(COS(0))*(($D$21)-(0.05)*(($C$21)-($C$37))))/($C$16))/(((1)-((0.68)*($C$21)))/($C$16)))*(10^-3) -> 2.3693106 | AF73: =((((0.55)*($C$47)*(9.81)*(COS(0))*(($D$21)-(0.1)*(($C$21)-($C$37))))/($C$16))/(((1)-((0.55)*($C$21)))/($C$16)))*(10^-3) -> 1.8207441 | AG73: =((((0.85)*($C$47)*(9.81)*(COS(0))*(($D$21)-(0.013)*(($C$21)-($C$37))))/($C$16))/(((1)-((0.85)*($C$21)))/($C$16)))*(10^-3) -> 3.172205 | AH73: =0.6*9.81 -> 5.886 | AI73: =0.68*9.81 -> 6.6708 | AJ73: =0.55*9.81 -> 5.3955 | AK73: =0.85*9.81 -> 8.3385
B74: Fuel Consumption (g) | C74: =SUM('Drive Cycle'!W3:W1114) -> 88.456939 | H74: 4500 | I74: =I75-0.75 -> 12 | J74: =I74*0.7457*1000 -> 8948.4 | K74: =J74/((2*PI()*H74)/60) -> 18.989095 | L74: =((($H20/$F$54)*($C$58))/(60))*2.24*0.44704 -> 10.460042 | M74: =L74*2.237 -> 23.399114 | N74: =J20/L74 -> 855.48413 | O74: =(0.5*$C$71*$C$28*$C$27*L74^2) -> 97.333791 | P74: =0.02*9.81*($C$41+$C$42+$C$43+$C$44+$C$45+$C$46) -> 111.31015 | Q74: =0.05*9.81*($C$41+$C$42+$C$43+$C$44+$C$45+$C$46) -> 278.27537 | R74: =0.1*9.81*($C$41+$C$42+$C$43+$C$44+$C$45+$C$46) -> 556.55073 | S74: =0.013*9.81*($C$41+$C$42+$C$43+$C$44+$C$45+$C$46) -> 72.351595 | T74: =9.81*SIN(RADIANS(0))*($C$47) -> 0 | U74: =O74+P74+T74 -> 208.64394 | V74: =O74+Q74+T74 -> 375.60916 | W74: =O74+R74+T74 -> 653.88452 | X74: =O74+S74+T74 -> 169.68539 | Y74: =N74-U74 -> 646.8402 | Z74: =N74-V74 -> 479.87498 | AA74: =IF(N74-W74<0,0,N74-W74) -> 201.59961 | AB74: =N74-X74 -> 685.79875 | AC74: =N74/$C$70 -> 1.461995 | AD74: =((((0.6)*($C$47)*(9.81)*(COS(0))*(($D$21)-(0.02)*(($C$21)-($C$37))))/($C$16))/(((1)-((0.6)*($C$21)))/($C$16)))*(10^-3) -> 2.0334491 | AE74: =((((0.68)*($C$47)*(9.81)*(COS(0))*(($D$21)-(0.05)*(($C$21)-($C$37))))/($C$16))/(((1)-((0.68)*($C$21)))/($C$16)))*(10^-3) -> 2.3693106 | AF74: =((((0.55)*($C$47)*(9.81)*(COS(0))*(($D$21)-(0.1)*(($C$21)-($C$37))))/($C$16))/(((1)-((0.55)*($C$21)))/($C$16)))*(10^-3) -> 1.8207441 | AG74: =((((0.85)*($C$47)*(9.81)*(COS(0))*(($D$21)-(0.013)*(($C$21)-($C$37))))/($C$16))/(((1)-((0.85)*($C$21)))/($C$16)))*(10^-3) -> 3.172205 | AH74: =0.6*9.81 -> 5.886 | AI74: =0.68*9.81 -> 6.6708 | AJ74: =0.55*9.81 -> 5.3955 | AK74: =0.85*9.81 -> 8.3385
B75: Fuel Consumption (kg) | C75: =C74/1000 -> 0.088456939 | H75: 4750 | I75: =I76-0.75 -> 12.75 | J75: =I75*0.7457*1000 -> 9507.675 | K75: =J75/((2*PI()*H75)/60) -> 19.114023 | L75: =((($H21/$F$54)*($C$58))/(60))*2.24*0.44704 -> 11.041156 | M75: =L75*2.237 -> 24.699065 | N75: =J21/L75 -> 861.11232 | O75: =(0.5*$C$71*$C$28*$C$27*L75^2) -> 108.44907 | P75: =0.02*9.81*($C$41+$C$42+$C$43+$C$44+$C$45+$C$46) -> 111.31015 | Q75: =0.05*9.81*($C$41+$C$42+$C$43+$C$44+$C$45+$C$46) -> 278.27537 | R75: =0.1*9.81*($C$41+$C$42+$C$43+$C$44+$C$45+$C$46) -> 556.55073 | S75: =0.013*9.81*($C$41+$C$42+$C$43+$C$44+$C$45+$C$46) -> 72.351595 | T75: =9.81*SIN(RADIANS(0))*($C$47) -> 0 | U75: =O75+P75+T75 -> 219.75922 | V75: =O75+Q75+T75 -> 386.72443 | W75: =O75+R75+T75 -> 664.9998 | X75: =O75+S75+T75 -> 180.80066 | Y75: =N75-U75 -> 641.3531 | Z75: =N75-V75 -> 474.38788 | AA75: =IF(N75-W75<0,0,N75-W75) -> 196.11252 | AB75: =N75-X75 -> 680.31165 | AC75: =N75/$C$70 -> 1.4716133 | AD75: =((((0.6)*($C$47)*(9.81)*(COS(0))*(($D$21)-(0.02)*(($C$21)-($C$37))))/($C$16))/(((1)-((0.6)*($C$21)))/($C$16)))*(10^-3) -> 2.0334491 | AE75: =((((0.68)*($C$47)*(9.81)*(COS(0))*(($D$21)-(0.05)*(($C$21)-($C$37))))/($C$16))/(((1)-((0.68)*($C$21)))/($C$16)))*(10^-3) -> 2.3693106 | AF75: =((((0.55)*($C$47)*(9.81)*(COS(0))*(($D$21)-(0.1)*(($C$21)-($C$37))))/($C$16))/(((1)-((0.55)*($C$21)))/($C$16)))*(10^-3) -> 1.8207441 | AG75: =((((0.85)*($C$47)*(9.81)*(COS(0))*(($D$21)-(0.013)*(($C$21)-($C$37))))/($C$16))/(((1)-((0.85)*($C$21)))/($C$16)))*(10^-3) -> 3.172205 | AH75: =0.6*9.81 -> 5.886 | AI75: =0.68*9.81 -> 6.6708 | AJ75: =0.55*9.81 -> 5.3955 | AK75: =0.85*9.81 -> 8.3385
B76: Fuel Consumption (L) | C76: 0.11998602 | H76: 5000 | I76: =I77-0.75 -> 13.5 | J76: =I76*0.7457*1000 -> 10066.95 | K76: =J76/((2*PI()*H76)/60) -> 19.226458 | L76: =((($H22/$F$54)*($C$58))/(60))*2.24*0.44704 -> 11.622269 | M76: =L76*2.237 -> 25.999016 | N76: =J22/L76 -> 866.17768 | O76: =(0.5*$C$71*$C$28*$C$27*L76^2) -> 120.16517 | P76: =0.02*9.81*($C$41+$C$42+$C$43+$C$44+$C$45+$C$46) -> 111.31015 | Q76: =0.05*9.81*($C$41+$C$42+$C$43+$C$44+$C$45+$C$46) -> 278.27537 | R76: =0.1*9.81*($C$41+$C$42+$C$43+$C$44+$C$45+$C$46) -> 556.55073 | S76: =0.013*9.81*($C$41+$C$42+$C$43+$C$44+$C$45+$C$46) -> 72.351595 | T76: =9.81*SIN(RADIANS(0))*($C$47) -> 0 | U76: =O76+P76+T76 -> 231.47532 | V76: =O76+Q76+T76 -> 398.44054 | W76: =O76+R76+T76 -> 676.7159 | X76: =O76+S76+T76 -> 192.51677 | Y76: =N76-U76 -> 634.70236 | Z76: =N76-V76 -> 467.73715 | AA76: =IF(N76-W76<0,0,N76-W76) -> 189.46178 | AB76: =N76-X76 -> 673.66092 | AC76: =N76/$C$70 -> 1.4802699 | AD76: =((((0.6)*($C$47)*(9.81)*(COS(0))*(($D$21)-(0.02)*(($C$21)-($C$37))))/($C$16))/(((1)-((0.6)*($C$21)))/($C$16)))*(10^-3) -> 2.0334491 | AE76: =((((0.68)*($C$47)*(9.81)*(COS(0))*(($D$21)-(0.05)*(($C$21)-($C$37))))/($C$16))/(((1)-((0.68)*($C$21)))/($C$16)))*(10^-3) -> 2.3693106 | AF76: =((((0.55)*($C$47)*(9.81)*(COS(0))*(($D$21)-(0.1)*(($C$21)-($C$37))))/($C$16))/(((1)-((0.55)*($C$21)))/($C$16)))*(10^-3) -> 1.8207441 | AG76: =((((0.85)*($C$47)*(9.81)*(COS(0))*(($D$21)-(0.013)*(($C$21)-($C$37))))/($C$16))/(((1)-((0.85)*($C$21)))/($C$16)))*(10^-3) -> 3.172205 | AH76: =0.6*9.81 -> 5.886 | AI76: =0.68*9.81 -> 6.6708 | AJ76: =0.55*9.81 -> 5.3955 | AK76: =0.85*9.81 -> 8.3385
B77: Fuel Consumption (Gal) | C77: 0.026393232 | H77: 5250 | I77: =I78-0.75 -> 14.25 | J77: =I77*0.7457*1000 -> 10626.225 | K77: =J77/((2*PI()*H77)/60) -> 19.328186 | L77: =((($H23/$F$54)*($C$58))/(60))*2.24*0.44704 -> 12.203382 | M77: =L77*2.237 -> 27.298966 | N77: =J23/L77 -> 870.76063 | O77: =(0.5*$C$71*$C$28*$C$27*L77^2) -> 132.4821 | P77: =0.02*9.81*($C$41+$C$42+$C$43+$C$44+$C$45+$C$46) -> 111.31015 | Q77: =0.05*9.81*($C$41+$C$42+$C$43+$C$44+$C$45+$C$46) -> 278.27537 | R77: =0.1*9.81*($C$41+$C$42+$C$43+$C$44+$C$45+$C$46) -> 556.55073 | S77: =0.013*9.81*($C$41+$C$42+$C$43+$C$44+$C$45+$C$46) -> 72.351595 | T77: =9.81*SIN(RADIANS(0))*($C$47) -> 0 | U77: =O77+P77+T77 -> 243.79225 | V77: =O77+Q77+T77 -> 410.75747 | W77: =O77+R77+T77 -> 689.03283 | X77: =O77+S77+T77 -> 204.8337 | Y77: =N77-U77 -> 626.96838 | Z77: =N77-V77 -> 460.00317 | AA77: =IF(N77-W77<0,0,N77-W77) -> 181.7278 | AB77: =N77-X77 -> 665.92694 | AC77: =N77/$C$70 -> 1.488102 | AD77: =((((0.6)*($C$47)*(9.81)*(COS(0))*(($D$21)-(0.02)*(($C$21)-($C$37))))/($C$16))/(((1)-((0.6)*($C$21)))/($C$16)))*(10^-3) -> 2.0334491 | AE77: =((((0.68)*($C$47)*(9.81)*(COS(0))*(($D$21)-(0.05)*(($C$21)-($C$37))))/($C$16))/(((1)-((0.68)*($C$21)))/($C$16)))*(10^-3) -> 2.3693106 | AF77: =((((0.55)*($C$47)*(9.81)*(COS(0))*(($D$21)-(0.1)*(($C$21)-($C$37))))/($C$16))/(((1)-((0.55)*($C$21)))/($C$16)))*(10^-3) -> 1.8207441 | AG77: =((((0.85)*($C$47)*(9.81)*(COS(0))*(($D$21)-(0.013)*(($C$21)-($C$37))))/($C$16))/(((1)-((0.85)*($C$21)))/($C$16)))*(10^-3) -> 3.172205 | AH77: =0.6*9.81 -> 5.886 | AI77: =0.68*9.81 -> 6.6708 | AJ77: =0.55*9.81 -> 5.3955 | AK77: =0.85*9.81 -> 8.3385
B78: MPG | C78: 26.07 | H78: 5500 | I78: =I79-0.75 -> 15 | J78: =I78*0.7457*1000 -> 11185.5 | K78: =J78/((2*PI()*H78)/60) -> 19.420665 | L78: =((($H24/$F$54)*($C$58))/(60))*2.24*0.44704 -> 12.784496 | M78: =L78*2.237 -> 28.598917 | N78: =J24/L78 -> 874.92695 | O78: =(0.5*$C$71*$C$28*$C$27*L78^2) -> 145.39986 | P78: =0.02*9.81*($C$41+$C$42+$C$43+$C$44+$C$45+$C$46) -> 111.31015 | Q78: =0.05*9.81*($C$41+$C$42+$C$43+$C$44+$C$45+$C$46) -> 278.27537 | R78: =0.1*9.81*($C$41+$C$42+$C$43+$C$44+$C$45+$C$46) -> 556.55073 | S78: =0.013*9.81*($C$41+$C$42+$C$43+$C$44+$C$45+$C$46) -> 72.351595 | T78: =9.81*SIN(RADIANS(0))*($C$47) -> 0 | U78: =O78+P78+T78 -> 256.71001 | V78: =O78+Q78+T78 -> 423.67522 | W78: =O78+R78+T78 -> 701.95059 | X78: =O78+S78+T78 -> 217.75145 | Y78: =N78-U78 -> 618.21695 | Z78: =N78-V78 -> 451.25173 | AA78: =IF(N78-W78<0,0,N78-W78) -> 172.97636 | AB78: =N78-X78 -> 657.1755 | AC78: =N78/$C$70 -> 1.4952221 | AD78: =((((0.6)*($C$47)*(9.81)*(COS(0))*(($D$21)-(0.02)*(($C$21)-($C$37))))/($C$16))/(((1)-((0.6)*($C$21)))/($C$16)))*(10^-3) -> 2.0334491 | AE78: =((((0.68)*($C$47)*(9.81)*(COS(0))*(($D$21)-(0.05)*(($C$21)-($C$37))))/($C$16))/(((1)-((0.68)*($C$21)))/($C$16)))*(10^-3) -> 2.3693106 | AF78: =((((0.55)*($C$47)*(9.81)*(COS(0))*(($D$21)-(0.1)*(($C$21)-($C$37))))/($C$16))/(((1)-((0.55)*($C$21)))/($C$16)))*(10^-3) -> 1.8207441 | AG78: =((((0.85)*($C$47)*(9.81)*(COS(0))*(($D$21)-(0.013)*(($C$21)-($C$37))))/($C$16))/(((1)-((0.85)*($C$21)))/($C$16)))*(10^-3) -> 3.172205 | AH78: =0.6*9.81 -> 5.886 | AI78: =0.68*9.81 -> 6.6708 | AJ78: =0.55*9.81 -> 5.3955 | AK78: =0.85*9.81 -> 8.3385
H79: 5750 | I79: =I80-0.75 -> 15.75 | J79: =I79*0.7457*1000 -> 11744.775 | K79: =J79/((2*PI()*H79)/60) -> 19.505103 | L79: =((($H25/$F$54)*($C$58))/(60))*2.24*0.44704 -> 13.365609 | M79: =L79*2.237 -> 29.898868 | N79: =J25/L79 -> 878.73098 | O79: =(0.5*$C$71*$C$28*$C$27*L79^2) -> 158.91844 | P79: =0.02*9.81*($C$41+$C$42+$C$43+$C$44+$C$45+$C$46) -> 111.31015 | Q79: =0.05*9.81*($C$41+$C$42+$C$43+$C$44+$C$45+$C$46) -> 278.27537 | R79: =0.1*9.81*($C$41+$C$42+$C$43+$C$44+$C$45+$C$46) -> 556.55073 | S79: =0.013*9.81*($C$41+$C$42+$C$43+$C$44+$C$45+$C$46) -> 72.351595 | T79: =9.81*SIN(RADIANS(0))*($C$47) -> 0 | U79: =O79+P79+T79 -> 270.22859 | V79: =O79+Q79+T79 -> 437.19381 | W79: =O79+R79+T79 -> 715.46917 | X79: =O79+S79+T79 -> 231.27004 | Y79: =N79-U79 -> 608.5024 | Z79: =N79-V79 -> 441.53718 | AA79: =IF(N79-W79<0,0,N79-W79) -> 163.26181 | AB79: =N79-X79 -> 647.46095 | AC79: =N79/$C$70 -> 1.5017231 | AD79: =((((0.6)*($C$47)*(9.81)*(COS(0))*(($D$21)-(0.02)*(($C$21)-($C$37))))/($C$16))/(((1)-((0.6)*($C$21)))/($C$16)))*(10^-3) -> 2.0334491 | AE79: =((((0.68)*($C$47)*(9.81)*(COS(0))*(($D$21)-(0.05)*(($C$21)-($C$37))))/($C$16))/(((1)-((0.68)*($C$21)))/($C$16)))*(10^-3) -> 2.3693106 | AF79: =((((0.55)*($C$47)*(9.81)*(COS(0))*(($D$21)-(0.1)*(($C$21)-($C$37))))/($C$16))/(((1)-((0.55)*($C$21)))/($C$16)))*(10^-3) -> 1.8207441 | AG79: =((((0.85)*($C$47)*(9.81)*(COS(0))*(($D$21)-(0.013)*(($C$21)-($C$37))))/($C$16))/(((1)-((0.85)*($C$21)))/($C$16)))*(10^-3) -> 3.172205 | AH79: =0.6*9.81 -> 5.886 | AI79: =0.68*9.81 -> 6.6708 | AJ79: =0.55*9.81 -> 5.3955 | AK79: =0.85*9.81 -> 8.3385
H80: 6000 | I80: =I81-0.75 -> 16.5 | J80: =I80*0.7457*1000 -> 12304.05 | K80: =J80/((2*PI()*H80)/60) -> 19.582504 | L80: =((($H26/$F$54)*($C$58))/(60))*2.24*0.44704 -> 13.946723 | M80: =L80*2.237 -> 31.198819 | N80: =J26/L80 -> 882.21801 | O80: =(0.5*$C$71*$C$28*$C$27*L80^2) -> 173.03785 | P80: =0.02*9.81*($C$41+$C$42+$C$43+$C$44+$C$45+$C$46) -> 111.31015 | Q80: =0.05*9.81*($C$41+$C$42+$C$43+$C$44+$C$45+$C$46) -> 278.27537 | R80: =0.1*9.81*($C$41+$C$42+$C$43+$C$44+$C$45+$C$46) -> 556.55073 | S80: =0.013*9.81*($C$41+$C$42+$C$43+$C$44+$C$45+$C$46) -> 72.351595 | T80: =9.81*SIN(RADIANS(0))*($C$47) -> 0 | U80: =O80+P80+T80 -> 284.348 | V80: =O80+Q80+T80 -> 451.31321 | W80: =O80+R80+T80 -> 729.58858 | X80: =O80+S80+T80 -> 245.38944 | Y80: =N80-U80 -> 597.87002 | Z80: =N80-V80 -> 430.9048 | AA80: =IF(N80-W80<0,0,N80-W80) -> 152.62943 | AB80: =N80-X80 -> 636.82857 | AC80: =N80/$C$70 -> 1.5076823 | AD80: =((((0.6)*($C$47)*(9.81)*(COS(0))*(($D$21)-(0.02)*(($C$21)-($C$37))))/($C$16))/(((1)-((0.6)*($C$21)))/($C$16)))*(10^-3) -> 2.0334491 | AE80: =((((0.68)*($C$47)*(9.81)*(COS(0))*(($D$21)-(0.05)*(($C$21)-($C$37))))/($C$16))/(((1)-((0.68)*($C$21)))/($C$16)))*(10^-3) -> 2.3693106 | AF80: =((((0.55)*($C$47)*(9.81)*(COS(0))*(($D$21)-(0.1)*(($C$21)-($C$37))))/($C$16))/(((1)-((0.55)*($C$21)))/($C$16)))*(10^-3) -> 1.8207441 | AG80: =((((0.85)*($C$47)*(9.81)*(COS(0))*(($D$21)-(0.013)*(($C$21)-($C$37))))/($C$16))/(((1)-((0.85)*($C$21)))/($C$16)))*(10^-3) -> 3.172205 | AH80: =0.6*9.81 -> 5.886 | AI80: =0.68*9.81 -> 6.6708 | AJ80: =0.55*9.81 -> 5.3955 | AK80: =0.85*9.81 -> 8.3385
H81: 6250 | I81: =I82-0.75 -> 17.25 | J81: =I81*0.7457*1000 -> 12863.325 | K81: =J81/((2*PI()*H81)/60) -> 19.653713 | L81: =((($H27/$F$54)*($C$58))/(60))*2.24*0.44704 -> 14.527836 | M81: =L81*2.237 -> 32.49877 | N81: =J27/L81 -> 885.42608 | O81: =(0.5*$C$71*$C$28*$C$27*L81^2) -> 187.75808 | P81: =0.02*9.81*($C$41+$C$42+$C$43+$C$44+$C$45+$C$46) -> 111.31015 | Q81: =0.05*9.81*($C$41+$C$42+$C$43+$C$44+$C$45+$C$46) -> 278.27537 | R81: =0.1*9.81*($C$41+$C$42+$C$43+$C$44+$C$45+$C$46) -> 556.55073 | S81: =0.013*9.81*($C$41+$C$42+$C$43+$C$44+$C$45+$C$46) -> 72.351595 | T81: =9.81*SIN(RADIANS(0))*($C$47) -> 0 | U81: =O81+P81+T81 -> 299.06823 | V81: =O81+Q81+T81 -> 466.03345 | W81: =O81+R81+T81 -> 744.30881 | X81: =O81+S81+T81 -> 260.10968 | Y81: =N81-U81 -> 586.35785 | Z81: =N81-V81 -> 419.39263 | AA81: =IF(N81-W81<0,0,N81-W81) -> 141.11726 | AB81: =N81-X81 -> 625.3164 | AC81: =N81/$C$70 -> 1.5131648 | AD81: =((((0.6)*($C$47)*(9.81)*(COS(0))*(($D$21)-(0.02)*(($C$21)-($C$37))))/($C$16))/(((1)-((0.6)*($C$21)))/($C$16)))*(10^-3) -> 2.0334491 | AE81: =((((0.68)*($C$47)*(9.81)*(COS(0))*(($D$21)-(0.05)*(($C$21)-($C$37))))/($C$16))/(((1)-((0.68)*($C$21)))/($C$16)))*(10^-3) -> 2.3693106 | AF81: =((((0.55)*($C$47)*(9.81)*(COS(0))*(($D$21)-(0.1)*(($C$21)-($C$37))))/($C$16))/(((1)-((0.55)*($C$21)))/($C$16)))*(10^-3) -> 1.8207441 | AG81: =((((0.85)*($C$47)*(9.81)*(COS(0))*(($D$21)-(0.013)*(($C$21)-($C$37))))/($C$16))/(((1)-((0.85)*($C$21)))/($C$16)))*(10^-3) -> 3.172205 | AH81: =0.6*9.81 -> 5.886 | AI81: =0.68*9.81 -> 6.6708 | AJ81: =0.55*9.81 -> 5.3955 | AK81: =0.85*9.81 -> 8.3385
H82: 6500 | I82: 18 | J82: =I82*0.7457*1000 -> 13422.6 | K82: =J82/((2*PI()*H82)/60) -> 19.719444 | L82: =((($H28/$F$54)*($C$58))/(60))*2.24*0.44704 -> 15.10895 | M82: =L82*2.237 -> 33.79872 | N82: =J28/L82 -> 888.38737 | O82: =(0.5*$C$71*$C$28*$C$27*L82^2) -> 203.07914 | P82: =0.02*9.81*($C$41+$C$42+$C$43+$C$44+$C$45+$C$46) -> 111.31015 | Q82: =0.05*9.81*($C$41+$C$42+$C$43+$C$44+$C$45+$C$46) -> 278.27537 | R82: =0.1*9.81*($C$41+$C$42+$C$43+$C$44+$C$45+$C$46) -> 556.55073 | S82: =0.013*9.81*($C$41+$C$42+$C$43+$C$44+$C$45+$C$46) -> 72.351595 | T82: =9.81*SIN(RADIANS(0))*($C$47) -> 0 | U82: =O82+P82+T82 -> 314.38929 | V82: =O82+Q82+T82 -> 481.35451 | W82: =O82+R82+T82 -> 759.62987 | X82: =O82+S82+T82 -> 275.43074 | Y82: =N82-U82 -> 573.99808 | Z82: =N82-V82 -> 407.03286 | AA82: =IF(N82-W82<0,0,N82-W82) -> 128.75749 | AB82: =N82-X82 -> 612.95663 | AC82: =N82/$C$70 -> 1.5182255 | AD82: =((((0.6)*($C$47)*(9.81)*(COS(0))*(($D$21)-(0.02)*(($C$21)-($C$37))))/($C$16))/(((1)-((0.6)*($C$21)))/($C$16)))*(10^-3) -> 2.0334491 | AE82: =((((0.68)*($C$47)*(9.81)*(COS(0))*(($D$21)-(0.05)*(($C$21)-($C$37))))/($C$16))/(((1)-((0.68)*($C$21)))/($C$16)))*(10^-3) -> 2.3693106 | AF82: =((((0.55)*($C$47)*(9.81)*(COS(0))*(($D$21)-(0.1)*(($C$21)-($C$37))))/($C$16))/(((1)-((0.55)*($C$21)))/($C$16)))*(10^-3) -> 1.8207441 | AG82: =((((0.85)*($C$47)*(9.81)*(COS(0))*(($D$21)-(0.013)*(($C$21)-($C$37))))/($C$16))/(((1)-((0.85)*($C$21)))/($C$16)))*(10^-3) -> 3.172205 | AH82: =0.6*9.81 -> 5.886 | AI82: =0.68*9.81 -> 6.6708 | AJ82: =0.55*9.81 -> 5.3955 | AK82: =0.85*9.81 -> 8.3385

Sheet Track Map
C2: Surface | D2: Distance | E2: Radius
B3: S1 | C3: Ashphalt | D3: 166.45 | E3: N/A
B4: T1 | C4: Ashphalt | D4: 12.71 | E4: 17.38
B5: S2 | C5: Ashphalt | D5: 47.27 | E5: N/A
B6: T2 | C6: Ashphalt | D6: 17.13 | E6: 5.45
B7: S3 | C7: Ashphalt | D7: 57.6 | E7: N/A
B8: T3 | C8: Ashphalt | D8: 13.89 | E8: 16.23
B9: S4 | C9: Ashphalt | D9: 16.29 | E9: N/A
B10: T4 | C10: Dirt | D10: 13.97 | E10: 8.89
B11: S5 | C11: Dirt | D11: 30.01 | E11: N/A
B12: T5 | C12: Dirt | D12: 12.1 | E12: 7.68
B13: S6 | C13: Dirt | D13: 16.26 | E13: N/A
B14: T6 | C14: Dirt | D14: 11.1 | E14: 6.74
B15: S7 | C15: Dirt | D15: 62.16 | E15: N/A
B16: T7 | C16: Dirt | D16: 10.6 | E16: 7.17
B17: S8 | C17: Dirt | D17: 38.61 | E17: N/A
B18: T8 | C18: Dirt | D18: 11.26 | E18: 4.73
B19: S9 | C19: Dirt | D19: 23.1 | E19: N/A
B20: T9 | C20: Dirt | D20: 14.87 | E20: 11.76
B21: S10 | C21: Grass | D21: 123.24 | E21: N/A
B22: T10 | C22: Grass | D22: 18.47 | E22: 4.31
B23: S11 | C23: Grass | D23: 40.85 | E23: N/A
B24: T11 | C24: Grass | D24: 13.6 | E24: 12.52
B25: S12 | C25: Grass | D25: 48.07 | E25: N/A
B26: T12 | C26: Gravel | D26: 44.98 | E26: 16
B27: T13 | C27: Gravel | D27: 54.61 | E27: 9.5
B28: S13 | C28: Gravel | D28: 39.64 | E28: N/A
B29: T14 | C29: Gravel | D29: 14.91 | E29: 4.16
B30: S14 | C30: Gravel | D30: 16.92 | E30: N/A
B31: T15 | C31: Gravel | D31: 6.53 | E31: 6.41
B32: S15 | C32: Gravel | D32: 28.18 | E32: N/A
B33: T16 | C33: Gravel | D33: 10.07 | E33: 9.21
B34: S16 | C34: Gravel | D34: 30.45 | E34: N/A
B35: T17 | C35: Ashphalt | D35: 14.46 | E35: 9.25
B36: Total Distance | D36: =SUM(D3:D35) -> 1080.36

Sheet BSFC
B2: BSFC (g/Kwh) | C2: RPM | D2: 500 | E2: 750 | F2: 1000 | G2: 1250 | H2: 1500 | I2: 1750 | J2: 2000 | K2: 2250 | L2: 2500 | M2: 2750 | N2: 3000 | O2: 3250 | P2: 3500 | Q2: 3750 | R2: 4000 | S2: 4250 | T2: 4500 | U2: 4750 | V2: 5000 | W2: 5250 | X2: 5500 | Y2: 5750 | Z2: 6000 | AA2: 6250 | AB2: 6500 | AC2: 6750 | AD2: 7000
B3: Torque Demand (Nm) | D3: 0 | E3: 0 | F3: 0 | G3: 0 | H3: 0 | I3: 0 | J3: 0 | K3: 0 | L3: 0 | M3: 0 | N3: 0 | O3: 0 | P3: 0 | Q3: 0 | R3: 0 | S3: 0 | T3: 0 | U3: 0 | V3: 0 | W3: 0 | X3: 0 | Y3: 0 | Z3: 0 | AA3: 0 | AB3: 0 | AC3: 0 | AD3: 0
B4: 22 | D4: 0 | E4: 0 | F4: 0 | G4: 0 | H4: 0 | I4: 0 | J4: 0 | K4: 0 | L4: 0 | M4: 0 | N4: 0 | O4: 0 | P4: 0 | Q4: 0 | R4: 0 | S4: 0 | T4: 0 | U4: 0 | V4: 0 | W4: 0 | X4: 497.30185 | Y4: 0 | Z4: 0 | AA4: 0 | AB4: 0 | AC4: 0 | AD4: 0
B5: 21 | D5: 0 | E5: 0 | F5: 0 | G5: 0 | H5: 0 | I5: 0 | J5: 0 | K5: 0 | L5: 0 | M5: 0 | N5: 0 | O5: 0 | P5: 0 | Q5: 0 | R5: 0 | S5: 0 | T5: 0 | U5: 0 | V5: 511.26203 | W5: 503.78011 | X5: 473.6401 | Y5: 499.54048 | Z5: 0 | AA5: 0 | AB5: 0 | AC5: 0 | AD5: 0
B6: 20 | D6: 0 | E6: 0 | F6: 0 | G6: 0 | H6: 0 | I6: 0 | J6: 0 | K6: 0 | L6: 0 | M6: 0 | N6: 0 | O6: 0 | P6: 0 | Q6: 0 | R6: 0 | S6: 0 | T6: 523.34402 | U6: 515.72614 | V6: 501.71229 | W6: 494.23037 | X6: 449.97835 | Y6: 475.87873 | Z6: 509.84171 | AA6: 0 | AB6: 0 | AC6: 0 | AD6: 0
B7: 19 | D7: 0 | E7: 0 | F7: 0 | G7: 0 | H7: 0 | I7: 0 | J7: 0 | K7: 0 | L7: 0 | M7: 0 | N7: 0 | O7: 0 | P7: 0 | Q7: 0 | R7: 0 | S7: 531.18359 | T7: 517.79359 | U7: 510.17571 | V7: 481.42612 | W7: 473.9442 | X7: 426.3166 | Y7: 452.21698 | Z7: 496.76923 | AA7: 527.01518 | AB7: 548.17146 | AC7: 0 | AD7: 0
B8: 18 | D8: 0 | E8: 0 | F8: 0 | G8: 0 | H8: 0 | I8: 0 | J8: 0 | K8: 0 | L8: 0 | M8: 0 | N8: 0 | O8: 0 | P8: 535.42677 | Q8: 535.05341 | R8: 533.89024 | S8: 521.40026 | T8: 508.01026 | U8: 500.39238 | V8: 464.345 | W8: 456.86308 | X8: 402.65485 | Y8: 428.55523 | Z8: 478.31452 | AA8: 508.56047 | AB8: 534.66915 | AC8: 554.23915 | AD8: 0
B9: 17 | D9: 0 | E9: 0 | F9: 0 | G9: 0 | H9: 0 | I9: 0 | J9: 0 | K9: 0 | L9: 0 | M9: 0 | N9: 0 | O9: 549.12763 | P9: 539.25302 | Q9: 538.03606 | R9: 528.49826 | S9: 505.65535 | T9: 492.26535 | U9: 484.64747 | V9: 430.8166 | W9: 423.33468 | X9: 390.82398 | Y9: 416.72436 | Z9: 439.08773 | AA9: 469.33368 | AB9: 526.71727 | AC9: 546.28727 | AD9: 588.10295
B10: 16 | D10: 0 | E10: 0 | F10: 0 | G10: 0 | H10: 0 | I10: 0 | J10: 0 | K10: 0 | L10: 0 | M10: 550.89414 | N10: 551.04955 | O10: 552.95387 | P10: 543.07926 | Q10: 541.01872 | R10: 531.48092 | S10: 496.03009 | T10: 482.64009 | U10: 475.02221 | V10: 400.88881 | W10: 393.40689 | X10: 378.99311 | Y10: 404.89349 | Z10: 399.86095 | AA10: 430.1069 | AB10: 521.8583 | AC10: 541.4283 | AD10: 576.43598
B11: 15 | D11: 0 | E11: 0 | F11: 0 | G11: 0 | H11: 0 | I11: 0 | J11: 0 | K11: 0 | L11: 560.72867 | M11: 555.13371 | N11: 550.2823 | O11: 543.26697 | P11: 533.39236 | Q11: 544.00138 | R11: 534.46358 | S11: 490.9038 | T11: 477.5138 | U11: 469.89592 | V11: 379.82707 | W11: 372.34515 | X11: 353.30835 | Y11: 379.20873 | Z11: 364.41051 | AA11: 394.65646 | AB11: 478.77238 | AC11: 498.34238 | AD11: 524.29445
B12: 14 | D12: 0 | E12: 0 | F12: 0 | G12: 0 | H12: 0 | I12: 0 | J12: 0 | K12: 588.19269 | L12: 564.96825 | M12: 559.37329 | N12: 554.48126 | O12: 533.58007 | P12: 523.70546 | Q12: 524.7527 | R12: 515.2149 | S12: 454.59068 | T12: 441.20068 | U12: 433.5828 | V12: 358.76533 | W12: 351.28341 | X12: 331.66961 | Y12: 357.56999 | Z12: 357.37617 | AA12: 387.62212 | AB12: 463.96189 | AC12: 483.53189 | AD12: 516.62817
B13: 13 | D13: 0 | E13: 0 | F13: 0 | G13: 0 | H13: 0 | I13: 0 | J13: 625.3916 | K13: 607.64223 | L13: 584.41779 | M13: 578.82283 | N13: 558.68021 | O13: 523.89316 | P13: 514.01855 | Q13: 505.50402 | R13: 495.96622 | S13: 430.07978 | T13: 416.68978 | U13: 409.0719 | V13: 337.7036 | W13: 330.22168 | X13: 308.00786 | Y13: 333.90824 | Z13: 352.06557 | AA13: 382.31152 | AB13: 489.84054 | AC13: 509.41054 | AD13: 565.13734
B14: 12 | D14: 0 | E14: 0 | F14: 0 | G14: 0 | H14: 0 | I14: 626.42405 | J14: 642.18305 | K14: 627.09176 | L14: 603.86732 | M14: 598.27236 | N14: 565.5516 | O14: 542.56279 | P14: 532.68818 | Q14: 508.86266 | R14: 499.32486 | S14: 479.35154 | T14: 465.96154 | U14: 458.34366 | V14: 318.35184 | W14: 310.86992 | X14: 332.55341 | Y14: 358.45379 | Z14: 346.75497 | AA14: 377.00092 | AB14: 515.71919 | AC14: 535.28919 | AD14: 581.50831
B15: 11 | D15: 0 | E15: 0 | F15: 0 | G15: 0 | H15: 0 | I15: 637.75665 | J15: 653.51565 | K15: 647.82801 | L15: 624.60357 | M15: 619.00861 | N15: 595.54479 | O15: 562.66208 | P15: 552.78747 | Q15: 522.15823 | R15: 512.62043 | S15: 485.84339 | T15: 472.45339 | U15: 464.83551 | V15: 382.01828 | W15: 374.53636 | X15: 373.41698 | Y15: 399.31736 | Z15: 341.44438 | AA15: 371.69033 | AB15: 541.59784 | AC15: 561.16784 | AD15: 587.0006
... B26: 0.5 | D26: 1609.1001 | E26: 1534.8681 | F26: 1520.8601 | G26: 1457.0311 | H26: 1432.6201 | I26: 1328.6211 | J26: 1344.3801 | K26: 1279.3645 | L26: 1256.14 | M26: 1250.5451 | N26: 1208.3914 | O26: 1170.5173 | P26: 1160.6427 | Q26: 1122.4319 | R26: 1112.8941 | S26: 1086.0253 | T26: 1072.6353 | U26: 1065.0174 | V26: 1032.6485 | W26: 1025.1666 | X26: 992.66173 | Y26: 1018.5621 | Z26: 986.16183 | AA26: 1016.4078 | AB26: 956.75498 | AC26: 976.32498 | AD26: 942.61943

Sheet Drive Cycle
C2: Distance | D2: Speed (mph) | E2: Speed (m/s) | F2: Time (s) | G2: Engine Speed (RPM) | H2: Selected Gear | I2: Vehicle Acceleration | J2: Aero Resistance (N) | K2: Rolling Resistance (N) | L2: Elevation | M2: Elevation Change | N2: Gradient (Degrees) | O2: Gradient Resistance | P2: Total Resistive Forces | Q2: Force From Acceleration | R2: Power Required | S2: Power Required Corrected | T2: Torque Demand | U2: Torque Round Up | V2: BSFC | W2: Fuel Used | X2: Fuel Used 2 | Y2: Carbon Dioxide Emited | Z2: TOTAL Fuel Usage | AA2: CO2 Released
A3: 1 | B3: S1 | C3: 0 | D3: =E3*2.237 -> 0 | E3: 0 | F3: 0 | G3: 0 | H3: 1 | I3: 0 | J3: =(0.5*VEHICLE!$C$71*VEHICLE!$C$28*VEHICLE!$C$27*'Drive Cycle'!E3^2) -> 0 | K3: 0 | L3: 0 | M3: 0 | N3: =DEGREES(ATAN(M3/$C$4)) -> 0 | O3: =9.81*SIN(RADIANS(N3))*($C$47) -> 0 | P3: =J3+K3+O3 -> 0 | Q3: =IF(H3=1,I3*VEHICLE!C68,IF(H3=2,VEHICLE!C69*I3,IF(H3=3,VEHICLE!C70*I3,0))) -> 0 | R3: =(J3+K3+O3+Q3) -> 0 | S3: =ABS(R3) -> 0 | T3: 0 | U3: =ROUNDUP(T3,0) -> 0 | V3: 0 | W3: =R3*V3/3600 -> 0 | X3: =ABS(W3) -> 0 | Y3: =W3*3.09 -> 0 | Z3: =SUM(W3:W1111) -> 88.456939 | AA3: =(SUM(Y3:Y1111)) -> 273.33194
A4: 1 | B4: S1 | C4: =C3+1 -> 1 | D4: =E4*2.237 -> 2.237 | E4: 1 | F4: =$C$4/E4 -> 1 | G4: 750 | H4: 1 | I4: =E4-E3 -> 1 | J4: =(0.5*VEHICLE!$C$71*VEHICLE!$C$28*VEHICLE!$C$27*'Drive Cycle'!E4^2) -> 0.8896041 | K4: =IF(A4=1,VEHICLE!$S$5,IF(A4=2,VEHICLE!$Q$5,IF(A4=3,VEHICLE!$R$5,IF(A4=4,VEHICLE!$P$5,1)))) -> 72.351595 | L4: 0 | M4: =L4-L3 -> 0 | N4: =DEGREES(ATAN(M4/$C$4)) -> 0 | O4: =9.81*SIN(RADIANS(N4))*($C$47) -> 0 | P4: =J4+K4+O4 -> 73.241199 | Q4: =IF(H4=1,I4*VEHICLE!$C$69,IF(H4=2,VEHICLE!$C$70*I4,IF(H4=3,VEHICLE!$C$71*I4,0))) -> 587.32024 | R4: =(J4+K4+O4+Q4) -> 660.56143 | S4: =ABS(R4) -> 660.56143 | T4: =ABS((R4)/((2*PI()*G4)/60)) -> 8.4105294 | U4: =ROUNDUP(T4,0) -> 9 | V4: =INDEX(BSFC!$D$4:$AD$26,MATCH(U4,BSFC!$B$4:$B$26,0),MATCH(G4,BSFC!$D$2:$AD$2,0)) -> 0 | W4: =(R4*V4/3600)/1000 -> 0 | X4: =ABS(W4) -> 0 | Y4: =W4*3.09 -> 0
A5: 1 | B5: S1 | C5: =C4+1 -> 2 | D5: =E5*2.237 -> 4.474 | E5: 2 | F5: =($C$4/E5)+F4 -> 1.5 | G5: =G4+750 -> 1500 | H5: 1 | I5: =E5-E4 -> 1 | J5: =(0.5*VEHICLE!$C$71*VEHICLE!$C$28*VEHICLE!$C$27*'Drive Cycle'!E5^2) -> 3.5584164 | K5: =IF(A5=1,VEHICLE!$S$5,IF(A5=2,VEHICLE!$Q$5,IF(A5=3,VEHICLE!$R$5,IF(A5=4,VEHICLE!$P$5,1)))) -> 72.351595 | L5: 0 | M5: =L5-L4 -> 0 | N5: =DEGREES(ATAN(M5/$C$4)) -> 0 | O5: =9.81*SIN(RADIANS(N5))*($C$47) -> 0 | P5: =J5+K5+O5 -> 75.910011 | Q5: =IF(H5=1,I5*VEHICLE!$C$69,IF(H5=2,VEHICLE!$C$70*I5,IF(H5=3,VEHICLE!$C$71*I5,0))) -> 587.32024 | R5: =(J5+K5+O5+Q5) -> 663.23025 | S5: =ABS(R5) -> 663.23025 | T5: =ABS((R5)/((2*PI()*G5)/60)) -> 4.2222549 | U5: =ROUNDUP(T5,0) -> 5 | V5: =INDEX(BSFC!$D$4:$AD$26,MATCH(U5,BSFC!$B$4:$B$26,0),MATCH(G5,BSFC!$D$2:$AD$2,0)) -> 750.31367 | W5: =(R5*V5/3600)/1000 -> 0.13823076 | X5: =ABS(W5) -> 0.13823076 | Y5: =W5*3.09 -> 0.42713304
A6: 1 | B6: S1 | C6: =C5+1 -> 3 | D6: =E6*2.237 -> 6.711 | E6: 3 | F6: =($C$4/E6)+F5 -> 1.8333333 | G6: =G5+750 -> 2250 | H6: 1 | I6: =E6-E5 -> 1 | J6: =(0.5*VEHICLE!$C$71*VEHICLE!$C$28*VEHICLE!$C$27*'Drive Cycle'!E6^2) -> 8.0064369 | K6: =IF(A6=1,VEHICLE!$S$5,IF(A6=2,VEHICLE!$Q$5,IF(A6=3,VEHICLE!$R$5,IF(A6=4,VEHICLE!$P$5,1)))) -> 72.351595 | L6: 0 | M6: =L6-L5 -> 0 | N6: =DEGREES(ATAN(M6/$C$4)) -> 0 | O6: =9.81*SIN(RADIANS(N6))*($C$47) -> 0 | P6: =J6+K6+O6 -> 80.358032 | Q6: =IF(H6=1,I6*VEHICLE!$C$69,IF(H6=2,VEHICLE!$C$70*I6,IF(H6=3,VEHICLE!$C$71*I6,0))) -> 587.32024 | R6: =(J6+K6+O6+Q6) -> 667.67827 | S6: =ABS(R6) -> 667.67827 | T6: =ABS((R6)/((2*PI()*G6)/60)) -> 2.8337146 | U6: =ROUNDUP(T6,0) -> 3 | V6: =INDEX(BSFC!$D$4:$AD$26,MATCH(U6,BSFC!$B$4:$B$26,0),MATCH(G6,BSFC!$D$2:$AD$2,0)) -> 921.58629 | W6: =(R6*V6/3600)/1000 -> 0.17092309 | X6: =ABS(W6) -> 0.17092309 | Y6: =W6*3.09 -> 0.52815236
A7: 1 | B7: S1 | C7: =C6+1 -> 4 | D7: =E7*2.237 -> 8.948 | E7: 4 | F7: =($C$4/E7)+F6 -> 2.0833333 | G7: =G6+750 -> 3000 | H7: 1 | I7: =E7-E6 -> 1 | J7: =(0.5*VEHICLE!$C$71*VEHICLE!$C$28*VEHICLE!$C$27*'Drive Cycle'!E7^2) -> 14.233666 | K7: =IF(A7=1,VEHICLE!$S$5,IF(A7=2,VEHICLE!$Q$5,IF(A7=3,VEHICLE!$R$5,IF(A7=4,VEHICLE!$P$5,1)))) -> 72.351595 | L7: 0 | M7: =L7-L6 -> 0 | N7: =DEGREES(ATAN(M7/$C$4)) -> 0 | O7: =9.81*SIN(RADIANS(N7))*($C$47) -> 0 | P7: =J7+K7+O7 -> 86.585261 | Q7: =IF(H7=1,I7*VEHICLE!$C$69,IF(H7=2,VEHICLE!$C$70*I7,IF(H7=3,VEHICLE!$C$71*I7,0))) -> 587.32024 | R7: =(J7+K7+O7+Q7) -> 673.9055 | S7: =ABS(R7) -> 673.9055 | T7: =ABS((R7)/((2*PI()*G7)/60)) -> 2.1451078 | U7: =ROUNDUP(T7,0) -> 3 | V7: =INDEX(BSFC!$D$4:$AD$26,MATCH(U7,BSFC!$B$4:$B$26,0),MATCH(G7,BSFC!$D$2:$AD$2,0)) -> 875.83654 | W7: =(R7*V7/3600)/1000 -> 0.16395307 | X7: =ABS(W7) -> 0.16395307 | Y7: =W7*3.09 -> 0.50661499
A8: 1 | B8: S1 | C8: =C7+1 -> 5 | D8: =E8*2.237 -> 11.185 | E8: 5 | F8: =($C$4/E8)+F7 -> 2.2833333 | G8: =G7+750 -> 3750 | H8: 1 | I8: =E8-E7 -> 1 | J8: =(0.5*VEHICLE!$C$71*VEHICLE!$C$28*VEHICLE!$C$27*'Drive Cycle'!E8^2) -> 22.240102 | K8: =IF(A8=1,VEHICLE!$S$5,IF(A8=2,VEHICLE!$Q$5,IF(A8=3,VEHICLE!$R$5,IF(A8=4,VEHICLE!$P$5,1)))) -> 72.351595 | L8: 0 | M8: =L8-L7 -> 0 | N8: =DEGREES(ATAN(M8/$C$4)) -> 0 | O8: =9.81*SIN(RADIANS(N8))*($C$47) -> 0 | P8: =J8+K8+O8 -> 94.591697 | Q8: =IF(H8=1,I8*VEHICLE!$C$69,IF(H8=2,VEHICLE!$C$70*I8,IF(H8=3,VEHICLE!$C$71*I8,0))) -> 587.32024 | R8: =(J8+K8+O8+Q8) -> 681.91193 | S8: =ABS(R8) -> 681.91193 | T8: =ABS((R8)/((2*PI()*G8)/60)) -> 1.7364745 | U8: =ROUNDUP(T8,0) -> 2 | V8: =INDEX(BSFC!$D$4:$AD$26,MATCH(U8,BSFC!$B$4:$B$26,0),MATCH(G8,BSFC!$D$2:$AD$2,0)) -> 928.43258 | W8: =(R8*V8/3600)/1000 -> 0.17586368 | X8: =ABS(W8) -> 0.17586368 | Y8: =W8*3.09 -> 0.54341878
A9: 1 | B9: S1 | C9: =C8+1 -> 6 | D9: =E9*2.237 -> 13.422 | E9: 6 | F9: =($C$4/E9)+F8 -> 2.45 | G9: =G8+750 -> 4500 | H9: 1 | I9: =E9-E8 -> 1 | J9: =(0.5*VEHICLE!$C$71*VEHICLE!$C$28*VEHICLE!$C$27*'Drive Cycle'!E9^2) -> 32.025748 | K9: =IF(A9=1,VEHICLE!$S$5,IF(A9=2,VEHICLE!$Q$5,IF(A9=3,VEHICLE!$R$5,IF(A9=4,VEHICLE!$P$5,1)))) -> 72.351595 | L9: 0 | M9: =L9-L8 -> 0 | N9: =DEGREES(ATAN(M9/$C$4)) -> 0 | O9: =9.81*SIN(RADIANS(N9))*($C$47) -> 0 | P9: =J9+K9+O9 -> 104.37734 | Q9: =IF(H9=1,I9*VEHICLE!$C$69,IF(H9=2,VEHICLE!$C$70*I9,IF(H9=3,VEHICLE!$C$71*I9,0))) -> 587.32024 | R9: =(J9+K9+O9+Q9) -> 691.69758 | S9: =ABS(R9) -> 691.69758 | T9: =ABS((R9)/((2*PI()*G9)/60)) -> 1.4678278 | U9: =ROUNDUP(T9,0) -> 2 | V9: =INDEX(BSFC!$D$4:$AD$26,MATCH(U9,BSFC!$B$4:$B$26,0),MATCH(G9,BSFC!$D$2:$AD$2,0)) -> 900.04657 | W9: =(R9*V9/3600)/1000 -> 0.17293334 | X9: =ABS(W9) -> 0.17293334 | Y9: =W9*3.09 -> 0.53436403
A10: 1 | B10: S1 | C10: =C9+1 -> 7 | D10: =E10*2.237 -> 15.659 | E10: 7 | F10: =($C$4/E10)+F9 -> 2.5928571 | G10: =G9+750 -> 5250 | H10: 2 | I10: =E10-E9 -> 1 | J10: =(0.5*VEHICLE!$C$71*VEHICLE!$C$28*VEHICLE!$C$27*'Drive Cycle'!E10^2) -> 43.590601 | K10: =IF(A10=1,VEHICLE!$S$5,IF(A10=2,VEHICLE!$Q$5,IF(A10=3,VEHICLE!$R$5,IF(A10=4,VEHICLE!$P$5,1)))) -> 72.351595 | L10: 0 | M10: =L10-L9 -> 0 | N10: =DEGREES(ATAN(M10/$C$4)) -> 0 | O10: =9.81*SIN(RADIANS(N10))*($C$47) -> 0 | P10: =J10+K10+O10 -> 115.9422 | Q10: =IF(H10=1,I10*VEHICLE!$C$69,IF(H10=2,VEHICLE!$C$70*I10,IF(H10=3,VEHICLE!$C$71*I10,0))) -> 585.14849 | R10: =(J10+K10+O10+Q10) -> 701.09068 | S10: =ABS(R10) -> 701.09068 | T10: =ABS((R10)/((2*PI()*G10)/60)) -> 1.2752234 | U10: =ROUNDUP(T10,0) -> 2 | V10: =INDEX(BSFC!$D$4:$AD$26,MATCH(U10,BSFC!$B$4:$B$26,0),MATCH(G10,BSFC!$D$2:$AD$2,0)) -> 873.71644 | W10: =(R10*V10/3600)/1000 -> 0.17015402 | X10: =ABS(W10) -> 0.17015402 | Y10: =W10*3.09 -> 0.52577591
A11: 1 | B11: S1 | C11: =C10+1 -> 8 | D11: =E11*2.237 -> 17.896 | E11: 8 | F11: =($C$4/E11)+F10 -> 2.7178571 | G11: =G10+750 -> 6000 | H11: 2 | I11: =E11-E10 -> 1 | J11: =(0.5*VEHICLE!$C$71*VEHICLE!$C$28*VEHICLE!$C$27*'Drive Cycle'!E11^2) -> 56.934662 | K11: =IF(A11=1,VEHICLE!$S$5,IF(A11=2,VEHICLE!$Q$5,IF(A11=3,VEHICLE!$R$5,IF(A11=4,VEHICLE!$P$5,1)))) -> 72.351595 | L11: 0 | M11: =L11-L10 -> 0 | N11: =DEGREES(ATAN(M11/$C$4)) -> 0 | O11: =9.81*SIN(RADIANS(N11))*($C$47) -> 0 | P11: =J11+K11+O11 -> 129.28626 | Q11: =IF(H11=1,I11*VEHICLE!$C$69,IF(H11=2,VEHICLE!$C$70*I11,IF(H11=3,VEHICLE!$C$71*I11,0))) -> 585.14849 | R11: =(J11+K11+O11+Q11) -> 714.43474 | S11: =ABS(R11) -> 714.43474 | T11: =ABS((R11)/((2*PI()*G11)/60)) -> 1.1370582 | U11: =ROUNDUP(T11,0) -> 2 | V11: =INDEX(BSFC!$D$4:$AD$26,MATCH(U11,BSFC!$B$4:$B$26,0),MATCH(G11,BSFC!$D$2:$AD$2,0)) -> 881.66816 | W11: =(R11*V11/3600)/1000 -> 0.17497066 | X11: =ABS(W11) -> 0.17497066 | Y11: =W11*3.09 -> 0.54065933
A12: 1 | B12: S1 | C12: =C11+1 -> 9 | D12: =E12*2.237 -> 20.133 | E12: 9 | F12: =($C$4/E12)+F11 -> 2.8289683 | G12: =G11+750 -> 6750 | H12: 2 | I12: =E12-E11 -> 1 | J12: =(0.5*VEHICLE!$C$71*VEHICLE!$C$28*VEHICLE!$C$27*'Drive Cycle'!E12^2) -> 72.057932 | K12: =IF(A12=1,VEHICLE!$S$5,IF(A12=2,VEHICLE!$Q$5,IF(A12=3,VEHICLE!$R$5,IF(A12=4,VEHICLE!$P$5,1)))) -> 72.351595 | L12: 0 | M12: =L12-L11 -> 0 | N12: =DEGREES(ATAN(M12/$C$4)) -> 0 | O12: =9.81*SIN(RADIANS(N12))*($C$47) -> 0 | P12: =J12+K12+O12 -> 144.40953 | Q12: =IF(H12=1,I12*VEHICLE!$C$69,IF(H12=2,VEHICLE!$C$70*I12,IF(H12=3,VEHICLE!$C$71*I12,0))) -> 585.14849 | R12: =(J12+K12+O12+Q12) -> 729.55801 | S12: =ABS(R12) -> 729.55801 | T12: =ABS((R12)/((2*PI()*G12)/60)) -> 1.0321135 | U12: =ROUNDUP(T12,0) -> 2 | V12: =INDEX(BSFC!$D$4:$AD$26,MATCH(U12,BSFC!$B$4:$B$26,0),MATCH(G12,BSFC!$D$2:$AD$2,0)) -> 914.12973 | W12: =(R12*V12/3600)/1000 -> 0.18525296 | X12: =ABS(W12) -> 0.18525296 | Y12: =W12*3.09 -> 0.57243166
A13: 1 | B13: S1 | C13: =C12+1 -> 10 | D13: =E13*2.237 -> 22.37 | E13: 10 | F13: =($C$4/E13)+F12 -> 2.9289683 | G13: 7000 | H13: 2 | I13: =E13-E12 -> 1 | J13: =(0.5*VEHICLE!$C$71*VEHICLE!$C$28*VEHICLE!$C$27*'Drive Cycle'!E13^2) -> 88.96041 | K13: =IF(A13=1,VEHICLE!$S$5,IF(A13=2,VEHICLE!$Q$5,IF(A13=3,VEHICLE!$R$5,IF(A13=4,VEHICLE!$P$5,1)))) -> 72.351595 | L13: 0 | M13: =L13-L12 -> 0 | N13: =DEGREES(ATAN(M13/$C$4)) -> 0 | O13: =9.81*SIN(RADIANS(N13))*($C$47) -> 0 | P13: =J13+K13+O13 -> 161.312 | Q13: =IF(H13=1,I13*VEHICLE!$C$69,IF(H13=2,VEHICLE!$C$70*I13,IF(H13=3,VEHICLE!$C$71*I13,0))) -> 585.14849 | R13: =(J13+K13+O13+Q13) -> 746.46049 | S13: =ABS(R13) -> 746.46049 | T13: =ABS((R13)/((2*PI()*G13)/60)) -> 1.0183104 | U13: =ROUNDUP(T13,0) -> 2 | V13: =INDEX(BSFC!$D$4:$AD$26,MATCH(U13,BSFC!$B$4:$B$26,0),MATCH(G13,BSFC!$D$2:$AD$2,0)) -> 911.73559 | W13: =(R13*V13/3600)/1000 -> 0.1890485 | X13: =ABS(W13) -> 0.1890485 | Y13: =W13*3.09 -> 0.58415986
A14: 1 | B14: S1 | C14: =C13+1 -> 11 | D14: =E14*2.237 -> 24.607 | E14: 11 | F14: =($C$4/E14)+F13 -> 3.0198773 | G14: 7000 | H14: 3 | I14: =E14-E13 -> 1 | J14: =(0.5*VEHICLE!$C$71*VEHICLE!$C$28*VEHICLE!$C$27*'Drive Cycle'!E14^2) -> 107.6421 | K14: =IF(A14=1,VEHICLE!$S$5,IF(A14=2,VEHICLE!$Q$5,IF(A14=3,VEHICLE!$R$5,IF(A14=4,VEHICLE!$P$5,1)))) -> 72.351595 | L14: 0 | M14: =L14-L13 -> 0 | N14: =DEGREES(ATAN(M14/$C$4)) -> 0 | O14: =9.81*SIN(RADIANS(N14))*($C$47) -> 0 | P14: =J14+K14+O14 -> 179.99369 | Q14: =IF(H14=1,I14*VEHICLE!$C$69,IF(H14=2,VEHICLE!$C$70*I14,IF(H14=3,VEHICLE!$C$71*I14,0))) -> 1.167 | R14: =(J14+K14+O14+Q14) -> 181.16069 | S14: =ABS(R14) -> 181.16069 | T14: =ABS((R14)/((2*PI()*G14)/60)) -> 0.24713674 | U14: =ROUNDUP(T14,0) -> 1 | V14: =INDEX(BSFC!$D$4:$AD$26,MATCH(U14,BSFC!$B$4:$B$26,0),MATCH(G14,BSFC!$D$2:$AD$2,0)) -> 920.25591 | W14: =(R14*V14/3600)/1000 -> 0.046309499 | X14: =ABS(W14) -> 0.046309499 | Y14: =W14*3.09 -> 0.14309635
A15: 1 | B15: S1 | C15: =C14+1 -> 12 | D15: =E15*2.237 -> 26.844 | E15: 12 | F15: =($C$4/E15)+F14 -> 3.1032107 | G15: 7000 | H15: 3 | I15: =E15-E14 -> 1 | J15: =(0.5*VEHICLE!$C$71*VEHICLE!$C$28*VEHICLE!$C$27*'Drive Cycle'!E15^2) -> 128.10299 | K15: =IF(A15=1,VEHICLE!$S$5,IF(A15=2,VEHICLE!$Q$5,IF(A15=3,VEHICLE!$R$5,IF(A15=4,VEHICLE!$P$5,1)))) -> 72.351595 | L15: 0 | M15: =L15-L14 -> 0 | N15: =DEGREES(ATAN(M15/$C$4)) -> 0 | O15: =9.81*SIN(RADIANS(N15))*($C$47) -> 0 | P15: =J15+K15+O15 -> 200.45459 | Q15: =IF(H15=1,I15*VEHICLE!$C$69,IF(H15=2,VEHICLE!$C$70*I15,IF(H15=3,VEHICLE!$C$71*I15,0))) -> 1.167 | R15: =(J15+K15+O15+Q15) -> 201.62159 | S15: =ABS(R15) -> 201.62159 | T15: =ABS((R15)/((2*PI()*G15)/60)) -> 0.27504919 | U15: =ROUNDUP(T15,0) -> 1 | V15: =INDEX(BSFC!$D$4:$AD$26,MATCH(U15,BSFC!$B$4:$B$26,0),MATCH(G15,BSFC!$D$2:$AD$2,0)) -> 920.25591 | W15: =(R15*V15/3600)/1000 -> 0.051539849 | X15: =ABS(W15) -> 0.051539849 | Y15: =W15*3.09 -> 0.15925813
A16: 1 | B16: S1 | C16: =C15+1 -> 13 | D16: =E16*2.237 -> 29.081 | E16: 13 | F16: =($C$4/E16)+F15 -> 3.1801338 | G16: 7000 | H16: 3 | I16: =E16-E15 -> 1 | J16: =(0.5*VEHICLE!$C$71*VEHICLE!$C$28*VEHICLE!$C$27*'Drive Cycle'!E16^2) -> 150.34309 | K16: =IF(A16=1,VEHICLE!$S$5,IF(A16=2,VEHICLE!$Q$5,IF(A16=3,VEHICLE!$R$5,IF(A16=4,VEHICLE!$P$5,1)))) -> 72.351595 | L16: 0 | M16: =L16-L15 -> 0 | N16: =DEGREES(ATAN(M16/$C$4)) -> 0 | O16: =9.81*SIN(RADIANS(N16))*($C$47) -> 0 | P16: =J16+K16+O16 -> 222.69469 | Q16: =IF(H16=1,I16*VEHICLE!$C$69,IF(H16=2,VEHICLE!$C$70*I16,IF(H16=3,VEHICLE!$C$71*I16,0))) -> 1.167 | R16: =(J16+K16+O16+Q16) -> 223.86169 | S16: =ABS(R16) -> 223.86169 | T16: =ABS((R16)/((2*PI()*G16)/60)) -> 0.30538881 | U16: =ROUNDUP(T16,0) -> 1 | V16: =INDEX(BSFC!$D$4:$AD$26,MATCH(U16,BSFC!$B$4:$B$26,0),MATCH(G16,BSFC!$D$2:$AD$2,0)) -> 920.25591 | W16: =(R16*V16/3600)/1000 -> 0.057225011 | X16: =ABS(W16) -> 0.057225011 | Y16: =W16*3.09 -> 0.17682529
A17: 1 | B17: S1 | C17: =C16+1 -> 14 | D17: =E17*2.237 -> 29.99817 | E17: 13.41 | F17: =($C$4/E17)+F16 -> 3.254705 | G17: 7000 | H17: 3 | I17: =E17-E16 -> 0.41 | J17: =(0.5*VEHICLE!$C$71*VEHICLE!$C$28*VEHICLE!$C$27*'Drive Cycle'!E17^2) -> 159.97582 | K17: =IF(A17=1,VEHICLE!$S$5,IF(A17=2,VEHICLE!$Q$5,IF(A17=3,VEHICLE!$R$5,IF(A17=4,VEHICLE!$P$5,1)))) -> 72.351595 | L17: 0 | M17: =L17-L16 -> 0 | N17: =DEGREES(ATAN(M17/$C$4)) -> 0 | O17: =9.81*SIN(RADIANS(N17))*($C$47) -> 0 | P17: =J17+K17+O17 -> 232.32741 | Q17: =IF(H17=1,I17*VEHICLE!$C$69,IF(H17=2,VEHICLE!$C$70*I17,IF(H17=3,VEHICLE!$C$71*I17,0))) -> 0.47847 | R17: =(J17+K17+O17+Q17) -> 232.80588 | S17: =ABS(R17) -> 232.80588 | T17: =ABS((R17)/((2*PI()*G17)/60)) -> 0.31759034 | U17: =ROUNDUP(T17,0) -> 1 | V17: =INDEX(BSFC!$D$4:$AD$26,MATCH(U17,BSFC!$B$4:$B$26,0),MATCH(G17,BSFC!$D$2:$AD$2,0)) -> 920.25591 | W17: =(R17*V17/3600)/1000 -> 0.059511385 | X17: =ABS(W17) -> 0.059511385 | Y17: =W17*3.09 -> 0.18389018
A18: 1 | B18: S1 | C18: =C17+1 -> 15 | D18: =E18*2.237 -> 29.99817 | E18: 13.41 | F18: =($C$4/E18)+F17 -> 3.3292762 | G18: 7000 | H18: 3 | I18: =E18-E17 -> 0 | J18: =(0.5*VEHICLE!$C$71*VEHICLE!$C$28*VEHICLE!$C$27*'Drive Cycle'!E18^2) -> 159.97582 | K18: =IF(A18=1,VEHICLE!$S$5,IF(A18=2,VEHICLE!$Q$5,IF(A18=3,VEHICLE!$R$5,IF(A18=4,VEHICLE!$P$5,1)))) -> 72.351595 | L18: 0 | M18: =L18-L17 -> 0 | N18: =DEGREES(ATAN(M18/$C$4)) -> 0 | O18: =9.81*SIN(RADIANS(N18))*($C$47) -> 0 | P18: =J18+K18+O18 -> 232.32741 | Q18: =IF(H18=1,I18*VEHICLE!$C$69,IF(H18=2,VEHICLE!$C$70*I18,IF(H18=3,VEHICLE!$C$71*I18,0))) -> 0 | R18: =(J18+K18+O18+Q18) -> 232.32741 | S18: =ABS(R18) -> 232.32741 | T18: =ABS((R18)/((2*PI()*G18)/60)) -> 0.31693762 | U18: =ROUNDUP(T18,0) -> 1 | V18: =INDEX(BSFC!$D$4:$AD$26,MATCH(U18,BSFC!$B$4:$B$26,0),MATCH(G18,BSFC!$D$2:$AD$2,0)) -> 920.25591 | W18: =(R18*V18/3600)/1000 -> 0.059389076 | X18: =ABS(W18) -> 0.059389076 | Y18: =W18*3.09 -> 0.18351224
A19: 1 | B19: S1 | C19: =C18+1 -> 16 | D19: =E19*2.237 -> 29.99817 | E19: 13.41 | F19: =($C$4/E19)+F18 -> 3.4038474 | G19: 7000 | H19: 3 | I19: =E19-E18 -> 0 | J19: =(0.5*VEHICLE!$C$71*VEHICLE!$C$28*VEHICLE!$C$27*'Drive Cycle'!E19^2) -> 159.97582 | K19: =IF(A19=1,VEHICLE!$S$5,IF(A19=2,VEHICLE!$Q$5,IF(A19=3,VEHICLE!$R$5,IF(A19=4,VEHICLE!$P$5,1)))) -> 72.351595 | L19: 0 | M19: =L19-L18 -> 0 | N19: =DEGREES(ATAN(M19/$C$4)) -> 0 | O19: =9.81*SIN(RADIANS(N19))*($C$47) -> 0 | P19: =J19+K19+O19 -> 232.32741 | Q19: =IF(H19=1,I19*VEHICLE!$C$69,IF(H19=2,VEHICLE!$C$70*I19,IF(H19=3,VEHICLE!$C$71*I19,0))) -> 0 | R19: =(J19+K19+O19+Q19) -> 232.32741 | S19: =ABS(R19) -> 232.32741 | T19: =ABS((R19)/((2*PI()*G19)/60)) -> 0.31693762 | U19: =ROUNDUP(T19,0) -> 1 | V19: =INDEX(BSFC!$D$4:$AD$26,MATCH(U19,BSFC!$B$4:$B$26,0),MATCH(G19,BSFC!$D$2:$AD$2,0)) -> 920.25591 | W19: =(R19*V19/3600)/1000 -> 0.059389076 | X19: =ABS(W19) -> 0.059389076 | Y19: =W19*3.09 -> 0.18351224
A20: 1 | B20: S1 | C20: =C19+1 -> 17 | D20: =E20*2.237 -> 29.99817 | E20: 13.41 | F20: =($C$4/E20)+F19 -> 3.4784186 | G20: 7000 | H20: 3 | I20: =E20-E19 -> 0 | J20: =(0.5*VEHICLE!$C$71*VEHICLE!$C$28*VEHICLE!$C$27*'Drive Cycle'!E20^2) -> 159.97582 | K20: =IF(A20=1,VEHICLE!$S$5,IF(A20=2,VEHICLE!$Q$5,IF(A20=3,VEHICLE!$R$5,IF(A20=4,VEHICLE!$P$5,1)))) -> 72.351595 | L20: 0 | M20: =L20-L19 -> 0 | N20: =DEGREES(ATAN(M20/$C$4)) -> 0 | O20: =9.81*SIN(RADIANS(N20))*($C$47) -> 0 | P20: =J20+K20+O20 -> 232.32741 | Q20: =IF(H20=1,I20*VEHICLE!$C$69,IF(H20=2,VEHICLE!$C$70*I20,IF(H20=3,VEHICLE!$C$71*I20,0))) -> 0 | R20: =(J20+K20+O20+Q20) -> 232.32741 | S20: =ABS(R20) -> 232.32741 | T20: =ABS((R20)/((2*PI()*G20)/60)) -> 0.31693762 | U20: =ROUNDUP(T20,0) -> 1 | V20: =INDEX(BSFC!$D$4:$AD$26,MATCH(U20,BSFC!$B$4:$B$26,0),MATCH(G20,BSFC!$D$2:$AD$2,0)) -> 920.25591 | W20: =(R20*V20/3600)/1000 -> 0.059389076 | X20: =ABS(W20) -> 0.059389076 | Y20: =W20*3.09 -> 0.18351224
A21: 1 | B21: S1 | C21: =C20+1 -> 18 | D21: =E21*2.237 -> 29.99817 | E21: 13.41 | F21: =($C$4/E21)+F20 -> 3.5529898 | G21: 7000 | H21: 3 | I21: =E21-E20 -> 0 | J21: =(0.5*VEHICLE!$C$71*VEHICLE!$C$28*VEHICLE!$C$27*'Drive Cycle'!E21^2) -> 159.97582 | K21: =IF(A21=1,VEHICLE!$S$5,IF(A21=2,VEHICLE!$Q$5,IF(A21=3,VEHICLE!$R$5,IF(A21=4,VEHICLE!$P$5,1)))) -> 72.351595 | L21: 0 | M21: =L21-L20 -> 0 | N21: =DEGREES(ATAN(M21/$C$4)) -> 0 | O21: =9.81*SIN(RADIANS(N21))*($C$47) -> 0 | P21: =J21+K21+O21 -> 232.32741 | Q21: =IF(H21=1,I21*VEHICLE!$C$69,IF(H21=2,VEHICLE!$C$70*I21,IF(H21=3,VEHICLE!$C$71*I21,0))) -> 0 | R21: =(J21+K21+O21+Q21) -> 232.32741 | S21: =ABS(R21) -> 232.32741 | T21: =ABS((R21)/((2*PI()*G21)/60)) -> 0.31693762 | U21: =ROUNDUP(T21,0) -> 1 | V21: =INDEX(BSFC!$D$4:$AD$26,MATCH(U21,BSFC!$B$4:$B$26,0),MATCH(G21,BSFC!$D$2:$AD$2,0)) -> 920.25591 | W21: =(R21*V21/3600)/1000 -> 0.059389076 | X21: =ABS(W21) -> 0.059389076 | Y21: =W21*3.09 -> 0.18351224
A22: 1 | B22: S1 | C22: =C21+1 -> 19 | D22: =E22*2.237 -> 29.99817 | E22: 13.41 | F22: =($C$4/E22)+F21 -> 3.627561 | G22: 7000 | H22: 3 | I22: =E22-E21 -> 0 | J22: =(0.5*VEHICLE!$C$71*VEHICLE!$C$28*VEHICLE!$C$27*'Drive Cycle'!E22^2) -> 159.97582 | K22: =IF(A22=1,VEHICLE!$S$5,IF(A22=2,VEHICLE!$Q$5,IF(A22=3,VEHICLE!$R$5,IF(A22=4,VEHICLE!$P$5,1)))) -> 72.351595 | L22: 0 | M22: =L22-L21 -> 0 | N22: =DEGREES(ATAN(M22/$C$4)) -> 0 | O22: =9.81*SIN(RADIANS(N22))*($C$47) -> 0 | P22: =J22+K22+O22 -> 232.32741 | Q22: =IF(H22=1,I22*VEHICLE!$C$69,IF(H22=2,VEHICLE!$C$70*I22,IF(H22=3,VEHICLE!$C$71*I22,0))) -> 0 | R22: =(J22+K22+O22+Q22) -> 232.32741 | S22: =ABS(R22) -> 232.32741 | T22: =ABS((R22)/((2*PI()*G22)/60)) -> 0.31693762 | U22: =ROUNDUP(T22,0) -> 1 | V22: =INDEX(BSFC!$D$4:$AD$26,MATCH(U22,BSFC!$B$4:$B$26,0),MATCH(G22,BSFC!$D$2:$AD$2,0)) -> 920.25591 | W22: =(R22*V22/3600)/1000 -> 0.059389076 | X22: =ABS(W22) -> 0.059389076 | Y22: =W22*3.09 -> 0.18351224
A23: 1 | B23: S1 | C23: =C22+1 -> 20 | D23: =E23*2.237 -> 29.99817 | E23: 13.41 | F23: =($C$4/E23)+F22 -> 3.7021323 | G23: 7000 | H23: 3 | I23: =E23-E22 -> 0 | J23: =(0.5*VEHICLE!$C$71*VEHICLE!$C$28*VEHICLE!$C$27*'Drive Cycle'!E23^2) -> 159.97582 | K23: =IF(A23=1,VEHICLE!$S$5,IF(A23=2,VEHICLE!$Q$5,IF(A23=3,VEHICLE!$R$5,IF(A23=4,VEHICLE!$P$5,1)))) -> 72.351595 | L23: 0 | M23: =L23-L22 -> 0 | N23: =DEGREES(ATAN(M23/$C$4)) -> 0 | O23: =9.81*SIN(RADIANS(N23))*($C$47) -> 0 | P23: =J23+K23+O23 -> 232.32741 | Q23: =IF(H23=1,I23*VEHICLE!$C$69,IF(H23=2,VEHICLE!$C$70*I23,IF(H23=3,VEHICLE!$C$71*I23,0))) -> 0 | R23: =(J23+K23+O23+Q23) -> 232.32741 | S23: =ABS(R23) -> 232.32741 | T23: =ABS((R23)/((2*PI()*G23)/60)) -> 0.31693762 | U23: =ROUNDUP(T23,0) -> 1 | V23: =INDEX(BSFC!$D$4:$AD$26,MATCH(U23,BSFC!$B$4:$B$26,0),MATCH(G23,BSFC!$D$2:$AD$2,0)) -> 920.25591 | W23: =(R23*V23/3600)/1000 -> 0.059389076 | X23: =ABS(W23) -> 0.059389076 | Y23: =W23*3.09 -> 0.18351224
A24: 1 | B24: S1 | C24: =C23+1 -> 21 | D24: =E24*2.237 -> 29.99817 | E24: 13.41 | F24: =($C$4/E24)+F23 -> 3.7767035 | G24: 7000 | H24: 3 | I24: =E24-E23 -> 0 | J24: =(0.5*VEHICLE!$C$71*VEHICLE!$C$28*VEHICLE!$C$27*'Drive Cycle'!E24^2) -> 159.97582 | K24: =IF(A24=1,VEHICLE!$S$5,IF(A24=2,VEHICLE!$Q$5,IF(A24=3,VEHICLE!$R$5,IF(A24=4,VEHICLE!$P$5,1)))) -> 72.351595 | L24: 0 | M24: =L24-L23 -> 0 | N24: =DEGREES(ATAN(M24/$C$4)) -> 0 | O24: =9.81*SIN(RADIANS(N24))*($C$47) -> 0 | P24: =J24+K24+O24 -> 232.32741 | Q24: =IF(H24=1,I24*VEHICLE!$C$69,IF(H24=2,VEHICLE!$C$70*I24,IF(H24=3,VEHICLE!$C$71*I24,0))) -> 0 | R24: =(J24+K24+O24+Q24) -> 232.32741 | S24: =ABS(R24) -> 232.32741 | T24: =ABS((R24)/((2*PI()*G24)/60)) -> 0.31693762 | U24: =ROUNDUP(T24,0) -> 1 | V24: =INDEX(BSFC!$D$4:$AD$26,MATCH(U24,BSFC!$B$4:$B$26,0),MATCH(G24,BSFC!$D$2:$AD$2,0)) -> 920.25591 | W24: =(R24*V24/3600)/1000 -> 0.059389076 | X24: =ABS(W24) -> 0.059389076 | Y24: =W24*3.09 -> 0.18351224
... A95: 1 | B95: S1 | C95: =C94+1 -> 92 | D95: =E95*2.237 -> 29.99817 | E95: 13.41 | F95: =($C$4/E95)+F94 -> 9.0712598 | G95: 7000 | H95: 3 | I95: =E95-E94 -> 0 | J95: =(0.5*VEHICLE!$C$71*VEHICLE!$C$28*VEHICLE!$C$27*'Drive Cycle'!E95^2) -> 159.97582 | K95: =IF(A95=1,VEHICLE!$S$5,IF(A95=2,VEHICLE!$Q$5,IF(A95=3,VEHICLE!$R$5,IF(A95=4,VEHICLE!$P$5,1)))) -> 72.351595 | L95: 0 | M95: =L95-L94 -> 0 | N95: =DEGREES(ATAN(M95/$C$4)) -> 0 | O95: =9.81*SIN(RADIANS(N95))*($C$47) -> 0 | P95: =J95+K95+O95 -> 232.32741 | Q95: =IF(H95=1,I95*VEHICLE!$C$69,IF(H95=2,VEHICLE!$C$70*I95,IF(H95=3,VEHICLE!$C$71*I95,0))) -> 0 | R95: =(J95+K95+O95+Q95) -> 232.32741 | S95: =ABS(R95) -> 232.32741 | T95: =ABS((R95)/((2*PI()*G95)/60)) -> 0.31693762 | U95: =ROUNDUP(T95,0) -> 1 | V95: =INDEX(BSFC!$D$4:$AD$26,MATCH(U95,BSFC!$B$4:$B$26,0),MATCH(G95,BSFC!$D$2:$AD$2,0)) -> 920.25591 | W95: =(R95*V95/3600)/1000 -> 0.059389076 | X95: =ABS(W95) -> 0.059389076 | Y95: =W95*3.09 -> 0.18351224
A96: 1 | B96: S1 | C96: =C95+1 -> 93 | D96: =E96*2.237 -> 29.081 | E96: 13 | F96: =($C$4/E96)+F95 -> 9.1481829 | G96: 6500 | H96: 2 | I96: =E96-E95 -> -0.41 | J96: =(0.5*VEHICLE!$C$71*VEHICLE!$C$28*VEHICLE!$C$27*'Drive Cycle'!E96^2) -> 150.34309 | K96: =IF(A96=1,VEHICLE!$S$5,IF(A96=2,VEHICLE!$Q$5,IF(A96=3,VEHICLE!$R$5,IF(A96=4,VEHICLE!$P$5,1)))) -> 72.351595 | L96: =L95+0.5 -> 0.5 | M96: =L96-L95 -> 0.5 | N96: =DEGREES(ATAN(M96/$C$4)) -> 26.565051 | O96: =9.81*SIN(RADIANS(N96))*($C$47) -> 193.03528 | P96: =J96+K96+O96 -> 415.72996 | Q96: =IF(H96=1,I96*VEHICLE!$C$69,IF(H96=2,VEHICLE!$C$70*I96,IF(H96=3,VEHICLE!$C$71*I96,0))) -> -239.91088 | R96: =(J96+K96+O96+Q96) -> 175.81908 | S96: =ABS(R96) -> 175.81908 | T96: =ABS((R96)/((2*PI()*G96)/60)) -> 0.25829978 | U96: =ROUNDUP(T96,0) -> 1 | V96: =INDEX(BSFC!$D$4:$AD$26,MATCH(U96,BSFC!$B$4:$B$26,0),MATCH(G96,BSFC!$D$2:$AD$2,0)) -> 925.65735 | W96: =(R96*V96/3600)/1000 -> 0.045207841 | X96: =ABS(W96) -> 0.045207841 | Y96: =W96*3.09 -> 0.13969223
A97: 1 | B97: S1 | C97: =C96+1 -> 94 | D97: =E97*2.237 -> 27.9625 | E97: 12.5 | F97: =($C$4/E97)+F96 -> 9.2281829 | G97: 6000 | H97: 2 | I97: =E97-E96 -> -0.5 | J97: =(0.5*VEHICLE!$C$71*VEHICLE!$C$28*VEHICLE!$C$27*'Drive Cycle'!E97^2) -> 139.00064 | K97: =IF(A97=1,VEHICLE!$S$5,IF(A97=2,VEHICLE!$Q$5,IF(A97=3,VEHICLE!$R$5,IF(A97=4,VEHICLE!$P$5,1)))) -> 72.351595 | L97: =L96+0.5 -> 1 | M97: =L97-L96 -> 0.5 | N97: =DEGREES(ATAN(M97/$C$4)) -> 26.565051 | O97: =9.81*SIN(RADIANS(N97))*($C$47) -> 193.03528 | P97: =J97+K97+O97 -> 404.38751 | Q97: =IF(H97=1,I97*VEHICLE!$C$69,IF(H97=2,VEHICLE!$C$70*I97,IF(H97=3,VEHICLE!$C$71*I97,0))) -> -292.57424 | R97: =(J97+K97+O97+Q97) -> 111.81327 | S97: =ABS(R97) -> 111.81327 | T97: =ABS((R97)/((2*PI()*G97)/60)) -> 0.17795634 | U97: =ROUNDUP(T97,0) -> 1 | V97: =INDEX(BSFC!$D$4:$AD$26,MATCH(U97,BSFC!$B$4:$B$26,0),MATCH(G97,BSFC!$D$2:$AD$2,0)) -> 933.91499 | W97: =(R97*V97/3600)/1000 -> 0.029006691 | X97: =ABS(W97) -> 0.029006691 | Y97: =W97*3.09 -> 0.089630676
A98: 1 | B98: S1 | C98: =C97+1 -> 95 | D98: =E98*2.237 -> 26.844 | E98: 12 | F98: =($C$4/E98)+F97 -> 9.3115162 | G98: 5500 | H98: 2 | I98: =E98-E97 -> -0.5 | J98: =(0.5*VEHICLE!$C$71*VEHICLE!$C$28*VEHICLE!$C$27*'Drive Cycle'!E98^2) -> 128.10299 | K98: =IF(A98=1,VEHICLE!$S$5,IF(A98=2,VEHICLE!$Q$5,IF(A98=3,VEHICLE!$R$5,IF(A98=4,VEHICLE!$P$5,1)))) -> 72.351595 | L98: =L97+0.5 -> 1.5 | M98: =L98-L97 -> 0.5 | N98: =DEGREES(ATAN(M98/$C$4)) -> 26.565051 | O98: =9.81*SIN(RADIANS(N98))*($C$47) -> 193.03528 | P98: =J98+K98+O98 -> 393.48986 | Q98: =IF(H98=1,I98*VEHICLE!$C$69,IF(H98=2,VEHICLE!$C$70*I98,IF(H98=3,VEHICLE!$C$71*I98,0))) -> -292.57424 | R98: =(J98+K98+O98+Q98) -> 100.91562 | S98: =ABS(R98) -> 100.91562 | T98: =ABS((R98)/((2*PI()*G98)/60)) -> 0.1752133 | U98: =ROUNDUP(T98,0) -> 1 | V98: =INDEX(BSFC!$D$4:$AD$26,MATCH(U98,BSFC!$B$4:$B$26,0),MATCH(G98,BSFC!$D$2:$AD$2,0)) -> 937.88834 | W98: =(R98*V98/3600)/1000 -> 0.026290995 | X98: =ABS(W98) -> 0.026290995 | Y98: =W98*3.09 -> 0.081239174
A99: 1 | B99: S1 | C99: =C98+1 -> 96 | D99: =E99*2.237 -> 25.7255 | E99: 11.5 | F99: =($C$4/E99)+F98 -> 9.3984727 | G99: 5250 | H99: 2 | I99: =E99-E98 -> -0.5 | J99: =(0.5*VEHICLE!$C$71*VEHICLE!$C$28*VEHICLE!$C$27*'Drive Cycle'!E99^2) -> 117.65014 | K99: =IF(A99=1,VEHICLE!$S$5,IF(A99=2,VEHICLE!$Q$5,IF(A99=3,VEHICLE!$R$5,IF(A99=4,VEHICLE!$P$5,1)))) -> 72.351595 | L99: =L98+0.5 -> 2 | M99: =L99-L98 -> 0.5 | N99: =DEGREES(ATAN(M99/$C$4)) -> 26.565051 | O99: =9.81*SIN(RADIANS(N99))*($C$47) -> 193.03528 | P99: =J99+K99+O99 -> 383.03701 | Q99: =IF(H99=1,I99*VEHICLE!$C$69,IF(H99=2,VEHICLE!$C$70*I99,IF(H99=3,VEHICLE!$C$71*I99,0))) -> -292.57424 | R99: =(J99+K99+O99+Q99) -> 90.46277 | S99: =ABS(R99) -> 90.46277 | T99: =ABS((R99)/((2*PI()*G99)/60)) -> 0.16454397 | U99: =ROUNDUP(T99,0) -> 1 | V99: =INDEX(BSFC!$D$4:$AD$26,MATCH(U99,BSFC!$B$4:$B$26,0),MATCH(G99,BSFC!$D$2:$AD$2,0)) -> 959.82391 | W99: =(R99*V99/3600)/1000 -> 0.024118981 | X99: =ABS(W99) -> 0.024118981 | Y99: =W99*3.09 -> 0.07452765
A100: 1 | B100: S1 | C100: =C99+1 -> 97 | D100: =E100*2.237 -> 24.607 | E100: 11 | F100: =($C$4/E100)+F99 -> 9.4893818 | G100: 5250 | H100: 2 | I100: =E100-E99 -> -0.5 | J100: =(0.5*VEHICLE!$C$71*VEHICLE!$C$28*VEHICLE!$C$27*'Drive Cycle'!E100^2) -> 107.6421 | K100: =IF(A100=1,VEHICLE!$S$5,IF(A100=2,VEHICLE!$Q$5,IF(A100=3,VEHICLE!$R$5,IF(A100=4,VEHICLE!$P$5,1)))) -> 72.351595 | L100: =L99+0.5 -> 2.5 | M100: =L100-L99 -> 0.5 | N100: =DEGREES(ATAN(M100/$C$4)) -> 26.565051 | O100: =9.81*SIN(RADIANS(N100))*($C$47) -> 193.03528 | P100: =J100+K100+O100 -> 373.02897 | Q100: =IF(H100=1,I100*VEHICLE!$C$69,IF(H100=2,VEHICLE!$C$70*I100,IF(H100=3,VEHICLE!$C$71*I100,0))) -> -292.57424 | R100: =(J100+K100+O100+Q100) -> 80.454724 | S100: =ABS(R100) -> 80.454724 | T100: =ABS((R100)/((2*PI()*G100)/60)) -> 0.14634019 | U100: =ROUNDUP(T100,0) -> 1 | V100: =INDEX(BSFC!$D$4:$AD$26,MATCH(U100,BSFC!$B$4:$B$26,0),MATCH(G100,BSFC!$D$2:$AD$2,0)) -> 959.82391 | W100: =(R100*V100/3600)/1000 -> 0.021450658 | X100: =ABS(W100) -> 0.021450658 | Y100: =W100*3.09 -> 0.066282533
A101: 1 | B101: S1 | C101: =C100+1 -> 98 | D101: =E101*2.237 -> 24.607 | E101: 11 | F101: =($C$4/E101)+F100 -> 9.5802909 | G101: 5250 | H101: 2 | I101: =E101-E100 -> 0 | J101: =(0.5*VEHICLE!$C$71*VEHICLE!$C$28*VEHICLE!$C$27*'Drive Cycle'!E101^2) -> 107.6421 | K101: =IF(A101=1,VEHICLE!$S$5,IF(A101=2,VEHICLE!$Q$5,IF(A101=3,VEHICLE!$R$5,IF(A101=4,VEHICLE!$P$5,1)))) -> 72.351595 | L101: =L100+0.5 -> 3 | M101: =L101-L100 -> 0.5 | N101: =DEGREES(ATAN(M101/$C$4)) -> 26.565051 | O101: =9.81*SIN(RADIANS(N101))*($C$47) -> 193.03528 | P101: =J101+K101+O101 -> 373.02897 | Q101: =IF(H101=1,I101*VEHICLE!$C$69,IF(H101=2,VEHICLE!$C$70*I101,IF(H101=3,VEHICLE!$C$71*I101,0))) -> 0 | R101: =(J101+K101+O101+Q101) -> 373.02897 | S101: =ABS(R101) -> 373.02897 | T101: =ABS((R101)/((2*PI()*G101)/60)) -> 0.67850748 | U101: =ROUNDUP(T101,0) -> 1 | V101: =INDEX(BSFC!$D$4:$AD$26,MATCH(U101,BSFC!$B$4:$B$26,0),MATCH(G101,BSFC!$D$2:$AD$2,0)) -> 959.82391 | W101: =(R101*V101/3600)/1000 -> 0.099456145 | X101: =ABS(W101) -> 0.099456145 | Y101: =W101*3.09 -> 0.30731949
A102: 1 | B102: S1 | C102: =C101+1 -> 99 | D102: =E102*2.237 -> 24.607 | E102: 11 | F102: =($C$4/E102)+F101 -> 9.6712 | G102: 5250 | H102: 2 | I102: =E102-E101 -> 0 | J102: =(0.5*VEHICLE!$C$71*VEHICLE!$C$28*VEHICLE!$C$27*'Drive Cycle'!E102^2) -> 107.6421 | K102: =IF(A102=1,VEHICLE!$S$5,IF(A102=2,VEHICLE!$Q$5,IF(A102=3,VEHICLE!$R$5,IF(A102=4,VEHICLE!$P$5,1)))) -> 72.351595 | L102: =L101+0.5 -> 3.5 | M102: =L102-L101 -> 0.5 | N102: =DEGREES(ATAN(M102/$C$4)) -> 26.565051 | O102: =9.81*SIN(RADIANS(N102))*($C$47) -> 193.03528 | P102: =J102+K102+O102 -> 373.02897 | Q102: =IF(H102=1,I102*VEHICLE!$C$69,IF(H102=2,VEHICLE!$C$70*I102,IF(H102=3,VEHICLE!$C$71*I102,0))) -> 0 | R102: =(J102+K102+O102+Q102) -> 373.02897 | S102: =ABS(R102) -> 373.02897 | T102: =ABS((R102)/((2*PI()*G102)/60)) -> 0.67850748 | U102: =ROUNDUP(T102,0) -> 1 | V102: =INDEX(BSFC!$D$4:$AD$26,MATCH(U102,BSFC!$B$4:$B$26,0),MATCH(G102,BSFC!$D$2:$AD$2,0)) -> 959.82391 | W102: =(R102*V102/3600)/1000 -> 0.099456145 | X102: =ABS(W102) -> 0.099456145 | Y102: =W102*3.09 -> 0.30731949
A103: 1 | B103: S1 | C103: =C102+1 -> 100 | D103: =E103*2.237 -> 24.607 | E103: 11 | F103: =($C$4/E103)+F102 -> 9.7621091 | G103: 5250 | H103: 2 | I103: =E103-E102 -> 0 | J103: =(0.5*VEHICLE!$C$71*VEHICLE!$C$28*VEHICLE!$C$27*'Drive Cycle'!E103^2) -> 107.6421 | K103: =IF(A103=1,VEHICLE!$S$5,IF(A103=2,VEHICLE!$Q$5,IF(A103=3,VEHICLE!$R$5,IF(A103=4,VEHICLE!$P$5,1)))) -> 72.351595 | L103: =L102+0.5 -> 4 | M103: =L103-L102 -> 0.5 | N103: =DEGREES(ATAN(M103/$C$4)) -> 26.565051 | O103: =9.81*SIN(RADIANS(N103))*($C$47) -> 193.03528 | P103: =J103+K103+O103 -> 373.02897 | Q103: =IF(H103=1,I103*VEHICLE!$C$69,IF(H103=2,VEHICLE!$C$70*I103,IF(H103=3,VEHICLE!$C$71*I103,0))) -> 0 | R103: =(J103+K103+O103+Q103) -> 373.02897 | S103: =ABS(R103) -> 373.02897 | T103: =ABS((R103)/((2*PI()*G103)/60)) -> 0.67850748 | U103: =ROUNDUP(T103,0) -> 1 | V103: =INDEX(BSFC!$D$4:$AD$26,MATCH(U103,BSFC!$B$4:$B$26,0),MATCH(G103,BSFC!$D$2:$AD$2,0)) -> 959.82391 | W103: =(R103*V103/3600)/1000 -> 0.099456145 | X103: =ABS(W103) -> 0.099456145 | Y103: =W103*3.09 -> 0.30731949
A104: 1 | B104: S1 | C104: =C103+1 -> 101 | D104: =E104*2.237 -> 24.607 | E104: 11 | F104: =($C$4/E104)+F103 -> 9.8530182 | G104: 5250 | H104: 2 | I104: =E104-E103 -> 0 | J104: =(0.5*VEHICLE!$C$71*VEHICLE!$C$28*VEHICLE!$C$27*'Drive Cycle'!E104^2) -> 107.6421 | K104: =IF(A104=1,VEHICLE!$S$5,IF(A104=2,VEHICLE!$Q$5,IF(A104=3,VEHICLE!$R$5,IF(A104=4,VEHICLE!$P$5,1)))) -> 72.351595 | L104: =L103+0.5 -> 4.5 | M104: =L104-L103 -> 0.5 | N104: =DEGREES(ATAN(M104/$C$4)) -> 26.565051 | O104: =9.81*SIN(RADIANS(N104))*($C$47) -> 193.03528 | P104: =J104+K104+O104 -> 373.02897 | Q104: =IF(H104=1,I104*VEHICLE!$C$69,IF(H104=2,VEHICLE!$C$70*I104,IF(H104=3,VEHICLE!$C$71*I104,0))) -> 0 | R104: =(J104+K104+O104+Q104) -> 373.02897 | S104: =ABS(R104) -> 373.02897 | T104: =ABS((R104)/((2*PI()*G104)/60)) -> 0.67850748 | U104: =ROUNDUP(T104,0) -> 1 | V104: =INDEX(BSFC!$D$4:$AD$26,MATCH(U104,BSFC!$B$4:$B$26,0),MATCH(G104,BSFC!$D$2:$AD$2,0)) -> 959.82391 | W104: =(R104*V104/3600)/1000 -> 0.099456145 | X104: =ABS(W104) -> 0.099456145 | Y104: =W104*3.09 -> 0.30731949
A105: 1 | B105: S1 | C105: =C104+1 -> 102 | D105: =E105*2.237 -> 24.607 | E105: 11 | F105: =($C$4/E105)+F104 -> 9.9439273 | G105: 5250 | H105: 2 | I105: =E105-E104 -> 0 | J105: =(0.5*VEHICLE!$C$71*VEHICLE!$C$28*VEHICLE!$C$27*'Drive Cycle'!E105^2) -> 107.6421 | K105: =IF(A105=1,VEHICLE!$S$5,IF(A105=2,VEHICLE!$Q$5,IF(A105=3,VEHICLE!$R$5,IF(A105=4,VEHICLE!$P$5,1)))) -> 72.351595 | L105: =L104+0.5 -> 5 | M105: =L105-L104 -> 0.5 | N105: =DEGREES(ATAN(M105/$C$4)) -> 26.565051 | O105: =9.81*SIN(RADIANS(N105))*($C$47) -> 193.03528 | P105: =J105+K105+O105 -> 373.02897 | Q105: =IF(H105=1,I105*VEHICLE!$C$69,IF(H105=2,VEHICLE!$C$70*I105,IF(H105=3,VEHICLE!$C$71*I105,0))) -> 0 | R105: =(J105+K105+O105+Q105) -> 373.02897 | S105: =ABS(R105) -> 373.02897 | T105: =ABS((R105)/((2*PI()*G105)/60)) -> 0.67850748 | U105: =ROUNDUP(T105,0) -> 1 | V105: =INDEX(BSFC!$D$4:$AD$26,MATCH(U105,BSFC!$B$4:$B$26,0),MATCH(G105,BSFC!$D$2:$AD$2,0)) -> 959.82391 | W105: =(R105*V105/3600)/1000 -> 0.099456145 | X105: =ABS(W105) -> 0.099456145 | Y105: =W105*3.09 -> 0.30731949
A106: 1 | B106: S1 | C106: =C105+1 -> 103 | D106: =E106*2.237 -> 24.607 | E106: 11 | F106: =($C$4/E106)+F105 -> 10.034836 | G106: 5250 | H106: 2 | I106: =E106-E105 -> 0 | J106: =(0.5*VEHICLE!$C$71*VEHICLE!$C$28*VEHICLE!$C$27*'Drive Cycle'!E106^2) -> 107.6421 | K106: =IF(A106=1,VEHICLE!$S$5,IF(A106=2,VEHICLE!$Q$5,IF(A106=3,VEHICLE!$R$5,IF(A106=4,VEHICLE!$P$5,1)))) -> 72.351595 | L106: =L105+0.5 -> 5.5 | M106: =L106-L105 -> 0.5 | N106: =DEGREES(ATAN(M106/$C$4)) -> 26.565051 | O106: =9.81*SIN(RADIANS(N106))*($C$47) -> 193.03528 | P106: =J106+K106+O106 -> 373.02897 | Q106: =IF(H106=1,I106*VEHICLE!$C$69,IF(H106=2,VEHICLE!$C$70*I106,IF(H106=3,VEHICLE!$C$71*I106,0))) -> 0 | R106: =(J106+K106+O106+Q106) -> 373.02897 | S106: =ABS(R106) -> 373.02897 | T106: =ABS((R106)/((2*PI()*G106)/60)) -> 0.67850748 | U106: =ROUNDUP(T106,0) -> 1 | V106: =INDEX(BSFC!$D$4:$AD$26,MATCH(U106,BSFC!$B$4:$B$26,0),MATCH(G106,BSFC!$D$2:$AD$2,0)) -> 959.82391 | W106: =(R106*V106/3600)/1000 -> 0.099456145 | X106: =ABS(W106) -> 0.099456145 | Y106: =W106*3.09 -> 0.30731949
A107: 1 | B107: S1 | C107: =C106+1 -> 104 | D107: =E107*2.237 -> 24.607 | E107: 11 | F107: =($C$4/E107)+F106 -> 10.125745 | G107: 5250 | H107: 2 | I107: =E107-E106 -> 0 | J107: =(0.5*VEHICLE!$C$71*VEHICLE!$C$28*VEHICLE!$C$27*'Drive Cycle'!E107^2) -> 107.6421 | K107: =IF(A107=1,VEHICLE!$S$5,IF(A107=2,VEHICLE!$Q$5,IF(A107=3,VEHICLE!$R$5,IF(A107=4,VEHICLE!$P$5,1)))) -> 72.351595 | L107: =L106+0.5 -> 6 | M107: =L107-L106 -> 0.5 | N107: =DEGREES(ATAN(M107/$C$4)) -> 26.565051 | O107: =9.81*SIN(RADIANS(N107))*($C$47) -> 193.03528 | P107: =J107+K107+O107 -> 373.02897 | Q107: =IF(H107=1,I107*VEHICLE!$C$69,IF(H107=2,VEHICLE!$C$70*I107,IF(H107=3,VEHICLE!$C$71*I107,0))) -> 0 | R107: =(J107+K107+O107+Q107) -> 373.02897 | S107: =ABS(R107) -> 373.02897 | T107: =ABS((R107)/((2*PI()*G107)/60)) -> 0.67850748 | U107: =ROUNDUP(T107,0) -> 1 | V107: =INDEX(BSFC!$D$4:$AD$26,MATCH(U107,BSFC!$B$4:$B$26,0),MATCH(G107,BSFC!$D$2:$AD$2,0)) -> 959.82391 | W107: =(R107*V107/3600)/1000 -> 0.099456145 | X107: =ABS(W107) -> 0.099456145 | Y107: =W107*3.09 -> 0.30731949
... A112: 1 | B112: S1 | C112: =C111+1 -> 109 | D112: =E112*2.237 -> 24.607 | E112: 11 | F112: =($C$4/E112)+F111 -> 10.580291 | G112: 5500 | H112: 2 | I112: =E112-E111 -> 0 | J112: =(0.5*VEHICLE!$C$71*VEHICLE!$C$28*VEHICLE!$C$27*'Drive Cycle'!E112^2) -> 107.6421 | K112: =IF(A112=1,VEHICLE!$S$5,IF(A112=2,VEHICLE!$Q$5,IF(A112=3,VEHICLE!$R$5,IF(A112=4,VEHICLE!$P$5,1)))) -> 72.351595 | L112: =L111+0.5 -> 8.5 | M112: =L112-L111 -> 0.5 | N112: =DEGREES(ATAN(M112/$C$4)) -> 26.565051 | O112: =9.81*SIN(RADIANS(N112))*($C$47) -> 193.03528 | P112: =J112+K112+O112 -> 373.02897 | Q112: =IF(H112=1,I112*VEHICLE!$C$69,IF(H112=2,VEHICLE!$C$70*I112,IF(H112=3,VEHICLE!$C$71*I112,0))) -> 0 | R112: =(J112+K112+O112+Q112) -> 373.02897 | S112: =ABS(R112) -> 373.02897 | T112: =ABS((R112)/((2*PI()*G112)/60)) -> 0.64766623 | U112: =ROUNDUP(T112,0) -> 1 | V112: =INDEX(BSFC!$D$4:$AD$26,MATCH(U112,BSFC!$B$4:$B$26,0),MATCH(G112,BSFC!$D$2:$AD$2,0)) -> 937.88834 | W112: =(R112*V112/3600)/1000 -> 0.0971832 | X112: =ABS(W112) -> 0.0971832 | Y112: =W112*3.09 -> 0.30029609
A113: 1 | B113: S1 | C113: =C112+1 -> 110 | D113: =E113*2.237 -> 26.844 | E113: 12 | F113: =($C$4/E113)+F112 -> 10.663624 | G113: 6000 | H113: 3 | I113: =E113-E112 -> 1 | J113: =(0.5*VEHICLE!$C$71*VEHICLE!$C$28*VEHICLE!$C$27*'Drive Cycle'!E113^2) -> 128.10299 | K113: =IF(A113=1,VEHICLE!$S$5,IF(A113=2,VEHICLE!$Q$5,IF(A113=3,VEHICLE!$R$5,IF(A113=4,VEHICLE!$P$5,1)))) -> 72.351595 | L113: =L112 -> 8.5 | M113: =L113-L112 -> 0 | N113: =DEGREES(ATAN(M113/$C$4)) -> 0 | O113: =9.81*SIN(RADIANS(N113))*($C$47) -> 0 | P113: =J113+K113+O113 -> 200.45459 | Q113: =IF(H113=1,I113*VEHICLE!$C$69,IF(H113=2,VEHICLE!$C$70*I113,IF(H113=3,VEHICLE!$C$71*I113,0))) -> 1.167 | R113: =(J113+K113+O113+Q113) -> 201.62159 | S113: =ABS(R113) -> 201.62159 | T113: =ABS((R113)/((2*PI()*G113)/60)) -> 0.32089072 | U113: =ROUNDUP(T113,0) -> 1 | V113: =INDEX(BSFC!$D$4:$AD$26,MATCH(U113,BSFC!$B$4:$B$26,0),MATCH(G113,BSFC!$D$2:$AD$2,0)) -> 933.91499 | W113: =(R113*V113/3600)/1000 -> 0.052304839 | X113: =ABS(W113) -> 0.052304839 | Y113: =W113*3.09 -> 0.16162195
A114: 1 | B114: S1 | C114: =C113+1 -> 111 | D114: =E114*2.237 -> 29.081 | E114: 13 | F114: =($C$4/E114)+F113 -> 10.740547 | G114: 6500 | H114: 3 | I114: =E114-E113 -> 1 | J114: =(0.5*VEHICLE!$C$71*VEHICLE!$C$28*VEHICLE!$C$27*'Drive Cycle'!E114^2) -> 150.34309 | K114: =IF(A114=1,VEHICLE!$S$5,IF(A114=2,VEHICLE!$Q$5,IF(A114=3,VEHICLE!$R$5,IF(A114=4,VEHICLE!$P$5,1)))) -> 72.351595 | L114: =L113 -> 8.5 | M114: =L114-L113 -> 0 | N114: =DEGREES(ATAN(M114/$C$4)) -> 0 | O114: =9.81*SIN(RADIANS(N114))*($C$47) -> 0 | P114: =J114+K114+O114 -> 222.69469 | Q114: =IF(H114=1,I114*VEHICLE!$C$69,IF(H114=2,VEHICLE!$C$70*I114,IF(H114=3,VEHICLE!$C$71*I114,0))) -> 1.167 | R114: =(J114+K114+O114+Q114) -> 223.86169 | S114: =ABS(R114) -> 223.86169 | T114: =ABS((R114)/((2*PI()*G114)/60)) -> 0.32888025 | U114: =ROUNDUP(T114,0) -> 1 | V114: =INDEX(BSFC!$D$4:$AD$26,MATCH(U114,BSFC!$B$4:$B$26,0),MATCH(G114,BSFC!$D$2:$AD$2,0)) -> 925.65735 | W114: =(R114*V114/3600)/1000 -> 0.057560894 | X114: =ABS(W114) -> 0.057560894 | Y114: =W114*3.09 -> 0.17786316
A115: 1 | B115: S1 | C115: =C114+1 -> 112 | D115: =E115*2.237 -> 29.99817 | E115: 13.41 | F115: =($C$4/E115)+F114 -> 10.815119 | G115: 6500 | H115: 3 | I115: =E115-E114 -> 0.41 | J115: =(0.5*VEHICLE!$C$71*VEHICLE!$C$28*VEHICLE!$C$27*'Drive Cycle'!E115^2) -> 159.97582 | K115: =IF(A115=1,VEHICLE!$S$5,IF(A115=2,VEHICLE!$Q$5,IF(A115=3,VEHICLE!$R$5,IF(A115=4,VEHICLE!$P$5,1)))) -> 72.351595 | L115: =L114 -> 8.5 | M115: =L115-L114 -> 0 | N115: =DEGREES(ATAN(M115/$C$4)) -> 0 | O115: =9.81*SIN(RADIANS(N115))*($C$47) -> 0 | P115: =J115+K115+O115 -> 232.32741 | Q115: =IF(H115=1,I115*VEHICLE!$C$69,IF(H115=2,VEHICLE!$C$70*I115,IF(H115=3,VEHICLE!$C$71*I115,0))) -> 0.47847 | R115: =(J115+K115+O115+Q115) -> 232.80588 | S115: =ABS(R115) -> 232.80588 | T115: =ABS((R115)/((2*PI()*G115)/60)) -> 0.34202037 | U115: =ROUNDUP(T115,0) -> 1 | V115: =INDEX(BSFC!$D$4:$AD$26,MATCH(U115,BSFC!$B$4:$B$26,0),MATCH(G115,BSFC!$D$2:$AD$2,0)) -> 925.65735 | W115: =(R115*V115/3600)/1000 -> 0.059860687 | X115: =ABS(W115) -> 0.059860687 | Y115: =W115*3.09 -> 0.18496952
A116: 1 | B116: S1 | C116: =C115+1 -> 113 | D116: =E116*2.237 -> 29.99817 | E116: 13.41 | F116: =($C$4/E116)+F115 -> 10.88969 | G116: 6500 | H116: 3 | I116: =E116-E115 -> 0 | J116: =(0.5*VEHICLE!$C$71*VEHICLE!$C$28*VEHICLE!$C$27*'Drive Cycle'!E116^2) -> 159.97582 | K116: =IF(A116=1,VEHICLE!$S$5,IF(A116=2,VEHICLE!$Q$5,IF(A116=3,VEHICLE!$R$5,IF(A116=4,VEHICLE!$P$5,1)))) -> 72.351595 | L116: =L115 -> 8.5 | M116: =L116-L115 -> 0 | N116: =DEGREES(ATAN(M116/$C$4)) -> 0 | O116: =9.81*SIN(RADIANS(N116))*($C$47) -> 0 | P116: =J116+K116+O116 -> 232.32741 | Q116: =IF(H116=1,I116*VEHICLE!$C$69,IF(H116=2,VEHICLE!$C$70*I116,IF(H116=3,VEHICLE!$C$71*I116,0))) -> 0 | R116: =(J116+K116+O116+Q116) -> 232.32741 | S116: =ABS(R116) -> 232.32741 | T116: =ABS((R116)/((2*PI()*G116)/60)) -> 0.34131744 | U116: =ROUNDUP(T116,0) -> 1 | V116: =INDEX(BSFC!$D$4:$AD$26,MATCH(U116,BSFC!$B$4:$B$26,0),MATCH(G116,BSFC!$D$2:$AD$2,0)) -> 925.65735 | W116: =(R116*V116/3600)/1000 -> 0.05973766 | X116: =ABS(W116) -> 0.05973766 | Y116: =W116*3.09 -> 0.18458937
A117: 1 | B117: S1 | C117: =C116+1 -> 114 | D117: =E117*2.237 -> 29.99817 | E117: 13.41 | F117: =($C$4/E117)+F116 -> 10.964261 | G117: 6500 | H117: 3 | I117: =E117-E116 -> 0 | J117: =(0.5*VEHICLE!$C$71*VEHICLE!$C$28*VEHICLE!$C$27*'Drive Cycle'!E117^2) -> 159.97582 | K117: =IF(A117=1,VEHICLE!$S$5,IF(A117=2,VEHICLE!$Q$5,IF(A117=3,VEHICLE!$R$5,IF(A117=4,VEHICLE!$P$5,1)))) -> 72.351595 | L117: =L116 -> 8.5 | M117: =L117-L116 -> 0 | N117: =DEGREES(ATAN(M117/$C$4)) -> 0 | O117: =9.81*SIN(RADIANS(N117))*($C$47) -> 0 | P117: =J117+K117+O117 -> 232.32741 | Q117: =IF(H117=1,I117*VEHICLE!$C$69,IF(H117=2,VEHICLE!$C$70*I117,IF(H117=3,VEHICLE!$C$71*I117,0))) -> 0 | R117: =(J117+K117+O117+Q117) -> 232.32741 | S117: =ABS(R117) -> 232.32741 | T117: =ABS((R117)/((2*PI()*G117)/60)) -> 0.34131744 | U117: =ROUNDUP(T117,0) -> 1 | V117: =INDEX(BSFC!$D$4:$AD$26,MATCH(U117,BSFC!$B$4:$B$26,0),MATCH(G117,BSFC!$D$2:$AD$2,0)) -> 925.65735 | W117: =(R117*V117/3600)/1000 -> 0.05973766 | X117: =ABS(W117) -> 0.05973766 | Y117: =W117*3.09 -> 0.18458937
A118: 1 | B118: S1 | C118: =C117+1 -> 115 | D118: =E118*2.237 -> 29.99817 | E118: 13.41 | F118: =($C$4/E118)+F117 -> 11.038832 | G118: 6500 | H118: 3 | I118: =E118-E117 -> 0 | J118: =(0.5*VEHICLE!$C$71*VEHICLE!$C$28*VEHICLE!$C$27*'Drive Cycle'!E118^2) -> 159.97582 | K118: =IF(A118=1,VEHICLE!$S$5,IF(A118=2,VEHICLE!$Q$5,IF(A118=3,VEHICLE!$R$5,IF(A118=4,VEHICLE!$P$5,1)))) -> 72.351595 | L118: =L117 -> 8.5 | M118: =L118-L117 -> 0 | N118: =DEGREES(ATAN(M118/$C$4)) -> 0 | O118: =9.81*SIN(RADIANS(N118))*($C$47) -> 0 | P118: =J118+K118+O118 -> 232.32741 | Q118: =IF(H118=1,I118*VEHICLE!$C$69,IF(H118=2,VEHICLE!$C$70*I118,IF(H118=3,VEHICLE!$C$71*I118,0))) -> 0 | R118: =(J118+K118+O118+Q118) -> 232.32741 | S118: =ABS(R118) -> 232.32741 | T118: =ABS((R118)/((2*PI()*G118)/60)) -> 0.34131744 | U118: =ROUNDUP(T118,0) -> 1 | V118: =INDEX(BSFC!$D$4:$AD$26,MATCH(U118,BSFC!$B$4:$B$26,0),MATCH(G118,BSFC!$D$2:$AD$2,0)) -> 925.65735 | W118: =(R118*V118/3600)/1000 -> 0.05973766 | X118: =ABS(W118) -> 0.05973766 | Y118: =W118*3.09 -> 0.18458937
A119: 1 | B119: S1 | C119: =C118+1 -> 116 | D119: =E119*2.237 -> 22.37 | E119: 10 | F119: =($C$4/E119)+F118 -> 11.138832 | G119: 6500 | H119: 3 | I119: =E119-E118 -> -3.41 | J119: =(0.5*VEHICLE!$C$71*VEHICLE!$C$28*VEHICLE!$C$27*'Drive Cycle'!E119^2) -> 88.96041 | K119: =IF(A119=1,VEHICLE!$S$5,IF(A119=2,VEHICLE!$Q$5,IF(A119=3,VEHICLE!$R$5,IF(A119=4,VEHICLE!$P$5,1)))) -> 72.351595 | L119: =L118 -> 8.5 | M119: =L119-L118 -> 0 | N119: =DEGREES(ATAN(M119/$C$4)) -> 0 | O119: =9.81*SIN(RADIANS(N119))*($C$47) -> 0 | P119: =J119+K119+O119 -> 161.312 | Q119: =IF(H119=1,I119*VEHICLE!$C$69,IF(H119=2,VEHICLE!$C$70*I119,IF(H119=3,VEHICLE!$C$71*I119,0))) -> -3.97947 | R119: =(J119+K119+O119+Q119) -> 157.33253 | S119: =ABS(R119) -> 157.33253 | T119: =ABS((R119)/((2*PI()*G119)/60)) -> 0.23114078 | U119: =ROUNDUP(T119,0) -> 1 | V119: =INDEX(BSFC!$D$4:$AD$26,MATCH(U119,BSFC!$B$4:$B$26,0),MATCH(G119,BSFC!$D$2:$AD$2,0)) -> 925.65735 | W119: =(R119*V119/3600)/1000 -> 0.040454449 | X119: =ABS(W119) -> 0.040454449 | Y119: =W119*3.09 -> 0.12500425
A120: 1 | B120: S1 | C120: =C119+1 -> 117 | D120: =E120*2.237 -> 22.37 | E120: 10 | F120: =($C$4/E120)+F119 -> 11.238832 | G120: 6500 | H120: 3 | I120: =E120-E119 -> 0 | J120: =(0.5*VEHICLE!$C$71*VEHICLE!$C$28*VEHICLE!$C$27*'Drive Cycle'!E120^2) -> 88.96041 | K120: =IF(A120=1,VEHICLE!$S$5,IF(A120=2,VEHICLE!$Q$5,IF(A120=3,VEHICLE!$R$5,IF(A120=4,VEHICLE!$P$5,1)))) -> 72.351595 | L120: =L119 -> 8.5 | M120: =L120-L119 -> 0 | N120: =DEGREES(ATAN(M120/$C$4)) -> 0 | O120: =9.81*SIN(RADIANS(N120))*($C$47) -> 0 | P120: =J120+K120+O120 -> 161.312 | Q120: =IF(H120=1,I120*VEHICLE!$C$69,IF(H120=2,VEHICLE!$C$70*I120,IF(H120=3,VEHICLE!$C$71*I120,0))) -> 0 | R120: =(J120+K120+O120+Q120) -> 161.312 | S120: =ABS(R120) -> 161.312 | T120: =ABS((R120)/((2*PI()*G120)/60)) -> 0.2369871 | U120: =ROUNDUP(T120,0) -> 1 | V120: =INDEX(BSFC!$D$4:$AD$26,MATCH(U120,BSFC!$B$4:$B$26,0),MATCH(G120,BSFC!$D$2:$AD$2,0)) -> 925.65735 | W120: =(R120*V120/3600)/1000 -> 0.041477679 | X120: =ABS(W120) -> 0.041477679 | Y120: =W120*3.09 -> 0.12816603
A121: 1 | B121: S1 | C121: =C120+1 -> 118 | D121: =E121*2.237 -> 23.4885 | E121: 10.5 | F121: =($C$4/E121)+F120 -> 11.33407 | G121: 6500 | H121: 3 | I121: =E121-E120 -> 0.5 | J121: =(0.5*VEHICLE!$C$71*VEHICLE!$C$28*VEHICLE!$C$27*'Drive Cycle'!E121^2) -> 98.078852 | K121: =IF(A121=1,VEHICLE!$S$5,IF(A121=2,VEHICLE!$Q$5,IF(A121=3,VEHICLE!$R$5,IF(A121=4,VEHICLE!$P$5,1)))) -> 72.351595 | L121: =L120 -> 8.5 | M121: =L121-L120 -> 0 | N121: =DEGREES(ATAN(M121/$C$4)) -> 0 | O121: =9.81*SIN(RADIANS(N121))*($C$47) -> 0 | P121: =J121+K121+O121 -> 170.43045 | Q121: =IF(H121=1,I121*VEHICLE!$C$69,IF(H121=2,VEHICLE!$C$70*I121,IF(H121=3,VEHICLE!$C$71*I121,0))) -> 0.5835 | R121: =(J121+K121+O121+Q121) -> 171.01395 | S121: =ABS(R121) -> 171.01395 | T121: =ABS((R121)/((2*PI()*G121)/60)) -> 0.25124045 | U121: =ROUNDUP(T121,0) -> 1 | V121: =INDEX(BSFC!$D$4:$AD$26,MATCH(U121,BSFC!$B$4:$B$26,0),MATCH(G121,BSFC!$D$2:$AD$2,0)) -> 925.65735 | W121: =(R121*V121/3600)/1000 -> 0.04397231 | X121: =ABS(W121) -> 0.04397231 | Y121: =W121*3.09 -> 0.13587444
A122: 1 | B122: S1 | C122: =C121+1 -> 119 | D122: =E122*2.237 -> 23.4885 | E122: 10.5 | F122: =($C$4/E122)+F121 -> 11.429308 | G122: 6500 | H122: 3 | I122: =E122-E121 -> 0 | J122: =(0.5*VEHICLE!$C$71*VEHICLE!$C$28*VEHICLE!$C$27*'Drive Cycle'!E122^2) -> 98.078852 | K122: =IF(A122=1,VEHICLE!$S$5,IF(A122=2,VEHICLE!$Q$5,IF(A122=3,VEHICLE!$R$5,IF(A122=4,VEHICLE!$P$5,1)))) -> 72.351595 | L122: =L121 -> 8.5 | M122: =L122-L121 -> 0 | N122: =DEGREES(ATAN(M122/$C$4)) -> 0 | O122: =9.81*SIN(RADIANS(N122))*($C$47) -> 0 | P122: =J122+K122+O122 -> 170.43045 | Q122: =IF(H122=1,I122*VEHICLE!$C$69,IF(H122=2,VEHICLE!$C$70*I122,IF(H122=3,VEHICLE!$C$71*I122,0))) -> 0 | R122: =(J122+K122+O122+Q122) -> 170.43045 | S122: =ABS(R122) -> 170.43045 | T122: =ABS((R122)/((2*PI()*G122)/60)) -> 0.25038321 | U122: =ROUNDUP(T122,0) -> 1 | V122: =INDEX(BSFC!$D$4:$AD$26,MATCH(U122,BSFC!$B$4:$B$26,0),MATCH(G122,BSFC!$D$2:$AD$2,0)) -> 925.65735 | W122: =(R122*V122/3600)/1000 -> 0.043822277 | X122: =ABS(W122) -> 0.043822277 | Y122: =W122*3.09 -> 0.13541084
A123: 1 | B123: S1 | C123: =C122+1 -> 120 | D123: =E123*2.237 -> 25.7255 | E123: 11.5 | F123: =($C$4/E123)+F122 -> 11.516265 | G123: 6500 | H123: 3 | I123: =E123-E122 -> 1 | J123: =(0.5*VEHICLE!$C$71*VEHICLE!$C$28*VEHICLE!$C$27*'Drive Cycle'!E123^2) -> 117.65014 | K123: =IF(A123=1,VEHICLE!$S$5,IF(A123=2,VEHICLE!$Q$5,IF(A123=3,VEHICLE!$R$5,IF(A123=4,VEHICLE!$P$5,1)))) -> 72.351595 | L123: 8.5 | M123: =L123-L122 -> 0 | N123: =DEGREES(ATAN(M123/$C$4)) -> 0 | O123: =9.81*SIN(RADIANS(N123))*($C$47) -> 0 | P123: =J123+K123+O123 -> 190.00174 | Q123: =IF(H123=1,I123*VEHICLE!$C$69,IF(H123=2,VEHICLE!$C$70*I123,IF(H123=3,VEHICLE!$C$71*I123,0))) -> 1.167 | R123: =(J123+K123+O123+Q123) -> 191.16874 | S123: =ABS(R123) -> 191.16874 | T123: =ABS((R123)/((2*PI()*G123)/60)) -> 0.2808503 | U123: =ROUNDUP(T123,0) -> 1 | V123: =INDEX(BSFC!$D$4:$AD$26,MATCH(U123,BSFC!$B$4:$B$26,0),MATCH(G123,BSFC!$D$2:$AD$2,0)) -> 925.65735 | W123: =(R123*V123/3600)/1000 -> 0.049154652 | X123: =ABS(W123) -> 0.049154652 | Y123: =W123*3.09 -> 0.15188787
A124: 1 | B124: S1 | C124: =C123+1 -> 121 | D124: =E124*2.237 -> 27.9625 | E124: 12.5 | F124: =($C$4/E124)+F123 -> 11.596265 | G124: 6500 | H124: 3 | I124: =E124-E123 -> 1 | J124: =(0.5*VEHICLE!$C$71*VEHICLE!$C$28*VEHICLE!$C$27*'Drive Cycle'!E124^2) -> 139.00064 | K124: =IF(A124=1,VEHICLE!$S$5,IF(A124=2,VEHICLE!$Q$5,IF(A124=3,VEHICLE!$R$5,IF(A124=4,VEHICLE!$P$5,1)))) -> 72.351595 | L124: =L123-0.35 -> 8.15 | M124: =L124-L123 -> -0.35 | N124: =DEGREES(ATAN(M124/$C$4)) -> -19.290046 | O124: =9.81*SIN(RADIANS(N124))*($C$47) -> -142.59246 | P124: =J124+K124+O124 -> 68.759778 | Q124: =IF(H124=1,I124*VEHICLE!$C$69,IF(H124=2,VEHICLE!$C$70*I124,IF(H124=3,VEHICLE!$C$71*I124,0))) -> 1.167 | R124: =(J124+K124+O124+Q124) -> 69.926778 | S124: =ABS(R124) -> 69.926778 | T124: =ABS((R124)/((2*PI()*G124)/60)) -> 0.10273101 | U124: =ROUNDUP(T124,0) -> 1 | V124: =INDEX(BSFC!$D$4:$AD$26,MATCH(U124,BSFC!$B$4:$B$26,0),MATCH(G124,BSFC!$D$2:$AD$2,0)) -> 925.65735 | W124: =(R124*V124/3600)/1000 -> 0.017980066 | X124: =ABS(W124) -> 0.017980066 | Y124: =W124*3.09 -> 0.055558403
A125: 1 | B125: S1 | C125: =C124+1 -> 122 | D125: =E125*2.237 -> 29.99817 | E125: 13.41 | F125: =($C$4/E125)+F124 -> 11.670836 | G125: 6500 | H125: 3 | I125: =E125-E124 -> 0.91 | J125: =(0.5*VEHICLE!$C$71*VEHICLE!$C$28*VEHICLE!$C$27*'Drive Cycle'!E125^2) -> 159.97582 | K125: =IF(A125=1,VEHICLE!$S$5,IF(A125=2,VEHICLE!$Q$5,IF(A125=3,VEHICLE!$R$5,IF(A125=4,VEHICLE!$P$5,1)))) -> 72.351595 | L125: =L124-0.35 -> 7.8 | M125: =L125-L124 -> -0.35 | N125: =DEGREES(ATAN(M125/$C$4)) -> -19.290046 | O125: =9.81*SIN(RADIANS(N125))*($C$47) -> -142.59246 | P125: =J125+K125+O125 -> 89.734953 | Q125: =IF(H125=1,I125*VEHICLE!$C$69,IF(H125=2,VEHICLE!$C$70*I125,IF(H125=3,VEHICLE!$C$71*I125,0))) -> 1.06197 | R125: =(J125+K125+O125+Q125) -> 90.796923 | S125: =ABS(R125) -> 90.796923 | T125: =ABS((R125)/((2*PI()*G125)/60)) -> 0.13339181 | U125: =ROUNDUP(T125,0) -> 1 | V125: =INDEX(BSFC!$D$4:$AD$26,MATCH(U125,BSFC!$B$4:$B$26,0),MATCH(G125,BSFC!$D$2:$AD$2,0)) -> 925.65735 | W125: =(R125*V125/3600)/1000 -> 0.023346344 | X125: =ABS(W125) -> 0.023346344 | Y125: =W125*3.09 -> 0.072140204
A126: 1 | B126: S1 | C126: =C125+1 -> 123 | D126: =E126*2.237 -> 29.99817 | E126: 13.41 | F126: =($C$4/E126)+F125 -> 11.745407 | G126: 6500 | H126: 3 | I126: =E126-E125 -> 0 | J126: =(0.5*VEHICLE!$C$71*VEHICLE!$C$28*VEHICLE!$C$27*'Drive Cycle'!E126^2) -> 159.97582 | K126: =IF(A126=1,VEHICLE!$S$5,IF(A126=2,VEHICLE!$Q$5,IF(A126=3,VEHICLE!$R$5,IF(A126=4,VEHICLE!$P$5,1)))) -> 72.351595 | L126: =L125-0.35 -> 7.45 | M126: =L126-L125 -> -0.35 | N126: =DEGREES(ATAN(M126/$C$4)) -> -19.290046 | O126: =9.81*SIN(RADIANS(N126))*($C$47) -> -142.59246 | P126: =J126+K126+O126 -> 89.734953 | Q126: =IF(H126=1,I126*VEHICLE!$C$69,IF(H126=2,VEHICLE!$C$70*I126,IF(H126=3,VEHICLE!$C$71*I126,0))) -> 0 | R126: =(J126+K126+O126+Q126) -> 89.734953 | S126: =ABS(R126) -> 89.734953 | T126: =ABS((R126)/((2*PI()*G126)/60)) -> 0.13183164 | U126: =ROUNDUP(T126,0) -> 1 | V126: =INDEX(BSFC!$D$4:$AD$26,MATCH(U126,BSFC!$B$4:$B$26,0),MATCH(G126,BSFC!$D$2:$AD$2,0)) -> 925.65735 | W126: =(R126*V126/3600)/1000 -> 0.023073283 | X126: =ABS(W126) -> 0.023073283 | Y126: =W126*3.09 -> 0.071296444
A127: 1 | B127: S1 | C127: =C126+1 -> 124 | D127: =E127*2.237 -> 29.99817 | E127: 13.41 | F127: =($C$4/E127)+F126 -> 11.819979 | G127: 6500 | H127: 3 | I127: =E127-E126 -> 0 | J127: =(0.5*VEHICLE!$C$71*VEHICLE!$C$28*VEHICLE!$C$27*'Drive Cycle'!E127^2) -> 159.97582 | K127: =IF(A127=1,VEHICLE!$S$5,IF(A127=2,VEHICLE!$Q$5,IF(A127=3,VEHICLE!$R$5,IF(A127=4,VEHICLE!$P$5,1)))) -> 72.351595 | L127: =L126-0.35 -> 7.1 | M127: =L127-L126 -> -0.35 | N127: =DEGREES(ATAN(M127/$C$4)) -> -19.290046 | O127: =9.81*SIN(RADIANS(N127))*($C$47) -> -142.59246 | P127: =J127+K127+O127 -> 89.734953 | Q127: =IF(H127=1,I127*VEHICLE!$C$69,IF(H127=2,VEHICLE!$C$70*I127,IF(H127=3,VEHICLE!$C$71*I127,0))) -> 0 | R127: =(J127+K127+O127+Q127) -> 89.734953 | S127: =ABS(R127) -> 89.734953 | T127: =ABS((R127)/((2*PI()*G127)/60)) -> 0.13183164 | U127: =ROUNDUP(T127,0) -> 1 | V127: =INDEX(BSFC!$D$4:$AD$26,MATCH(U127,BSFC!$B$4:$B$26,0),MATCH(G127,BSFC!$D$2:$AD$2,0)) -> 925.65735 | W127: =(R127*V127/3600)/1000 -> 0.023073283 | X127: =ABS(W127) -> 0.023073283 | Y127: =W127*3.09 -> 0.071296444
A128: 1 | B128: S1 | C128: =C127+1 -> 125 | D128: =E128*2.237 -> 29.99817 | E128: 13.41 | F128: =($C$4/E128)+F127 -> 11.89455 | G128: 6500 | H128: 3 | I128: =E128-E127 -> 0 | J128: =(0.5*VEHICLE!$C$71*VEHICLE!$C$28*VEHICLE!$C$27*'Drive Cycle'!E128^2) -> 159.97582 | K128: =IF(A128=1,VEHICLE!$S$5,IF(A128=2,VEHICLE!$Q$5,IF(A128=3,VEHICLE!$R$5,IF(A128=4,VEHICLE!$P$5,1)))) -> 72.351595 | L128: =L127-0.35 -> 6.75 | M128: =L128-L127 -> -0.35 | N128: =DEGREES(ATAN(M128/$C$4)) -> -19.290046 | O128: =9.81*SIN(RADIANS(N128))*($C$47) -> -142.59246 | P128: =J128+K128+O128 -> 89.734953 | Q128: =IF(H128=1,I128*VEHICLE!$C$69,IF(H128=2,VEHICLE!$C$70*I128,IF(H128=3,VEHICLE!$C$71*I128,0))) -> 0 | R128: =(J128+K128+O128+Q128) -> 89.734953 | S128: =ABS(R128) -> 89.734953 | T128: =ABS((R128)/((2*PI()*G128)/60)) -> 0.13183164 | U128: =ROUNDUP(T128,0) -> 1 | V128: =INDEX(BSFC!$D$4:$AD$26,MATCH(U128,BSFC!$B$4:$B$26,0),MATCH(G128,BSFC!$D$2:$AD$2,0)) -> 925.65735 | W128: =(R128*V128/3600)/1000 -> 0.023073283 | X128: =ABS(W128) -> 0.023073283 | Y128: =W128*3.09 -> 0.071296444
A129: 1 | B129: S1 | C129: =C128+1 -> 126 | D129: =E129*2.237 -> 29.99817 | E129: 13.41 | F129: =($C$4/E129)+F128 -> 11.969121 | G129: 6500 | H129: 3 | I129: =E129-E128 -> 0 | J129: =(0.5*VEHICLE!$C$71*VEHICLE!$C$28*VEHICLE!$C$27*'Drive Cycle'!E129^2) -> 159.97582 | K129: =IF(A129=1,VEHICLE!$S$5,IF(A129=2,VEHICLE!$Q$5,IF(A129=3,VEHICLE!$R$5,IF(A129=4,VEHICLE!$P$5,1)))) -> 72.351595 | L129: =L128-0.35 -> 6.4 | M129: =L129-L128 -> -0.35 | N129: =DEGREES(ATAN(M129/$C$4)) -> -19.290046 | O129: =9.81*SIN(RADIANS(N129))*($C$47) -> -142.59246 | P129: =J129+K129+O129 -> 89.734953 | Q129: =IF(H129=1,I129*VEHICLE!$C$69,IF(H129=2,VEHICLE!$C$70*I129,IF(H129=3,VEHICLE!$C$71*I129,0))) -> 0 | R129: =(J129+K129+O129+Q129) -> 89.734953 | S129: =ABS(R129) -> 89.734953 | T129: =ABS((R129)/((2*PI()*G129)/60)) -> 0.13183164 | U129: =ROUNDUP(T129,0) -> 1 | V129: =INDEX(BSFC!$D$4:$AD$26,MATCH(U129,BSFC!$B$4:$B$26,0),MATCH(G129,BSFC!$D$2:$AD$2,0)) -> 925.65735 | W129: =(R129*V129/3600)/1000 -> 0.023073283 | X129: =ABS(W129) -> 0.023073283 | Y129: =W129*3.09 -> 0.071296444
A130: 1 | B130: S1 | C130: =C129+1 -> 127 | D130: =E130*2.237 -> 29.99817 | E130: 13.41 | F130: =($C$4/E130)+F129 -> 12.043692 | G130: 6500 | H130: 3 | I130: =E130-E129 -> 0 | J130: =(0.5*VEHICLE!$C$71*VEHICLE!$C$28*VEHICLE!$C$27*'Drive Cycle'!E130^2) -> 159.97582 | K130: =IF(A130=1,VEHICLE!$S$5,IF(A130=2,VEHICLE!$Q$5,IF(A130=3,VEHICLE!$R$5,IF(A130=4,VEHICLE!$P$5,1)))) -> 72.351595 | L130: =L129-0.35 -> 6.05 | M130: =L130-L129 -> -0.35 | N130: =DEGREES(ATAN(M130/$C$4)) -> -19.290046 | O130: =9.81*SIN(RADIANS(N130))*($C$47) -> -142.59246 | P130: =J130+K130+O130 -> 89.734953 | Q130: =IF(H130=1,I130*VEHICLE!$C$69,IF(H130=2,VEHICLE!$C$70*I130,IF(H130=3,VEHICLE!$C$71*I130,0))) -> 0 | R130: =(J130+K130+O130+Q130) -> 89.734953 | S130: =ABS(R130) -> 89.734953 | T130: =ABS((R130)/((2*PI()*G130)/60)) -> 0.13183164 | U130: =ROUNDUP(T130,0) -> 1 | V130: =INDEX(BSFC!$D$4:$AD$26,MATCH(U130,BSFC!$B$4:$B$26,0),MATCH(G130,BSFC!$D$2:$AD$2,0)) -> 925.65735 | W130: =(R130*V130/3600)/1000 -> 0.023073283 | X130: =ABS(W130) -> 0.023073283 | Y130: =W130*3.09 -> 0.071296444
A131: 1 | B131: S1 | C131: =C130+1 -> 128 | D131: =E131*2.237 -> 29.99817 | E131: 13.41 | F131: =($C$4/E131)+F130 -> 12.118263 | G131: 6500 | H131: 3 | I131: =E131-E130 -> 0 | J131: =(0.5*VEHICLE!$C$71*VEHICLE!$C$28*VEHICLE!$C$27*'Drive Cycle'!E131^2) -> 159.97582 | K131: =IF(A131=1,VEHICLE!$S$5,IF(A131=2,VEHICLE!$Q$5,IF(A131=3,VEHICLE!$R$5,IF(A131=4,VEHICLE!$P$5,1)))) -> 72.351595 | L131: =L130-0.35 -> 5.7 | M131: =L131-L130 -> -0.35 | N131: =DEGREES(ATAN(M131/$C$4)) -> -19.290046 | O131: =9.81*SIN(RADIANS(N131))*($C$47) -> -142.59246 | P131: =J131+K131+O131 -> 89.734953 | Q131: =IF(H131=1,I131*VEHICLE!$C$69,IF(H131=2,VEHICLE!$C$70*I131,IF(H131=3,VEHICLE!$C$71*I131,0))) -> 0 | R131: =(J131+K131+O131+Q131) -> 89.734953 | S131: =ABS(R131) -> 89.734953 | T131: =ABS((R131)/((2*PI()*G131)/60)) -> 0.13183164 | U131: =ROUNDUP(T131,0) -> 1 | V131: =INDEX(BSFC!$D$4:$AD$26,MATCH(U131,BSFC!$B$4:$B$26,0),MATCH(G131,BSFC!$D$2:$AD$2,0)) -> 925.65735 | W131: =(R131*V131/3600)/1000 -> 0.023073283 | X131: =ABS(W131) -> 0.023073283 | Y131: =W131*3.09 -> 0.071296444
A132: 1 | B132: S1 | C132: =C131+1 -> 129 | D132: =E132*2.237 -> 29.99817 | E132: 13.41 | F132: =($C$4/E132)+F131 -> 12.192835 | G132: 6500 | H132: 3 | I132: =E132-E131 -> 0 | J132: =(0.5*VEHICLE!$C$71*VEHICLE!$C$28*VEHICLE!$C$27*'Drive Cycle'!E132^2) -> 159.97582 | K132: =IF(A132=1,VEHICLE!$S$5,IF(A132=2,VEHICLE!$Q$5,IF(A132=3,VEHICLE!$R$5,IF(A132=4,VEHICLE!$P$5,1)))) -> 72.351595 | L132: =L131-0.35 -> 5.35 | M132: =L132-L131 -> -0.35 | N132: =DEGREES(ATAN(M132/$C$4)) -> -19.290046 | O132: =9.81*SIN(RADIANS(N132))*($C$47) -> -142.59246 | P132: =J132+K132+O132 -> 89.734953 | Q132: =IF(H132=1,I132*VEHICLE!$C$69,IF(H132=2,VEHICLE!$C$70*I132,IF(H132=3,VEHICLE!$C$71*I132,0))) -> 0 | R132: =(J132+K132+O132+Q132) -> 89.734953 | S132: =ABS(R132) -> 89.734953 | T132: =ABS((R132)/((2*PI()*G132)/60)) -> 0.13183164 | U132: =ROUNDUP(T132,0) -> 1 | V132: =INDEX(BSFC!$D$4:$AD$26,MATCH(U132,BSFC!$B$4:$B$26,0),MATCH(G132,BSFC!$D$2:$AD$2,0)) -> 925.65735 | W132: =(R132*V132/3600)/1000 -> 0.023073283 | X132: =ABS(W132) -> 0.023073283 | Y132: =W132*3.09 -> 0.071296444
A133: 1 | B133: S1 | C133: =C132+1 -> 130 | D133: =E133*2.237 -> 29.99817 | E133: 13.41 | F133: =($C$4/E133)+F132 -> 12.267406 | G133: 6500 | H133: 3 | I133: =E133-E132 -> 0 | J133: =(0.5*VEHICLE!$C$71*VEHICLE!$C$28*VEHICLE!$C$27*'Drive Cycle'!E133^2) -> 159.97582 | K133: =IF(A133=1,VEHICLE!$S$5,IF(A133=2,VEHICLE!$Q$5,IF(A133=3,VEHICLE!$R$5,IF(A133=4,VEHICLE!$P$5,1)))) -> 72.351595 | L133: =L132-0.35 -> 5 | M133: =L133-L132 -> -0.35 | N133: =DEGREES(ATAN(M133/$C$4)) -> -19.290046 | O133: =9.81*SIN(RADIANS(N133))*($C$47) -> -142.59246 | P133: =J133+K133+O133 -> 89.734953 | Q133: =IF(H133=1,I133*VEHICLE!$C$69,IF(H133=2,VEHICLE!$C$70*I133,IF(H133=3,VEHICLE!$C$71*I133,0))) -> 0 | R133: =(J133+K133+O133+Q133) -> 89.734953 | S133: =ABS(R133) -> 89.734953 | T133: =ABS((R133)/((2*PI()*G133)/60)) -> 0.13183164 | U133: =ROUNDUP(T133,0) -> 1 | V133: =INDEX(BSFC!$D$4:$AD$26,MATCH(U133,BSFC!$B$4:$B$26,0),MATCH(G133,BSFC!$D$2:$AD$2,0)) -> 925.65735 | W133: =(R133*V133/3600)/1000 -> 0.023073283 | X133: =ABS(W133) -> 0.023073283 | Y133: =W133*3.09 -> 0.071296444
A134: 1 | B134: S1 | C134: =C133+1 -> 131 | D134: =E134*2.237 -> 29.99817 | E134: 13.41 | F134: =($C$4/E134)+F133 -> 12.341977 | G134: 6500 | H134: 3 | I134: =E134-E133 -> 0 | J134: =(0.5*VEHICLE!$C$71*VEHICLE!$C$28*VEHICLE!$C$27*'Drive Cycle'!E134^2) -> 159.97582 | K134: =IF(A134=1,VEHICLE!$S$5,IF(A134=2,VEHICLE!$Q$5,IF(A134=3,VEHICLE!$R$5,IF(A134=4,VEHICLE!$P$5,1)))) -> 72.351595 | L134: =L133-0.35 -> 4.65 | M134: =L134-L133 -> -0.35 | N134: =DEGREES(ATAN(M134/$C$4)) -> -19.290046 | O134: =9.81*SIN(RADIANS(N134))*($C$47) -> -142.59246 | P134: =J134+K134+O134 -> 89.734953 | Q134: =IF(H134=1,I134*VEHICLE!$C$69,IF(H134=2,VEHICLE!$C$70*I134,IF(H134=3,VEHICLE!$C$71*I134,0))) -> 0 | R134: =(J134+K134+O134+Q134) -> 89.734953 | S134: =ABS(R134) -> 89.734953 | T134: =ABS((R134)/((2*PI()*G134)/60)) -> 0.13183164 | U134: =ROUNDUP(T134,0) -> 1 | V134: =INDEX(BSFC!$D$4:$AD$26,MATCH(U134,BSFC!$B$4:$B$26,0),MATCH(G134,BSFC!$D$2:$AD$2,0)) -> 925.65735 | W134: =(R134*V134/3600)/1000 -> 0.023073283 | X134: =ABS(W134) -> 0.023073283 | Y134: =W134*3.09 -> 0.071296444
A135: 1 | B135: S1 | C135: =C134+1 -> 132 | D135: =E135*2.237 -> 29.99817 | E135: 13.41 | F135: =($C$4/E135)+F134 -> 12.416548 | G135: 6500 | H135: 3 | I135: =E135-E134 -> 0 | J135: =(0.5*VEHICLE!$C$71*VEHICLE!$C$28*VEHICLE!$C$27*'Drive Cycle'!E135^2) -> 159.97582 | K135: =IF(A135=1,VEHICLE!$S$5,IF(A135=2,VEHICLE!$Q$5,IF(A135=3,VEHICLE!$R$5,IF(A135=4,VEHICLE!$P$5,1)))) -> 72.351595 | L135: =L134-0.35 -> 4.3 | M135: =L135-L134 -> -0.35 | N135: =DEGREES(ATAN(M135/$C$4)) -> -19.290046 | O135: =9.81*SIN(RADIANS(N135))*($C$47) -> -142.59246 | P135: =J135+K135+O135 -> 89.734953 | Q135: =IF(H135=1,I135*VEHICLE!$C$69,IF(H135=2,VEHICLE!$C$70*I135,IF(H135=3,VEHICLE!$C$71*I135,0))) -> 0 | R135: =(J135+K135+O135+Q135) -> 89.734953 | S135: =ABS(R135) -> 89.734953 | T135: =ABS((R135)/((2*PI()*G135)/60)) -> 0.13183164 | U135: =ROUNDUP(T135,0) -> 1 | V135: =INDEX(BSFC!$D$4:$AD$26,MATCH(U135,BSFC!$B$4:$B$26,0),MATCH(G135,BSFC!$D$2:$AD$2,0)) -> 925.65735 | W135: =(R135*V135/3600)/1000 -> 0.023073283 | X135: =ABS(W135) -> 0.023073283 | Y135: =W135*3.09 -> 0.071296444
... A147: 1 | B147: S1 | C147: =C146+1 -> 144 | D147: =E147*2.237 -> 29.99817 | E147: 13.41 | F147: =($C$4/E147)+F146 -> 13.311403 | G147: 6500 | H147: 3 | I147: =E147-E146 -> 0 | J147: =(0.5*VEHICLE!$C$71*VEHICLE!$C$28*VEHICLE!$C$27*'Drive Cycle'!E147^2) -> 159.97582 | K147: =IF(A147=1,VEHICLE!$S$5,IF(A147=2,VEHICLE!$Q$5,IF(A147=3,VEHICLE!$R$5,IF(A147=4,VEHICLE!$P$5,1)))) -> 72.351595 | L147: =L146-0.35 -> 0.1 | M147: =L147-L146 -> -0.35 | N147: =DEGREES(ATAN(M147/$C$4)) -> -19.290046 | O147: =9.81*SIN(RADIANS(N147))*($C$47) -> -142.59246 | P147: =J147+K147+O147 -> 89.734953 | Q147: =IF(H147=1,I147*VEHICLE!$C$69,IF(H147=2,VEHICLE!$C$70*I147,IF(H147=3,VEHICLE!$C$71*I147,0))) -> 0 | R147: =(J147+K147+O147+Q147) -> 89.734953 | S147: =ABS(R147) -> 89.734953 | T147: =ABS((R147)/((2*PI()*G147)/60)) -> 0.13183164 | U147: =ROUNDUP(T147,0) -> 1 | V147: =INDEX(BSFC!$D$4:$AD$26,MATCH(U147,BSFC!$B$4:$B$26,0),MATCH(G147,BSFC!$D$2:$AD$2,0)) -> 925.65735 | W147: =(R147*V147/3600)/1000 -> 0.023073283 | X147: =ABS(W147) -> 0.023073283 | Y147: =W147*3.09 -> 0.071296444
A148: 1 | B148: S1 | C148: =C147+1 -> 145 | D148: =E148*2.237 -> 29.99817 | E148: 13.41 | F148: =($C$4/E148)+F147 -> 13.385974 | G148: 6500 | H148: 3 | I148: =E148-E147 -> 0 | J148: =(0.5*VEHICLE!$C$71*VEHICLE!$C$28*VEHICLE!$C$27*'Drive Cycle'!E148^2) -> 159.97582 | K148: =IF(A148=1,VEHICLE!$S$5,IF(A148=2,VEHICLE!$Q$5,IF(A148=3,VEHICLE!$R$5,IF(A148=4,VEHICLE!$P$5,1)))) -> 72.351595 | L148: 0 | M148: =L148-L147 -> -0.1 | N148: =DEGREES(ATAN(M148/$C$4)) -> -5.7105931 | O148: =9.81*SIN(RADIANS(N148))*($C$47) -> -42.949785 | P148: =J148+K148+O148 -> 189.37762 | Q148: =IF(H148=1,I148*VEHICLE!$C$69,IF(H148=2,VEHICLE!$C$70*I148,IF(H148=3,VEHICLE!$C$71*I148,0))) -> 0 | R148: =(J148+K148+O148+Q148) -> 189.37762 | S148: =ABS(R148) -> 189.37762 | T148: =ABS((R148)/((2*PI()*G148)/60)) -> 0.27821894 | U148: =ROUNDUP(T148,0) -> 1 | V148: =INDEX(BSFC!$D$4:$AD$26,MATCH(U148,BSFC!$B$4:$B$26,0),MATCH(G148,BSFC!$D$2:$AD$2,0)) -> 925.65735 | W148: =(R148*V148/3600)/1000 -> 0.048694109 | X148: =ABS(W148) -> 0.048694109 | Y148: =W148*3.09 -> 0.1504648
A149: 1 | B149: S1 | C149: =C148+1 -> 146 | D149: =E149*2.237 -> 29.99817 | E149: 13.41 | F149: =($C$4/E149)+F148 -> 13.460545 | G149: 6500 | H149: 3 | I149: =E149-E148 -> 0 | J149: =(0.5*VEHICLE!$C$71*VEHICLE!$C$28*VEHICLE!$C$27*'Drive Cycle'!E149^2) -> 159.97582 | K149: =IF(A149=1,VEHICLE!$S$5,IF(A149=2,VEHICLE!$Q$5,IF(A149=3,VEHICLE!$R$5,IF(A149=4,VEHICLE!$P$5,1)))) -> 72.351595 | L149: 0 | M149: =L149-L148 -> 0 | N149: =DEGREES(ATAN(M149/$C$4)) -> 0 | O149: =9.81*SIN(RADIANS(N149))*($C$47) -> 0 | P149: =J149+K149+O149 -> 232.32741 | Q149: =IF(H149=1,I149*VEHICLE!$C$69,IF(H149=2,VEHICLE!$C$70*I149,IF(H149=3,VEHICLE!$C$71*I149,0))) -> 0 | R149: =(J149+K149+O149+Q149) -> 232.32741 | S149: =ABS(R149) -> 232.32741 | T149: =ABS((R149)/((2*PI()*G149)/60)) -> 0.34131744 | U149: =ROUNDUP(T149,0) -> 1 | V149: =INDEX(BSFC!$D$4:$AD$26,MATCH(U149,BSFC!$B$4:$B$26,0),MATCH(G149,BSFC!$D$2:$AD$2,0)) -> 925.65735 | W149: =(R149*V149/3600)/1000 -> 0.05973766 | X149: =ABS(W149) -> 0.05973766 | Y149: =W149*3.09 -> 0.18458937
A150: 1 | B150: S1 | C150: =C149+1 -> 147 | D150: =E150*2.237 -> 29.99817 | E150: 13.41 | F150: =($C$4/E150)+F149 -> 13.535116 | G150: 6500 | H150: 3 | I150: =E150-E149 -> 0 | J150: =(0.5*VEHICLE!$C$71*VEHICLE!$C$28*VEHICLE!$C$27*'Drive Cycle'!E150^2) -> 159.97582 | K150: =IF(A150=1,VEHICLE!$S$5,IF(A150=2,VEHICLE!$Q$5,IF(A150=3,VEHICLE!$R$5,IF(A150=4,VEHICLE!$P$5,1)))) -> 72.351595 | L150: 0 | M150: =L150-L149 -> 0 | N150: =DEGREES(ATAN(M150/$C$4)) -> 0 | O150: =9.81*SIN(RADIANS(N150))*($C$47) -> 0 | P150: =J150+K150+O150 -> 232.32741 | Q150: =IF(H150=1,I150*VEHICLE!$C$69,IF(H150=2,VEHICLE!$C$70*I150,IF(H150=3,VEHICLE!$C$71*I150,0))) -> 0 | R150: =(J150+K150+O150+Q150) -> 232.32741 | S150: =ABS(R150) -> 232.32741 | T150: =ABS((R150)/((2*PI()*G150)/60)) -> 0.34131744 | U150: =ROUNDUP(T150,0) -> 1 | V150: =INDEX(BSFC!$D$4:$AD$26,MATCH(U150,BSFC!$B$4:$B$26,0),MATCH(G150,BSFC!$D$2:$AD$2,0)) -> 925.65735 | W150: =(R150*V150/3600)/1000 -> 0.05973766 | X150: =ABS(W150) -> 0.05973766 | Y150: =W150*3.09 -> 0.18458937
A151: 1 | B151: S1 | C151: =C150+1 -> 148 | D151: =E151*2.237 -> 29.99817 | E151: 13.41 | F151: =($C$4/E151)+F150 -> 13.609688 | G151: 6500 | H151: 3 | I151: =E151-E150 -> 0 | J151: =(0.5*VEHICLE!$C$71*VEHICLE!$C$28*VEHICLE!$C$27*'Drive Cycle'!E151^2) -> 159.97582 | K151: =IF(A151=1,VEHICLE!$S$5,IF(A151=2,VEHICLE!$Q$5,IF(A151=3,VEHICLE!$R$5,IF(A151=4,VEHICLE!$P$5,1)))) -> 72.351595 | L151: 0 | M151: =L151-L150 -> 0 | N151: =DEGREES(ATAN(M151/$C$4)) -> 0 | O151: =9.81*SIN(RADIANS(N151))*($C$47) -> 0 | P151: =J151+K151+O151 -> 232.32741 | Q151: =IF(H151=1,I151*VEHICLE!$C$69,IF(H151=2,VEHICLE!$C$70*I151,IF(H151=3,VEHICLE!$C$71*I151,0))) -> 0 | R151: =(J151+K151+O151+Q151) -> 232.32741 | S151: =ABS(R151) -> 232.32741 | T151: =ABS((R151)/((2*PI()*G151)/60)) -> 0.34131744 | U151: =ROUNDUP(T151,0) -> 1 | V151: =INDEX(BSFC!$D$4:$AD$26,MATCH(U151,BSFC!$B$4:$B$26,0),MATCH(G151,BSFC!$D$2:$AD$2,0)) -> 925.65735 | W151: =(R151*V151/3600)/1000 -> 0.05973766 | X151: =ABS(W151) -> 0.05973766 | Y151: =W151*3.09 -> 0.18458937
A152: 1 | B152: S1 | C152: =C151+1 -> 149 | D152: =E152*2.237 -> 29.99817 | E152: 13.41 | F152: =($C$4/E152)+F151 -> 13.684259 | G152: 6500 | H152: 3 | I152: =E152-E151 -> 0 | J152: =(0.5*VEHICLE!$C$71*VEHICLE!$C$28*VEHICLE!$C$27*'Drive Cycle'!E152^2) -> 159.97582 | K152: =IF(A152=1,VEHICLE!$S$5,IF(A152=2,VEHICLE!$Q$5,IF(A152=3,VEHICLE!$R$5,IF(A152=4,VEHICLE!$P$5,1)))) -> 72.351595 | L152: 0 | M152: =L152-L151 -> 0 | N152: =DEGREES(ATAN(M152/$C$4)) -> 0 | O152: =9.81*SIN(RADIANS(N152))*($C$47) -> 0 | P152: =J152+K152+O152 -> 232.32741 | Q152: =IF(H152=1,I152*VEHICLE!$C$69,IF(H152=2,VEHICLE!$C$70*I152,IF(H152=3,VEHICLE!$C$71*I152,0))) -> 0 | R152: =(J152+K152+O152+Q152) -> 232.32741 | S152: =ABS(R152) -> 232.32741 | T152: =ABS((R152)/((2*PI()*G152)/60)) -> 0.34131744 | U152: =ROUNDUP(T152,0) -> 1 | V152: =INDEX(BSFC!$D$4:$AD$26,MATCH(U152,BSFC!$B$4:$B$26,0),MATCH(G152,BSFC!$D$2:$AD$2,0)) -> 925.65735 | W152: =(R152*V152/3600)/1000 -> 0.05973766 | X152: =ABS(W152) -> 0.05973766 | Y152: =W152*3.09 -> 0.18458937
A153: 1 | B153: S1 | C153: =C152+1 -> 150 | D153: =E153*2.237 -> 29.99817 | E153: 13.41 | F153: =($C$4/E153)+F152 -> 13.75883 | G153: 6500 | H153: 3 | I153: =E153-E152 -> 0 | J153: =(0.5*VEHICLE!$C$71*VEHICLE!$C$28*VEHICLE!$C$27*'Drive Cycle'!E153^2) -> 159.97582 | K153: =IF(A153=1,VEHICLE!$S$5,IF(A153=2,VEHICLE!$Q$5,IF(A153=3,VEHICLE!$R$5,IF(A153=4,VEHICLE!$P$5,1)))) -> 72.351595 | L153: 0 | M153: =L153-L152 -> 0 | N153: =DEGREES(ATAN(M153/$C$4)) -> 0 | O153: =9.81*SIN(RADIANS(N153))*($C$47) -> 0 | P153: =J153+K153+O153 -> 232.32741 | Q153: =IF(H153=1,I153*VEHICLE!$C$69,IF(H153=2,VEHICLE!$C$70*I153,IF(H153=3,VEHICLE!$C$71*I153,0))) -> 0 | R153: =(J153+K153+O153+Q153) -> 232.32741 | S153: =ABS(R153) -> 232.32741 | T153: =ABS((R153)/((2*PI()*G153)/60)) -> 0.34131744 | U153: =ROUNDUP(T153,0) -> 1 | V153: =INDEX(BSFC!$D$4:$AD$26,MATCH(U153,BSFC!$B$4:$B$26,0),MATCH(G153,BSFC!$D$2:$AD$2,0)) -> 925.65735 | W153: =(R153*V153/3600)/1000 -> 0.05973766 | X153: =ABS(W153) -> 0.05973766 | Y153: =W153*3.09 -> 0.18458937
A154: 1 | B154: S1 | C154: =C153+1 -> 151 | D154: =E154*2.237 -> 29.99817 | E154: 13.41 | F154: =($C$4/E154)+F153 -> 13.833401 | G154: 6500 | H154: 3 | I154: =E154-E153 -> 0 | J154: =(0.5*VEHICLE!$C$71*VEHICLE!$C$28*VEHICLE!$C$27*'Drive Cycle'!E154^2) -> 159.97582 | K154: =IF(A154=1,VEHICLE!$S$5,IF(A154=2,VEHICLE!$Q$5,IF(A154=3,VEHICLE!$R$5,IF(A154=4,VEHICLE!$P$5,1)))) -> 72.351595 | L154: 0 | M154: =L154-L153 -> 0 | N154: =DEGREES(ATAN(M154/$C$4)) -> 0 | O154: =9.81*SIN(RADIANS(N154))*($C$47) -> 0 | P154: =J154+K154+O154 -> 232.32741 | Q154: =IF(H154=1,I154*VEHICLE!$C$69,IF(H154=2,VEHICLE!$C$70*I154,IF(H154=3,VEHICLE!$C$71*I154,0))) -> 0 | R154: =(J154+K154+O154+Q154) -> 232.32741 | S154: =ABS(R154) -> 232.32741 | T154: =ABS((R154)/((2*PI()*G154)/60)) -> 0.34131744 | U154: =ROUNDUP(T154,0) -> 1 | V154: =INDEX(BSFC!$D$4:$AD$26,MATCH(U154,BSFC!$B$4:$B$26,0),MATCH(G154,BSFC!$D$2:$AD$2,0)) -> 925.65735 | W154: =(R154*V154/3600)/1000 -> 0.05973766 | X154: =ABS(W154) -> 0.05973766 | Y154: =W154*3.09 -> 0.18458937
A155: 1 | B155: S1 | C155: =C154+1 -> 152 | D155: =E155*2.237 -> 29.99817 | E155: 13.41 | F155: =($C$4/E155)+F154 -> 13.907973 | G155: 6500 | H155: 3 | I155: =E155-E154 -> 0 | J155: =(0.5*VEHICLE!$C$71*VEHICLE!$C$28*VEHICLE!$C$27*'Drive Cycle'!E155^2) -> 159.97582 | K155: =IF(A155=1,VEHICLE!$S$5,IF(A155=2,VEHICLE!$Q$5,IF(A155=3,VEHICLE!$R$5,IF(A155=4,VEHICLE!$P$5,1)))) -> 72.351595 | L155: 0 | M155: =L155-L154 -> 0 | N155: =DEGREES(ATAN(M155/$C$4)) -> 0 | O155: =9.81*SIN(RADIANS(N155))*($C$47) -> 0 | P155: =J155+K155+O155 -> 232.32741 | Q155: =IF(H155=1,I155*VEHICLE!$C$69,IF(H155=2,VEHICLE!$C$70*I155,IF(H155=3,VEHICLE!$C$71*I155,0))) -> 0 | R155: =(J155+K155+O155+Q155) -> 232.32741 | S155: =ABS(R155) -> 232.32741 | T155: =ABS((R155)/((2*PI()*G155)/60)) -> 0.34131744 | U155: =ROUNDUP(T155,0) -> 1 | V155: =INDEX(BSFC!$D$4:$AD$26,MATCH(U155,BSFC!$B$4:$B$26,0),MATCH(G155,BSFC!$D$2:$AD$2,0)) -> 925.65735 | W155: =(R155*V155/3600)/1000 -> 0.05973766 | X155: =ABS(W155) -> 0.05973766 | Y155: =W155*3.09 -> 0.18458937
A156: 1 | B156: S1 | C156: =C155+1 -> 153 | D156: =E156*2.237 -> 29.99817 | E156: 13.41 | F156: =($C$4/E156)+F155 -> 13.982544 | G156: 6500 | H156: 3 | I156: =E156-E155 -> 0 | J156: =(0.5*VEHICLE!$C$71*VEHICLE!$C$28*VEHICLE!$C$27*'Drive Cycle'!E156^2) -> 159.97582 | K156: =IF(A156=1,VEHICLE!$S$5,IF(A156=2,VEHICLE!$Q$5,IF(A156=3,VEHICLE!$R$5,IF(A156=4,VEHICLE!$P$5,1)))) -> 72.351595 | L156: 0 | M156: =L156-L155 -> 0 | N156: =DEGREES(ATAN(M156/$C$4)) -> 0 | O156: =9.81*SIN(RADIANS(N156))*($C$47) -> 0 | P156: =J156+K156+O156 -> 232.32741 | Q156: =IF(H156=1,I156*VEHICLE!$C$69,IF(H156=2,VEHICLE!$C$70*I156,IF(H156=3,VEHICLE!$C$71*I156,0))) -> 0 | R156: =(J156+K156+O156+Q156) -> 232.32741 | S156: =ABS(R156) -> 232.32741 | T156: =ABS((R156)/((2*PI()*G156)/60)) -> 0.34131744 | U156: =ROUNDUP(T156,0) -> 1 | V156: =INDEX(BSFC!$D$4:$AD$26,MATCH(U156,BSFC!$B$4:$B$26,0),MATCH(G156,BSFC!$D$2:$AD$2,0)) -> 925.65735 | W156: =(R156*V156/3600)/1000 -> 0.05973766 | X156: =ABS(W156) -> 0.05973766 | Y156: =W156*3.09 -> 0.18458937
A157: 1 | B157: S1 | C157: =C156+1 -> 154 | D157: =E157*2.237 -> 29.99817 | E157: 13.41 | F157: =($C$4/E157)+F156 -> 14.057115 | G157: 6500 | H157: 3 | I157: =E157-E156 -> 0 | J157: =(0.5*VEHICLE!$C$71*VEHICLE!$C$28*VEHICLE!$C$27*'Drive Cycle'!E157^2) -> 159.97582 | K157: =IF(A157=1,VEHICLE!$S$5,IF(A157=2,VEHICLE!$Q$5,IF(A157=3,VEHICLE!$R$5,IF(A157=4,VEHICLE!$P$5,1)))) -> 72.351595 | L157: 0 | M157: =L157-L156 -> 0 | N157: =DEGREES(ATAN(M157/$C$4)) -> 0 | O157: =9.81*SIN(RADIANS(N157))*($C$47) -> 0 | P157: =J157+K157+O157 -> 232.32741 | Q157: =IF(H157=1,I157*VEHICLE!$C$69,IF(H157=2,VEHICLE!$C$70*I157,IF(H157=3,VEHICLE!$C$71*I157,0))) -> 0 | R157: =(J157+K157+O157+Q157) -> 232.32741 | S157: =ABS(R157) -> 232.32741 | T157: =ABS((R157)/((2*PI()*G157)/60)) -> 0.34131744 | U157: =ROUNDUP(T157,0) -> 1 | V157: =INDEX(BSFC!$D$4:$AD$26,MATCH(U157,BSFC!$B$4:$B$26,0),MATCH(G157,BSFC!$D$2:$AD$2,0)) -> 925.65735 | W157: =(R157*V157/3600)/1000 -> 0.05973766 | X157: =ABS(W157) -> 0.05973766 | Y157: =W157*3.09 -> 0.18458937
A158: 1 | B158: S1 | C158: =C157+1 -> 155 | D158: =E158*2.237 -> 29.99817 | E158: 13.41 | F158: =($C$4/E158)+F157 -> 14.131686 | G158: 6500 | H158: 3 | I158: =E158-E157 -> 0 | J158: =(0.5*VEHICLE!$C$71*VEHICLE!$C$28*VEHICLE!$C$27*'Drive Cycle'!E158^2) -> 159.97582 | K158: =IF(A158=1,VEHICLE!$S$5,IF(A158=2,VEHICLE!$Q$5,IF(A158=3,VEHICLE!$R$5,IF(A158=4,VEHICLE!$P$5,1)))) -> 72.351595 | L158: 0 | M158: =L158-L157 -> 0 | N158: =DEGREES(ATAN(M158/$C$4)) -> 0 | O158: =9.81*SIN(RADIANS(N158))*($C$47) -> 0 | P158: =J158+K158+O158 -> 232.32741 | Q158: =IF(H158=1,I158*VEHICLE!$C$69,IF(H158=2,VEHICLE!$C$70*I158,IF(H158=3,VEHICLE!$C$71*I158,0))) -> 0 | R158: =(J158+K158+O158+Q158) -> 232.32741 | S158: =ABS(R158) -> 232.32741 | T158: =ABS((R158)/((2*PI()*G158)/60)) -> 0.34131744 | U158: =ROUNDUP(T158,0) -> 1 | V158: =INDEX(BSFC!$D$4:$AD$26,MATCH(U158,BSFC!$B$4:$B$26,0),MATCH(G158,BSFC!$D$2:$AD$2,0)) -> 925.65735 | W158: =(R158*V158/3600)/1000 -> 0.05973766 | X158: =ABS(W158) -> 0.05973766 | Y158: =W158*3.09 -> 0.18458937
