Workbook

Sheet Centre of gravity
A1: Gordon szr660 Cog data | H1: wheel degrees | I1: rads | J1: rear wheel X | K1: rear wheel Y | L1: front wheel X | M1: front wheel Y | N1: swing arm line X | O1: swing arm line Y | P1: cog X | Q1: rear sprocket X | R1: rear sprocket Y | S1: front sprocket X | T1: front sprocket Y | U1: forks X | V1: forks Y | W1: chain top line X | X1: chain top line Y | Y1: swing arm line2 X | Z1: swing arm line2 Y
B2: level | C2: level W/Rider | D2: lifted | E2: Lifted W/Rider | H2: 0 | I2: =RADIANS(H2) -> 0 | J2: =$B$7*SIN(I2)+$B$7 -> 0.3059 | K2: =$B$7*COS(I2)+$B$7 -> 0.6118 | L2: =$B$8*SIN(I2)+$B$7+$B$6 -> 1.6709 | M2: =$B$8*COS(I2)+$B$8 -> 0.5998 | N2: =$B$16/100*H2+$B$7 -> 0.3059 | O2: =$B$17/100*H2+$B$7 -> 0.3059 | P2: =B7+(B6)-(B12) -> 1.0432915 | Q2: =$D$20*SIN(I2)+$B$7 -> 0.3059 | R2: =$D$20*COS(I2)+$B$7 -> 0.4044368 | S2: =$D$21*SIN(I2)+$N$102+0.1275 -> 0.9634 | T2: =$D$21*COS(I2)+$O$102+0.002 -> 0.44332536 | U2: =$B$6+$B$7-(($B$22*SIN(RADIANS($B$15)))/100)*H2 -> 1.6709 | V2: =$B$7+(($B$22*SIN(RADIANS(180-90-$B$15)))/100)*H2 -> 0.3059 | W2: =($S$2-$Q$2)/100*H2+$Q$2 -> 0.3059 | X2: =($T$2-$R$2)/100*H2+$R$2 -> 0.4044368 | Y2: =$B$16/100*H102+$B$7 -> 0.8359 | Z2: =$B$17/100*H102+$B$7 -> 0.4009
A3: front wheel | B3: 75.9 | C3: 97.2 | D3: 82.4 | E3: 111.5 | H3: =H2+1 -> 1 | I3: =RADIANS(H3) -> 0.017453293 | J3: =$B$7*SIN(I3)+$B$7 -> 0.31123869 | K3: =$B$7*COS(I3)+$B$7 -> 0.61175341 | L3: =$B$8*SIN(I3)+$B$7+$B$6 -> 1.676134 | M3: =$B$8*COS(I3)+$B$8 -> 0.59975432 | N3: =$B$16/100*H3+$B$7 -> 0.3112 | O3: =$B$17/100*H3+$B$7 -> 0.30685 | P3: cog + rider X | Q3: =$D$20*SIN(I3)+$B$7 -> 0.3076197 | R3: =$D$20*COS(I3)+$B$7 -> 0.4044218 | S3: =$D$21*SIN(I3)+$N$102+0.1275 -> 0.96410552 | T3: =$D$21*COS(I3)+$O$102+0.002 -> 0.4433192 | U3: =$B$6+$B$7-(($B$22*SIN(RADIANS($B$15)))/100)*H3 -> 1.6680122 | V3: =$B$7+(($B$22*SIN(RADIANS(180-90-$B$15)))/100)*H3 -> 0.31238617 | W3: =($S$2-$Q$2)/100*H3+$Q$2 -> 0.312475 | X3: =($T$2-$R$2)/100*H3+$R$2 -> 0.40482569 | Y3: =$B$16/100*H103+$B$7 -> 0.8412 | Z3: =$B$17/100*H103+$B$7 -> 0.40185
A4: rear wheel | B4: 64.6 | C4: 101.9 | D4: 61.5 | E4: 92.5 | H4: =H3+1 -> 2 | I4: =RADIANS(H4) -> 0.034906585 | J4: =$B$7*SIN(I4)+$B$7 -> 0.31657576 | K4: =$B$7*COS(I4)+$B$7 -> 0.61161365 | L4: =$B$8*SIN(I4)+$B$7+$B$6 -> 1.6813664 | M4: =$B$8*COS(I4)+$B$8 -> 0.59961731 | N4: =$B$16/100*H4+$B$7 -> 0.3165 | O4: =$B$17/100*H4+$B$7 -> 0.3078 | P4: =B7+B6-D12 -> 0.97017708 | Q4: =$D$20*SIN(I4)+$B$7 -> 0.30933888 | R4: =$D$20*COS(I4)+$B$7 -> 0.40437678 | S4: =$D$21*SIN(I4)+$N$102+0.1275 -> 0.96481082 | T4: =$D$21*COS(I4)+$O$102+0.002 -> 0.44330073 | U4: =$B$6+$B$7-(($B$22*SIN(RADIANS($B$15)))/100)*H4 -> 1.6651243 | V4: =$B$7+(($B$22*SIN(RADIANS(180-90-$B$15)))/100)*H4 -> 0.31887235 | W4: =($S$2-$Q$2)/100*H4+$Q$2 -> 0.31905 | X4: =($T$2-$R$2)/100*H4+$R$2 -> 0.40521458 | Y4: =$B$16/100*H104+$B$7 -> 0.8465 | Z4: =$B$17/100*H104+$B$7 -> 0.4028
H5: =H4+1 -> 3 | I5: =RADIANS(H5) -> 0.052359878 | J5: =$B$7*SIN(I5)+$B$7 -> 0.32190957 | K5: =$B$7*COS(I5)+$B$7 -> 0.61138077 | L5: =$B$8*SIN(I5)+$B$7+$B$6 -> 1.6865956 | M5: =$B$8*COS(I5)+$B$8 -> 0.599389 | N5: =$B$16/100*H5+$B$7 -> 0.3218 | O5: =$B$17/100*H5+$B$7 -> 0.30875 | Q5: =$D$20*SIN(I5)+$B$7 -> 0.31105702 | R5: =$D$20*COS(I5)+$B$7 -> 0.40430176 | S5: =$D$21*SIN(I5)+$N$102+0.1275 -> 0.9655157 | T5: =$D$21*COS(I5)+$O$102+0.002 -> 0.44326995 | U5: =$B$6+$B$7-(($B$22*SIN(RADIANS($B$15)))/100)*H5 -> 1.6622365 | V5: =$B$7+(($B$22*SIN(RADIANS(180-90-$B$15)))/100)*H5 -> 0.32535852 | W5: =($S$2-$Q$2)/100*H5+$Q$2 -> 0.325625 | X5: =($T$2-$R$2)/100*H5+$R$2 -> 0.40560346 | Y5: =$B$16/100*H105+$B$7 -> 0.8518 | Z5: =$B$17/100*H105+$B$7 -> 0.40375
A6: wheelbase | B6: 1.365 | D6: Weight of bike | E6: =B3+B4 -> 140.5 | H6: =H5+1 -> 4 | I6: =RADIANS(H6) -> 0.06981317 | J6: =$B$7*SIN(I6)+$B$7 -> 0.32723851 | K6: =$B$7*COS(I6)+$B$7 -> 0.61105484 | L6: =$B$8*SIN(I6)+$B$7+$B$6 -> 1.69182 | M6: =$B$8*COS(I6)+$B$8 -> 0.59906946 | N6: =$B$16/100*H6+$B$7 -> 0.3271 | O6: =$B$17/100*H6+$B$7 -> 0.3097 | Q6: =$D$20*SIN(I6)+$B$7 -> 0.31277358 | R6: =$D$20*COS(I6)+$B$7 -> 0.40419677 | S6: =$D$21*SIN(I6)+$N$102+0.1275 -> 0.96621993 | T6: =$D$21*COS(I6)+$O$102+0.002 -> 0.44322688 | U6: =$B$6+$B$7-(($B$22*SIN(RADIANS($B$15)))/100)*H6 -> 1.6593487 | V6: =$B$7+(($B$22*SIN(RADIANS(180-90-$B$15)))/100)*H6 -> 0.33184469 | W6: =($S$2-$Q$2)/100*H6+$Q$2 -> 0.3322 | X6: =($T$2-$R$2)/100*H6+$R$2 -> 0.40599235 | Y6: =$B$16/100*H106+$B$7 -> 0.8571 | Z6: =$B$17/100*H106+$B$7 -> 0.4047
A7: Rw Rad | B7: =(17*0.0254/2)+(0.15/100*60) -> 0.3059 | D7: Rider Weight | E7: 58 | H7: =H6+1 -> 5 | I7: =RADIANS(H7) -> 0.087266463 | J7: =$B$7*SIN(I7)+$B$7 -> 0.33256094 | K7: =$B$7*COS(I7)+$B$7 -> 0.61063596 | L7: =$B$8*SIN(I7)+$B$7+$B$6 -> 1.697038 | M7: =$B$8*COS(I7)+$B$8 -> 0.59865879 | N7: =$B$16/100*H7+$B$7 -> 0.3324 | O7: =$B$17/100*H7+$B$7 -> 0.31065 | Q7: =$D$20*SIN(I7)+$B$7 -> 0.31448805 | R7: =$D$20*COS(I7)+$B$7 -> 0.40406184 | S7: =$D$21*SIN(I7)+$N$102+0.1275 -> 0.9669233 | T7: =$D$21*COS(I7)+$O$102+0.002 -> 0.44317152 | U7: =$B$6+$B$7-(($B$22*SIN(RADIANS($B$15)))/100)*H7 -> 1.6564608 | V7: =$B$7+(($B$22*SIN(RADIANS(180-90-$B$15)))/100)*H7 -> 0.33833086 | W7: =($S$2-$Q$2)/100*H7+$Q$2 -> 0.338775 | X7: =($T$2-$R$2)/100*H7+$R$2 -> 0.40638123 | Y7: =$B$16/100*H107+$B$7 -> 0.8624 | Z7: =$B$17/100*H107+$B$7 -> 0.40565
A8: Fw Rad | B8: =(17*0.0254/2)+(0.12/100*70) -> 0.2999 | D8: Total Weight | E8: =E7+E6 -> 198.5 | H8: =H7+1 -> 6 | I8: =RADIANS(H8) -> 0.10471976 | J8: =$B$7*SIN(I8)+$B$7 -> 0.33787526 | K8: =$B$7*COS(I8)+$B$7 -> 0.61012425 | L8: =$B$8*SIN(I8)+$B$7+$B$6 -> 1.7022481 | M8: =$B$8*COS(I8)+$B$8 -> 0.59815712 | N8: =$B$16/100*H8+$B$7 -> 0.3377 | O8: =$B$17/100*H8+$B$7 -> 0.3116 | Q8: =$D$20*SIN(I8)+$B$7 -> 0.3161999 | R8: =$D$20*COS(I8)+$B$7 -> 0.40389701 | S8: =$D$21*SIN(I8)+$N$102+0.1275 -> 0.9676256 | T8: =$D$21*COS(I8)+$O$102+0.002 -> 0.4431039 | U8: =$B$6+$B$7-(($B$22*SIN(RADIANS($B$15)))/100)*H8 -> 1.653573 | V8: =$B$7+(($B$22*SIN(RADIANS(180-90-$B$15)))/100)*H8 -> 0.34481704 | W8: =($S$2-$Q$2)/100*H8+$Q$2 -> 0.34535 | X8: =($T$2-$R$2)/100*H8+$R$2 -> 0.40677012 | Y8: =$B$16/100*H108+$B$7 -> 0.8677 | Z8: =$B$17/100*H108+$B$7 -> 0.4066
A9: Rav | B9: =(B7+B8)/2 -> 0.3029 | H9: =H8+1 -> 7 | I9: =RADIANS(H9) -> 0.12217305 | J9: =$B$7*SIN(I9)+$B$7 -> 0.34317983 | K9: =$B$7*COS(I9)+$B$7 -> 0.60951987 | L9: =$B$8*SIN(I9)+$B$7+$B$6 -> 1.7074486 | M9: =$B$8*COS(I9)+$B$8 -> 0.59756459 | N9: =$B$16/100*H9+$B$7 -> 0.343 | O9: =$B$17/100*H9+$B$7 -> 0.31255 | Q9: =$D$20*SIN(I9)+$B$7 -> 0.31790862 | R9: =$D$20*COS(I9)+$B$7 -> 0.40370233 | S9: =$D$21*SIN(I9)+$N$102+0.1275 -> 0.96832661 | T9: =$D$21*COS(I9)+$O$102+0.002 -> 0.44302403 | U9: =$B$6+$B$7-(($B$22*SIN(RADIANS($B$15)))/100)*H9 -> 1.6506852 | V9: =$B$7+(($B$22*SIN(RADIANS(180-90-$B$15)))/100)*H9 -> 0.35130321 | W9: =($S$2-$Q$2)/100*H9+$Q$2 -> 0.351925 | X9: =($T$2-$R$2)/100*H9+$R$2 -> 0.407159 | Y9: =$B$16/100*H109+$B$7 -> 0.873 | Z9: =$B$17/100*H109+$B$7 -> 0.40755
A10: Stool Hight | B10: 0.31 | H10: =H9+1 -> 8 | I10: =RADIANS(H10) -> 0.13962634 | J10: =$B$7*SIN(I10)+$B$7 -> 0.34847305 | K10: =$B$7*COS(I10)+$B$7 -> 0.608823 | L10: =$B$8*SIN(I10)+$B$7+$B$6 -> 1.712638 | M10: =$B$8*COS(I10)+$B$8 -> 0.59688139 | N10: =$B$16/100*H10+$B$7 -> 0.3483 | O10: =$B$17/100*H10+$B$7 -> 0.3135 | Q10: =$D$20*SIN(I10)+$B$7 -> 0.31961367 | R10: =$D$20*COS(I10)+$B$7 -> 0.40347785 | S10: =$D$21*SIN(I10)+$N$102+0.1275 -> 0.96902612 | T10: =$D$21*COS(I10)+$O$102+0.002 -> 0.44293194 | U10: =$B$6+$B$7-(($B$22*SIN(RADIANS($B$15)))/100)*H10 -> 1.6477974 | V10: =$B$7+(($B$22*SIN(RADIANS(180-90-$B$15)))/100)*H10 -> 0.35778938 | W10: =($S$2-$Q$2)/100*H10+$Q$2 -> 0.3585 | X10: =($T$2-$R$2)/100*H10+$R$2 -> 0.40754789 | Y10: =$B$16/100*H110+$B$7 -> 0.8783 | Z10: =$B$17/100*H110+$B$7 -> 0.4085
A11: Lifted angle | B11: =DEGREES(ASIN(B10/B6)) -> 13.126763 | H11: =H10+1 -> 9 | I11: =RADIANS(H11) -> 0.15707963 | J11: =$B$7*SIN(I11)+$B$7 -> 0.3537533 | K11: =$B$7*COS(I11)+$B$7 -> 0.60803386 | L11: =$B$8*SIN(I11)+$B$7+$B$6 -> 1.7178147 | M11: =$B$8*COS(I11)+$B$8 -> 0.59610773 | N11: =$B$16/100*H11+$B$7 -> 0.3536 | O11: =$B$17/100*H11+$B$7 -> 0.31445 | Q11: =$D$20*SIN(I11)+$B$7 -> 0.32131455 | R11: =$D$20*COS(I11)+$B$7 -> 0.40322365 | S11: =$D$21*SIN(I11)+$N$102+0.1275 -> 0.96972392 | T11: =$D$21*COS(I11)+$O$102+0.002 -> 0.44282765 | U11: =$B$6+$B$7-(($B$22*SIN(RADIANS($B$15)))/100)*H11 -> 1.6449095 | V11: =$B$7+(($B$22*SIN(RADIANS(180-90-$B$15)))/100)*H11 -> 0.36427555 | W11: =($S$2-$Q$2)/100*H11+$Q$2 -> 0.365075 | X11: =($T$2-$R$2)/100*H11+$R$2 -> 0.40793677 | Y11: =$B$16/100*H111+$B$7 -> 0.8836 | Z11: =$B$17/100*H111+$B$7 -> 0.40945
A12: Cog X | B12: =(B4)*(B6)/E6 -> 0.62760854 | C12: Cog X+rider | D12: =(C4)*(B6)/E8 -> 0.70072292 | H12: =H11+1 -> 10 | I12: =RADIANS(H12) -> 0.17453293 | J12: =$B$7*SIN(I12)+$B$7 -> 0.35901898 | K12: =$B$7*COS(I12)+$B$7 -> 0.60715269 | L12: =$B$8*SIN(I12)+$B$7+$B$6 -> 1.7229771 | M12: =$B$8*COS(I12)+$B$8 -> 0.59524385 | N12: =$B$16/100*H12+$B$7 -> 0.3589 | O12: =$B$17/100*H12+$B$7 -> 0.3154 | Q12: =$D$20*SIN(I12)+$B$7 -> 0.32301074 | R12: =$D$20*COS(I12)+$B$7 -> 0.40293981 | S12: =$D$21*SIN(I12)+$N$102+0.1275 -> 0.97041979 | T12: =$D$21*COS(I12)+$O$102+0.002 -> 0.4427112 | U12: =$B$6+$B$7-(($B$22*SIN(RADIANS($B$15)))/100)*H12 -> 1.6420217 | V12: =$B$7+(($B$22*SIN(RADIANS(180-90-$B$15)))/100)*H12 -> 0.37076173 | W12: =($S$2-$Q$2)/100*H12+$Q$2 -> 0.37165 | X12: =($T$2-$R$2)/100*H12+$R$2 -> 0.40832566 | Y12: =$B$16/100*H112+$B$7 -> 0.8889 | Z12: =$B$17/100*H112+$B$7 -> 0.4104
A13: Cog Y | B13: =((B6)*(B4-D4))/((E6)*TAN(RADIANS(B11)))+B9 -> 0.43204868 | C13: Cog Y+rider | D13: =((B6)*(C4-E4))/((E8)*TAN(RADIANS(B11)))+B9 -> 0.58008641 | H13: =H12+1 -> 11 | I13: =RADIANS(H13) -> 0.19198622 | J13: =$B$7*SIN(I13)+$B$7 -> 0.36426847 | K13: =$B$7*COS(I13)+$B$7 -> 0.60617976 | L13: =$B$8*SIN(I13)+$B$7+$B$6 -> 1.7281236 | M13: =$B$8*COS(I13)+$B$8 -> 0.59428999 | N13: =$B$16/100*H13+$B$7 -> 0.3642 | O13: =$B$17/100*H13+$B$7 -> 0.31635 | Q13: =$D$20*SIN(I13)+$B$7 -> 0.32470171 | R13: =$D$20*COS(I13)+$B$7 -> 0.40262641 | S13: =$D$21*SIN(I13)+$N$102+0.1275 -> 0.97111352 | T13: =$D$21*COS(I13)+$O$102+0.002 -> 0.44258263 | U13: =$B$6+$B$7-(($B$22*SIN(RADIANS($B$15)))/100)*H13 -> 1.6391339 | V13: =$B$7+(($B$22*SIN(RADIANS(180-90-$B$15)))/100)*H13 -> 0.3772479 | W13: =($S$2-$Q$2)/100*H13+$Q$2 -> 0.378225 | X13: =($T$2-$R$2)/100*H13+$R$2 -> 0.40871454 | Y13: =$B$16/100*H113+$B$7 -> 0.8942 | Z13: =$B$17/100*H113+$B$7 -> 0.41135
A14: trail | B14: =((B8)*(SIN(RADIANS(B15)))-B23)/(COS(RADIANS(B15))) -> 0.099590358 | H14: =H13+1 -> 12 | I14: =RADIANS(H14) -> 0.20943951 | J14: =$B$7*SIN(I14)+$B$7 -> 0.36950019 | K14: =$B$7*COS(I14)+$B$7 -> 0.60511535 | L14: =$B$8*SIN(I14)+$B$7+$B$6 -> 1.7332527 | M14: =$B$8*COS(I14)+$B$8 -> 0.59324647 | N14: =$B$16/100*H14+$B$7 -> 0.3695 | O14: =$B$17/100*H14+$B$7 -> 0.3173 | Q14: =$D$20*SIN(I14)+$B$7 -> 0.32638695 | R14: =$D$20*COS(I14)+$B$7 -> 0.40228354 | S14: =$D$21*SIN(I14)+$N$102+0.1275 -> 0.9718049 | T14: =$D$21*COS(I14)+$O$102+0.002 -> 0.44244196 | U14: =$B$6+$B$7-(($B$22*SIN(RADIANS($B$15)))/100)*H14 -> 1.636246 | V14: =$B$7+(($B$22*SIN(RADIANS(180-90-$B$15)))/100)*H14 -> 0.38373407 | W14: =($S$2-$Q$2)/100*H14+$Q$2 -> 0.3848 | X14: =($T$2-$R$2)/100*H14+$R$2 -> 0.40910343 | Y14: =$B$16/100*H114+$B$7 -> 0.8995 | Z14: =$B$17/100*H114+$B$7 -> 0.4123
A15: rake | B15: 24 | H15: =H14+1 -> 13 | I15: =RADIANS(H15) -> 0.2268928 | J15: =$B$7*SIN(I15)+$B$7 -> 0.37471253 | K15: =$B$7*COS(I15)+$B$7 -> 0.6039598 | L15: =$B$8*SIN(I15)+$B$7+$B$6 -> 1.7383628 | M15: =$B$8*COS(I15)+$B$8 -> 0.59211358 | N15: =$B$16/100*H15+$B$7 -> 0.3748 | O15: =$B$17/100*H15+$B$7 -> 0.31825 | Q15: =$D$20*SIN(I15)+$B$7 -> 0.32806596 | R15: =$D$20*COS(I15)+$B$7 -> 0.40191131 | S15: =$D$21*SIN(I15)+$N$102+0.1275 -> 0.97249373 | T15: =$D$21*COS(I15)+$O$102+0.002 -> 0.44228926 | U15: =$B$6+$B$7-(($B$22*SIN(RADIANS($B$15)))/100)*H15 -> 1.6333582 | V15: =$B$7+(($B$22*SIN(RADIANS(180-90-$B$15)))/100)*H15 -> 0.39022025 | W15: =($S$2-$Q$2)/100*H15+$Q$2 -> 0.391375 | X15: =($T$2-$R$2)/100*H15+$R$2 -> 0.40949232 | Y15: =$B$16/100*H115+$B$7 -> 0.9048 | Z15: =$B$17/100*H115+$B$7 -> 0.41325
A16: swing arm length | B16: 0.53 | H16: =H15+1 -> 14 | I16: =RADIANS(H16) -> 0.2443461 | J16: =$B$7*SIN(I16)+$B$7 -> 0.37990391 | K16: =$B$7*COS(I16)+$B$7 -> 0.60271346 | L16: =$B$8*SIN(I16)+$B$7+$B$6 -> 1.7434524 | M16: =$B$8*COS(I16)+$B$8 -> 0.59089169 | N16: =$B$16/100*H16+$B$7 -> 0.3801 | O16: =$B$17/100*H16+$B$7 -> 0.3192 | Q16: =$D$20*SIN(I16)+$B$7 -> 0.32973821 | R16: =$D$20*COS(I16)+$B$7 -> 0.40150984 | S16: =$D$21*SIN(I16)+$N$102+0.1275 -> 0.97317978 | T16: =$D$21*COS(I16)+$O$102+0.002 -> 0.44212455 | U16: =$B$6+$B$7-(($B$22*SIN(RADIANS($B$15)))/100)*H16 -> 1.6304704 | V16: =$B$7+(($B$22*SIN(RADIANS(180-90-$B$15)))/100)*H16 -> 0.39670642 | W16: =($S$2-$Q$2)/100*H16+$Q$2 -> 0.39795 | X16: =($T$2-$R$2)/100*H16+$R$2 -> 0.4098812 | Y16: =$B$16/100*H116+$B$7 -> 0.9101 | Z16: =$B$17/100*H116+$B$7 -> 0.4142
A17: rear ride hight | B17: =0.095 -> 0.095 | H17: =H16+1 -> 15 | I17: =RADIANS(H17) -> 0.26179939 | J17: =$B$7*SIN(I17)+$B$7 -> 0.38507275 | K17: =$B$7*COS(I17)+$B$7 -> 0.60137671 | L17: =$B$8*SIN(I17)+$B$7+$B$6 -> 1.7485198 | M17: =$B$8*COS(I17)+$B$8 -> 0.58958116 | N17: =$B$16/100*H17+$B$7 -> 0.3854 | O17: =$B$17/100*H17+$B$7 -> 0.32015 | Q17: =$D$20*SIN(I17)+$B$7 -> 0.3314032 | R17: =$D$20*COS(I17)+$B$7 -> 0.40107924 | S17: =$D$21*SIN(I17)+$N$102+0.1275 -> 0.97386285 | T17: =$D$21*COS(I17)+$O$102+0.002 -> 0.44194789 | U17: =$B$6+$B$7-(($B$22*SIN(RADIANS($B$15)))/100)*H17 -> 1.6275825 | V17: =$B$7+(($B$22*SIN(RADIANS(180-90-$B$15)))/100)*H17 -> 0.40319259 | W17: =($S$2-$Q$2)/100*H17+$Q$2 -> 0.404525 | X17: =($T$2-$R$2)/100*H17+$R$2 -> 0.41027009 | Y17: =$B$16/100*H117+$B$7 -> 0.9154 | Z17: =$B$17/100*H117+$B$7 -> 0.41515
A18: front ride hight | B18: 0.013 | H18: =H17+1 -> 16 | I18: =RADIANS(H18) -> 0.27925268 | J18: =$B$7*SIN(I18)+$B$7 -> 0.39021747 | K18: =$B$7*COS(I18)+$B$7 -> 0.59994995 | L18: =$B$8*SIN(I18)+$B$7+$B$6 -> 1.7535636 | M18: =$B$8*COS(I18)+$B$8 -> 0.58818238 | N18: =$B$16/100*H18+$B$7 -> 0.3907 | O18: =$B$17/100*H18+$B$7 -> 0.3211 | Q18: =$D$20*SIN(I18)+$B$7 -> 0.33306042 | R18: =$D$20*COS(I18)+$B$7 -> 0.40061966 | S18: =$D$21*SIN(I18)+$N$102+0.1275 -> 0.97454274 | T18: =$D$21*COS(I18)+$O$102+0.002 -> 0.44175935 | U18: =$B$6+$B$7-(($B$22*SIN(RADIANS($B$15)))/100)*H18 -> 1.6246947 | V18: =$B$7+(($B$22*SIN(RADIANS(180-90-$B$15)))/100)*H18 -> 0.40967876 | W18: =($S$2-$Q$2)/100*H18+$Q$2 -> 0.4111 | X18: =($T$2-$R$2)/100*H18+$R$2 -> 0.41065897 | Y18: =$B$16/100*H118+$B$7 -> 0.9207 | Z18: =$B$17/100*H118+$B$7 -> 0.4161
A19: chain pitch | B19: 0.015875 | H19: =H18+1 -> 17 | I19: =RADIANS(H19) -> 0.29670597 | J19: =$B$7*SIN(I19)+$B$7 -> 0.3953365 | K19: =$B$7*COS(I19)+$B$7 -> 0.59843362 | L19: =$B$8*SIN(I19)+$B$7+$B$6 -> 1.7585823 | M19: =$B$8*COS(I19)+$B$8 -> 0.5866958 | N19: =$B$16/100*H19+$B$7 -> 0.396 | O19: =$B$17/100*H19+$B$7 -> 0.32205 | Q19: =$D$20*SIN(I19)+$B$7 -> 0.33470937 | R19: =$D$20*COS(I19)+$B$7 -> 0.40013121 | S19: =$D$21*SIN(I19)+$N$102+0.1275 -> 0.97521923 | T19: =$D$21*COS(I19)+$O$102+0.002 -> 0.44155896 | U19: =$B$6+$B$7-(($B$22*SIN(RADIANS($B$15)))/100)*H19 -> 1.6218069 | V19: =$B$7+(($B$22*SIN(RADIANS(180-90-$B$15)))/100)*H19 -> 0.41616494 | W19: =($S$2-$Q$2)/100*H19+$Q$2 -> 0.417675 | X19: =($T$2-$R$2)/100*H19+$R$2 -> 0.41104786 | Y19: =$B$16/100*H119+$B$7 -> 0.926 | Z19: =$B$17/100*H119+$B$7 -> 0.41705
A20: rear sprocket - | B20: 39 | C20: radius - | D20: =($B$19*B20/PI())/2 -> 0.098536804 | H20: =H19+1 -> 18 | I20: =RADIANS(H20) -> 0.31415927 | J20: =$B$7*SIN(I20)+$B$7 -> 0.4004283 | K20: =$B$7*COS(I20)+$B$7 -> 0.59682819 | L20: =$B$8*SIN(I20)+$B$7+$B$6 -> 1.7635742 | M20: =$B$8*COS(I20)+$B$8 -> 0.58512185 | N20: =$B$16/100*H20+$B$7 -> 0.4013 | O20: =$B$17/100*H20+$B$7 -> 0.323 | Q20: =$D$20*SIN(I20)+$B$7 -> 0.33634955 | R20: =$D$20*COS(I20)+$B$7 -> 0.39961407 | S20: =$D$21*SIN(I20)+$N$102+0.1275 -> 0.97589212 | T20: =$D$21*COS(I20)+$O$102+0.002 -> 0.4413468 | U20: =$B$6+$B$7-(($B$22*SIN(RADIANS($B$15)))/100)*H20 -> 1.6189191 | V20: =$B$7+(($B$22*SIN(RADIANS(180-90-$B$15)))/100)*H20 -> 0.42265111 | W20: =($S$2-$Q$2)/100*H20+$Q$2 -> 0.42425 | X20: =($T$2-$R$2)/100*H20+$R$2 -> 0.41143674 | Y20: =$B$16/100*H120+$B$7 -> 0.9313 | Z20: =$B$17/100*H120+$B$7 -> 0.418
A21: front sprocket - | B21: 16 | C21: radius - | D21: =($B$19*B21/PI())/2 -> 0.040425356 | H21: =H20+1 -> 19 | I21: =RADIANS(H21) -> 0.33161256 | J21: =$B$7*SIN(I21)+$B$7 -> 0.4054913 | K21: =$B$7*COS(I21)+$B$7 -> 0.59513413 | L21: =$B$8*SIN(I21)+$B$7+$B$6 -> 1.7685379 | M21: =$B$8*COS(I21)+$B$8 -> 0.58346102 | N21: =$B$16/100*H21+$B$7 -> 0.4066 | O21: =$B$17/100*H21+$B$7 -> 0.32395 | Q21: =$D$20*SIN(I21)+$B$7 -> 0.33798045 | R21: =$D$20*COS(I21)+$B$7 -> 0.39906838 | S21: =$D$21*SIN(I21)+$N$102+0.1275 -> 0.97656121 | T21: =$D$21*COS(I21)+$O$102+0.002 -> 0.44112292 | U21: =$B$6+$B$7-(($B$22*SIN(RADIANS($B$15)))/100)*H21 -> 1.6160312 | V21: =$B$7+(($B$22*SIN(RADIANS(180-90-$B$15)))/100)*H21 -> 0.42913728 | W21: =($S$2-$Q$2)/100*H21+$Q$2 -> 0.430825 | X21: =($T$2-$R$2)/100*H21+$R$2 -> 0.41182563 | Y21: =$B$16/100*H121+$B$7 -> 0.9366 | Z21: =$B$17/100*H121+$B$7 -> 0.41895
A22: fork length | B22: 0.71 | H22: =H21+1 -> 20 | I22: =RADIANS(H22) -> 0.34906585 | J22: =$B$7*SIN(I22)+$B$7 -> 0.41052396 | K22: =$B$7*COS(I22)+$B$7 -> 0.59335197 | L22: =$B$8*SIN(I22)+$B$7+$B$6 -> 1.7734718 | M22: =$B$8*COS(I22)+$B$8 -> 0.58171382 | N22: =$B$16/100*H22+$B$7 -> 0.4119 | O22: =$B$17/100*H22+$B$7 -> 0.3249 | Q22: =$D$20*SIN(I22)+$B$7 -> 0.33960157 | R22: =$D$20*COS(I22)+$B$7 -> 0.39849431 | S22: =$D$21*SIN(I22)+$N$102+0.1275 -> 0.97722629 | T22: =$D$21*COS(I22)+$O$102+0.002 -> 0.44088741 | U22: =$B$6+$B$7-(($B$22*SIN(RADIANS($B$15)))/100)*H22 -> 1.6131434 | V22: =$B$7+(($B$22*SIN(RADIANS(180-90-$B$15)))/100)*H22 -> 0.43562345 | W22: =($S$2-$Q$2)/100*H22+$Q$2 -> 0.4374 | X22: =($T$2-$R$2)/100*H22+$R$2 -> 0.41221451 | Y22: =$B$16/100*H122+$B$7 -> 0.9419 | Z22: =$B$17/100*H122+$B$7 -> 0.4199
A23: fork offset | B23: 0.031 | H23: =H22+1 -> 21 | I23: =RADIANS(H23) -> 0.36651914 | J23: =$B$7*SIN(I23)+$B$7 -> 0.41552476 | K23: =$B$7*COS(I23)+$B$7 -> 0.59148225 | L23: =$B$8*SIN(I23)+$B$7+$B$6 -> 1.7783745 | M23: =$B$8*COS(I23)+$B$8 -> 0.57988077 | N23: =$B$16/100*H23+$B$7 -> 0.4172 | O23: =$B$17/100*H23+$B$7 -> 0.32585 | Q23: =$D$20*SIN(I23)+$B$7 -> 0.34121243 | R23: =$D$20*COS(I23)+$B$7 -> 0.39789203 | S23: =$D$21*SIN(I23)+$N$102+0.1275 -> 0.97788715 | T23: =$D$21*COS(I23)+$O$102+0.002 -> 0.44064032 | U23: =$B$6+$B$7-(($B$22*SIN(RADIANS($B$15)))/100)*H23 -> 1.6102556 | V23: =$B$7+(($B$22*SIN(RADIANS(180-90-$B$15)))/100)*H23 -> 0.44210963 | W23: =($S$2-$Q$2)/100*H23+$Q$2 -> 0.443975 | X23: =($T$2-$R$2)/100*H23+$R$2 -> 0.4126034 | Y23: =$B$16/100*H123+$B$7 -> 0.9472 | Z23: =$B$17/100*H123+$B$7 -> 0.42085
H24: =H23+1 -> 22 | I24: =RADIANS(H24) -> 0.38397244 | J24: =$B$7*SIN(I24)+$B$7 -> 0.42049216 | K24: =$B$7*COS(I24)+$B$7 -> 0.58952554 | L24: =$B$8*SIN(I24)+$B$7+$B$6 -> 1.7832445 | M24: =$B$8*COS(I24)+$B$8 -> 0.57796244 | N24: =$B$16/100*H24+$B$7 -> 0.4225 | O24: =$B$17/100*H24+$B$7 -> 0.3268 | Q24: =$D$20*SIN(I24)+$B$7 -> 0.34281254 | R24: =$D$20*COS(I24)+$B$7 -> 0.39726173 | S24: =$D$21*SIN(I24)+$N$102+0.1275 -> 0.9785436 | T24: =$D$21*COS(I24)+$O$102+0.002 -> 0.44038174 | U24: =$B$6+$B$7-(($B$22*SIN(RADIANS($B$15)))/100)*H24 -> 1.6073677 | V24: =$B$7+(($B$22*SIN(RADIANS(180-90-$B$15)))/100)*H24 -> 0.4485958 | W24: =($S$2-$Q$2)/100*H24+$Q$2 -> 0.45055 | X24: =($T$2-$R$2)/100*H24+$R$2 -> 0.41299229 | Y24: =$B$16/100*H124+$B$7 -> 0.9525 | Z24: =$B$17/100*H124+$B$7 -> 0.4218
H25: =H24+1 -> 23 | I25: =RADIANS(H25) -> 0.40142573 | J25: =$B$7*SIN(I25)+$B$7 -> 0.42542465 | K25: =$B$7*COS(I25)+$B$7 -> 0.58748243 | L25: =$B$8*SIN(I25)+$B$7+$B$6 -> 1.7880803 | M25: =$B$8*COS(I25)+$B$8 -> 0.57595941 | N25: =$B$16/100*H25+$B$7 -> 0.4278 | O25: =$B$17/100*H25+$B$7 -> 0.32775 | Q25: =$D$20*SIN(I25)+$B$7 -> 0.3444014 | R25: =$D$20*COS(I25)+$B$7 -> 0.39660361 | S25: =$D$21*SIN(I25)+$N$102+0.1275 -> 0.97919544 | T25: =$D$21*COS(I25)+$O$102+0.002 -> 0.44011174 | U25: =$B$6+$B$7-(($B$22*SIN(RADIANS($B$15)))/100)*H25 -> 1.6044799 | V25: =$B$7+(($B$22*SIN(RADIANS(180-90-$B$15)))/100)*H25 -> 0.45508197 | W25: =($S$2-$Q$2)/100*H25+$Q$2 -> 0.457125 | X25: =($T$2-$R$2)/100*H25+$R$2 -> 0.41338117 | Y25: =$B$16/100*H125+$B$7 -> 0.9578 | Z25: =$B$17/100*H125+$B$7 -> 0.42275
H26: =H25+1 -> 24 | I26: =RADIANS(H26) -> 0.41887902 | J26: =$B$7*SIN(I26)+$B$7 -> 0.43032074 | K26: =$B$7*COS(I26)+$B$7 -> 0.58535356 | L26: =$B$8*SIN(I26)+$B$7+$B$6 -> 1.7928803 | M26: =$B$8*COS(I26)+$B$8 -> 0.57387228 | N26: =$B$16/100*H26+$B$7 -> 0.4331 | O26: =$B$17/100*H26+$B$7 -> 0.3287 | Q26: =$D$20*SIN(I26)+$B$7 -> 0.34597853 | R26: =$D$20*COS(I26)+$B$7 -> 0.39591785 | S26: =$D$21*SIN(I26)+$N$102+0.1275 -> 0.97984247 | T26: =$D$21*COS(I26)+$O$102+0.002 -> 0.4398304 | U26: =$B$6+$B$7-(($B$22*SIN(RADIANS($B$15)))/100)*H26 -> 1.6015921 | V26: =$B$7+(($B$22*SIN(RADIANS(180-90-$B$15)))/100)*H26 -> 0.46156815 | W26: =($S$2-$Q$2)/100*H26+$Q$2 -> 0.4637 | X26: =($T$2-$R$2)/100*H26+$R$2 -> 0.41377006 | Y26: =$B$16/100*H126+$B$7 -> 0.9631 | Z26: =$B$17/100*H126+$B$7 -> 0.4237
H27: =H26+1 -> 25 | I27: =RADIANS(H27) -> 0.43633231 | J27: =$B$7*SIN(I27)+$B$7 -> 0.43517893 | K27: =$B$7*COS(I27)+$B$7 -> 0.58313955 | L27: =$B$8*SIN(I27)+$B$7+$B$6 -> 1.7976432 | M27: =$B$8*COS(I27)+$B$8 -> 0.57170171 | N27: =$B$16/100*H27+$B$7 -> 0.4384 | O27: =$B$17/100*H27+$B$7 -> 0.32965 | Q27: =$D$20*SIN(I27)+$B$7 -> 0.34754345 | R27: =$D$20*COS(I27)+$B$7 -> 0.39520467 | S27: =$D$21*SIN(I27)+$N$102+0.1275 -> 0.98048449 | T27: =$D$21*COS(I27)+$O$102+0.002 -> 0.43953781 | U27: =$B$6+$B$7-(($B$22*SIN(RADIANS($B$15)))/100)*H27 -> 1.5987042 | V27: =$B$7+(($B$22*SIN(RADIANS(180-90-$B$15)))/100)*H27 -> 0.46805432 | W27: =($S$2-$Q$2)/100*H27+$Q$2 -> 0.470275 | X27: =($T$2-$R$2)/100*H27+$R$2 -> 0.41415894 | Y27: =$B$16/100*H127+$B$7 -> 0.9684 | Z27: =$B$17/100*H127+$B$7 -> 0.42465
H28: =H27+1 -> 26 | I28: =RADIANS(H28) -> 0.45378561 | J28: =$B$7*SIN(I28)+$B$7 -> 0.43999773 | K28: =$B$7*COS(I28)+$B$7 -> 0.5808411 | L28: =$B$8*SIN(I28)+$B$7+$B$6 -> 1.8023675 | M28: =$B$8*COS(I28)+$B$8 -> 0.56944833 | N28: =$B$16/100*H28+$B$7 -> 0.4437 | O28: =$B$17/100*H28+$B$7 -> 0.3306 | Q28: =$D$20*SIN(I28)+$B$7 -> 0.34909569 | R28: =$D$20*COS(I28)+$B$7 -> 0.39446429 | S28: =$D$21*SIN(I28)+$N$102+0.1275 -> 0.98112131 | T28: =$D$21*COS(I28)+$O$102+0.002 -> 0.43923407 | U28: =$B$6+$B$7-(($B$22*SIN(RADIANS($B$15)))/100)*H28 -> 1.5958164 | V28: =$B$7+(($B$22*SIN(RADIANS(180-90-$B$15)))/100)*H28 -> 0.47454049 | W28: =($S$2-$Q$2)/100*H28+$Q$2 -> 0.47685 | X28: =($T$2-$R$2)/100*H28+$R$2 -> 0.41454783 | Y28: =$B$16/100*H128+$B$7 -> 0.9737 | Z28: =$B$17/100*H128+$B$7 -> 0.4256
H29: =H28+1 -> 27 | I29: =RADIANS(H29) -> 0.4712389 | J29: =$B$7*SIN(I29)+$B$7 -> 0.44477569 | K29: =$B$7*COS(I29)+$B$7 -> 0.5784589 | L29: =$B$8*SIN(I29)+$B$7+$B$6 -> 1.8070518 | M29: =$B$8*COS(I29)+$B$8 -> 0.56711286 | N29: =$B$16/100*H29+$B$7 -> 0.449 | O29: =$B$17/100*H29+$B$7 -> 0.33155 | Q29: =$D$20*SIN(I29)+$B$7 -> 0.35063477 | R29: =$D$20*COS(I29)+$B$7 -> 0.39369694 | S29: =$D$21*SIN(I29)+$N$102+0.1275 -> 0.98175273 | T29: =$D$21*COS(I29)+$O$102+0.002 -> 0.43891926 | U29: =$B$6+$B$7-(($B$22*SIN(RADIANS($B$15)))/100)*H29 -> 1.5929286 | V29: =$B$7+(($B$22*SIN(RADIANS(180-90-$B$15)))/100)*H29 -> 0.48102666 | W29: =($S$2-$Q$2)/100*H29+$Q$2 -> 0.483425 | X29: =($T$2-$R$2)/100*H29+$R$2 -> 0.41493671 | Y29: =$B$16/100*H129+$B$7 -> 0.979 | Z29: =$B$17/100*H129+$B$7 -> 0.42655
H30: =H29+1 -> 28 | I30: =RADIANS(H30) -> 0.48869219 | J30: =$B$7*SIN(I30)+$B$7 -> 0.44951135 | K30: =$B$7*COS(I30)+$B$7 -> 0.57599367 | L30: =$B$8*SIN(I30)+$B$7+$B$6 -> 1.8116945 | M30: =$B$8*COS(I30)+$B$8 -> 0.56469598 | N30: =$B$16/100*H30+$B$7 -> 0.4543 | O30: =$B$17/100*H30+$B$7 -> 0.3325 | Q30: =$D$20*SIN(I30)+$B$7 -> 0.35216023 | R30: =$D$20*COS(I30)+$B$7 -> 0.39290283 | S30: =$D$21*SIN(I30)+$N$102+0.1275 -> 0.98237855 | T30: =$D$21*COS(I30)+$O$102+0.002 -> 0.43859347 | U30: =$B$6+$B$7-(($B$22*SIN(RADIANS($B$15)))/100)*H30 -> 1.5900408 | V30: =$B$7+(($B$22*SIN(RADIANS(180-90-$B$15)))/100)*H30 -> 0.48751284 | W30: =($S$2-$Q$2)/100*H30+$Q$2 -> 0.49 | X30: =($T$2-$R$2)/100*H30+$R$2 -> 0.4153256 | Y30: =$B$16/100*H130+$B$7 -> 0.9843 | Z30: =$B$17/100*H130+$B$7 -> 0.4275
H31: =H30+1 -> 29 | I31: =RADIANS(H31) -> 0.50614548 | J31: =$B$7*SIN(I31)+$B$7 -> 0.45420326 | K31: =$B$7*COS(I31)+$B$7 -> 0.57344617 | L31: =$B$8*SIN(I31)+$B$7+$B$6 -> 1.8162944 | M31: =$B$8*COS(I31)+$B$8 -> 0.56219845 | N31: =$B$16/100*H31+$B$7 -> 0.4596 | O31: =$B$17/100*H31+$B$7 -> 0.33345 | Q31: =$D$20*SIN(I31)+$B$7 -> 0.35367159 | R31: =$D$20*COS(I31)+$B$7 -> 0.39208223 | S31: =$D$21*SIN(I31)+$N$102+0.1275 -> 0.9829986 | T31: =$D$21*COS(I31)+$O$102+0.002 -> 0.43825681 | U31: =$B$6+$B$7-(($B$22*SIN(RADIANS($B$15)))/100)*H31 -> 1.5871529 | V31: =$B$7+(($B$22*SIN(RADIANS(180-90-$B$15)))/100)*H31 -> 0.49399901 | W31: =($S$2-$Q$2)/100*H31+$Q$2 -> 0.496575 | X31: =($T$2-$R$2)/100*H31+$R$2 -> 0.41571448 | Y31: =$B$16/100*H131+$B$7 -> 0.9896 | Z31: =$B$17/100*H131+$B$7 -> 0.42845
H32: =H31+1 -> 30 | I32: =RADIANS(H32) -> 0.52359878 | J32: =$B$7*SIN(I32)+$B$7 -> 0.45885 | K32: =$B$7*COS(I32)+$B$7 -> 0.57081717 | L32: =$B$8*SIN(I32)+$B$7+$B$6 -> 1.82085 | M32: =$B$8*COS(I32)+$B$8 -> 0.55962102 | N32: =$B$16/100*H32+$B$7 -> 0.4649 | O32: =$B$17/100*H32+$B$7 -> 0.3344 | Q32: =$D$20*SIN(I32)+$B$7 -> 0.3551684 | R32: =$D$20*COS(I32)+$B$7 -> 0.39123538 | S32: =$D$21*SIN(I32)+$N$102+0.1275 -> 0.98361268 | T32: =$D$21*COS(I32)+$O$102+0.002 -> 0.43790938 | U32: =$B$6+$B$7-(($B$22*SIN(RADIANS($B$15)))/100)*H32 -> 1.5842651 | V32: =$B$7+(($B$22*SIN(RADIANS(180-90-$B$15)))/100)*H32 -> 0.50048518 | W32: =($S$2-$Q$2)/100*H32+$Q$2 -> 0.50315 | X32: =($T$2-$R$2)/100*H32+$R$2 -> 0.41610337 | Y32: =$B$16/100*H132+$B$7 -> 0.9949 | Z32: =$B$17/100*H132+$B$7 -> 0.4294
H33: =H32+1 -> 31 | I33: =RADIANS(H33) -> 0.54105207 | J33: =$B$7*SIN(I33)+$B$7 -> 0.46345015 | K33: =$B$7*COS(I33)+$B$7 -> 0.56810748 | L33: =$B$8*SIN(I33)+$B$7+$B$6 -> 1.8253599 | M33: =$B$8*COS(I33)+$B$8 -> 0.55696447 | N33: =$B$16/100*H33+$B$7 -> 0.4702 | O33: =$B$17/100*H33+$B$7 -> 0.33535 | Q33: =$D$20*SIN(I33)+$B$7 -> 0.35665021 | R33: =$D$20*COS(I33)+$B$7 -> 0.39036253 | S33: =$D$21*SIN(I33)+$N$102+0.1275 -> 0.9842206 | T33: =$D$21*COS(I33)+$O$102+0.002 -> 0.43755129 | U33: =$B$6+$B$7-(($B$22*SIN(RADIANS($B$15)))/100)*H33 -> 1.5813773 | V33: =$B$7+(($B$22*SIN(RADIANS(180-90-$B$15)))/100)*H33 -> 0.50697136 | W33: =($S$2-$Q$2)/100*H33+$Q$2 -> 0.509725 | X33: =($T$2-$R$2)/100*H33+$R$2 -> 0.41649226 | Y33: =$B$16/100*H133+$B$7 -> 1.0002 | Z33: =$B$17/100*H133+$B$7 -> 0.43035
H34: =H33+1 -> 32 | I34: =RADIANS(H34) -> 0.55850536 | J34: =$B$7*SIN(I34)+$B$7 -> 0.4680023 | K34: =$B$7*COS(I34)+$B$7 -> 0.56531791 | L34: =$B$8*SIN(I34)+$B$7+$B$6 -> 1.8298228 | M34: =$B$8*COS(I34)+$B$8 -> 0.55422962 | N34: =$B$16/100*H34+$B$7 -> 0.4755 | O34: =$B$17/100*H34+$B$7 -> 0.3363 | Q34: =$D$20*SIN(I34)+$B$7 -> 0.35811655 | R34: =$D$20*COS(I34)+$B$7 -> 0.38946395 | S34: =$D$21*SIN(I34)+$N$102+0.1275 -> 0.98482217 | T34: =$D$21*COS(I34)+$O$102+0.002 -> 0.43718265 | U34: =$B$6+$B$7-(($B$22*SIN(RADIANS($B$15)))/100)*H34 -> 1.5784894 | V34: =$B$7+(($B$22*SIN(RADIANS(180-90-$B$15)))/100)*H34 -> 0.51345753 | W34: =($S$2-$Q$2)/100*H34+$Q$2 -> 0.5163 | X34: =($T$2-$R$2)/100*H34+$R$2 -> 0.41688114 | Y34: =$B$16/100*H134+$B$7 -> 1.0055 | Z34: =$B$17/100*H134+$B$7 -> 0.4313
H35: =H34+1 -> 33 | I35: =RADIANS(H35) -> 0.57595865 | J35: =$B$7*SIN(I35)+$B$7 -> 0.47250508 | K35: =$B$7*COS(I35)+$B$7 -> 0.56244933 | L35: =$B$8*SIN(I35)+$B$7+$B$6 -> 1.8342372 | M35: =$B$8*COS(I35)+$B$8 -> 0.5514173 | N35: =$B$16/100*H35+$B$7 -> 0.4808 | O35: =$B$17/100*H35+$B$7 -> 0.33725 | Q35: =$D$20*SIN(I35)+$B$7 -> 0.35956699 | R35: =$D$20*COS(I35)+$B$7 -> 0.38853992 | S35: =$D$21*SIN(I35)+$N$102+0.1275 -> 0.98541723 | T35: =$D$21*COS(I35)+$O$102+0.002 -> 0.43680356 | U35: =$B$6+$B$7-(($B$22*SIN(RADIANS($B$15)))/100)*H35 -> 1.5756016 | V35: =$B$7+(($B$22*SIN(RADIANS(180-90-$B$15)))/100)*H35 -> 0.5199437 | W35: =($S$2-$Q$2)/100*H35+$Q$2 -> 0.522875 | X35: =($T$2-$R$2)/100*H35+$R$2 -> 0.41727003 | Y35: =$B$16/100*H135+$B$7 -> 1.0108 | Z35: =$B$17/100*H135+$B$7 -> 0.43225
... H80: =H79+1 -> 78 | I80: =RADIANS(H80) -> 1.3613568 | J80: =$B$7*SIN(I80)+$B$7 -> 0.60511535 | K80: =$B$7*COS(I80)+$B$7 -> 0.36950019 | L80: =$B$8*SIN(I80)+$B$7+$B$6 -> 1.9642465 | M80: =$B$8*COS(I80)+$B$8 -> 0.36225272 | N80: =$B$16/100*H80+$B$7 -> 0.7193 | O80: =$B$17/100*H80+$B$7 -> 0.38 | Q80: =$D$20*SIN(I80)+$B$7 -> 0.40228354 | R80: =$D$20*COS(I80)+$B$7 -> 0.32638695 | S80: =$D$21*SIN(I80)+$N$102+0.1275 -> 1.002942 | T80: =$D$21*COS(I80)+$O$102+0.002 -> 0.4113049 | U80: =$B$6+$B$7-(($B$22*SIN(RADIANS($B$15)))/100)*H80 -> 1.4456492 | V80: =$B$7+(($B$22*SIN(RADIANS(180-90-$B$15)))/100)*H80 -> 0.81182147 | W80: =($S$2-$Q$2)/100*H80+$Q$2 -> 0.81875 | X80: =($T$2-$R$2)/100*H80+$R$2 -> 0.43476987 | Y80: =$B$16/100*H180+$B$7 -> 1.2493 | Z80: =$B$17/100*H180+$B$7 -> 0.475
H81: =H80+1 -> 79 | I81: =RADIANS(H81) -> 1.3788101 | J81: =$B$7*SIN(I81)+$B$7 -> 0.60617976 | K81: =$B$7*COS(I81)+$B$7 -> 0.36426847 | L81: =$B$8*SIN(I81)+$B$7+$B$6 -> 1.96529 | M81: =$B$8*COS(I81)+$B$8 -> 0.35712362 | N81: =$B$16/100*H81+$B$7 -> 0.7246 | O81: =$B$17/100*H81+$B$7 -> 0.38095 | Q81: =$D$20*SIN(I81)+$B$7 -> 0.40262641 | R81: =$D$20*COS(I81)+$B$7 -> 0.32470171 | S81: =$D$21*SIN(I81)+$N$102+0.1275 -> 1.0030826 | T81: =$D$21*COS(I81)+$O$102+0.002 -> 0.41061352 | U81: =$B$6+$B$7-(($B$22*SIN(RADIANS($B$15)))/100)*H81 -> 1.4427614 | V81: =$B$7+(($B$22*SIN(RADIANS(180-90-$B$15)))/100)*H81 -> 0.81830765 | W81: =($S$2-$Q$2)/100*H81+$Q$2 -> 0.825325 | X81: =($T$2-$R$2)/100*H81+$R$2 -> 0.43515876
H82: =H81+1 -> 80 | I82: =RADIANS(H82) -> 1.3962634 | J82: =$B$7*SIN(I82)+$B$7 -> 0.60715269 | K82: =$B$7*COS(I82)+$B$7 -> 0.35901898 | L82: =$B$8*SIN(I82)+$B$7+$B$6 -> 1.9662438 | M82: =$B$8*COS(I82)+$B$8 -> 0.35197709 | N82: =$B$16/100*H82+$B$7 -> 0.7299 | O82: =$B$17/100*H82+$B$7 -> 0.3819 | Q82: =$D$20*SIN(I82)+$B$7 -> 0.40293981 | R82: =$D$20*COS(I82)+$B$7 -> 0.32301074 | S82: =$D$21*SIN(I82)+$N$102+0.1275 -> 1.0032112 | T82: =$D$21*COS(I82)+$O$102+0.002 -> 0.40991979 | U82: =$B$6+$B$7-(($B$22*SIN(RADIANS($B$15)))/100)*H82 -> 1.4398736 | V82: =$B$7+(($B$22*SIN(RADIANS(180-90-$B$15)))/100)*H82 -> 0.82479382 | W82: =($S$2-$Q$2)/100*H82+$Q$2 -> 0.8319 | X82: =($T$2-$R$2)/100*H82+$R$2 -> 0.43554765
H83: =H82+1 -> 81 | I83: =RADIANS(H83) -> 1.4137167 | J83: =$B$7*SIN(I83)+$B$7 -> 0.60803386 | K83: =$B$7*COS(I83)+$B$7 -> 0.3537533 | L83: =$B$8*SIN(I83)+$B$7+$B$6 -> 1.9671077 | M83: =$B$8*COS(I83)+$B$8 -> 0.3468147 | N83: =$B$16/100*H83+$B$7 -> 0.7352 | O83: =$B$17/100*H83+$B$7 -> 0.38285 | Q83: =$D$20*SIN(I83)+$B$7 -> 0.40322365 | R83: =$D$20*COS(I83)+$B$7 -> 0.32131455 | S83: =$D$21*SIN(I83)+$N$102+0.1275 -> 1.0033277 | T83: =$D$21*COS(I83)+$O$102+0.002 -> 0.40922392 | U83: =$B$6+$B$7-(($B$22*SIN(RADIANS($B$15)))/100)*H83 -> 1.4369858 | V83: =$B$7+(($B$22*SIN(RADIANS(180-90-$B$15)))/100)*H83 -> 0.83127999 | W83: =($S$2-$Q$2)/100*H83+$Q$2 -> 0.838475 | X83: =($T$2-$R$2)/100*H83+$R$2 -> 0.43593653
H84: =H83+1 -> 82 | I84: =RADIANS(H84) -> 1.43117 | J84: =$B$7*SIN(I84)+$B$7 -> 0.608823 | K84: =$B$7*COS(I84)+$B$7 -> 0.34847305 | L84: =$B$8*SIN(I84)+$B$7+$B$6 -> 1.9678814 | M84: =$B$8*COS(I84)+$B$8 -> 0.34163801 | N84: =$B$16/100*H84+$B$7 -> 0.7405 | O84: =$B$17/100*H84+$B$7 -> 0.3838 | Q84: =$D$20*SIN(I84)+$B$7 -> 0.40347785 | R84: =$D$20*COS(I84)+$B$7 -> 0.31961367 | S84: =$D$21*SIN(I84)+$N$102+0.1275 -> 1.0034319 | T84: =$D$21*COS(I84)+$O$102+0.002 -> 0.40852612 | U84: =$B$6+$B$7-(($B$22*SIN(RADIANS($B$15)))/100)*H84 -> 1.4340979 | V84: =$B$7+(($B$22*SIN(RADIANS(180-90-$B$15)))/100)*H84 -> 0.83776617 | W84: =($S$2-$Q$2)/100*H84+$Q$2 -> 0.84505 | X84: =($T$2-$R$2)/100*H84+$R$2 -> 0.43632542
H85: =H84+1 -> 83 | I85: =RADIANS(H85) -> 1.4486233 | J85: =$B$7*SIN(I85)+$B$7 -> 0.60951987 | K85: =$B$7*COS(I85)+$B$7 -> 0.34317983 | L85: =$B$8*SIN(I85)+$B$7+$B$6 -> 1.9685646 | M85: =$B$8*COS(I85)+$B$8 -> 0.33644862 | N85: =$B$16/100*H85+$B$7 -> 0.7458 | O85: =$B$17/100*H85+$B$7 -> 0.38475 | Q85: =$D$20*SIN(I85)+$B$7 -> 0.40370233 | R85: =$D$20*COS(I85)+$B$7 -> 0.31790862 | S85: =$D$21*SIN(I85)+$N$102+0.1275 -> 1.003524 | T85: =$D$21*COS(I85)+$O$102+0.002 -> 0.40782661 | U85: =$B$6+$B$7-(($B$22*SIN(RADIANS($B$15)))/100)*H85 -> 1.4312101 | V85: =$B$7+(($B$22*SIN(RADIANS(180-90-$B$15)))/100)*H85 -> 0.84425234 | W85: =($S$2-$Q$2)/100*H85+$Q$2 -> 0.851625 | X85: =($T$2-$R$2)/100*H85+$R$2 -> 0.4367143
H86: =H85+1 -> 84 | I86: =RADIANS(H86) -> 1.4660766 | J86: =$B$7*SIN(I86)+$B$7 -> 0.61012425 | K86: =$B$7*COS(I86)+$B$7 -> 0.33787526 | L86: =$B$8*SIN(I86)+$B$7+$B$6 -> 1.9691571 | M86: =$B$8*COS(I86)+$B$8 -> 0.33124809 | N86: =$B$16/100*H86+$B$7 -> 0.7511 | O86: =$B$17/100*H86+$B$7 -> 0.3857 | Q86: =$D$20*SIN(I86)+$B$7 -> 0.40389701 | R86: =$D$20*COS(I86)+$B$7 -> 0.3161999 | S86: =$D$21*SIN(I86)+$N$102+0.1275 -> 1.0036039 | T86: =$D$21*COS(I86)+$O$102+0.002 -> 0.4071256 | U86: =$B$6+$B$7-(($B$22*SIN(RADIANS($B$15)))/100)*H86 -> 1.4283223 | V86: =$B$7+(($B$22*SIN(RADIANS(180-90-$B$15)))/100)*H86 -> 0.85073851 | W86: =($S$2-$Q$2)/100*H86+$Q$2 -> 0.8582 | X86: =($T$2-$R$2)/100*H86+$R$2 -> 0.43710319
H87: =H86+1 -> 85 | I87: =RADIANS(H87) -> 1.4835299 | J87: =$B$7*SIN(I87)+$B$7 -> 0.61063596 | K87: =$B$7*COS(I87)+$B$7 -> 0.33256094 | L87: =$B$8*SIN(I87)+$B$7+$B$6 -> 1.9696588 | M87: =$B$8*COS(I87)+$B$8 -> 0.32603801 | N87: =$B$16/100*H87+$B$7 -> 0.7564 | O87: =$B$17/100*H87+$B$7 -> 0.38665 | Q87: =$D$20*SIN(I87)+$B$7 -> 0.40406184 | R87: =$D$20*COS(I87)+$B$7 -> 0.31448805 | S87: =$D$21*SIN(I87)+$N$102+0.1275 -> 1.0036715 | T87: =$D$21*COS(I87)+$O$102+0.002 -> 0.4064233 | U87: =$B$6+$B$7-(($B$22*SIN(RADIANS($B$15)))/100)*H87 -> 1.4254344 | V87: =$B$7+(($B$22*SIN(RADIANS(180-90-$B$15)))/100)*H87 -> 0.85722468 | W87: =($S$2-$Q$2)/100*H87+$Q$2 -> 0.864775 | X87: =($T$2-$R$2)/100*H87+$R$2 -> 0.43749207
H88: =H87+1 -> 86 | I88: =RADIANS(H88) -> 1.5009832 | J88: =$B$7*SIN(I88)+$B$7 -> 0.61105484 | K88: =$B$7*COS(I88)+$B$7 -> 0.32723851 | L88: =$B$8*SIN(I88)+$B$7+$B$6 -> 1.9700695 | M88: =$B$8*COS(I88)+$B$8 -> 0.32081997 | N88: =$B$16/100*H88+$B$7 -> 0.7617 | O88: =$B$17/100*H88+$B$7 -> 0.3876 | Q88: =$D$20*SIN(I88)+$B$7 -> 0.40419677 | R88: =$D$20*COS(I88)+$B$7 -> 0.31277358 | S88: =$D$21*SIN(I88)+$N$102+0.1275 -> 1.0037269 | T88: =$D$21*COS(I88)+$O$102+0.002 -> 0.40571993 | U88: =$B$6+$B$7-(($B$22*SIN(RADIANS($B$15)))/100)*H88 -> 1.4225466 | V88: =$B$7+(($B$22*SIN(RADIANS(180-90-$B$15)))/100)*H88 -> 0.86371086 | W88: =($S$2-$Q$2)/100*H88+$Q$2 -> 0.87135 | X88: =($T$2-$R$2)/100*H88+$R$2 -> 0.43788096
H89: =H88+1 -> 87 | I89: =RADIANS(H89) -> 1.5184364 | J89: =$B$7*SIN(I89)+$B$7 -> 0.61138077 | K89: =$B$7*COS(I89)+$B$7 -> 0.32190957 | L89: =$B$8*SIN(I89)+$B$7+$B$6 -> 1.970389 | M89: =$B$8*COS(I89)+$B$8 -> 0.31559555 | N89: =$B$16/100*H89+$B$7 -> 0.767 | O89: =$B$17/100*H89+$B$7 -> 0.38855 | Q89: =$D$20*SIN(I89)+$B$7 -> 0.40430176 | R89: =$D$20*COS(I89)+$B$7 -> 0.31105702 | S89: =$D$21*SIN(I89)+$N$102+0.1275 -> 1.00377 | T89: =$D$21*COS(I89)+$O$102+0.002 -> 0.4050157 | U89: =$B$6+$B$7-(($B$22*SIN(RADIANS($B$15)))/100)*H89 -> 1.4196588 | V89: =$B$7+(($B$22*SIN(RADIANS(180-90-$B$15)))/100)*H89 -> 0.87019703 | W89: =($S$2-$Q$2)/100*H89+$Q$2 -> 0.877925 | X89: =($T$2-$R$2)/100*H89+$R$2 -> 0.43826984
H90: =H89+1 -> 88 | I90: =RADIANS(H90) -> 1.5358897 | J90: =$B$7*SIN(I90)+$B$7 -> 0.61161365 | K90: =$B$7*COS(I90)+$B$7 -> 0.31657576 | L90: =$B$8*SIN(I90)+$B$7+$B$6 -> 1.9706173 | M90: =$B$8*COS(I90)+$B$8 -> 0.31036636 | N90: =$B$16/100*H90+$B$7 -> 0.7723 | O90: =$B$17/100*H90+$B$7 -> 0.3895 | Q90: =$D$20*SIN(I90)+$B$7 -> 0.40437678 | R90: =$D$20*COS(I90)+$B$7 -> 0.30933888 | S90: =$D$21*SIN(I90)+$N$102+0.1275 -> 1.0038007 | T90: =$D$21*COS(I90)+$O$102+0.002 -> 0.40431082 | U90: =$B$6+$B$7-(($B$22*SIN(RADIANS($B$15)))/100)*H90 -> 1.4167709 | V90: =$B$7+(($B$22*SIN(RADIANS(180-90-$B$15)))/100)*H90 -> 0.8766832 | W90: =($S$2-$Q$2)/100*H90+$Q$2 -> 0.8845 | X90: =($T$2-$R$2)/100*H90+$R$2 -> 0.43865873
H91: =H90+1 -> 89 | I91: =RADIANS(H91) -> 1.553343 | J91: =$B$7*SIN(I91)+$B$7 -> 0.61175341 | K91: =$B$7*COS(I91)+$B$7 -> 0.31123869 | L91: =$B$8*SIN(I91)+$B$7+$B$6 -> 1.9707543 | M91: =$B$8*COS(I91)+$B$8 -> 0.30513398 | N91: =$B$16/100*H91+$B$7 -> 0.7776 | O91: =$B$17/100*H91+$B$7 -> 0.39045 | Q91: =$D$20*SIN(I91)+$B$7 -> 0.4044218 | R91: =$D$20*COS(I91)+$B$7 -> 0.3076197 | S91: =$D$21*SIN(I91)+$N$102+0.1275 -> 1.0038192 | T91: =$D$21*COS(I91)+$O$102+0.002 -> 0.40360552 | U91: =$B$6+$B$7-(($B$22*SIN(RADIANS($B$15)))/100)*H91 -> 1.4138831 | V91: =$B$7+(($B$22*SIN(RADIANS(180-90-$B$15)))/100)*H91 -> 0.88316937 | W91: =($S$2-$Q$2)/100*H91+$Q$2 -> 0.891075 | X91: =($T$2-$R$2)/100*H91+$R$2 -> 0.43904761
H92: =H91+1 -> 90 | I92: =RADIANS(H92) -> 1.5707963 | J92: =$B$7*SIN(I92)+$B$7 -> 0.6118 | K92: =$B$7*COS(I92)+$B$7 -> 0.3059 | L92: =$B$8*SIN(I92)+$B$7+$B$6 -> 1.9708 | M92: =$B$8*COS(I92)+$B$8 -> 0.2999 | N92: =$B$16/100*H92+$B$7 -> 0.7829 | O92: =$B$17/100*H92+$B$7 -> 0.3914 | Q92: =$D$20*SIN(I92)+$B$7 -> 0.4044368 | R92: =$D$20*COS(I92)+$B$7 -> 0.3059 | S92: =$D$21*SIN(I92)+$N$102+0.1275 -> 1.0038254 | T92: =$D$21*COS(I92)+$O$102+0.002 -> 0.4029 | U92: =$B$6+$B$7-(($B$22*SIN(RADIANS($B$15)))/100)*H92 -> 1.4109953 | V92: =$B$7+(($B$22*SIN(RADIANS(180-90-$B$15)))/100)*H92 -> 0.88965555 | W92: =($S$2-$Q$2)/100*H92+$Q$2 -> 0.89765 | X92: =($T$2-$R$2)/100*H92+$R$2 -> 0.4394365
... H102: =H101+1 -> 100 | I102: =RADIANS(H102) -> 1.7453293 | J102: =$B$7*SIN(I102)+$B$7 -> 0.60715269 | K102: =$B$7*COS(I102)+$B$7 -> 0.25278102 | L102: =$B$8*SIN(I102)+$B$7+$B$6 -> 1.9662438 | M102: =$B$8*COS(I102)+$B$8 -> 0.24782291 | N102: =$B$16/100*H102+$B$7 -> 0.8359 | O102: =$B$17/100*H102+$B$7 -> 0.4009 | Q102: =$D$20*SIN(I102)+$B$7 -> 0.40293981 | R102: =$D$20*COS(I102)+$B$7 -> 0.28878926 | S102: =$D$21*SIN(I102)+$N$102+0.1275 -> 1.0032112 | T102: =$D$21*COS(I102)+$O$102+0.002 -> 0.39588021 | U102: =$B$6+$B$7-(($B$22*SIN(RADIANS($B$15)))/100)*H102 -> 1.382117 | V102: =$B$7+(($B$22*SIN(RADIANS(180-90-$B$15)))/100)*H102 -> 0.95451727 | W102: =($S$2-$Q$2)/100*H102+$Q$2 -> 0.9634 | X102: =($T$2-$R$2)/100*H102+$R$2 -> 0.44332536
H103: =H102+1 -> 101 | I103: =RADIANS(H103) -> 1.7627825 | J103: =$B$7*SIN(I103)+$B$7 -> 0.60617976 | K103: =$B$7*COS(I103)+$B$7 -> 0.24753153 | L103: =$B$8*SIN(I103)+$B$7+$B$6 -> 1.96529 | M103: =$B$8*COS(I103)+$B$8 -> 0.24267638 | Q103: =$D$20*SIN(I103)+$B$7 -> 0.40262641 | R103: =$D$20*COS(I103)+$B$7 -> 0.28709829 | S103: =$D$21*SIN(I103)+$N$102+0.1275 -> 1.0030826 | T103: =$D$21*COS(I103)+$O$102+0.002 -> 0.39518648 | W103: =($S$2-$Q$2)/100*H103+$Q$2 -> 0.969975 | X103: =($T$2-$R$2)/100*H103+$R$2 -> 0.44371424
H104: =H103+1 -> 102 | I104: =RADIANS(H104) -> 1.7802358 | J104: =$B$7*SIN(I104)+$B$7 -> 0.60511535 | K104: =$B$7*COS(I104)+$B$7 -> 0.24229981 | L104: =$B$8*SIN(I104)+$B$7+$B$6 -> 1.9642465 | M104: =$B$8*COS(I104)+$B$8 -> 0.23754728 | Q104: =$D$20*SIN(I104)+$B$7 -> 0.40228354 | R104: =$D$20*COS(I104)+$B$7 -> 0.28541305 | S104: =$D$21*SIN(I104)+$N$102+0.1275 -> 1.002942 | T104: =$D$21*COS(I104)+$O$102+0.002 -> 0.3944951 | W104: =($S$2-$Q$2)/100*H104+$Q$2 -> 0.97655 | X104: =($T$2-$R$2)/100*H104+$R$2 -> 0.44410313
H105: =H104+1 -> 103 | I105: =RADIANS(H105) -> 1.7976891 | J105: =$B$7*SIN(I105)+$B$7 -> 0.6039598 | K105: =$B$7*COS(I105)+$B$7 -> 0.23708747 | L105: =$B$8*SIN(I105)+$B$7+$B$6 -> 1.9631136 | M105: =$B$8*COS(I105)+$B$8 -> 0.23243718 | Q105: =$D$20*SIN(I105)+$B$7 -> 0.40191131 | R105: =$D$20*COS(I105)+$B$7 -> 0.28373404 | S105: =$D$21*SIN(I105)+$N$102+0.1275 -> 1.0027893 | T105: =$D$21*COS(I105)+$O$102+0.002 -> 0.39380627 | W105: =($S$2-$Q$2)/100*H105+$Q$2 -> 0.983125 | X105: =($T$2-$R$2)/100*H105+$R$2 -> 0.44449201
H106: =H105+1 -> 104 | I106: =RADIANS(H106) -> 1.8151424 | J106: =$B$7*SIN(I106)+$B$7 -> 0.60271346 | K106: =$B$7*COS(I106)+$B$7 -> 0.23189609 | L106: =$B$8*SIN(I106)+$B$7+$B$6 -> 1.9618917 | M106: =$B$8*COS(I106)+$B$8 -> 0.22734762 | Q106: =$D$20*SIN(I106)+$B$7 -> 0.40150984 | R106: =$D$20*COS(I106)+$B$7 -> 0.28206179 | S106: =$D$21*SIN(I106)+$N$102+0.1275 -> 1.0026245 | T106: =$D$21*COS(I106)+$O$102+0.002 -> 0.39312022 | W106: =($S$2-$Q$2)/100*H106+$Q$2 -> 0.9897 | X106: =($T$2-$R$2)/100*H106+$R$2 -> 0.4448809
H107: =H106+1 -> 105 | I107: =RADIANS(H107) -> 1.8325957 | J107: =$B$7*SIN(I107)+$B$7 -> 0.60137671 | K107: =$B$7*COS(I107)+$B$7 -> 0.22672725 | L107: =$B$8*SIN(I107)+$B$7+$B$6 -> 1.9605812 | M107: =$B$8*COS(I107)+$B$8 -> 0.22228017 | Q107: =$D$20*SIN(I107)+$B$7 -> 0.40107924 | R107: =$D$20*COS(I107)+$B$7 -> 0.2803968 | S107: =$D$21*SIN(I107)+$N$102+0.1275 -> 1.0024479 | T107: =$D$21*COS(I107)+$O$102+0.002 -> 0.39243715 | W107: =($S$2-$Q$2)/100*H107+$Q$2 -> 0.996275 | X107: =($T$2-$R$2)/100*H107+$R$2 -> 0.44526978
H108: =H107+1 -> 106 | I108: =RADIANS(H108) -> 1.850049 | J108: =$B$7*SIN(I108)+$B$7 -> 0.59994995 | K108: =$B$7*COS(I108)+$B$7 -> 0.22158253 | L108: =$B$8*SIN(I108)+$B$7+$B$6 -> 1.9591824 | M108: =$B$8*COS(I108)+$B$8 -> 0.21723636 | Q108: =$D$20*SIN(I108)+$B$7 -> 0.40061966 | R108: =$D$20*COS(I108)+$B$7 -> 0.27873958 | S108: =$D$21*SIN(I108)+$N$102+0.1275 -> 1.0022593 | T108: =$D$21*COS(I108)+$O$102+0.002 -> 0.39175726 | W108: =($S$2-$Q$2)/100*H108+$Q$2 -> 1.00285 | X108: =($T$2-$R$2)/100*H108+$R$2 -> 0.44565867
H109: =H108+1 -> 107 | I109: =RADIANS(H109) -> 1.8675023 | J109: =$B$7*SIN(I109)+$B$7 -> 0.59843362 | K109: =$B$7*COS(I109)+$B$7 -> 0.2164635 | L109: =$B$8*SIN(I109)+$B$7+$B$6 -> 1.9576958 | M109: =$B$8*COS(I109)+$B$8 -> 0.21221773 | Q109: =$D$20*SIN(I109)+$B$7 -> 0.40013121 | R109: =$D$20*COS(I109)+$B$7 -> 0.27709063 | S109: =$D$21*SIN(I109)+$N$102+0.1275 -> 1.002059 | T109: =$D$21*COS(I109)+$O$102+0.002 -> 0.39108077 | W109: =($S$2-$Q$2)/100*H109+$Q$2 -> 1.009425 | X109: =($T$2-$R$2)/100*H109+$R$2 -> 0.44604755
H110: =H109+1 -> 108 | I110: =RADIANS(H110) -> 1.8849556 | J110: =$B$7*SIN(I110)+$B$7 -> 0.59682819 | K110: =$B$7*COS(I110)+$B$7 -> 0.2113717 | L110: =$B$8*SIN(I110)+$B$7+$B$6 -> 1.9561218 | M110: =$B$8*COS(I110)+$B$8 -> 0.2072258 | Q110: =$D$20*SIN(I110)+$B$7 -> 0.39961407 | R110: =$D$20*COS(I110)+$B$7 -> 0.27545045 | S110: =$D$21*SIN(I110)+$N$102+0.1275 -> 1.0018468 | T110: =$D$21*COS(I110)+$O$102+0.002 -> 0.39040788 | W110: =($S$2-$Q$2)/100*H110+$Q$2 -> 1.016 | X110: =($T$2-$R$2)/100*H110+$R$2 -> 0.44643644
H111: =H110+1 -> 109 | I111: =RADIANS(H111) -> 1.9024089 | J111: =$B$7*SIN(I111)+$B$7 -> 0.59513413 | K111: =$B$7*COS(I111)+$B$7 -> 0.2063087 | L111: =$B$8*SIN(I111)+$B$7+$B$6 -> 1.954461 | M111: =$B$8*COS(I111)+$B$8 -> 0.20226211 | Q111: =$D$20*SIN(I111)+$B$7 -> 0.39906838 | R111: =$D$20*COS(I111)+$B$7 -> 0.27381955 | S111: =$D$21*SIN(I111)+$N$102+0.1275 -> 1.0016229 | T111: =$D$21*COS(I111)+$O$102+0.002 -> 0.38973879 | W111: =($S$2-$Q$2)/100*H111+$Q$2 -> 1.022575 | X111: =($T$2-$R$2)/100*H111+$R$2 -> 0.44682533
H112: =H111+1 -> 110 | I112: =RADIANS(H112) -> 1.9198622 | J112: =$B$7*SIN(I112)+$B$7 -> 0.59335197 | K112: =$B$7*COS(I112)+$B$7 -> 0.20127604 | L112: =$B$8*SIN(I112)+$B$7+$B$6 -> 1.9527138 | M112: =$B$8*COS(I112)+$B$8 -> 0.19732816 | Q112: =$D$20*SIN(I112)+$B$7 -> 0.39849431 | R112: =$D$20*COS(I112)+$B$7 -> 0.27219843 | S112: =$D$21*SIN(I112)+$N$102+0.1275 -> 1.0013874 | T112: =$D$21*COS(I112)+$O$102+0.002 -> 0.38907371 | W112: =($S$2-$Q$2)/100*H112+$Q$2 -> 1.02915 | X112: =($T$2-$R$2)/100*H112+$R$2 -> 0.44721421
H113: =H112+1 -> 111 | I113: =RADIANS(H113) -> 1.9373155 | J113: =$B$7*SIN(I113)+$B$7 -> 0.59148225 | K113: =$B$7*COS(I113)+$B$7 -> 0.19627524 | L113: =$B$8*SIN(I113)+$B$7+$B$6 -> 1.9508808 | M113: =$B$8*COS(I113)+$B$8 -> 0.19242545 | Q113: =$D$20*SIN(I113)+$B$7 -> 0.39789203 | R113: =$D$20*COS(I113)+$B$7 -> 0.27058757 | S113: =$D$21*SIN(I113)+$N$102+0.1275 -> 1.0011403 | T113: =$D$21*COS(I113)+$O$102+0.002 -> 0.38841285 | W113: =($S$2-$Q$2)/100*H113+$Q$2 -> 1.035725 | X113: =($T$2-$R$2)/100*H113+$R$2 -> 0.4476031
H114: =H113+1 -> 112 | I114: =RADIANS(H114) -> 1.9547688 | J114: =$B$7*SIN(I114)+$B$7 -> 0.58952554 | K114: =$B$7*COS(I114)+$B$7 -> 0.19130784 | L114: =$B$8*SIN(I114)+$B$7+$B$6 -> 1.9489624 | M114: =$B$8*COS(I114)+$B$8 -> 0.18755548 | Q114: =$D$20*SIN(I114)+$B$7 -> 0.39726173 | R114: =$D$20*COS(I114)+$B$7 -> 0.26898746 | S114: =$D$21*SIN(I114)+$N$102+0.1275 -> 1.0008817 | T114: =$D$21*COS(I114)+$O$102+0.002 -> 0.3877564 | W114: =($S$2-$Q$2)/100*H114+$Q$2 -> 1.0423 | X114: =($T$2-$R$2)/100*H114+$R$2 -> 0.44799198
... H150: =H149+1 -> 148 | I150: =RADIANS(H150) -> 2.5830873 | J150: =$B$7*SIN(I150)+$B$7 -> 0.4680023 | K150: =$B$7*COS(I150)+$B$7 -> 0.046482087 | L150: =$B$8*SIN(I150)+$B$7+$B$6 -> 1.8298228 | M150: =$B$8*COS(I150)+$B$8 -> 0.045570376 | Q150: =$D$20*SIN(I150)+$B$7 -> 0.35811655 | R150: =$D$20*COS(I150)+$B$7 -> 0.22233605 | S150: =$D$21*SIN(I150)+$N$102+0.1275 -> 0.98482217 | T150: =$D$21*COS(I150)+$O$102+0.002 -> 0.36861735 | W150: =($S$2-$Q$2)/100*H150+$Q$2 -> 1.279 | X150: =($T$2-$R$2)/100*H150+$R$2 -> 0.46199186
H151: =H150+1 -> 149 | I151: =RADIANS(H151) -> 2.6005406 | J151: =$B$7*SIN(I151)+$B$7 -> 0.46345015 | K151: =$B$7*COS(I151)+$B$7 -> 0.043692523 | L151: =$B$8*SIN(I151)+$B$7+$B$6 -> 1.8253599 | M151: =$B$8*COS(I151)+$B$8 -> 0.042835527 | Q151: =$D$20*SIN(I151)+$B$7 -> 0.35665021 | R151: =$D$20*COS(I151)+$B$7 -> 0.22143747 | S151: =$D$21*SIN(I151)+$N$102+0.1275 -> 0.9842206 | T151: =$D$21*COS(I151)+$O$102+0.002 -> 0.36824871
H152: =H151+1 -> 150 | I152: =RADIANS(H152) -> 2.6179939 | J152: =$B$7*SIN(I152)+$B$7 -> 0.45885 | K152: =$B$7*COS(I152)+$B$7 -> 0.040982829 | L152: =$B$8*SIN(I152)+$B$7+$B$6 -> 1.82085 | M152: =$B$8*COS(I152)+$B$8 -> 0.040178981 | Q152: =$D$20*SIN(I152)+$B$7 -> 0.3551684 | R152: =$D$20*COS(I152)+$B$7 -> 0.22056462 | S152: =$D$21*SIN(I152)+$N$102+0.1275 -> 0.98361268 | T152: =$D$21*COS(I152)+$O$102+0.002 -> 0.36789062
H153: =H152+1 -> 151 | I153: =RADIANS(H153) -> 2.6354472 | J153: =$B$7*SIN(I153)+$B$7 -> 0.45420326 | K153: =$B$7*COS(I153)+$B$7 -> 0.038353832 | L153: =$B$8*SIN(I153)+$B$7+$B$6 -> 1.8162944 | M153: =$B$8*COS(I153)+$B$8 -> 0.03760155 | Q153: =$D$20*SIN(I153)+$B$7 -> 0.35367159 | R153: =$D$20*COS(I153)+$B$7 -> 0.21971777 | S153: =$D$21*SIN(I153)+$N$102+0.1275 -> 0.9829986 | T153: =$D$21*COS(I153)+$O$102+0.002 -> 0.36754319
H154: =H153+1 -> 152 | I154: =RADIANS(H154) -> 2.6529005 | J154: =$B$7*SIN(I154)+$B$7 -> 0.44951135 | K154: =$B$7*COS(I154)+$B$7 -> 0.035806331 | L154: =$B$8*SIN(I154)+$B$7+$B$6 -> 1.8116945 | M154: =$B$8*COS(I154)+$B$8 -> 0.035104017 | Q154: =$D$20*SIN(I154)+$B$7 -> 0.35216023 | R154: =$D$20*COS(I154)+$B$7 -> 0.21889717 | S154: =$D$21*SIN(I154)+$N$102+0.1275 -> 0.98237855 | T154: =$D$21*COS(I154)+$O$102+0.002 -> 0.36720653
H155: =H154+1 -> 153 | I155: =RADIANS(H155) -> 2.6703538 | J155: =$B$7*SIN(I155)+$B$7 -> 0.44477569 | K155: =$B$7*COS(I155)+$B$7 -> 0.033341104 | L155: =$B$8*SIN(I155)+$B$7+$B$6 -> 1.8070518 | M155: =$B$8*COS(I155)+$B$8 -> 0.032687143 | Q155: =$D$20*SIN(I155)+$B$7 -> 0.35063477 | R155: =$D$20*COS(I155)+$B$7 -> 0.21810306 | S155: =$D$21*SIN(I155)+$N$102+0.1275 -> 0.98175273 | T155: =$D$21*COS(I155)+$O$102+0.002 -> 0.36688074
H156: =H155+1 -> 154 | I156: =RADIANS(H156) -> 2.687807 | J156: =$B$7*SIN(I156)+$B$7 -> 0.43999773 | K156: =$B$7*COS(I156)+$B$7 -> 0.030958901 | L156: =$B$8*SIN(I156)+$B$7+$B$6 -> 1.8023675 | M156: =$B$8*COS(I156)+$B$8 -> 0.030351666 | Q156: =$D$20*SIN(I156)+$B$7 -> 0.34909569 | R156: =$D$20*COS(I156)+$B$7 -> 0.21733571 | S156: =$D$21*SIN(I156)+$N$102+0.1275 -> 0.98112131 | T156: =$D$21*COS(I156)+$O$102+0.002 -> 0.36656593
H157: =H156+1 -> 155 | I157: =RADIANS(H157) -> 2.7052603 | J157: =$B$7*SIN(I157)+$B$7 -> 0.43517893 | K157: =$B$7*COS(I157)+$B$7 -> 0.028660448 | L157: =$B$8*SIN(I157)+$B$7+$B$6 -> 1.7976432 | M157: =$B$8*COS(I157)+$B$8 -> 0.028098295 | Q157: =$D$20*SIN(I157)+$B$7 -> 0.34754345 | R157: =$D$20*COS(I157)+$B$7 -> 0.21659533 | S157: =$D$21*SIN(I157)+$N$102+0.1275 -> 0.98048449 | T157: =$D$21*COS(I157)+$O$102+0.002 -> 0.36626219
H158: =H157+1 -> 156 | I158: =RADIANS(H158) -> 2.7227136 | J158: =$B$7*SIN(I158)+$B$7 -> 0.43032074 | K158: =$B$7*COS(I158)+$B$7 -> 0.026446445 | L158: =$B$8*SIN(I158)+$B$7+$B$6 -> 1.7928803 | M158: =$B$8*COS(I158)+$B$8 -> 0.025927717 | Q158: =$D$20*SIN(I158)+$B$7 -> 0.34597853 | R158: =$D$20*COS(I158)+$B$7 -> 0.21588215 | S158: =$D$21*SIN(I158)+$N$102+0.1275 -> 0.97984247 | T158: =$D$21*COS(I158)+$O$102+0.002 -> 0.3659696
H159: =H158+1 -> 157 | I159: =RADIANS(H159) -> 2.7401669 | J159: =$B$7*SIN(I159)+$B$7 -> 0.42542465 | K159: =$B$7*COS(I159)+$B$7 -> 0.024317565 | L159: =$B$8*SIN(I159)+$B$7+$B$6 -> 1.7880803 | M159: =$B$8*COS(I159)+$B$8 -> 0.023840594 | Q159: =$D$20*SIN(I159)+$B$7 -> 0.3444014 | R159: =$D$20*COS(I159)+$B$7 -> 0.21519639 | S159: =$D$21*SIN(I159)+$N$102+0.1275 -> 0.97919544 | T159: =$D$21*COS(I159)+$O$102+0.002 -> 0.36568826
H160: =H159+1 -> 158 | I160: =RADIANS(H160) -> 2.7576202 | J160: =$B$7*SIN(I160)+$B$7 -> 0.42049216 | K160: =$B$7*COS(I160)+$B$7 -> 0.022274459 | L160: =$B$8*SIN(I160)+$B$7+$B$6 -> 1.7832445 | M160: =$B$8*COS(I160)+$B$8 -> 0.021837562 | Q160: =$D$20*SIN(I160)+$B$7 -> 0.34281254 | R160: =$D$20*COS(I160)+$B$7 -> 0.21453827 | S160: =$D$21*SIN(I160)+$N$102+0.1275 -> 0.9785436 | T160: =$D$21*COS(I160)+$O$102+0.002 -> 0.36541826
H161: =H160+1 -> 159 | I161: =RADIANS(H161) -> 2.7750735 | J161: =$B$7*SIN(I161)+$B$7 -> 0.41552476 | K161: =$B$7*COS(I161)+$B$7 -> 0.020317748 | L161: =$B$8*SIN(I161)+$B$7+$B$6 -> 1.7783745 | M161: =$B$8*COS(I161)+$B$8 -> 0.01991923 | Q161: =$D$20*SIN(I161)+$B$7 -> 0.34121243 | R161: =$D$20*COS(I161)+$B$7 -> 0.21390797 | S161: =$D$21*SIN(I161)+$N$102+0.1275 -> 0.97788715 | T161: =$D$21*COS(I161)+$O$102+0.002 -> 0.36515968
H162: =H161+1 -> 160 | I162: =RADIANS(H162) -> 2.7925268 | J162: =$B$7*SIN(I162)+$B$7 -> 0.41052396 | K162: =$B$7*COS(I162)+$B$7 -> 0.018448027 | L162: =$B$8*SIN(I162)+$B$7+$B$6 -> 1.7734718 | M162: =$B$8*COS(I162)+$B$8 -> 0.018086183 | Q162: =$D$20*SIN(I162)+$B$7 -> 0.33960157 | R162: =$D$20*COS(I162)+$B$7 -> 0.21330569 | S162: =$D$21*SIN(I162)+$N$102+0.1275 -> 0.97722629 | T162: =$D$21*COS(I162)+$O$102+0.002 -> 0.36491259
... H362: =H361+1 -> 360 | I362: =RADIANS(H362) -> 6.2831853 | J362: =$B$7*SIN(I362)+$B$7 -> 0.3059 | K362: =$B$7*COS(I362)+$B$7 -> 0.6118 | L362: =$B$8*SIN(I362)+$B$7+$B$6 -> 1.6709 | M362: =$B$8*COS(I362)+$B$8 -> 0.5998 | Q362: =$D$20*SIN(I362)+$B$7 -> 0.3059 | R362: =$D$20*COS(I362)+$B$7 -> 0.4044368 | S362: =$D$21*SIN(I362)+$N$102+0.1275 -> 0.9634 | T362: =$D$21*COS(I362)+$O$102+0.002 -> 0.44332536

Sheet gordon schematic

Sheet gear calculator
B2: gordon szr660 | J2: power needed to reach speed in top gear | K2: velocity in top gear | L2: speed
B3: Primary drive | E3: Secondary drive | J3: =((((1/2*1.204)*0.7*I6*K3^2)+(0.02*'Centre of gravity'!E8*9.81))*K3)/1000 -> 41.003463 | K3: 61.699 | L3: =K3/1609*3600 -> 138.04624
B4: =71/34 -> 2.0882353 | E4: 16 | F4: 39
B5: Gear | C5: Gear ratio | D5: RPM | E5: Speed (mph) | F5: RPM Drop | I5: frontal area | J5: peak power at wheel | K5: chain links | L5: front sprocket | M5: rear sprocket
B6: 1st gear | C6: =30/13 -> 2.3076923 | D6: 7500 | E6: =((((($D$6*(2*PI())/60)/$B$4)/C6)/($F$4/$E$4))*'Centre of gravity'!$B$7)*3600/1609.34 -> 45.753265 | F6: N to 1st | G6: 0 | I6: 0.39 | J6: 41 | K6: 110 | L6: 14 | M6: 38
B7: 2nd gear | C7: =27/17 -> 1.5882353 | D7: =$D$6 -> 7500 | E7: =((((($D$6*(2*PI())/60)/$B$4)/C7)/($F$4/$E$4))*'Centre of gravity'!$B$7)*3600/1609.34 -> 66.479104 | F7: 1st to 2nd | G7: =$D$6/100*(100/C6*C7) -> 5161.7647 | K7: 112 | L7: 15 | M7: 39
B8: 3rd gear | C8: =24/20 -> 1.2 | D8: =$D$6 -> 7500 | E8: =((((($D$6*(2*PI())/60)/$B$4)/C8)/($F$4/$E$4))*'Centre of gravity'!$B$7)*3600/1609.34 -> 87.987049 | F8: 2nd to 3rd | G8: =$D$6/100*(100/C7*C8) -> 5666.6667 | K8: 114 | L8: 16 | M8: 40
B9: 4th gear | C9: =21/22 -> 0.95454545 | D9: =$D$6 -> 7500 | E9: =((((($D$6*(2*PI())/60)/$B$4)/C9)/($F$4/$E$4))*'Centre of gravity'!$B$7)*3600/1609.34 -> 110.61229 | F9: 3rd to 4th | G9: =$D$6/100*(100/C8*C9) -> 5965.9091 | K9: 116 | M9: 41
B10: 5th gear | C10: =19/24 -> 0.79166667 | D10: =$D$6 -> 7500 | E10: =((((($D$6*(2*PI())/60)/$B$4)/C10)/($F$4/$E$4))*'Centre of gravity'!$B$7)*3600/1609.34 -> 133.36984 | F10: 4th to 5th | G10: =$D$6/100*(100/C9*C10) -> 6220.2381 | M10: 42
M11: 43
I13: chain length
I14: chain size | J14: front sprocket | K14: rear sprocket | L14: chain links | M14: distance from swing arm pivot to rear wheel spindle
I15: 0.625 | J15: =E4 -> 16 | K15: =F4 -> 39 | L15: 112 | M15: =((((L15-(0.5*(J15+K15)))*0.5)*25.4)*I15)-127.5 -> 543.21875

Sheet Triumph 600 datona data file
