Workbook

Sheet Centre of gravity
A1: Gordon szr660 Cog data | H1: wheel degrees | I1: rads | J1: rear wheel X | K1: rear wheel Y | L1: front wheel X | M1: front wheel Y | N1: swing arm line X | O1: swing arm line Y | P1: cog X | Q1: rear sprocket X | R1: rear sprocket Y | S1: front sprocket X | T1: front sprocket Y | U1: forks X | V1: forks Y | W1: chain top line X | X1: chain top line Y | Y1: swing arm line2 X | Z1: swing arm line2 Y
B2: level | C2: level W/Rider | D2: lifted | E2: Lifted W/Rider | H2: 0 | I2: =RADIANS(H2) -> 0 | J2: =$B$7*SIN(I2)+$B$7 -> 0.3059 | K2: =$B$7*COS(I2)+$B$7 -> 0.6118 | L2: =$B$8*SIN(I2)+$B$7+$B$6 -> 1.6709 | M2: =$B$8*COS(I2)+$B$8 -> 0.5998 | N2: =$B$16/100*H2+$B$7 -> 0.3059 | O2: =$B$17/100*H2+$B$7 -> 0.3059 | P2: =B7+(B6)-(B12) -> 1.0432915 | Q2: =$D$20*SIN(I2)+$B$7 -> 0.3059 | R2: =$D$20*COS(I2)+$B$7 -> 0.4044368 | S2: =$D$21*SIN(I2)+$N$102+0.1275 -> 0.9634 | T2: =$D$21*COS(I2)+$O$102+0.002 -> 0.44332536 | U2: =$B$6+$B$7-(($B$22*SIN(RADIANS($B$15)))/100)*H2 -> 1.6709 | V2: =$B$7+(($B$22*SIN(RADIANS(180-90-$B$15)))/100)*H2 -> 0.3059 | W2: =($S$2-$Q$2)/100*H2+$Q$2 -> 0.3059 | X2: =($T$2-$R$2)/100*H2+$R$2 -> 0.4044368 | Y2: =$B$16/100*H102+$B$7 -> 0.8359 | Z2: =$B$17/100*H102+$B$7 -> 0.4009
A3: front wheel | B3: 75.9 | C3: 97.2 | D3: 82.4 | E3: 111.5 | H3: =H2+1 -> 1 | I3: =RADIANS(H3) -> 0.017453293 | J3: =$B$7*SIN(I3)+$B$7 -> 0.31123869 | K3: =$B$7*COS(I3)+$B$7 -> 0.61175341 | L3: =$B$8*SIN(I3)+$B$7+$B$6 -> 1.676134 | M3: =$B$8*COS(I3)+$B$8 -> 0.59975432 | N3: =$B$16/100*H3+$B$7 -> 0.3112 | O3: =$B$17/100*H3+$B$7 -> 0.30685 | P3: cog + rider X | Q3: =$D$20*SIN(I3)+$B$7 -> 0.3076197 | R3: =$D$20*COS(I3)+$B$7 -> 0.4044218 | S3: =$D$21*SIN(I3)+$N$102+0.1275 -> 0.96410552 | T3: =$D$21*COS(I3)+$O$102+0.002 -> 0.4433192 | U3: =$B$6+$B$7-(($B$22*SIN(RADIANS($B$15)))/100)*H3 -> 1.6680122 | V3: =$B$7+(($B$22*SIN(RADIANS(180-90-$B$15)))/100)*H3 -> 0.31238617 | W3: =($S$2-$Q$2)/100*H3+$Q$2 -> 0.312475 | X3: =($T$2-$R$2)/100*H3+$R$2 -> 0.40482569 | Y3: =$B$16/100*H103+$B$7 -> 0.8412 | Z3: =$B$17/100*H103+$B$7 -> 0.40185
A4: rear wheel | B4: 64.6 | C4: 101.9 | D4: 61.5 | E4: 92.5 | H4: =H3+1 -> 2 | I4: =RADIANS(H4) -> 0.034906585 | J4: =$B$7*SIN(I4)+$B$7 -> 0.31657576 | K4: =$B$7*COS(I4)+$B$7 -> 0.61161365 | L4: =$B$8*SIN(I4)+$B$7+$B$6 -> 1.6813664 | M4: =$B$8*COS(I4)+$B$8 -> 0.59961731 | N4: =$B$16/100*H4+$B$7 -> 0.3165 | O4: =$B$17/100*H4+$B$7 -> 0.3078 | P4: =B7+B6-D12 -> 0.97017708 | Q4: =$D$20*SIN(I4)+$B$7 -> 0.30933888 | R4: =$D$20*COS(I4)+$B$7 -> 0.40437678 | S4: =$D$21*SIN(I4)+$N$102+0.1275 -> 0.96481082 | T4: =$D$21*COS(I4)+$O$102+0.002 -> 0.44330073 | U4: =$B$6+$B$7-(($B$22*SIN(RADIANS($B$15)))/100)*H4 -> 1.6651243 | V4: =$B$7+(($B$22*SIN(RADIANS(180-90-$B$15)))/100)*H4 -> 0.31887235 | W4: =($S$2-$Q$2)/100*H4+$Q$2 -> 0.31905 | X4: =($T$2-$R$2)/100*H4+$R$2 -> 0.40521458 | Y4: =$B$16/100*H104+$B$7 -> 0.8465 | Z4: =$B$17/100*H104+$B$7 -> 0.4028
H5: =H4+1 -> 3 | I5: =RADIANS(H5) -> 0.052359878 | J5: =$B$7*SIN(I5)+$B$7 -> 0.32190957 | K5: =$B$7*COS(I5)+$B$7 -> 0.61138077 | L5: =$B$8*SIN(I5)+$B$7+$B$6 -> 1.6865956 | M5: =$B$8*COS(I5)+$B$8 -> 0.599389 | N5: =$B$16/100*H5+$B$7 -> 0.3218 | O5: =$B$17/100*H5+$B$7 -> 0.30875 | Q5: =$D$20*SIN(I5)+$B$7 -> 0.31105702 | R5: =$D$20*COS(I5)+$B$7 -> 0.40430176 | S5: =$D$21*SIN(I5)+$N$102+0.1275 -> 0.9655157 | T5: =$D$21*COS(I5)+$O$102+0.002 -> 0.44326995 | U5: =$B$6+$B$7-(($B$22*SIN(RADIANS($B$15)))/100)*H5 -> 1.6622365 | V5: =$B$7+(($B$22*SIN(RADIANS(180-90-$B$15)))/100)*H5 -> 0.32535852 | W5: =($S$2-$Q$2)/100*H5+$Q$2 -> 0.325625 | X5: =($T$2-$R$2)/100*H5+$R$2 -> 0.40560346 | Y5: =$B$16/100*H105+$B$7 -> 0.8518 | Z5: =$B$17/100*H105+$B$7 -> 0.40375
A6: wheelbase | B6: 1.365 | D6: Weight of bike | E6: =B3+B4 -> 140.5 | H6: =H5+1 -> 4 | I6: =RADIANS(H6) -> 0.06981317 | J6: =$B$7*SIN(I6)+$B$7 -> 0.32723851 | K6: =$B$7*COS(I6)+$B$7 -> 0.61105484 | L6: =$B$8*SIN(I6)+$B$7+$B$6 -> 1.69182 | M6: =$B$8*COS(I6)+$B$8 -> 0.59906946 | N6: =$B$16/100*H6+$B$7 -> 0.3271 | O6: =$B$17/100*H6+$B$7 -> 0.3097 | Q6: =$D$20*SIN(I6)+$B$7 -> 0.31277358 | R6: =$D$20*COS(I6)+$B$7 -> 0.40419677 | S6: =$D$21*SIN(I6)+$N$102+0.1275 -> 0.96621993 | T6: =$D$21*COS(I6)+$O$102+0.002 -> 0.44322688 | U6: =$B$6+$B$7-(($B$22*SIN(RADIANS($B$15)))/100)*H6 -> 1.6593487 | V6: =$B$7+(($B$22*SIN(RADIANS(180-90-$B$15)))/100)*H6 -> 0.33184469 | W6: =($S$2-$Q$2)/100*H6+$Q$2 -> 0.3322 | X6: =($T$2-$R$2)/100*H6+$R$2 -> 0.40599235 | Y6: =$B$16/100*H106+$B$7 -> 0.8571 | Z6: =$B$17/100*H106+$B$7 -> 0.4047
A7: Rw Rad | B7: =(17*0.0254/2)+(0.15/100*60) -> 0.3059 | D7: Rider Weight | E7: 58 | H7: =H6+1 -> 5 | I7: =RADIANS(H7) -> 0.087266463 | J7: =$B$7*SIN(I7)+$B$7 -> 0.33256094 | K7: =$B$7*COS(I7)+$B$7 -> 0.61063596 | L7: =$B$8*SIN(I7)+$B$7+$B$6 -> 1.697038 | M7: =$B$8*COS(I7)+$B$8 -> 0.59865879 | N7: =$B$16/100*H7+$B$7 -> 0.3324 | O7: =$B$17/100*H7+$B$7 -> 0.31065 | Q7: =$D$20*SIN(I7)+$B$7 -> 0.31448805 | R7: =$D$20*COS(I7)+$B$7 -> 0.40406184 | S7: =$D$21*SIN(I7)+$N$102+0.1275 -> 0.9669233 | T7: =$D$21*COS(I7)+$O$102+0.002 -> 0.44317152 | U7: =$B$6+$B$7-(($B$22*SIN(RADIANS($B$15)))/100)*H7 -> 1.6564608 | V7: =$B$7+(($B$22*SIN(RADIANS(180-90-$B$15)))/100)*H7 -> 0.33833086 | W7: =($S$2-$Q$2)/100*H7+$Q$2 -> 0.338775 | X7: =($T$2-$R$2)/100*H7+$R$2 -> 0.40638123 | Y7: =$B$16/100*H107+$B$7 -> 0.8624 | Z7: =$B$17/100*H107+$B$7 -> 0.40565
A8: Fw Rad | B8: =(17*0.0254/2)+(0.12/100*70) -> 0.2999 | D8: Total Weight | E8: =E7+E6 -> 198.5 | H8: =H7+1 -> 6 | I8: =RADIANS(H8) -> 0.10471976 | J8: =$B$7*SIN(I8)+$B$7 -> 0.33787526 | K8: =$B$7*COS(I8)+$B$7 -> 0.61012425 | L8: =$B$8*SIN(I8)+$B$7+$B$6 -> 1.7022481 | M8: =$B$8*COS(I8)+$B$8 -> 0.59815712 | N8: =$B$16/100*H8+$B$7 -> 0.3377 | O8: =$B$17/100*H8+$B$7 -> 0.3116 | Q8: =$D$20*SIN(I8)+$B$7 -> 0.3161999 | R8: =$D$20*COS(I8)+$B$7 -> 0.40389701 | S8: =$D$21*SIN(I8)+$N$102+0.1275 -> 0.9676256 | T8: =$D$21*COS(I8)+$O$102+0.002 -> 0.4431039 | U8: =$B$6+$B$7-(($B$22*SIN(RADIANS($B$15)))/100)*H8 -> 1.653573 | V8: =$B$7+(($B$22*SIN(RADIANS(180-90-$B$15)))/100)*H8 -> 0.34481704 | W8: =($S$2-$Q$2)/100*H8+$Q$2 -> 0.34535 | X8: =($T$2-$R$2)/100*H8+$R$2 -> 0.40677012 | Y8: =$B$16/100*H108+$B$7 -> 0.8677 | Z8: =$B$17/100*H108+$B$7 -> 0.4066
A9: Rav | B9: =(B7+B8)/2 -> 0.3029 | H9: =H8+1 -> 7 | I9: =RADIANS(H9) -> 0.12217305 | J9: =$B$7*SIN(I9)+$B$7 -> 0.34317983 | K9: =$B$7*COS(I9)+$B$7 -> 0.60951987 | L9: =$B$8*SIN(I9)+$B$7+$B$6 -> 1.7074486 | M9: =$B$8*COS(I9)+$B$8 -> 0.59756459 | N9: =$B$16/100*H9+$B$7 -> 0.343 | O9: =$B$17/100*H9+$B$7 -> 0.31255 | Q9: =$D$20*SIN(I9)+$B$7 -> 0.31790862 | R9: =$D$20*COS(I9)+$B$7 -> 0.40370233 | S9: =$D$21*SIN(I9)+$N$102+0.1275 -> 0.96832661 | T9: =$D$21*COS(I9)+$O$102+0.002 -> 0.44302403 | U9: =$B$6+$B$7-(($B$22*SIN(RADIANS($B$15)))/100)*H9 -> 1.6506852 | V9: =$B$7+(($B$22*SIN(RADIANS(180-90-$B$15)))/100)*H9 -> 0.35130321 | W9: =($S$2-$Q$2)/100*H9+$Q$2 -> 0.351925 | X9: =($T$2-$R$2)/100*H9+$R$2 -> 0.407159 | Y9: =$B$16/100*H109+$B$7 -> 0.873 | Z9: =$B$17/100*H109+$B$7 -> 0.40755
A10: Stool Hight | B10: 0.31 | H10: =H9+1 -> 8 | I10: =RADIANS(H10) -> 0.13962634 | J10: =$B$7*SIN(I10)+$B$7 -> 0.34847305 | K10: =$B$7*COS(I10)+$B$7 -> 0.608823 | L10: =$B$8*SIN(I10)+$B$7+$B$6 -> 1.712638 | M10: =$B$8*COS(I10)+$B$8 -> 0.59688139 | N10: =$B$16/100*H10+$B$7 -> 0.3483 | O10: =$B$17/100*H10+$B$7 -> 0.3135 | Q10: =$D$20*SIN(I10)+$B$7 -> 0.31961367 | R10: =$D$20*COS(I10)+$B$7 -> 0.40347785 | S10: =$D$21*SIN(I10)+$N$102+0.1275 -> 0.96902612 | T10: =$D$21*COS(I10)+$O$102+0.002 -> 0.44293194 | U10: =$B$6+$B$7-(($B$22*SIN(RADIANS($B$15)))/100)*H10 -> 1.6477974 | V10: =$B$7+(($B$22*SIN(RADIANS(180-90-$B$15)))/100)*H10 -> 0.35778938 | W10: =($S$2-$Q$2)/100*H10+$Q$2 -> 0.3585 | X10: =($T$2-$R$2)/100*H10+$R$2 -> 0.40754789 | Y10: =$B$16/100*H110+$B$7 -> 0.8783 | Z10: =$B$17/100*H110+$B$7 -> 0.4085
A11: Lifted angle | B11: =DEGREES(ASIN(B10/B6)) -> 13.126763 | H11: =H10+1 -> 9 | I11: =RADIANS(H11) -> 0.15707963 | J11: =$B$7*SIN(I11)+$B$7 -> 0.3537533 | K11: =$B$7*COS(I11)+$B$7 -> 0.60803386 | L11: =$B$8*SIN(I11)+$B$7+$B$6 -> 1.7178147 | M11: =$B$8*COS(I11)+$B$8 -> 0.59610773 | N11: =$B$16/100*H11+$B$7 -> 0.3536 | O11: =$B$17/100*H11+$B$7 -> 0.31445 | Q11: =$D$20*SIN(I11)+$B$7 -> 0.32131455 | R11: =$D$20*COS(I11)+$B$7 -> 0.40322365 | S11: =$D$21*SIN(I11)+$N$102+0.1275 -> 0.96972392 | T11: =$D$21*COS(I11)+$O$102+0.002 -> 0.44282765 | U11: =$B$6+$B$7-(($B$22*SIN(RADIANS($B$15)))/100)*H11 -> 1.6449095 | V11: =$B$7+(($B$22*SIN(RADIANS(180-90-$B$15)))/100)*H11 -> 0.36427555 | W11: =($S$2-$Q$2)/100*H11+$Q$2 -> 0.365075 | X11: =($T$2-$R$2)/100*H11+$R$2 -> 0.40793677 | Y11: =$B$16/100*H111+$B$7 -> 0.8836 | Z11: =$B$17/100*H111+$B$7 -> 0.40945
A12: Cog X | B12: =(B4)*(B6)/E6 -> 0.62760854 | C12: Cog X+rider | D12: =(C4)*(B6)/E8 -> 0.70072292 | H12: =H11+1 -> 10 | I12: =RADIANS(H12) -> 0.17453293 | J12: =$B$7*SIN(I12)+$B$7 -> 0.35901898 | K12: =$B$7*COS(I12)+$B$7 -> 0.60715269 | L12: =$B$8*SIN(I12)+$B$7+$B$6 -> 1.7229771 | M12: =$B$8*COS(I12)+$B$8 -> 0.59524385 | N12: =$B$16/100*H12+$B$7 -> 0.3589 | O12: =$B$17/100*H12+$B$7 -> 0.3154 | Q12: =$D$20*SIN(I12)+$B$7 -> 0.32301074 | R12: =$D$20*COS(I12)+$B$7 -> 0.40293981 | S12: =$D$21*SIN(I12)+$N$102+0.1275 -> 0.97041979 | T12: =$D$21*COS(I12)+$O$102+0.002 -> 0.4427112 | U12: =$B$6+$B$7-(($B$22*SIN(RADIANS($B$15)))/100)*H12 -> 1.6420217 | V12: =$B$7+(($B$22*SIN(RADIANS(180-90-$B$15)))/100)*H12 -> 0.37076173 | W12: =($S$2-$Q$2)/100*H12+$Q$2 -> 0.37165 | X12: =($T$2-$R$2)/100*H12+$R$2 -> 0.40832566 | Y12: =$B$16/100*H112+$B$7 -> 0.8889 | Z12: =$B$17/100*H112+$B$7 -> 0.4104
A13: Cog Y | B13: =((B6)*(B4-D4))/((E6)*TAN(RADIANS(B11)))+B9 -> 0.43204868 | C13: Cog Y+rider | D13: =((B6)*(C4-E4))/((E8)*TAN(RADIANS(B11)))+B9 -> 0.58008641 | H13: =H12+1 -> 11 | I13: =RADIANS(H13) -> 0.19198622 | J13: =$B$7*SIN(I13)+$B$7 -> 0.36426847 | K13: =$B$7*COS(I13)+$B$7 -> 0.60617976 | L13: =$B$8*SIN(I13)+$B$7+$B$6 -> 1.7281236 | M13: =$B$8*COS(I13)+$B$8 -> 0.59428999 | N13: =$B$16/100*H13+$B$7 -> 0.3642 | O13: =$B$17/100*H13+$B$7 -> 0.31635 | Q13: =$D$20*SIN(I13)+$B$7 -> 0.32470171 | R13: =$D$20*COS(I13)+$B$7 -> 0.40262641 | S13: =$D$21*SIN(I13)+$N$102+0.1275 -> 0.97111352 | T13: =$D$21*COS(I13)+$O$102+0.002 -> 0.44258263 | U13: =$B$6+$B$7-(($B$22*SIN(RADIANS($B$15)))/100)*H13 -> 1.6391339 | V13: =$B$7+(($B$22*SIN(RADIANS(180-90-$B$15)))/100)*H13 -> 0.3772479 | W13: =($S$2-$Q$2)/100*H13+$Q$2 -> 0.378225 | X13: =($T$2-$R$2)/100*H13+$R$2 -> 0.40871454 | Y13: =$B$16/100*H113+$B$7 -> 0.8942 | Z13: =$B$17/100*H113+$B$7 -> 0.41135
A14: trail | B14: =((B8)*(SIN(RADIANS(B15)))-B23)/(COS(RADIANS(B15))) -> 0.099590358 | H14: =H13+1 -> 12 | I14: =RADIANS(H14) -> 0.20943951 | J14: =$B$7*SIN(I14)+$B$7 -> 0.36950019 | K14: =$B$7*COS(I14)+$B$7 -> 0.60511535 | L14: =$B$8*SIN(I14)+$B$7+$B$6 -> 1.7332527 | M14: =$B$8*COS(I14)+$B$8 -> 0.59324647 | N14: =$B$16/100*H14+$B$7 -> 0.3695 | O14: =$B$17/100*H14+$B$7 -> 0.3173 | Q14: =$D$20*SIN(I14)+$B$7 -> 0.32638695 | R14: =$D$20*COS(I14)+$B$7 -> 0.40228354 | S14: =$D$21*SIN(I14)+$N$102+0.1275 -> 0.9718049 | T14: =$D$21*COS(I14)+$O$102+0.002 -> 0.44244196 | U14: =$B$6+$B$7-(($B$22*SIN(RADIANS($B$15)))/100)*H14 -> 1.636246 | V14: =$B$7+(($B$22*SIN(RADIANS(180-90-$B$15)))/100)*H14 -> 0.38373407 | W14: =($S$2-$Q$2)/100*H14+$Q$2 -> 0.3848 | X14: =($T$2-$R$2)/100*H14+$R$2 -> 0.40910343 | Y14: =$B$16/100*H114+$B$7 -> 0.8995 | Z14: =$B$17/100*H114+$B$7 -> 0.4123
A15: rake | B15: 24 | H15: =H14+1 -> 13 | I15: =RADIANS(H15) -> 0.2268928 | J15: =$B$7*SIN(I15)+$B$7 -> 0.37471253 | K15: =$B$7*COS(I15)+$B$7 -> 0.6039598 | L15: =$B$8*SIN(I15)+$B$7+$B$6 -> 1.7383628 | M15: =$B$8*COS(I15)+$B$8 -> 0.59211358 | N15: =$B$16/100*H15+$B$7 -> 0.3748 | O15: =$B$17/100*H15+$B$7 -> 0.31825 | Q15: =$D$20*SIN(I15)+$B$7 -> 0.32806596 | R15: =$D$20*COS(I15)+$B$7 -> 0.40191131 | S15: =$D$21*SIN(I15)+$N$102+0.1275 -> 0.97249373 | T15: =$D$21*COS(I15)+$O$102+0.002 -> 0.44228926 | U15: =$B$6+$B$7-(($B$22*SIN(RADIANS($B$15)))/100)*H15 -> 1.6333582 | V15: =$B$7+(($B$22*SIN(RADIANS(180-90-$B$15)))/100)*H15 -> 0.39022025 | W15: =($S$2-$Q$2)/100*H15+$Q$2 -> 0.391375 | X15: =($T$2-$R$2)/100*H15+$R$2 -> 0.40949232 | Y15: =$B$16/100*H115+$B$7 -> 0.9048 | Z15: =$B$17/100*H115+$B$7 -> 0.41325
A16: swing arm length | B16: 0.53 | H16: =H15+1 -> 14 | I16: =RADIANS(H16) -> 0.2443461 | J16: =$B$7*SIN(I16)+$B$7 -> 0.37990391 | K16: =$B$7*COS(I16)+$B$7 -> 0.60271346 | L16: =$B$8*SIN(I16)+$B$7+$B$6 -> 1.7434524 | M16: =$B$8*COS(I16)+$B$8 -> 0.59089169 | N16: =$B$16/100*H16+$B$7 -> 0.3801 | O16: =$B$17/100*H16+$B$7 -> 0.3192 | Q16: =$D$20*SIN(I16)+$B$7 -> 0.32973821 | R16: =$D$20*COS(I16)+$B$7 -> 0.40150984 | S16: =$D$21*SIN(I16)+$N$102+0.1275 -> 0.97317978 | T16: =$D$21*COS(I16)+$O$102+0.002 -> 0.44212455 | U16: =$B$6+$B$7-(($B$22*SIN(RADIANS($B$15)))/100)*H16 -> 1.6304704 | V16: =$B$7+(($B$22*SIN(RADIANS(180-90-$B$15)))/100)*H16 -> 0.39670642 | W16: =($S$2-$Q$2)/100*H16+$Q$2 -> 0.39795 | X16: =($T$2-$R$2)/100*H16+$R$2 -> 0.4098812 | Y16: =$B$16/100*H116+$B$7 -> 0.9101 | Z16: =$B$17/100*H116+$B$7 -> 0.4142
A17: rear ride hight | B17: =0.095 -> 0.095 | H17: =H16+1 -> 15 | I17: =RADIANS(H17) -> 0.26179939 | J17: =$B$7*SIN(I17)+$B$7 -> 0.38507275 | K17: =$B$7*COS(I17)+$B$7 -> 0.60137671 | L17: =$B$8*SIN(I17)+$B$7+$B$6 -> 1.7485198 | M17: =$B$8*COS(I17)+$B$8 -> 0.58958116 | N17: =$B$16/100*H17+$B$7 -> 0.3854 | O17: =$B$17/100*H17+$B$7 -> 0.32015 | Q17: =$D$20*SIN(I17)+$B$7 -> 0.3314032 | R17: =$D$20*COS(I17)+$B$7 -> 0.40107924 | S17: =$D$21*SIN(I17)+$N$102+0.1275 -> 0.97386285 | T17: =$D$21*COS(I17)+$O$102+0.002 -> 0.44194789 | U17: =$B$6+$B$7-(($B$22*SIN(RADIANS($B$15)))/100)*H17 -> 1.6275825 | V17: =$B$7+(($B$22*SIN(RADIANS(180-90-$B$15)))/100)*H17 -> 0.40319259 | W17: =($S$2-$Q$2)/100*H17+$Q$2 -> 0.404525 | X17: =($T$2-$R$2)/100*H17+$R$2 -> 0.41027009 | Y17: =$B$16/100*H117+$B$7 -> 0.9154 | Z17: =$B$17/100*H117+$B$7 -> 0.41515
A18: front ride hight | B18: 0.013 | H18: =H17+1 -> 16 | I18: =RADIANS(H18) -> 0.27925268 | J18: =$B$7*SIN(I18)+$B$7 -> 0.39021747 | K18: =$B$7*COS(I18)+$B$7 -> 0.59994995 | L18: =$B$8*SIN(I18)+$B$7+$B$6 -> 1.7535636 | M18: =$B$8*COS(I18)+$B$8 -> 0.58818238 | N18: =$B$16/100*H18+$B$7 -> 0.3907 | O18: =$B$17/100*H18+$B$7 -> 0.3211 | Q18: =$D$20*SIN(I18)+$B$7 -> 0.33306042 | R18: =$D$20*COS(I18)+$B$7 -> 0.40061966 | S18: =$D$21*SIN(I18)+$N$102+0.1275 -> 0.97454274 | T18: =$D$21*COS(I18)+$O$102+0.002 -> 0.44175935 | U18: =$B$6+$B$7-(($B$22*SIN(RADIANS($B$15)))/100)*H18 -> 1.6246947 | V18: =$B$7+(($B$22*SIN(RADIANS(180-90-$B$15)))/100)*H18 -> 0.40967876 | W18: =($S$2-$Q$2)/100*H18+$Q$2 -> 0.4111 | X18: =($T$2-$R$2)/100*H18+$R$2 -> 0.41065897 | Y18: =$B$16/100*H118+$B$7 -> 0.9207 | Z18: =$B$17/100*H118+$B$7 -> 0.4161
A19: chain pitch | B19: 0.015875 | H19: =H18+1 -> 17 | I19: =RADIANS(H19) -> 0.29670597 | J19: =$B$7*SIN(I19)+$B$7 -> 0.3953365 | K19: =$B$7*COS(I19)+$B$7 -> 0.59843362 | L19: =$B$8*SIN(I19)+$B$7+$B$6 -> 1.7585823 | M19: =$B$8*COS(I19)+$B$8 -> 0.5866958 | N19: =$B$16/100*H19+$B$7 -> 0.396 | O19: =$B$17/100*H19+$B$7 -> 0.32205 | Q19: =$D$20*SIN(I19)+$B$7 -> 0.33470937 | R19: =$D$20*COS(I19)+$B$7 -> 0.40013121 | S19: =$D$21*SIN(I19)+$N$102+0.1275 -> 0.97521923 | T19: =$D$21*COS(I19)+$O$102+0.002 -> 0.44155896 | U19: =$B$6+$B$7-(($B$22*SIN(RADIANS($B$15)))/100)*H19 -> 1.6218069 | V19: =$B$7+(($B$22*SIN(RADIANS(180-90-$B$15)))/100)*H19 -> 0.41616494 | W19: =($S$2-$Q$2)/100*H19+$Q$2 -> 0.417675 | X19: =($T$2-$R$2)/100*H19+$R$2 -> 0.41104786 | Y19: =$B$16/100*H119+$B$7 -> 0.926 | Z19: =$B$17/100*H119+$B$7 -> 0.41705
A20: rear sprocket - | B20: 39 | C20: radius - | D20: =($B$19*B20/PI())/2 -> 0.098536804 | H20: =H19+1 -> 18 | I20: =RADIANS(H20) -> 0.31415927 | J20: =$B$7*SIN(I20)+$B$7 -> 0.4004283 | K20: =$B$7*COS(I20)+$B$7 -> 0.59682819 | L20: =$B$8*SIN(I20)+$B$7+$B$6 -> 1.7635742 | M20: =$B$8*COS(I20)+$B$8 -> 0.58512185 | N20: =$B$16/100*H20+$B$7 -> 0.4013 | O20: =$B$17/100*H20+$B$7 -> 0.323 | Q20: =$D$20*SIN(I20)+$B$7 -> 0.33634955 | R20: =$D$20*COS(I20)+$B$7 -> 0.39961407 | S20: =$D$21*SIN(I20)+$N$102+0.1275 -> 0.97589212 | T20: =$D$21*COS(I20)+$O$102+0.002 -> 0.4413468 | U20: =$B$6+$B$7-(($B$22*SIN(RADIANS($B$15)))/100)*H20 -> 1.6189191 | V20: =$B$7+(($B$22*SIN(RADIANS(180-90-$B$15)))/100)*H20 -> 0.42265111 | W20: =($S$2-$Q$2)/100*H20+$Q$2 -> 0.42425 | X20: =($T$2-$R$2)/100*H20+$R$2 -> 0.41143674 | Y20: =$B$16/100*H120+$B$7 -> 0.9313 | Z20: =$B$17/100*H120+$B$7 -> 0.418
A21: front sprocket - | B21: 16 | C21: radius - | D21: =($B$19*B21/PI())/2 -> 0.040425356 | H21: =H20+1 -> 19 | I21: =RADIANS(H21) -> 0.33161256 | J21: =$B$7*SIN(I21)+$B$7 -> 0.4054913 | K21: =$B$7*COS(I21)+$B$7 -> 0.59513413 | L21: =$B$8*SIN(I21)+$B$7+$B$6 -> 1.7685379 | M21: =$B$8*COS(I21)+$B$8 -> 0.58346102 | N21: =$B$16/100*H21+$B$7 -> 0.4066 | O21: =$B$17/100*H21+$B$7 -> 0.32395 | Q21: =$D$20*SIN(I21)+$B$7 -> 0.33798045 | R21: =$D$20*COS(I21)+$B$7 -> 0.39906838 | S21: =$D$21*SIN(I21)+$N$102+0.1275 -> 0.97656121 | T21: =$D$21*COS(I21)+$O$102+0.002 -> 0.44112292 | U21: =$B$6+$B$7-(($B$22*SIN(RADIANS($B$15)))/100)*H21 -> 1.6160312 | V21: =$B$7+(($B$22*SIN(RADIANS(180-90-$B$15)))/100)*H21 -> 0.42913728 | W21: =($S$2-$Q$2)/100*H21+$Q$2 -> 0.430825 | X21: =($T$2-$R$2)/100*H21+$R$2 -> 0.41182563 | Y21: =$B$16/100*H121+$B$7 -> 0.9366 | Z21: =$B$17/100*H121+$B$7 -> 0.41895
A22: fork length | B22: 0.71 | H22: =H21+1 -> 20 | I22: =RADIANS(H22) -> 0.34906585 | J22: =$B$7*SIN(I22)+$B$7 -> 0.41052396 | K22: =$B$7*COS(I22)+$B$7 -> 0.59335197 | L22: =$B$8*SIN(I22)+$B$7+$B$6 -> 1.7734718 | M22: =$B$8*COS(I22)+$B$8 -> 0.58171382 | N22: =$B$16/100*H22+$B$7 -> 0.4119 | O22: =$B$17/100*H22+$B$7 -> 0.3249 | Q22: =$D$20*SIN(I22)+$B$7 -> 0.33960157 | R22: =$D$20*COS(I22)+$B$7 -> 0.39849431 | S22: =$D$21*SIN(I22)+$N$102+0.1275 -> 0.97722629 | T22: =$D$21*COS(I22)+$O$102+0.002 -> 0.44088741 | U22: =$B$6+$B$7-(($B$22*SIN(RADIANS($B$15)))/100)*H22 -> 1.6131434 | V22: =$B$7+(($B$22*SIN(RADIANS(180-90-$B$15)))/100)*H22 -> 0.43562345 | W22: =($S$2-$Q$2)/100*H22+$Q$2 -> 0.4374 | X22: =($T$2-$R$2)/100*H22+$R$2 -> 0.41221451 | Y22: =$B$16/100*H122+$B$7 -> 0.9419 | Z22: =$B$17/100*H122+$B$7 -> 0.4199
A23: fork offset | B23: 0.031 | H23: =H22+1 -> 21 | I23: =RADIANS(H23) -> 0.36651914 | J23: =$B$7*SIN(I23)+$B$7 -> 0.41552476 | K23: =$B$7*COS(I23)+$B$7 -> 0.59148225 | L23: =$B$8*SIN(I23)+$B$7+$B$6 -> 1.7783745 | M23: =$B$8*COS(I23)+$B$8 -> 0.57988077 | N23: =$B$16/100*H23+$B$7 -> 0.4172 | O23: =$B$17/100*H23+$B$7 -> 0.32585 | Q23: =$D$20*SIN(I23)+$B$7 -> 0.34121243 | R23: =$D$20*COS(I23)+$B$7 -> 0.39789203 | S23: =$D$21*SIN(I23)+$N$102+0.1275 -> 0.97788715 | T23: =$D$21*COS(I23)+$O$102+0.002 -> 0.44064032 | U23: =$B$6+$B$7-(($B$22*SIN(RADIANS($B$15)))/100)*H23 -> 1.6102556 | V23: =$B$7+(($B$22*SIN(RADIANS(180-90-$B$15)))/100)*H23 -> 0.44210963 | W23: =($S$2-$Q$2)/100*H23+$Q$2 -> 0.443975 | X23: =($T$2-$R$2)/100*H23+$R$2 -> 0.4126034 | Y23: =$B$16/100*H123+$B$7 -> 0.9472 | Z23: =$B$17/100*H123+$B$7 -> 0.42085
H24: =H23+1 -> 22 | I24: =RADIANS(H24) -> 0.38397244 | J24: =$B$7*SIN(I24)+$B$7 -> 0.42049216 | K24: =$B$7*COS(I24)+$B$7 -> 0.58952554 | L24: =$B$8*SIN(I24)+$B$7+$B$6 -> 1.7832445 | M24: =$B$8*COS(I24)+$B$8 -> 0.57796244 | N24: =$B$16/100*H24+$B$7 -> 0.4225 | O24: =$B$17/100*H24+$B$7 -> 0.3268 | Q24: =$D$20*SIN(I24)+$B$7 -> 0.34281254 | R24: =$D$20*COS(I24)+$B$7 -> 0.39726173 | S24: =$D$21*SIN(I24)+$N$102+0.1275 -> 0.9785436 | T24: =$D$21*COS(I24)+$O$102+0.002 -> 0.44038174 | U24: =$B$6+$B$7-(($B$22*SIN(RADIANS($B$15)))/100)*H24 -> 1.6073677 | V24: =$B$7+(($B$22*SIN(RADIANS(180-90-$B$15)))/100)*H24 -> 0.4485958 | W24: =($S$2-$Q$2)/100*H24+$Q$2 -> 0.45055 | X24: =($T$2-$R$2)/100*H24+$R$2 -> 0.41299229 | Y24: =$B$16/100*H124+$B$7 -> 0.9525 | Z24: =$B$17/100*H124+$B$7 -> 0.4218
H25: =H24+1 -> 23 | I25: =RADIANS(H25) -> 0.40142573 | J25: =$B$7*SIN(I25)+$B$7 -> 0.42542465 | K25: =$B$7*COS(I25)+$B$7 -> 0.58748243 | L25: =$B$8*SIN(I25)+$B$7+$B$6 -> 1.7880803 | M25: =$B$8*COS(I25)+$B$8 -> 0.57595941 | N25: =$B$16/100*H25+$B$7 -> 0.4278 | O25: =$B$17/100*H25+$B$7 -> 0.32775 | Q25: =$D$20*SIN(I25)+$B$7 -> 0.3444014 | R25: =$D$20*COS(I25)+$B$7 -> 0.39660361 | S25: =$D$21*SIN(I25)+$N$102+0.1275 -> 0.97919544 | T25: =$D$21*COS(I25)+$O$102+0.002 -> 0.44011174 | U25: =$B$6+$B$7-(($B$22*SIN(RADIANS($B$15)))/100)*H25 -> 1.6044799 | V25: =$B$7+(($B$22*SIN(RADIANS(180-90-$B$15)))/100)*H25 -> 0.45508197 | W25: =($S$2-$Q$2)/100*H25+$Q$2 -> 0.457125 | X25: =($T$2-$R$2)/100*H25+$R$2 -> 0.41338117 | Y25: =$B$16/100*H125+$B$7 -> 0.9578 | Z25: =$B$17/100*H125+$B$7 -> 0.42275
H26: =H25+1 -> 24 | I26: =RADIANS(H26) -> 0.41887902 | J26: =$B$7*SIN(I26)+$B$7 -> 0.43032074 | K26: =$B$7*COS(I26)+$B$7 -> 0.58535356 | L26: =$B$8*SIN(I26)+$B$7+$B$6 -> 1.7928803 | M26: =$B$8*COS(I26)+$B$8 -> 0.57387228 | N26: =$B$16/100*H26+$B$7 -> 0.4331 | O26: =$B$17/100*H26+$B$7 -> 0.3287 | Q26: =$D$20*SIN(I26)+$B$7 -> 0.34597853 | R26: =$D$20*COS(I26)+$B$7 -> 0.39591785 | S26: =$D$21*SIN(I26)+$N$102+0.1275 -> 0.97984247 | T26: =$D$21*COS(I26)+$O$102+0.002 -> 0.4398304 | U26: =$B$6+$B$7-(($B$22*SIN(RADIANS($B$15)))/100)*H26 -> 1.6015921 | V26: =$B$7+(($B$22*SIN(RADIANS(180-90-$B$15)))/100)*H26 -> 0.46156815 | W26: =($S$2-$Q$2)/100*H26+$Q$2 -> 0.4637 | X26: =($T$2-$R$2)/100*H26+$R$2 -> 0.41377006 | Y26: =$B$16/100*H126+$B$7 -> 0.9631 | Z26: =$B$17/100*H126+$B$7 -> 0.4237
H27: =H26+1 -> 25 | I27: =RADIANS(H27) -> 0.43633231 | J27: =$B$7*SIN(I27)+$B$7 -> 0.43517893 | K27: =$B$7*COS(I27)+$B$7 -> 0.58313955 | L27: =$B$8*SIN(I27)+$B$7+$B$6 -> 1.7976432 | M27: =$B$8*COS(I27)+$B$8 -> 0.57170171 | N27: =$B$16/100*H27+$B$7 -> 0.4384 | O27: =$B$17/100*H27+$B$7 -> 0.32965 | Q27: =$D$20*SIN(I27)+$B$7 -> 0.34754345 | R27: =$D$20*COS(I27)+$B$7 -> 0.39520467 | S27: =$D$21*SIN(I27)+$N$102+0.1275 -> 0.98048449 | T27: =$D$21*COS(I27)+$O$102+0.002 -> 0.43953781 | U27: =$B$6+$B$7-(($B$22*SIN(RADIANS($B$15)))/100)*H27 -> 1.5987042 | V27: =$B$7+(($B$22*SIN(RADIANS(180-90-$B$15)))/100)*H27 -> 0.46805432 | W27: =($S$2-$Q$2)/100*H27+$Q$2 -> 0.470275 | X27: =($T$2-$R$2)/100*H27+$R$2 -> 0.41415894 | Y27: =$B$16/100*H127+$B$7 -> 0.9684 | Z27: =$B$17/100*H127+$B$7 -> 0.42465
H28: =H27+1 -> 26 | I28: =RADIANS(H28) -> 0.45378561 | J28: =$B$7*SIN(I28)+$B$7 -> 0.43999773 | K28: =$B$7*COS(I28)+$B$7 -> 0.5808411 | L28: =$B$8*SIN(I28)+$B$7+$B$6 -> 1.8023675 | M28: =$B$8*COS(I28)+$B$8 -> 0.56944833 | N28: =$B$16/100*H28+$B$7 -> 0.4437 | O28: =$B$17/100*H28+$B$7 -> 0.3306 | Q28: =$D$20*SIN(I28)+$B$7 -> 0.34909569 | R28: =$D$20*COS(I28)+$B$7 -> 0.39446429 | S28: =$D$21*SIN(I28)+$N$102+0.1275 -> 0.98112131 | T28: =$D$21*COS(I28)+$O$102+0.002 -> 0.43923407 | U28: =$B$6+$B$7-(($B$22*SIN(RADIANS($B$15)))/100)*H28 -> 1.5958164 | V28: =$B$7+(($B$22*SIN(RADIANS(180-90-$B$15)))/100)*H28 -> 0.47454049 | W28: =($S$2-$Q$2)/100*H28+$Q$2 -> 0.47685 | X28: =($T$2-$R$2)/100*H28+$R$2 -> 0.41454783 | Y28: =$B$16/100*H128+$B$7 -> 0.9737 | Z28: =$B$17/100*H128+$B$7 -> 0.4256
H29: =H28+1 -> 27 | I29: =RADIANS(H29) -> 0.4712389 | J29: =$B$7*SIN(I29)+$B$7 -> 0.44477569 | K29: =$B$7*COS(I29)+$B$7 -> 0.5784589 | L29: =$B$8*SIN(I29)+$B$7+$B$6 -> 1.8070518 | M29: =$B$8*COS(I29)+$B$8 -> 0.56711286 | N29: =$B$16/100*H29+$B$7 -> 0.449 | O29: =$B$17/100*H29+$B$7 -> 0.33155 | Q29: =$D$20*SIN(I29)+$B$7 -> 0.35063477 | R29: =$D$20*COS(I29)+$B$7 -> 0.39369694 | S29: =$D$21*SIN(I29)+$N$102+0.1275 -> 0.98175273 | T29: =$D$21*COS(I29)+$O$102+0.002 -> 0.43891926 | U29: =$B$6+$B$7-(($B$22*SIN(RADIANS($B$15)))/100)*H29 -> 1.5929286 | V29: =$B$7+(($B$22*SIN(RADIANS(180-90-$B$15)))/100)*H29 -> 0.48102666 | W29: =($S$2-$Q$2)/100*H29+$Q$2 -> 0.483425 | X29: =($T$2-$R$2)/100*H29+$R$2 -> 0.41493671 | Y29: =$B$16/100*H129+$B$7 -> 0.979 | Z29: =$B$17/100*H129+$B$7 -> 0.42655
H30: =H29+1 -> 28 | I30: =RADIANS(H30) -> 0.48869219 | J30: =$B$7*SIN(I30)+$B$7 -> 0.44951135 | K30: =$B$7*COS(I30)+$B$7 -> 0.57599367 | L30: =$B$8*SIN(I30)+$B$7+$B$6 -> 1.8116945 | M30: =$B$8*COS(I30)+$B$8 -> 0.56469598 | N30: =$B$16/100*H30+$B$7 -> 0.4543 | O30: =$B$17/100*H30+$B$7 -> 0.3325 | Q30: =$D$20*SIN(I30)+$B$7 -> 0.35216023 | R30: =$D$20*COS(I30)+$B$7 -> 0.39290283 | S30: =$D$21*SIN(I30)+$N$102+0.1275 -> 0.98237855 | T30: =$D$21*COS(I30)+$O$102+0.002 -> 0.43859347 | U30: =$B$6+$B$7-(($B$22*SIN(RADIANS($B$15)))/100)*H30 -> 1.5900408 | V30: =$B$7+(($B$22*SIN(RADIANS(180-90-$B$15)))/100)*H30 -> 0.48751284 | W30: =($S$2-$Q$2)/100*H30+$Q$2 -> 0.49 | X30: =($T$2-$R$2)/100*H30+$R$2 -> 0.4153256 | Y30: =$B$16/100*H130+$B$7 -> 0.9843 | Z30: =$B$17/100*H130+$B$7 -> 0.4275
H31: =H30+1 -> 29 | I31: =RADIANS(H31) -> 0.50614548 | J31: =$B$7*SIN(I31)+$B$7 -> 0.45420326 | K31: =$B$7*COS(I31)+$B$7 -> 0.57344617 | L31: =$B$8*SIN(I31)+$B$7+$B$6 -> 1.8162944 | M31: =$B$8*COS(I31)+$B$8 -> 0.56219845 | N31: =$B$16/100*H31+$B$7 -> 0.4596 | O31: =$B$17/100*H31+$B$7 -> 0.33345 | Q31: =$D$20*SIN(I31)+$B$7 -> 0.35367159 | R31: =$D$20*COS(I31)+$B$7 -> 0.39208223 | S31: =$D$21*SIN(I31)+$N$102+0.1275 -> 0.9829986 | T31: =$D$21*COS(I31)+$O$102+0.002 -> 0.43825681 | U31: =$B$6+$B$7-(($B$22*SIN(RADIANS($B$15)))/100)*H31 -> 1.5871529 | V31: =$B$7+(($B$22*SIN(RADIANS(180-90-$B$15)))/100)*H31 -> 0.49399901 | W31: =($S$2-$Q$2)/100*H31+$Q$2 -> 0.496575 | X31: =($T$2-$R$2)/100*H31+$R$2 -> 0.41571448 | Y31: =$B$16/100*H131+$B$7 -> 0.9896 | Z31: =$B$17/100*H131+$B$7 -> 0.42845
H32: =H31+1 -> 30 | I32: =RADIANS(H32) -> 0.52359878 | J32: =$B$7*SIN(I32)+$B$7 -> 0.45885 | K32: =$B$7*COS(I32)+$B$7 -> 0.57081717 | L32: =$B$8*SIN(I32)+$B$7+$B$6 -> 1.82085 | M32: =$B$8*COS(I32)+$B$8 -> 0.55962102 | N32: =$B$16/100*H32+$B$7 -> 0.4649 | O32: =$B$17/100*H32+$B$7 -> 0.3344 | Q32: =$D$20*SIN(I32)+$B$7 -> 0.3551684 | R32: =$D$20*COS(I32)+$B$7 -> 0.39123538 | S32: =$D$21*SIN(I32)+$N$102+0.1275 -> 0.98361268 | T32: =$D$21*COS(I32)+$O$102+0.002 -> 0.43790938 | U32: =$B$6+$B$7-(($B$22*SIN(RADIANS($B$15)))/100)*H32 -> 1.5842651 | V32: =$B$7+(($B$22*SIN(RADIANS(180-90-$B$15)))/100)*H32 -> 0.50048518 | W32: =($S$2-$Q$2)/100*H32+$Q$2 -> 0.50315 | X32: =($T$2-$R$2)/100*H32+$R$2 -> 0.41610337 | Y32: =$B$16/100*H132+$B$7 -> 0.9949 | Z32: =$B$17/100*H132+$B$7 -> 0.4294
H33: =H32+1 -> 31 | I33: =RADIANS(H33) -> 0.54105207 | J33: =$B$7*SIN(I33)+$B$7 -> 0.46345015 | K33: =$B$7*COS(I33)+$B$7 -> 0.56810748 | L33: =$B$8*SIN(I33)+$B$7+$B$6 -> 1.8253599 | M33: =$B$8*COS(I33)+$B$8 -> 0.55696447 | N33: =$B$16/100*H33+$B$7 -> 0.4702 | O33: =$B$17/100*H33+$B$7 -> 0.33535 | Q33: =$D$20*SIN(I33)+$B$7 -> 0.35665021 | R33: =$D$20*COS(I33)+$B$7 -> 0.39036253 | S33: =$D$21*SIN(I33)+$N$102+0.1275 -> 0.9842206 | T33: =$D$21*COS(I33)+$O$102+0.002 -> 0.43755129 | U33: =$B$6+$B$7-(($B$22*SIN(RADIANS($B$15)))/100)*H33 -> 1.5813773 | V33: =$B$7+(($B$22*SIN(RADIANS(180-90-$B$15)))/100)*H33 -> 0.50697136 | W33: =($S$2-$Q$2)/100*H33+$Q$2 -> 0.509725 | X33: =($T$2-$R$2)/100*H33+$R$2 -> 0.41649226 | Y33: =$B$16/100*H133+$B$7 -> 1.0002 | Z33: =$B$17/100*H133+$B$7 -> 0.43035
H34: =H33+1 -> 32 | I34: =RADIANS(H34) -> 0.55850536 | J34: =$B$7*SIN(I34)+$B$7 -> 0.4680023 | K34: =$B$7*COS(I34)+$B$7 -> 0.56531791 | L34: =$B$8*SIN(I34)+$B$7+$B$6 -> 1.8298228 | M34: =$B$8*COS(I34)+$B$8 -> 0.55422962 | N34: =$B$16/100*H34+$B$7 -> 0.4755 | O34: =$B$17/100*H34+$B$7 -> 0.3363 | Q34: =$D$20*SIN(I34)+$B$7 -> 0.35811655 | R34: =$D$20*COS(I34)+$B$7 -> 0.38946395 | S34: =$D$21*SIN(I34)+$N$102+0.1275 -> 0.98482217 | T34: =$D$21*COS(I34)+$O$102+0.002 -> 0.43718265 | U34: =$B$6+$B$7-(($B$22*SIN(RADIANS($B$15)))/100)*H34 -> 1.5784894 | V34: =$B$7+(($B$22*SIN(RADIANS(180-90-$B$15)))/100)*H34 -> 0.51345753 | W34: =($S$2-$Q$2)/100*H34+$Q$2 -> 0.5163 | X34: =($T$2-$R$2)/100*H34+$R$2 -> 0.41688114 | Y34: =$B$16/100*H134+$B$7 -> 1.0055 | Z34: =$B$17/100*H134+$B$7 -> 0.4313
H35: =H34+1 -> 33 | I35: =RADIANS(H35) -> 0.57595865 | J35: =$B$7*SIN(I35)+$B$7 -> 0.47250508 | K35: =$B$7*COS(I35)+$B$7 -> 0.56244933 | L35: =$B$8*SIN(I35)+$B$7+$B$6 -> 1.8342372 | M35: =$B$8*COS(I35)+$B$8 -> 0.5514173 | N35: =$B$16/100*H35+$B$7 -> 0.4808 | O35: =$B$17/100*H35+$B$7 -> 0.33725 | Q35: =$D$20*SIN(I35)+$B$7 -> 0.35956699 | R35: =$D$20*COS(I35)+$B$7 -> 0.38853992 | S35: =$D$21*SIN(I35)+$N$102+0.1275 -> 0.98541723 | T35: =$D$21*COS(I35)+$O$102+0.002 -> 0.43680356 | U35: =$B$6+$B$7-(($B$22*SIN(RADIANS($B$15)))/100)*H35 -> 1.5756016 | V35: =$B$7+(($B$22*SIN(RADIANS(180-90-$B$15)))/100)*H35 -> 0.5199437 | W35: =($S$2-$Q$2)/100*H35+$Q$2 -> 0.522875 | X35: =($T$2-$R$2)/100*H35+$R$2 -> 0.41727003 | Y35: =$B$16/100*H135+$B$7 -> 1.0108 | Z35: =$B$17/100*H135+$B$7 -> 0.43225
... H80: =H79+1 -> 78 | I80: =RADIANS(H80) -> 1.3613568 | J80: =$B$7*SIN(I80)+$B$7 -> 0.60511535 | K80: =$B$7*COS(I80)+$B$7 -> 0.36950019 | L80: =$B$8*SIN(I80)+$B$7+$B$6 -> 1.9642465 | M80: =$B$8*COS(I80)+$B$8 -> 0.36225272 | N80: =$B$16/100*H80+$B$7 -> 0.7193 | O80: =$B$17/100*H80+$B$7 -> 0.38 | Q80: =$D$20*SIN(I80)+$B$7 -> 0.40228354 | R80: =$D$20*COS(I80)+$B$7 -> 0.32638695 | S80: =$D$21*SIN(I80)+$N$102+0.1275 -> 1.002942 | T80: =$D$21*COS(I80)+$O$102+0.002 -> 0.4113049 | U80: =$B$6+$B$7-(($B$22*SIN(RADIANS($B$15)))/100)*H80 -> 1.4456492 | V80: =$B$7+(($B$22*SIN(RADIANS(180-90-$B$15)))/100)*H80 -> 0.81182147 | W80: =($S$2-$Q$2)/100*H80+$Q$2 -> 0.81875 | X80: =($T$2-$R$2)/100*H80+$R$2 -> 0.43476987 | Y80: =$B$16/100*H180+$B$7 -> 1.2493 | Z80: =$B$17/100*H180+$B$7 -> 0.475
H81: =H80+1 -> 79 | I81: =RADIANS(H81) -> 1.3788101 | J81: =$B$7*SIN(I81)+$B$7 -> 0.60617976 | K81: =$B$7*COS(I81)+$B$7 -> 0.36426847 | L81: =$B$8*SIN(I81)+$B$7+$B$6 -> 1.96529 | M81: =$B$8*COS(I81)+$B$8 -> 0.35712362 | N81: =$B$16/100*H81+$B$7 -> 0.7246 | O81: =$B$17/100*H81+$B$7 -> 0.38095 | Q81: =$D$20*SIN(I81)+$B$7 -> 0.40262641 | R81: =$D$20*COS(I81)+$B$7 -> 0.32470171 | S81: =$D$21*SIN(I81)+$N$102+0.1275 -> 1.0030826 | T81: =$D$21*COS(I81)+$O$102+0.002 -> 0.41061352 | U81: =$B$6+$B$7-(($B$22*SIN(RADIANS($B$15)))/100)*H81 -> 1.4427614 | V81: =$B$7+(($B$22*SIN(RADIANS(180-90-$B$15)))/100)*H81 -> 0.81830765 | W81: =($S$2-$Q$2)/100*H81+$Q$2 -> 0.825325 | X81: =($T$2-$R$2)/100*H81+$R$2 -> 0.43515876
H82: =H81+1 -> 80 | I82: =RADIANS(H82) -> 1.3962634 | J82: =$B$7*SIN(I82)+$B$7 -> 0.60715269 | K82: =$B$7*COS(I82)+$B$7 -> 0.35901898 | L82: =$B$8*SIN(I82)+$B$7+$B$6 -> 1.9662438 | M82: =$B$8*COS(I82)+$B$8 -> 0.35197709 | N82: =$B$16/100*H82+$B$7 -> 0.7299 | O82: =$B$17/100*H82+$B$7 -> 0.3819 | Q82: =$D$20*SIN(I82)+$B$7 -> 0.40293981 | R82: =$D$20*COS(I82)+$B$7 -> 0.32301074 | S82: =$D$21*SIN(I82)+$N$102+0.1275 -> 1.0032112 | T82: =$D$21*COS(I82)+$O$102+0.002 -> 0.40991979 | U82: =$B$6+$B$7-(($B$22*SIN(RADIANS($B$15)))/100)*H82 -> 1.4398736 | V82: =$B$7+(($B$22*SIN(RADIANS(180-90-$B$15)))/100)*H82 -> 0.82479382 | W82: =($S$2-$Q$2)/100*H82+$Q$2 -> 0.8319 | X82: =($T$2-$R$2)/100*H82+$R$2 -> 0.43554765
H83: =H82+1 -> 81 | I83: =RADIANS(H83) -> 1.4137167 | J83: =$B$7*SIN(I83)+$B$7 -> 0.60803386 | K83: =$B$7*COS(I83)+$B$7 -> 0.3537533 | L83: =$B$8*SIN(I83)+$B$7+$B$6 -> 1.9671077 | M83: =$B$8*COS(I83)+$B$8 -> 0.3468147 | N83: =$B$16/100*H83+$B$7 -> 0.7352 | O83: =$B$17/100*H83+$B$7 -> 0.38285 | Q83: =$D$20*SIN(I83)+$B$7 -> 0.40322365 | R83: =$D$20*COS(I83)+$B$7 -> 0.32131455 | S83: =$D$21*SIN(I83)+$N$102+0.1275 -> 1.0033277 | T83: =$D$21*COS(I83)+$O$102+0.002 -> 0.40922392 | U83: =$B$6+$B$7-(($B$22*SIN(RADIANS($B$15)))/100)*H83 -> 1.4369858 | V83: =$B$7+(($B$22*SIN(RADIANS(180-90-$B$15)))/100)*H83 -> 0.83127999 | W83: =($S$2-$Q$2)/100*H83+$Q$2 -> 0.838475 | X83: =($T$2-$R$2)/100*H83+$R$2 -> 0.43593653
H84: =H83+1 -> 82 | I84: =RADIANS(H84) -> 1.43117 | J84: =$B$7*SIN(I84)+$B$7 -> 0.608823 | K84: =$B$7*COS(I84)+$B$7 -> 0.34847305 | L84: =$B$8*SIN(I84)+$B$7+$B$6 -> 1.9678814 | M84: =$B$8*COS(I84)+$B$8 -> 0.34163801 | N84: =$B$16/100*H84+$B$7 -> 0.7405 | O84: =$B$17/100*H84+$B$7 -> 0.3838 | Q84: =$D$20*SIN(I84)+$B$7 -> 0.40347785 | R84: =$D$20*COS(I84)+$B$7 -> 0.31961367 | S84: =$D$21*SIN(I84)+$N$102+0.1275 -> 1.0034319 | T84: =$D$21*COS(I84)+$O$102+0.002 -> 0.40852612 | U84: =$B$6+$B$7-(($B$22*SIN(RADIANS($B$15)))/100)*H84 -> 1.4340979 | V84: =$B$7+(($B$22*SIN(RADIANS(180-90-$B$15)))/100)*H84 -> 0.83776617 | W84: =($S$2-$Q$2)/100*H84+$Q$2 -> 0.84505 | X84: =($T$2-$R$2)/100*H84+$R$2 -> 0.43632542
...

Sheet gordon schematic

Sheet gear calculator
B2: gordon szr660 | J2: power needed to reach speed in top gear | K2: velocity in top gear | L2: speed
B3: Primary drive | E3: Secondary drive | J3: =((((1/2*1.204)*0.7*I6*K3^2)+(0.02*'Centre of gravity'!E8*9.81))*K3)/1000 -> 41.003463 | K3: 61.699 | L3: =K3/1609*3600 -> 138.04624
B4: =71/34 -> 2.0882353 | E4: 16 | F4: 39
B5: Gear | C5: Gear ratio | D5: RPM | E5: Speed (mph) | F5: RPM Drop | I5: frontal area | J5: peak power at wheel | K5: chain links | L5: front sprocket | M5: rear sprocket
B6: 1st gear | C6: =30/13 -> 2.3076923 | D6: 7500 | E6: =((((($D$6*(2*PI())/60)/$B$4)/C6)/($F$4/$E$4))*'Centre of gravity'!$B$7)*3600/1609.34 -> 45.753265 | F6: N to 1st | G6: 0 | I6: 0.39 | J6: 41 | K6: 110 | L6: 14 | M6: 38
B7: 2nd gear | C7: =27/17 -> 1.5882353 | D7: =$D$6 -> 7500 | E7: =((((($D$6*(2*PI())/60)/$B$4)/C7)/($F$4/$E$4))*'Centre of gravity'!$B$7)*3600/1609.34 -> 66.479104 | F7: 1st to 2nd | G7: =$D$6/100*(100/C6*C7) -> 5161.7647 | K7: 112 | L7: 15 | M7: 39
B8: 3rd gear | C8: =24/20 -> 1.2 | D8: =$D$6 -> 7500 | E8: =((((($D$6*(2*PI())/60)/$B$4)/C8)/($F$4/$E$4))*'Centre of gravity'!$B$7)*3600/1609.34 -> 87.987049 | F8: 2nd to 3rd | G8: =$D$6/100*(100/C7*C8) -> 5666.6667 | K8: 114 | L8: 16 | M8: 40
B9: 4th gear | C9: =21/22 -> 0.95454545 | D9: =$D$6 -> 7500 | E9: =((((($D$6*(2*PI())/60)/$B$4)/C9)/($F$4/$E$4))*'Centre of gravity'!$B$7)*3600/1609.34 -> 110.61229 | F9: 3rd to 4th | G9: =$D$6/100*(100/C8*C9) -> 5965.9091 | K9: 116 | M9: 41
B10: 5th gear | C10: =19/24 -> 0.79166667 | D10: =$D$6 -> 7500 | E10: =((((($D$6*(2*PI())/60)/$B$4)/C10)/($F$4/$E$4))*'Centre of gravity'!$B$7)*3600/1609.34 -> 133.36984 | F10: 4th to 5th | G10: =$D$6/100*(100/C9*C10) -> 6220.2381 | M10: 42
M11: 43
I13: chain length
I14: chain size | J14: front sprocket | K14: rear sprocket | L14: chain links | M14: distance from swing arm pivot to rear wheel spindle
I15: 0.625 | J15: =E4 -> 16 | K15: =F4 -> 39 | L15: 112 | M15: =((((L15-(0.5*(J15+K15)))*0.5)*25.4)*I15)-127.5 -> 543.21875

Sheet Triumph 600 datona data file
