Workbook

Sheet H&S Overview
A1: Health and Safety Overview Logbook Entry
A4: Student to complete all white boxes
A5: All boxes coloured orange to be completed by the marker
A6: Student Name | E6: Isabella Wratten | I6: Applicable Health & Safety Legislation | Q6: Health and Safety Protocol to be followed before any session
A8: Staff | E8: David Cooper | I8: The Health and Safety at Work Act 1974 Management of Health and Safety at Work Regulations 1999 Provision and use of Work Equipment Regulations 1998 Personal Protective Equipment at Work Regulations 1992 | Q8: Before the start of any session we were to make sure that we were wearing the appropriate PPE. For the engine strip workshop this meant steel toe caps, but for the machine workshop this meant steel toe caps, arms and legs covered, no jewelry, hair tied back and safety glasses. It is also advised that barrier cream is used to help protect the workers hands. Before we began using the machines, we had to complete safety checks on them first, for the machine shop this meant checking that the chuck was secure on the lathe and hadd't come loose at all, checking the feeds and speeds of all the machines, checking that any tool being used was in good condition. For example, making sure the drill bit wasn't cracking anywhere/ the end chipped off. For the engine workshop, this meant making sure the engine was secure on the stand, moving the boxes to the sides of the room to prevent tripping and placing the cylinder head far back on the bench once it had been removed so that it didn't fall whilst moving the engine.
E10: Adrian Dix
E12: Mark Fall
A14: Health & Safety Considerations for Machine Workshop
A16: When in the machine workshop you need to consider the hazards that any of the equipment being used may present. These can consist of: Swarf coming off the part - As they are sutting material a lot of swarf will be coming off of the machines so glasses must be worn to prevent it going into eyes. Debris and broken tools - Any debris or broken tools will consist of sharp edges which will lead to abrasions therefore it would be better to sweep them up where possible. Moving parts (cutting tools spinning) - Due to the moving parts it is possible for the user to get tangled up in them so hair must be tied, no hoodies with strings, lanyards, necklaces and so on are allowed to be worn.
A26: Health & Safety Considerations for Engine Strip Workshop
A28: When in the engine strip workshop you need to consider the hazards that any of the equipment used may present. These can consist of: Heavy objects (Cylinder head) - This may be dropped when moving them and could fall on peoples feet therefore steel toe caps are required. Heavy objects (Engine) - The engine is extremely heavy so making sure proper lifting techinique is used is cruicial. Slips and falls (Oil) - There may be left over oil in the engine so it is important to clean it up off the floor immediately to prevent and slips and falls. Trip hazards - Due to the amount of components coming off of the engine it makes it high risk for trips and falls, to prevent this components are placed in a box that is against the wall out of the way to prevent any trips.
A35: Equipment Used | Q35: Observations & Feedback
A37: Lathe, Milling Machine, Hacksaws, Files, Torque Wrenches | Q37: Following the correct health and safety protocol and listening to the advice from the lecturers helps to keep everyone safe whilst completing the tasks to the best of their abilities.
A44: Marks
A45: Applicable Health & Safety Legislation and Protocols | G45: 4 | I45: Out of 4 marks
A46: H&S Considerations for Machine Workshop | G46: 1.5 | I46: Out of 2 marks | Q46: Doesn't mention the guards
A47: H&S Considerations for Engine Workshop | G47: 2 | I47: Out of 2 marks
A48: Observations | G48: 2 | I48: Our of 2 marks
E49: Total | G49: =SUM(G45:H48) -> 9.5 | H49: Out of 10 marks

Sheet Machine Shop
A1: Machine Shop Logbook Entry
A4: Student to complete all white boxes in electronic log books. Student to copmlete all yellow boxes on hard copy provided in session, this then needs to be handed to technician.
A5: All boxes coloured orange to be completed by the marker
A6: Student Name | E6: Isabella Wratten | I6: PPE Required
A8: Session Dates | E8: 17/10/25 24/10/25 06/10/25 12/11/25 | I8: Steel toe cap boots, Dust jacket, Glasses
A12: Session Location | E12: IQ021A
A14: Staff | E14: Adrian Dix and David Cooper
A16: Mill Activity
A18: Dimension 1 | F18: Dimension 2 | K18: Dimension 3
A19: Technical Drawing Dimension | C19: Tolerance (+/-) | D19: Final Dimension Achieved | F19: Technical Drawing Dimension | H19: Tolerance (+/-) | I19: Final Dimension Achieved | K19: Technical Drawing Dimension | M19: Tolerance (+/-) | N19: Final Dimension Achieved
A20: 115 | C20: 0.2 | D20: 115.11 | F20: 60 | H20: 0.2 | I20: 60.08 | K20: 90 | M20: 0.2 | N20: 89.86
A22: Validated measurement | D22: Y | F22: Validated measurement | I22: Y | K22: Validated measurement | N22: Y
A23: Signed off by Technician | F23: Signed off by Technician | K23: Signed off by Technician
A24: Marks | F24: Marks | K24: Marks
A25: Correct Dimension (1 mark) | D25: 1 | F25: Correct Dimension (1 mark) | I25: 1 | K25: Correct Dimension (1 mark) | N25: 1
A26: Dimension within tolerance (1 marks) | D26: 1 | F26: Dimension within tolerance (1 marks) | I26: 1 | K26: Dimension within tolerance (1 marks) | N26: 1
A27: Lathe Activity
A29: Dimension 1 | F29: Dimension 2 | K29: Dimension 3
A30: Technical Drawing Dimension | C30: Tolerance (+/-) | D30: Final Dimension Achieved | F30: Technical Drawing Dimension | H30: Tolerance (+/-) | I30: Final Dimension Achieved | K30: Technical Drawing Dimension | M30: Tolerance (+/-) | N30: Final Dimension Achieved
A31: 30 | C31: 0.2 | D31: 29.92 | F31: 105 | H31: 0.2 | I31: 105 | K31: 36 | M31: 0.05 | N31: 36.01
A33: Validated measurement | D33: Y | F33: Validated measurement | I33: Y | K33: Validated measurement | N33: Y
A34: Signed off by Technician | F34: Signed off by Technician | K34: Signed off by Technician
A35: Marks | F35: Marks | K35: Marks
A36: Correct Dimension (1 mark) | D36: 1 | F36: Correct Dimension (1 mark) | I36: 1 | K36: Correct Dimension (1 mark) | N36: 1
A37: Dimension within tolerance (1 marks) | D37: 1 | F37: Dimension within tolerance (1 marks) | I37: 1 | K37: Dimension within tolerance (1 marks) | N37: 1
A38: During the sessions you will have also used a range of hand tools, can you provide some good tips and hints on how to achieve the best with these? | G38: When using a hacksaw, standing side on allows the user to use the entirety of the blade. Applying cutting compound reduces the friction on the blade for a smoother cut. | N38: Marks
N39: 4 | O39: Out of 4
A41: When using the Mill and Lathe, how can you ensure the quality of the piece that you are producing? | G41: Make sure the piece is secure, on a lathe this is checking it's flush with the paralells. Don’t cut to the tolerance first time, go to 0.5 out, remeasure then remove the rest.
N42: 3 | O42: Out of 4
P43: What speed should you use
J44: Total for Machine Shop | N44: =D25+D26+I25+I26+N25+N26+N36+N37+I37+I36+D37+D36+N42+N39 -> 19 | O44: out of 20

Sheet Engine Strip
A1: Engine Strip Logbook Entry | O1: Please note the Engine Used
O3: Engine 1
A4: Student to complete all white boxes
A5: All boxes coloured orange to be completed by the marker | O5: Marks
A6: Engine part to be measured | G6: Measurements (mm)
A7: 4 Piston Crowns | G7: 75.25 | I7: 75.26 | K7: 75.21 | M7: 75.25 | O7: 1 | Q7: out of 1
A8: 4 Piston Skirts | G8: 75.96 | I8: 75.97 | K8: 75.97 | M8: 75.93 | O8: 1 | Q8: out of 1
A9: 5 Main Crank Shaft Journal Diameters | G9: 47.98 | I9: 47.98 | K9: 47.98 | M9: 47.98 | O9: 1 | Q9: out of 1
G10: 47.98
A11: 4 Big End Jounral Diameters | G11: 39.98 | I11: 39.98 | K11: 39.98 | M11: 40 | O11: 1 | Q11: out of 1
A12: Crank End float Thrust washers | G12: 0.29 | K12: 1.87 | O12: 2 | Q12: out of 2
A13: All cylinder bore values | G13: 75.96 | I13: 75.95 | K13: 76.02 | M13: 76.03 | O13: 1 | Q13: out of 1
A14: Cylinder 1 stroke (using cyl.2 on TDC) | G14: 76.73 | O14: 1 | Q14: out of 1
A15: All main bearings (both halves) | G15: 3 | I15: 3 | K15: 3 | M15: 3 | O15: 1 | Q15: out of 1
G16: 3 | I16: 3 | K16: 3.25 | M16: 3
A17: All big end bearings (both halves) | G17: 1.5 | I17: 1.5 | K17: 1.46 | M17: 1.55 | O17: 1 | Q17: out of 1
G18: 1.5 | I18: 1.51 | K18: 1.49 | M18: 1.52
A19: Inlet valve spring free length | G19: 48.32 | O19: 1 | Q19: out of 1
A20: Inlet valve stem diameter | G20: 5.95 | O20: 1 | Q20: out of 1
A21: Inlet valve head diameter | G21: 28 | O21: 1 | Q21: out of 1
A22: Using the equation provided in class, write a formula in the box below that references the relevant boxes above to calculate the Engine CC
A24: CC = (π/4)*Bore^2*Stroke*Number of cylinders CC = (π/4)*0.7599^2*0.7673*4 CC=1391.96 or 1.392L | O24: Equation | P24: 2 | Q24: out of 2 | R24: Bore was taken as the average of all 4 cylinder bore values
O25: Engine cc | P25: 1 | Q25: out of 1 | R25: Stroke was taken from the cylinder 1 stroke section
A26: What components during the rebuld process have to be torqued, what is the torque setting and where would you find it?
A28: During the rebuild process many components need to be torqued to the correct setting and the setting for all of them can be found in the engine manual. Some of the bolts however need to be done in a specific sequence such as the cylinder head bolts. These need to be tightened in a spiral pattern starting in the middle and working your way out, starting at 15Nm then 30Nm before a 90 degree turn to finish. | O28: Components identified | P28: 2 | Q28: out of 2
O30: Torque settings | P30: 1 | Q30: out of 1
O31: Torque location | P31: 1 | Q31: out of 1
A32: Describe areas in the engine where it might be possible to see evidence of wear? What can that wear tell us about the engine?
A34: There are many areas in the engine where you can find evidence of wear, this includes the big and main end bearings, crankshaft journals, camshaft lobes, valves, head gasket. These places of wear can tell us a variety of information about the engine including things like overheating, poor lubrication, misalignment and so on. | O34: 2.5 | Q34: out of 5
R35: How would these visually appear? What would the wear look like.
O38: Total | P38: =O34+P31+P30+P28+P25+P24+SUM(O7:P21) -> 22.5 | Q38: Out of 25

Sheet Suspension
A1: Suspension Logbook Entry
A4: Student to complete all white boxes
A5: All boxes coloured orange to be completed by the marker | O5: Marks | S5: x value is in/s
A6: Week 1 | S6: y value is in lbs
A7: During the first week, you will measure the steering points. Record these measurements here | F7: Inboard Co-ordinates | H7: x | I7: -145 | J7: y | K7: 183.35 | L7: z | M7: 311.03 | O7: 1.5 | P7: Out of 1.5
F8: Outboard Co-ordinates | H8: x | I8: -64.9 | J8: y | K8: 736.5 | L8: z | M8: 345.45 | O8: 1.5 | P8: Out of 1.5
A9: Week 2 | S9: in/s to m/s is | T9: 0.0254
A10: During the second week, you will be collecting data to enable you to calculate the torisional stiffness, please input the torsional stiffness equation and calculate the value | F10: Equations | G10: Torsional Stiffness = Applied Torque/ Angle of Twist | O10: 4 | P10: Out of 4 | S10: lbs to N is | T10: 4.44822
G11: Torsional Stiffness = 2846.9/1.020
F12: Value | G12: Torsional Stiffness = 2791.08 | O12: 1 | P12: Out of 2 | Q12: units?
A13: Week 3
A14: During this week, you will be collecting data from the damper dyno, using the graphs created please fill in the information on damper coefficient | F14: High speed rebound | H14: Rebound Knee Point | J14: Origin | K14: Bump Knee Point | M14: High Speed Bump
F15: x vlaue | G15: y value | H15: x vlaue | I15: y value | J15: 0,0 | K15: x vlaue | L15: y value | M15: x vlaue | N15: y value
F16: 9.5 | G16: 131.4 | H16: 1.8 | I16: 50.5 | K16: 1.8 | L16: 22.9 | M16: 9.5 | N16: 68.6 | O16: 4 | P16: Out of 4 | Q16: Thank you for the note at the top - You would have lost a mark otherwise.
F17: Gradient 1 | H17: Gradient 2 | J17: Gradient 3 | L17: Gradient 4
F18: =((G16*T10)-(I16*T10))/((F16*T9)-(H16*T9)) -> 1839.9683 | H18: =((I16*T10)-0)/((H16*T9)-0) -> 4913.2789 | J18: =((L16*T10)-0)/((K16*T9)-0) -> 2228.0017 | L18: =((N16*T10)-(L16*T10))/((M16*T9)-(K16*T9)) -> 1039.3888 | O18: 3.5 | P18: Out of 4 | Q18: units should have been included.
A19: Gradient 1 is between High speed rebound and rebound knee point - this if your high speed rebound damping coefficient in Ns/m
A20: Gradient 2 is between rebound knee point and origin - this if your low speed rebound damping coefficient in Ns/m
A21: Gradient 3 is between the origin and bump knee point - this if your low speed bump damping coefficient in Ns/m
A22: Gradient 4 is between the bump knee point and the high speed bump - this if your high speed bump damping coefficient in Ns/m
N23: Total | O23: =O18+O16+O12+O10+O8+O7 -> 15.5 | P23: Out of 17

Sheet Ad Manufacturing
A1: Advanced Manufacturing Logbook Entry
A4: Student to complete all white boxes | O4: Marks
A5: All boxes coloured orange to be completed by the marker
A6: What is meant by Adavanced Manufacturing | G6: Advanced manufacturing invloves innovative technologies that rely heavily on information, automation, computation and software to ease design processes and produces components more efficiently. | O6: 1.5 | Q6: Out of 2
R7: improved accuracy and quality
A8: What equipment does UWTSD have for Advanced Manufacturing? | G8: CNC Machines Laser Cutters Water Jet Cutter 3D Printers (FDM, SLA, SLS) | O8: 3.5 | Q8: Out of 4
R11: Could also have mentioned the autoclave
A16: What is used to programme the CNC machines to produce components? | G16: The type of codes used in a CNC program are, prepatory commands (G codes) and Miscellaneous functions (M codes). These inform the machine the tool, tool path and cutting feeds and speeds. | O16: 1 | Q16: Out of 1
A18: What type of material do the 3d printers use? | G18: FDM printers use thermoplastic filaments such as PLA, SLA printers use liquid resin that is bonded by a laser and SLS uses a powder that will be sintered together by a laser. | O18: 2 | Q18: Out of 2
A20: If you wanted to 3D print a component for a project, what would be the steps that you would need to take? | G20: Make the design in CAD and finalise it as a 3D solid. Convert that to an STL file, put it in a 3d printing software to write the G code. This will add the slices, infills and supports needed for the print. | O20: 2.5 | Q20: Out of 3
R21: What about any finishing that is needed after printing?
O22: Total | P22: =SUM(O6:P21) -> 10.5 | Q22: out of 12

Sheet Composites
A1: Composites Logbook Entry
A4: Student to complete all white boxes | O4: Marks
A5: All boxes coloured orange to be completed by the marker
A6: What materials are needed ? | G6: Composites uses a combination of resins (such as epoxy resins and polyester resins) and fibres of materials (such as carbon fibre, kevlar and fibre glass). | O6: 2 | Q6: out of 2
A8: How are component made? What are the steps required? | G8: When making a component, you firstly have to determine the way you are going to make it. Taking into account the products use/what it needs to withstand and the cost of making it. This means chosing from 3 lay up types. The first is a wet lay up, where the fibres are placed on a mould and is then saturated with the resin using brushes. The second is an infusion method where the fibres are layed in a mould that is then sealed in a bag and held under a vacuum. This method pulls the resin through the material to completly cover the part. The third option uses prepreg material (where the resin and the fibres are already infused with eachother), which gets put into a mould, which is then bagged and put under vacuum before being put into an autoclave where it will go through a cycle to cure the resin. From here you can make your part, before trimming it where necassary and if needed bonding the seperate parts together. | O8: 3.5 | Q8: out of 4
R12: Often a release agent is applied to the mould
A20: Are there any health & safety risks with using composites | G20: Fumes of the products, fibres causing cuts and splinters, inhalation of dust particulates when trimming. Therfore it is important to do it in a well ventialted area and wear the appropriate PPE where necessary. | O20: 2 | Q20: out of 2
A22: Any observations or good practice hints to note | G22: Have everything you will need at hand before starting, especially for a wet lay up or infusion as you will be working against the resin cure time. It is also good to work in a temperature stable enviroment as changes in temperature will affect the curing of the resin | O22: 2 | Q22: out of 2
O24: Total | P24: =SUM(O6:P23) -> 9.5 | Q24: out of 10

Sheet Personal Development Plan
A1: Personal Development Plan
A4: Student to complete all white boxes
A5: All boxes coloured orange to be completed by the marker
A6: Short Term Career Goals (0- 5 years)? | G6: In the next 0-5 years, I would like to be starting my career as an engineer within a single seater team, preferably in F2 or F3 having graduated with a first.
A8: Long Term Career Goals (5-10 years)? | G8: In the next 5-10 years I would like to have more experience on my cv from different race teams I have worked with, hopefully an F1 team is in there and I would be considering moving to America to join an indycar team for a couple seasons.
B10: Goal | E10: Objective | H10: Resources Needed | K10: Measurement of Success | N10: Target Date
A12: 1 | B12: Learn to weld | E12: Be able to do simple welds | H12: A course to learn and access to practice. | K12: Being able to understanding of welding and starting to be able to do it. | N12: 2027
A14: 2 | B14: Graduate with a first | E14: Leave uni with a first on my degree | H14: Uni lectures, good reading materials. | K14: Getting a first | N14: 2028
A16: 3 | B16: Learn another language | E16: Learn either German or Italian | H16: Language apps, potentially a tutor, time in the country. | K16: Being able to hold a conversation in the language | N16: 2030
A18: 4 | B18: Work a season in Indycar | E18: Complete a full season as an engineer/mechanic in indycar | H18: Experience and building up my contacts | K18: Having completed a season | N18: 2040
A20: What do you think could be the biggest impact on you achieving your goals? | G20: I think that the biggest impact on me achieving my goals will be myself as I tend to hold myslelf back from learning new skills as I am afraid to mess up, do it wrong or let other people get the experience instead of me.
A22: Why is having a PDP important for an engineer? | G22: Having a PDP allows for self-reflection to identify gaps in knowledge so that new goals can be set for personal growth. These new goals provide a clear structure on what skills they need to improve, which makes learning much more efficient.
A24: Marks
A25: Pass or Fail | G25: Pass

Sheet CPD
A1: Continuous Professional Development
A4: Student to complete all white boxes
A5: All boxes coloured orange to be completed by the marker
A6: Briefly describe what is meant by Continuous Professional Development (CPD) and why it is important to engineers? | Q6: Marks
A8: A CPD is where an engineer continues to broarden their knowledge and skills throughout empoloyment, so that they may better themselves and their ability to do their job. This can be done in many different ways such as, attending seminars, undergoing training, taking online courses and so on. For engineers this is a massively important part of their career as the industry is constantly evolving, with technology being used always changing and improving. So making sure you are evolving with it not only helps your skills but shows that you are also adapatable to change. | Q8: 3 | R8: Out of 3
A18: Identify a CPD event or activity that you could attend/complete that would help to support your learning or desired career path. Please provide details of the date & location or URL.
A20: Evolution Measurement - UWTSD IQ BUILDING IQ002 - 13:00 Iain Gordon came in to give a lecture on measurement and instrumentation, specifically in the aerodynamics sector. | Q20: 1 | R20: Out of 1
A27: What did you learn from the CPD event or activity? How do you feel this has helped your professional development?
A29: From this lecture I learnt about the importance of pressure measurement in aerodynamic development within motorsport engineering. Iain explained how aerodynamic performance is developed through an iterative process using CFD simulations, wind tunnel testing and full track testing. I also learnt about pressure scanners such as the EvoScan system, which measures multiple pressure points simultaneously at high speeds whilst remaining small and lightweight for motorsport applications. The lecture also highlighted how these technologies are used across many industries. This CPD event supported my professional development by imporivng my understanding of how aerodynamic theory is applied in real engineering enviroments and how accurate measurement and data validation are essential for improving vehicle performance. | Q29: 2 | R29: Out of 2
N38: Total | Q38: =SUM(Q29+Q20+Q8) -> 6 | R38: out of 6

Sheet Marks
B2: Session Tab | E2: Mark | F2: Out of
B3: Health and Safety Overview | E3: ='H&S Overview'!G49 -> 9.5 | F3: 10
B4: Machine Shop Sessions | E4: ='Machine Shop'!N44 -> 19 | F4: 20
B5: Engine Strip Sessions | E5: ='Engine Strip'!P38 -> 22.5 | F5: 25
B6: Suspension | E6: =Suspension!O23 -> 15.5 | F6: 17
B7: Advanced Manufacturing | E7: ='Ad Manufacturing'!P22 -> 10.5 | F7: 12
B8: Composites | E8: =Composites!P24 -> 9.5 | F8: 10
B9: PDP | E9: Pass | F9: Pass or Fail
B10: CPD | E10: {=CPD!Q38:Q38} -> 6 | F10: 6
B11: Logbook Total | E11: =SUM(E3:E10) -> 92.5 | F11: =F3+F4+F5+F6+F7+F8+F10 -> 100
B12: MATLAB Mark | E12: 87.4 | F12: 100
B14: Assignment Total | E14: =(E11*0.75)+(E12*0.25) -> 91.225 | F14: %
