Workbook
Name ___gfa1: #REF!
Name ___gfa1: #REF!
Name __gfa1: #REF!
Name __gfa1: #REF!
Name __Iw1: #REF!
Name __Iw1: #REF!
Name _10Module1_.Print_Setup_Budget_Estimate: [1]!_10Module1_.Print_Setup_Budget_Estimate
Name _12Module1_.Print_Setup_Budget_Estimate: [1]!_12Module1_.Print_Setup_Budget_Estimate
Name _14Module1_.Print_Setup_Quants_Generator: [1]!_14Module1_.Print_Setup_Quants_Generator
Name _16Module1_.Print_Setup_Quants_Generator: [1]!_16Module1_.Print_Setup_Quants_Generator
Name _1Module1_.Goto_Budget_Estimate: [1]!_1Module1_.Goto_Budget_Estimate
Name _2Module1_.Goto_Budget_Estimate: #N/A
Name _2Module1_.Goto_Quants_Generator: [1]!_2Module1_.Goto_Quants_Generator
Name _3Module1_.Print_Setup_Budget_Estimate: [1]!_3Module1_.Print_Setup_Budget_Estimate
Name _4Module1_.Goto_Budget_Estimate: [1]!_4Module1_.Goto_Budget_Estimate
Name _4Module1_.Goto_Quants_Generator: [1]!_4Module1_.Goto_Quants_Generator
Name _4Module1_.Print_Setup_Quants_Generator: [1]!_4Module1_.Print_Setup_Quants_Generator
Name _6Module1_.Goto_Quants_Generator: [1]!_6Module1_.Goto_Quants_Generator
Name _6Module1_.Print_Setup_Budget_Estimate: [1]!_6Module1_.Print_Setup_Budget_Estimate
Name _8Module1_.Goto_Quants_Generator: [1]!_8Module1_.Goto_Quants_Generator
Name _8Module1_.Print_Setup_Quants_Generator: [1]!_8Module1_.Print_Setup_Quants_Generator
Name _A99999: #REF!
Name _A99999: #REF!
Name _gfa1: #REF!
Name _gfa1: #REF!
Name _Iw1: #REF!
Name _Iw1: #REF!
Name A: #REF!
Name A: #REF!
Name ACESTotal: [2]AIs!#REF!
Name ACESTotal: [2]AIs!#REF!
Name ACESVal: [2]AIs!#REF!
Name ACESVal: [2]AIs!#REF!
Name AcousticTotal: [2]AIs!#REF!
Name AcousticTotal: [2]AIs!#REF!
Name AcousticVal: [2]AIs!#REF!
Name AcousticVal: [2]AIs!#REF!
Name Add: '[3]47.1'!$H$38
Name add_steel_claim: '[4]Ant Varns'!$D$24
Name Add6a: '[5]41'!$E$71
Name additions_AI: [4]AI!$E$1732
Name additions_ant_varns: '[4]Ant Varns'!$D$57
Name additions_approx_qty: '[4]appro. qty'!$G$97
Name additions_contingency: '[4]Cont, Dwks'!$D$68
Name additions_prov_sums: '[4]Prov. Sums'!$D$162
Name AddTotal: [6]Additions!$G$53
Name AirSealTotal: [2]AIs!#REF!
Name AirSealTotal: [2]AIs!#REF!
Name AirSealVal: [2]AIs!#REF!
Name AirSealVal: [2]AIs!#REF!
Name AllianceTotal: [2]AIs!#REF!
Name AllianceTotal: [2]AIs!#REF!
Name AllianceVal: [2]AIs!#REF!
Name AllianceVal: [2]AIs!#REF!
Name AnqualeTotal: [2]AIs!#REF!
Name AnqualeTotal: [2]AIs!#REF!
Name AnqualeVal: [2]AIs!#REF!
Name AnqualeVal: [2]AIs!#REF!
Name ATotal: [1]!ATotal
Name Available_Staff_List: '[7]Latest NEECA Rates'!$B$8:$B$65536

Sheet COVER SHEET
F7: Bill of Quantities for Innovation Matrix
F8: Client: UWTSD
F9: 2022 / 2023

Sheet INDEX
F7: Innovation Matrix
F8: Client: UWTSD
F9: 2022 / 2023
F11: ASSUMPTIONS
F12: ASSUMPTIONS!A1
F14: TAKE-OFF
F15: TAKE-OFF'!A1
F17: BoQ Substructure
F18: BoQ SUBSTRUCTURE '!A1
F19: BoQ SUMMARY'!A1
F21: DWG SUMMARY
F22: DWG SUMMARY'!A1

Sheet ASSUMPTIONS
B2: 1.0 Basis for Estimate
B3: 1.01 This estimate is for the Innovation Matrix building which is an addition to the two buildings within UWTSD.
B4: 1.02 The contractor has submitted drawings in which these drawings will be utilised to complete a BoQ take-off.
B5: 1.03 The cost that has been derived from the BoQ & take-off has been achieved by using NRM 2
B6: 1.04 The rates on the BoQ have been informed using Spon's Architects' & builders price book 2020
B7: 1.04 The Spon's BOQ used are the higher range on all items; these prices do not include inflation therefore will not be relatable to 2022 costs.
B8: 2.0 Assumptions & Exclusions
B9: 2.1 Below Ground
B10: 2.1 An asumption has been made that bore holes will commence & searches for services will be as a provisional sum / item
B11: 2.2 An assumption has been made that the piles will be situated 15m below ground level - this has been informed by ground condition reports within other developtments in the area
B12: 2.3 An assumption has been made that the top soil will be no more than 150mm deep
B13: 2.4 An assumption has been made that the wall section detail will be a standard detail taken from a worked example in class (detailed below). The standard detail is not deemed correct as a piled building would utilise a steel frame structure. The worked example has based it on the detail below due to this detail being the subject area in the unit.
... B72: 2.22 An allowance assumption has been made against external works item of £10,000. This is a basis for estimate as to what the external works will entail.

Sheet TAKE-OFF
F1: INNOVATION MATRIX - SA1
F4: SUBSTRUCTURE
F6: TAKE-OFF
A9: TIM | B9: DIM | C9: SQ | F9: DESCRIPTION
I10: Taking Off List
F11: CALCULATION OF WALL THICKNESS | I11: LIST | J11: NRM2 REFERENCE | K11: CHECK
I12: Preliminary Sitework | J12: 5.1.1
F13: Half Brick Wall - 102.5 | I13: Removing Trees | J13: 5.2.1
F14: Cavity - 75 | I14: Site Clearance | J14: 5.4.1
F15: Block Skin 100 | I15: Site Preparation (Top soil excavation) | J15: 5.5.2
F16: 277.5 | I16: Foundation Excavation (Pile Caps) | J16: 5.6.2
I17: Extra over (Hazardous Material as assumption of made ground) | J17: 5.7.1
F18: Trench Width (Pile Diameter) - 500mm | I18: Retaining excavated material (Top Soil) | J18: 5.10.1
F19: Less Wall - 277.5 | I19: Cutting off tops of piles | J19: 5.20.1
F20: 222.5
F21: Less No of Piles - 94 | I21: Cavity Wall: Brick | J21: 14.1.1
F22: Foundation Spread -128.5 | I22: Block
I23: Form Cavity | J23: 14.14.1
F24: CALCULATION OF OVERALL DIMENSION | I24: Cavity Fill | J24: 11.5.1
F25: TO OUTER EDGE OF PILE FOUNDATIONS | I25: Adjust Soil Disposal | J25: 5.9.2
I26: Hardcore Fill | J26: 5.12.3
F27: W | I27: Topsoil Backfill | J27: 5.11.2
F28: (8600+9000+8600) = 26.20 | I28: DPC | J28: 14.16.1.3
I29: Adjust for facings? | J29: 14.1.1
F30: B | I30: Concrete bed? | J30: 11.5.2
F31: (9000+9000+9000+9000+9000+9000+9000+9000) = 72.00 | I31: Hardcore bed? | J31: 5.12.3
I32: DPM | J32: 5.16.2
I33: Membrane Upturn | J33: 5.16.1
F34: W B | I34: Concrete Treatment | J34: 11.8.1
F35: 26.20 72.00 | I35: Ground Treatment | J35: Not Measurable
F36: 0.555 277.5 /2 0.555
F37: 0.257 128.5/2 0.257
F38: 27.012 72.812
F41: REMOVAL OF TOPSOIL AVERAGE 150MM THICK
B43: 27 | F43: Site preperation; removal of topsoil average 150mm thick
B44: 72.81
C45: =SUM(B43*B44) -> 1965.87 | F45: &
F47: Retaining excavated material on site, topsoil in temporary spoil; average 100m from excavation
F48: heap
F49: Location - off site 5.10.1.2
...

Sheet BoQ SUBSTRUCTURE 
B1: INNOVATION MATRIX - SA1
B4: SUBSTRUCTURE | C4: BILL NO.
C5: ELEMENT NO.
A9: Reference | B9: Description | C9: Qty | D9: Unit | E9: Rate | F9: £ p | I9: Taking Off List
I10: LIST | J10: NRM2 REFERENCE | K10: CHECK
I11: Preliminary Sitework | J11: 5.1.1 | K11: P
B12: 5 EXCAVATING AND FILLING D20 | I12: Removing Trees | J12: 5.2.1 | K12: P
I13: Site Clearance | J13: 5.4.1 | K13: P
B14: The location of the works is shown on the GF Shell & Core drawing | I14: Site Preparation (Top soil excavation) | J14: 5.5.2 | K14: P
I15: Foundation Excavation (Pile Caps) | J15: 5.6.2
I16: Extra over (Hazardous Material as assumption of made ground) | J16: 5.7.1
B17: Preliminary Sitework | I17: Retaining excavated material (Top Soil) | J17: 5.10.1
I18: Cutting off tops of piles | J18: 5.20.1
A19: A | B19: Water | C19: 1 | D19: Item | E19: 20000 | F19: =SUM(C19*E19) -> 20000
I20: Cavity Wall: Brick | J20: 14.1.1
A21: B | B21: Gas | C21: 1 | D21: Item | E21: 20000 | F21: =SUM(C21*E21) -> 20000 | I21: Block
I22: Form Cavity | J22: 14.14.1
A23: C | B23: Electric | C23: 1 | D23: Item | E23: 20000 | F23: =SUM(C23*E23) -> 20000 | I23: Cavity Fill | J23: 11.5.1
I24: Adjust Soil Disposal | J24: 5.9.2
A25: D | B25: Telecoms | C25: 1 | D25: Item | E25: 20000 | F25: =SUM(C25*E25) -> 20000 | I25: Hardcore Fill | J25: 5.12.3
I26: Topsoil Backfill | J26: 5.11.2
A27: E | B27: Drainage | C27: 1 | D27: Item | E27: 20000 | F27: =SUM(C27*E27) -> 20000 | I27: DPC | J27: 14.16.1.3
I28: Adjust for facings? | J28: 14.1.1
I29: Concrete bed? | J29: 11.5.2
B30: Removal of Trees | I30: Hardcore bed? | J30: 5.12.3
I31: DPM | J31: 5.16.2
A32: A | B32: Removal of trees with a girth of 500mm- 1,500mm | C32: 1 | D32: Item | E32: 10000 | F32: =SUM(C32*E32) -> 10000 | I32: Membrane Upturn | J32: 5.16.1
I33: Concrete Treatment | J33: 11.8.1
I34: Ground Treatment | J34: Not Measurable
B35: Site Clearance
A37: A | B37: Clear site of all vegitation and other growth and dispose off site | C37: 1 | D37: Nr | E37: 5400 | F37: =SUM(C37*E37) -> 5400
B40: Site Preperation
A42: A | B42: Removal of topsoil;150mm deep | C42: =SUM('TAKE-OFF'!C45) -> 1965.87 | D42: m2 | E42: 12.6 | F42: =SUM(C42*E42) -> 24769.962
B45: Excavation
A47: A | B47: Excavating to reduce levels; maximum depth not exceeding 1.00m; Scrape off piling mat (use centre lines) | C47: 196.4 | D47: m2 | E47: 13.7 | F47: =SUM(C47*E47) -> 2690.68
B50: D30 PILING
A52: A | B52: Provision of Piling Rig; inclusive of delivery & removal from site | C52: 1 | D52: Item | E52: 230000 | F52: =SUM(C52*E52) -> 230000
A54: B | B54: Lay Piling Mat (Use centre lines) | C54: 196.4 | D54: m2 | E54: 13.7 | F54: =SUM(C54*E54) -> 2690.68
A56: C | B56: Geotextile Matting | C56: 196.4 | D56: m2 | E56: 11.3 | F56: =SUM(C56*E56) -> 2219.32
A58: D | B58: Movement of Piling Rig | C58: =SUM('TAKE-OFF'!C187) -> 70804.719 | D58: m2 | E58: 0.92 | F58: =SUM(C58*E58) -> 65140.341
...

Sheet BoQ SUMMARY
B1: INNOVATION MATRIX - SA1
B4: SUBSTRUCTURE
B6: BILL SUMMARY
A9: Reference | B9: Description | C9: Qty | D9: Unit | E9: Rate | F9: £ p
B12: SUBSTRUCTURE SUMMARY
B15: 1.0 Preliminary Sitework | C15: Page | D15: Nr | F15: =SUM('BoQ SUBSTRUCTURE '!F19+'BoQ SUBSTRUCTURE '!F21+'BoQ SUBSTRUCTURE '!F23+'BoQ SUBSTRUCTURE '!F25+'BoQ SUBSTRUCTURE '!F27+'BoQ SUBSTRUCTURE '!F32+'BoQ SUBSTRUCTURE '!F37+'BoQ SUBSTRUCTURE '!F42+'BoQ SUBSTRUCTURE '!F47) -> 142860.64
B17: 2.0 Piling | C17: Page | D17: Nr | F17: =SUM('BoQ SUBSTRUCTURE '!F52+'BoQ SUBSTRUCTURE '!F54+'BoQ SUBSTRUCTURE '!F56+'BoQ SUBSTRUCTURE '!F58+'BoQ SUBSTRUCTURE '!F60+'BoQ SUBSTRUCTURE '!F62+'BoQ SUBSTRUCTURE '!F64+'BoQ SUBSTRUCTURE '!F67+'BoQ SUBSTRUCTURE '!F73+'BoQ SUBSTRUCTURE '!F75+'BoQ SUBSTRUCTURE '!F77) -> 611731.46
B19: 3.0 Masonry | C19: Page | D19: Nr | F19: =SUM('BoQ SUBSTRUCTURE '!F85+'BoQ SUBSTRUCTURE '!F89+'BoQ SUBSTRUCTURE '!F93) -> 2997763
A21: Total | F21: =SUM(F15+F17+F19) -> 3752355.1

Sheet DWG SUMMARY
F7: Innovation Matrix
F8: Client: UWTSD
F9: 2022 / 2023
F11: DRAWING SUMMARY
F13: SITE LOCATION PLAN'!A1
F14: PROPOSED SITE PLAN'!A1
F15: PROPOSED LANDSCAPE PLAN'!A1
F16: GF SHELL & CORE'!A1
F17: FF SHELL & CORE'!A1
F18: EXISTING SITE PLAN'!A1
F19: ROOF PLAN'!A1
F20: PLANNING!A1
... F24: FF - LAYOUT'!A1

Sheet SITE LOCATION PLAN

Sheet PROPOSED SITE PLAN

Sheet PROPOSED LANDSCAPE PLAN

Sheet GF SHELL & CORE

Sheet FF SHELL & CORE

Sheet EXISTING SITE PLAN

Sheet ROOF PLAN

Sheet PLANNING

Sheet ELEVATION DETAIL

Sheet SECTION DETAIL

Sheet GF - LAYOUT

Sheet FF - LAYOUT
