Workbook

Sheet Guidance
B3: GUIDANCE ON USING THESE FINANCIAL TEMPLATES FOR YOUR START UP LOAN APPLICATION
B4: In this document, you will find four tabs with financial templates that need to be completed as part of your loan application. Below you will find both a description of each of the templates, as well as some tips on how to complete them. We suggest you complete each template in number order so that you can carry forward any of your workings.
B7: DESCRIPTION OF EACH TEMPLATE
B9: 1 | C9: Your Personal Survival Budget (PSB) should detail your average monthly income minus all the costs and expenses you peronally incur in a typical month. This is a personal budget – not a business budget – that is designed to help us determine whether or not you will be able to meet your monthly Start Up Loan repayments.
B11: * | C11: Your PSB should show PERSONAL income and expenses only, not business related items;
B12: * | C12: Before completing this template, you should reference your last three-months of personal bank statements to see how much you normally earn and spend;
B13: * | C13: Your PSB should reflect your expected expenses for the first month after you secure your Start Up Loan;
B14: * | C14: We have linked the PSB and 12-month CFF tabs so that the monthly balance of your PSB automatically appears in your CFF. This is designed to help you see how much money you need to draw from your business as salary in the future in order to cover your personal expenses;
B15: * | C15: If your personal expenses are more than your personal income, your monthly balance will be negative. In this instance, your business will need to generate enough money to cover the shortfall.
B17: 2 | C17: The Sales Assumptions template will help you work out your anticipated sales and cost of sales for your business for the next 12-months. This will help your Business Adviser better understand any assumptions you have made in your forecasting.
B19: * | C19: You will be asked to choose a start month for your Sales Assumptions; this should be the next month after you expect to receive the loan;
B20: * | C20: The template will ask you to list the various product(s) and/or service(s) that your business offers and there is space for up to four items to be listed. If your business has more than this, consider grouping them together;
B21: * | C21: Work through this template in the order it sets out, as each section corresponds to the one that follows;
B22: * | C22: First you will be asked to write down the sale price of each item, and how much it costs you to produce for each individual unit;
B23: * | C23: Then you will asked to estimate the number of sales you will make for each item over the next 12-months. Once you have entered this information, this will be used to calculate your total anticipated sales and cost of sales for the remainder of the year;
B24: * | C24: The Sales Assumptions is linked to the CFF tab so that your total anticipated sales and cost of sales are automatically populated. If you need to make any changes, make them in the Sales Assumptions tab and the updates will appear in your CFF.
B26: 3 | C26: Your Cash Flow Forecast (CFF) is an estimate of the money you expect to bring in to and pay out of your business over the next 12-months. Importantly, it should reflect all of the activity you have described in your Business Plan.
B28: * | C28: Your CFF should show BUSINESS revenue and expenses only, not personal items;
B29: * | C29: Your CFF is FORWARD looking, reflecting future anticipated transactions into and out of your business;
B30: * | C30: You will be asked to choose a start month for your CFF; this should be the next month after you expect to receive the loan and should match up with the month you selected in your Sales Assumptions;
B31: * | C31: Remember, some of the information that you have created in your PSB and Sales Assumptions will auto-populate in your CFF tab. These cells are green and you do not need to edit them;
B32: * | C32: Any assumptions you make regarding your cash in-flows and cash out-flows should be both realistic and supportable. If you're starting a new business, we suggest being conservative with the cash flows you enter for the early months of trading;
B33: * | C33: It's important that your CFF corresponds with all of the objectives and activities you have outlined in your Business Plan. For example, if you have detailed plans for a three-month marketing campaign in your Business Plan then the costs for running this campaign should be clearly visible in your CFF;
B34: * | C34: Your CFF is based on a future estimate and while these figures will no doubt change over that trading period, it is a good amount of time for you - and us - to see how sustainable your plans are.
B36: TIPS ON COMPLETING THE TEMPLATES
B38: * | C38: The templates are designed to be as easy to use as possible - simply enter your figures into the orange coloured cells on the templates and all of the green coloured cells will auto-calculate based on your responses. The green cells are locked so you cannot them - this is designed to protect the formulas and ensure your calculations are correct;
B39: * | C39: For an explanation of any terms included on these templates, hover over the cells that have a red triangle in the top right corner and you will see some further instructions and guidance related to that item. If you're still unsure don't worry: your first draft won't necessarily be your final submission. Your Business Adviser will be able to work with you once you have submitted an initial draft;
B40: * | C40: If you want to see what formula is being used to calculate any of the green cells, or find out which cells are being used in the calculation, simply click on the cell and the formula will display in the Formula Bar at the top of the page;
B41: * | C41: If any of the numbers you enter result in a negative balance, then this negative balance will be displayed in red to draw this to your attention. Ideally, you want to avoid negative totals or balances, so think about what you can feasibly change in order to achieve this. Alternatively please provide details of how this negative balance will be covered (i.e. Business overdraft etc.) within the commentary box provided;
B42: * | C42: The templates list a range of common options but they might not all be applicable for you. Add or remove items as relevant to you and your business;
B43: * | C43: All values that you enter should be in GBP (£) and should include VAT;
B44: * | C44: Use the commentary box at the bottom of the templates to explain any assumptions you've made or notes you'd like to discuss with your Business Adviser;
B46: *

Sheet 1 Actual Cash Flows
B3: ACTUAL CASH FLOWS: SIX-MONTHS
B5: Enter your full name | I5: Key:
B6: Enter your company name | J6: These cells auto-calculate and are locked so you can't edit them.
B7: Enter date | J7: Insert your own text/numbers into these cells as relevant.
B10: Select your starting month:
E11: MONTHS
B12: Cash in-flows | C12: Description (as required) | D12: Starting point | E12: 1 | F12: 2 | G12: 3 | H12: 4 | I12: 5 | J12: 6 | K12: TOTAL
B13: Total sales revenue | D13: 0 | E13: 0 | F13: 0 | G13: 0 | H13: 0 | I13: 0 | J13: 0 | K13: =SUM(D13:J13) -> 0
B14: Sources of investment | D14: 0 | E14: 0 | F14: 0 | G14: 0 | H14: 0 | I14: 0 | J14: 0 | K14: =SUM(D14:J14) -> 0
B15: Debt-based finance | D15: 0 | E15: 0 | F15: 0 | G15: 0 | H15: 0 | I15: 0 | J15: 0 | K15: =SUM(D15:J15) -> 0
B16: Enter other | D16: 0 | E16: 0 | F16: 0 | G16: 0 | H16: 0 | I16: 0 | J16: 0 | K16: =SUM(D16:J16) -> 0
B17: Enter other | D17: 0 | E17: 0 | F17: 0 | G17: 0 | H17: 0 | I17: 0 | J17: 0 | K17: =SUM(D17:J17) -> 0
B18: Enter other | D18: 0 | E18: 0 | F18: 0 | G18: 0 | H18: 0 | I18: 0 | J18: 0 | K18: =SUM(D18:J18) -> 0
B19: Total cash in-flows (A) | D19: =SUM(D13:D18) -> 0 | E19: =SUM(E13:E18) -> 0 | F19: =SUM(F13:F18) -> 0 | G19: =SUM(G13:G18) -> 0 | H19: =SUM(H13:H18) -> 0 | I19: =SUM(I13:I18) -> 0 | J19: =SUM(J13:J18) -> 0 | K19: =SUM(D19:J19) -> 0
E21: MONTHS
B22: Cash out-flows | C22: Description (as required) | D22: Starting point | E22: 1 | F22: 2 | G22: 3 | H22: 4 | I22: 5 | J22: 6 | K22: TOTAL
B23: Cost of sales | D23: 0 | E23: 0 | F23: 0 | G23: 0 | H23: 0 | I23: 0 | J23: 0 | K23: =SUM(D23:J23) -> 0
B24: Rent or premises costs | D24: 0 | E24: 0 | F24: 0 | G24: 0 | H24: 0 | I24: 0 | J24: 0 | K24: =SUM(D24:J24) -> 0
B25: Business rates for your business premises | D25: 0 | E25: 0 | F25: 0 | G25: 0 | H25: 0 | I25: 0 | J25: 0 | K25: =SUM(D25:J25) -> 0
B26: Utilities (gas, electricity, water) | D26: 0 | E26: 0 | F26: 0 | G26: 0 | H26: 0 | I26: 0 | J26: 0 | K26: =SUM(D26:J26) -> 0
B27: Insurance | D27: 0 | E27: 0 | F27: 0 | G27: 0 | H27: 0 | I27: 0 | J27: 0 | K27: =SUM(D27:J27) -> 0
B28: Telephone and internet | D28: 0 | E28: 0 | F28: 0 | G28: 0 | H28: 0 | I28: 0 | J28: 0 | K28: =SUM(D28:J28) -> 0
B29: Marketing and advertising expenses | D29: 0 | E29: 0 | F29: 0 | G29: 0 | H29: 0 | I29: 0 | J29: 0 | K29: =SUM(D29:J29) -> 0
B30: Vehicle running costs | D30: 0 | E30: 0 | F30: 0 | G30: 0 | H30: 0 | I30: 0 | J30: 0 | K30: =SUM(D30:J30) -> 0
B31: Equipment purchase or leasing | D31: 0 | E31: 0 | F31: 0 | G31: 0 | H31: 0 | I31: 0 | J31: 0 | K31: =SUM(D31:J31) -> 0
B32: Postage, printing, stationery | D32: 0 | E32: 0 | F32: 0 | G32: 0 | H32: 0 | I32: 0 | J32: 0 | K32: =SUM(D32:J32) -> 0
B33: Transport and delivery | D33: 0 | E33: 0 | F33: 0 | G33: 0 | H33: 0 | I33: 0 | J33: 0 | K33: =SUM(D33:J33) -> 0
B34: Professional fees (legal, accounting etc.) | D34: 0 | E34: 0 | F34: 0 | G34: 0 | H34: 0 | I34: 0 | J34: 0 | K34: =SUM(D34:J34) -> 0
B35: Your salary | D35: n/a | E35: 0 | F35: 0 | G35: 0 | H35: 0 | I35: 0 | J35: 0 | K35: =SUM(D35:J35) -> 0
B36: Staff costs | D36: 0 | E36: 0 | F36: 0 | G36: 0 | H36: 0 | I36: 0 | J36: 0 | K36: =SUM(D36:J36) -> 0
B37: Start Up Loan monthly repayment* | D37: n/a | E37: 0 | F37: =E37 -> 0 | G37: =E37 -> 0 | H37: =E37 -> 0 | I37: =E37 -> 0 | J37: =E37 -> 0 | K37: =SUM(D37:J37) -> 0
B38: Enter other | D38: 0 | E38: 0 | F38: 0 | G38: 0 | H38: 0 | I38: 0 | J38: 0 | K38: =SUM(D38:J38) -> 0
B39: Enter other | D39: 0 | E39: 0 | F39: 0 | G39: 0 | H39: 0 | I39: 0 | J39: 0 | K39: =SUM(D39:J39) -> 0
B40: Enter other | D40: 0 | E40: 0 | F40: 0 | G40: 0 | H40: 0 | I40: 0 | J40: 0 | K40: =SUM(D40:J40) -> 0
B41: Enter other | D41: 0 | E41: 0 | F41: 0 | G41: 0 | H41: 0 | I41: 0 | J41: 0 | K41: =SUM(D41:J41) -> 0
B42: Enter other | D42: 0 | E42: 0 | F42: 0 | G42: 0 | H42: 0 | I42: 0 | J42: 0 | K42: =SUM(D42:J42) -> 0
B43: Total cash out-flows (B) | D43: =SUM(D23:D42) -> 0 | E43: =SUM(E23:E42) -> 0 | F43: =SUM(F23:F42) -> 0 | G43: =SUM(G23:G42) -> 0 | H43: =SUM(H23:H42) -> 0 | I43: =SUM(I23:I42) -> 0 | J43: =SUM(J23:J42) -> 0 | K43: =SUM(D43:J43) -> 0
C45: Your net cash flow (A-B) | D45: =D19-D43 -> 0 | E45: =E19-E43 -> 0 | F45: =F19-F43 -> 0 | G45: =G19-G43 -> 0 | H45: =H19-H43 -> 0 | I45: =I19-I43 -> 0 | J45: =J19-J43 -> 0 | K45: =K19-K43 -> 0
C47: Your monthly opening business bank account balance | D47: 0 | E47: =D49 -> 0 | F47: =E49 -> 0 | G47: =F49 -> 0 | H47: =G49 -> 0 | I47: =H49 -> 0 | J47: =I49 -> 0 | K47: =J49 -> 0
C49: Your closing cash position | D49: =D45+D47 -> 0 | E49: =E45+E47 -> 0 | F49: =F45+F47 -> 0 | G49: =G45+G47 -> 0 | H49: =H45+H47 -> 0 | I49: =I45+I47 -> 0 | J49: =J45+J47 -> 0 | K49: =K47 -> 0
...

Sheet 1 Personal Survival Budget(PSB)
B3: PERSONAL SURVIVAL BUDGET
B5: Enter Full Name | F5: Key:
B6: Enter Company Name | G6: These cells auto-calculate and are locked so you can't edit them.
B7: Enter Date | G7: Insert your own text/numbers into these cells as relevant.
B10: Personal income | C10: Description (as required) | E10: Monthly net income (£) | G10: Annual net income (£)
B11: Employment (net income) | E11: 0 | G11: =E11*12 -> 0
B12: Benefits payments | E12: 0 | G12: =E12*12 -> 0
B13: Enter other | E13: 0 | G13: =E13*12 -> 0
B14: Enter other | E14: 0 | G14: =E14*12 -> 0
B15: Enter other | E15: 0 | G15: =E15*12 -> 0
B16: Enter other | E16: 0 | G16: =E16*12 -> 0
B17: Total income across all sources: | E17: =SUM(E11:E16) -> 0 | G17: =SUM(G11:G16) -> 0
B19: Personal expenses | C19: Description (as required) | E19: Monthly net expenses (£) | G19: Annual net expenses (£)
B20: Rent or mortgage payments | E20: 0 | G20: =E20*12 -> 0
B21: Council tax | E21: 0 | G21: =E21*12 -> 0
B22: Utilities | E22: 0 | G22: =E22*12 -> 0
B23: Phone and internet | E23: 0 | G23: =E23*12 -> 0
B24: TV Licence | E24: 0 | G24: =E24*12 -> 0
B25: Personal and property insurance | E25: 0 | G25: =E25*12 -> 0
B26: Grocery shopping | E26: 0 | G26: =E26*12 -> 0
B27: Transport costs | E27: 0 | G27: =E27*12 -> 0
B28: Car tax and insurance | E28: 0 | G28: =E28*12 -> 0
B29: Subscriptions | E29: 0 | G29: =E29*12 -> 0
B30: Clothing | E30: 0 | G30: =E30*12 -> 0
B31: Leisure and entertainment | E31: 0 | G31: =E31*12 -> 0
... B37: Enter other | E37: 0 | G37: =E37*12 -> 0
B38: Total expenses across all areas: | E38: =SUM(E20:E37) -> 0 | G38: =SUM(G20:G37) -> 0
E40: YOUR MONTHLY BALANCE | G40: YOUR ANNUAL BALANCE
E41: =E17-E38 -> 0 | G41: =G17-G38 -> 0
B44: Your notes or commentary
B45: Use this space to explain any of the information you have provided in the fields above.

Sheet 2 Sales Assumptions
B3: SALES ASSUMPTIONS
B5: ='1 Personal Survival Budget(PSB)'!B5 -> Enter Full Name
B6: ='1 Personal Survival Budget(PSB)'!B6 -> Enter Company Name | I6: Key:
B7: ='1 Personal Survival Budget(PSB)'!B7 -> Enter Date | J7: These cells auto-calculate and are locked so you can't edit them.
J8: Insert your own text/numbers into these cells as relevant.
B11: Select your starting month:
B13: 1. Product breakdown
C15: Product / Service 1 | D15: Product / Service 2 | E15: Product / Service 3 | F15: Product / Service 4 | J15: Worked Example
B16: Product / Service name | J16: T-Shirts
B17: Sale price (per unit) | J17: 25
B18: Cost price (per unit) | J18: 12
B19: Gross Margin (per unit) | C19: =SUM(C17-C18)/C18 -> #DIV/0! | D19: =SUM(D17-D18)/D18 -> #DIV/0! | E19: =SUM(E17-E18)/E18 -> #DIV/0! | F19: =SUM(F17-F18)/F18 -> #DIV/0! | J19: =SUM(J17-J18)/J18 -> 1.0833333
B21: 2. Number of sales per month
B22: *Average sales volumes per day based on 30-days per month.
B24: Month | C24: Product / Service 1 | D24: Product / Service 2 | E24: Product / Service 3 | F24: Product / Service 4 | G24: Total sales volumes per month | H24: Average sales volumes per day* | J24: Worked Example
B25: 1 | G25: =SUM(C25:F25) -> 0 | H25: =SUM(G25/30) -> 0 | J25: 30
B26: 2 | G26: =SUM(C26:F26) -> 0 | H26: =SUM(G26/30) -> 0 | J26: 28
B27: 3 | G27: =SUM(C27:F27) -> 0 | H27: =SUM(G27/30) -> 0 | J27: 30
B28: 4 | G28: =SUM(C28:F28) -> 0 | H28: =SUM(G28/30) -> 0 | J28: 45
B29: 5 | G29: =SUM(C29:F29) -> 0 | H29: =SUM(G29/30) -> 0 | J29: 44
B30: 6 | G30: =SUM(C30:F30) -> 0 | H30: =SUM(G30/30) -> 0 | J30: 46
B31: 7 | G31: =SUM(C31:F31) -> 0 | H31: =SUM(G31/30) -> 0 | J31: 50
B32: 8 | G32: =SUM(C32:F32) -> 0 | H32: =SUM(G32/30) -> 0 | J32: 48
B33: 9 | G33: =SUM(C33:F33) -> 0 | H33: =SUM(G33/30) -> 0 | J33: 51
B34: 10 | G34: =SUM(C34:F34) -> 0 | H34: =SUM(G34/30) -> 0 | J34: 55
B35: 11 | G35: =SUM(C35:F35) -> 0 | H35: =SUM(G35/30) -> 0 | J35: 55
B36: 12 | G36: =SUM(C36:F36) -> 0 | H36: =SUM(G36/30) -> 0 | J36: 60
B38: Sales (£)
B39: You do not need to edit this section; this will auto-calculate based on your responses above. *Average sales value per day is based on 30 days per month.
B41: Month | C41: Product / Service 1 | D41: Product / Service 2 | E41: Product / Service 3 | F41: Product / Service 4 | G41: Total sales value (£) per month | H41: Average sales value per day* | J41: Worked Example
B42: 1 | C42: =SUM($C$17*C25) -> 0 | D42: =SUM($D$17*D25) -> 0 | E42: =SUM($E$17*E25) -> 0 | F42: =SUM($F$17*F25) -> 0 | G42: =SUM(C42:F42) -> 0 | H42: =SUM(G42/30) -> 0 | J42: =SUM($J$17*J25) -> 750
B43: 2 | C43: =SUM($C$17*C26) -> 0 | D43: =SUM($D$17*D26) -> 0 | E43: =SUM($E$17*E26) -> 0 | F43: =SUM($F$17*F26) -> 0 | G43: =SUM(C43:F43) -> 0 | H43: =SUM(G43/30) -> 0 | J43: =SUM($J$17*J26) -> 700
B44: 3 | C44: =SUM($C$17*C27) -> 0 | D44: =SUM($D$17*D27) -> 0 | E44: =SUM($E$17*E27) -> 0 | F44: =SUM($F$17*F27) -> 0 | G44: =SUM(C44:F44) -> 0 | H44: =SUM(G44/30) -> 0 | J44: =SUM($J$17*J27) -> 750
B45: 4 | C45: =SUM($C$17*C28) -> 0 | D45: =SUM($D$17*D28) -> 0 | E45: =SUM($E$17*E28) -> 0 | F45: =SUM($F$17*F28) -> 0 | G45: =SUM(C45:F45) -> 0 | H45: =SUM(G45/30) -> 0 | J45: =SUM($J$17*J28) -> 1125
B46: 5 | C46: =SUM($C$17*C29) -> 0 | D46: =SUM($D$17*D29) -> 0 | E46: =SUM($E$17*E29) -> 0 | F46: =SUM($F$17*F29) -> 0 | G46: =SUM(C46:F46) -> 0 | H46: =SUM(G46/30) -> 0 | J46: =SUM($J$17*J29) -> 1100
B47: 6 | C47: =SUM($C$17*C30) -> 0 | D47: =SUM($D$17*D30) -> 0 | E47: =SUM($E$17*E30) -> 0 | F47: =SUM($F$17*F30) -> 0 | G47: =SUM(C47:F47) -> 0 | H47: =SUM(G47/30) -> 0 | J47: =SUM($J$17*J30) -> 1150
B48: 7 | C48: =SUM($C$17*C31) -> 0 | D48: =SUM($D$17*D31) -> 0 | E48: =SUM($E$17*E31) -> 0 | F48: =SUM($F$17*F31) -> 0 | G48: =SUM(C48:F48) -> 0 | H48: =SUM(G48/30) -> 0 | J48: =SUM($J$17*J31) -> 1250
B49: 8 | C49: =SUM($C$17*C32) -> 0 | D49: =SUM($D$17*D32) -> 0 | E49: =SUM($E$17*E32) -> 0 | F49: =SUM($F$17*F32) -> 0 | G49: =SUM(C49:F49) -> 0 | H49: =SUM(G49/30) -> 0 | J49: =SUM($J$17*J32) -> 1200
B50: 9 | C50: =SUM($C$17*C33) -> 0 | D50: =SUM($D$17*D33) -> 0 | E50: =SUM($E$17*E33) -> 0 | F50: =SUM($F$17*F33) -> 0 | G50: =SUM(C50:F50) -> 0 | H50: =SUM(G50/30) -> 0 | J50: =SUM($J$17*J33) -> 1275
B51: 10 | C51: =SUM($C$17*C34) -> 0 | D51: =SUM($D$17*D34) -> 0 | E51: =SUM($E$17*E34) -> 0 | F51: =SUM($F$17*F34) -> 0 | G51: =SUM(C51:F51) -> 0 | H51: =SUM(G51/30) -> 0 | J51: =SUM($J$17*J34) -> 1375
...

Sheet 3 Cash Flow Forecast(CFF)
B3: 12-MONTH CASH FLOW FORECAST
B5: ='1 Personal Survival Budget(PSB)'!B5 -> Enter Full Name | O5: Key:
B6: ='1 Personal Survival Budget(PSB)'!B6 -> Enter Company Name | P6: These cells auto-calculate and are locked so you can't edit them.
B7: ='1 Personal Survival Budget(PSB)'!B7 -> Enter Date | P7: Insert your own text/numbers into these cells as relevant.
B10: Select your starting month:
E11: MONTHS
B12: Cash in-flows | C12: Description (as required) | D12: Starting point | E12: 1 | F12: 2 | G12: 3 | H12: 4 | I12: 5 | J12: 6 | K12: 7 | L12: 8 | M12: 9 | N12: 10 | O12: 11 | P12: 12 | Q12: TOTAL
B13: Total anticipated sales | D13: 0 | E13: ='2 Sales Assumptions'!G42 -> 0 | F13: ='2 Sales Assumptions'!G43 -> 0 | G13: ='2 Sales Assumptions'!G44 -> 0 | H13: ='2 Sales Assumptions'!G45 -> 0 | I13: ='2 Sales Assumptions'!G46 -> 0 | J13: ='2 Sales Assumptions'!G47 -> 0 | K13: ='2 Sales Assumptions'!G48 -> 0 | L13: ='2 Sales Assumptions'!G49 -> 0 | M13: ='2 Sales Assumptions'!G50 -> 0 | N13: ='2 Sales Assumptions'!G51 -> 0 | O13: ='2 Sales Assumptions'!G52 -> 0 | P13: ='2 Sales Assumptions'!G53 -> 0 | Q13: =SUM(D13:P13) -> 0
B14: Value of your Start Up Loan | D14: 0 | E14: n/a | F14: n/a | G14: n/a | H14: n/a | I14: n/a | J14: n/a | K14: n/a | L14: n/a | M14: n/a | N14: n/a | O14: n/a | P14: n/a | Q14: =SUM(D14:P14) -> 0
B15: Other sources of cash or equity | D15: 0 | E15: 0 | F15: 0 | G15: 0 | H15: 0 | I15: 0 | J15: 0 | K15: 0 | L15: 0 | M15: 0 | N15: 0 | O15: 0 | P15: 0 | Q15: =SUM(D15:P15) -> 0
B16: Existing assets for business purposes | D16: 0 | E16: 0 | F16: 0 | G16: 0 | H16: 0 | I16: 0 | J16: 0 | K16: 0 | L16: 0 | M16: 0 | N16: 0 | O16: 0 | P16: 0 | Q16: =SUM(D16:P16) -> 0
B17: Enter other | D17: 0 | E17: 0 | F17: 0 | G17: 0 | H17: 0 | I17: 0 | J17: 0 | K17: 0 | L17: 0 | M17: 0 | N17: 0 | O17: 0 | P17: 0 | Q17: =SUM(D17:P17) -> 0
B18: Enter other | D18: 0 | E18: 0 | F18: 0 | G18: 0 | H18: 0 | I18: 0 | J18: 0 | K18: 0 | L18: 0 | M18: 0 | N18: 0 | O18: 0 | P18: 0 | Q18: =SUM(D18:P18) -> 0
B19: Enter other | D19: 0 | E19: 0 | F19: 0 | G19: 0 | H19: 0 | I19: 0 | J19: 0 | K19: 0 | L19: 0 | M19: 0 | N19: 0 | O19: 0 | P19: 0 | Q19: =SUM(D19:P19) -> 0
B20: Enter other | D20: 0 | E20: 0 | F20: 0 | G20: 0 | H20: 0 | I20: 0 | J20: 0 | K20: 0 | L20: 0 | M20: 0 | N20: 0 | O20: 0 | P20: 0 | Q20: =SUM(D20:P20) -> 0
B21: Total cash in-flows (A) | D21: =SUM(D13:D20) -> 0 | E21: =SUM(E13:E20) -> 0 | F21: =SUM(F13:F20) -> 0 | G21: =SUM(G13:G20) -> 0 | H21: =SUM(H13:H20) -> 0 | I21: =SUM(I13:I20) -> 0 | J21: =SUM(J13:J20) -> 0 | K21: =SUM(K13:K20) -> 0 | ... P21: =SUM(P13:P20) -> 0 | Q21: =SUM(D21:P21) -> 0
E24: MONTHS
B25: Cash out-flows | C25: Description (as required) | D25: Starting point | E25: 1 | F25: 2 | G25: 3 | H25: 4 | I25: 5 | J25: 6 | K25: 7 | L25: 8 | M25: 9 | N25: 10 | O25: 11 | P25: 12 | Q25: TOTAL
B26: Total anticipated cost of sales | D26: 0 | E26: ='2 Sales Assumptions'!G59 -> 0 | F26: ='2 Sales Assumptions'!G60 -> 0 | G26: ='2 Sales Assumptions'!G61 -> 0 | H26: ='2 Sales Assumptions'!G62 -> 0 | I26: ='2 Sales Assumptions'!G63 -> 0 | J26: ='2 Sales Assumptions'!G64 -> 0 | K26: ='2 Sales Assumptions'!G65 -> 0 | L26: ='2 Sales Assumptions'!G66 -> 0 | M26: ='2 Sales Assumptions'!G67 -> 0 | N26: ='2 Sales Assumptions'!G68 -> 0 | O26: ='2 Sales Assumptions'!G69 -> 0 | P26: ='2 Sales Assumptions'!G70 -> 0 | Q26: =SUM(D26:P26) -> 0
B27: Existing assets for business purposes | D27: =SUM(D16) -> 0 | E27: 0 | F27: 0 | G27: 0 | H27: 0 | I27: 0 | J27: 0 | K27: 0 | L27: 0 | M27: 0 | N27: 0 | O27: 0 | P27: 0 | Q27: =SUM(D27:P27) -> 0
B28: Rent or premises costs | D28: 0 | E28: 0 | F28: 0 | G28: 0 | H28: 0 | I28: 0 | J28: 0 | K28: 0 | L28: 0 | M28: 0 | N28: 0 | O28: 0 | P28: 0 | Q28: =SUM(D28:P28) -> 0
B29: Business rates for your business premises | D29: 0 | E29: 0 | F29: 0 | G29: 0 | H29: 0 | I29: 0 | J29: 0 | K29: 0 | L29: 0 | M29: 0 | N29: 0 | O29: 0 | P29: 0 | Q29: =SUM(D29:P29) -> 0
B30: Utilities (gas, electricity, water) | D30: 0 | E30: 0 | F30: 0 | G30: 0 | H30: 0 | I30: 0 | J30: 0 | K30: 0 | L30: 0 | M30: 0 | N30: 0 | O30: 0 | P30: 0 | Q30: =SUM(D30:P30) -> 0
B31: Insurance | D31: 0 | E31: 0 | F31: 0 | G31: 0 | H31: 0 | I31: 0 | J31: 0 | K31: 0 | L31: 0 | M31: 0 | N31: 0 | O31: 0 | P31: 0 | Q31: =SUM(D31:P31) -> 0
B32: Telephone and internet | D32: 0 | E32: 0 | F32: 0 | G32: 0 | H32: 0 | I32: 0 | J32: 0 | K32: 0 | L32: 0 | M32: 0 | N32: 0 | O32: 0 | P32: 0 | Q32: =SUM(D32:P32) -> 0
B33: Marketing and advertising expenses | D33: 0 | E33: 0 | F33: 0 | G33: 0 | H33: 0 | I33: 0 | J33: 0 | K33: 0 | L33: 0 | M33: 0 | N33: 0 | O33: 0 | P33: 0 | Q33: =SUM(D33:P33) -> 0
B34: Vehicle running costs | D34: 0 | E34: 0 | F34: 0 | G34: 0 | H34: 0 | I34: 0 | J34: 0 | K34: 0 | L34: 0 | M34: 0 | N34: 0 | O34: 0 | P34: 0 | Q34: =SUM(D34:P34) -> 0
B35: Equipment purchase or leasing | D35: 0 | E35: 0 | F35: 0 | G35: 0 | H35: 0 | I35: 0 | J35: 0 | K35: 0 | L35: 0 | M35: 0 | N35: 0 | O35: 0 | P35: 0 | Q35: =SUM(D35:P35) -> 0
B36: Postage, printing, stationery | D36: 0 | E36: 0 | F36: 0 | G36: 0 | H36: 0 | I36: 0 | J36: 0 | K36: 0 | L36: 0 | M36: 0 | N36: 0 | O36: 0 | P36: 0 | Q36: =SUM(D36:P36) -> 0
B37: Transport and delivery | D37: 0 | E37: 0 | F37: 0 | G37: 0 | H37: 0 | I37: 0 | J37: 0 | K37: 0 | L37: 0 | M37: 0 | N37: 0 | O37: 0 | P37: 0 | Q37: =SUM(D37:P37) -> 0
B38: Professional fees (legal, accounting etc.) | D38: 0 | E38: 0 | F38: 0 | G38: 0 | H38: 0 | I38: 0 | J38: 0 | K38: 0 | L38: 0 | M38: 0 | N38: 0 | O38: 0 | P38: 0 | Q38: =SUM(D38:P38) -> 0
B39: Your salary (if PSB is in deficit)* | D39: n/a | E39: =IF('1 Personal Survival Budget(PSB)'!E41<0,-'1 Personal Survival Budget(PSB)'!E41,0) -> 0 | F39: =E39 -> 0 | G39: =F39 -> 0 | H39: =G39 -> 0 | I39: =H39 -> 0 | J39: =I39 -> 0 | K39: =J39 -> 0 | L39: =K39 -> 0 | M39: =L39 -> 0 | ... P39: =O39 -> 0 | Q39: =SUM(E39:P39) -> 0
B40: Your salary (over and above your PSB needs)* | D40: n/a | E40: 0 | F40: 0 | G40: 0 | H40: 0 | I40: 0 | J40: 0 | K40: 0 | L40: 0 | M40: 0 | N40: 0 | O40: 0 | P40: 0 | Q40: =SUM(D40:P40) -> 0
B41: Staff costs | D41: 0 | E41: 0 | F41: 0 | G41: 0 | H41: 0 | I41: 0 | J41: 0 | K41: 0 | L41: 0 | M41: 0 | N41: 0 | O41: 0 | P41: 0 | Q41: =SUM(D41:P41) -> 0
B42: Start Up Loan monthly repayment - First Loan | D42: n/a | E42: 0 | F42: =E42 -> 0 | G42: =E42 -> 0 | H42: =E42 -> 0 | I42: =E42 -> 0 | J42: =E42 -> 0 | K42: =E42 -> 0 | L42: =E42 -> 0 | M42: =E42 -> 0 | N42: =E42 -> 0 | O42: =E42 -> 0 | P42: =E42 -> 0 | Q42: =SUM(D42:P42) -> 0
B43: Enter other | D43: n/a | E43: 0 | F43: 0 | G43: 0 | H43: 0 | I43: 0 | J43: 0 | K43: 0 | L43: 0 | M43: 0 | N43: 0 | O43: 0 | P43: 0 | Q43: =SUM(D43:P43) -> 0
B44: Enter other | D44: 0 | E44: 0 | F44: 0 | G44: 0 | H44: 0 | I44: 0 | J44: 0 | K44: 0 | L44: 0 | M44: 0 | N44: 0 | O44: 0 | P44: 0 | Q44: =SUM(D44:P44) -> 0
B45: Enter other | D45: 0 | E45: 0 | F45: 0 | G45: 0 | H45: 0 | I45: 0 | J45: 0 | K45: 0 | L45: 0 | M45: 0 | N45: 0 | O45: 0 | P45: 0 | Q45: =SUM(D45:P45) -> 0
B46: Enter other | D46: 0 | E46: 0 | F46: 0 | G46: 0 | H46: 0 | I46: 0 | J46: 0 | K46: 0 | L46: 0 | M46: 0 | N46: 0 | O46: 0 | P46: 0 | Q46: =SUM(D46:P46) -> 0
B47: Enter other | D47: 0 | E47: 0 | F47: 0 | G47: 0 | H47: 0 | I47: 0 | J47: 0 | K47: 0 | L47: 0 | M47: 0 | N47: 0 | O47: 0 | P47: 0 | Q47: =SUM(D47:P47) -> 0
...

Sheet Months
A1: January
A2: February
A3: March
A4: April
A5: May
A6: June
A7: July
A8: August
A9: September
A10: October
A11: November
A12: December

Sheet STRESS TESTING (internal use)
B1: Stress Test (internal use only)
D3: Starting point | E3: 1 | F3: 2 | G3: 3 | H3: 4 | I3: 5 | J3: 6 | K3: 7 | L3: 8 | M3: 9 | N3: 10 | O3: 11 | P3: 12 | Q3: TOTAL
B4: 0 | C4: Total cash in-flows STRESS TEST | D4: N/A | E4: =$B$4*'3 Cash Flow Forecast(CFF)'!E13 -> 0 | F4: =$B$4*'3 Cash Flow Forecast(CFF)'!F13 -> 0 | G4: =$B$4*'3 Cash Flow Forecast(CFF)'!G13 -> 0 | H4: =$B$4*'3 Cash Flow Forecast(CFF)'!H13 -> 0 | I4: =$B$4*'3 Cash Flow Forecast(CFF)'!I13 -> 0 | J4: =$B$4*'3 Cash Flow Forecast(CFF)'!J13 -> 0 | K4: =$B$4*'3 Cash Flow Forecast(CFF)'!K13 -> 0 | L4: =$B$4*'3 Cash Flow Forecast(CFF)'!L13 -> 0 | ... P4: =$B$4*'3 Cash Flow Forecast(CFF)'!P13 -> 0 | Q4: =SUM(E4:P4) -> 0
B5: 0 | C5: Total COGS STRESS TEST | D5: N/A | E5: =$B$5*'3 Cash Flow Forecast(CFF)'!E26 -> 0 | F5: =$B$5*'3 Cash Flow Forecast(CFF)'!F26 -> 0 | G5: =$B$5*'3 Cash Flow Forecast(CFF)'!G26 -> 0 | H5: =$B$5*'3 Cash Flow Forecast(CFF)'!H26 -> 0 | I5: =$B$5*'3 Cash Flow Forecast(CFF)'!I26 -> 0 | J5: =$B$5*'3 Cash Flow Forecast(CFF)'!J26 -> 0 | K5: =$B$5*'3 Cash Flow Forecast(CFF)'!K26 -> 0 | L5: =$B$5*'3 Cash Flow Forecast(CFF)'!L26 -> 0 | ... P5: =$B$5*'3 Cash Flow Forecast(CFF)'!P26 -> 0 | Q5: =SUM(E5:P5) -> 0
B6: Other Costs | D6: N/A | E6: =SUM('3 Cash Flow Forecast(CFF)'!E27:E48) -> 0 | F6: =SUM('3 Cash Flow Forecast(CFF)'!F27:F48) -> 0 | G6: =SUM('3 Cash Flow Forecast(CFF)'!G27:G48) -> 0 | H6: =SUM('3 Cash Flow Forecast(CFF)'!H27:H48) -> 0 | I6: =SUM('3 Cash Flow Forecast(CFF)'!I27:I48) -> 0 | J6: =SUM('3 Cash Flow Forecast(CFF)'!J27:J48) -> 0 | K6: =SUM('3 Cash Flow Forecast(CFF)'!K27:K48) -> 0 | L6: =SUM('3 Cash Flow Forecast(CFF)'!L27:L48) -> 0 | ... P6: =SUM('3 Cash Flow Forecast(CFF)'!P27:P48) -> 0 | Q6: =SUM(E6:P6) -> 0
B7: Net CashFlow | D7: N/A | E7: =E4-E5-E6 -> 0 | F7: =F4-F5-F6 -> 0 | G7: =G4-G5-G6 -> 0 | H7: =H4-H5-H6 -> 0 | I7: =I4-I5-I6 -> 0 | J7: =J4-J5-J6 -> 0 | K7: =K4-K5-K6 -> 0 | L7: =L4-L5-L6 -> 0 | ... P7: =P4-P5-P6 -> 0 | Q7: =SUM(E7:P7) -> 0
B8: Your closing cash position STRESS TEST | D8: ='3 Cash Flow Forecast(CFF)'!D21 -> 0 | E8: =D8++E7 -> 0 | F8: =E8++F7 -> 0 | G8: =F8++G7 -> 0 | H8: =G8++H7 -> 0 | I8: =H8++I7 -> 0 | J8: =I8++J7 -> 0 | K8: =J8++K7 -> 0 | L8: =K8++L7 -> 0 | ... Q8: =P8++Q7 -> 0
