Workbook
Name Left_front__corner_sprung_mass__kg: #REF!
Name Left_front__corner_sprung_mass__kg: #REF!
Name Left_front__corner_sprung_mass__kg: #REF!
Name Left_front__corner_sprung_mass__kg: #REF!
Name Left_front__corner_sprung_mass__kg: #REF!
Name Left_front__corner_sprung_mass__kg: #REF!
Name Left_front__corner_sprung_mass__kg: #REF!
Name Left_front__corner_sprung_mass__kg: #REF!
Name Left_front__corner_sprung_mass__kg: #REF!
Name Left_front__corner_sprung_mass__kg: #REF!

Sheet Exam Q1
B1: Accel | C1: 5 | D1: m2
B3: Measured Suspension Data | E3: Calculated Suspension Data | H3: Results
B4: MR fl | C4: From WinGeo3 | D4: 1 | E4: Ms fl | F4: Front Left corner sprung mass [kg] | G4: =D8-D12 -> 225 | H4: Kϕf | I4: Front Roll Stiffness [Nm/rad] | J4: =(D20^2*AVERAGE(G17:G18)*1000)/2 -> 49254.407
B5: MR fr | C5: From WinGeo3 | D5: 1 | E5: Ms fr | F5: Front Right corner sprung mass [kg] | G5: =D9-D13 -> 225 | H5: Kϕr | I5: Rear Roll Stiffness [Nm/rad] | J5: =(D22^2*AVERAGE(G19:G20)*1000)/2 -> 21890.847
B6: MR rl | C6: From WinGeo3 | D6: 1 | E6: Ms rl | F6: Rear Left corner sprung mass [kg] | G6: =D10-D14 -> 225 | H6: Kϕt | I6: Total Roll Stiffness [Nm/rad] | J6: =SUM(J4:J5) -> 71145.254
B7: MR rr | C7: From WinGeo3 | D7: 1 | E7: Ms rr | F7: Rear Right corner sprung mass [kg] | G7: =D11-D15 -> 225 | H7: Mot | I7: Overturning moment [Nm] | J7: =G10*C1*G25 -> 1187.5
B8: M fl | C8: Front Left total measured static corner mass [kg] | D8: 250 | E8: Ms f | F8: Total front sprung mass [kg] | G8: =G4+G5 -> 450 | I8: Roll angle (Radians) | J8: =J7/J6 -> 0.016691205 | K8: =J8*180/3.142 -> 0.9562116 | L8: deg
B9: M fr | C9: Front Right measured static corner mass [kg] | D9: 250 | E9: Ms r | F9: Total rear sprung mass [kg] | G9: =G6+G7 -> 450 | H9: WTsf | I9: Front weight transfer due to spung mass [N] | J9: =J8*AVERAGE(G17:G18)*D20*1000/2 -> 548.07692
B10: M rl | C10: Rear Left total measured static corner mass [kg] | D10: 250 | E10: Mstot | F10: Total sprung mass | G10: =G8+G9 -> 900 | H10: WTsr | I10: Rear weight transfer due to spung mass [N] | J10: =J8*AVERAGE(G19:G20)*(D22^2)*1000/(2*D21) -> 243.58974
B11: M rr | C11: Rear Right total measured static corner mass [kg] | D11: 250 | E11: Mtot | F11: Total Mass | G11: =SUM(D8:D11) -> 1000
B12: Mus fl | C12: Front Left unsprung mass [kg] | D12: 25 | E12: Mustot | F12: Total unsprung mass | G12: =SUM(D12:D15) -> 100 | H12: WTsrcf | I12: Front WT due to sprung mass at RC Height | J12: =G8*C1*D28/D20 -> 150
B13: Mus fr | C13: Front Right total unsprung mass [kg] | D13: 25 | E13: Ks fl | F13: Front Left Spring rate [N/mm] | G13: =0.17512678*D16 -> 43.781695 | H13: WTsrcr | I13: Rear WT due to sprung mass at RC Height | J13: =G9*C1*D29/D21 -> 300
B14: Mus rl | C14: Rear Left unsprung mass [kg] | D14: 25 | E14: Ks fr | F14: Front Right rspring rate [N/mm] | G14: =0.17512678*D17 -> 43.781695 | H14: Wtusf | I14: Front WT due to Unsprung mass at wheel centre height | J14: =(SUM(D12:D13)*C1*D24)/D20 -> 45.833333
B15: Mus rr | C15: Rear Right unsprung mass [kg] | D15: 25 | E15: Ks rl | F15: Rear Left Spring rate [N/mm] | G15: =0.17512678*D18 -> 43.781695 | H15: Wtusr | I15: Rear WT due to Unsprung mass at wheel centre height | J15: =(SUM(D14:D15)*C1*D25)/D21 -> 45.833333
B16: Ks fl | C16: Front Left Spring rate [lb/in] | D16: 250 | E16: Ks rr | F16: Rear Right Spring Rate [N/mm] | G16: =0.17512678*D19 -> 43.781695 | I16: Total front WT | J16: =J9+J12+J14 -> 743.91026
B17: Ks fr | C17: Front Right Spring rate [lb/in] | D17: 250 | E17: Kw fl | F17: Front Left wheel rate [N/mm] | G17: =G13*D4^2 -> 43.781695 | I17: Total Rear WT | J17: =J10+J13+J15 -> 589.42308
B18: Ks rl | C18: Rear Left Spring rate [lb/in] | D18: 250 | E18: Kw fr | F18: Front Right wheel rate [N/mm] | G18: =G14*D5^2 -> 43.781695 | I18: Total WT calculated by adding alll Weight Transfers | J18: =J16+J17 -> 1333.3333
B19: Ks rr | C19: Rear Right Spring rate [lb/in] | D19: 250 | E19: Kes rl | F19: Effective rear left spring rate [N/mm] | G19: =G15*D6^2 -> 43.781695 | H19: Fz fl | I19: Left front vertical force [N] | J19: =(D8*9.81)+J16 -> 3196.4103
B20: Tf | C20: Front Track | D20: 1.5 | E20: Kes rr | F20: Effective rear right spring rate [N/mm] | G20: =G16*D7^2 -> 43.781695 | H20: Fz fr | I20: Front Rightvertical force [N] | J20: =(D9*9.81)-J16 -> 1708.5897
B21: Tr | C21: Rear track | D21: 1.5 | E21: b | F21: distance of cg of sprung mass from front axle [m] | G21: =(G9*D23)/G10 -> 1.25 | H21: Fz rl | I21: Rear Left vertical force [N] | J21: =(D10*9.81)+J17 -> 3041.9231
B22: Ts | C22: Rear Spring Track | D22: 1 | E22: hr -hf | F22: Rear -Front RC Height [m] | G22: =D29-D28 -> 0.1 | H22: Fz rr | I22: Rear Right vertical force [N] | J22: =(D11 *9.81)-J17 -> 1863.0769
B23: L | C23: Wheel base | D23: 2.5 | E23: z | F23: Depth of triangle at CG [m] | G23: =G22*G21/D23 -> 0.05 | I23: Total wheel loads by individual wheel load check | J23: =SUM(J19:J22) -> 9810
B24: Rrf | C24: Rolling Radius front | D24: 0.275 | E24: z+hf | F24: Height of roll axis at CG [m] | G24: =G23+D28 -> 0.15 | I24: Total wheel load by static corner weight check | J24: =G11*9.81 -> 9810
B25: Rrr | C25: Rolling Radius rear | D25: 0.275 | F25: Height of CG above roll axis [m] | G25: =D27-G24 -> 0.26388889
B26: Htot | C26: Height of CG of total mass above ground | D26: 0.4 | E26: Hsra
B27: Hs | C27: Height of CG of sprung mass above ground | D27: =((D26*G11)-(SUM(D12:D13)*D24)-( SUM(D14:D15)*D25))/G10 -> 0.41388889 | H27: WT | I27: Total WT calculated for 'solid' car | J27: =G11*C1*D26/ AVERAGE(D20:D21) -> 1333.3333
B28: hf | C28: Height of Front roll centre above ground from Win Geo 3 | D28: 0.1
B29: hr | C29: Height of Rear roll centre above ground from Win Geo 3 | D29: 0.2

Sheet  Q2 Live calc
B1: Accel | C1: 7.2 | D1: m2 | E1: Q2
B3: Measured Suspension Data | E3: Calculated Suspension Data | H3: Results
B4: MR fl | C4: Front Left Motion Ratio | D4: 0.87 | E4: Ms fl | F4: Front Left corner sprung mass [kg] | G4: =D8-D12 -> 156.8 | H4: Kϕf | I4: Front Roll Stiffness [Nm/rad] | J4: =(D20^2*AVERAGE(G17:G18)*1000)/2 -> 28882.107
B5: MR fr | C5: Front Right Motion Ratio | D5: 0.82 | E5: Ms fr | F5: Front Right corner sprung mass [kg] | G5: =D9-D13 -> 177.2 | H5: Kϕr | I5: Rear Roll Stiffness [Nm/rad] | J5: =(D22^2*AVERAGE(G19:G20)*1000)/2 -> 40541.859
B6: MR rl | C6: Rear Left Motion Ratio | D6: 1.02 | E6: Ms rl | F6: Rear Left corner sprung mass [kg] | G6: =D10-D14 -> 163.8 | H6: Kϕt | I6: Total Roll Stiffness [Nm/rad] | J6: =SUM(J4:J5) -> 69423.966
B7: MR rr | C7: Rear Right Motion Ratio | D7: 1.02 | E7: Ms rr | F7: Rear Right corner sprung mass [kg] | G7: =D11-D15 -> 184.2 | H7: Mot | I7: Overturning moment [Nm] | J7: =G10*C1*G25 -> 1796.112
B8: M fl | C8: Front Left total measured static corner mass [kg] | D8: 185.8 | E8: Ms f | F8: Total front sprung mass [kg] | G8: =G4+G5 -> 334 | I8: Roll angle (Radians) | J8: =J7/J6 -> 0.025871642 | K8: =J8*180/3.142 -> 1.4821437 | L8: deg
B9: M fr | C9: Front Right measured static corner mass [kg] | D9: 206.2 | E9: Ms r | F9: Total rear sprung mass [kg] | G9: =G6+G7 -> 348 | H9: WTsf | I9: Front weight transfer due to spung mass [N] | J9: =J8*AVERAGE(G17:G18)*D20*1000/2 -> 508.31805
B10: M rl | C10: Rear Left total measured static corner mass [kg] | D10: 198.8 | E10: Mstot | F10: Total sprung mass | G10: =G8+G9 -> 682 | H10: WTsr | I10: Rear weight transfer due to spung mass [N] | J10: =J8*AVERAGE(G19:G20)*(D22^2)*1000/(2*D21) -> 690.05557
B11: M rr | C11: Rear Right total measured static corner mass [kg] | D11: 219.2 | E11: Mtot | F11: Total Mass | G11: =SUM(D8:D11) -> 810
B12: Mus fl | C12: Front Left unsprung mass [kg] | D12: 29 | E12: Mustot | F12: Total unsprung mass | G12: =SUM(D12:D15) -> 128 | H12: WTsrcf | I12: Front WT due to sprung mass at RC Height | J12: =G8*C1*D28/D20 -> 98.155102
B13: Mus fr | C13: Front Right total unsprung mass [kg] | D13: 29 | E13: Ks fl | F13: Front Left Spring rate [N/mm] | G13: =0.17512678*D16 -> 37.652258 | H13: WTsrcr | I13: Rear WT due to sprung mass at RC Height | J13: =G9*C1*D29/D21 -> 280.23158
B14: Mus rl | C14: Rear Left unsprung mass [kg] | D14: 35 | E14: Ks fr | F14: Front Right rspring rate [N/mm] | G14: =0.17512678*D17 -> 37.126877 | H14: Wtusf | I14: Front WT due to Unsprung mass at wheel centre height | J14: =(SUM(D12:D13)*C1*D24)/D20 -> 79.542857
B15: Mus rr | C15: Rear Right unsprung mass [kg] | D15: 35 | E15: Ks rl | F15: Rear Left Spring rate [N/mm] | G15: =0.17512678*D18 -> 58.842598 | H15: Wtusr | I15: Rear WT due to Unsprung mass at wheel centre height | J15: =(SUM(D14:D15)*C1*D25)/D21 -> 92.842105
B16: Ks fl | C16: Front Left Spring rate [lb/in] | D16: 215 | E16: Ks rr | F16: Rear Right Spring Rate [N/mm] | G16: =0.17512678*D19 -> 59.017725 | I16: Total front WT | J16: =J9+J12+J14 -> 686.016
B17: Ks fr | C17: Front Right Spring rate [lb/in] | D17: 212 | E17: Kw fl | F17: Front Left wheel rate [N/mm] | G17: =G13*D4^2 -> 28.498994 | I17: Total Rear WT | J17: =J10+J13+J15 -> 1063.1293
B18: Ks rl | C18: Rear Left Spring rate [lb/in] | D18: 336 | E18: Kw fr | F18: Front Right wheel rate [N/mm] | G18: =G14*D5^2 -> 24.964112 | I18: Total WT calculated by adding alll Weight Transfers | J18: =J16+J17 -> 1749.1453
B19: Ks rr | C19: Rear Right Spring rate [lb/in] | D19: 337 | E19: Kes rl | F19: Effective rear left spring rate [N/mm] | G19: =G15*D6^2 -> 61.219839 | H19: Fz fl | I19: Left front vertical force [N] | J19: =(D8*9.81)+J16 -> 2508.714
B20: Tf | C20: Front Track [m] | D20: 1.47 | E20: Kes rr | F20: Effective rear right spring rate [N/mm] | G20: =G16*D7^2 -> 61.402041 | H20: Fz fr | I20: Front Rightvertical force [N] | J20: =(D9*9.81)-J16 -> 1336.806
B21: Tr | C21: Rear track [m] | D21: 1.52 | E21: b | F21: distance of cg of sprung mass from front axle [m] | G21: =(G9*D23)/G10 -> 1.301173 | H21: Fz rl | I21: Rear Left vertical force [N] | J21: =(D10*9.81)+J17 -> 3013.3573
B22: Ts | C22: Rear Spring Track [m] | D22: 1.15 | E22: hr -hf | F22: Rear -Front RC Height [m] | G22: =D29-D28 -> 0.11 | H22: Fz rr | I22: Rear Right vertical force [N] | J22: =(D11 *9.81)-J17 -> 1087.2227
B23: L | C23: Wheel base [m] | D23: 2.55 | E23: z | F23: Depth of triangle at CG [m] | G23: =G22*G21/D23 -> 0.056129032 | I23: Total wheel loads by individual wheel load check | J23: =SUM(J19:J22) -> 7946.1
B24: Rfr | C24: Rolling Radius front [m] | D24: 0.28 | E24: z+hf | F24: Height of roll axis at CG [m] | G24: =G23+D28 -> 0.11612903 | I24: Total wheel load by static corner weight check | J24: =G11*9.81 -> 7946.1
B25: Rrr | C25: Rolling Radius rear [m] | D25: 0.28 | E25: Hsra | F25: Height of CG above roll axis [m] | G25: =D27-G24 -> 0.36577713 | H25: WT | I25: Total WT calculated for 'solid' car | J25: =G11*C1*D26/ AVERAGE(D20:D21) -> 1755.4515
B26: Htot | C26: Height of CG of total mass above ground [m] | D26: 0.45
B27: Hs | C27: Height of CG of sprung mass above ground [m] | D27: =((D26*G11)-(SUM(D12:D13)*D24)-( SUM(D14:D15)*D25))/G10 -> 0.48190616
B28: hf | C28: Height of Front roll centre above ground [m] | D28: 0.06
B29: hr | C29: Height of Rear roll centre above ground [m] | D29: 0.17

Sheet Load Splits for Q2
C2: Wheel load distribution | G2: Q2
H5: =H7/H11 -> 0.48395062
H6: LF+RF
H7: =F9+J9 -> 3845.52
F8: =F9/H11 -> 0.31571639 | G8: LF | I8: RF | J8: =J9/H11 -> 0.16823423
C9: Front Split | D9: LF-RF | E9: =F9-J9 -> 1171.908 | F9: =' Q2 Live calc'!J19 -> 2508.714 | J9: =' Q2 Live calc'!J20 -> 1336.806
D11: LF+LR | E11: =F11/H11 -> 0.69494107 | F11: =F9+F13 -> 5522.0713 | H11: =H7+H14 -> 7946.1 | J11: =J9+J13 -> 2424.0287 | K11: =J11/H11 -> 0.30505893 | L11: RF+RR
C12: (LR-RR) - | D12: (LF-RF) | E12: =E13-E9 -> 754.22651 | F12: =F13/H11 -> 0.37922468 | J12: =J13/H11 -> 0.1368247
C13: Rear Split | D13: LR-RR | E13: =F13-J13 -> 1926.1345 | F13: =' Q2 Live calc'!J21 -> 3013.3573 | G13: LR | I13: RR | J13: =' Q2 Live calc'!J22 -> 1087.2227
E14: LR-LF Split | F14: =F13-F9 -> 504.64325 | H14: =F13+J13 -> 4100.58 | J14: =J13-J9 -> -249.58325 | K14: RR-RF Split
E15: Wedge | F15: =(F13+J9)/H11 -> 0.54745891 | H15: LR+RR
E16: LR-RF Split | F16: =F13-J9 -> 1676.5513 | H16: =H14/H11 -> 0.51604938

Sheet  Q3 Live calc 
B1: Accel | C1: 7.2 | D1: m2
B3: Measured Suspension Data | E3: Calculated Suspension Data | H3: Results
B4: MR fl | C4: Front Left Motion Ratio | D4: 0.87 | E4: Ms fl | F4: Front Left corner sprung mass [kg] | G4: =D8-D12 -> 146.6 | H4: Kϕf | I4: Front Roll Stiffness [Nm/rad] | J4: =(D20^2*AVERAGE(G17:G18)*1000)/2 -> 28882.107
B5: MR fr | C5: Front Right Motion Ratio | D5: 0.82 | E5: Ms fr | F5: Front Right corner sprung mass [kg] | G5: =D9-D13 -> 167.6 | H5: Kϕr | I5: Rear Roll Stiffness [Nm/rad] | J5: =(D22^2*AVERAGE(G19:G20)*1000)/2 -> 40541.859
B6: MR rl | C6: Rear Left Motion Ratio | D6: 1.02 | E6: Ms rl | F6: Rear Left corner sprung mass [kg] | G6: =D10-D14 -> 143.7 | H6: Kϕt | I6: Total Roll Stiffness [Nm/rad] | J6: =SUM(J4:J5) -> 69423.966
B7: MR rr | C7: Rear Right Motion Ratio | D7: 1.02 | E7: Ms rr | F7: Rear Right corner sprung mass [kg] | G7: =D11-D15 -> 173.2 | H7: Mot | I7: Overturning moment [Nm] | J7: =G10*C1*G25 -> 1677.816
B8: M fl | C8: Front Left total measured static corner mass [kg] | D8: 175.6 | E8: Ms f | F8: Total front sprung mass [kg] | G8: =G4+G5 -> 314.2 | I8: Roll angle (Radians) | J8: =J7/J6 -> 0.024167677 | K8: =J8*180/3.142 -> 1.3845264 | L8: deg
B9: M fr | C9: Front Right measured static corner mass [kg] | D9: 196.6 | E9: Ms r | F9: Total rear sprung mass [kg] | G9: =G6+G7 -> 316.9 | H9: WTsf | I9: Front weight transfer due to spung mass [N] | J9: =J8*AVERAGE(G17:G18)*D20*1000/2 -> 474.83907
B10: M rl | C10: Rear Left total measured static corner mass [kg] | D10: 178.7 | E10: Mstot | F10: Total sprung mass | G10: =G8+G9 -> 631.1 | H10: WTsr | I10: Rear weight transfer due to spung mass [N] | J10: =J8*AVERAGE(G19:G20)*(D22^2)*1000/(2*D21) -> 644.60695
B11: M rr | C11: Rear Right total measured static corner mass [kg] | D11: 208.2 | E11: Mtot | F11: Total Mass | G11: =SUM(D8:D11) -> 759.1
B12: Mus fl | C12: Front Left unsprung mass [kg] | D12: 29 | E12: Mustot | F12: Total unsprung mass | G12: =SUM(D12:D15) -> 128 | H12: WTsrcf | I12: Front WT due to sprung mass at RC Height | J12: =G8*C1*D28/D20 -> 92.336327
B13: Mus fr | C13: Front Right total unsprung mass [kg] | D13: 29 | E13: Ks fl | F13: Front Left Spring rate [N/mm] | G13: =0.17512678*D16 -> 37.652258 | H13: WTsrcr | I13: Rear WT due to sprung mass at RC Height | J13: =G9*C1*D29/D21 -> 255.18789
B14: Mus rl | C14: Rear Left unsprung mass [kg] | D14: 35 | E14: Ks fr | F14: Front Right rspring rate [N/mm] | G14: =0.17512678*D17 -> 37.126877 | H14: Wtusf | I14: Front WT due to Unsprung mass at wheel centre height | J14: =(SUM(D12:D13)*C1*D24)/D20 -> 79.542857
B15: Mus rr | C15: Rear Right unsprung mass [kg] | D15: 35 | E15: Ks rl | F15: Rear Left Spring rate [N/mm] | G15: =0.17512678*D18 -> 58.842598 | H15: Wtusr | I15: Rear WT due to Unsprung mass at wheel centre height | J15: =(SUM(D14:D15)*C1*D25)/D21 -> 92.842105
B16: Ks fl | C16: Front Left Spring rate [lb/in] | D16: 215 | E16: Ks rr | F16: Rear Right Spring Rate [N/mm] | G16: =0.17512678*D19 -> 59.017725 | I16: Total front WT | J16: =J9+J12+J14 -> 646.71825
B17: Ks fr | C17: Front Right Spring rate [lb/in] | D17: 212 | E17: Kw fl | F17: Front Left wheel rate [N/mm] | G17: =G13*D4^2 -> 28.498994 | I17: Total Rear WT | J17: =J10+J13+J15 -> 992.63695
B18: Ks rl | C18: Rear Left Spring rate [lb/in] | D18: 336 | E18: Kw fr | F18: Front Right wheel rate [N/mm] | G18: =G14*D5^2 -> 24.964112 | I18: Total WT calculated by adding alll Weight Transfers | J18: =J16+J17 -> 1639.3552
B19: Ks rr | C19: Rear Right Spring rate [lb/in] | D19: 337 | E19: Kes rl | F19: Effective rear left spring rate [N/mm] | G19: =G15*D6^2 -> 61.219839 | H19: Fz fl | I19: Left front vertical force [N] | J19: =(D8*9.81)+J16 -> 2369.3543
B20: Tf | C20: Front Track [m] | D20: 1.47 | E20: Kes rr | F20: Effective rear right spring rate [N/mm] | G20: =G16*D7^2 -> 61.402041 | H20: Fz fr | I20: Front Rightvertical force [N] | J20: =(D9*9.81)-J16 -> 1281.9277
B21: Tr | C21: Rear track [m] | D21: 1.52 | E21: b | F21: distance of cg of sprung mass from front axle [m] | G21: =(G9*D23)/G10 -> 1.2804548 | H21: Fz rl | I21: Rear Left vertical force [N] | J21: =(D10*9.81)+J17 -> 2745.684
B22: Ts | C22: Rear Spring Track [m] | D22: 1.15 | E22: hr -hf | F22: Rear -Front RC Height [m] | G22: =D29-D28 -> 0.11 | H22: Fz rr | I22: Rear Right vertical force [N] | J22: =(D11 *9.81)-J17 -> 1049.805
B23: L | C23: Wheel base [m] | D23: 2.55 | E23: z | F23: Depth of triangle at CG [m] | G23: =G22*G21/D23 -> 0.055235303 | I23: Total wheel loads by individual wheel load check | J23: =SUM(J19:J22) -> 7446.771
B24: Rfr | C24: Rolling Radius front [m] | D24: 0.28 | E24: z+hf | F24: Height of roll axis at CG [m] | G24: =G23+D28 -> 0.1152353 | I24: Total wheel load by static corner weight check | J24: =G11*9.81 -> 7446.771
B25: Rrr | C25: Rolling Radius rear [m] | D25: 0.28 | E25: Hsra | F25: Height of CG above roll axis [m] | G25: =D27-G24 -> 0.36924418 | H25: WT | I25: Total WT calculated for 'solid' car | J25: =G11*C1*D26/ AVERAGE(D20:D21) -> 1645.1398
B26: Htot | C26: Height of CG of total mass above ground [m] | D26: 0.45
B27: Hs | C27: Height of CG of sprung mass above ground [m] | D27: =((D26*G11)-(SUM(D12:D13)*D24)-( SUM(D14:D15)*D25))/G10 -> 0.48447948
B28: hf | C28: Height of Front roll centre above ground [m] | D28: 0.06
B29: hr | C29: Height of Rear roll centre above ground [m] | D29: 0.17

Sheet Load Splits for Q3
C2: Wheel load distribution | G2: Q3.i
H5: =H7/H11 -> 0.49031748
H6: LF+RF
H7: =F9+J9 -> 3651.282
F8: =F9/H11 -> 0.31817203 | G8: LF | I8: RF | J8: =J9/H11 -> 0.17214545
C9: Front Split | D9: LF-RF | E9: =F9-J9 -> 1087.4265 | F9: =' Q3 Live calc '!J19 -> 2369.3543 | J9: =' Q3 Live calc '!J20 -> 1281.9277
D11: LF+LR | E11: =F11/H11 -> 0.68688002 | F11: =F9+F13 -> 5115.0382 | H11: =H7+H14 -> 7446.771 | J11: =J9+J13 -> 2331.7328 | K11: =J11/H11 -> 0.31311998 | L11: RF+RR
C12: (LR-RR) - | D12: (LF-RF) | E12: =E13-E9 -> 608.4524 | F12: =F13/H11 -> 0.36870799 | J12: =J13/H11 -> 0.14097453
C13: Rear Split | D13: LR-RR | E13: =F13-J13 -> 1695.8789 | F13: =' Q3 Live calc '!J21 -> 2745.684 | G13: LR | I13: RR | J13: =' Q3 Live calc '!J22 -> 1049.805
E14: LR-LF Split | F14: =F13-F9 -> 376.3297 | H14: =F13+J13 -> 3795.489 | J14: =J13-J9 -> -232.1227 | K14: RR-RF Split
E15: Wedge | F15: =(F13+J9)/H11 -> 0.54085344 | H15: LR+RR
E16: LR-RF Split | F16: =F13-J9 -> 1463.7562 | H16: =H14/H11 -> 0.50968252

Sheet  Q4 Indep calc  
B1: Accel | C1: 7.2 | D1: m2 | F1: Independent Suspension | H1: Q4i
B3: Measured Suspension Data | E3: Calculated Suspension Data | H3: Results
B4: MR fl | C4: Front Left Motion Ratio | D4: 0.87 | E4: Ms fl | F4: Front Left corner sprung mass [kg] | G4: =D8-D12 -> 146.6 | H4: Kϕf | I4: Front Roll Stiffness [Nm/rad] | J4: =(D20^2*AVERAGE(G17:G18)*1000)/2 -> 28882.107
B5: MR fr | C5: Front Right Motion Ratio | D5: 0.82 | E5: Ms fr | F5: Front Right corner sprung mass [kg] | G5: =D9-D13 -> 167.6 | H5: Kϕr | I5: Rear Roll Stiffness [Nm/rad] | J5: =(D21^2*AVERAGE(G19:G20)*1000)/2 -> 33357.3
B6: MR rl | C6: Rear Left Motion Ratio | D6: 0.7 | E6: Ms rl | F6: Rear Left corner sprung mass [kg] | G6: =D10-D14 -> 143.7 | H6: Kϕt | I6: Total Roll Stiffness [Nm/rad] | J6: =SUM(J4:J5) -> 62239.407
B7: MR rr | C7: Rear Right Motion Ratio | D7: 0.7 | E7: Ms rr | F7: Rear Right corner sprung mass [kg] | G7: =D11-D15 -> 173.2 | H7: Mot | I7: Overturning moment [Nm] | J7: =G10*C1*G25 -> 1883.1672
B8: M fl | C8: Front Left total measured static corner mass [kg] | D8: 175.6 | E8: Ms f | F8: Total front sprung mass [kg] | G8: =G4+G5 -> 314.2 | I8: Roll angle (Radians) | J8: =J7/J6 -> 0.030256831 | K8: =J8*180/3.142 -> 1.733364 | L8: deg
B9: M fr | C9: Front Right measured static corner mass [kg] | D9: 196.6 | E9: Ms r | F9: Total rear sprung mass [kg] | G9: =G6+G7 -> 316.9 | H9: WTsf | I9: Front weight transfer due to spung mass [N] | J9: =J8*AVERAGE(G17:G18)*D20*1000/2 -> 594.47688
B10: M rl | C10: Rear Left total measured static corner mass [kg] | D10: 178.7 | E10: Mstot | F10: Total sprung mass | G10: =G8+G9 -> 631.1 | H10: WTsr | I10: Rear weight transfer due to spung mass [N] | J10: =J8*AVERAGE(G19:G20)*D21*1000/2 -> 664.00407
B11: M rr | C11: Rear Right total measured static corner mass [kg] | D11: 208.2 | E11: Mtot | F11: Total Mass | G11: =SUM(D8:D11) -> 759.1
B12: Mus fl | C12: Front Left unsprung mass [kg] | D12: 29 | E12: Mustot | F12: Total unsprung mass | G12: =SUM(D12:D15) -> 128 | H12: WTsrcf | I12: Front WT due to sprung mass at RC Height | J12: =G8*C1*D28/D20 -> 92.336327
B13: Mus fr | C13: Front Right total unsprung mass [kg] | D13: 29 | E13: Ks fl | F13: Front Left Spring rate [N/mm] | G13: =0.17512678*D16 -> 37.652258 | H13: WTsrcr | I13: Rear WT due to sprung mass at RC Height | J13: =G9*C1*D29/D21 -> 120.08842
B14: Mus rl | C14: Rear Left unsprung mass [kg] | D14: 35 | E14: Ks fr | F14: Front Right rspring rate [N/mm] | G14: =0.17512678*D17 -> 37.126877 | H14: Wtusf | I14: Front WT due to Unsprung mass at wheel centre height | J14: =(SUM(D12:D13)*C1*D24)/D20 -> 79.542857
B15: Mus rr | C15: Rear Right unsprung mass [kg] | D15: 35 | E15: Ks rl | F15: Rear Left Spring rate [N/mm] | G15: =0.17512678*D18 -> 58.842598 | H15: Wtusr | I15: Rear WT due to Unsprung mass at wheel centre height | J15: =(SUM(D14:D15)*C1*D25)/D21 -> 92.842105
B16: Ks fl | C16: Front Left Spring rate [lb/in] | D16: 215 | E16: Ks rr | F16: Rear Right Spring Rate [N/mm] | G16: =0.17512678*D19 -> 59.017725 | I16: Total front WT | J16: =J9+J12+J14 -> 766.35606
B17: Ks fr | C17: Front Right Spring rate [lb/in] | D17: 212 | E17: Kw fl | F17: Front Left wheel rate [N/mm] | G17: =G13*D4^2 -> 28.498994 | I17: Total Rear WT | J17: =J10+J13+J15 -> 876.9346
B18: Ks rl | C18: Rear Left Spring rate [lb/in] | D18: 336 | E18: Kw fr | F18: Front Right wheel rate [N/mm] | G18: =G14*D5^2 -> 24.964112 | I18: Total WT calculated by adding alll Weight Transfers | J18: =J16+J17 -> 1643.2907
B19: Ks rr | C19: Rear Right Spring rate [lb/in] | D19: 337 | E19: Kes rl | F19: Rear left wheel rate [N/mm] | G19: =G15*D6^2 -> 28.832873 | H19: Fz fl | I19: Left front vertical force [N] | J19: =(D8*9.81)+J16 -> 2488.9921
B20: Tf | C20: Front Track [m] | D20: 1.47 | E20: Kes rr | F20: Rear right wheel rate [N/mm] | G20: =G16*D7^2 -> 28.918685 | H20: Fz fr | I20: Front Rightvertical force [N] | J20: =(D9*9.81)-J16 -> 1162.2899
B21: Tr | C21: Rear track [m] | D21: 1.52 | E21: b | F21: Distance of cg of sprung mass from front axle [m] | G21: =(G9*D23)/G10 -> 1.2804548 | H21: Fz rl | I21: Rear Left vertical force [N] | J21: =(D10*9.81)+J17 -> 2629.9816
E22: hr -hf | F22: Rear -Front RC Height [m] | G22: =D29-D28 -> 0.02 | H22: Fz rr | I22: Rear Right vertical force [N] | J22: =(D11 *9.81)-J17 -> 1165.5074
B23: L | C23: Wheel base [m] | D23: 2.55 | E23: z | F23: Depth of triangle at CG [m] | G23: =G22*G21/D23 -> 0.010042782 | I23: Total wheel loads by individual wheel load check | J23: =SUM(J19:J22) -> 7446.771
B24: Rfr | C24: Rolling Radius front [m] | D24: 0.28 | E24: z+hf | F24: Height of roll axis at CG [m] | G24: =G23+D28 -> 0.070042782 | I24: Total wheel load by static corner weight check | J24: =G11*9.81 -> 7446.771
B25: Rrr | C25: Rolling Radius rear [m] | D25: 0.28 | E25: Hsra | F25: Height of CG above roll axis [m] | G25: =D27-G24 -> 0.4144367 | H25: WT | I25: Total WT calculated for 'solid' car | J25: =G11*C1*D26/ AVERAGE(D20:D21) -> 1645.1398
B26: Htot | C26: Height of CG of total mass above ground [m] | D26: 0.45
B27: Hs | C27: Height of CG of sprung mass above ground [m] | D27: =((D26*G11)-(SUM(D12:D13)*D24)-( SUM(D14:D15)*D25))/G10 -> 0.48447948
B28: hf | C28: Height of Front roll centre above ground [m] | D28: 0.06
B29: hr | C29: Height of Rear roll centre above ground [m] | D29: 0.08

Sheet Load Splits for Q4
C2: Wheel load distribution | G2: Q4ii
H5: =H7/H11 -> 0.49031748
H6: LF+RF
H7: =F9+J9 -> 3651.282
F8: =F9/H11 -> 0.33423776 | G8: LF | I8: RF | J8: =J9/H11 -> 0.15607972
C9: Front Split | D9: LF-RF | E9: =F9-J9 -> 1326.7021 | F9: =' Q4 Indep calc '!J19 -> 2488.9921 | J9: =' Q4 Indep calc '!J20 -> 1162.2899
D11: LF+LR | E11: =F11/H11 -> 0.6874085 | F11: =F9+F13 -> 5118.9737 | H11: =H7+H14 -> 7446.771 | J11: =J9+J13 -> 2327.7973 | K11: =J11/H11 -> 0.3125915 | L11: RF+RR | P11: 900.6856
C12: (LR-RR) - | D12: (LF-RF) | E12: =E13-E9 -> 137.77207 | F12: =F13/H11 -> 0.35317074 | J12: =J13/H11 -> 0.15651178
C13: Rear Split | D13: LR-RR | E13: =F13-J13 -> 1464.4742 | F13: =' Q4 Indep calc '!J21 -> 2629.9816 | G13: LR | I13: RR | J13: =' Q4 Indep calc '!J22 -> 1165.5074
E14: LR-LF Split | F14: =F13-F9 -> 140.98953 | H14: =F13+J13 -> 3795.489 | J14: =J13-J9 -> 3.2174673 | K14: RR-RF Split
E15: Wedge | F15: =(F13+J9)/H11 -> 0.50925046 | H15: LR+RR
E16: LR-RF Split | F16: =F13-J9 -> 1467.6917 | H16: =H14/H11 -> 0.50968252

Sheet  Q4 Indep calc Recal  
B1: Accel | C1: 7.2 | D1: m2 | E1: Q4 iii
B3: Measured Suspension Data | E3: Calculated Suspension Data | H3: Results
B4: MR fl | C4: Front Left Motion Ratio | D4: 0.82 | E4: Ms fl | F4: Front Left corner sprung mass [kg] | G4: =D8-D12 -> 146.6 | H4: Kϕf | I4: Front Roll Stiffness [Nm/rad] | J4: =(D20^2*AVERAGE(G17:G18)*1000)/2 -> 27163.318
B5: MR fr | C5: Front Right Motion Ratio | D5: 0.82 | E5: Ms fr | F5: Front Right corner sprung mass [kg] | G5: =D9-D13 -> 167.6 | H5: Kϕr | I5: Rear Roll Stiffness [Nm/rad] | J5: =(D21^2*AVERAGE(G19:G20)*1000)/2 -> 46125.265
B6: MR rl | C6: Rear Left Motion Ratio | D6: 0.7 | E6: Ms rl | F6: Rear Left corner sprung mass [kg] | G6: =D10-D14 -> 143.7 | H6: Kϕt | I6: Total Roll Stiffness [Nm/rad] | J6: =SUM(J4:J5) -> 73288.583
B7: MR rr | C7: Rear Right Motion Ratio | D7: 0.7 | E7: Ms rr | F7: Rear Right corner sprung mass [kg] | G7: =D11-D15 -> 173.2 | H7: Mot | I7: Overturning moment [Nm] | J7: =G10*C1*G25 -> 1883.1672
B8: M fl | C8: Front Left total measured static corner mass [kg] | D8: 175.6 | E8: Ms f | F8: Total front sprung mass [kg] | G8: =G4+G5 -> 314.2 | I8: Roll angle (Radians) | J8: =J7/J6 -> 0.025695233 | K8: =J8*180/3.142 -> 1.4720375 | L8: deg
B9: M fr | C9: Front Right measured static corner mass [kg] | D9: 196.6 | E9: Ms r | F9: Total rear sprung mass [kg] | G9: =G6+G7 -> 316.9 | H9: WTsf | I9: Front weight transfer due to spung mass [N] | J9: =J8*AVERAGE(G17:G18)*D20*1000/2 -> 474.80801
B10: M rl | C10: Rear Left total measured static corner mass [kg] | D10: 178.7 | E10: Mstot | F10: Total sprung mass | G10: =G8+G9 -> 631.1 | H10: WTsr | I10: Rear weight transfer due to spung mass [N] | J10: =J8*AVERAGE(G19:G20)*D21*1000/2 -> 779.73646
B11: M rr | C11: Rear Right total measured static corner mass [kg] | D11: 208.2 | E11: Mtot | F11: Total Mass | G11: =SUM(D8:D11) -> 759.1
B12: Mus fl | C12: Front Left unsprung mass [kg] | D12: 29 | E12: Mustot | F12: Total unsprung mass | G12: =SUM(D12:D15) -> 128 | H12: WTsrcf | I12: Front WT due to sprung mass at RC Height | J12: =G8*C1*D28/D20 -> 92.336327
B13: Mus fr | C13: Front Right total unsprung mass [kg] | D13: 29 | E13: Ks fl | F13: Front Left Spring rate [N/mm] | G13: =0.17512678*D16 -> 37.652258 | H13: WTsrcr | I13: Rear WT due to sprung mass at RC Height | J13: =G9*C1*D29/D21 -> 120.08842
B14: Mus rl | C14: Rear Left unsprung mass [kg] | D14: 35 | E14: Ks fr | F14: Front Right rspring rate [N/mm] | G14: =0.17512678*D17 -> 37.126877 | H14: Wtusf | I14: Front WT due to Unsprung mass at wheel centre height | J14: =(SUM(D12:D13)*C1*D24)/D20 -> 79.542857
B15: Mus rr | C15: Rear Right unsprung mass [kg] | D15: 35 | E15: Ks rl | F15: Rear Left Spring rate [N/mm] | G15: =0.17512678*D18 -> 81.486491 | H15: Wtusr | I15: Rear WT due to Unsprung mass at wheel centre height | J15: =(SUM(D14:D15)*C1*D25)/D21 -> 92.842105
B16: Ks fl | C16: Front Left Spring rate [lb/in] | D16: 215 | E16: Ks rr | F16: Rear Right Spring Rate [N/mm] | G16: =0.17512678*D19 -> 81.486491 | I16: Total front WT | J16: =J9+J12+J14 -> 646.6872
B17: Ks fr | C17: Front Right Spring rate [lb/in] | D17: 212 | E17: Kw fl | F17: Front Left wheel rate [N/mm] | G17: =G13*D4^2 -> 25.317378 | I17: Total Rear WT | J17: =J10+J13+J15 -> 992.66699
B18: Ks rl | C18: Rear Left Spring rate [lb/in] | D18: 465.3 | E18: Kw fr | F18: Front Right wheel rate [N/mm] | G18: =G14*D5^2 -> 24.964112 | I18: Total WT calculated by adding alll Weight Transfers | J18: =J16+J17 -> 1639.3542
B19: Ks rr | C19: Rear Right Spring rate [lb/in] | D19: =D18 -> 465.3 | E19: Kes rl | F19: Effective rear left spring rate [N/mm] | G19: =G15*D6^2 -> 39.92838 | H19: Fz fl | I19: Left front vertical force [N] | J19: =(D8*9.81)+J16 -> 2369.3232
B20: Tf | C20: Front Track [m] | D20: 1.47 | E20: Kes rr | F20: Effective rear right spring rate [N/mm] | G20: =G16*D7^2 -> 39.92838 | H20: Fz fr | I20: Front Rightvertical force [N] | J20: =(D9*9.81)-J16 -> 1281.9588
B21: Tr | C21: Rear track [m] | D21: 1.52 | E21: b | F21: distance of cg of sprung mass from front axle [m] | G21: =(G9*D23)/G10 -> 1.2804548 | H21: Fz rl | I21: Rear Left vertical force [N] | J21: =(D10*9.81)+J17 -> 2745.714
E22: hr -hf | F22: Rear -Front RC Height [m] | G22: =D29-D28 -> 0.02 | H22: Fz rr | I22: Rear Right vertical force [N] | J22: =(D11 *9.81)-J17 -> 1049.775
B23: L | C23: Wheel base [m] | D23: 2.55 | E23: z | F23: Depth of triangle at CG [m] | G23: =G22*G21/D23 -> 0.010042782 | I23: Total wheel loads by individual wheel load check | J23: =SUM(J19:J22) -> 7446.771
B24: Rfr | C24: Rolling Radius front [m] | D24: 0.28 | E24: z+hf | F24: Height of roll axis at CG [m] | G24: =G23+D28 -> 0.070042782 | I24: Total wheel load by static corner weight check | J24: =G11*9.81 -> 7446.771
B25: Rrr | C25: Rolling Radius rear [m] | D25: 0.28 | E25: Hsra | F25: Height of CG above roll axis [m] | G25: =D27-G24 -> 0.4144367 | H25: WT | I25: Total WT calculated for 'solid' car | J25: =G11*C1*D26/ AVERAGE(D20:D21) -> 1645.1398
B26: Htot | C26: Height of CG of total mass above ground [m] | D26: 0.45
B27: Hs | C27: Height of CG of sprung mass above ground [m] | D27: =((D26*G11)-(SUM(D12:D13)*D24)-( SUM(D14:D15)*D25))/G10 -> 0.48447948
B28: hf | C28: Height of Front roll centre above ground [m] | D28: 0.06
B29: hr | C29: Height of Rear roll centre above ground [m] | D29: 0.08
D32: ='Load Splits for Q4 Recal'!E12 -> 608.57458 | E32: Q4
D33: ='Load Splits for Q3'!E12 -> 608.4524 | E33: Q3

Sheet Sheet1

Sheet Load Splits for Q4 Recal
C2: Wheel load distribution | G2: Q4iv
H5: =H7/H11 -> 0.49031748
H6: LF+RF
H7: =F9+J9 -> 3651.282
F8: =F9/H11 -> 0.31816786 | G8: LF | I8: RF | J8: =J9/H11 -> 0.17214962
C9: Front Split | D9: LF-RF | E9: =F9-J9 -> 1087.3644 | F9: =' Q4 Indep calc Recal '!J19 -> 2369.3232 | J9: =' Q4 Indep calc Recal '!J20 -> 1281.9588
D11: LF+LR | E11: =F11/H11 -> 0.68687988 | F11: =F9+F13 -> 5115.0372 | H11: =H7+H14 -> 7446.771 | J11: =J9+J13 -> 2331.7338 | K11: =J11/H11 -> 0.31312012 | L11: RF+RR | P11: 900.6856
C12: (LR-RR) - | D12: (LF-RF) | E12: =E13-E9 -> 608.57458 | F12: =F13/H11 -> 0.36871202 | J12: =J13/H11 -> 0.1409705
C13: Rear Split | D13: LR-RR | E13: =F13-J13 -> 1695.939 | F13: =' Q4 Indep calc Recal '!J21 -> 2745.714 | G13: LR | I13: RR | J13: =' Q4 Indep calc Recal '!J22 -> 1049.775
E14: LR-LF Split | F14: =F13-F9 -> 376.39079 | H14: =F13+J13 -> 3795.489 | J14: =J13-J9 -> -232.18379 | K14: RR-RF Split
E15: Wedge | F15: =(F13+J9)/H11 -> 0.54086164 | H15: LR+RR
E16: LR-RF Split | F16: =F13-J9 -> 1463.7552 | H16: =H14/H11 -> 0.50968252

Sheet Check for student results 
C2: Wheel load distribution | G2: Q4ii
H5: =H7/H11 -> 0.43375596
H6: LF+RF
H7: =F9+J9 -> 3729
F8: =F9/H11 -> 0.20158195 | G8: LF | I8: RF | J8: =J9/H11 -> 0.23217401
C9: Front Split | D9: LF-RF | E9: =F9-J9 -> -263 | F9: 1733 | J9: 1996
D11: LF+LR | E11: =F11/H11 -> 0.39409096 | F11: =F9+F13 -> 3388 | H11: =H7+H14 -> 8597 | J11: =J9+J13 -> 5209 | K11: =J11/H11 -> 0.60590904 | L11: RF+RR | P11: 900.6856
C12: (LR-RR) - | D12: (LF-RF) | E12: =E13-E9 -> -1295 | F12: =F13/H11 -> 0.19250901 | J12: =J13/H11 -> 0.37373502
C13: Rear Split | D13: LR-RR | E13: =F13-J13 -> -1558 | F13: 1655 | G13: LR | I13: RR | J13: 3213
E14: LR-LF Split | F14: =F13-F9 -> -78 | H14: =F13+J13 -> 4868 | J14: =J13-J9 -> 1217 | K14: RR-RF Split
E15: Wedge | F15: =(F13+J9)/H11 -> 0.42468303 | H15: LR+RR
E16: LR-RF Split | F16: =F13-J9 -> -341 | H16: =H14/H11 -> 0.56624404
J19: 2370
