Workbook

Sheet WLTP class 3
A2: ze | B2: Total elapsed time | C2: Phase elapsed time | D2: WLTC class 3, version 5, vehicle speed | E2: WLTC class 3, version 5, vehicle speed | F2: WLTC class 3, version 5, acceleration | G2: WLTC class 3, version 5, acceleration | H2: Power | I2: distance | J2: change in distance | K2: rolling resistance | L2: aerodynamic drag | M2: Cumlative Aero drag | O2: acceleration force | P2: tractive force | Q2: tractive force | R2: if fucntion | S2: tractive energy | T2: cumlative tractive energy | U2: cumlative tractive energy | V2: braking energy | W2: braking energy | X2: Area totals for breaking | Y2: cumulative braking energy | Z2: cumulative braking energy | AA2: power | AB2: if function | AD2: recovarable energy | AE2: recovarable energy
A3: Phase | B3: s | D3: m/s | E3: km/h | F3: m/s² | G3: km/h/s | H3: n | I3: m | J3: m | K3: N | L3: N | M3: N | N3: kn | O3: N | P3: N | Q3: Kn | S3: J | T3: J | U3: kw/h | W3: L | Y3: j | Z3: kw | AA3: Kw | AC3: KE | AD3: kJ | AE3: kW/h
A4: Low | B4: 0 | C4: 0 | D4: =E4/3.6 -> 0 | E4: 0 | F4: 0 | G4: =(E4-0)/2 -> 0 | H4: =P4*O4 -> 0 | I4: =SUM($D$4:D4) -> 0 | J4: 0 | K4: =Data!$B$4*9.81*0.012 -> 166.5738 | L4: =0.5*2.13*1.224*0.31*(D4^2) -> 0 | M4: =SUM($L$4:L4) -> 0 | N4: =M4/10000 -> 0 | O4: =Data!$B$4*F4 -> 0 | P4: =L4+K4+O4 -> 166.5738 | Q4: =SUM($P$4:P4)/10000 -> 0.01665738 | R4: =IF(O4<0.0001,0,1) -> 0 | S4: =IF(R4<1,0,1)*(J4*P4) -> 0 | T4: =SUM($S$4:S4) -> 0 | U4: =T4/3600000 -> 0 | V4: =IF(P4<-0.000001,1,0) -> 0 | W4: =IF(V4<1,0,1*J4*P4) -> 0 | Y4: =SUM($W$4:W4) -> 0 | Z4: =Y4/3600000*-1 -> 0 | AA4: =P4*D4/1000 -> 0 | AB4: =IF(P4<-0.000001,1,0) -> 0 | AC4: =(0.5*1415*(D4-D3)^2)/1000 -> #VALUE! | AE4: =SUM($AD$4:AD4)/3600 -> 0
A5: Low | B5: 1 | C5: 1 | D5: =E5/3.6 -> 0 | E5: 0 | F5: 0 | G5: =(E5-0)/2 -> 0 | H5: =P5*O5 -> 0 | I5: =SUM($D$4:D5) -> 0 | J5: =I5-I4 -> 0 | K5: =Data!$B$4*9.81*0.012 -> 166.5738 | L5: =0.5*2.13*1.224*0.31*(D5^2) -> 0 | M5: =SUM($L$4:L5) -> 0 | N5: =M5/1000 -> 0 | O5: =Data!$B$4*F5 -> 0 | P5: =L5+K5+O5 -> 166.5738 | Q5: =SUM($P$4:P5)/10000 -> 0.03331476 | R5: =IF(O5<0.0001,0,1) -> 0 | S5: =IF(R5<1,0,1)*(J5*P5) -> 0 | T5: =SUM($S$4:S5) -> 0 | U5: =T5/3600000 -> 0 | V5: =IF(P5<-0.000001,1,0) -> 0 | W5: =IF(V5<1,0,1*J5*P5) -> 0 | Y5: =SUM($W$4:W5) -> 0 | Z5: =Y5/3600000*-1 -> 0 | AA5: =P5*D5/1000 -> 0 | AB5: =IF(P5<-0.000001,1,0) -> 0 | AC5: =(0.5*1415*(D5^2-D4^2)/1000) -> 0 | AE5: =SUM($AD$4:AD5)/3600 -> 0
A6: Low | B6: 2 | C6: 2 | D6: =E6/3.6 -> 0 | E6: 0 | F6: =($E6-$E4)/2/3.6 -> 0 | G6: =(E6-0)/2 -> 0 | H6: =P6*O6 -> 0 | I6: =SUM($D$4:D6) -> 0 | J6: =I6-I5 -> 0 | K6: =Data!$B$4*9.81*0.012 -> 166.5738 | L6: =0.5*2.13*1.224*0.31*(D6^2) -> 0 | M6: =SUM($L$4:L6) -> 0 | N6: =M6/1000 -> 0 | O6: =Data!$B$4*F6 -> 0 | P6: =L6+K6+O6 -> 166.5738 | Q6: =SUM($P$4:P6)/10000 -> 0.04997214 | R6: =IF(O6<0.0001,0,1) -> 0 | S6: =IF(R6<1,0,1)*(J6*P6) -> 0 | T6: =SUM($S$4:S6) -> 0 | U6: =T6/3600000 -> 0 | V6: =IF(P6<-0.000001,1,0) -> 0 | W6: =IF(V6<1,0,1*J6*P6) -> 0 | Y6: =SUM($W$4:W6) -> 0 | Z6: =Y6/3600000*-1 -> 0 | AA6: =P6*D6/1000 -> 0 | AB6: =IF(P6<-0.000001,1,0) -> 0 | AC6: =(0.5*1415*(D6^2-D5^2)/1000) -> 0 | AD6: =IF(AC5-AC6>0,(AC5-AC6)*0.75,0) -> 0 | AE6: =SUM($AD$4:AD6)/3600 -> 0
A7: Low | B7: 3 | C7: 3 | D7: =E7/3.6 -> 0 | E7: 0 | F7: =($E7-$E5)/2/3.6 -> 0 | G7: =(E7-0)/2 -> 0 | H7: =P7*O7 -> 0 | I7: =SUM($D$4:D7) -> 0 | J7: =I7-I6 -> 0 | K7: =Data!$B$4*9.81*0.012 -> 166.5738 | L7: =0.5*2.13*1.224*0.31*(D7^2) -> 0 | M7: =SUM($L$4:L7) -> 0 | N7: =M7/1000 -> 0 | O7: =Data!$B$4*F7 -> 0 | P7: =L7+K7+O7 -> 166.5738 | Q7: =SUM($P$4:P7)/10000 -> 0.06662952 | R7: =IF(O7<0.0001,0,1) -> 0 | S7: =IF(R7<1,0,1)*(J7*P7) -> 0 | T7: =SUM($S$4:S7) -> 0 | U7: =T7/3600000 -> 0 | V7: =IF(P7<-0.000001,1,0) -> 0 | W7: =IF(V7<1,0,1*J7*P7) -> 0 | Y7: =SUM($W$4:W7) -> 0 | Z7: =Y7/3600000*-1 -> 0 | AA7: =P7*D7/1000 -> 0 | AB7: =IF(P7<-0.000001,1,0) -> 0 | AC7: =(0.5*1415*(D7^2-D6^2)/1000) -> 0 | AD7: =IF(AC6-AC7>0,(AC6-AC7)*0.75,0) -> 0 | AE7: =SUM($AD$4:AD7)/3600 -> 0
A8: Low | B8: 4 | C8: 4 | D8: =E8/3.6 -> 0 | E8: 0 | F8: =($E8-$E6)/2/3.6 -> 0 | G8: =(E8-0)/2 -> 0 | H8: =P8*O8 -> 0 | I8: =SUM($D$4:D8) -> 0 | J8: =I8-I7 -> 0 | K8: =Data!$B$4*9.81*0.012 -> 166.5738 | L8: =0.5*2.13*1.224*0.31*(D8^2) -> 0 | M8: =SUM($L$4:L8) -> 0 | N8: =M8/1000 -> 0 | O8: =Data!$B$4*F8 -> 0 | P8: =L8+K8+O8 -> 166.5738 | Q8: =SUM($P$4:P8)/10000 -> 0.0832869 | R8: =IF(O8<0.0001,0,1) -> 0 | S8: =IF(R8<1,0,1)*(J8*P8) -> 0 | T8: =SUM($S$4:S8) -> 0 | U8: =T8/3600000 -> 0 | V8: =IF(P8<-0.000001,1,0) -> 0 | W8: =IF(V8<1,0,1*J8*P8) -> 0 | Y8: =SUM($W$4:W8) -> 0 | Z8: =Y8/3600000*-1 -> 0 | AA8: =P8*D8/1000 -> 0 | AB8: =IF(P8<-0.000001,1,0) -> 0 | AC8: =(0.5*1415*(D8^2-D7^2)/1000) -> 0 | AD8: =IF(AC7-AC8>0,(AC7-AC8)*0.75,0) -> 0 | AE8: =SUM($AD$4:AD8)/3600 -> 0
A9: Low | B9: 5 | C9: 5 | D9: =E9/3.6 -> 0 | E9: 0 | F9: =($E9-$E7)/2/3.6 -> 0 | G9: =(E9-0)/2 -> 0 | H9: =P9*O9 -> 0 | I9: =SUM($D$4:D9) -> 0 | J9: =I9-I8 -> 0 | K9: =Data!$B$4*9.81*0.012 -> 166.5738 | L9: =0.5*2.13*1.224*0.31*(D9^2) -> 0 | M9: =SUM($L$4:L9) -> 0 | N9: =M9/1000 -> 0 | O9: =Data!$B$4*F9 -> 0 | P9: =L9+K9+O9 -> 166.5738 | Q9: =SUM($P$4:P9)/10000 -> 0.09994428 | R9: =IF(O9<0.0001,0,1) -> 0 | S9: =IF(R9<1,0,1)*(J9*P9) -> 0 | T9: =SUM($S$4:S9) -> 0 | U9: =T9/3600000 -> 0 | V9: =IF(P9<-0.000001,1,0) -> 0 | W9: =IF(V9<1,0,1*J9*P9) -> 0 | Y9: =SUM($W$4:W9) -> 0 | Z9: =Y9/3600000*-1 -> 0 | AA9: =P9*D9/1000 -> 0 | AB9: =IF(P9<-0.000001,1,0) -> 0 | AC9: =(0.5*1415*(D9^2-D8^2)/1000) -> 0 | AD9: =IF(AC8-AC9>0,(AC8-AC9)*0.75,0) -> 0 | AE9: =SUM($AD$4:AD9)/3600 -> 0
A10: Low | B10: 6 | C10: 6 | D10: =E10/3.6 -> 0 | E10: 0 | F10: =($E10-$E8)/2/3.6 -> 0 | G10: =(E10-0)/2 -> 0 | H10: =P10*O10 -> 0 | I10: =SUM($D$4:D10) -> 0 | J10: =I10-I9 -> 0 | K10: =Data!$B$4*9.81*0.012 -> 166.5738 | L10: =0.5*2.13*1.224*0.31*(D10^2) -> 0 | M10: =SUM($L$4:L10) -> 0 | N10: =M10/1000 -> 0 | O10: =Data!$B$4*F10 -> 0 | P10: =L10+K10+O10 -> 166.5738 | Q10: =SUM($P$4:P10)/10000 -> 0.11660166 | R10: =IF(O10<0.0001,0,1) -> 0 | S10: =IF(R10<1,0,1)*(J10*P10) -> 0 | T10: =SUM($S$4:S10) -> 0 | U10: =T10/3600000 -> 0 | V10: =IF(P10<-0.000001,1,0) -> 0 | W10: =IF(V10<1,0,1*J10*P10) -> 0 | Y10: =SUM($W$4:W10) -> 0 | Z10: =Y10/3600000*-1 -> 0 | AA10: =P10*D10/1000 -> 0 | AB10: =IF(P10<-0.000001,1,0) -> 0 | AC10: =(0.5*1415*(D10^2-D9^2)/1000) -> 0 | AD10: =IF(AC9-AC10>0,(AC9-AC10)*0.75,0) -> 0 | AE10: =SUM($AD$4:AD10)/3600 -> 0
A11: Low | B11: 7 | C11: 7 | D11: =E11/3.6 -> 0 | E11: 0 | F11: =($E11-$E9)/2/3.6 -> 0 | G11: =(E11-0)/2 -> 0 | H11: =P11*O11 -> 0 | I11: =SUM($D$4:D11) -> 0 | J11: =I11-I10 -> 0 | K11: =Data!$B$4*9.81*0.012 -> 166.5738 | L11: =0.5*2.13*1.224*0.31*(D11^2) -> 0 | M11: =SUM($L$4:L11) -> 0 | N11: =M11/1000 -> 0 | O11: =Data!$B$4*F11 -> 0 | P11: =L11+K11+O11 -> 166.5738 | Q11: =SUM($P$4:P11)/10000 -> 0.13325904 | R11: =IF(O11<0.0001,0,1) -> 0 | S11: =IF(R11<1,0,1)*(J11*P11) -> 0 | T11: =SUM($S$4:S11) -> 0 | U11: =T11/3600000 -> 0 | V11: =IF(P11<-0.000001,1,0) -> 0 | W11: =IF(V11<1,0,1*J11*P11) -> 0 | Y11: =SUM($W$4:W11) -> 0 | Z11: =Y11/3600000*-1 -> 0 | AA11: =P11*D11/1000 -> 0 | AB11: =IF(P11<-0.000001,1,0) -> 0 | AC11: =(0.5*1415*(D11^2-D10^2)/1000) -> 0 | AD11: =IF(AC10-AC11>0,(AC10-AC11)*0.75,0) -> 0 | AE11: =SUM($AD$4:AD11)/3600 -> 0
A12: Low | B12: 8 | C12: 8 | D12: =E12/3.6 -> 0 | E12: 0 | F12: =($E12-$E10)/2/3.6 -> 0 | G12: =(E12-0)/2 -> 0 | H12: =P12*O12 -> 0 | I12: =SUM($D$4:D12) -> 0 | J12: =I12-I11 -> 0 | K12: =Data!$B$4*9.81*0.012 -> 166.5738 | L12: =0.5*2.13*1.224*0.31*(D12^2) -> 0 | M12: =SUM($L$4:L12) -> 0 | N12: =M12/1000 -> 0 | O12: =Data!$B$4*F12 -> 0 | P12: =L12+K12+O12 -> 166.5738 | Q12: =SUM($P$4:P12)/10000 -> 0.14991642 | R12: =IF(O12<0.0001,0,1) -> 0 | S12: =IF(R12<1,0,1)*(J12*P12) -> 0 | T12: =SUM($S$4:S12) -> 0 | U12: =T12/3600000 -> 0 | V12: =IF(P12<-0.000001,1,0) -> 0 | W12: =IF(V12<1,0,1*J12*P12) -> 0 | Y12: =SUM($W$4:W12) -> 0 | Z12: =Y12/3600000*-1 -> 0 | AA12: =P12*D12/1000 -> 0 | AB12: =IF(P12<-0.000001,1,0) -> 0 | AC12: =(0.5*1415*(D12^2-D11^2)/1000) -> 0 | AD12: =IF(AC11-AC12>0,(AC11-AC12)*0.75,0) -> 0 | AE12: =SUM($AD$4:AD12)/3600 -> 0
A13: Low | B13: 9 | C13: 9 | D13: =E13/3.6 -> 0 | E13: 0 | F13: =($E13-$E11)/2/3.6 -> 0 | G13: =(E13-0)/2 -> 0 | H13: =P13*O13 -> 0 | I13: =SUM($D$4:D13) -> 0 | J13: =I13-I12 -> 0 | K13: =Data!$B$4*9.81*0.012 -> 166.5738 | L13: =0.5*2.13*1.224*0.31*(D13^2) -> 0 | M13: =SUM($L$4:L13) -> 0 | N13: =M13/1000 -> 0 | O13: =Data!$B$4*F13 -> 0 | P13: =L13+K13+O13 -> 166.5738 | Q13: =SUM($P$4:P13)/10000 -> 0.1665738 | R13: =IF(O13<0.0001,0,1) -> 0 | S13: =IF(R13<1,0,1)*(J13*P13) -> 0 | T13: =SUM($S$4:S13) -> 0 | U13: =T13/3600000 -> 0 | V13: =IF(P13<-0.000001,1,0) -> 0 | W13: =IF(V13<1,0,1*J13*P13) -> 0 | Y13: =SUM($W$4:W13) -> 0 | Z13: =Y13/3600000*-1 -> 0 | AA13: =P13*D13/1000 -> 0 | AB13: =IF(P13<-0.000001,1,0) -> 0 | AC13: =(0.5*1415*(D13^2-D12^2)/1000) -> 0 | AD13: =IF(AC12-AC13>0,(AC12-AC13)*0.75,0) -> 0 | AE13: =SUM($AD$4:AD13)/3600 -> 0
A14: Low | B14: 10 | C14: 10 | D14: =E14/3.6 -> 0 | E14: 0 | F14: =($E14-$E12)/2/3.6 -> 0 | G14: =(E14-0)/2 -> 0 | H14: =P14*O14 -> 0 | I14: =SUM($D$4:D14) -> 0 | J14: =I14-I13 -> 0 | K14: =Data!$B$4*9.81*0.012 -> 166.5738 | L14: =0.5*2.13*1.224*0.31*(D14^2) -> 0 | M14: =SUM($L$4:L14) -> 0 | N14: =M14/1000 -> 0 | O14: =Data!$B$4*F14 -> 0 | P14: =L14+K14+O14 -> 166.5738 | Q14: =SUM($P$4:P14)/10000 -> 0.18323118 | R14: =IF(O14<0.0001,0,1) -> 0 | S14: =IF(R14<1,0,1)*(J14*P14) -> 0 | T14: =SUM($S$4:S14) -> 0 | U14: =T14/3600000 -> 0 | V14: =IF(P14<-0.000001,1,0) -> 0 | W14: =IF(V14<1,0,1*J14*P14) -> 0 | Y14: =SUM($W$4:W14) -> 0 | Z14: =Y14/3600000*-1 -> 0 | AA14: =P14*D14/1000 -> 0 | AB14: =IF(P14<-0.000001,1,0) -> 0 | AC14: =(0.5*1415*(D14^2-D13^2)/1000) -> 0 | AD14: =IF(AC13-AC14>0,(AC13-AC14)*0.75,0) -> 0 | AE14: =SUM($AD$4:AD14)/3600 -> 0
A15: Low | B15: 11 | C15: 11 | D15: =E15/3.6 -> 0 | E15: 0 | F15: =($E15-$E13)/2/3.6 -> 0 | G15: =(E15-0)/2 -> 0 | H15: =P15*O15 -> 0 | I15: =SUM($D$4:D15) -> 0 | J15: =I15-I14 -> 0 | K15: =Data!$B$4*9.81*0.012 -> 166.5738 | L15: =0.5*2.13*1.224*0.31*(D15^2) -> 0 | M15: =SUM($L$4:L15) -> 0 | N15: =M15/1000 -> 0 | O15: =Data!$B$4*F15 -> 0 | P15: =L15+K15+O15 -> 166.5738 | Q15: =SUM($P$4:P15)/10000 -> 0.19988856 | R15: =IF(O15<0.0001,0,1) -> 0 | S15: =IF(R15<1,0,1)*(J15*P15) -> 0 | T15: =SUM($S$4:S15) -> 0 | U15: =T15/3600000 -> 0 | V15: =IF(P15<-0.000001,1,0) -> 0 | W15: =IF(V15<1,0,1*J15*P15) -> 0 | Y15: =SUM($W$4:W15) -> 0 | Z15: =Y15/3600000*-1 -> 0 | AA15: =P15*D15/1000 -> 0 | AB15: =IF(P15<-0.000001,1,0) -> 0 | AC15: =(0.5*1415*(D15^2-D14^2)/1000) -> 0 | AD15: =IF(AC14-AC15>0,(AC14-AC15)*0.75,0) -> 0 | AE15: =SUM($AD$4:AD15)/3600 -> 0
A16: Low | B16: 12 | C16: 12 | D16: =E16/3.6 -> 0.055555556 | E16: 0.2 | F16: =($E16-$E14)/2/3.6 -> 0.027777778 | G16: =(E16-0)/2 -> 0.1 | H16: =P16*O16 -> 8092.2515 | I16: =SUM($D$4:D16) -> 0.055555556 | J16: =I16-I15 -> 0.055555556 | K16: =Data!$B$4*9.81*0.012 -> 166.5738 | L16: =0.5*2.13*1.224*0.31*(D16^2) -> 0.0012472333 | M16: =SUM($L$4:L16) -> 0.0012472333 | N16: =M16/1000 -> 1.2472333e-06 | O16: =Data!$B$4*F16 -> 39.305556 | P16: =L16+K16+O16 -> 205.8806 | Q16: =SUM($P$4:P16)/10000 -> 0.22047662 | R16: =IF(O16<0.0001,0,1) -> 1 | S16: =IF(R16<1,0,1)*(J16*P16) -> 11.437811 | T16: =SUM($S$4:S16) -> 11.437811 | U16: =T16/3600000 -> 3.1771698e-06 | V16: =IF(P16<-0.000001,1,0) -> 0 | W16: =IF(V16<1,0,1*J16*P16) -> 0 | Y16: =SUM($W$4:W16) -> 0 | Z16: =Y16/3600000*-1 -> 0 | AA16: =P16*D16/1000 -> 0.011437811 | AB16: =IF(P16<-0.000001,1,0) -> 0 | AC16: =(0.5*1415*(D16^2-D15^2)/1000) -> 0.002183642 | AD16: =W16*0.8/1000*-1 -> 0 | AE16: =SUM($AD$4:AD16)/3600 -> 0
A17: Low | B17: 13 | C17: 13 | D17: =E17/3.6 -> 0.47222222 | E17: 1.7 | F17: =($E17-$E15)/2/3.6 -> 0.23611111 | G17: =(E17-0)/2 -> 0.85 | H17: =P17*O17 -> 167302.9 | I17: =SUM($D$4:D17) -> 0.52777778 | J17: =I17-I16 -> 0.47222222 | K17: =Data!$B$4*9.81*0.012 -> 166.5738 | L17: =0.5*2.13*1.224*0.31*(D17^2) -> 0.090112608 | M17: =SUM($L$4:L17) -> 0.091359842 | N17: =M17/1000 -> 9.1359842e-05 | O17: =Data!$B$4*F17 -> 334.09722 | P17: =L17+K17+O17 -> 500.76113 | Q17: =SUM($P$4:P17)/10000 -> 0.27055273 | R17: =IF(O17<0.0001,0,1) -> 1 | S17: =IF(R17<1,0,1)*(J17*P17) -> 236.47054 | T17: =SUM($S$4:S17) -> 247.90835 | U17: =T17/3600000 -> 6.886343e-05 | V17: =IF(P17<-0.000001,1,0) -> 0 | W17: =IF(V17<1,0,1*J17*P17) -> 0 | Y17: =SUM($W$4:W17) -> 0 | Z17: =Y17/3600000*-1 -> 0 | AA17: =P17*D17/1000 -> 0.23647054 | AB17: =IF(P17<-0.000001,1,0) -> 0 | AC17: =(0.5*1415*(D17^2-D16^2)/1000) -> 0.15558449 | AD17: =W17*0.8/1000*-1 -> 0 | AE17: =SUM($AD$4:AD17)/3600 -> 0
A18: Low | B18: 14 | C18: 14 | D18: =E18/3.6 -> 1.5 | E18: 5.4 | F18: =($E18-$E16)/2/3.6 -> 0.72222222 | G18: =(E18-0)/2 -> 2.7 | H18: =P18*O18 -> 1215528.8 | I18: =SUM($D$4:D18) -> 2.0277778 | J18: =I18-I17 -> 1.5 | K18: =Data!$B$4*9.81*0.012 -> 166.5738 | L18: =0.5*2.13*1.224*0.31*(D18^2) -> 0.9092331 | M18: =SUM($L$4:L18) -> 1.0005929 | N18: =M18/1000 -> 0.0010005929 | O18: =Data!$B$4*F18 -> 1021.9444 | P18: =L18+K18+O18 -> 1189.4275 | Q18: =SUM($P$4:P18)/10000 -> 0.38949548 | R18: =IF(O18<0.0001,0,1) -> 1 | S18: =IF(R18<1,0,1)*(J18*P18) -> 1784.1412 | T18: =SUM($S$4:S18) -> 2032.0496 | U18: =T18/3600000 -> 0.00056445821 | V18: =IF(P18<-0.000001,1,0) -> 0 | W18: =IF(V18<1,0,1*J18*P18) -> 0 | Y18: =SUM($W$4:W18) -> 0 | Z18: =Y18/3600000*-1 -> 0 | AA18: =P18*D18/1000 -> 1.7841412 | AB18: =IF(P18<-0.000001,1,0) -> 0 | AC18: =(0.5*1415*(D18^2-D17^2)/1000) -> 1.4341069 | AD18: =W18*0.8/1000*-1 -> 0 | AE18: =SUM($AD$4:AD18)/3600 -> 0
A19: Low | B19: 15 | C19: 15 | D19: =E19/3.6 -> 2.75 | E19: 9.9 | F19: =($E19-$E17)/2/3.6 -> 1.1388889 | G19: =(E19-0)/2 -> 4.95 | H19: =P19*O19 -> 2870385 | I19: =SUM($D$4:D19) -> 4.7777778 | J19: =I19-I18 -> 2.75 | K19: =Data!$B$4*9.81*0.012 -> 166.5738 | L19: =0.5*2.13*1.224*0.31*(D19^2) -> 3.0560335 | M19: =SUM($L$4:L19) -> 4.0566264 | N19: =M19/1000 -> 0.0040566264 | O19: =Data!$B$4*F19 -> 1611.5278 | P19: =L19+K19+O19 -> 1781.1576 | Q19: =SUM($P$4:P19)/10000 -> 0.56761124 | R19: =IF(O19<0.0001,0,1) -> 1 | S19: =IF(R19<1,0,1)*(J19*P19) -> 4898.1834 | T19: =SUM($S$4:S19) -> 6930.233 | U19: =T19/3600000 -> 0.0019250647 | V19: =IF(P19<-0.000001,1,0) -> 0 | W19: =IF(V19<1,0,1*J19*P19) -> 0 | Y19: =SUM($W$4:W19) -> 0 | Z19: =Y19/3600000*-1 -> 0 | AA19: =P19*D19/1000 -> 4.8981834 | AB19: =IF(P19<-0.000001,1,0) -> 0 | AC19: =(0.5*1415*(D19^2-D18^2)/1000) -> 3.7585938 | AD19: =W19*0.8/1000*-1 -> 0 | AE19: =SUM($AD$4:AD19)/3600 -> 0
A20: Low | B20: 16 | C20: 16 | D20: =E20/3.6 -> 3.6388889 | E20: 13.1 | F20: =($E20-$E18)/2/3.6 -> 1.0694444 | G20: =(E20-0)/2 -> 6.55 | H20: =P20*O20 -> 2550135.1 | I20: =SUM($D$4:D20) -> 8.4166667 | J20: =I20-I19 -> 3.6388889 | K20: =Data!$B$4*9.81*0.012 -> 166.5738 | L20: =0.5*2.13*1.224*0.31*(D20^2) -> 5.3509428 | M20: =SUM($L$4:L20) -> 9.4075692 | N20: =M20/1000 -> 0.0094075692 | O20: =Data!$B$4*F20 -> 1513.2639 | P20: =L20+K20+O20 -> 1685.1886 | Q20: =SUM($P$4:P20)/10000 -> 0.73613011 | R20: =IF(O20<0.0001,0,1) -> 1 | S20: =IF(R20<1,0,1)*(J20*P20) -> 6132.2142 | T20: =SUM($S$4:S20) -> 13062.447 | U20: =T20/3600000 -> 0.0036284576 | V20: =IF(P20<-0.000001,1,0) -> 0 | W20: =IF(V20<1,0,1*J20*P20) -> 0 | Y20: =SUM($W$4:W20) -> 0 | Z20: =Y20/3600000*-1 -> 0 | AA20: =P20*D20/1000 -> 6.1322142 | AB20: =IF(P20<-0.000001,1,0) -> 0 | AC20: =(0.5*1415*(D20^2-D19^2)/1000) -> 4.0179012 | AD20: =W20*0.8/1000*-1 -> 0 | AE20: =SUM($AD$4:AD20)/3600 -> 0
A21: Low | B21: 17 | C21: 17 | D21: =E21/3.6 -> 4.6944444 | E21: 16.9 | F21: =($E21-$E19)/2/3.6 -> 0.97222222 | G21: =(E21-0)/2 -> 8.45 | H21: =P21*O21 -> 2133941.2 | I21: =SUM($D$4:D21) -> 13.111111 | J21: =I21-I20 -> 4.6944444 | K21: =Data!$B$4*9.81*0.012 -> 166.5738 | L21: =0.5*2.13*1.224*0.31*(D21^2) -> 8.9055578 | M21: =SUM($L$4:L21) -> 18.313127 | N21: =M21/1000 -> 0.018313127 | O21: =Data!$B$4*F21 -> 1375.6944 | P21: =L21+K21+O21 -> 1551.1738 | Q21: =SUM($P$4:P21)/10000 -> 0.89124749 | R21: =IF(O21<0.0001,0,1) -> 1 | S21: =IF(R21<1,0,1)*(J21*P21) -> 7281.8992 | T21: =SUM($S$4:S21) -> 20344.346 | U21: =T21/3600000 -> 0.0056512073 | V21: =IF(P21<-0.000001,1,0) -> 0 | W21: =IF(V21<1,0,1*J21*P21) -> 0 | Y21: =SUM($W$4:W21) -> 0 | Z21: =Y21/3600000*-1 -> 0 | AA21: =P21*D21/1000 -> 7.2818992 | AB21: =IF(P21<-0.000001,1,0) -> 0 | AC21: =(0.5*1415*(D21^2-D20^2)/1000) -> 6.2233796 | AD21: =W21*0.8/1000*-1 -> 0 | AE21: =SUM($AD$4:AD21)/3600 -> 0
A22: Low | B22: 18 | C22: 18 | D22: =E22/3.6 -> 6.0277778 | E22: 21.7 | F22: =($E22-$E20)/2/3.6 -> 1.1944444 | G22: =(E22-0)/2 -> 10.85 | H22: =P22*O22 -> 3162918.2 | I22: =SUM($D$4:D22) -> 19.138889 | J22: =I22-I21 -> 6.0277778 | K22: =Data!$B$4*9.81*0.012 -> 166.5738 | L22: =0.5*2.13*1.224*0.31*(D22^2) -> 14.682743 | M22: =SUM($L$4:L22) -> 32.99587 | N22: =M22/1000 -> 0.03299587 | O22: =Data!$B$4*F22 -> 1690.1389 | P22: =L22+K22+O22 -> 1871.3954 | Q22: =SUM($P$4:P22)/10000 -> 1.078387 | R22: =IF(O22<0.0001,0,1) -> 1 | S22: =IF(R22<1,0,1)*(J22*P22) -> 11280.356 | T22: =SUM($S$4:S22) -> 31624.702 | U22: =T22/3600000 -> 0.0087846395 | V22: =IF(P22<-0.000001,1,0) -> 0 | W22: =IF(V22<1,0,1*J22*P22) -> 0 | Y22: =SUM($W$4:W22) -> 0 | Z22: =Y22/3600000*-1 -> 0 | AA22: =P22*D22/1000 -> 11.280356 | AB22: =IF(P22<-0.000001,1,0) -> 0 | AC22: =(0.5*1415*(D22^2-D21^2)/1000) -> 10.11463 | AD22: =W22*0.8/1000*-1 -> 0 | AE22: =SUM($AD$4:AD22)/3600 -> 0
A23: Low | B23: 19 | C23: 19 | D23: =E23/3.6 -> 7.2222222 | E23: 26 | F23: =($E23-$E21)/2/3.6 -> 1.2638889 | G23: =(E23-0)/2 -> 13 | H23: =P23*O23 -> 3533981.9 | I23: =SUM($D$4:D23) -> 26.361111 | J23: =I23-I22 -> 7.2222222 | K23: =Data!$B$4*9.81*0.012 -> 166.5738 | L23: =0.5*2.13*1.224*0.31*(D23^2) -> 21.078243 | M23: =SUM($L$4:L23) -> 54.074113 | N23: =M23/1000 -> 0.054074113 | O23: =Data!$B$4*F23 -> 1788.4028 | P23: =L23+K23+O23 -> 1976.0548 | Q23: =SUM($P$4:P23)/10000 -> 1.2759925 | R23: =IF(O23<0.0001,0,1) -> 1 | S23: =IF(R23<1,0,1)*(J23*P23) -> 14271.507 | T23: =SUM($S$4:S23) -> 45896.209 | U23: =T23/3600000 -> 0.012748947 | V23: =IF(P23<-0.000001,1,0) -> 0 | W23: =IF(V23<1,0,1*J23*P23) -> 0 | Y23: =SUM($W$4:W23) -> 0 | Z23: =Y23/3600000*-1 -> 0 | AA23: =P23*D23/1000 -> 14.271507 | AB23: =IF(P23<-0.000001,1,0) -> 0 | AC23: =(0.5*1415*(D23^2-D22^2)/1000) -> 11.19717 | AD23: =W23*0.8/1000*-1 -> 0 | AE23: =SUM($AD$4:AD23)/3600 -> 0
A24: Low | B24: 20 | C24: 20 | D24: =E24/3.6 -> 7.6388889 | E24: 27.5 | F24: =($E24-$E22)/2/3.6 -> 0.80555556 | G24: =(E24-0)/2 -> 13.75 | H24: =P24*O24 -> 1516032.9 | I24: =SUM($D$4:D24) -> 34 | J24: =I24-I23 -> 7.6388889 | K24: =Data!$B$4*9.81*0.012 -> 166.5738 | L24: =0.5*2.13*1.224*0.31*(D24^2) -> 23.580505 | M24: =SUM($L$4:L24) -> 77.654618 | N24: =M24/1000 -> 0.077654618 | O24: =Data!$B$4*F24 -> 1139.8611 | P24: =L24+K24+O24 -> 1330.0154 | Q24: =SUM($P$4:P24)/10000 -> 1.4089941 | R24: =IF(O24<0.0001,0,1) -> 1 | S24: =IF(R24<1,0,1)*(J24*P24) -> 10159.84 | T24: =SUM($S$4:S24) -> 56056.049 | U24: =T24/3600000 -> 0.015571125 | V24: =IF(P24<-0.000001,1,0) -> 0 | W24: =IF(V24<1,0,1*J24*P24) -> 0 | Y24: =SUM($W$4:W24) -> 0 | Z24: =Y24/3600000*-1 -> 0 | AA24: =P24*D24/1000 -> 10.15984 | AB24: =IF(P24<-0.000001,1,0) -> 0 | AC24: =(0.5*1415*(D24^2-D23^2)/1000) -> 4.3809317 | AD24: =W24*0.8/1000*-1 -> 0 | AE24: =SUM($AD$4:AD24)/3600 -> 0
A25: Low | B25: 21 | C25: 21 | D25: =E25/3.6 -> 7.8055556 | E25: 28.1 | F25: =($E25-$E23)/2/3.6 -> 0.29166667 | G25: =(E25-0)/2 -> 14.05 | H25: =P25*O25 -> 249235.73 | I25: =SUM($D$4:D25) -> 41.805556 | J25: =I25-I24 -> 7.8055556 | K25: =Data!$B$4*9.81*0.012 -> 166.5738 | L25: =0.5*2.13*1.224*0.31*(D25^2) -> 24.620698 | M25: =SUM($L$4:L25) -> 102.27532 | N25: =M25/1000 -> 0.10227532 | O25: =Data!$B$4*F25 -> 412.70833 | P25: =L25+K25+O25 -> 603.90283 | Q25: =SUM($P$4:P25)/10000 -> 1.4693843 | R25: =IF(O25<0.0001,0,1) -> 1 | S25: =IF(R25<1,0,1)*(J25*P25) -> 4713.7971 | T25: =SUM($S$4:S25) -> 60769.846 | U25: =T25/3600000 -> 0.016880513 | V25: =IF(P25<-0.000001,1,0) -> 0 | W25: =IF(V25<1,0,1*J25*P25) -> 0 | Y25: =SUM($W$4:W25) -> 0 | Z25: =Y25/3600000*-1 -> 0 | AA25: =P25*D25/1000 -> 4.7137971 | AB25: =IF(P25<-0.000001,1,0) -> 0 | AC25: =(0.5*1415*(D25^2-D24^2)/1000) -> 1.8211574 | AD25: =W25*0.8/1000*-1 -> 0 | AE25: =SUM($AD$4:AD25)/3600 -> 0
A26: Low | B26: 22 | C26: 22 | D26: =E26/3.6 -> 7.8611111 | E26: 28.3 | F26: =($E26-$E24)/2/3.6 -> 0.11111111 | G26: =(E26-0)/2 -> 14.15 | H26: =P26*O26 -> 54834.149 | I26: =SUM($D$4:D26) -> 49.666667 | J26: =I26-I25 -> 7.8611111 | K26: =Data!$B$4*9.81*0.012 -> 166.5738 | L26: =0.5*2.13*1.224*0.31*(D26^2) -> 24.972418 | M26: =SUM($L$4:L26) -> 127.24773 | N26: =M26/1000 -> 0.12724773 | O26: =Data!$B$4*F26 -> 157.22222 | P26: =L26+K26+O26 -> 348.76844 | Q26: =SUM($P$4:P26)/10000 -> 1.5042612 | R26: =IF(O26<0.0001,0,1) -> 1 | S26: =IF(R26<1,0,1)*(J26*P26) -> 2741.7075 | T26: =SUM($S$4:S26) -> 63511.554 | U26: =T26/3600000 -> 0.017642098 | V26: =IF(P26<-0.000001,1,0) -> 0 | W26: =IF(V26<1,0,1*J26*P26) -> 0 | Y26: =SUM($W$4:W26) -> 0 | Z26: =Y26/3600000*-1 -> 0 | AA26: =P26*D26/1000 -> 2.7417075 | AB26: =IF(P26<-0.000001,1,0) -> 0 | AC26: =(0.5*1415*(D26^2-D25^2)/1000) -> 0.61578704 | AD26: =W26*0.8/1000*-1 -> 0 | AE26: =SUM($AD$4:AD26)/3600 -> 0
A27: Low | B27: 23 | C27: 23 | D27: =E27/3.6 -> 8 | E27: 28.8 | F27: =($E27-$E25)/2/3.6 -> 0.097222222 | G27: =(E27-0)/2 -> 14.4 | H27: =P27*O27 -> 45398.725 | I27: =SUM($D$4:D27) -> 57.666667 | J27: =I27-I26 -> 8 | K27: =Data!$B$4*9.81*0.012 -> 166.5738 | L27: =0.5*2.13*1.224*0.31*(D27^2) -> 25.86263 | M27: =SUM($L$4:L27) -> 153.11036 | N27: =M27/1000 -> 0.15311036 | O27: =Data!$B$4*F27 -> 137.56944 | P27: =L27+K27+O27 -> 330.00587 | Q27: =SUM($P$4:P27)/10000 -> 1.5372618 | R27: =IF(O27<0.0001,0,1) -> 1 | S27: =IF(R27<1,0,1)*(J27*P27) -> 2640.047 | T27: =SUM($S$4:S27) -> 66151.601 | U27: =T27/3600000 -> 0.018375445 | V27: =IF(P27<-0.000001,1,0) -> 0 | W27: =IF(V27<1,0,1*J27*P27) -> 0 | Y27: =SUM($W$4:W27) -> 0 | Z27: =Y27/3600000*-1 -> 0 | AA27: =P27*D27/1000 -> 2.640047 | AB27: =IF(P27<-0.000001,1,0) -> 0 | AC27: =(0.5*1415*(D27^2-D26^2)/1000) -> 1.5585745 | AD27: =W27*0.8/1000*-1 -> 0 | AE27: =SUM($AD$4:AD27)/3600 -> 0
... A85: Low | B85: 81 | C85: 81 | D85: =E85/3.6 -> 10.694444 | E85: 38.5 | F85: =($E85-$E83)/2/3.6 -> -0.13888889 | G85: =(E85-0)/2 -> 19.25 | H85: =P85*O85 -> -3196.2909 | I85: =SUM($D$4:D85) -> 504.02778 | J85: =I85-I84 -> 10.694444 | K85: =Data!$B$4*9.81*0.012 -> 166.5738 | L85: =0.5*2.13*1.224*0.31*(D85^2) -> 46.21779 | M85: =SUM($L$4:L85) -> 1757.9476 | N85: =M85/1000 -> 1.7579476 | O85: =Data!$B$4*F85 -> -196.52778 | P85: =L85+K85+O85 -> 16.263812 | Q85: =SUM($P$4:P85)/10000 -> 3.0647902 | R85: =IF(O85<0.0001,0,1) -> 0 | S85: =IF(R85<1,0,1)*(J85*P85) -> 0 | T85: =SUM($S$4:S85) -> 272844.61 | U85: =T85/3600000 -> 0.075790169 | V85: =IF(P85<-0.000001,1,0) -> 0 | W85: =IF(V85<1,0,1*J85*P85) -> 0 | Y85: =SUM($W$4:W85) -> -68011.789 | Z85: =Y85/3600000*-1 -> 0.018892164 | AA85: =P85*D85/1000 -> 0.17393244 | AB85: =IF(P85<-0.000001,1,0) -> 0 | AC85: =(0.5*1415*(D85^2-D84^2)/1000) -> -2.1154032 | AD85: =W85*0.8/1000*-1 -> 0 | AE85: =SUM($AD$4:AD85)/3600 -> 0.015113731
A86: Low | B86: 82 | C86: 82 | D86: =E86/3.6 -> 10.361111 | E86: 37.3 | F86: =($E86-$E84)/2/3.6 -> -0.23611111 | G86: =(E86-0)/2 -> 18.65 | H86: =P86*O86 -> 41475.444 | I86: =SUM($D$4:D86) -> 514.38889 | J86: =I86-I85 -> 10.361111 | K86: =Data!$B$4*9.81*0.012 -> 166.5738 | L86: =0.5*2.13*1.224*0.31*(D86^2) -> 43.381582 | M86: =SUM($L$4:L86) -> 1801.3292 | N86: =M86/1000 -> 1.8013292 | O86: =Data!$B$4*F86 -> -334.09722 | P86: =L86+K86+O86 -> -124.14184 | Q86: =SUM($P$4:P86)/10000 -> 3.052376 | R86: =IF(O86<0.0001,0,1) -> 0 | S86: =IF(R86<1,0,1)*(J86*P86) -> 0 | T86: =SUM($S$4:S86) -> 272844.61 | U86: =T86/3600000 -> 0.075790169 | V86: =IF(P86<-0.000001,1,0) -> 1 | W86: =IF(V86<1,0,1*J86*P86) -> -1286.2474 | X86: =SUM(W86:W87) -> -2165.3192 | Y86: =SUM($W$4:W86) -> -69298.037 | Z86: =Y86/3600000*-1 -> 0.019249455 | AA86: =P86*D86/1000 -> -1.2862474 | AB86: =IF(P86<-0.000001,1,0) -> 1 | AC86: =(0.5*1415*(D86^2-D85^2)/1000) -> -4.9656019 | AD86: =W86*0.8/1000*-1 -> 1.0289979 | AE86: =SUM($AD$4:AD86)/3600 -> 0.015399564
A87: Low | B87: 83 | C87: 83 | D87: =E87/3.6 -> 10.277778 | E87: 37 | F87: =($E87-$E85)/2/3.6 -> -0.20833333 | G87: =(E87-0)/2 -> 18.5 | H87: =P87*O87 -> 25213.916 | I87: =SUM($D$4:D87) -> 524.66667 | J87: =I87-I86 -> 10.277778 | K87: =Data!$B$4*9.81*0.012 -> 166.5738 | L87: =0.5*2.13*1.224*0.31*(D87^2) -> 42.686561 | M87: =SUM($L$4:L87) -> 1844.0158 | N87: =M87/1000 -> 1.8440158 | O87: =Data!$B$4*F87 -> -294.79167 | P87: =L87+K87+O87 -> -85.531306 | Q87: =SUM($P$4:P87)/10000 -> 3.0438229 | R87: =IF(O87<0.0001,0,1) -> 0 | S87: =IF(R87<1,0,1)*(J87*P87) -> 0 | T87: =SUM($S$4:S87) -> 272844.61 | U87: =T87/3600000 -> 0.075790169 | V87: =IF(P87<-0.000001,1,0) -> 1 | W87: =IF(V87<1,0,1*J87*P87) -> -879.07175 | Y87: =SUM($W$4:W87) -> -70177.108 | Z87: =Y87/3600000*-1 -> 0.019493641 | AA87: =P87*D87/1000 -> -0.87907175 | AB87: =IF(P87<-0.000001,1,0) -> 1 | AC87: =(0.5*1415*(D87^2-D86^2)/1000) -> -1.2168345 | AD87: =W87*0.8/1000*-1 -> 0.7032574 | AE87: =SUM($AD$4:AD87)/3600 -> 0.015594913
A88: Low | B88: 84 | C88: 84 | D88: =E88/3.6 -> 10.194444 | E88: 36.7 | F88: =($E88-$E86)/2/3.6 -> -0.083333333 | G88: =(E88-0)/2 -> 18.35 | H88: =P88*O88 -> -10689.651 | I88: =SUM($D$4:D88) -> 534.86111 | J88: =I88-I87 -> 10.194444 | K88: =Data!$B$4*9.81*0.012 -> 166.5738 | L88: =0.5*2.13*1.224*0.31*(D88^2) -> 41.997153 | M88: =SUM($L$4:L88) -> 1886.0129 | N88: =M88/1000 -> 1.8860129 | O88: =Data!$B$4*F88 -> -117.91667 | P88: =L88+K88+O88 -> 90.654286 | Q88: =SUM($P$4:P88)/10000 -> 3.0528883 | R88: =IF(O88<0.0001,0,1) -> 0 | S88: =IF(R88<1,0,1)*(J88*P88) -> 0 | T88: =SUM($S$4:S88) -> 272844.61 | U88: =T88/3600000 -> 0.075790169 | V88: =IF(P88<-0.000001,1,0) -> 0 | W88: =IF(V88<1,0,1*J88*P88) -> 0 | Y88: =SUM($W$4:W88) -> -70177.108 | Z88: =Y88/3600000*-1 -> 0.019493641 | AA88: =P88*D88/1000 -> 0.92417008 | AB88: =IF(P88<-0.000001,1,0) -> 0 | AC88: =(0.5*1415*(D88^2-D87^2)/1000) -> -1.2070081 | AD88: =W88*0.8/1000*-1 -> 0 | AE88: =SUM($AD$4:AD88)/3600 -> 0.015594913
A89: Low | B89: 85 | C89: 85 | D89: =E89/3.6 -> 9.9722222 | E89: 35.9 | F89: =($E89-$E87)/2/3.6 -> -0.15277778 | G89: =(E89-0)/2 -> 17.95 | H89: =P89*O89 -> 2036.5475 | I89: =SUM($D$4:D89) -> 544.83333 | J89: =I89-I88 -> 9.9722222 | K89: =Data!$B$4*9.81*0.012 -> 166.5738 | L89: =0.5*2.13*1.224*0.31*(D89^2) -> 40.18617 | M89: =SUM($L$4:L89) -> 1926.1991 | N89: =M89/1000 -> 1.9261991 | O89: =Data!$B$4*F89 -> -216.18056 | P89: =L89+K89+O89 -> -9.4205857 | Q89: =SUM($P$4:P89)/10000 -> 3.0519463 | R89: =IF(O89<0.0001,0,1) -> 0 | S89: =IF(R89<1,0,1)*(J89*P89) -> 0 | T89: =SUM($S$4:S89) -> 272844.61 | U89: =T89/3600000 -> 0.075790169 | V89: =IF(P89<-0.000001,1,0) -> 1 | W89: =IF(V89<1,0,1*J89*P89) -> -93.944175 | X89: =SUM(W89:W102) -> -45809.537 | Y89: =SUM($W$4:W89) -> -70271.053 | Z89: =Y89/3600000*-1 -> 0.019519737 | AA89: =P89*D89/1000 -> -0.093944175 | AB89: =IF(P89<-0.000001,1,0) -> 1 | AC89: =(0.5*1415*(D89^2-D88^2)/1000) -> -3.1706481 | AD89: =W89*0.8/1000*-1 -> 0.07515534 | AE89: =SUM($AD$4:AD89)/3600 -> 0.015615789
A90: Low | B90: 86 | C90: 86 | D90: =E90/3.6 -> 9.8055556 | E90: 35.3 | F90: =($E90-$E88)/2/3.6 -> -0.19444444 | G90: =(E90-0)/2 -> 17.65 | H90: =P90*O90 -> 19180.197 | I90: =SUM($D$4:D90) -> 554.63889 | J90: =I90-I89 -> 9.8055556 | K90: =Data!$B$4*9.81*0.012 -> 166.5738 | L90: =0.5*2.13*1.224*0.31*(D90^2) -> 38.854125 | M90: =SUM($L$4:L90) -> 1965.0532 | N90: =M90/1000 -> 1.9650532 | O90: =Data!$B$4*F90 -> -275.13889 | P90: =L90+K90+O90 -> -69.710964 | Q90: =SUM($P$4:P90)/10000 -> 3.0449752 | R90: =IF(O90<0.0001,0,1) -> 0 | S90: =IF(R90<1,0,1)*(J90*P90) -> 0 | T90: =SUM($S$4:S90) -> 272844.61 | U90: =T90/3600000 -> 0.075790169 | V90: =IF(P90<-0.000001,1,0) -> 1 | W90: =IF(V90<1,0,1*J90*P90) -> -683.55473 | Y90: =SUM($W$4:W90) -> -70954.607 | Z90: =Y90/3600000*-1 -> 0.019709613 | AA90: =P90*D90/1000 -> -0.68355473 | AB90: =IF(P90<-0.000001,1,0) -> 1 | AC90: =(0.5*1415*(D90^2-D89^2)/1000) -> -2.3321296 | AD90: =W90*0.8/1000*-1 -> 0.54684379 | AE90: =SUM($AD$4:AD90)/3600 -> 0.015767691
A91: Low | B91: 87 | C91: 87 | D91: =E91/3.6 -> 9.6111111 | E91: 34.6 | F91: =($E91-$E89)/2/3.6 -> -0.18055556 | G91: =(E91-0)/2 -> 17.3 | H91: =P91*O91 -> 13178.961 | I91: =SUM($D$4:D91) -> 564.25 | J91: =I91-I90 -> 9.6111111 | K91: =Data!$B$4*9.81*0.012 -> 166.5738 | L91: =0.5*2.13*1.224*0.31*(D91^2) -> 37.328446 | M91: =SUM($L$4:L91) -> 2002.3817 | N91: =M91/1000 -> 2.0023817 | O91: =Data!$B$4*F91 -> -255.48611 | P91: =L91+K91+O91 -> -51.583865 | Q91: =SUM($P$4:P91)/10000 -> 3.0398168 | R91: =IF(O91<0.0001,0,1) -> 0 | S91: =IF(R91<1,0,1)*(J91*P91) -> 0 | T91: =SUM($S$4:S91) -> 272844.61 | U91: =T91/3600000 -> 0.075790169 | V91: =IF(P91<-0.000001,1,0) -> 1 | W91: =IF(V91<1,0,1*J91*P91) -> -495.77825 | Y91: =SUM($W$4:W91) -> -71450.386 | Z91: =Y91/3600000*-1 -> 0.019847329 | AA91: =P91*D91/1000 -> -0.49577825 | AB91: =IF(P91<-0.000001,1,0) -> 1 | AC91: =(0.5*1415*(D91^2-D90^2)/1000) -> -2.67114 | AD91: =W91*0.8/1000*-1 -> 0.3966226 | AE91: =SUM($AD$4:AD91)/3600 -> 0.015877863
A92: Low | B92: 88 | C92: 88 | D92: =E92/3.6 -> 9.5 | E92: 34.2 | F92: =($E92-$E90)/2/3.6 -> -0.15277778 | G92: =(E92-0)/2 -> 17.1 | H92: =P92*O92 -> 2839.8355 | I92: =SUM($D$4:D92) -> 573.75 | J92: =I92-I91 -> 9.5 | K92: =Data!$B$4*9.81*0.012 -> 166.5738 | L92: =0.5*2.13*1.224*0.31*(D92^2) -> 36.47035 | M92: =SUM($L$4:L92) -> 2038.852 | N92: =M92/1000 -> 2.038852 | O92: =Data!$B$4*F92 -> -216.18056 | P92: =L92+K92+O92 -> -13.136406 | Q92: =SUM($P$4:P92)/10000 -> 3.0385031 | R92: =IF(O92<0.0001,0,1) -> 0 | S92: =IF(R92<1,0,1)*(J92*P92) -> 0 | T92: =SUM($S$4:S92) -> 272844.61 | U92: =T92/3600000 -> 0.075790169 | V92: =IF(P92<-0.000001,1,0) -> 1 | W92: =IF(V92<1,0,1*J92*P92) -> -124.79585 | Y92: =SUM($W$4:W92) -> -71575.181 | Z92: =Y92/3600000*-1 -> 0.019881995 | AA92: =P92*D92/1000 -> -0.12479585 | AB92: =IF(P92<-0.000001,1,0) -> 1 | AC92: =(0.5*1415*(D92^2-D91^2)/1000) -> -1.5023457 | AD92: =W92*0.8/1000*-1 -> 0.099836683 | AE92: =SUM($AD$4:AD92)/3600 -> 0.015905596
A93: Low | B93: 89 | C93: 89 | D93: =E93/3.6 -> 8.8611111 | E93: 31.9 | F93: =($E93-$E91)/2/3.6 -> -0.375 | G93: =(E93-0)/2 -> 15.95 | H93: =P93*O93 -> 176337.98 | I93: =SUM($D$4:D93) -> 582.61111 | J93: =I93-I92 -> 8.8611111 | K93: =Data!$B$4*9.81*0.012 -> 166.5738 | L93: =0.5*2.13*1.224*0.31*(D93^2) -> 31.729928 | M93: =SUM($L$4:L93) -> 2070.5819 | N93: =M93/1000 -> 2.0705819 | O93: =Data!$B$4*F93 -> -530.625 | P93: =L93+K93+O93 -> -332.32127 | Q93: =SUM($P$4:P93)/10000 -> 3.005271 | R93: =IF(O93<0.0001,0,1) -> 0 | S93: =IF(R93<1,0,1)*(J93*P93) -> 0 | T93: =SUM($S$4:S93) -> 272844.61 | U93: =T93/3600000 -> 0.075790169 | V93: =IF(P93<-0.000001,1,0) -> 1 | W93: =IF(V93<1,0,1*J93*P93) -> -2944.7357 | Y93: =SUM($W$4:W93) -> -74519.917 | Z93: =Y93/3600000*-1 -> 0.020699977 | AA93: =P93*D93/1000 -> -2.9447357 | AB93: =IF(P93<-0.000001,1,0) -> 1 | AC93: =(0.5*1415*(D93^2-D92^2)/1000) -> -8.2994772 | AD93: =W93*0.8/1000*-1 -> 2.3557886 | AE93: =SUM($AD$4:AD93)/3600 -> 0.016559982
A94: Low | B94: 90 | C94: 90 | D94: =E94/3.6 -> 7.5833333 | E94: 27.3 | F94: =($E94-$E92)/2/3.6 -> -0.95833333 | G94: =(E94-0)/2 -> 13.65 | H94: =P94*O94 -> 1581455.3 | I94: =SUM($D$4:D94) -> 590.19444 | J94: =I94-I93 -> 7.5833333 | K94: =Data!$B$4*9.81*0.012 -> 166.5738 | L94: =0.5*2.13*1.224*0.31*(D94^2) -> 23.238763 | M94: =SUM($L$4:L94) -> 2093.8207 | N94: =M94/1000 -> 2.0938207 | O94: =Data!$B$4*F94 -> -1356.0417 | P94: =L94+K94+O94 -> -1166.2291 | Q94: =SUM($P$4:P94)/10000 -> 2.8886481 | R94: =IF(O94<0.0001,0,1) -> 0 | S94: =IF(R94<1,0,1)*(J94*P94) -> 0 | T94: =SUM($S$4:S94) -> 272844.61 | U94: =T94/3600000 -> 0.075790169 | V94: =IF(P94<-0.000001,1,0) -> 1 | W94: =IF(V94<1,0,1*J94*P94) -> -8843.904 | Y94: =SUM($W$4:W94) -> -83363.821 | Z94: =Y94/3600000*-1 -> 0.023156617 | AA94: =P94*D94/1000 -> -8.843904 | AB94: =IF(P94<-0.000001,1,0) -> 1 | AC94: =(0.5*1415*(D94^2-D93^2)/1000) -> -14.866235 | AD94: =W94*0.8/1000*-1 -> 7.0751232 | AE94: =SUM($AD$4:AD94)/3600 -> 0.018525294
A95: Low | B95: 91 | C95: 91 | D95: =E95/3.6 -> 6.1111111 | E95: 22 | F95: =($E95-$E93)/2/3.6 -> -1.375 | G95: =(E95-0)/2 -> 11 | H95: =P95*O95 -> 3432004 | I95: =SUM($D$4:D95) -> 596.30556 | J95: =I95-I94 -> 6.1111111 | K95: =Data!$B$4*9.81*0.012 -> 166.5738 | L95: =0.5*2.13*1.224*0.31*(D95^2) -> 15.091523 | M95: =SUM($L$4:L95) -> 2108.9122 | N95: =M95/1000 -> 2.1089122 | O95: =Data!$B$4*F95 -> -1945.625 | P95: =L95+K95+O95 -> -1763.9597 | Q95: =SUM($P$4:P95)/10000 -> 2.7122521 | R95: =IF(O95<0.0001,0,1) -> 0 | S95: =IF(R95<1,0,1)*(J95*P95) -> 0 | T95: =SUM($S$4:S95) -> 272844.61 | U95: =T95/3600000 -> 0.075790169 | V95: =IF(P95<-0.000001,1,0) -> 1 | W95: =IF(V95<1,0,1*J95*P95) -> -10779.754 | Y95: =SUM($W$4:W95) -> -94143.575 | Z95: =Y95/3600000*-1 -> 0.026150993 | AA95: =P95*D95/1000 -> -10.779754 | AB95: =IF(P95<-0.000001,1,0) -> 1 | AC95: =(0.5*1415*(D95^2-D94^2)/1000) -> -14.264095 | AD95: =W95*0.8/1000*-1 -> 8.6238029 | AE95: =SUM($AD$4:AD95)/3600 -> 0.020920794
A96: Low | B96: 92 | C96: 92 | D96: =E96/3.6 -> 4.7222222 | E96: 17 | F96: =($E96-$E94)/2/3.6 -> -1.4305556 | G96: =(E96-0)/2 -> 8.5 | H96: =P96*O96 -> 3742106.2 | I96: =SUM($D$4:D96) -> 601.02778 | J96: =I96-I95 -> 4.7222222 | K96: =Data!$B$4*9.81*0.012 -> 166.5738 | L96: =0.5*2.13*1.224*0.31*(D96^2) -> 9.0112608 | M96: =SUM($L$4:L96) -> 2117.9235 | N96: =M96/1000 -> 2.1179235 | O96: =Data!$B$4*F96 -> -2024.2361 | P96: =L96+K96+O96 -> -1848.6511 | Q96: =SUM($P$4:P96)/10000 -> 2.527387 | R96: =IF(O96<0.0001,0,1) -> 0 | S96: =IF(R96<1,0,1)*(J96*P96) -> 0 | T96: =SUM($S$4:S96) -> 272844.61 | U96: =T96/3600000 -> 0.075790169 | V96: =IF(P96<-0.000001,1,0) -> 1 | W96: =IF(V96<1,0,1*J96*P96) -> -8729.7411 | Y96: =SUM($W$4:W96) -> -102873.32 | Z96: =Y96/3600000*-1 -> 0.028575921 | AA96: =P96*D96/1000 -> -8.7297411 | AB96: =IF(P96<-0.000001,1,0) -> 1 | AC96: =(0.5*1415*(D96^2-D95^2)/1000) -> -10.645255 | AD96: =W96*0.8/1000*-1 -> 6.9837929 | AE96: =SUM($AD$4:AD96)/3600 -> 0.022860737
A97: Low | B97: 93 | C97: 93 | D97: =E97/3.6 -> 3.9444444 | E97: 14.2 | F97: =($E97-$E95)/2/3.6 -> -1.0833333 | G97: =(E97-0)/2 -> 7.1 | H97: =P97*O97 -> 2084851.8 | I97: =SUM($D$4:D97) -> 604.97222 | J97: =I97-I96 -> 3.9444444 | K97: =Data!$B$4*9.81*0.012 -> 166.5738 | L97: =0.5*2.13*1.224*0.31*(D97^2) -> 6.2873032 | M97: =SUM($L$4:L97) -> 2124.2108 | N97: =M97/1000 -> 2.1242108 | O97: =Data!$B$4*F97 -> -1532.9167 | P97: =L97+K97+O97 -> -1360.0556 | Q97: =SUM($P$4:P97)/10000 -> 2.3913815 | R97: =IF(O97<0.0001,0,1) -> 0 | S97: =IF(R97<1,0,1)*(J97*P97) -> 0 | T97: =SUM($S$4:S97) -> 272844.61 | U97: =T97/3600000 -> 0.075790169 | V97: =IF(P97<-0.000001,1,0) -> 1 | W97: =IF(V97<1,0,1*J97*P97) -> -5364.6636 | Y97: =SUM($W$4:W97) -> -108237.98 | Z97: =Y97/3600000*-1 -> 0.030066105 | AA97: =P97*D97/1000 -> -5.3646636 | AB97: =IF(P97<-0.000001,1,0) -> 1 | AC97: =(0.5*1415*(D97^2-D96^2)/1000) -> -4.7690741 | AD97: =W97*0.8/1000*-1 -> 4.2917309 | AE97: =SUM($AD$4:AD97)/3600 -> 0.024052884
A98: Low | B98: 94 | C98: 94 | D98: =E98/3.6 -> 3.3333333 | E98: 12 | F98: =($E98-$E96)/2/3.6 -> -0.69444444 | G98: =(E98-0)/2 -> 6 | H98: =P98*O98 -> 797485.2 | I98: =SUM($D$4:D98) -> 608.30556 | J98: =I98-I97 -> 3.3333333 | K98: =Data!$B$4*9.81*0.012 -> 166.5738 | L98: =0.5*2.13*1.224*0.31*(D98^2) -> 4.49004 | M98: =SUM($L$4:L98) -> 2128.7008 | N98: =M98/1000 -> 2.1287008 | O98: =Data!$B$4*F98 -> -982.63889 | P98: =L98+K98+O98 -> -811.57505 | Q98: =SUM($P$4:P98)/10000 -> 2.310224 | R98: =IF(O98<0.0001,0,1) -> 0 | S98: =IF(R98<1,0,1)*(J98*P98) -> 0 | T98: =SUM($S$4:S98) -> 272844.61 | U98: =T98/3600000 -> 0.075790169 | V98: =IF(P98<-0.000001,1,0) -> 1 | W98: =IF(V98<1,0,1*J98*P98) -> -2705.2502 | Y98: =SUM($W$4:W98) -> -110943.23 | Z98: =Y98/3600000*-1 -> 0.030817564 | AA98: =P98*D98/1000 -> -2.7052502 | AB98: =IF(P98<-0.000001,1,0) -> 1 | AC98: =(0.5*1415*(D98^2-D97^2)/1000) -> -3.1466281 | AD98: =W98*0.8/1000*-1 -> 2.1642001 | AE98: =SUM($AD$4:AD98)/3600 -> 0.024654051
...

Sheet Data
A2: area m3 | B2: 2.13 | G2: duration | H2: stop duration | I2: distance | J2: p_stop | K2: v_max | L2: v_ave without stops | M2: v_ave with stops | N2: a_min | O2: a_max
A3: drag coefficent | B3: 0.31 | G3: s | H3: s | I3: m | K3: km/h | L3: km/h | M3: km/h | N3: m/s² | O3: m/s²
A4: weight | B4: =1320+95 -> 1415 | F4: low | G4: 589 | H4: 156 | I4: 3095 | J4: 0.265 | K4: 56.5 | L4: 25.7 | M4: 18.9 | N4: -1.47 | O4: 1.47
A5: Rolling resistance | B5: 0.012 | F5: medium | G5: 433 | H5: 48 | I5: 4756 | J5: 0.111 | K5: 76.6 | L5: 44.5 | M5: 39.5 | N5: -1.49 | O5: 1.57
F6: high | G6: 455 | H6: 31 | I6: 7158 | J6: 0.068 | K6: 97.4 | L6: 60.8 | M6: 56.6 | N6: -1.49 | O6: 1.58
F7: extra high | G7: 323 | H7: 7 | I7: 8254 | J7: 0.022 | K7: 131.3 | L7: 94 | M7: 92 | N7: -1.21 | O7: 1.03
G8: 1800 | H8: 242 | I8: 23262
A14: energy
A15: total tractive | B15: 9775.7531 | C15: KJ
A16: total breaking | B16: 2497.7932 | C16: KJ | D16: breaking time | E16: 436
A17: total losses | B17: =B15-B16 -> 7277.9599 | D17: breaking | E17: 62
A18: max breaking | B18: 242.86406 | D18: average break time | E18: =E16/E17 -> 7.0322581 | F18: power req | G18: =B18/E18 -> 34.535715 | H18: kj

Sheet Graphs
AJ62: 0
