Workbook

Sheet WLTP class 3
A2: ze | B2: Total elapsed time | C2: Phase elapsed time | D2: WLTC class 3, version 5, vehicle speed | E2: WLTC class 3, version 5, vehicle speed | F2: WLTC class 3, version 5, acceleration | G2: WLTC class 3, version 5, acceleration | H2: Power | I2: distance | J2: change in distance | K2: rolling resistance | L2: aerodynamic drag | M2: Cumlative Aero drag | O2: acceleration force | P2: tractive force | Q2: tractive force | R2: if fucntion | S2: tractive energy | T2: cumlative tractive energy | U2: cumlative tractive energy | V2: braking energy | W2: braking energy | X2: Area totals for breaking | Y2: cumulative braking energy | Z2: cumulative braking energy | AA2: power | AB2: if function | AD2: recovarable energy | AE2: recovarable energy
A3: Phase | B3: s | D3: m/s | E3: km/h | F3: m/s² | G3: km/h/s | H3: n | I3: m | J3: m | K3: N | L3: N | M3: N | N3: kn | O3: N | P3: N | Q3: Kn | S3: J | T3: J | U3: kw/h | W3: L | Y3: j | Z3: kw | AA3: Kw | AC3: KE | AD3: kJ | AE3: kW/h
A4: Low | B4: 0 | C4: 0 | D4: =E4/3.6 -> 0 | E4: 0 | F4: 0 | G4: =(E4-0)/2 -> 0 | H4: =P4*O4 -> 0 | I4: =SUM($D$4:D4) -> 0 | J4: 0 | K4: =Data!$B$4*9.81*0.012 -> 166.5738 | L4: =0.5*2.13*1.224*0.31*(D4^2) -> 0 | M4: =SUM($L$4:L4) -> 0 | N4: =M4/10000 -> 0 | O4: =Data!$B$4*F4 -> 0 | P4: =L4+K4+O4 -> 166.5738 | Q4: =SUM($P$4:P4)/10000 -> 0.01665738 | R4: =IF(O4<0.0001,0,1) -> 0 | S4: =IF(R4<1,0,1)*(J4*P4) -> 0 | T4: =SUM($S$4:S4) -> 0 | U4: =T4/3600000 -> 0 | V4: =IF(P4<-0.000001,1,0) -> 0 | W4: =IF(V4<1,0,1*J4*P4) -> 0 | Y4: =SUM($W$4:W4) -> 0 | Z4: =Y4/3600000*-1 -> 0 | AA4: =P4*D4/1000 -> 0 | AB4: =IF(P4<-0.000001,1,0) -> 0 | AC4: =(0.5*1415*(D4-D3)^2)/1000 -> #VALUE! | AE4: =SUM($AD$4:AD4)/3600 -> 0
A5: Low | B5: 1 | C5: 1 | D5: =E5/3.6 -> 0 | E5: 0 | F5: 0 | G5: =(E5-0)/2 -> 0 | H5: =P5*O5 -> 0 | I5: =SUM($D$4:D5) -> 0 | J5: =I5-I4 -> 0 | K5: =Data!$B$4*9.81*0.012 -> 166.5738 | L5: =0.5*2.13*1.224*0.31*(D5^2) -> 0 | M5: =SUM($L$4:L5) -> 0 | N5: =M5/1000 -> 0 | O5: =Data!$B$4*F5 -> 0 | P5: =L5+K5+O5 -> 166.5738 | Q5: =SUM($P$4:P5)/10000 -> 0.03331476 | R5: =IF(O5<0.0001,0,1) -> 0 | S5: =IF(R5<1,0,1)*(J5*P5) -> 0 | T5: =SUM($S$4:S5) -> 0 | U5: =T5/3600000 -> 0 | V5: =IF(P5<-0.000001,1,0) -> 0 | W5: =IF(V5<1,0,1*J5*P5) -> 0 | Y5: =SUM($W$4:W5) -> 0 | Z5: =Y5/3600000*-1 -> 0 | AA5: =P5*D5/1000 -> 0 | AB5: =IF(P5<-0.000001,1,0) -> 0 | AC5: =(0.5*1415*(D5^2-D4^2)/1000) -> 0 | AE5: =SUM($AD$4:AD5)/3600 -> 0
A6: Low | B6: 2 | C6: 2 | D6: =E6/3.6 -> 0 | E6: 0 | F6: =($E6-$E4)/2/3.6 -> 0 | G6: =(E6-0)/2 -> 0 | H6: =P6*O6 -> 0 | I6: =SUM($D$4:D6) -> 0 | J6: =I6-I5 -> 0 | K6: =Data!$B$4*9.81*0.012 -> 166.5738 | L6: =0.5*2.13*1.224*0.31*(D6^2) -> 0 | M6: =SUM($L$4:L6) -> 0 | N6: =M6/1000 -> 0 | O6: =Data!$B$4*F6 -> 0 | P6: =L6+K6+O6 -> 166.5738 | Q6: =SUM($P$4:P6)/10000 -> 0.04997214 | R6: =IF(O6<0.0001,0,1) -> 0 | S6: =IF(R6<1,0,1)*(J6*P6) -> 0 | T6: =SUM($S$4:S6) -> 0 | U6: =T6/3600000 -> 0 | V6: =IF(P6<-0.000001,1,0) -> 0 | W6: =IF(V6<1,0,1*J6*P6) -> 0 | Y6: =SUM($W$4:W6) -> 0 | Z6: =Y6/3600000*-1 -> 0 | AA6: =P6*D6/1000 -> 0 | AB6: =IF(P6<-0.000001,1,0) -> 0 | AC6: =(0.5*1415*(D6^2-D5^2)/1000) -> 0 | AD6: =IF(AC5-AC6>0,(AC5-AC6)*0.75,0) -> 0 | AE6: =SUM($AD$4:AD6)/3600 -> 0
A7: Low | B7: 3 | C7: 3 | D7: =E7/3.6 -> 0 | E7: 0 | F7: =($E7-$E5)/2/3.6 -> 0 | G7: =(E7-0)/2 -> 0 | H7: =P7*O7 -> 0 | I7: =SUM($D$4:D7) -> 0 | J7: =I7-I6 -> 0 | K7: =Data!$B$4*9.81*0.012 -> 166.5738 | L7: =0.5*2.13*1.224*0.31*(D7^2) -> 0 | M7: =SUM($L$4:L7) -> 0 | N7: =M7/1000 -> 0 | O7: =Data!$B$4*F7 -> 0 | P7: =L7+K7+O7 -> 166.5738 | Q7: =SUM($P$4:P7)/10000 -> 0.06662952 | R7: =IF(O7<0.0001,0,1) -> 0 | S7: =IF(R7<1,0,1)*(J7*P7) -> 0 | T7: =SUM($S$4:S7) -> 0 | U7: =T7/3600000 -> 0 | V7: =IF(P7<-0.000001,1,0) -> 0 | W7: =IF(V7<1,0,1*J7*P7) -> 0 | Y7: =SUM($W$4:W7) -> 0 | Z7: =Y7/3600000*-1 -> 0 | AA7: =P7*D7/1000 -> 0 | AB7: =IF(P7<-0.000001,1,0) -> 0 | AC7: =(0.5*1415*(D7^2-D6^2)/1000) -> 0 | AD7: =IF(AC6-AC7>0,(AC6-AC7)*0.75,0) -> 0 | AE7: =SUM($AD$4:AD7)/3600 -> 0
A8: Low | B8: 4 | C8: 4 | D8: =E8/3.6 -> 0 | E8: 0 | F8: =($E8-$E6)/2/3.6 -> 0 | G8: =(E8-0)/2 -> 0 | H8: =P8*O8 -> 0 | I8: =SUM($D$4:D8) -> 0 | J8: =I8-I7 -> 0 | K8: =Data!$B$4*9.81*0.012 -> 166.5738 | L8: =0.5*2.13*1.224*0.31*(D8^2) -> 0 | M8: =SUM($L$4:L8) -> 0 | N8: =M8/1000 -> 0 | O8: =Data!$B$4*F8 -> 0 | P8: =L8+K8+O8 -> 166.5738 | Q8: =SUM($P$4:P8)/10000 -> 0.0832869 | R8: =IF(O8<0.0001,0,1) -> 0 | S8: =IF(R8<1,0,1)*(J8*P8) -> 0 | T8: =SUM($S$4:S8) -> 0 | U8: =T8/3600000 -> 0 | V8: =IF(P8<-0.000001,1,0) -> 0 | W8: =IF(V8<1,0,1*J8*P8) -> 0 | Y8: =SUM($W$4:W8) -> 0 | Z8: =Y8/3600000*-1 -> 0 | AA8: =P8*D8/1000 -> 0 | AB8: =IF(P8<-0.000001,1,0) -> 0 | AC8: =(0.5*1415*(D8^2-D7^2)/1000) -> 0 | AD8: =IF(AC7-AC8>0,(AC7-AC8)*0.75,0) -> 0 | AE8: =SUM($AD$4:AD8)/3600 -> 0
A9: Low | B9: 5 | C9: 5 | D9: =E9/3.6 -> 0 | E9: 0 | F9: =($E9-$E7)/2/3.6 -> 0 | G9: =(E9-0)/2 -> 0 | H9: =P9*O9 -> 0 | I9: =SUM($D$4:D9) -> 0 | J9: =I9-I8 -> 0 | K9: =Data!$B$4*9.81*0.012 -> 166.5738 | L9: =0.5*2.13*1.224*0.31*(D9^2) -> 0 | M9: =SUM($L$4:L9) -> 0 | N9: =M9/1000 -> 0 | O9: =Data!$B$4*F9 -> 0 | P9: =L9+K9+O9 -> 166.5738 | Q9: =SUM($P$4:P9)/10000 -> 0.09994428 | R9: =IF(O9<0.0001,0,1) -> 0 | S9: =IF(R9<1,0,1)*(J9*P9) -> 0 | T9: =SUM($S$4:S9) -> 0 | U9: =T9/3600000 -> 0 | V9: =IF(P9<-0.000001,1,0) -> 0 | W9: =IF(V9<1,0,1*J9*P9) -> 0 | Y9: =SUM($W$4:W9) -> 0 | Z9: =Y9/3600000*-1 -> 0 | AA9: =P9*D9/1000 -> 0 | AB9: =IF(P9<-0.000001,1,0) -> 0 | AC9: =(0.5*1415*(D9^2-D8^2)/1000) -> 0 | AD9: =IF(AC8-AC9>0,(AC8-AC9)*0.75,0) -> 0 | AE9: =SUM($AD$4:AD9)/3600 -> 0
A10: Low | B10: 6 | C10: 6 | D10: =E10/3.6 -> 0 | E10: 0 | F10: =($E10-$E8)/2/3.6 -> 0 | G10: =(E10-0)/2 -> 0 | H10: =P10*O10 -> 0 | I10: =SUM($D$4:D10) -> 0 | J10: =I10-I9 -> 0 | K10: =Data!$B$4*9.81*0.012 -> 166.5738 | L10: =0.5*2.13*1.224*0.31*(D10^2) -> 0 | M10: =SUM($L$4:L10) -> 0 | N10: =M10/1000 -> 0 | O10: =Data!$B$4*F10 -> 0 | P10: =L10+K10+O10 -> 166.5738 | Q10: =SUM($P$4:P10)/10000 -> 0.11660166 | R10: =IF(O10<0.0001,0,1) -> 0 | S10: =IF(R10<1,0,1)*(J10*P10) -> 0 | T10: =SUM($S$4:S10) -> 0 | U10: =T10/3600000 -> 0 | V10: =IF(P10<-0.000001,1,0) -> 0 | W10: =IF(V10<1,0,1*J10*P10) -> 0 | Y10: =SUM($W$4:W10) -> 0 | Z10: =Y10/3600000*-1 -> 0 | AA10: =P10*D10/1000 -> 0 | AB10: =IF(P10<-0.000001,1,0) -> 0 | AC10: =(0.5*1415*(D10^2-D9^2)/1000) -> 0 | AD10: =IF(AC9-AC10>0,(AC9-AC10)*0.75,0) -> 0 | AE10: =SUM($AD$4:AD10)/3600 -> 0
A11: Low | B11: 7 | C11: 7 | D11: =E11/3.6 -> 0 | E11: 0 | F11: =($E11-$E9)/2/3.6 -> 0 | G11: =(E11-0)/2 -> 0 | H11: =P11*O11 -> 0 | I11: =SUM($D$4:D11) -> 0 | J11: =I11-I10 -> 0 | K11: =Data!$B$4*9.81*0.012 -> 166.5738 | L11: =0.5*2.13*1.224*0.31*(D11^2) -> 0 | M11: =SUM($L$4:L11) -> 0 | N11: =M11/1000 -> 0 | O11: =Data!$B$4*F11 -> 0 | P11: =L11+K11+O11 -> 166.5738 | Q11: =SUM($P$4:P11)/10000 -> 0.13325904 | R11: =IF(O11<0.0001,0,1) -> 0 | S11: =IF(R11<1,0,1)*(J11*P11) -> 0 | T11: =SUM($S$4:S11) -> 0 | U11: =T11/3600000 -> 0 | V11: =IF(P11<-0.000001,1,0) -> 0 | W11: =IF(V11<1,0,1*J11*P11) -> 0 | Y11: =SUM($W$4:W11) -> 0 | Z11: =Y11/3600000*-1 -> 0 | AA11: =P11*D11/1000 -> 0 | AB11: =IF(P11<-0.000001,1,0) -> 0 | AC11: =(0.5*1415*(D11^2-D10^2)/1000) -> 0 | AD11: =IF(AC10-AC11>0,(AC10-AC11)*0.75,0) -> 0 | AE11: =SUM($AD$4:AD11)/3600 -> 0
A12: Low | B12: 8 | C12: 8 | D12: =E12/3.6 -> 0 | E12: 0 | F12: =($E12-$E10)/2/3.6 -> 0 | G12: =(E12-0)/2 -> 0 | H12: =P12*O12 -> 0 | I12: =SUM($D$4:D12) -> 0 | J12: =I12-I11 -> 0 | K12: =Data!$B$4*9.81*0.012 -> 166.5738 | L12: =0.5*2.13*1.224*0.31*(D12^2) -> 0 | M12: =SUM($L$4:L12) -> 0 | N12: =M12/1000 -> 0 | O12: =Data!$B$4*F12 -> 0 | P12: =L12+K12+O12 -> 166.5738 | Q12: =SUM($P$4:P12)/10000 -> 0.14991642 | R12: =IF(O12<0.0001,0,1) -> 0 | S12: =IF(R12<1,0,1)*(J12*P12) -> 0 | T12: =SUM($S$4:S12) -> 0 | U12: =T12/3600000 -> 0 | V12: =IF(P12<-0.000001,1,0) -> 0 | W12: =IF(V12<1,0,1*J12*P12) -> 0 | Y12: =SUM($W$4:W12) -> 0 | Z12: =Y12/3600000*-1 -> 0 | AA12: =P12*D12/1000 -> 0 | AB12: =IF(P12<-0.000001,1,0) -> 0 | AC12: =(0.5*1415*(D12^2-D11^2)/1000) -> 0 | AD12: =IF(AC11-AC12>0,(AC11-AC12)*0.75,0) -> 0 | AE12: =SUM($AD$4:AD12)/3600 -> 0
A13: Low | B13: 9 | C13: 9 | D13: =E13/3.6 -> 0 | E13: 0 | F13: =($E13-$E11)/2/3.6 -> 0 | G13: =(E13-0)/2 -> 0 | H13: =P13*O13 -> 0 | I13: =SUM($D$4:D13) -> 0 | J13: =I13-I12 -> 0 | K13: =Data!$B$4*9.81*0.012 -> 166.5738 | L13: =0.5*2.13*1.224*0.31*(D13^2) -> 0 | M13: =SUM($L$4:L13) -> 0 | N13: =M13/1000 -> 0 | O13: =Data!$B$4*F13 -> 0 | P13: =L13+K13+O13 -> 166.5738 | Q13: =SUM($P$4:P13)/10000 -> 0.1665738 | R13: =IF(O13<0.0001,0,1) -> 0 | S13: =IF(R13<1,0,1)*(J13*P13) -> 0 | T13: =SUM($S$4:S13) -> 0 | U13: =T13/3600000 -> 0 | V13: =IF(P13<-0.000001,1,0) -> 0 | W13: =IF(V13<1,0,1*J13*P13) -> 0 | Y13: =SUM($W$4:W13) -> 0 | Z13: =Y13/3600000*-1 -> 0 | AA13: =P13*D13/1000 -> 0 | AB13: =IF(P13<-0.000001,1,0) -> 0 | AC13: =(0.5*1415*(D13^2-D12^2)/1000) -> 0 | AD13: =IF(AC12-AC13>0,(AC12-AC13)*0.75,0) -> 0 | AE13: =SUM($AD$4:AD13)/3600 -> 0
A14: Low | B14: 10 | C14: 10 | D14: =E14/3.6 -> 0 | E14: 0 | F14: =($E14-$E12)/2/3.6 -> 0 | G14: =(E14-0)/2 -> 0 | H14: =P14*O14 -> 0 | I14: =SUM($D$4:D14) -> 0 | J14: =I14-I13 -> 0 | K14: =Data!$B$4*9.81*0.012 -> 166.5738 | L14: =0.5*2.13*1.224*0.31*(D14^2) -> 0 | M14: =SUM($L$4:L14) -> 0 | N14: =M14/1000 -> 0 | O14: =Data!$B$4*F14 -> 0 | P14: =L14+K14+O14 -> 166.5738 | Q14: =SUM($P$4:P14)/10000 -> 0.18323118 | R14: =IF(O14<0.0001,0,1) -> 0 | S14: =IF(R14<1,0,1)*(J14*P14) -> 0 | T14: =SUM($S$4:S14) -> 0 | U14: =T14/3600000 -> 0 | V14: =IF(P14<-0.000001,1,0) -> 0 | W14: =IF(V14<1,0,1*J14*P14) -> 0 | Y14: =SUM($W$4:W14) -> 0 | Z14: =Y14/3600000*-1 -> 0 | AA14: =P14*D14/1000 -> 0 | AB14: =IF(P14<-0.000001,1,0) -> 0 | AC14: =(0.5*1415*(D14^2-D13^2)/1000) -> 0 | AD14: =IF(AC13-AC14>0,(AC13-AC14)*0.75,0) -> 0 | AE14: =SUM($AD$4:AD14)/3600 -> 0
A15: Low | B15: 11 | C15: 11 | D15: =E15/3.6 -> 0 | E15: 0 | F15: =($E15-$E13)/2/3.6 -> 0 | G15: =(E15-0)/2 -> 0 | H15: =P15*O15 -> 0 | I15: =SUM($D$4:D15) -> 0 | J15: =I15-I14 -> 0 | K15: =Data!$B$4*9.81*0.012 -> 166.5738 | L15: =0.5*2.13*1.224*0.31*(D15^2) -> 0 | M15: =SUM($L$4:L15) -> 0 | N15: =M15/1000 -> 0 | O15: =Data!$B$4*F15 -> 0 | P15: =L15+K15+O15 -> 166.5738 | Q15: =SUM($P$4:P15)/10000 -> 0.19988856 | R15: =IF(O15<0.0001,0,1) -> 0 | S15: =IF(R15<1,0,1)*(J15*P15) -> 0 | T15: =SUM($S$4:S15) -> 0 | U15: =T15/3600000 -> 0 | V15: =IF(P15<-0.000001,1,0) -> 0 | W15: =IF(V15<1,0,1*J15*P15) -> 0 | Y15: =SUM($W$4:W15) -> 0 | Z15: =Y15/3600000*-1 -> 0 | AA15: =P15*D15/1000 -> 0 | AB15: =IF(P15<-0.000001,1,0) -> 0 | AC15: =(0.5*1415*(D15^2-D14^2)/1000) -> 0 | AD15: =IF(AC14-AC15>0,(AC14-AC15)*0.75,0) -> 0 | AE15: =SUM($AD$4:AD15)/3600 -> 0
A16: Low | B16: 12 | C16: 12 | D16: =E16/3.6 -> 0.055555556 | E16: 0.2 | F16: =($E16-$E14)/2/3.6 -> 0.027777778 | G16: =(E16-0)/2 -> 0.1 | H16: =P16*O16 -> 8092.2515 | I16: =SUM($D$4:D16) -> 0.055555556 | J16: =I16-I15 -> 0.055555556 | K16: =Data!$B$4*9.81*0.012 -> 166.5738 | L16: =0.5*2.13*1.224*0.31*(D16^2) -> 0.0012472333 | M16: =SUM($L$4:L16) -> 0.0012472333 | N16: =M16/1000 -> 1.2472333e-06 | O16: =Data!$B$4*F16 -> 39.305556 | P16: =L16+K16+O16 -> 205.8806 | Q16: =SUM($P$4:P16)/10000 -> 0.22047662 | R16: =IF(O16<0.0001,0,1) -> 1 | S16: =IF(R16<1,0,1)*(J16*P16) -> 11.437811 | T16: =SUM($S$4:S16) -> 11.437811 | U16: =T16/3600000 -> 3.1771698e-06 | V16: =IF(P16<-0.000001,1,0) -> 0 | W16: =IF(V16<1,0,1*J16*P16) -> 0 | Y16: =SUM($W$4:W16) -> 0 | Z16: =Y16/3600000*-1 -> 0 | AA16: =P16*D16/1000 -> 0.011437811 | AB16: =IF(P16<-0.000001,1,0) -> 0 | AC16: =(0.5*1415*(D16^2-D15^2)/1000) -> 0.002183642 | AD16: =W16*0.8/1000*-1 -> 0 | AE16: =SUM($AD$4:AD16)/3600 -> 0
A17: Low | B17: 13 | C17: 13 | D17: =E17/3.6 -> 0.47222222 | E17: 1.7 | F17: =($E17-$E15)/2/3.6 -> 0.23611111 | G17: =(E17-0)/2 -> 0.85 | H17: =P17*O17 -> 167302.9 | I17: =SUM($D$4:D17) -> 0.52777778 | J17: =I17-I16 -> 0.47222222 | K17: =Data!$B$4*9.81*0.012 -> 166.5738 | L17: =0.5*2.13*1.224*0.31*(D17^2) -> 0.090112608 | M17: =SUM($L$4:L17) -> 0.091359842 | N17: =M17/1000 -> 9.1359842e-05 | O17: =Data!$B$4*F17 -> 334.09722 | P17: =L17+K17+O17 -> 500.76113 | Q17: =SUM($P$4:P17)/10000 -> 0.27055273 | R17: =IF(O17<0.0001,0,1) -> 1 | S17: =IF(R17<1,0,1)*(J17*P17) -> 236.47054 | T17: =SUM($S$4:S17) -> 247.90835 | U17: =T17/3600000 -> 6.886343e-05 | V17: =IF(P17<-0.000001,1,0) -> 0 | W17: =IF(V17<1,0,1*J17*P17) -> 0 | Y17: =SUM($W$4:W17) -> 0 | Z17: =Y17/3600000*-1 -> 0 | AA17: =P17*D17/1000 -> 0.23647054 | AB17: =IF(P17<-0.000001,1,0) -> 0 | AC17: =(0.5*1415*(D17^2-D16^2)/1000) -> 0.15558449 | AD17: =W17*0.8/1000*-1 -> 0 | AE17: =SUM($AD$4:AD17)/3600 -> 0
A18: Low | B18: 14 | C18: 14 | D18: =E18/3.6 -> 1.5 | E18: 5.4 | F18: =($E18-$E16)/2/3.6 -> 0.72222222 | G18: =(E18-0)/2 -> 2.7 | H18: =P18*O18 -> 1215528.8 | I18: =SUM($D$4:D18) -> 2.0277778 | J18: =I18-I17 -> 1.5 | K18: =Data!$B$4*9.81*0.012 -> 166.5738 | L18: =0.5*2.13*1.224*0.31*(D18^2) -> 0.9092331 | M18: =SUM($L$4:L18) -> 1.0005929 | N18: =M18/1000 -> 0.0010005929 | O18: =Data!$B$4*F18 -> 1021.9444 | P18: =L18+K18+O18 -> 1189.4275 | Q18: =SUM($P$4:P18)/10000 -> 0.38949548 | R18: =IF(O18<0.0001,0,1) -> 1 | S18: =IF(R18<1,0,1)*(J18*P18) -> 1784.1412 | T18: =SUM($S$4:S18) -> 2032.0496 | U18: =T18/3600000 -> 0.00056445821 | V18: =IF(P18<-0.000001,1,0) -> 0 | W18: =IF(V18<1,0,1*J18*P18) -> 0 | Y18: =SUM($W$4:W18) -> 0 | Z18: =Y18/3600000*-1 -> 0 | AA18: =P18*D18/1000 -> 1.7841412 | AB18: =IF(P18<-0.000001,1,0) -> 0 | AC18: =(0.5*1415*(D18^2-D17^2)/1000) -> 1.4341069 | AD18: =W18*0.8/1000*-1 -> 0 | AE18: =SUM($AD$4:AD18)/3600 -> 0
A19: Low | B19: 15 | C19: 15 | D19: =E19/3.6 -> 2.75 | E19: 9.9 | F19: =($E19-$E17)/2/3.6 -> 1.1388889 | G19: =(E19-0)/2 -> 4.95 | H19: =P19*O19 -> 2870385 | I19: =SUM($D$4:D19) -> 4.7777778 | J19: =I19-I18 -> 2.75 | K19: =Data!$B$4*9.81*0.012 -> 166.5738 | L19: =0.5*2.13*1.224*0.31*(D19^2) -> 3.0560335 | M19: =SUM($L$4:L19) -> 4.0566264 | N19: =M19/1000 -> 0.0040566264 | O19: =Data!$B$4*F19 -> 1611.5278 | P19: =L19+K19+O19 -> 1781.1576 | Q19: =SUM($P$4:P19)/10000 -> 0.56761124 | R19: =IF(O19<0.0001,0,1) -> 1 | S19: =IF(R19<1,0,1)*(J19*P19) -> 4898.1834 | T19: =SUM($S$4:S19) -> 6930.233 | U19: =T19/3600000 -> 0.0019250647 | V19: =IF(P19<-0.000001,1,0) -> 0 | W19: =IF(V19<1,0,1*J19*P19) -> 0 | Y19: =SUM($W$4:W19) -> 0 | Z19: =Y19/3600000*-1 -> 0 | AA19: =P19*D19/1000 -> 4.8981834 | AB19: =IF(P19<-0.000001,1,0) -> 0 | AC19: =(0.5*1415*(D19^2-D18^2)/1000) -> 3.7585938 | AD19: =W19*0.8/1000*-1 -> 0 | AE19: =SUM($AD$4:AD19)/3600 -> 0
A20: Low | B20: 16 | C20: 16 | D20: =E20/3.6 -> 3.6388889 | E20: 13.1 | F20: =($E20-$E18)/2/3.6 -> 1.0694444 | G20: =(E20-0)/2 -> 6.55 | H20: =P20*O20 -> 2550135.1 | I20: =SUM($D$4:D20) -> 8.4166667 | J20: =I20-I19 -> 3.6388889 | K20: =Data!$B$4*9.81*0.012 -> 166.5738 | L20: =0.5*2.13*1.224*0.31*(D20^2) -> 5.3509428 | M20: =SUM($L$4:L20) -> 9.4075692 | N20: =M20/1000 -> 0.0094075692 | O20: =Data!$B$4*F20 -> 1513.2639 | P20: =L20+K20+O20 -> 1685.1886 | Q20: =SUM($P$4:P20)/10000 -> 0.73613011 | R20: =IF(O20<0.0001,0,1) -> 1 | S20: =IF(R20<1,0,1)*(J20*P20) -> 6132.2142 | T20: =SUM($S$4:S20) -> 13062.447 | U20: =T20/3600000 -> 0.0036284576 | V20: =IF(P20<-0.000001,1,0) -> 0 | W20: =IF(V20<1,0,1*J20*P20) -> 0 | Y20: =SUM($W$4:W20) -> 0 | Z20: =Y20/3600000*-1 -> 0 | AA20: =P20*D20/1000 -> 6.1322142 | AB20: =IF(P20<-0.000001,1,0) -> 0 | AC20: =(0.5*1415*(D20^2-D19^2)/1000) -> 4.0179012 | AD20: =W20*0.8/1000*-1 -> 0 | AE20: =SUM($AD$4:AD20)/3600 -> 0
A21: Low | B21: 17 | C21: 17 | D21: =E21/3.6 -> 4.6944444 | E21: 16.9 | F21: =($E21-$E19)/2/3.6 -> 0.97222222 | G21: =(E21-0)/2 -> 8.45 | H21: =P21*O21 -> 2133941.2 | I21: =SUM($D$4:D21) -> 13.111111 | J21: =I21-I20 -> 4.6944444 | K21: =Data!$B$4*9.81*0.012 -> 166.5738 | L21: =0.5*2.13*1.224*0.31*(D21^2) -> 8.9055578 | M21: =SUM($L$4:L21) -> 18.313127 | N21: =M21/1000 -> 0.018313127 | O21: =Data!$B$4*F21 -> 1375.6944 | P21: =L21+K21+O21 -> 1551.1738 | Q21: =SUM($P$4:P21)/10000 -> 0.89124749 | R21: =IF(O21<0.0001,0,1) -> 1 | S21: =IF(R21<1,0,1)*(J21*P21) -> 7281.8992 | T21: =SUM($S$4:S21) -> 20344.346 | U21: =T21/3600000 -> 0.0056512073 | V21: =IF(P21<-0.000001,1,0) -> 0 | W21: =IF(V21<1,0,1*J21*P21) -> 0 | Y21: =SUM($W$4:W21) -> 0 | Z21: =Y21/3600000*-1 -> 0 | AA21: =P21*D21/1000 -> 7.2818992 | AB21: =IF(P21<-0.000001,1,0) -> 0 | AC21: =(0.5*1415*(D21^2-D20^2)/1000) -> 6.2233796 | AD21: =W21*0.8/1000*-1 -> 0 | AE21: =SUM($AD$4:AD21)/3600 -> 0
A22: Low | B22: 18 | C22: 18 | D22: =E22/3.6 -> 6.0277778 | E22: 21.7 | F22: =($E22-$E20)/2/3.6 -> 1.1944444 | G22: =(E22-0)/2 -> 10.85 | H22: =P22*O22 -> 3162918.2 | I22: =SUM($D$4:D22) -> 19.138889 | J22: =I22-I21 -> 6.0277778 | K22: =Data!$B$4*9.81*0.012 -> 166.5738 | L22: =0.5*2.13*1.224*0.31*(D22^2) -> 14.682743 | M22: =SUM($L$4:L22) -> 32.99587 | N22: =M22/1000 -> 0.03299587 | O22: =Data!$B$4*F22 -> 1690.1389 | P22: =L22+K22+O22 -> 1871.3954 | Q22: =SUM($P$4:P22)/10000 -> 1.078387 | R22: =IF(O22<0.0001,0,1) -> 1 | S22: =IF(R22<1,0,1)*(J22*P22) -> 11280.356 | T22: =SUM($S$4:S22) -> 31624.702 | U22: =T22/3600000 -> 0.0087846395 | V22: =IF(P22<-0.000001,1,0) -> 0 | W22: =IF(V22<1,0,1*J22*P22) -> 0 | Y22: =SUM($W$4:W22) -> 0 | Z22: =Y22/3600000*-1 -> 0 | AA22: =P22*D22/1000 -> 11.280356 | AB22: =IF(P22<-0.000001,1,0) -> 0 | AC22: =(0.5*1415*(D22^2-D21^2)/1000) -> 10.11463 | AD22: =W22*0.8/1000*-1 -> 0 | AE22: =SUM($AD$4:AD22)/3600 -> 0
A23: Low | B23: 19 | C23: 19 | D23: =E23/3.6 -> 7.2222222 | E23: 26 | F23: =($E23-$E21)/2/3.6 -> 1.2638889 | G23: =(E23-0)/2 -> 13 | H23: =P23*O23 -> 3533981.9 | I23: =SUM($D$4:D23) -> 26.361111 | J23: =I23-I22 -> 7.2222222 | K23: =Data!$B$4*9.81*0.012 -> 166.5738 | L23: =0.5*2.13*1.224*0.31*(D23^2) -> 21.078243 | M23: =SUM($L$4:L23) -> 54.074113 | N23: =M23/1000 -> 0.054074113 | O23: =Data!$B$4*F23 -> 1788.4028 | P23: =L23+K23+O23 -> 1976.0548 | Q23: =SUM($P$4:P23)/10000 -> 1.2759925 | R23: =IF(O23<0.0001,0,1) -> 1 | S23: =IF(R23<1,0,1)*(J23*P23) -> 14271.507 | T23: =SUM($S$4:S23) -> 45896.209 | U23: =T23/3600000 -> 0.012748947 | V23: =IF(P23<-0.000001,1,0) -> 0 | W23: =IF(V23<1,0,1*J23*P23) -> 0 | Y23: =SUM($W$4:W23) -> 0 | Z23: =Y23/3600000*-1 -> 0 | AA23: =P23*D23/1000 -> 14.271507 | AB23: =IF(P23<-0.000001,1,0) -> 0 | AC23: =(0.5*1415*(D23^2-D22^2)/1000) -> 11.19717 | AD23: =W23*0.8/1000*-1 -> 0 | AE23: =SUM($AD$4:AD23)/3600 -> 0
A24: Low | B24: 20 | C24: 20 | D24: =E24/3.6 -> 7.6388889 | E24: 27.5 | F24: =($E24-$E22)/2/3.6 -> 0.80555556 | G24: =(E24-0)/2 -> 13.75 | H24: =P24*O24 -> 1516032.9 | I24: =SUM($D$4:D24) -> 34 | J24: =I24-I23 -> 7.6388889 | K24: =Data!$B$4*9.81*0.012 -> 166.5738 | L24: =0.5*2.13*1.224*0.31*(D24^2) -> 23.580505 | M24: =SUM($L$4:L24) -> 77.654618 | N24: =M24/1000 -> 0.077654618 | O24: =Data!$B$4*F24 -> 1139.8611 | P24: =L24+K24+O24 -> 1330.0154 | Q24: =SUM($P$4:P24)/10000 -> 1.4089941 | R24: =IF(O24<0.0001,0,1) -> 1 | S24: =IF(R24<1,0,1)*(J24*P24) -> 10159.84 | T24: =SUM($S$4:S24) -> 56056.049 | U24: =T24/3600000 -> 0.015571125 | V24: =IF(P24<-0.000001,1,0) -> 0 | W24: =IF(V24<1,0,1*J24*P24) -> 0 | Y24: =SUM($W$4:W24) -> 0 | Z24: =Y24/3600000*-1 -> 0 | AA24: =P24*D24/1000 -> 10.15984 | AB24: =IF(P24<-0.000001,1,0) -> 0 | AC24: =(0.5*1415*(D24^2-D23^2)/1000) -> 4.3809317 | AD24: =W24*0.8/1000*-1 -> 0 | AE24: =SUM($AD$4:AD24)/3600 -> 0
A25: Low | B25: 21 | C25: 21 | D25: =E25/3.6 -> 7.8055556 | E25: 28.1 | F25: =($E25-$E23)/2/3.6 -> 0.29166667 | G25: =(E25-0)/2 -> 14.05 | H25: =P25*O25 -> 249235.73 | I25: =SUM($D$4:D25) -> 41.805556 | J25: =I25-I24 -> 7.8055556 | K25: =Data!$B$4*9.81*0.012 -> 166.5738 | L25: =0.5*2.13*1.224*0.31*(D25^2) -> 24.620698 | M25: =SUM($L$4:L25) -> 102.27532 | N25: =M25/1000 -> 0.10227532 | O25: =Data!$B$4*F25 -> 412.70833 | P25: =L25+K25+O25 -> 603.90283 | Q25: =SUM($P$4:P25)/10000 -> 1.4693843 | R25: =IF(O25<0.0001,0,1) -> 1 | S25: =IF(R25<1,0,1)*(J25*P25) -> 4713.7971 | T25: =SUM($S$4:S25) -> 60769.846 | U25: =T25/3600000 -> 0.016880513 | V25: =IF(P25<-0.000001,1,0) -> 0 | W25: =IF(V25<1,0,1*J25*P25) -> 0 | Y25: =SUM($W$4:W25) -> 0 | Z25: =Y25/3600000*-1 -> 0 | AA25: =P25*D25/1000 -> 4.7137971 | AB25: =IF(P25<-0.000001,1,0) -> 0 | AC25: =(0.5*1415*(D25^2-D24^2)/1000) -> 1.8211574 | AD25: =W25*0.8/1000*-1 -> 0 | AE25: =SUM($AD$4:AD25)/3600 -> 0
A26: Low | B26: 22 | C26: 22 | D26: =E26/3.6 -> 7.8611111 | E26: 28.3 | F26: =($E26-$E24)/2/3.6 -> 0.11111111 | G26: =(E26-0)/2 -> 14.15 | H26: =P26*O26 -> 54834.149 | I26: =SUM($D$4:D26) -> 49.666667 | J26: =I26-I25 -> 7.8611111 | K26: =Data!$B$4*9.81*0.012 -> 166.5738 | L26: =0.5*2.13*1.224*0.31*(D26^2) -> 24.972418 | M26: =SUM($L$4:L26) -> 127.24773 | N26: =M26/1000 -> 0.12724773 | O26: =Data!$B$4*F26 -> 157.22222 | P26: =L26+K26+O26 -> 348.76844 | Q26: =SUM($P$4:P26)/10000 -> 1.5042612 | R26: =IF(O26<0.0001,0,1) -> 1 | S26: =IF(R26<1,0,1)*(J26*P26) -> 2741.7075 | T26: =SUM($S$4:S26) -> 63511.554 | U26: =T26/3600000 -> 0.017642098 | V26: =IF(P26<-0.000001,1,0) -> 0 | W26: =IF(V26<1,0,1*J26*P26) -> 0 | Y26: =SUM($W$4:W26) -> 0 | Z26: =Y26/3600000*-1 -> 0 | AA26: =P26*D26/1000 -> 2.7417075 | AB26: =IF(P26<-0.000001,1,0) -> 0 | AC26: =(0.5*1415*(D26^2-D25^2)/1000) -> 0.61578704 | AD26: =W26*0.8/1000*-1 -> 0 | AE26: =SUM($AD$4:AD26)/3600 -> 0
A27: Low | B27: 23 | C27: 23 | D27: =E27/3.6 -> 8 | E27: 28.8 | F27: =($E27-$E25)/2/3.6 -> 0.097222222 | G27: =(E27-0)/2 -> 14.4 | H27: =P27*O27 -> 45398.725 | I27: =SUM($D$4:D27) -> 57.666667 | J27: =I27-I26 -> 8 | K27: =Data!$B$4*9.81*0.012 -> 166.5738 | L27: =0.5*2.13*1.224*0.31*(D27^2) -> 25.86263 | M27: =SUM($L$4:L27) -> 153.11036 | N27: =M27/1000 -> 0.15311036 | O27: =Data!$B$4*F27 -> 137.56944 | P27: =L27+K27+O27 -> 330.00587 | Q27: =SUM($P$4:P27)/10000 -> 1.5372618 | R27: =IF(O27<0.0001,0,1) -> 1 | S27: =IF(R27<1,0,1)*(J27*P27) -> 2640.047 | T27: =SUM($S$4:S27) -> 66151.601 | U27: =T27/3600000 -> 0.018375445 | V27: =IF(P27<-0.000001,1,0) -> 0 | W27: =IF(V27<1,0,1*J27*P27) -> 0 | Y27: =SUM($W$4:W27) -> 0 | Z27: =Y27/3600000*-1 -> 0 | AA27: =P27*D27/1000 -> 2.640047 | AB27: =IF(P27<-0.000001,1,0) -> 0 | AC27: =(0.5*1415*(D27^2-D26^2)/1000) -> 1.5585745 | AD27: =W27*0.8/1000*-1 -> 0 | AE27: =SUM($AD$4:AD27)/3600 -> 0
... A85: Low | B85: 81 | C85: 81 | D85: =E85/3.6 -> 10.694444 | E85: 38.5 | F85: =($E85-$E83)/2/3.6 -> -0.13888889 | G85: =(E85-0)/2 -> 19.25 | H85: =P85*O85 -> -3196.2909 | I85: =SUM($D$4:D85) -> 504.02778 | J85: =I85-I84 -> 10.694444 | K85: =Data!$B$4*9.81*0.012 -> 166.5738 | L85: =0.5*2.13*1.224*0.31*(D85^2) -> 46.21779 | M85: =SUM($L$4:L85) -> 1757.9476 | N85: =M85/1000 -> 1.7579476 | O85: =Data!$B$4*F85 -> -196.52778 | P85: =L85+K85+O85 -> 16.263812 | Q85: =SUM($P$4:P85)/10000 -> 3.0647902 | R85: =IF(O85<0.0001,0,1) -> 0 | S85: =IF(R85<1,0,1)*(J85*P85) -> 0 | T85: =SUM($S$4:S85) -> 272844.61 | U85: =T85/3600000 -> 0.075790169 | V85: =IF(P85<-0.000001,1,0) -> 0 | W85: =IF(V85<1,0,1*J85*P85) -> 0 | Y85: =SUM($W$4:W85) -> -68011.789 | Z85: =Y85/3600000*-1 -> 0.018892164 | AA85: =P85*D85/1000 -> 0.17393244 | AB85: =IF(P85<-0.000001,1,0) -> 0 | AC85: =(0.5*1415*(D85^2-D84^2)/1000) -> -2.1154032 | AD85: =W85*0.8/1000*-1 -> 0 | AE85: =SUM($AD$4:AD85)/3600 -> 0.015113731
A86: Low | B86: 82 | C86: 82 | D86: =E86/3.6 -> 10.361111 | E86: 37.3 | F86: =($E86-$E84)/2/3.6 -> -0.23611111 | G86: =(E86-0)/2 -> 18.65 | H86: =P86*O86 -> 41475.444 | I86: =SUM($D$4:D86) -> 514.38889 | J86: =I86-I85 -> 10.361111 | K86: =Data!$B$4*9.81*0.012 -> 166.5738 | L86: =0.5*2.13*1.224*0.31*(D86^2) -> 43.381582 | M86: =SUM($L$4:L86) -> 1801.3292 | N86: =M86/1000 -> 1.8013292 | O86: =Data!$B$4*F86 -> -334.09722 | P86: =L86+K86+O86 -> -124.14184 | Q86: =SUM($P$4:P86)/10000 -> 3.052376 | R86: =IF(O86<0.0001,0,1) -> 0 | S86: =IF(R86<1,0,1)*(J86*P86) -> 0 | T86: =SUM($S$4:S86) -> 272844.61 | U86: =T86/3600000 -> 0.075790169 | V86: =IF(P86<-0.000001,1,0) -> 1 | W86: =IF(V86<1,0,1*J86*P86) -> -1286.2474 | X86: =SUM(W86:W87) -> -2165.3192 | Y86: =SUM($W$4:W86) -> -69298.037 | Z86: =Y86/3600000*-1 -> 0.019249455 | AA86: =P86*D86/1000 -> -1.2862474 | AB86: =IF(P86<-0.000001,1,0) -> 1 | AC86: =(0.5*1415*(D86^2-D85^2)/1000) -> -4.9656019 | AD86: =W86*0.8/1000*-1 -> 1.0289979 | AE86: =SUM($AD$4:AD86)/3600 -> 0.015399564
A87: Low | B87: 83 | C87: 83 | D87: =E87/3.6 -> 10.277778 | E87: 37 | F87: =($E87-$E85)/2/3.6 -> -0.20833333 | G87: =(E87-0)/2 -> 18.5 | H87: =P87*O87 -> 25213.916 | I87: =SUM($D$4:D87) -> 524.66667 | J87: =I87-I86 -> 10.277778 | K87: =Data!$B$4*9.81*0.012 -> 166.5738 | L87: =0.5*2.13*1.224*0.31*(D87^2) -> 42.686561 | M87: =SUM($L$4:L87) -> 1844.0158 | N87: =M87/1000 -> 1.8440158 | O87: =Data!$B$4*F87 -> -294.79167 | P87: =L87+K87+O87 -> -85.531306 | Q87: =SUM($P$4:P87)/10000 -> 3.0438229 | R87: =IF(O87<0.0001,0,1) -> 0 | S87: =IF(R87<1,0,1)*(J87*P87) -> 0 | T87: =SUM($S$4:S87) -> 272844.61 | U87: =T87/3600000 -> 0.075790169 | V87: =IF(P87<-0.000001,1,0) -> 1 | W87: =IF(V87<1,0,1*J87*P87) -> -879.07175 | Y87: =SUM($W$4:W87) -> -70177.108 | Z87: =Y87/3600000*-1 -> 0.019493641 | AA87: =P87*D87/1000 -> -0.87907175 | AB87: =IF(P87<-0.000001,1,0) -> 1 | AC87: =(0.5*1415*(D87^2-D86^2)/1000) -> -1.2168345 | AD87: =W87*0.8/1000*-1 -> 0.7032574 | AE87: =SUM($AD$4:AD87)/3600 -> 0.015594913
A88: Low | B88: 84 | C88: 84 | D88: =E88/3.6 -> 10.194444 | E88: 36.7 | F88: =($E88-$E86)/2/3.6 -> -0.083333333 | G88: =(E88-0)/2 -> 18.35 | H88: =P88*O88 -> -10689.651 | I88: =SUM($D$4:D88) -> 534.86111 | J88: =I88-I87 -> 10.194444 | K88: =Data!$B$4*9.81*0.012 -> 166.5738 | L88: =0.5*2.13*1.224*0.31*(D88^2) -> 41.997153 | M88: =SUM($L$4:L88) -> 1886.0129 | N88: =M88/1000 -> 1.8860129 | O88: =Data!$B$4*F88 -> -117.91667 | P88: =L88+K88+O88 -> 90.654286 | Q88: =SUM($P$4:P88)/10000 -> 3.0528883 | R88: =IF(O88<0.0001,0,1) -> 0 | S88: =IF(R88<1,0,1)*(J88*P88) -> 0 | T88: =SUM($S$4:S88) -> 272844.61 | U88: =T88/3600000 -> 0.075790169 | V88: =IF(P88<-0.000001,1,0) -> 0 | W88: =IF(V88<1,0,1*J88*P88) -> 0 | Y88: =SUM($W$4:W88) -> -70177.108 | Z88: =Y88/3600000*-1 -> 0.019493641 | AA88: =P88*D88/1000 -> 0.92417008 | AB88: =IF(P88<-0.000001,1,0) -> 0 | AC88: =(0.5*1415*(D88^2-D87^2)/1000) -> -1.2070081 | AD88: =W88*0.8/1000*-1 -> 0 | AE88: =SUM($AD$4:AD88)/3600 -> 0.015594913
A89: Low | B89: 85 | C89: 85 | D89: =E89/3.6 -> 9.9722222 | E89: 35.9 | F89: =($E89-$E87)/2/3.6 -> -0.15277778 | G89: =(E89-0)/2 -> 17.95 | H89: =P89*O89 -> 2036.5475 | I89: =SUM($D$4:D89) -> 544.83333 | J89: =I89-I88 -> 9.9722222 | K89: =Data!$B$4*9.81*0.012 -> 166.5738 | L89: =0.5*2.13*1.224*0.31*(D89^2) -> 40.18617 | M89: =SUM($L$4:L89) -> 1926.1991 | N89: =M89/1000 -> 1.9261991 | O89: =Data!$B$4*F89 -> -216.18056 | P89: =L89+K89+O89 -> -9.4205857 | Q89: =SUM($P$4:P89)/10000 -> 3.0519463 | R89: =IF(O89<0.0001,0,1) -> 0 | S89: =IF(R89<1,0,1)*(J89*P89) -> 0 | T89: =SUM($S$4:S89) -> 272844.61 | U89: =T89/3600000 -> 0.075790169 | V89: =IF(P89<-0.000001,1,0) -> 1 | W89: =IF(V89<1,0,1*J89*P89) -> -93.944175 | X89: =SUM(W89:W102) -> -45809.537 | Y89: =SUM($W$4:W89) -> -70271.053 | Z89: =Y89/3600000*-1 -> 0.019519737 | AA89: =P89*D89/1000 -> -0.093944175 | AB89: =IF(P89<-0.000001,1,0) -> 1 | AC89: =(0.5*1415*(D89^2-D88^2)/1000) -> -3.1706481 | AD89: =W89*0.8/1000*-1 -> 0.07515534 | AE89: =SUM($AD$4:AD89)/3600 -> 0.015615789
A90: Low | B90: 86 | C90: 86 | D90: =E90/3.6 -> 9.8055556 | E90: 35.3 | F90: =($E90-$E88)/2/3.6 -> -0.19444444 | G90: =(E90-0)/2 -> 17.65 | H90: =P90*O90 -> 19180.197 | I90: =SUM($D$4:D90) -> 554.63889 | J90: =I90-I89 -> 9.8055556 | K90: =Data!$B$4*9.81*0.012 -> 166.5738 | L90: =0.5*2.13*1.224*0.31*(D90^2) -> 38.854125 | M90: =SUM($L$4:L90) -> 1965.0532 | N90: =M90/1000 -> 1.9650532 | O90: =Data!$B$4*F90 -> -275.13889 | P90: =L90+K90+O90 -> -69.710964 | Q90: =SUM($P$4:P90)/10000 -> 3.0449752 | R90: =IF(O90<0.0001,0,1) -> 0 | S90: =IF(R90<1,0,1)*(J90*P90) -> 0 | T90: =SUM($S$4:S90) -> 272844.61 | U90: =T90/3600000 -> 0.075790169 | V90: =IF(P90<-0.000001,1,0) -> 1 | W90: =IF(V90<1,0,1*J90*P90) -> -683.55473 | Y90: =SUM($W$4:W90) -> -70954.607 | Z90: =Y90/3600000*-1 -> 0.019709613 | AA90: =P90*D90/1000 -> -0.68355473 | AB90: =IF(P90<-0.000001,1,0) -> 1 | AC90: =(0.5*1415*(D90^2-D89^2)/1000) -> -2.3321296 | AD90: =W90*0.8/1000*-1 -> 0.54684379 | AE90: =SUM($AD$4:AD90)/3600 -> 0.015767691
A91: Low | B91: 87 | C91: 87 | D91: =E91/3.6 -> 9.6111111 | E91: 34.6 | F91: =($E91-$E89)/2/3.6 -> -0.18055556 | G91: =(E91-0)/2 -> 17.3 | H91: =P91*O91 -> 13178.961 | I91: =SUM($D$4:D91) -> 564.25 | J91: =I91-I90 -> 9.6111111 | K91: =Data!$B$4*9.81*0.012 -> 166.5738 | L91: =0.5*2.13*1.224*0.31*(D91^2) -> 37.328446 | M91: =SUM($L$4:L91) -> 2002.3817 | N91: =M91/1000 -> 2.0023817 | O91: =Data!$B$4*F91 -> -255.48611 | P91: =L91+K91+O91 -> -51.583865 | Q91: =SUM($P$4:P91)/10000 -> 3.0398168 | R91: =IF(O91<0.0001,0,1) -> 0 | S91: =IF(R91<1,0,1)*(J91*P91) -> 0 | T91: =SUM($S$4:S91) -> 272844.61 | U91: =T91/3600000 -> 0.075790169 | V91: =IF(P91<-0.000001,1,0) -> 1 | W91: =IF(V91<1,0,1*J91*P91) -> -495.77825 | Y91: =SUM($W$4:W91) -> -71450.386 | Z91: =Y91/3600000*-1 -> 0.019847329 | AA91: =P91*D91/1000 -> -0.49577825 | AB91: =IF(P91<-0.000001,1,0) -> 1 | AC91: =(0.5*1415*(D91^2-D90^2)/1000) -> -2.67114 | AD91: =W91*0.8/1000*-1 -> 0.3966226 | AE91: =SUM($AD$4:AD91)/3600 -> 0.015877863
A92: Low | B92: 88 | C92: 88 | D92: =E92/3.6 -> 9.5 | E92: 34.2 | F92: =($E92-$E90)/2/3.6 -> -0.15277778 | G92: =(E92-0)/2 -> 17.1 | H92: =P92*O92 -> 2839.8355 | I92: =SUM($D$4:D92) -> 573.75 | J92: =I92-I91 -> 9.5 | K92: =Data!$B$4*9.81*0.012 -> 166.5738 | L92: =0.5*2.13*1.224*0.31*(D92^2) -> 36.47035 | M92: =SUM($L$4:L92) -> 2038.852 | N92: =M92/1000 -> 2.038852 | O92: =Data!$B$4*F92 -> -216.18056 | P92: =L92+K92+O92 -> -13.136406 | Q92: =SUM($P$4:P92)/10000 -> 3.0385031 | R92: =IF(O92<0.0001,0,1) -> 0 | S92: =IF(R92<1,0,1)*(J92*P92) -> 0 | T92: =SUM($S$4:S92) -> 272844.61 | U92: =T92/3600000 -> 0.075790169 | V92: =IF(P92<-0.000001,1,0) -> 1 | W92: =IF(V92<1,0,1*J92*P92) -> -124.79585 | Y92: =SUM($W$4:W92) -> -71575.181 | Z92: =Y92/3600000*-1 -> 0.019881995 | AA92: =P92*D92/1000 -> -0.12479585 | AB92: =IF(P92<-0.000001,1,0) -> 1 | AC92: =(0.5*1415*(D92^2-D91^2)/1000) -> -1.5023457 | AD92: =W92*0.8/1000*-1 -> 0.099836683 | AE92: =SUM($AD$4:AD92)/3600 -> 0.015905596
A93: Low | B93: 89 | C93: 89 | D93: =E93/3.6 -> 8.8611111 | E93: 31.9 | F93: =($E93-$E91)/2/3.6 -> -0.375 | G93: =(E93-0)/2 -> 15.95 | H93: =P93*O93 -> 176337.98 | I93: =SUM($D$4:D93) -> 582.61111 | J93: =I93-I92 -> 8.8611111 | K93: =Data!$B$4*9.81*0.012 -> 166.5738 | L93: =0.5*2.13*1.224*0.31*(D93^2) -> 31.729928 | M93: =SUM($L$4:L93) -> 2070.5819 | N93: =M93/1000 -> 2.0705819 | O93: =Data!$B$4*F93 -> -530.625 | P93: =L93+K93+O93 -> -332.32127 | Q93: =SUM($P$4:P93)/10000 -> 3.005271 | R93: =IF(O93<0.0001,0,1) -> 0 | S93: =IF(R93<1,0,1)*(J93*P93) -> 0 | T93: =SUM($S$4:S93) -> 272844.61 | U93: =T93/3600000 -> 0.075790169 | V93: =IF(P93<-0.000001,1,0) -> 1 | W93: =IF(V93<1,0,1*J93*P93) -> -2944.7357 | Y93: =SUM($W$4:W93) -> -74519.917 | Z93: =Y93/3600000*-1 -> 0.020699977 | AA93: =P93*D93/1000 -> -2.9447357 | AB93: =IF(P93<-0.000001,1,0) -> 1 | AC93: =(0.5*1415*(D93^2-D92^2)/1000) -> -8.2994772 | AD93: =W93*0.8/1000*-1 -> 2.3557886 | AE93: =SUM($AD$4:AD93)/3600 -> 0.016559982
A94: Low | B94: 90 | C94: 90 | D94: =E94/3.6 -> 7.5833333 | E94: 27.3 | F94: =($E94-$E92)/2/3.6 -> -0.95833333 | G94: =(E94-0)/2 -> 13.65 | H94: =P94*O94 -> 1581455.3 | I94: =SUM($D$4:D94) -> 590.19444 | J94: =I94-I93 -> 7.5833333 | K94: =Data!$B$4*9.81*0.012 -> 166.5738 | L94: =0.5*2.13*1.224*0.31*(D94^2) -> 23.238763 | M94: =SUM($L$4:L94) -> 2093.8207 | N94: =M94/1000 -> 2.0938207 | O94: =Data!$B$4*F94 -> -1356.0417 | P94: =L94+K94+O94 -> -1166.2291 | Q94: =SUM($P$4:P94)/10000 -> 2.8886481 | R94: =IF(O94<0.0001,0,1) -> 0 | S94: =IF(R94<1,0,1)*(J94*P94) -> 0 | T94: =SUM($S$4:S94) -> 272844.61 | U94: =T94/3600000 -> 0.075790169 | V94: =IF(P94<-0.000001,1,0) -> 1 | W94: =IF(V94<1,0,1*J94*P94) -> -8843.904 | Y94: =SUM($W$4:W94) -> -83363.821 | Z94: =Y94/3600000*-1 -> 0.023156617 | AA94: =P94*D94/1000 -> -8.843904 | AB94: =IF(P94<-0.000001,1,0) -> 1 | AC94: =(0.5*1415*(D94^2-D93^2)/1000) -> -14.866235 | AD94: =W94*0.8/1000*-1 -> 7.0751232 | AE94: =SUM($AD$4:AD94)/3600 -> 0.018525294
A95: Low | B95: 91 | C95: 91 | D95: =E95/3.6 -> 6.1111111 | E95: 22 | F95: =($E95-$E93)/2/3.6 -> -1.375 | G95: =(E95-0)/2 -> 11 | H95: =P95*O95 -> 3432004 | I95: =SUM($D$4:D95) -> 596.30556 | J95: =I95-I94 -> 6.1111111 | K95: =Data!$B$4*9.81*0.012 -> 166.5738 | L95: =0.5*2.13*1.224*0.31*(D95^2) -> 15.091523 | M95: =SUM($L$4:L95) -> 2108.9122 | N95: =M95/1000 -> 2.1089122 | O95: =Data!$B$4*F95 -> -1945.625 | P95: =L95+K95+O95 -> -1763.9597 | Q95: =SUM($P$4:P95)/10000 -> 2.7122521 | R95: =IF(O95<0.0001,0,1) -> 0 | S95: =IF(R95<1,0,1)*(J95*P95) -> 0 | T95: =SUM($S$4:S95) -> 272844.61 | U95: =T95/3600000 -> 0.075790169 | V95: =IF(P95<-0.000001,1,0) -> 1 | W95: =IF(V95<1,0,1*J95*P95) -> -10779.754 | Y95: =SUM($W$4:W95) -> -94143.575 | Z95: =Y95/3600000*-1 -> 0.026150993 | AA95: =P95*D95/1000 -> -10.779754 | AB95: =IF(P95<-0.000001,1,0) -> 1 | AC95: =(0.5*1415*(D95^2-D94^2)/1000) -> -14.264095 | AD95: =W95*0.8/1000*-1 -> 8.6238029 | AE95: =SUM($AD$4:AD95)/3600 -> 0.020920794
A96: Low | B96: 92 | C96: 92 | D96: =E96/3.6 -> 4.7222222 | E96: 17 | F96: =($E96-$E94)/2/3.6 -> -1.4305556 | G96: =(E96-0)/2 -> 8.5 | H96: =P96*O96 -> 3742106.2 | I96: =SUM($D$4:D96) -> 601.02778 | J96: =I96-I95 -> 4.7222222 | K96: =Data!$B$4*9.81*0.012 -> 166.5738 | L96: =0.5*2.13*1.224*0.31*(D96^2) -> 9.0112608 | M96: =SUM($L$4:L96) -> 2117.9235 | N96: =M96/1000 -> 2.1179235 | O96: =Data!$B$4*F96 -> -2024.2361 | P96: =L96+K96+O96 -> -1848.6511 | Q96: =SUM($P$4:P96)/10000 -> 2.527387 | R96: =IF(O96<0.0001,0,1) -> 0 | S96: =IF(R96<1,0,1)*(J96*P96) -> 0 | T96: =SUM($S$4:S96) -> 272844.61 | U96: =T96/3600000 -> 0.075790169 | V96: =IF(P96<-0.000001,1,0) -> 1 | W96: =IF(V96<1,0,1*J96*P96) -> -8729.7411 | Y96: =SUM($W$4:W96) -> -102873.32 | Z96: =Y96/3600000*-1 -> 0.028575921 | AA96: =P96*D96/1000 -> -8.7297411 | AB96: =IF(P96<-0.000001,1,0) -> 1 | AC96: =(0.5*1415*(D96^2-D95^2)/1000) -> -10.645255 | AD96: =W96*0.8/1000*-1 -> 6.9837929 | AE96: =SUM($AD$4:AD96)/3600 -> 0.022860737
A97: Low | B97: 93 | C97: 93 | D97: =E97/3.6 -> 3.9444444 | E97: 14.2 | F97: =($E97-$E95)/2/3.6 -> -1.0833333 | G97: =(E97-0)/2 -> 7.1 | H97: =P97*O97 -> 2084851.8 | I97: =SUM($D$4:D97) -> 604.97222 | J97: =I97-I96 -> 3.9444444 | K97: =Data!$B$4*9.81*0.012 -> 166.5738 | L97: =0.5*2.13*1.224*0.31*(D97^2) -> 6.2873032 | M97: =SUM($L$4:L97) -> 2124.2108 | N97: =M97/1000 -> 2.1242108 | O97: =Data!$B$4*F97 -> -1532.9167 | P97: =L97+K97+O97 -> -1360.0556 | Q97: =SUM($P$4:P97)/10000 -> 2.3913815 | R97: =IF(O97<0.0001,0,1) -> 0 | S97: =IF(R97<1,0,1)*(J97*P97) -> 0 | T97: =SUM($S$4:S97) -> 272844.61 | U97: =T97/3600000 -> 0.075790169 | V97: =IF(P97<-0.000001,1,0) -> 1 | W97: =IF(V97<1,0,1*J97*P97) -> -5364.6636 | Y97: =SUM($W$4:W97) -> -108237.98 | Z97: =Y97/3600000*-1 -> 0.030066105 | AA97: =P97*D97/1000 -> -5.3646636 | AB97: =IF(P97<-0.000001,1,0) -> 1 | AC97: =(0.5*1415*(D97^2-D96^2)/1000) -> -4.7690741 | AD97: =W97*0.8/1000*-1 -> 4.2917309 | AE97: =SUM($AD$4:AD97)/3600 -> 0.024052884
A98: Low | B98: 94 | C98: 94 | D98: =E98/3.6 -> 3.3333333 | E98: 12 | F98: =($E98-$E96)/2/3.6 -> -0.69444444 | G98: =(E98-0)/2 -> 6 | H98: =P98*O98 -> 797485.2 | I98: =SUM($D$4:D98) -> 608.30556 | J98: =I98-I97 -> 3.3333333 | K98: =Data!$B$4*9.81*0.012 -> 166.5738 | L98: =0.5*2.13*1.224*0.31*(D98^2) -> 4.49004 | M98: =SUM($L$4:L98) -> 2128.7008 | N98: =M98/1000 -> 2.1287008 | O98: =Data!$B$4*F98 -> -982.63889 | P98: =L98+K98+O98 -> -811.57505 | Q98: =SUM($P$4:P98)/10000 -> 2.310224 | R98: =IF(O98<0.0001,0,1) -> 0 | S98: =IF(R98<1,0,1)*(J98*P98) -> 0 | T98: =SUM($S$4:S98) -> 272844.61 | U98: =T98/3600000 -> 0.075790169 | V98: =IF(P98<-0.000001,1,0) -> 1 | W98: =IF(V98<1,0,1*J98*P98) -> -2705.2502 | Y98: =SUM($W$4:W98) -> -110943.23 | Z98: =Y98/3600000*-1 -> 0.030817564 | AA98: =P98*D98/1000 -> -2.7052502 | AB98: =IF(P98<-0.000001,1,0) -> 1 | AC98: =(0.5*1415*(D98^2-D97^2)/1000) -> -3.1466281 | AD98: =W98*0.8/1000*-1 -> 2.1642001 | AE98: =SUM($AD$4:AD98)/3600 -> 0.024654051
A99: Low | B99: 95 | C99: 95 | D99: =E99/3.6 -> 2.5277778 | E99: 9.1 | F99: =($E99-$E97)/2/3.6 -> -0.70833333 | G99: =(E99-0)/2 -> 4.55 | H99: =P99*O99 -> 835045.05 | I99: =SUM($D$4:D99) -> 610.83333 | J99: =I99-I98 -> 2.5277778 | K99: =Data!$B$4*9.81*0.012 -> 166.5738 | L99: =0.5*2.13*1.224*0.31*(D99^2) -> 2.5820848 | M99: =SUM($L$4:L99) -> 2131.2829 | N99: =M99/1000 -> 2.1312829 | O99: =Data!$B$4*F99 -> -1002.2917 | P99: =L99+K99+O99 -> -833.13578 | Q99: =SUM($P$4:P99)/10000 -> 2.2269104 | R99: =IF(O99<0.0001,0,1) -> 0 | S99: =IF(R99<1,0,1)*(J99*P99) -> 0 | T99: =SUM($S$4:S99) -> 272844.61 | U99: =T99/3600000 -> 0.075790169 | V99: =IF(P99<-0.000001,1,0) -> 1 | W99: =IF(V99<1,0,1*J99*P99) -> -2105.9821 | Y99: =SUM($W$4:W99) -> -113049.21 | Z99: =Y99/3600000*-1 -> 0.031402559 | AA99: =P99*D99/1000 -> -2.1059821 | AB99: =IF(P99<-0.000001,1,0) -> 1 | AC99: =(0.5*1415*(D99^2-D98^2)/1000) -> -3.3404263 | AD99: =W99*0.8/1000*-1 -> 1.6847857 | AE99: =SUM($AD$4:AD99)/3600 -> 0.025122047
A100: Low | B100: 96 | C100: 96 | D100: =E100/3.6 -> 1.6111111 | E100: 5.8 | F100: =($E100-$E98)/2/3.6 -> -0.86111111 | G100: =(E100-0)/2 -> 2.9 | H100: =P100*O100 -> 1280430.9 | I100: =SUM($D$4:D100) -> 612.44444 | J100: =I100-I99 -> 1.6111111 | K100: =Data!$B$4*9.81*0.012 -> 166.5738 | L100: =0.5*2.13*1.224*0.31*(D100^2) -> 1.0489232 | M100: =SUM($L$4:L100) -> 2132.3318 | N100: =M100/1000 -> 2.1323318 | O100: =Data!$B$4*F100 -> -1218.4722 | P100: =L100+K100+O100 -> -1050.8495 | Q100: =SUM($P$4:P100)/10000 -> 2.1218254 | R100: =IF(O100<0.0001,0,1) -> 0 | S100: =IF(R100<1,0,1)*(J100*P100) -> 0 | T100: =SUM($S$4:S100) -> 272844.61 | U100: =T100/3600000 -> 0.075790169 | V100: =IF(P100<-0.000001,1,0) -> 1 | W100: =IF(V100<1,0,1*J100*P100) -> -1693.0353 | Y100: =SUM($W$4:W100) -> -114742.25 | Z100: =Y100/3600000*-1 -> 0.031872846 | AA100: =P100*D100/1000 -> -1.6930353 | AB100: =IF(P100<-0.000001,1,0) -> 1 | AC100: =(0.5*1415*(D100^2-D99^2)/1000) -> -2.6842419 | AD100: =W100*0.8/1000*-1 -> 1.3544282 | AE100: =SUM($AD$4:AD100)/3600 -> 0.025498277
A101: Low | B101: 97 | C101: 97 | D101: =E101/3.6 -> 1 | E101: 3.6 | F101: =($E101-$E99)/2/3.6 -> -0.76388889 | G101: =(E101-0)/2 -> 1.8 | H101: =P101*O101 -> 987863.94 | I101: =SUM($D$4:D101) -> 613.44444 | J101: =I101-I100 -> 1 | K101: =Data!$B$4*9.81*0.012 -> 166.5738 | L101: =0.5*2.13*1.224*0.31*(D101^2) -> 0.4041036 | M101: =SUM($L$4:L101) -> 2132.7359 | N101: =M101/1000 -> 2.1327359 | O101: =Data!$B$4*F101 -> -1080.9028 | P101: =L101+K101+O101 -> -913.92487 | Q101: =SUM($P$4:P101)/10000 -> 2.0304329 | R101: =IF(O101<0.0001,0,1) -> 0 | S101: =IF(R101<1,0,1)*(J101*P101) -> 0 | T101: =SUM($S$4:S101) -> 272844.61 | U101: =T101/3600000 -> 0.075790169 | V101: =IF(P101<-0.000001,1,0) -> 1 | W101: =IF(V101<1,0,1*J101*P101) -> -913.92487 | Y101: =SUM($W$4:W101) -> -115656.17 | Z101: =Y101/3600000*-1 -> 0.032126714 | AA101: =P101*D101/1000 -> -0.91392487 | AB101: =IF(P101<-0.000001,1,0) -> 1 | AC101: =(0.5*1415*(D101^2-D100^2)/1000) -> -1.1289429 | AD101: =W101*0.8/1000*-1 -> 0.7311399 | AE101: =SUM($AD$4:AD101)/3600 -> 0.025701372
... A155: Low | B155: 151 | C155: 151 | D155: =E155/3.6 -> 8.1666667 | E155: 29.4 | F155: =($E155-$E153)/2/3.6 -> 0.027777778 | G155: =(E155-0)/2 -> 14.7 | H155: =P155*O155 -> 9151.5448 | I155: =SUM($D$4:D155) -> 686.33333 | J155: =I155-I154 -> 8.1666667 | K155: =Data!$B$4*9.81*0.012 -> 166.5738 | L155: =0.5*2.13*1.224*0.31*(D155^2) -> 26.951465 | M155: =SUM($L$4:L155) -> 2325.2695 | N155: =M155/1000 -> 2.3252695 | O155: =Data!$B$4*F155 -> 39.305556 | P155: =L155+K155+O155 -> 232.83082 | Q155: =SUM($P$4:P155)/10000 -> 3.9278932 | R155: =IF(O155<0.0001,0,1) -> 1 | S155: =IF(R155<1,0,1)*(J155*P155) -> 1901.4517 | T155: =SUM($S$4:S155) -> 344462.33 | U155: =T155/3600000 -> 0.095683979 | V155: =IF(P155<-0.000001,1,0) -> 0 | W155: =IF(V155<1,0,1*J155*P155) -> 0 | Y155: =SUM($W$4:W155) -> -115986.65 | Z155: =Y155/3600000*-1 -> 0.032218513 | AA155: =P155*D155/1000 -> 1.9014517 | AB155: =IF(P155<-0.000001,1,0) -> 0 | AC155: =(0.5*1415*(D155^2-D154^2)/1000) -> -1.292716 | AD155: =W155*0.8/1000*-1 -> 0 | AE155: =SUM($AD$4:AD155)/3600 -> 0.02577481
A156: Low | B156: 152 | C156: 152 | D156: =E156/3.6 -> 7.5555556 | E156: 27.2 | F156: =($E156-$E154)/2/3.6 -> -0.36111111 | G156: =(E156-0)/2 -> 13.6 | H156: =P156*O156 -> 164190.5 | I156: =SUM($D$4:D156) -> 693.88889 | J156: =I156-I155 -> 7.5555556 | K156: =Data!$B$4*9.81*0.012 -> 166.5738 | L156: =0.5*2.13*1.224*0.31*(D156^2) -> 23.068828 | M156: =SUM($L$4:L156) -> 2348.3383 | N156: =M156/1000 -> 2.3483383 | O156: =Data!$B$4*F156 -> -510.97222 | P156: =L156+K156+O156 -> -321.32959 | Q156: =SUM($P$4:P156)/10000 -> 3.8957602 | R156: =IF(O156<0.0001,0,1) -> 0 | S156: =IF(R156<1,0,1)*(J156*P156) -> 0 | T156: =SUM($S$4:S156) -> 344462.33 | U156: =T156/3600000 -> 0.095683979 | V156: =IF(P156<-0.000001,1,0) -> 1 | W156: =IF(V156<1,0,1*J156*P156) -> -2427.8236 | X156: =SUM(W156:W160) -> -27194.537 | Y156: =SUM($W$4:W156) -> -118414.47 | Z156: =Y156/3600000*-1 -> 0.032892908 | AA156: =P156*D156/1000 -> -2.4278236 | AB156: =IF(P156<-0.000001,1,0) -> 1 | AC156: =(0.5*1415*(D156^2-D155^2)/1000) -> -6.7976775 | AD156: =W156*0.8/1000*-1 -> 1.9422589 | AE156: =SUM($AD$4:AD156)/3600 -> 0.026314327
A157: Low | B157: 153 | C157: 153 | D157: =E157/3.6 -> 6.2777778 | E157: 22.6 | F157: =($E157-$E155)/2/3.6 -> -0.94444444 | G157: =(E157-0)/2 -> 11.3 | H157: =P157*O157 -> 1542044.7 | I157: =SUM($D$4:D157) -> 700.16667 | J157: =I157-I156 -> 6.2777778 | K157: =Data!$B$4*9.81*0.012 -> 166.5738 | L157: =0.5*2.13*1.224*0.31*(D157^2) -> 15.925922 | M157: =SUM($L$4:L157) -> 2364.2642 | N157: =M157/1000 -> 2.3642642 | O157: =Data!$B$4*F157 -> -1336.3889 | P157: =L157+K157+O157 -> -1153.8892 | Q157: =SUM($P$4:P157)/10000 -> 3.7803713 | R157: =IF(O157<0.0001,0,1) -> 0 | S157: =IF(R157<1,0,1)*(J157*P157) -> 0 | T157: =SUM($S$4:S157) -> 344462.33 | U157: =T157/3600000 -> 0.095683979 | V157: =IF(P157<-0.000001,1,0) -> 1 | W157: =IF(V157<1,0,1*J157*P157) -> -7243.8598 | Y157: =SUM($W$4:W157) -> -125658.33 | Z157: =Y157/3600000*-1 -> 0.034905091 | AA157: =P157*D157/1000 -> -7.2438598 | AB157: =IF(P157<-0.000001,1,0) -> 1 | AC157: =(0.5*1415*(D157^2-D156^2)/1000) -> -12.505718 | AD157: =W157*0.8/1000*-1 -> 5.7950878 | AE157: =SUM($AD$4:AD157)/3600 -> 0.027924073
A158: Low | B158: 154 | C158: 154 | D158: =E158/3.6 -> 4.8055556 | E158: 17.3 | F158: =($E158-$E156)/2/3.6 -> -1.375 | G158: =(E158-0)/2 -> 8.65 | H158: =P158*O158 -> 3443209.7 | I158: =SUM($D$4:D158) -> 704.97222 | J158: =I158-I157 -> 4.8055556 | K158: =Data!$B$4*9.81*0.012 -> 166.5738 | L158: =0.5*2.13*1.224*0.31*(D158^2) -> 9.3321116 | M158: =SUM($L$4:L158) -> 2373.5963 | N158: =M158/1000 -> 2.3735963 | O158: =Data!$B$4*F158 -> -1945.625 | P158: =L158+K158+O158 -> -1769.7191 | Q158: =SUM($P$4:P158)/10000 -> 3.6033994 | R158: =IF(O158<0.0001,0,1) -> 0 | S158: =IF(R158<1,0,1)*(J158*P158) -> 0 | T158: =SUM($S$4:S158) -> 344462.33 | U158: =T158/3600000 -> 0.095683979 | V158: =IF(P158<-0.000001,1,0) -> 1 | W158: =IF(V158<1,0,1*J158*P158) -> -8504.4834 | Y158: =SUM($W$4:W158) -> -134162.81 | Z158: =Y158/3600000*-1 -> 0.037267448 | AA158: =P158*D158/1000 -> -8.5044834 | AB158: =IF(P158<-0.000001,1,0) -> 1 | AC158: =(0.5*1415*(D158^2-D157^2)/1000) -> -11.544369 | AD158: =W158*0.8/1000*-1 -> 6.8035867 | AE158: =SUM($AD$4:AD158)/3600 -> 0.029813958
A159: Low | B159: 155 | C159: 155 | D159: =E159/3.6 -> 3.6944444 | E159: 13.3 | F159: =($E159-$E157)/2/3.6 -> -1.2916667 | G159: =(E159-0)/2 -> 6.65 | H159: =P159*O159 -> 3025988.6 | I159: =SUM($D$4:D159) -> 708.66667 | J159: =I159-I158 -> 3.6944444 | K159: =Data!$B$4*9.81*0.012 -> 166.5738 | L159: =0.5*2.13*1.224*0.31*(D159^2) -> 5.5155776 | M159: =SUM($L$4:L159) -> 2379.1119 | N159: =M159/1000 -> 2.3791119 | O159: =Data!$B$4*F159 -> -1827.7083 | P159: =L159+K159+O159 -> -1655.619 | Q159: =SUM($P$4:P159)/10000 -> 3.4378375 | R159: =IF(O159<0.0001,0,1) -> 0 | S159: =IF(R159<1,0,1)*(J159*P159) -> 0 | T159: =SUM($S$4:S159) -> 344462.33 | U159: =T159/3600000 -> 0.095683979 | V159: =IF(P159<-0.000001,1,0) -> 1 | W159: =IF(V159<1,0,1*J159*P159) -> -6116.5923 | Y159: =SUM($W$4:W159) -> -140279.4 | Z159: =Y159/3600000*-1 -> 0.038966501 | AA159: =P159*D159/1000 -> -6.1165923 | AB159: =IF(P159<-0.000001,1,0) -> 1 | AC159: =(0.5*1415*(D159^2-D158^2)/1000) -> -6.6819444 | AD159: =W159*0.8/1000*-1 -> 4.8932738 | AE159: =SUM($AD$4:AD159)/3600 -> 0.031173201
A160: Low | B160: 156 | C160: 156 | D160: =E160/3.6 -> 3.3333333 | E160: 12 | F160: =($E160-$E158)/2/3.6 -> -0.73611111 | G160: =(E160-0)/2 -> 6 | H160: =P160*O160 -> 906745.15 | I160: =SUM($D$4:D160) -> 712 | J160: =I160-I159 -> 3.3333333 | K160: =Data!$B$4*9.81*0.012 -> 166.5738 | L160: =0.5*2.13*1.224*0.31*(D160^2) -> 4.49004 | M160: =SUM($L$4:L160) -> 2383.602 | N160: =M160/1000 -> 2.383602 | O160: =Data!$B$4*F160 -> -1041.5972 | P160: =L160+K160+O160 -> -870.53338 | Q160: =SUM($P$4:P160)/10000 -> 3.3507841 | R160: =IF(O160<0.0001,0,1) -> 0 | S160: =IF(R160<1,0,1)*(J160*P160) -> 0 | T160: =SUM($S$4:S160) -> 344462.33 | U160: =T160/3600000 -> 0.095683979 | V160: =IF(P160<-0.000001,1,0) -> 1 | W160: =IF(V160<1,0,1*J160*P160) -> -2901.7779 | Y160: =SUM($W$4:W160) -> -143181.18 | Z160: =Y160/3600000*-1 -> 0.039772551 | AA160: =P160*D160/1000 -> -2.9017779 | AB160: =IF(P160<-0.000001,1,0) -> 1 | AC160: =(0.5*1415*(D160^2-D159^2)/1000) -> -1.7954996 | AD160: =W160*0.8/1000*-1 -> 2.3214224 | AE160: =SUM($AD$4:AD160)/3600 -> 0.031818041
A161: Low | B161: 157 | C161: 157 | D161: =E161/3.6 -> 3.5 | E161: 12.6 | F161: =($E161-$E159)/2/3.6 -> -0.097222222 | G161: =(E161-0)/2 -> 6.3 | H161: =P161*O161 -> -4671.1189 | I161: =SUM($D$4:D161) -> 715.5 | J161: =I161-I160 -> 3.5 | K161: =Data!$B$4*9.81*0.012 -> 166.5738 | L161: =0.5*2.13*1.224*0.31*(D161^2) -> 4.9502691 | M161: =SUM($L$4:L161) -> 2388.5522 | N161: =M161/1000 -> 2.3885522 | O161: =Data!$B$4*F161 -> -137.56944 | P161: =L161+K161+O161 -> 33.954625 | Q161: =SUM($P$4:P161)/10000 -> 3.3541796 | R161: =IF(O161<0.0001,0,1) -> 0 | S161: =IF(R161<1,0,1)*(J161*P161) -> 0 | T161: =SUM($S$4:S161) -> 344462.33 | U161: =T161/3600000 -> 0.095683979 | V161: =IF(P161<-0.000001,1,0) -> 0 | W161: =IF(V161<1,0,1*J161*P161) -> 0 | Y161: =SUM($W$4:W161) -> -143181.18 | Z161: =Y161/3600000*-1 -> 0.039772551 | AA161: =P161*D161/1000 -> 0.11884119 | AB161: =IF(P161<-0.000001,1,0) -> 0 | AC161: =(0.5*1415*(D161^2-D160^2)/1000) -> 0.80576389 | AD161: =W161*0.8/1000*-1 -> 0 | AE161: =SUM($AD$4:AD161)/3600 -> 0.031818041
A162: Low | B162: 158 | C162: 158 | D162: =E162/3.6 -> 3.9166667 | E162: 14.1 | F162: =($E162-$E160)/2/3.6 -> 0.29166667 | G162: =(E162-0)/2 -> 7.05 | H162: =P162*O162 -> 241632.97 | I162: =SUM($D$4:D162) -> 719.41667 | J162: =I162-I161 -> 3.9166667 | K162: =Data!$B$4*9.81*0.012 -> 166.5738 | L162: =0.5*2.13*1.224*0.31*(D162^2) -> 6.1990615 | M162: =SUM($L$4:L162) -> 2394.7513 | N162: =M162/1000 -> 2.3947513 | O162: =Data!$B$4*F162 -> 412.70833 | P162: =L162+K162+O162 -> 585.48119 | Q162: =SUM($P$4:P162)/10000 -> 3.4127277 | R162: =IF(O162<0.0001,0,1) -> 1 | S162: =IF(R162<1,0,1)*(J162*P162) -> 2293.1347 | T162: =SUM($S$4:S162) -> 346755.46 | U162: =T162/3600000 -> 0.096320961 | V162: =IF(P162<-0.000001,1,0) -> 0 | W162: =IF(V162<1,0,1*J162*P162) -> 0 | Y162: =SUM($W$4:W162) -> -143181.18 | Z162: =Y162/3600000*-1 -> 0.039772551 | AA162: =P162*D162/1000 -> 2.2931347 | AB162: =IF(P162<-0.000001,1,0) -> 0 | AC162: =(0.5*1415*(D162^2-D161^2)/1000) -> 2.1863715 | AD162: =W162*0.8/1000*-1 -> 0 | AE162: =SUM($AD$4:AD162)/3600 -> 0.031818041
A163: Low | B163: 159 | C163: 159 | D163: =E163/3.6 -> 4.7777778 | E163: 17.2 | F163: =($E163-$E161)/2/3.6 -> 0.63888889 | G163: =(E163-0)/2 -> 8.6 | H163: =P163*O163 -> 976192.8 | I163: =SUM($D$4:D163) -> 724.19444 | J163: =I163-I162 -> 4.7777778 | K163: =Data!$B$4*9.81*0.012 -> 166.5738 | L163: =0.5*2.13*1.224*0.31*(D163^2) -> 9.2245377 | M163: =SUM($L$4:L163) -> 2403.9758 | N163: =M163/1000 -> 2.4039758 | O163: =Data!$B$4*F163 -> 904.02778 | P163: =L163+K163+O163 -> 1079.8261 | Q163: =SUM($P$4:P163)/10000 -> 3.5207103 | R163: =IF(O163<0.0001,0,1) -> 1 | S163: =IF(R163<1,0,1)*(J163*P163) -> 5159.1692 | T163: =SUM($S$4:S163) -> 351914.63 | U163: =T163/3600000 -> 0.097754064 | V163: =IF(P163<-0.000001,1,0) -> 0 | W163: =IF(V163<1,0,1*J163*P163) -> 0 | Y163: =SUM($W$4:W163) -> -143181.18 | Z163: =Y163/3600000*-1 -> 0.039772551 | AA163: =P163*D163/1000 -> 5.1591692 | AB163: =IF(P163<-0.000001,1,0) -> 0 | AC163: =(0.5*1415*(D163^2-D162^2)/1000) -> 5.2969695 | AD163: =W163*0.8/1000*-1 -> 0 | AE163: =SUM($AD$4:AD163)/3600 -> 0.031818041
A164: Low | B164: 160 | C164: 160 | D164: =E164/3.6 -> 5.5833333 | E164: 20.1 | F164: =($E164-$E162)/2/3.6 -> 0.83333333 | G164: =(E164-0)/2 -> 10.05 | H164: =P164*O164 -> 1601706.7 | I164: =SUM($D$4:D164) -> 729.77778 | J164: =I164-I163 -> 5.5833333 | K164: =Data!$B$4*9.81*0.012 -> 166.5738 | L164: =0.5*2.13*1.224*0.31*(D164^2) -> 12.597368 | M164: =SUM($L$4:L164) -> 2416.5732 | N164: =M164/1000 -> 2.4165732 | O164: =Data!$B$4*F164 -> 1179.1667 | P164: =L164+K164+O164 -> 1358.3378 | Q164: =SUM($P$4:P164)/10000 -> 3.6565441 | R164: =IF(O164<0.0001,0,1) -> 1 | S164: =IF(R164<1,0,1)*(J164*P164) -> 7584.0529 | T164: =SUM($S$4:S164) -> 359498.68 | U164: =T164/3600000 -> 0.099860745 | V164: =IF(P164<-0.000001,1,0) -> 0 | W164: =IF(V164<1,0,1*J164*P164) -> 0 | Y164: =SUM($W$4:W164) -> -143181.18 | Z164: =Y164/3600000*-1 -> 0.039772551 | AA164: =P164*D164/1000 -> 7.5840529 | AB164: =IF(P164<-0.000001,1,0) -> 0 | AC164: =(0.5*1415*(D164^2-D163^2)/1000) -> 5.9051138 | AD164: =W164*0.8/1000*-1 -> 0 | AE164: =SUM($AD$4:AD164)/3600 -> 0.031818041
A165: Low | B165: 161 | C165: 161 | D165: =E165/3.6 -> 6.5 | E165: 23.4 | F165: =($E165-$E163)/2/3.6 -> 0.86111111 | G165: =(E165-0)/2 -> 11.7 | H165: =P165*O165 -> 1708443.5 | I165: =SUM($D$4:D165) -> 736.27778 | J165: =I165-I164 -> 6.5 | K165: =Data!$B$4*9.81*0.012 -> 166.5738 | L165: =0.5*2.13*1.224*0.31*(D165^2) -> 17.073377 | M165: =SUM($L$4:L165) -> 2433.6466 | N165: =M165/1000 -> 2.4336466 | O165: =Data!$B$4*F165 -> 1218.4722 | P165: =L165+K165+O165 -> 1402.1194 | Q165: =SUM($P$4:P165)/10000 -> 3.7967561 | R165: =IF(O165<0.0001,0,1) -> 1 | S165: =IF(R165<1,0,1)*(J165*P165) -> 9113.7761 | T165: =SUM($S$4:S165) -> 368612.46 | U165: =T165/3600000 -> 0.10239235 | V165: =IF(P165<-0.000001,1,0) -> 0 | W165: =IF(V165<1,0,1*J165*P165) -> 0 | Y165: =SUM($W$4:W165) -> -143181.18 | Z165: =Y165/3600000*-1 -> 0.039772551 | AA165: =P165*D165/1000 -> 9.1137761 | AB165: =IF(P165<-0.000001,1,0) -> 0 | AC165: =(0.5*1415*(D165^2-D164^2)/1000) -> 7.8365451 | AD165: =W165*0.8/1000*-1 -> 0 | AE165: =SUM($AD$4:AD165)/3600 -> 0.031818041
A166: Low | B166: 162 | C166: 162 | D166: =E166/3.6 -> 7.0833333 | E166: 25.5 | F166: =($E166-$E164)/2/3.6 -> 0.75 | G166: =(E166-0)/2 -> 12.75 | H166: =P166*O166 -> 1324545.2 | I166: =SUM($D$4:D166) -> 743.36111 | J166: =I166-I165 -> 7.0833333 | K166: =Data!$B$4*9.81*0.012 -> 166.5738 | L166: =0.5*2.13*1.224*0.31*(D166^2) -> 20.275337 | M166: =SUM($L$4:L166) -> 2453.9219 | N166: =M166/1000 -> 2.4539219 | O166: =Data!$B$4*F166 -> 1061.25 | P166: =L166+K166+O166 -> 1248.0991 | Q166: =SUM($P$4:P166)/10000 -> 3.921566 | R166: =IF(O166<0.0001,0,1) -> 1 | S166: =IF(R166<1,0,1)*(J166*P166) -> 8840.7022 | T166: =SUM($S$4:S166) -> 377453.16 | U166: =T166/3600000 -> 0.1048481 | V166: =IF(P166<-0.000001,1,0) -> 0 | W166: =IF(V166<1,0,1*J166*P166) -> 0 | Y166: =SUM($W$4:W166) -> -143181.18 | Z166: =Y166/3600000*-1 -> 0.039772551 | AA166: =P166*D166/1000 -> 8.8407022 | AB166: =IF(P166<-0.000001,1,0) -> 0 | AC166: =(0.5*1415*(D166^2-D165^2)/1000) -> 5.6059549 | AD166: =W166*0.8/1000*-1 -> 0 | AE166: =SUM($AD$4:AD166)/3600 -> 0.031818041
A167: Low | B167: 163 | C167: 163 | D167: =E167/3.6 -> 7.6666667 | E167: 27.6 | F167: =($E167-$E165)/2/3.6 -> 0.58333333 | G167: =(E167-0)/2 -> 13.8 | H167: =P167*O167 -> 838411.02 | I167: =SUM($D$4:D167) -> 751.02778 | J167: =I167-I166 -> 7.6666667 | K167: =Data!$B$4*9.81*0.012 -> 166.5738 | L167: =0.5*2.13*1.224*0.31*(D167^2) -> 23.752312 | M167: =SUM($L$4:L167) -> 2477.6742 | N167: =M167/1000 -> 2.4776742 | O167: =Data!$B$4*F167 -> 825.41667 | P167: =L167+K167+O167 -> 1015.7428 | Q167: =SUM($P$4:P167)/10000 -> 4.0231402 | R167: =IF(O167<0.0001,0,1) -> 1 | S167: =IF(R167<1,0,1)*(J167*P167) -> 7787.3613 | T167: =SUM($S$4:S167) -> 385240.52 | U167: =T167/3600000 -> 0.10701126 | V167: =IF(P167<-0.000001,1,0) -> 0 | W167: =IF(V167<1,0,1*J167*P167) -> 0 | Y167: =SUM($W$4:W167) -> -143181.18 | Z167: =Y167/3600000*-1 -> 0.039772551 | AA167: =P167*D167/1000 -> 7.7873613 | AB167: =IF(P167<-0.000001,1,0) -> 0 | AC167: =(0.5*1415*(D167^2-D166^2)/1000) -> 6.0874479 | AD167: =W167*0.8/1000*-1 -> 0 | AE167: =SUM($AD$4:AD167)/3600 -> 0.031818041
A168: Low | B168: 164 | C168: 164 | D168: =E168/3.6 -> 8.1944444 | E168: 29.5 | F168: =($E168-$E166)/2/3.6 -> 0.55555556 | G168: =(E168-0)/2 -> 14.75 | H168: =P168*O168 -> 770247.41 | I168: =SUM($D$4:D168) -> 759.22222 | J168: =I168-I167 -> 8.1944444 | K168: =Data!$B$4*9.81*0.012 -> 166.5738 | L168: =0.5*2.13*1.224*0.31*(D168^2) -> 27.13512 | M168: =SUM($L$4:L168) -> 2504.8093 | N168: =M168/1000 -> 2.5048093 | O168: =Data!$B$4*F168 -> 786.11111 | P168: =L168+K168+O168 -> 979.82003 | Q168: =SUM($P$4:P168)/10000 -> 4.1211222 | R168: =IF(O168<0.0001,0,1) -> 1 | S168: =IF(R168<1,0,1)*(J168*P168) -> 8029.0808 | T168: =SUM($S$4:S168) -> 393269.6 | U168: =T168/3600000 -> 0.10924156 | V168: =IF(P168<-0.000001,1,0) -> 0 | W168: =IF(V168<1,0,1*J168*P168) -> 0 | Y168: =SUM($W$4:W168) -> -143181.18 | Z168: =Y168/3600000*-1 -> 0.039772551 | AA168: =P168*D168/1000 -> 8.0290808 | AB168: =IF(P168<-0.000001,1,0) -> 0 | AC168: =(0.5*1415*(D168^2-D167^2)/1000) -> 5.9225829 | AD168: =W168*0.8/1000*-1 -> 0 | AE168: =SUM($AD$4:AD168)/3600 -> 0.031818041
... A175: Low | B175: 171 | C175: 171 | D175: =E175/3.6 -> 10.388889 | E175: 37.4 | F175: =($E175-$E173)/2/3.6 -> 0.027777778 | G175: =(E175-0)/2 -> 18.7 | H175: =P175*O175 -> 9806.4947 | I175: =SUM($D$4:D175) -> 827.05556 | J175: =I175-I174 -> 10.388889 | K175: =Data!$B$4*9.81*0.012 -> 166.5738 | L175: =0.5*2.13*1.224*0.31*(D175^2) -> 43.614502 | M175: =SUM($L$4:L175) -> 2771.8888 | N175: =M175/1000 -> 2.7718888 | O175: =Data!$B$4*F175 -> 39.305556 | P175: =L175+K175+O175 -> 249.49386 | Q175: =SUM($P$4:P175)/10000 -> 4.6240777 | R175: =IF(O175<0.0001,0,1) -> 1 | S175: =IF(R175<1,0,1)*(J175*P175) -> 2591.964 | T175: =SUM($S$4:S175) -> 441786.28 | U175: =T175/3600000 -> 0.12271841 | V175: =IF(P175<-0.000001,1,0) -> 0 | W175: =IF(V175<1,0,1*J175*P175) -> 0 | Y175: =SUM($W$4:W175) -> -143181.18 | Z175: =Y175/3600000*-1 -> 0.039772551 | AA175: =P175*D175/1000 -> 2.591964 | AB175: =IF(P175<-0.000001,1,0) -> 0 | AC175: =(0.5*1415*(D175^2-D174^2)/1000) -> -2.4696991 | AD175: =W175*0.8/1000*-1 -> 0 | AE175: =SUM($AD$4:AD175)/3600 -> 0.031818041
A176: Low | B176: 172 | C176: 172 | D176: =E176/3.6 -> 9.75 | E176: 35.1 | F176: =($E176-$E174)/2/3.6 -> -0.40277778 | G176: =(E176-0)/2 -> 17.55 | H176: =P176*O176 -> 207991.4 | I176: =SUM($D$4:D176) -> 836.80556 | J176: =I176-I175 -> 9.75 | K176: =Data!$B$4*9.81*0.012 -> 166.5738 | L176: =0.5*2.13*1.224*0.31*(D176^2) -> 38.415098 | M176: =SUM($L$4:L176) -> 2810.3039 | N176: =M176/1000 -> 2.8103039 | O176: =Data!$B$4*F176 -> -569.93056 | P176: =L176+K176+O176 -> -364.94166 | Q176: =SUM($P$4:P176)/10000 -> 4.5875835 | R176: =IF(O176<0.0001,0,1) -> 0 | S176: =IF(R176<1,0,1)*(J176*P176) -> 0 | T176: =SUM($S$4:S176) -> 441786.28 | U176: =T176/3600000 -> 0.12271841 | V176: =IF(P176<-0.000001,1,0) -> 1 | W176: =IF(V176<1,0,1*J176*P176) -> -3558.1812 | X176: =SUM(W176:W180) -> -31109.441 | Y176: =SUM($W$4:W176) -> -146739.36 | Z176: =Y176/3600000*-1 -> 0.040760934 | AA176: =P176*D176/1000 -> -3.5581812 | AB176: =IF(P176<-0.000001,1,0) -> 1 | AC176: =(0.5*1415*(D176^2-D175^2)/1000) -> -9.1030575 | AD176: =W176*0.8/1000*-1 -> 2.8465449 | AE176: =SUM($AD$4:AD176)/3600 -> 0.032608748
A177: Low | B177: 173 | C177: 173 | D177: =E177/3.6 -> 8.6111111 | E177: 31 | F177: =($E177-$E175)/2/3.6 -> -0.88888889 | G177: =(E177-0)/2 -> 15.5 | H177: =P177*O177 -> 1334803.1 | I177: =SUM($D$4:D177) -> 845.41667 | J177: =I177-I176 -> 8.6111111 | K177: =Data!$B$4*9.81*0.012 -> 166.5738 | L177: =0.5*2.13*1.224*0.31*(D177^2) -> 29.964781 | M177: =SUM($L$4:L177) -> 2840.2687 | N177: =M177/1000 -> 2.8402687 | O177: =Data!$B$4*F177 -> -1257.7778 | P177: =L177+K177+O177 -> -1061.2392 | Q177: =SUM($P$4:P177)/10000 -> 4.4814596 | R177: =IF(O177<0.0001,0,1) -> 0 | S177: =IF(R177<1,0,1)*(J177*P177) -> 0 | T177: =SUM($S$4:S177) -> 441786.28 | U177: =T177/3600000 -> 0.12271841 | V177: =IF(P177<-0.000001,1,0) -> 1 | W177: =IF(V177<1,0,1*J177*P177) -> -9138.4486 | Y177: =SUM($W$4:W177) -> -155877.81 | Z177: =Y177/3600000*-1 -> 0.043299392 | AA177: =P177*D177/1000 -> -9.1384486 | AB177: =IF(P177<-0.000001,1,0) -> 1 | AC177: =(0.5*1415*(D177^2-D176^2)/1000) -> -14.79472 | AD177: =W177*0.8/1000*-1 -> 7.3107589 | AE177: =SUM($AD$4:AD177)/3600 -> 0.034639514
A178: Low | B178: 174 | C178: 174 | D178: =E178/3.6 -> 7.5277778 | E178: 27.1 | F178: =($E178-$E176)/2/3.6 -> -1.1111111 | G178: =(E178-0)/2 -> 13.55 | H178: =P178*O178 -> 2173988.6 | I178: =SUM($D$4:D178) -> 852.94444 | J178: =I178-I177 -> 7.5277778 | K178: =Data!$B$4*9.81*0.012 -> 166.5738 | L178: =0.5*2.13*1.224*0.31*(D178^2) -> 22.899516 | M178: =SUM($L$4:L178) -> 2863.1682 | N178: =M178/1000 -> 2.8631682 | O178: =Data!$B$4*F178 -> -1572.2222 | P178: =L178+K178+O178 -> -1382.7489 | Q178: =SUM($P$4:P178)/10000 -> 4.3431847 | R178: =IF(O178<0.0001,0,1) -> 0 | S178: =IF(R178<1,0,1)*(J178*P178) -> 0 | T178: =SUM($S$4:S178) -> 441786.28 | U178: =T178/3600000 -> 0.12271841 | V178: =IF(P178<-0.000001,1,0) -> 1 | W178: =IF(V178<1,0,1*J178*P178) -> -10409.026 | Y178: =SUM($W$4:W178) -> -166286.84 | Z178: =Y178/3600000*-1 -> 0.046190789 | AA178: =P178*D178/1000 -> -10.409026 | AB178: =IF(P178<-0.000001,1,0) -> 1 | AC178: =(0.5*1415*(D178^2-D177^2)/1000) -> -12.369786 | AD178: =W178*0.8/1000*-1 -> 8.3272212 | AE178: =SUM($AD$4:AD178)/3600 -> 0.036952631
A179: Low | B179: 175 | C179: 175 | D179: =E179/3.6 -> 7.0277778 | E179: 25.3 | F179: =($E179-$E177)/2/3.6 -> -0.79166667 | G179: =(E179-0)/2 -> 12.65 | H179: =P179*O179 -> 1045911.6 | I179: =SUM($D$4:D179) -> 859.97222 | J179: =I179-I178 -> 7.0277778 | K179: =Data!$B$4*9.81*0.012 -> 166.5738 | L179: =0.5*2.13*1.224*0.31*(D179^2) -> 19.95854 | M179: =SUM($L$4:L179) -> 2883.1267 | N179: =M179/1000 -> 2.8831267 | O179: =Data!$B$4*F179 -> -1120.2083 | P179: =L179+K179+O179 -> -933.67599 | Q179: =SUM($P$4:P179)/10000 -> 4.2498171 | R179: =IF(O179<0.0001,0,1) -> 0 | S179: =IF(R179<1,0,1)*(J179*P179) -> 0 | T179: =SUM($S$4:S179) -> 441786.28 | U179: =T179/3600000 -> 0.12271841 | V179: =IF(P179<-0.000001,1,0) -> 1 | W179: =IF(V179<1,0,1*J179*P179) -> -6561.6674 | Y179: =SUM($W$4:W179) -> -172848.51 | Z179: =Y179/3600000*-1 -> 0.048013474 | AA179: =P179*D179/1000 -> -6.5616674 | AB179: =IF(P179<-0.000001,1,0) -> 1 | AC179: =(0.5*1415*(D179^2-D178^2)/1000) -> -5.1490278 | AD179: =W179*0.8/1000*-1 -> 5.2493339 | AE179: =SUM($AD$4:AD179)/3600 -> 0.038410779
A180: Low | B180: 176 | C180: 176 | D180: =E180/3.6 -> 6.9722222 | E180: 25.1 | F180: =($E180-$E178)/2/3.6 -> -0.27777778 | G180: =(E180-0)/2 -> 12.55 | H180: =P180*O180 -> 81298.636 | I180: =SUM($D$4:D180) -> 866.94444 | J180: =I180-I179 -> 6.9722222 | K180: =Data!$B$4*9.81*0.012 -> 166.5738 | L180: =0.5*2.13*1.224*0.31*(D180^2) -> 19.644237 | M180: =SUM($L$4:L180) -> 2902.7709 | N180: =M180/1000 -> 2.9027709 | O180: =Data!$B$4*F180 -> -393.05556 | P180: =L180+K180+O180 -> -206.83752 | Q180: =SUM($P$4:P180)/10000 -> 4.2291334 | R180: =IF(O180<0.0001,0,1) -> 0 | S180: =IF(R180<1,0,1)*(J180*P180) -> 0 | T180: =SUM($S$4:S180) -> 441786.28 | U180: =T180/3600000 -> 0.12271841 | V180: =IF(P180<-0.000001,1,0) -> 1 | W180: =IF(V180<1,0,1*J180*P180) -> -1442.1171 | Y180: =SUM($W$4:W180) -> -174290.62 | Z180: =Y180/3600000*-1 -> 0.048414062 | AA180: =P180*D180/1000 -> -1.4421171 | AB180: =IF(P180<-0.000001,1,0) -> 1 | AC180: =(0.5*1415*(D180^2-D179^2)/1000) -> -0.55027778 | AD180: =W180*0.8/1000*-1 -> 1.1536937 | AE180: =SUM($AD$4:AD180)/3600 -> 0.03873125
A181: Low | B181: 177 | C181: 177 | D181: =E181/3.6 -> 7.1944444 | E181: 25.9 | F181: =($E181-$E179)/2/3.6 -> 0.083333333 | G181: =(E181-0)/2 -> 12.95 | H181: =P181*O181 -> 36012.561 | I181: =SUM($D$4:D181) -> 874.13889 | J181: =I181-I180 -> 7.1944444 | K181: =Data!$B$4*9.81*0.012 -> 166.5738 | L181: =0.5*2.13*1.224*0.31*(D181^2) -> 20.916415 | M181: =SUM($L$4:L181) -> 2923.6874 | N181: =M181/1000 -> 2.9236874 | O181: =Data!$B$4*F181 -> 117.91667 | P181: =L181+K181+O181 -> 305.40688 | Q181: =SUM($P$4:P181)/10000 -> 4.259674 | R181: =IF(O181<0.0001,0,1) -> 1 | S181: =IF(R181<1,0,1)*(J181*P181) -> 2197.2328 | T181: =SUM($S$4:S181) -> 443983.52 | U181: =T181/3600000 -> 0.12332875 | V181: =IF(P181<-0.000001,1,0) -> 0 | W181: =IF(V181<1,0,1*J181*P181) -> 0 | Y181: =SUM($W$4:W181) -> -174290.62 | Z181: =Y181/3600000*-1 -> 0.048414062 | AA181: =P181*D181/1000 -> 2.1972328 | AB181: =IF(P181<-0.000001,1,0) -> 0 | AC181: =(0.5*1415*(D181^2-D180^2)/1000) -> 2.2273148 | AD181: =W181*0.8/1000*-1 -> 0 | AE181: =SUM($AD$4:AD181)/3600 -> 0.03873125
A182: Low | B182: 178 | C182: 178 | D182: =E182/3.6 -> 7.7222222 | E182: 27.8 | F182: =($E182-$E180)/2/3.6 -> 0.375 | G182: =(E182-0)/2 -> 13.9 | H182: =P182*O182 -> 382738.01 | I182: =SUM($D$4:D182) -> 881.86111 | J182: =I182-I181 -> 7.7222222 | K182: =Data!$B$4*9.81*0.012 -> 166.5738 | L182: =0.5*2.13*1.224*0.31*(D182^2) -> 24.097795 | M182: =SUM($L$4:L182) -> 2947.7852 | N182: =M182/1000 -> 2.9477852 | O182: =Data!$B$4*F182 -> 530.625 | P182: =L182+K182+O182 -> 721.2966 | Q182: =SUM($P$4:P182)/10000 -> 4.3318037 | R182: =IF(O182<0.0001,0,1) -> 1 | S182: =IF(R182<1,0,1)*(J182*P182) -> 5570.0126 | T182: =SUM($S$4:S182) -> 449553.53 | U182: =T182/3600000 -> 0.12487598 | V182: =IF(P182<-0.000001,1,0) -> 0 | W182: =IF(V182<1,0,1*J182*P182) -> 0 | Y182: =SUM($W$4:W182) -> -174290.62 | Z182: =Y182/3600000*-1 -> 0.048414062 | AA182: =P182*D182/1000 -> 5.5700126 | AB182: =IF(P182<-0.000001,1,0) -> 0 | AC182: =(0.5*1415*(D182^2-D181^2)/1000) -> 5.5699248 | AD182: =W182*0.8/1000*-1 -> 0 | AE182: =SUM($AD$4:AD182)/3600 -> 0.03873125
A183: Low | B183: 179 | C183: 179 | D183: =E183/3.6 -> 8.1111111 | E183: 29.2 | F183: =($E183-$E181)/2/3.6 -> 0.45833333 | G183: =(E183-0)/2 -> 14.6 | H183: =P183*O183 -> 545878.49 | I183: =SUM($D$4:D183) -> 889.97222 | J183: =I183-I182 -> 8.1111111 | K183: =Data!$B$4*9.81*0.012 -> 166.5738 | L183: =0.5*2.13*1.224*0.31*(D183^2) -> 26.586026 | M183: =SUM($L$4:L183) -> 2974.3712 | N183: =M183/1000 -> 2.9743712 | O183: =Data!$B$4*F183 -> 648.54167 | P183: =L183+K183+O183 -> 841.70149 | Q183: =SUM($P$4:P183)/10000 -> 4.4159739 | R183: =IF(O183<0.0001,0,1) -> 1 | S183: =IF(R183<1,0,1)*(J183*P183) -> 6827.1343 | T183: =SUM($S$4:S183) -> 456380.66 | U183: =T183/3600000 -> 0.12677241 | V183: =IF(P183<-0.000001,1,0) -> 0 | W183: =IF(V183<1,0,1*J183*P183) -> 0 | Y183: =SUM($W$4:W183) -> -174290.62 | Z183: =Y183/3600000*-1 -> 0.048414062 | AA183: =P183*D183/1000 -> 6.8271343 | AB183: =IF(P183<-0.000001,1,0) -> 0 | AC183: =(0.5*1415*(D183^2-D182^2)/1000) -> 4.3563657 | AD183: =W183*0.8/1000*-1 -> 0 | AE183: =SUM($AD$4:AD183)/3600 -> 0.03873125
A184: Low | B184: 180 | C184: 180 | D184: =E184/3.6 -> 8.2222222 | E184: 29.6 | F184: =($E184-$E182)/2/3.6 -> 0.25 | G184: =(E184-0)/2 -> 14.8 | H184: =P184*O184 -> 193728.78 | I184: =SUM($D$4:D184) -> 898.19444 | J184: =I184-I183 -> 8.2222222 | K184: =Data!$B$4*9.81*0.012 -> 166.5738 | L184: =0.5*2.13*1.224*0.31*(D184^2) -> 27.319399 | M184: =SUM($L$4:L184) -> 3001.6906 | N184: =M184/1000 -> 3.0016906 | O184: =Data!$B$4*F184 -> 353.75 | P184: =L184+K184+O184 -> 547.6432 | Q184: =SUM($P$4:P184)/10000 -> 4.4707382 | R184: =IF(O184<0.0001,0,1) -> 1 | S184: =IF(R184<1,0,1)*(J184*P184) -> 4502.8441 | T184: =SUM($S$4:S184) -> 460883.51 | U184: =T184/3600000 -> 0.1280232 | V184: =IF(P184<-0.000001,1,0) -> 0 | W184: =IF(V184<1,0,1*J184*P184) -> 0 | Y184: =SUM($W$4:W184) -> -174290.62 | Z184: =Y184/3600000*-1 -> 0.048414062 | AA184: =P184*D184/1000 -> 4.5028441 | AB184: =IF(P184<-0.000001,1,0) -> 0 | AC184: =(0.5*1415*(D184^2-D183^2)/1000) -> 1.2839815 | AD184: =W184*0.8/1000*-1 -> 0 | AE184: =SUM($AD$4:AD184)/3600 -> 0.03873125
A185: Low | B185: 181 | C185: 181 | D185: =E185/3.6 -> 8.1944444 | E185: 29.5 | F185: =($E185-$E183)/2/3.6 -> 0.041666667 | G185: =(E185-0)/2 -> 14.75 | H185: =P185*O185 -> 14896.84 | I185: =SUM($D$4:D185) -> 906.38889 | J185: =I185-I184 -> 8.1944444 | K185: =Data!$B$4*9.81*0.012 -> 166.5738 | L185: =0.5*2.13*1.224*0.31*(D185^2) -> 27.13512 | M185: =SUM($L$4:L185) -> 3028.8257 | N185: =M185/1000 -> 3.0288257 | O185: =Data!$B$4*F185 -> 58.958333 | P185: =L185+K185+O185 -> 252.66725 | Q185: =SUM($P$4:P185)/10000 -> 4.4960049 | R185: =IF(O185<0.0001,0,1) -> 1 | S185: =IF(R185<1,0,1)*(J185*P185) -> 2070.4678 | T185: =SUM($S$4:S185) -> 462953.98 | U185: =T185/3600000 -> 0.12859833 | V185: =IF(P185<-0.000001,1,0) -> 0 | W185: =IF(V185<1,0,1*J185*P185) -> 0 | Y185: =SUM($W$4:W185) -> -174290.62 | Z185: =Y185/3600000*-1 -> 0.048414062 | AA185: =P185*D185/1000 -> 2.0704678 | AB185: =IF(P185<-0.000001,1,0) -> 0 | AC185: =(0.5*1415*(D185^2-D184^2)/1000) -> -0.3226331 | AD185: =W185*0.8/1000*-1 -> 0 | AE185: =SUM($AD$4:AD185)/3600 -> 0.03873125
A186: Low | B186: 182 | C186: 182 | D186: =E186/3.6 -> 8.1111111 | E186: 29.2 | F186: =($E186-$E184)/2/3.6 -> -0.055555556 | G186: =(E186-0)/2 -> 14.6 | H186: =P186*O186 -> -9004.8017 | I186: =SUM($D$4:D186) -> 914.5 | J186: =I186-I185 -> 8.1111111 | K186: =Data!$B$4*9.81*0.012 -> 166.5738 | L186: =0.5*2.13*1.224*0.31*(D186^2) -> 26.586026 | M186: =SUM($L$4:L186) -> 3055.4117 | N186: =M186/1000 -> 3.0554117 | O186: =Data!$B$4*F186 -> -78.611111 | P186: =L186+K186+O186 -> 114.54871 | Q186: =SUM($P$4:P186)/10000 -> 4.5074598 | R186: =IF(O186<0.0001,0,1) -> 0 | S186: =IF(R186<1,0,1)*(J186*P186) -> 0 | T186: =SUM($S$4:S186) -> 462953.98 | U186: =T186/3600000 -> 0.12859833 | V186: =IF(P186<-0.000001,1,0) -> 0 | W186: =IF(V186<1,0,1*J186*P186) -> 0 | Y186: =SUM($W$4:W186) -> -174290.62 | Z186: =Y186/3600000*-1 -> 0.048414062 | AA186: =P186*D186/1000 -> 0.92911735 | AB186: =IF(P186<-0.000001,1,0) -> 0 | AC186: =(0.5*1415*(D186^2-D185^2)/1000) -> -0.96134838 | AD186: =W186*0.8/1000*-1 -> 0 | AE186: =SUM($AD$4:AD186)/3600 -> 0.03873125
A187: Low | B187: 183 | C187: 183 | D187: =E187/3.6 -> 7.8611111 | E187: 28.3 | F187: =($E187-$E185)/2/3.6 -> -0.16666667 | G187: =(E187-0)/2 -> 14.15 | H187: =P187*O187 -> 10444.378 | I187: =SUM($D$4:D187) -> 922.36111 | J187: =I187-I186 -> 7.8611111 | K187: =Data!$B$4*9.81*0.012 -> 166.5738 | L187: =0.5*2.13*1.224*0.31*(D187^2) -> 24.972418 | M187: =SUM($L$4:L187) -> 3080.3841 | N187: =M187/1000 -> 3.0803841 | O187: =Data!$B$4*F187 -> -235.83333 | P187: =L187+K187+O187 -> -44.287116 | Q187: =SUM($P$4:P187)/10000 -> 4.5030311 | R187: =IF(O187<0.0001,0,1) -> 0 | S187: =IF(R187<1,0,1)*(J187*P187) -> 0 | T187: =SUM($S$4:S187) -> 462953.98 | U187: =T187/3600000 -> 0.12859833 | V187: =IF(P187<-0.000001,1,0) -> 1 | W187: =IF(V187<1,0,1*J187*P187) -> -348.14594 | X187: =SUM(W187:W197) -> -24688.054 | Y187: =SUM($W$4:W187) -> -174638.77 | Z187: =Y187/3600000*-1 -> 0.048510769 | AA187: =P187*D187/1000 -> -0.34814594 | AB187: =IF(P187<-0.000001,1,0) -> 1 | AC187: =(0.5*1415*(D187^2-D186^2)/1000) -> -2.8250868 | AD187: =W187*0.8/1000*-1 -> 0.27851675 | AE187: =SUM($AD$4:AD187)/3600 -> 0.038808615
A188: Low | B188: 184 | C188: 184 | D188: =E188/3.6 -> 7.25 | E188: 26.1 | F188: =($E188-$E186)/2/3.6 -> -0.43055556 | G188: =(E188-0)/2 -> 13.05 | H188: =P188*O188 -> 256745.27 | I188: =SUM($D$4:D188) -> 929.61111 | J188: =I188-I187 -> 7.25 | K188: =Data!$B$4*9.81*0.012 -> 166.5738 | L188: =0.5*2.13*1.224*0.31*(D188^2) -> 21.240695 | M188: =SUM($L$4:L188) -> 3101.6248 | N188: =M188/1000 -> 3.1016248 | O188: =Data!$B$4*F188 -> -609.23611 | P188: =L188+K188+O188 -> -421.42162 | Q188: =SUM($P$4:P188)/10000 -> 4.4608889 | R188: =IF(O188<0.0001,0,1) -> 0 | S188: =IF(R188<1,0,1)*(J188*P188) -> 0 | T188: =SUM($S$4:S188) -> 462953.98 | U188: =T188/3600000 -> 0.12859833 | V188: =IF(P188<-0.000001,1,0) -> 1 | W188: =IF(V188<1,0,1*J188*P188) -> -3055.3067 | Y188: =SUM($W$4:W188) -> -177694.08 | Z188: =Y188/3600000*-1 -> 0.049359466 | AA188: =P188*D188/1000 -> -3.0553067 | AB188: =IF(P188<-0.000001,1,0) -> 1 | AC188: =(0.5*1415*(D188^2-D187^2)/1000) -> -6.5334568 | AD188: =W188*0.8/1000*-1 -> 2.4442454 | AE188: =SUM($AD$4:AD188)/3600 -> 0.039487572
A189: Low | B189: 185 | C189: 185 | D189: =E189/3.6 -> 6.5555556 | E189: 23.6 | F189: =($E189-$E187)/2/3.6 -> -0.65277778 | G189: =(E189-0)/2 -> 11.8 | H189: =P189*O189 -> 683283.71 | I189: =SUM($D$4:D189) -> 936.16667 | J189: =I189-I188 -> 6.5555556 | K189: =Data!$B$4*9.81*0.012 -> 166.5738 | L189: =0.5*2.13*1.224*0.31*(D189^2) -> 17.366477 | M189: =SUM($L$4:L189) -> 3118.9913 | N189: =M189/1000 -> 3.1189913 | O189: =Data!$B$4*F189 -> -923.68056 | P189: =L189+K189+O189 -> -739.74028 | Q189: =SUM($P$4:P189)/10000 -> 4.3869149 | R189: =IF(O189<0.0001,0,1) -> 0 | S189: =IF(R189<1,0,1)*(J189*P189) -> 0 | T189: =SUM($S$4:S189) -> 462953.98 | U189: =T189/3600000 -> 0.12859833 | V189: =IF(P189<-0.000001,1,0) -> 1 | W189: =IF(V189<1,0,1*J189*P189) -> -4849.4085 | Y189: =SUM($W$4:W189) -> -182543.48 | Z189: =Y189/3600000*-1 -> 0.050706524 | AA189: =P189*D189/1000 -> -4.8494085 | AB189: =IF(P189<-0.000001,1,0) -> 1 | AC189: =(0.5*1415*(D189^2-D188^2)/1000) -> -6.7829379 | AD189: =W189*0.8/1000*-1 -> 3.8795268 | AE189: =SUM($AD$4:AD189)/3600 -> 0.040565219
A190: Low | B190: 186 | C190: 186 | D190: =E190/3.6 -> 5.8333333 | E190: 21 | F190: =($E190-$E188)/2/3.6 -> -0.70833333 | G190: =(E190-0)/2 -> 10.5 | H190: =P190*O190 -> 823850.79 | I190: =SUM($D$4:D190) -> 942 | J190: =I190-I189 -> 5.8333333 | K190: =Data!$B$4*9.81*0.012 -> 166.5738 | L190: =0.5*2.13*1.224*0.31*(D190^2) -> 13.750747 | M190: =SUM($L$4:L190) -> 3132.7421 | N190: =M190/1000 -> 3.1327421 | O190: =Data!$B$4*F190 -> -1002.2917 | P190: =L190+K190+O190 -> -821.96712 | Q190: =SUM($P$4:P190)/10000 -> 4.3047182 | R190: =IF(O190<0.0001,0,1) -> 0 | S190: =IF(R190<1,0,1)*(J190*P190) -> 0 | T190: =SUM($S$4:S190) -> 462953.98 | U190: =T190/3600000 -> 0.12859833 | V190: =IF(P190<-0.000001,1,0) -> 1 | W190: =IF(V190<1,0,1*J190*P190) -> -4794.8082 | Y190: =SUM($W$4:W190) -> -187338.29 | Z190: =Y190/3600000*-1 -> 0.052038415 | AA190: =P190*D190/1000 -> -4.7948082 | AB190: =IF(P190<-0.000001,1,0) -> 1 | AC190: =(0.5*1415*(D190^2-D189^2)/1000) -> -6.3303781 | AD190: =W190*0.8/1000*-1 -> 3.8358466 | AE190: =SUM($AD$4:AD190)/3600 -> 0.041630732
A191: Low | B191: 187 | C191: 187 | D191: =E191/3.6 -> 5.25 | E191: 18.9 | F191: =($E191-$E189)/2/3.6 -> -0.65277778 | G191: =(E191-0)/2 -> 9.45 | H191: =P191*O191 -> 689036.74 | I191: =SUM($D$4:D191) -> 947.25 | J191: =I191-I190 -> 5.25 | K191: =Data!$B$4*9.81*0.012 -> 166.5738 | L191: =0.5*2.13*1.224*0.31*(D191^2) -> 11.138105 | M191: =SUM($L$4:L191) -> 3143.8802 | N191: =M191/1000 -> 3.1438802 | O191: =Data!$B$4*F191 -> -923.68056 | P191: =L191+K191+O191 -> -745.96865 | Q191: =SUM($P$4:P191)/10000 -> 4.2301213 | R191: =IF(O191<0.0001,0,1) -> 0 | S191: =IF(R191<1,0,1)*(J191*P191) -> 0 | T191: =SUM($S$4:S191) -> 462953.98 | U191: =T191/3600000 -> 0.12859833 | V191: =IF(P191<-0.000001,1,0) -> 1 | W191: =IF(V191<1,0,1*J191*P191) -> -3916.3354 | Y191: =SUM($W$4:W191) -> -191254.63 | Z191: =Y191/3600000*-1 -> 0.053126286 | AA191: =P191*D191/1000 -> -3.9163354 | AB191: =IF(P191<-0.000001,1,0) -> 1 | AC191: =(0.5*1415*(D191^2-D190^2)/1000) -> -4.574184 | AD191: =W191*0.8/1000*-1 -> 3.1330683 | AE191: =SUM($AD$4:AD191)/3600 -> 0.042501028
A192: Low | B192: 188 | C192: 188 | D192: =E192/3.6 -> 4.75 | E192: 17.1 | F192: =($E192-$E190)/2/3.6 -> -0.54166667 | G192: =(E192-0)/2 -> 8.55 | H192: =P192*O192 -> 452798.25 | I192: =SUM($D$4:D192) -> 952 | J192: =I192-I191 -> 4.75 | K192: =Data!$B$4*9.81*0.012 -> 166.5738 | L192: =0.5*2.13*1.224*0.31*(D192^2) -> 9.1175875 | M192: =SUM($L$4:L192) -> 3152.9978 | N192: =M192/1000 -> 3.1529978 | O192: =Data!$B$4*F192 -> -766.45833 | P192: =L192+K192+O192 -> -590.76695 | Q192: =SUM($P$4:P192)/10000 -> 4.1710446 | R192: =IF(O192<0.0001,0,1) -> 0 | S192: =IF(R192<1,0,1)*(J192*P192) -> 0 | T192: =SUM($S$4:S192) -> 462953.98 | U192: =T192/3600000 -> 0.12859833 | V192: =IF(P192<-0.000001,1,0) -> 1 | W192: =IF(V192<1,0,1*J192*P192) -> -2806.143 | Y192: =SUM($W$4:W192) -> -194060.77 | Z192: =Y192/3600000*-1 -> 0.05390577 | AA192: =P192*D192/1000 -> -2.806143 | AB192: =IF(P192<-0.000001,1,0) -> 1 | AC192: =(0.5*1415*(D192^2-D191^2)/1000) -> -3.5375 | AD192: =W192*0.8/1000*-1 -> 2.2449144 | AE192: =SUM($AD$4:AD192)/3600 -> 0.043124616
A193: Low | B193: 189 | C193: 189 | D193: =E193/3.6 -> 4.3611111 | E193: 15.7 | F193: =($E193-$E191)/2/3.6 -> -0.44444444 | G193: =(E193-0)/2 -> 7.85 | H193: =P193*O193 -> 285911.33 | I193: =SUM($D$4:D193) -> 956.36111 | J193: =I193-I192 -> 4.3611111 | K193: =Data!$B$4*9.81*0.012 -> 166.5738 | L193: =0.5*2.13*1.224*0.31*(D193^2) -> 7.6857636 | M193: =SUM($L$4:L193) -> 3160.6835 | N193: =M193/1000 -> 3.1606835 | O193: =Data!$B$4*F193 -> -628.88889 | P193: =L193+K193+O193 -> -454.62933 | Q193: =SUM($P$4:P193)/10000 -> 4.1255817 | R193: =IF(O193<0.0001,0,1) -> 0 | S193: =IF(R193<1,0,1)*(J193*P193) -> 0 | T193: =SUM($S$4:S193) -> 462953.98 | U193: =T193/3600000 -> 0.12859833 | V193: =IF(P193<-0.000001,1,0) -> 1 | W193: =IF(V193<1,0,1*J193*P193) -> -1982.689 | Y193: =SUM($W$4:W193) -> -196043.46 | Z193: =Y193/3600000*-1 -> 0.054456517 | AA193: =P193*D193/1000 -> -1.982689 | AB193: =IF(P193<-0.000001,1,0) -> 1 | AC193: =(0.5*1415*(D193^2-D192^2)/1000) -> -2.506821 | AD193: =W193*0.8/1000*-1 -> 1.5861512 | AE193: =SUM($AD$4:AD193)/3600 -> 0.043565213
A194: Low | B194: 190 | C194: 190 | D194: =E194/3.6 -> 4.0277778 | E194: 14.5 | F194: =($E194-$E192)/2/3.6 -> -0.36111111 | G194: =(E194-0)/2 -> 7.25 | H194: =P194*O194 -> 172628.21 | I194: =SUM($D$4:D194) -> 960.38889 | J194: =I194-I193 -> 4.0277778 | K194: =Data!$B$4*9.81*0.012 -> 166.5738 | L194: =0.5*2.13*1.224*0.31*(D194^2) -> 6.5557702 | M194: =SUM($L$4:L194) -> 3167.2393 | N194: =M194/1000 -> 3.1672393 | O194: =Data!$B$4*F194 -> -510.97222 | P194: =L194+K194+O194 -> -337.84265 | Q194: =SUM($P$4:P194)/10000 -> 4.0917974 | R194: =IF(O194<0.0001,0,1) -> 0 | S194: =IF(R194<1,0,1)*(J194*P194) -> 0 | T194: =SUM($S$4:S194) -> 462953.98 | U194: =T194/3600000 -> 0.12859833 | V194: =IF(P194<-0.000001,1,0) -> 1 | W194: =IF(V194<1,0,1*J194*P194) -> -1360.7551 | Y194: =SUM($W$4:W194) -> -197404.22 | Z194: =Y194/3600000*-1 -> 0.054834504 | AA194: =P194*D194/1000 -> -1.3607551 | AB194: =IF(P194<-0.000001,1,0) -> 1 | AC194: =(0.5*1415*(D194^2-D193^2)/1000) -> -1.9783796 | AD194: =W194*0.8/1000*-1 -> 1.0886041 | AE194: =SUM($AD$4:AD194)/3600 -> 0.043867603
A195: Low | B195: 191 | C195: 191 | D195: =E195/3.6 -> 3.8055556 | E195: 13.7 | F195: =($E195-$E193)/2/3.6 -> -0.27777778 | G195: =(E195-0)/2 -> 6.85 | H195: =P195*O195 -> 86719.621 | I195: =SUM($D$4:D195) -> 964.19444 | J195: =I195-I194 -> 3.8055556 | K195: =Data!$B$4*9.81*0.012 -> 166.5738 | L195: =0.5*2.13*1.224*0.31*(D195^2) -> 5.8523306 | M195: =SUM($L$4:L195) -> 3173.0916 | N195: =M195/1000 -> 3.1730916 | O195: =Data!$B$4*F195 -> -393.05556 | P195: =L195+K195+O195 -> -220.62942 | Q195: =SUM($P$4:P195)/10000 -> 4.0697345 | R195: =IF(O195<0.0001,0,1) -> 0 | S195: =IF(R195<1,0,1)*(J195*P195) -> 0 | T195: =SUM($S$4:S195) -> 462953.98 | U195: =T195/3600000 -> 0.12859833 | V195: =IF(P195<-0.000001,1,0) -> 1 | W195: =IF(V195<1,0,1*J195*P195) -> -839.61753 | Y195: =SUM($W$4:W195) -> -198243.83 | Z195: =Y195/3600000*-1 -> 0.055067731 | AA195: =P195*D195/1000 -> -0.83961753 | AB195: =IF(P195<-0.000001,1,0) -> 1 | AC195: =(0.5*1415*(D195^2-D194^2)/1000) -> -1.2315741 | AD195: =W195*0.8/1000*-1 -> 0.67169403 | AE195: =SUM($AD$4:AD195)/3600 -> 0.044054185
A196: Low | B196: 192 | C196: 192 | D196: =E196/3.6 -> 3.5833333 | E196: 12.9 | F196: =($E196-$E194)/2/3.6 -> -0.22222222 | G196: =(E196-0)/2 -> 6.45 | H196: =P196*O196 -> 44865.513 | I196: =SUM($D$4:D196) -> 967.77778 | J196: =I196-I195 -> 3.5833333 | K196: =Data!$B$4*9.81*0.012 -> 166.5738 | L196: =0.5*2.13*1.224*0.31*(D196^2) -> 5.1888025 | M196: =SUM($L$4:L196) -> 3178.2804 | N196: =M196/1000 -> 3.1782804 | O196: =Data!$B$4*F196 -> -314.44444 | P196: =L196+K196+O196 -> -142.68184 | Q196: =SUM($P$4:P196)/10000 -> 4.0554663 | R196: =IF(O196<0.0001,0,1) -> 0 | S196: =IF(R196<1,0,1)*(J196*P196) -> 0 | T196: =SUM($S$4:S196) -> 462953.98 | U196: =T196/3600000 -> 0.12859833 | V196: =IF(P196<-0.000001,1,0) -> 1 | W196: =IF(V196<1,0,1*J196*P196) -> -511.2766 | Y196: =SUM($W$4:W196) -> -198755.11 | Z196: =Y196/3600000*-1 -> 0.055209753 | AA196: =P196*D196/1000 -> -0.5112766 | AB196: =IF(P196<-0.000001,1,0) -> 1 | AC196: =(0.5*1415*(D196^2-D195^2)/1000) -> -1.1616975 | AD196: =W196*0.8/1000*-1 -> 0.40902128 | AE196: =SUM($AD$4:AD196)/3600 -> 0.044167802
A197: Low | B197: 193 | C197: 193 | D197: =E197/3.6 -> 3.4722222 | E197: 12.5 | F197: =($E197-$E195)/2/3.6 -> -0.16666667 | G197: =(E197-0)/2 -> 6.25 | H197: =P197*O197 -> 15184.725 | I197: =SUM($D$4:D197) -> 971.25 | J197: =I197-I196 -> 3.4722222 | K197: =Data!$B$4*9.81*0.012 -> 166.5738 | L197: =0.5*2.13*1.224*0.31*(D197^2) -> 4.8720052 | M197: =SUM($L$4:L197) -> 3183.1524 | N197: =M197/1000 -> 3.1831524 | O197: =Data!$B$4*F197 -> -235.83333 | P197: =L197+K197+O197 -> -64.387528 | Q197: =SUM($P$4:P197)/10000 -> 4.0490275 | R197: =IF(O197<0.0001,0,1) -> 0 | S197: =IF(R197<1,0,1)*(J197*P197) -> 0 | T197: =SUM($S$4:S197) -> 462953.98 | U197: =T197/3600000 -> 0.12859833 | V197: =IF(P197<-0.000001,1,0) -> 1 | W197: =IF(V197<1,0,1*J197*P197) -> -223.56781 | Y197: =SUM($W$4:W197) -> -198978.68 | Z197: =Y197/3600000*-1 -> 0.055271855 | AA197: =P197*D197/1000 -> -0.22356781 | AB197: =IF(P197<-0.000001,1,0) -> 1 | AC197: =(0.5*1415*(D197^2-D196^2)/1000) -> -0.55464506 | AD197: =W197*0.8/1000*-1 -> 0.17885424 | AE197: =SUM($AD$4:AD197)/3600 -> 0.044217484
A198: Low | B198: 194 | C198: 194 | D198: =E198/3.6 -> 3.3888889 | E198: 12.2 | F198: =($E198-$E196)/2/3.6 -> -0.097222222 | G198: =(E198-0)/2 -> 6.1 | H198: =P198*O198 -> -4628.5667 | I198: =SUM($D$4:D198) -> 974.63889 | J198: =I198-I197 -> 3.3888889 | K198: =Data!$B$4*9.81*0.012 -> 166.5738 | L198: =0.5*2.13*1.224*0.31*(D198^2) -> 4.6409552 | M198: =SUM($L$4:L198) -> 3187.7934 | N198: =M198/1000 -> 3.1877934 | O198: =Data!$B$4*F198 -> -137.56944 | P198: =L198+K198+O198 -> 33.645311 | Q198: =SUM($P$4:P198)/10000 -> 4.052392 | R198: =IF(O198<0.0001,0,1) -> 0 | S198: =IF(R198<1,0,1)*(J198*P198) -> 0 | T198: =SUM($S$4:S198) -> 462953.98 | U198: =T198/3600000 -> 0.12859833 | V198: =IF(P198<-0.000001,1,0) -> 0 | W198: =IF(V198<1,0,1*J198*P198) -> 0 | Y198: =SUM($W$4:W198) -> -198978.68 | Z198: =Y198/3600000*-1 -> 0.055271855 | AA198: =P198*D198/1000 -> 0.11402022 | AB198: =IF(P198<-0.000001,1,0) -> 0 | AC198: =(0.5*1415*(D198^2-D197^2)/1000) -> -0.40451968 | AD198: =W198*0.8/1000*-1 -> 0 | AE198: =SUM($AD$4:AD198)/3600 -> 0.044217484
A199: Low | B199: 195 | C199: 195 | D199: =E199/3.6 -> 3.3333333 | E199: 12 | F199: =($E199-$E197)/2/3.6 -> -0.069444444 | G199: =(E199-0)/2 -> 6 | H199: =P199*O199 -> -7153.6063 | I199: =SUM($D$4:D199) -> 977.97222 | J199: =I199-I198 -> 3.3333333 | K199: =Data!$B$4*9.81*0.012 -> 166.5738 | L199: =0.5*2.13*1.224*0.31*(D199^2) -> 4.49004 | M199: =SUM($L$4:L199) -> 3192.2834 | N199: =M199/1000 -> 3.1922834 | O199: =Data!$B$4*F199 -> -98.263889 | P199: =L199+K199+O199 -> 72.799951 | Q199: =SUM($P$4:P199)/10000 -> 4.059672 | R199: =IF(O199<0.0001,0,1) -> 0 | S199: =IF(R199<1,0,1)*(J199*P199) -> 0 | T199: =SUM($S$4:S199) -> 462953.98 | U199: =T199/3600000 -> 0.12859833 | V199: =IF(P199<-0.000001,1,0) -> 0 | W199: =IF(V199<1,0,1*J199*P199) -> 0 | Y199: =SUM($W$4:W199) -> -198978.68 | Z199: =Y199/3600000*-1 -> 0.055271855 | AA199: =P199*D199/1000 -> 0.2426665 | AB199: =IF(P199<-0.000001,1,0) -> 0 | AC199: =(0.5*1415*(D199^2-D198^2)/1000) -> -0.26422068 | AD199: =W199*0.8/1000*-1 -> 0 | AE199: =SUM($AD$4:AD199)/3600 -> 0.044217484
... A236: Low | B236: 232 | C236: 232 | D236: =E236/3.6 -> 15.611111 | E236: 56.2 | F236: =($E236-$E234)/2/3.6 -> -0.041666667 | G236: =(E236-0)/2 -> 28.1 | H236: =P236*O236 -> -12151.21 | I236: =SUM($D$4:D236) -> 1366.5 | J236: =I236-I235 -> 15.611111 | K236: =Data!$B$4*9.81*0.012 -> 166.5738 | L236: =0.5*2.13*1.224*0.31*(D236^2) -> 98.482791 | M236: =SUM($L$4:L236) -> 5154.0845 | N236: =M236/1000 -> 5.1540845 | O236: =Data!$B$4*F236 -> -58.958333 | P236: =L236+K236+O236 -> 206.09826 | Q236: =SUM($P$4:P236)/10000 -> 6.611446 | R236: =IF(O236<0.0001,0,1) -> 0 | S236: =IF(R236<1,0,1)*(J236*P236) -> 0 | T236: =SUM($S$4:S236) -> 724178.65 | U236: =T236/3600000 -> 0.20116074 | V236: =IF(P236<-0.000001,1,0) -> 0 | W236: =IF(V236<1,0,1*J236*P236) -> 0 | Y236: =SUM($W$4:W236) -> -198978.68 | Z236: =Y236/3600000*-1 -> 0.055271855 | AA236: =P236*D236/1000 -> 3.2174228 | AB236: =IF(P236<-0.000001,1,0) -> 0 | AC236: =(0.5*1415*(D236^2-D235^2)/1000) -> -1.8457234 | AD236: =W236*0.8/1000*-1 -> 0 | AE236: =SUM($AD$4:AD236)/3600 -> 0.044217484
A237: Low | B237: 233 | C237: 233 | D237: =E237/3.6 -> 15.25 | E237: 54.9 | F237: =($E237-$E235)/2/3.6 -> -0.22222222 | G237: =(E237-0)/2 -> 27.45 | H237: =P237*O237 -> 16945.82 | I237: =SUM($D$4:D237) -> 1381.75 | J237: =I237-I236 -> 15.25 | K237: =Data!$B$4*9.81*0.012 -> 166.5738 | L237: =0.5*2.13*1.224*0.31*(D237^2) -> 93.979343 | M237: =SUM($L$4:L237) -> 5248.0638 | N237: =M237/1000 -> 5.2480638 | O237: =Data!$B$4*F237 -> -314.44444 | P237: =L237+K237+O237 -> -53.891301 | Q237: =SUM($P$4:P237)/10000 -> 6.6060569 | R237: =IF(O237<0.0001,0,1) -> 0 | S237: =IF(R237<1,0,1)*(J237*P237) -> 0 | T237: =SUM($S$4:S237) -> 724178.65 | U237: =T237/3600000 -> 0.20116074 | V237: =IF(P237<-0.000001,1,0) -> 1 | W237: =IF(V237<1,0,1*J237*P237) -> -821.84234 | X237: =SUM(W237:W257) -> -99524.734 | Y237: =SUM($W$4:W237) -> -199800.52 | Z237: =Y237/3600000*-1 -> 0.055500144 | AA237: =P237*D237/1000 -> -0.82184234 | AB237: =IF(P237<-0.000001,1,0) -> 1 | AC237: =(0.5*1415*(D237^2-D236^2)/1000) -> -7.8845853 | AD237: =W237*0.8/1000*-1 -> 0.65747387 | AE237: =SUM($AD$4:AD237)/3600 -> 0.044400115
A238: Low | B238: 234 | C238: 234 | D238: =E238/3.6 -> 14.694444 | E238: 52.9 | F238: =($E238-$E236)/2/3.6 -> -0.45833333 | G238: =(E238-0)/2 -> 26.45 | H238: =P238*O238 -> 255986.6 | I238: =SUM($D$4:D238) -> 1396.4444 | J238: =I238-I237 -> 14.694444 | K238: =Data!$B$4*9.81*0.012 -> 166.5738 | L238: =0.5*2.13*1.224*0.31*(D238^2) -> 87.256756 | M238: =SUM($L$4:L238) -> 5335.3206 | N238: =M238/1000 -> 5.3353206 | O238: =Data!$B$4*F238 -> -648.54167 | P238: =L238+K238+O238 -> -394.71111 | Q238: =SUM($P$4:P238)/10000 -> 6.5665858 | R238: =IF(O238<0.0001,0,1) -> 0 | S238: =IF(R238<1,0,1)*(J238*P238) -> 0 | T238: =SUM($S$4:S238) -> 724178.65 | U238: =T238/3600000 -> 0.20116074 | V238: =IF(P238<-0.000001,1,0) -> 1 | W238: =IF(V238<1,0,1*J238*P238) -> -5800.0605 | Y238: =SUM($W$4:W238) -> -205600.58 | Z238: =Y238/3600000*-1 -> 0.057111272 | AA238: =P238*D238/1000 -> -5.8000605 | AB238: =IF(P238<-0.000001,1,0) -> 1 | AC238: =(0.5*1415*(D238^2-D237^2)/1000) -> -11.76983 | AD238: =W238*0.8/1000*-1 -> 4.6400484 | AE238: =SUM($AD$4:AD238)/3600 -> 0.045689018
A239: Low | B239: 235 | C239: 235 | D239: =E239/3.6 -> 14.166667 | E239: 51 | F239: =($E239-$E237)/2/3.6 -> -0.54166667 | G239: =(E239-0)/2 -> 25.5 | H239: =P239*O239 -> 397625.7 | I239: =SUM($D$4:D239) -> 1410.6111 | J239: =I239-I238 -> 14.166667 | K239: =Data!$B$4*9.81*0.012 -> 166.5738 | L239: =0.5*2.13*1.224*0.31*(D239^2) -> 81.101347 | M239: =SUM($L$4:L239) -> 5416.4219 | N239: =M239/1000 -> 5.4164219 | O239: =Data!$B$4*F239 -> -766.45833 | P239: =L239+K239+O239 -> -518.78319 | Q239: =SUM($P$4:P239)/10000 -> 6.5147075 | R239: =IF(O239<0.0001,0,1) -> 0 | S239: =IF(R239<1,0,1)*(J239*P239) -> 0 | T239: =SUM($S$4:S239) -> 724178.65 | U239: =T239/3600000 -> 0.20116074 | V239: =IF(P239<-0.000001,1,0) -> 1 | W239: =IF(V239<1,0,1*J239*P239) -> -7349.4285 | Y239: =SUM($W$4:W239) -> -212950.01 | Z239: =Y239/3600000*-1 -> 0.05915278 | AA239: =P239*D239/1000 -> -7.3494285 | AB239: =IF(P239<-0.000001,1,0) -> 1 | AC239: =(0.5*1415*(D239^2-D238^2)/1000) -> -10.776819 | AD239: =W239*0.8/1000*-1 -> 5.8795428 | AE239: =SUM($AD$4:AD239)/3600 -> 0.047322224
A240: Low | B240: 236 | C240: 236 | D240: =E240/3.6 -> 13.833333 | E240: 49.8 | F240: =($E240-$E238)/2/3.6 -> -0.43055556 | G240: =(E240-0)/2 -> 24.9 | H240: =P240*O240 -> 222573.81 | I240: =SUM($D$4:D240) -> 1424.4444 | J240: =I240-I239 -> 13.833333 | K240: =Data!$B$4*9.81*0.012 -> 166.5738 | L240: =0.5*2.13*1.224*0.31*(D240^2) -> 77.329714 | M240: =SUM($L$4:L240) -> 5493.7516 | N240: =M240/1000 -> 5.4937516 | O240: =Data!$B$4*F240 -> -609.23611 | P240: =L240+K240+O240 -> -365.3326 | Q240: =SUM($P$4:P240)/10000 -> 6.4781742 | R240: =IF(O240<0.0001,0,1) -> 0 | S240: =IF(R240<1,0,1)*(J240*P240) -> 0 | T240: =SUM($S$4:S240) -> 724178.65 | U240: =T240/3600000 -> 0.20116074 | V240: =IF(P240<-0.000001,1,0) -> 1 | W240: =IF(V240<1,0,1*J240*P240) -> -5053.7676 | Y240: =SUM($W$4:W240) -> -218003.78 | Z240: =Y240/3600000*-1 -> 0.060556604 | AA240: =P240*D240/1000 -> -5.0537676 | AB240: =IF(P240<-0.000001,1,0) -> 1 | AC240: =(0.5*1415*(D240^2-D239^2)/1000) -> -6.6033333 | AD240: =W240*0.8/1000*-1 -> 4.0430141 | AE240: =SUM($AD$4:AD240)/3600 -> 0.048445284
A241: Low | B241: 237 | C241: 237 | D241: =E241/3.6 -> 13.666667 | E241: 49.2 | F241: =($E241-$E239)/2/3.6 -> -0.25 | G241: =(E241-0)/2 -> 24.6 | H241: =P241*O241 -> 39513.39 | I241: =SUM($D$4:D241) -> 1438.1111 | J241: =I241-I240 -> 13.666667 | K241: =Data!$B$4*9.81*0.012 -> 166.5738 | L241: =0.5*2.13*1.224*0.31*(D241^2) -> 75.477572 | M241: =SUM($L$4:L241) -> 5569.2292 | N241: =M241/1000 -> 5.5692292 | O241: =Data!$B$4*F241 -> -353.75 | P241: =L241+K241+O241 -> -111.69863 | Q241: =SUM($P$4:P241)/10000 -> 6.4670044 | R241: =IF(O241<0.0001,0,1) -> 0 | S241: =IF(R241<1,0,1)*(J241*P241) -> 0 | T241: =SUM($S$4:S241) -> 724178.65 | U241: =T241/3600000 -> 0.20116074 | V241: =IF(P241<-0.000001,1,0) -> 1 | W241: =IF(V241<1,0,1*J241*P241) -> -1526.5479 | Y241: =SUM($W$4:W241) -> -219530.32 | Z241: =Y241/3600000*-1 -> 0.060980646 | AA241: =P241*D241/1000 -> -1.5265479 | AB241: =IF(P241<-0.000001,1,0) -> 1 | AC241: =(0.5*1415*(D241^2-D240^2)/1000) -> -3.2427083 | AD241: =W241*0.8/1000*-1 -> 1.2212383 | AE241: =SUM($AD$4:AD241)/3600 -> 0.048784516
A242: Low | B242: 238 | C242: 238 | D242: =E242/3.6 -> 13.444444 | E242: 48.4 | F242: =($E242-$E240)/2/3.6 -> -0.19444444 | G242: =(E242-0)/2 -> 24.2 | H242: =P242*O242 -> 9773.5155 | I242: =SUM($D$4:D242) -> 1451.5556 | J242: =I242-I241 -> 13.444444 | K242: =Data!$B$4*9.81*0.012 -> 166.5738 | L242: =0.5*2.13*1.224*0.31*(D242^2) -> 73.042973 | M242: =SUM($L$4:L242) -> 5642.2722 | N242: =M242/1000 -> 5.6422722 | O242: =Data!$B$4*F242 -> -275.13889 | P242: =L242+K242+O242 -> -35.522116 | Q242: =SUM($P$4:P242)/10000 -> 6.4634522 | R242: =IF(O242<0.0001,0,1) -> 0 | S242: =IF(R242<1,0,1)*(J242*P242) -> 0 | T242: =SUM($S$4:S242) -> 724178.65 | U242: =T242/3600000 -> 0.20116074 | V242: =IF(P242<-0.000001,1,0) -> 1 | W242: =IF(V242<1,0,1*J242*P242) -> -477.57511 | Y242: =SUM($W$4:W242) -> -220007.9 | Z242: =Y242/3600000*-1 -> 0.061113305 | AA242: =P242*D242/1000 -> -0.47757511 | AB242: =IF(P242<-0.000001,1,0) -> 1 | AC242: =(0.5*1415*(D242^2-D241^2)/1000) -> -4.2624691 | AD242: =W242*0.8/1000*-1 -> 0.38206009 | AE242: =SUM($AD$4:AD242)/3600 -> 0.048890644
A243: Low | B243: 239 | C243: 239 | D243: =E243/3.6 -> 13.027778 | E243: 46.9 | F243: =($E243-$E241)/2/3.6 -> -0.31944444 | G243: =(E243-0)/2 -> 23.45 | H243: =P243*O243 -> 98021.208 | I243: =SUM($D$4:D243) -> 1464.5833 | J243: =I243-I242 -> 13.027778 | K243: =Data!$B$4*9.81*0.012 -> 166.5738 | L243: =0.5*2.13*1.224*0.31*(D243^2) -> 68.585673 | M243: =SUM($L$4:L243) -> 5710.8579 | N243: =M243/1000 -> 5.7108579 | O243: =Data!$B$4*F243 -> -452.01389 | P243: =L243+K243+O243 -> -216.85442 | Q243: =SUM($P$4:P243)/10000 -> 6.4417667 | R243: =IF(O243<0.0001,0,1) -> 0 | S243: =IF(R243<1,0,1)*(J243*P243) -> 0 | T243: =SUM($S$4:S243) -> 724178.65 | U243: =T243/3600000 -> 0.20116074 | V243: =IF(P243<-0.000001,1,0) -> 1 | W243: =IF(V243<1,0,1*J243*P243) -> -2825.1311 | Y243: =SUM($W$4:W243) -> -222833.03 | Z243: =Y243/3600000*-1 -> 0.061898064 | AA243: =P243*D243/1000 -> -2.8251311 | AB243: =IF(P243<-0.000001,1,0) -> 1 | AC243: =(0.5*1415*(D243^2-D242^2)/1000) -> -7.8037905 | AD243: =W243*0.8/1000*-1 -> 2.2601049 | AE243: =SUM($AD$4:AD243)/3600 -> 0.049518451
A244: Low | B244: 240 | C244: 240 | D244: =E244/3.6 -> 12.305556 | E244: 44.3 | F244: =($E244-$E242)/2/3.6 -> -0.56944444 | G244: =(E244-0)/2 -> 22.15 | H244: =P244*O244 -> 465729.93 | I244: =SUM($D$4:D244) -> 1476.8889 | J244: =I244-I243 -> 12.305556 | K244: =Data!$B$4*9.81*0.012 -> 166.5738 | L244: =0.5*2.13*1.224*0.31*(D244^2) -> 61.192074 | M244: =SUM($L$4:L244) -> 5772.0499 | N244: =M244/1000 -> 5.7720499 | O244: =Data!$B$4*F244 -> -805.76389 | P244: =L244+K244+O244 -> -577.99802 | Q244: =SUM($P$4:P244)/10000 -> 6.3839669 | R244: =IF(O244<0.0001,0,1) -> 0 | S244: =IF(R244<1,0,1)*(J244*P244) -> 0 | T244: =SUM($S$4:S244) -> 724178.65 | U244: =T244/3600000 -> 0.20116074 | V244: =IF(P244<-0.000001,1,0) -> 1 | W244: =IF(V244<1,0,1*J244*P244) -> -7112.5867 | Y244: =SUM($W$4:W244) -> -229945.62 | Z244: =Y244/3600000*-1 -> 0.063873783 | AA244: =P244*D244/1000 -> -7.1125867 | AB244: =IF(P244<-0.000001,1,0) -> 1 | AC244: =(0.5*1415*(D244^2-D243^2)/1000) -> -12.94463 | AD244: =W244*0.8/1000*-1 -> 5.6900694 | AE244: =SUM($AD$4:AD244)/3600 -> 0.051099026
A245: Low | B245: 241 | C245: 241 | D245: =E245/3.6 -> 11.527778 | E245: 41.5 | F245: =($E245-$E243)/2/3.6 -> -0.75 | G245: =(E245-0)/2 -> 20.75 | H245: =P245*O245 -> 892484.73 | I245: =SUM($D$4:D245) -> 1488.4167 | J245: =I245-I244 -> 11.527778 | K245: =Data!$B$4*9.81*0.012 -> 166.5738 | L245: =0.5*2.13*1.224*0.31*(D245^2) -> 53.70119 | M245: =SUM($L$4:L245) -> 5825.7511 | N245: =M245/1000 -> 5.8257511 | O245: =Data!$B$4*F245 -> -1061.25 | P245: =L245+K245+O245 -> -840.97501 | Q245: =SUM($P$4:P245)/10000 -> 6.2998694 | R245: =IF(O245<0.0001,0,1) -> 0 | S245: =IF(R245<1,0,1)*(J245*P245) -> 0 | T245: =SUM($S$4:S245) -> 724178.65 | U245: =T245/3600000 -> 0.20116074 | V245: =IF(P245<-0.000001,1,0) -> 1 | W245: =IF(V245<1,0,1*J245*P245) -> -9694.573 | Y245: =SUM($W$4:W245) -> -239640.19 | Z245: =Y245/3600000*-1 -> 0.066566719 | AA245: =P245*D245/1000 -> -9.694573 | AB245: =IF(P245<-0.000001,1,0) -> 1 | AC245: =(0.5*1415*(D245^2-D244^2)/1000) -> -13.114954 | AD245: =W245*0.8/1000*-1 -> 7.7556584 | AE245: =SUM($AD$4:AD245)/3600 -> 0.053253376
A246: Low | B246: 242 | C246: 242 | D246: =E246/3.6 -> 10.972222 | E246: 39.5 | F246: =($E246-$E244)/2/3.6 -> -0.66666667 | G246: =(E246-0)/2 -> 19.75 | H246: =P246*O246 -> 686850.09 | I246: =SUM($D$4:D246) -> 1499.3889 | J246: =I246-I245 -> 10.972222 | K246: =Data!$B$4*9.81*0.012 -> 166.5738 | L246: =0.5*2.13*1.224*0.31*(D246^2) -> 48.649895 | M246: =SUM($L$4:L246) -> 5874.401 | N246: =M246/1000 -> 5.874401 | O246: =Data!$B$4*F246 -> -943.33333 | P246: =L246+K246+O246 -> -728.10964 | Q246: =SUM($P$4:P246)/10000 -> 6.2270584 | R246: =IF(O246<0.0001,0,1) -> 0 | S246: =IF(R246<1,0,1)*(J246*P246) -> 0 | T246: =SUM($S$4:S246) -> 724178.65 | U246: =T246/3600000 -> 0.20116074 | V246: =IF(P246<-0.000001,1,0) -> 1 | W246: =IF(V246<1,0,1*J246*P246) -> -7988.9808 | Y246: =SUM($W$4:W246) -> -247629.17 | Z246: =Y246/3600000*-1 -> 0.068785881 | AA246: =P246*D246/1000 -> -7.9889808 | AB246: =IF(P246<-0.000001,1,0) -> 1 | AC246: =(0.5*1415*(D246^2-D245^2)/1000) -> -8.84375 | AD246: =W246*0.8/1000*-1 -> 6.3911846 | AE246: =SUM($AD$4:AD246)/3600 -> 0.055028705
A247: Low | B247: 243 | C247: 243 | D247: =E247/3.6 -> 10.277778 | E247: 37 | F247: =($E247-$E245)/2/3.6 -> -0.625 | G247: =(E247-0)/2 -> 18.5 | H247: =P247*O247 -> 597054.51 | I247: =SUM($D$4:D247) -> 1509.6667 | J247: =I247-I246 -> 10.277778 | K247: =Data!$B$4*9.81*0.012 -> 166.5738 | L247: =0.5*2.13*1.224*0.31*(D247^2) -> 42.686561 | M247: =SUM($L$4:L247) -> 5917.0876 | N247: =M247/1000 -> 5.9170876 | O247: =Data!$B$4*F247 -> -884.375 | P247: =L247+K247+O247 -> -675.11464 | Q247: =SUM($P$4:P247)/10000 -> 6.159547 | R247: =IF(O247<0.0001,0,1) -> 0 | S247: =IF(R247<1,0,1)*(J247*P247) -> 0 | T247: =SUM($S$4:S247) -> 724178.65 | U247: =T247/3600000 -> 0.20116074 | V247: =IF(P247<-0.000001,1,0) -> 1 | W247: =IF(V247<1,0,1*J247*P247) -> -6938.6782 | Y247: =SUM($W$4:W247) -> -254567.85 | Z247: =Y247/3600000*-1 -> 0.070713291 | AA247: =P247*D247/1000 -> -6.9386782 | AB247: =IF(P247<-0.000001,1,0) -> 1 | AC247: =(0.5*1415*(D247^2-D246^2)/1000) -> -10.440538 | AD247: =W247*0.8/1000*-1 -> 5.5509426 | AE247: =SUM($AD$4:AD247)/3600 -> 0.056570633
A248: Low | B248: 244 | C248: 244 | D248: =E248/3.6 -> 9.6111111 | E248: 34.6 | F248: =($E248-$E246)/2/3.6 -> -0.68055556 | G248: =(E248-0)/2 -> 17.3 | H248: =P248*O248 -> 730987.22 | I248: =SUM($D$4:D248) -> 1519.2778 | J248: =I248-I247 -> 9.6111111 | K248: =Data!$B$4*9.81*0.012 -> 166.5738 | L248: =0.5*2.13*1.224*0.31*(D248^2) -> 37.328446 | M248: =SUM($L$4:L248) -> 5954.416 | N248: =M248/1000 -> 5.954416 | O248: =Data!$B$4*F248 -> -962.98611 | P248: =L248+K248+O248 -> -759.08386 | Q248: =SUM($P$4:P248)/10000 -> 6.0836386 | R248: =IF(O248<0.0001,0,1) -> 0 | S248: =IF(R248<1,0,1)*(J248*P248) -> 0 | T248: =SUM($S$4:S248) -> 724178.65 | U248: =T248/3600000 -> 0.20116074 | V248: =IF(P248<-0.000001,1,0) -> 1 | W248: =IF(V248<1,0,1*J248*P248) -> -7295.6394 | Y248: =SUM($W$4:W248) -> -261863.49 | Z248: =Y248/3600000*-1 -> 0.072739858 | AA248: =P248*D248/1000 -> -7.2956394 | AB248: =IF(P248<-0.000001,1,0) -> 1 | AC248: =(0.5*1415*(D248^2-D247^2)/1000) -> -9.3809259 | AD248: =W248*0.8/1000*-1 -> 5.8365115 | AE248: =SUM($AD$4:AD248)/3600 -> 0.058191886
A249: Low | B249: 245 | C249: 245 | D249: =E249/3.6 -> 8.9722222 | E249: 32.3 | F249: =($E249-$E247)/2/3.6 -> -0.65277778 | G249: =(E249-0)/2 -> 16.15 | H249: =P249*O249 -> 669276.86 | I249: =SUM($D$4:D249) -> 1528.25 | J249: =I249-I248 -> 8.9722222 | K249: =Data!$B$4*9.81*0.012 -> 166.5738 | L249: =0.5*2.13*1.224*0.31*(D249^2) -> 32.530652 | M249: =SUM($L$4:L249) -> 5986.9467 | N249: =M249/1000 -> 5.9869467 | O249: =Data!$B$4*F249 -> -923.68056 | P249: =L249+K249+O249 -> -724.5761 | Q249: =SUM($P$4:P249)/10000 -> 6.011181 | R249: =IF(O249<0.0001,0,1) -> 0 | S249: =IF(R249<1,0,1)*(J249*P249) -> 0 | T249: =SUM($S$4:S249) -> 724178.65 | U249: =T249/3600000 -> 0.20116074 | V249: =IF(P249<-0.000001,1,0) -> 1 | W249: =IF(V249<1,0,1*J249*P249) -> -6501.0578 | Y249: =SUM($W$4:W249) -> -268364.55 | Z249: =Y249/3600000*-1 -> 0.074545707 | AA249: =P249*D249/1000 -> -6.5010578 | AB249: =IF(P249<-0.000001,1,0) -> 1 | AC249: =(0.5*1415*(D249^2-D248^2)/1000) -> -8.3999248 | AD249: =W249*0.8/1000*-1 -> 5.2008463 | AE249: =SUM($AD$4:AD249)/3600 -> 0.059636566
... A259: Low | B259: 255 | C259: 255 | D259: =E259/3.6 -> 4.8333333 | E259: 17.4 | F259: =($E259-$E257)/2/3.6 -> -0.055555556 | G259: =(E259-0)/2 -> 8.7 | H259: =P259*O259 -> -7656.9579 | I259: =SUM($D$4:D259) -> 1586.1667 | J259: =I259-I258 -> 4.8333333 | K259: =Data!$B$4*9.81*0.012 -> 166.5738 | L259: =0.5*2.13*1.224*0.31*(D259^2) -> 9.4403091 | M259: =SUM($L$4:L259) -> 6126.3896 | N259: =M259/1000 -> 6.1263896 | O259: =Data!$B$4*F259 -> -78.611111 | P259: =L259+K259+O259 -> 97.402998 | Q259: =SUM($P$4:P259)/10000 -> 5.568706 | R259: =IF(O259<0.0001,0,1) -> 0 | S259: =IF(R259<1,0,1)*(J259*P259) -> 0 | T259: =SUM($S$4:S259) -> 724178.65 | U259: =T259/3600000 -> 0.20116074 | V259: =IF(P259<-0.000001,1,0) -> 0 | W259: =IF(V259<1,0,1*J259*P259) -> 0 | Y259: =SUM($W$4:W259) -> -298503.41 | Z259: =Y259/3600000*-1 -> 0.082917614 | AA259: =P259*D259/1000 -> 0.47078116 | AB259: =IF(P259<-0.000001,1,0) -> 0 | AC259: =(0.5*1415*(D259^2-D258^2)/1000) -> -0.76864198 | AD259: =W259*0.8/1000*-1 -> 0 | AE259: =SUM($AD$4:AD259)/3600 -> 0.066334091
A260: Low | B260: 256 | C260: 256 | D260: =E260/3.6 -> 4.3611111 | E260: 15.7 | F260: =($E260-$E258)/2/3.6 -> -0.29166667 | G260: =(E260-0)/2 -> 7.85 | H260: =P260*O260 -> 98409.794 | I260: =SUM($D$4:D260) -> 1590.5278 | J260: =I260-I259 -> 4.3611111 | K260: =Data!$B$4*9.81*0.012 -> 166.5738 | L260: =0.5*2.13*1.224*0.31*(D260^2) -> 7.6857636 | M260: =SUM($L$4:L260) -> 6134.0753 | N260: =M260/1000 -> 6.1340753 | O260: =Data!$B$4*F260 -> -412.70833 | P260: =L260+K260+O260 -> -238.44877 | Q260: =SUM($P$4:P260)/10000 -> 5.5448611 | R260: =IF(O260<0.0001,0,1) -> 0 | S260: =IF(R260<1,0,1)*(J260*P260) -> 0 | T260: =SUM($S$4:S260) -> 724178.65 | U260: =T260/3600000 -> 0.20116074 | V260: =IF(P260<-0.000001,1,0) -> 1 | W260: =IF(V260<1,0,1*J260*P260) -> -1039.9016 | X260: =SUM(W260:W261) -> -2638.1278 | Y260: =SUM($W$4:W260) -> -299543.31 | Z260: =Y260/3600000*-1 -> 0.083206476 | AA260: =P260*D260/1000 -> -1.0399016 | AB260: =IF(P260<-0.000001,1,0) -> 1 | AC260: =(0.5*1415*(D260^2-D259^2)/1000) -> -3.0718383 | AD260: =W260*0.8/1000*-1 -> 0.83192126 | AE260: =SUM($AD$4:AD260)/3600 -> 0.066565181
A261: Low | B261: 257 | C261: 257 | D261: =E261/3.6 -> 4.0277778 | E261: 14.5 | F261: =($E261-$E259)/2/3.6 -> -0.40277778 | G261: =(E261-0)/2 -> 7.25 | H261: =P261*O261 -> 226149.01 | I261: =SUM($D$4:D261) -> 1594.5556 | J261: =I261-I260 -> 4.0277778 | K261: =Data!$B$4*9.81*0.012 -> 166.5738 | L261: =0.5*2.13*1.224*0.31*(D261^2) -> 6.5557702 | M261: =SUM($L$4:L261) -> 6140.6311 | N261: =M261/1000 -> 6.1406311 | O261: =Data!$B$4*F261 -> -569.93056 | P261: =L261+K261+O261 -> -396.80099 | Q261: =SUM($P$4:P261)/10000 -> 5.505181 | R261: =IF(O261<0.0001,0,1) -> 0 | S261: =IF(R261<1,0,1)*(J261*P261) -> 0 | T261: =SUM($S$4:S261) -> 724178.65 | U261: =T261/3600000 -> 0.20116074 | V261: =IF(P261<-0.000001,1,0) -> 1 | W261: =IF(V261<1,0,1*J261*P261) -> -1598.2262 | Y261: =SUM($W$4:W261) -> -301141.54 | Z261: =Y261/3600000*-1 -> 0.083650427 | AA261: =P261*D261/1000 -> -1.5982262 | AB261: =IF(P261<-0.000001,1,0) -> 1 | AC261: =(0.5*1415*(D261^2-D260^2)/1000) -> -1.9783796 | AD261: =W261*0.8/1000*-1 -> 1.278581 | AE261: =SUM($AD$4:AD261)/3600 -> 0.066920342
A262: Low | B262: 258 | C262: 258 | D262: =E262/3.6 -> 4.2777778 | E262: 15.4 | F262: =($E262-$E260)/2/3.6 -> -0.041666667 | G262: =(E262-0)/2 -> 7.7 | H262: =P262*O262 -> -6780.8164 | I262: =SUM($D$4:D262) -> 1598.8333 | J262: =I262-I261 -> 4.2777778 | K262: =Data!$B$4*9.81*0.012 -> 166.5738 | L262: =0.5*2.13*1.224*0.31*(D262^2) -> 7.3948464 | M262: =SUM($L$4:L262) -> 6148.0259 | N262: =M262/1000 -> 6.1480259 | O262: =Data!$B$4*F262 -> -58.958333 | P262: =L262+K262+O262 -> 115.01031 | Q262: =SUM($P$4:P262)/10000 -> 5.5166821 | R262: =IF(O262<0.0001,0,1) -> 0 | S262: =IF(R262<1,0,1)*(J262*P262) -> 0 | T262: =SUM($S$4:S262) -> 724178.65 | U262: =T262/3600000 -> 0.20116074 | V262: =IF(P262<-0.000001,1,0) -> 0 | W262: =IF(V262<1,0,1*J262*P262) -> 0 | Y262: =SUM($W$4:W262) -> -301141.54 | Z262: =Y262/3600000*-1 -> 0.083650427 | AA262: =P262*D262/1000 -> 0.49198856 | AB262: =IF(P262<-0.000001,1,0) -> 0 | AC262: =(0.5*1415*(D262^2-D261^2)/1000) -> 1.4690451 | AD262: =W262*0.8/1000*-1 -> 0 | AE262: =SUM($AD$4:AD262)/3600 -> 0.066920342
...

Sheet Data
A2: area m3 | B2: 2.13 | G2: duration | H2: stop duration | I2: distance | J2: p_stop | K2: v_max | L2: v_ave without stops | M2: v_ave with stops | N2: a_min | O2: a_max
A3: drag coefficent | B3: 0.31 | G3: s | H3: s | I3: m | K3: km/h | L3: km/h | M3: km/h | N3: m/s² | O3: m/s²
A4: weight | B4: =1320+95 -> 1415 | F4: low | G4: 589 | H4: 156 | I4: 3095 | J4: 0.265 | K4: 56.5 | L4: 25.7 | M4: 18.9 | N4: -1.47 | O4: 1.47
A5: Rolling resistance | B5: 0.012 | F5: medium | G5: 433 | H5: 48 | I5: 4756 | J5: 0.111 | K5: 76.6 | L5: 44.5 | M5: 39.5 | N5: -1.49 | O5: 1.57
F6: high | G6: 455 | H6: 31 | I6: 7158 | J6: 0.068 | K6: 97.4 | L6: 60.8 | M6: 56.6 | N6: -1.49 | O6: 1.58
F7: extra high | G7: 323 | H7: 7 | I7: 8254 | J7: 0.022 | K7: 131.3 | L7: 94 | M7: 92 | N7: -1.21 | O7: 1.03
G8: 1800 | H8: 242 | I8: 23262
A14: energy
A15: total tractive | B15: 9775.7531 | C15: KJ
A16: total breaking | B16: 2497.7932 | C16: KJ | D16: breaking time | E16: 436
A17: total losses | B17: =B15-B16 -> 7277.9599 | D17: breaking | E17: 62
A18: max breaking | B18: 242.86406 | D18: average break time | E18: =E16/E17 -> 7.0322581 | F18: power req | G18: =B18/E18 -> 34.535715 | H18: kj

Sheet Graphs
AJ62: 0
