Workbook
Name ____INF1: #REF!
Name ____INF1: #REF!
Name ____INF2: #REF!
Name ____INF2: #REF!
Name ___INF1: #REF!
Name ___INF1: #REF!
Name ___INF2: #REF!
Name ___INF2: #REF!
Name __INF1: #REF!
Name __INF1: #REF!
Name __INF2: #REF!
Name __INF2: #REF!
Name _bar1: #REF!
Name _bar1: #REF!
Name _boh1: #REF!
Name _boh1: #REF!
Name _foh1: #REF!
Name _foh1: #REF!
Name _INF1: #REF!
Name _INF1: #REF!
Name _INF2: #REF!
Name _INF2: #REF!
Name Accept: [0]!Accept
Name Access: '[1]KING INPUT SHEET'!$D$28
Name ADDRESS1: #REF!
Name ADDRESS1: #REF!
Name ADDRESS2: #REF!
Name ADDRESS2: #REF!
Name admin1: #REF!
Name admin1: #REF!
Name Area: [2]Indices!$D$2:$F$81
Name BASE_DATE: '[3]Master Data Sheet'!$D$41
Name Base_Date: '[4]PROJECT INPUTS'!$E$9
Name bathrooms1: #REF!
Name bathrooms1: #REF!
Name BCIS_Location: [5]Library!$H$15:$I$94
Name BCIS_TPI: [5]Library!$K$15:$L$44
Name bedroomcorridors1: #REF!
Name bedroomcorridors1: #REF!
Name bedrooms1: #REF!
Name bedrooms1: #REF!
Name Beds: [6]DATA!$F$13
Name BlockABath: '[7]Block A - Data'!$H$54
Name BlockAens: '[7]Block A - Data'!$H$55
Name BlockAGIA: '[7]Block A - Data'!$E$31
Name BlockANIA: '[7]Block A - Data'!$G$31
Name BlockAUnits: '[7]Block A - Data'!$H$49
Name BlockBbath: '[7]Block B - Data'!$H$56
Name BlockBens: '[7]Block B - Data'!$H$57
Name BlockBGIA: '[7]Block B - Data'!$E$31
Name BlockBNIA: '[7]Block B - Data'!$G$31
Name BlockBUnits: '[7]Block B - Data'!$H$51
Name BlockCBath: '[7]Block C - Data'!$H$55
Name BlockCEns: '[7]Block C - Data'!$H$56
Name BlockCGIA: '[7]Block C - Data'!$E$31
Name BlockCNIA: '[7]Block C - Data'!$G$31
Name BlockCUnits: '[7]Block C - Data'!$H$50
Name BlockDBath: '[7]Block D - Data'!$H$60
Name BlockDEns: '[7]Block D - Data'!$H$61
Name BlockDGIA: '[7]Block D - Data'!$E$35

Sheet Front

Sheet Status
B2: NRM1 Elemental Cost Plan Template
B4: 06th February 2023
B12: Document Status
B13: Revision | C13: Date | D13: Status | E13: Prepared by | F13: Checked by | G13: Authorised by
B14: Rev A | C14: =C15-14 -> 44876 | E14: James Lloyd
B15: Rev B | C15: =C16-14 -> 44890 | E15: James Lloyd
B16: Rev C | C16: =C17-14 -> 44904 | E16: James Lloyd
B17: Rev D | C17: =C18-14 -> 44918 | E17: James Lloyd
B18: Rev E | C18: =C19-14 -> 44932 | E18: James Lloyd
B19: Rev F | C19: =C20-14 -> 44946 | E19: James Lloyd
B20: Rev G | C20: 44960 | E20: James Lloyd
B23: DISCLAIMER
B25: This document and its contents have been prepared and are intended solely for Ceri Jones information and use in relation to 'Innovation Matrix'
B26: Faithful+Gould assumes no responsibility to any other party in respect of or arising out of or in connection with this document and/or its contents.
B28: COPYRIGHT
B30: The copyright of this document is vested in Faithful+Gould. This document may not be reproduced in whole or in part without their express written permission.

Sheet Information Used
B4: Information Used & Assumptions
B6: 1 | C6: Information Used
C8: Design Drawings;
C10: 152481-STL-XX-XX-DR-A-PL_0003-Existing Site Plan
C11: 152481-STL-XX-00-DR-A-PL_011-Proposed Landscape Plan
C12: 152481-STL-XX-00-DR-A-PL_0103-Ground Floor Shell & Core
C13: 152481-STL-XX-01-DR-A-PL_0104-First Floor Shell & Core
C14: 152481-STL-XX-XX-DR-A-PL_0105-Roof Plan - Full Building
C15: 152481-STL-XX-XX-DR-A-PL_0201-Elevations GA
C16: 152481-STL-XX-XX-DR-A-PL_0202-Elevation Detail 01
C17: 152481-STL-XX-XX-DR-A-PL_0203-Elevation Detail 02
C18: 152481-STL-XX-XX-DR-A-PL_0301-Section
C19: 152481-STL-XX-XX-DR-A-PL_0501-Ground Floor Layout - Full Building
C20: 152481-STL-XX-XX-DR-A-PL_0502-First Floor Layout - Full Building
B22: 2 | C22: General Assumptions;
C24: External Works is excluded unless specifically identified within the cost plan.
C25: Cavity Wall with no insulation is assumed.
C26: Costs are based upon the information as provided.
C27: We have assumed a project bank account will not be required for this scheme.
C28: We have assumed that the area of works will be decanted for the project. No allowance is made for throughways or dealing with building occupants.
C29: The exact nature of specification for internal doors, screens, folding partitions and finishes is assumed.
C30: All costs are provisional awaiting design development.
C31: All base costs are based on Q42022
B33: 3 | C33: General Notes and Exclusions;
C35: All included costs are subject to variation following design development.
C36: Land Costs
C37: A risk allowance of 10% is included for this estimate.
C38: VAT is excluded from the estimate.
C39: Works will be undertaken in a single phase.
C40: Local Authority Fees
C41: Building Regulation fees
C42: Party Wall Awards
C43: Acquisition & associated legals

Sheet Summary Original
B2: Project details: Innovation Matrix
B4: Building Works Estimate
B6: Based on GIA of: 1,950m2 | H6: 1950
C8: Group Element | D8: Element Type | E8: Total | F8: £/m2
C10: Group element 0 | D10: FACILITATING WORKS | E10: ='NRM1 CP template '!K11 -> 205000 | F10: =E10/H6 -> 105.12821
C11: Group element 1 | D11: ='NRM1 CP template '!C19 -> SUBSTRUCTURE | E11: ='NRM1 CP template '!K19 -> 404250 | F11: =E11/H6 -> 207.30769
C12: Group element 2 | D12: ='NRM1 CP template '!C26 -> SUPERSTRUCTURE | E12: ='NRM1 CP template '!K26 -> 3032437.5 | F12: =E12/H6 -> 1555.0962
C13: Group element 3 | D13: ='NRM1 CP template '!C163 -> INTERNAL FINISHES | E13: ='NRM1 CP template '!K163 -> 184845 | F13: =E13/H6 -> 94.792308
C14: Group element 4 | D14: ='NRM1 CP template '!C260 -> FITTINGS AND FURNISHINGS | E14: ='NRM1 CP template '!K260 -> 0 | F14: =E14/H6 -> 0
C15: Group element 5 | D15: ='NRM1 CP template '!C266 -> SERVICES | E15: ='NRM1 CP template '!K266 -> 979307.5 | F15: =E15/H6 -> 502.20897
C16: Group element 8 | D16: EXTERNAL WORKS - Not Included within Scope of Works | E16: 0 | F16: =E16/H6 -> 0
C17: Group element 9 | D17: ='NRM1 CP template '!C302 -> MAIN CONTRACTOR'S PRELIMINARIES | E17: ='NRM1 CP template '!K302 -> 828151.2 | F17: =E17/H6 -> 424.69292
B19: Works cost estimate (sub total A) | E19: =SUM(E9:E18) -> 5633991.2 | F19: =E19/189 -> 29809.477
B21: Location Factor Calculator
C23: Current TPI | D23: 1.24
C24: Forecasted 2022 Q4 TPI | D24: 1.284
E25: =(E19/D23)*D24 -> 5833907
C27: Wales Location Factor | D27: 0.85
E28: =E25*D27 -> 4958821
B29: Prov Sums (sub total B)
C31: Internal Screens to Classrooms | E31: 11600
C32: University Fittings, Furniture & Equipment Fit-Out | E32: 150000
C33: External Works (Hard & Soft Landscaping) | E33: 35000
E35: =SUM(E31:E33) -> 196600
B37: Base cost estimate A + B (sub total C) | E37: =E28+E35 -> 5155421 | F37: =F19 -> 29809.477
C39: Group element 13
C41: Design Contingency | D41: Risk allowance @ 2.5% | E41: =E37*2.5% -> 128885.52 | F41: =E41/H6 -> 66.095141
C42: Construction Risk | D42: Risk allowance @ 2.5% | E42: =E37*2.5% -> 128885.52 | F42: =E42/H6 -> 66.095141
C43: Employers Change Risk | D43: Risk allowance @ 2.5% | E43: =E37*2.5% -> 128885.52 | F43: =E43/H6 -> 66.095141
C44: Other Mis. Risk | D44: Risk allowance @ 2.5% | E44: =E37*2.5% -> 128885.52 | F44: =E44/H6 -> 66.095141
B46: Total Risk allowances (sub total D) | E46: =SUM(E41:E45) -> 515542.1 | F46: =E46/H6 -> 264.38056
B48: Total Construction Cost (C + D) | E48: =E37+E46 -> 5670963.1 | F48: =E48/H6 -> 2908.1862

Sheet NRM1 CP template 
A2: Cost Plan for Innovation Matrix
A3: NRM 1 phaseologies
A4: Elemental Cost Plan
C6: Elements in red are NRM1 Phraseologies
A8: Ref. | C8: Element | D8: Timesing | E8: Quantity | G8: Unit | I8: Rate | J8: Sub-Total | K8: Group-Total | L8: Notes
I9: £ | J9: £ | K9: £
A11: 0 | C11: Facilitating Works | K11: =SUM(J11:J18) -> 205000
A13: 0.1 | C13: Facilitating Works
A15: 0.1.2 | C15: Demolition Works | F15: 1 | G15: nr | I15: 150000 | J15: =F15*I15 -> 150000 | L15: As per Query Sheet Nr 01
A17: 0.1.2 | C17: Drainage Adaptions | F17: 1 | G17: nr | I17: 55000 | J17: =F17*I17 -> 55000 | L17: As per Query Sheet Nr 01
A19: 1 | C19: SUBSTRUCTURE | K19: =SUM(J19:J24) -> 404250
A21: 1.1 | C21: Foundations | E21: =ROUNDUP(SUM(26.54+(0.5*2)),0) -> 28
E22: =ROUNDUP(SUM(75.98+(0.5*2)),0) -> 77 | F22: =(E21*E22) -> 2156
F23: =F22 -> 2156
A24: 1.1.1 | C24: Raft foundations; simple reinforced concrete raft on poorer ground for development | F24: =ROUND(F23,0) -> 2156 | G24: m2 | I24: 187.5 | J24: =F24*I24 -> 404250 | L24: Take-off attached under '01-Foundations' Spons Pg. 182
A26: 2 | C26: SUPERSTRUCTURE | K26: =SUM(J26:J163) -> 3032437.5
A28: 2.1 | C28: Frame | E28: =ROUNDUP(SUM(26.54-(0.5*2)),0) -> 26
E29: =ROUNDUP(SUM(75.98-(0.5*2)),0) -> 75 | F29: =(E28*E29) -> 1950
F30: =F29 -> 1950
A32: 2.1.1 | C32: Steel frame; suspended slab; permanent steel shuttering with 130mm thick concrete; no coverings or finishes | F32: =ROUND(F30,0) -> 1950 | G32: m2 | I32: 300 | J32: =F32*I32 -> 585000 | L32: As per Query Sheet Nr 02
A34: 2.2 | C34: Upper Floors | E34: 562.86
E35: 178.91
E36: =516.78-(3.07*2) -> 510.64 | F36: =(E34+E35+E36) -> 1252.41
F37: =F36 -> 1252.41
A39: 2.2.1 | C39: Precast concrete suspended floors; steel decking | F39: =ROUND(F37,0) -> 1252 | G39: m2 | I39: Incl. | J39: Incl. | L39: Included within Steel Frame Price
A41: 2.3 | C41: Roof | D41: 2 | E41: 13.57
E42: 76 | F42: =(E41*E42)*D41 -> 2062.64
F43: =SUM(F42) -> 2062.64
A45: 2.3.1 | C45: Kingspan Box Profiled insulated Wall Panel KS1000 FCColour TBC. Shown RAL 8019 | F45: =ROUND(F43,0) -> 2063 | G45: m2 | I45: 450 | J45: =F45*I45 -> 928350 | L45: Take-off attached under '04-Roofing' As per Query Sheet Nr 03
E47: 64 | F47: =E47 -> 64
F48: =SUM(F47) -> 64
A50: 2.3.5 | C50: Day-Lite Trapezodial Rooflight Plus KS1000 DLTR Plus Rooflights | F50: =ROUND(F48,0) -> 64 | G50: nr | I50: 3000 | J50: =F50*I50 -> 192000 | L50: As per Query Sheet Nr 03
A52: 2.4 | C52: Stairs & Ramps | E52: 5 | L52: Number of flights
A54: 2.4.1 | C54: Staircase; terrazzo finish; mild steel balustrades and handrails; plastered and decorated soffit | F54: =E52 -> 5 | G54: no | I54: 10850 | J54: =F54*I54 -> 54250 | L54: Spons Pg. 194
A56: 2.5 | C56: External Walls
E58: 647.58 | L58: Perimeter Calculation
E59: 647.38 | L59: 8.3
E60: 68.17 | L60: 8.3
E61: 70.39 | F61: =E58+E59+E60+E61 -> 1433.52 | L61: 11.65
F62: =F61 -> 1433.52 | L62: 11.65
...
