Workbook

Sheet Specifications (CW1)
B2: ACEA7007-Hybrid Powertrain and Control
B3: Series Hybrid Vehicle(CW1)
B5: Renegade Data/ Test Specifications | D5: Gear Ratios | E5: Input | F5: Output | G5: Ratio | H5: Overall Ratio | I5: Top Speed(km/hr) | J5: Top Speed (m/s)
B6: Engine Speed(Max)(RPM) | C6: 6500 | D6: 1st | E6: 11 | F6: 29 | G6: =F6/E6 -> 2.6363636 | H6: =G10*G9*G6 -> 22.729221 | I6: =C6*C13/(H6*2652) -> 27.389809 | J6: =I6/3.6 -> 7.6082803
B7: Torque(Max) | C7: 22 | D7: 2nd | E7: 15 | F7: 29 | G7: =F7/E7 -> 1.9333333 | H7: =G10*G9*G7 -> 16.668095 | I7: =C6*C13/(H7*2652) -> 37.34974 | J7: =I7/3.6 -> 10.374928
B8: Power Developed | C8: 18000 W | D8: 3rd | E8: 21 | F8: 31 | G8: =F8/E8 -> 1.4761905 | H8: =G9*G10*G8 -> 12.726871 | I8: =C6*C13/(H8*2652) -> 48.916111 | J8: =I8/3.6 -> 13.587809
B9: Frontal Area (Tyre+Body)(m^2) | C9: 1.151 | D9: Final Drive | E9: 15 | F9: 51 | G9: =F9/E9 -> 3.4 | H9: NA | I9: NA | J9: NA
B10: Coefficient of Drag | C10: 0.95 | D10: Primary Drive | E10: 28 | F10: 71 | G10: =F10/E10 -> 2.5357143 | H10: NA | I10: NA | J10: NA
B11: Air Density | C11: 1.167
B12: Front Wheel Radius (mm) | C12: 304.8 | D12: Forces Acting(N) | E12: Aero Drag (N) | F12: Rolling resistance (Asphalt)(N) | G12: Rolling resistance (Gravel)(N) | H12: Rolling resistance (Sand)(N) | I12: Rolling resistance (Mud)(N) | J12: Rolling resistance (Loose Soil )(N) | K12: Gradient Resistance(Sector 2)
B13: Rear wheel Radius (mm) | C13: 254 | D13: Gear 1 | E13: =0.5*C11*C10*C9*J6^2 -> 36.932848 | F13: =C18*C17*9.81 -> 103.005 | G13: =$C$19*9.81*$C$17 -> 128.75625 | H13: =C$20*9.81*C$17 -> 1545.075 | I13: =C$21*9.81*C$17 -> 1030.05 | J13: =9.81*C$22*C$17 -> 515.025 | K13: 2163.96
B14: Driver + Passenger (kg) | C14: 144 | D14: Gear 2 | E14: =0.5*C11*C10*C9*J7^2 -> 68.676784 | F14: 103 | G14: =$C$19*9.81*$C$17 -> 128.75625 | H14: =C$20*9.81*C$17 -> 1545.075 | I14: =C$21*9.81*C$17 -> 1030.05 | J14: =9.81*C$22*C$17 -> 515.025 | K14: 2163.96
B15: Fuel + Oil(kg) | C15: 16.11 | D15: Gear 3 | E15: =0.5*C11*C10*C9*J8^2 -> 117.79819 | F15: 103 | G15: =$C$19*9.81*$C$17 -> 128.75625 | H15: =C$20*9.81*C$17 -> 1545.075 | I15: =C$21*9.81*C$17 -> 1030.05 | J15: =9.81*C$22*C$17 -> 515.025 | K15: 2163.96
B16: Kerb Weight(Kg) | C16: 345 | D16: Total Resistance(N) | F16: Total Resistance Sector 1 | G16: Total Resistance Sector 2 | H16: Total Resistance Sector 3 | I16: Total Resistance Sector 4 | J16: Total Resistance Sector 5
B17: Test Mass(kg) | C17: 525 | D17: Gear 1 | F17: =E13+F13 -> 139.93785 | G17: =E$13+G$13+K$13 -> 2329.6491 | H17: =E13+H13 -> 1582.0078 | I17: =E13+I13 -> 1066.9828 | J17: =E13+J13 -> 551.95785
B18: μR(Asphalt) | C18: 0.02 | D18: Gear 2 | F18: =E14+F14 -> 171.67678 | G18: =E14+G14+K14 -> 2361.393 | H18: =E14+H14 -> 1613.7518 | I18: =E14+I14 -> 1098.7268 | J18: =E14+J14 -> 583.70178
B19: μR(Gravel) | C19: 0.025 | D19: Gear 3 | F19: =E15+F15 -> 220.79819 | G19: =E15+G15+K15 -> 2410.5144 | H19: =E15+H15 -> 1662.8732 | I19: =E15+I15 -> 1147.8482 | J19: =E15+J15 -> 632.82319
B20: μR(Sand) | C20: 0.3 | D20: Power Required(W) | F20: Sector 1 | G20: Sector 2 | H20: Sector 3 | I20: Sector 4 | J20: Sector 5
B21: μR(Mud) | C21: 0.2 | D21: Gear 1 | F21: =F17*J6 -> 1064.6864 | G21: =G$17*J$6 -> 17724.623 | H21: =H17*J6 -> 12036.359 | I21: =J6*I17 -> 8117.9046 | J21: =J17*J6 -> 4199.45
B22: μR(Loose Soil) | C22: 0.1 | D22: Gear 2 | F22: =F18*J7 -> 1781.1342 | G22: =G18*J7 -> 24499.282 | H22: =H18*J7 -> 16742.558 | I22: =I18*J7 -> 11399.211 | J22: =J7*J18 -> 6055.8638
B23: Wheelbase (mm) | C23: 1940 | D23: Gear 3 | F23: =F19*J8 -> 3000.1636 | G23: =G19*J8 -> 32753.609 | H23: =J8*H19 -> 22594.803 | I23: =I19*J8 -> 15596.741 | J23: =J8*J19 -> 8598.6804
B24: Height of COG from Ground(mm) | C24: 488
B25: Distance of COG from Front Wheel Centre | C25: 1070
B26: Distance of COG from Rear Wheel Centre | C26: 870 | E26: Radius (m) | F26: Inertia (Kgm^2) | G26: Transmission Ratio | H26: Velocity Ratio | I26: Crankshaft(Velocity Ratio) | J26: Gearbox (Velocity Ratio )
B27: Angle of Buggy Lifted ( Degrees) | C27: 18 | D27: Front Wheel | E27: 0.304 | F27: 1.25 | G27: - | H27: =1/E27 -> 3.2894737 | I27: - | J27: -
B28: Angle of Buggy Lifted (Radians) | C28: =C27*(PI()/180) -> 0.31415927 | D28: Rear Wheel | E28: 0.254 | F28: 0.87 | G28: - | H28: =1/E28 -> 3.9370079 | I28: - | J28: -
B29: Load on Rear Wheel (Kg) | C29: 207 | D29: Crankshaft | F29: 0.06 | G29: 2.536 | H29: - | I29: - | J29: -
B30: Load on Rear Wheel Lifted (Kg) | C30: 193 | D30: Gearbox Output Shaft | F30: 0.02 | G30: 3.4 | H30: =(1/E28)*G30 -> 13.385827 | I30: - | J30: -
B31: YCOG | C31: =(C29*C23)/C17 -> 764.91429 | D31: Gearbox Input Shaft(Gear 1) | F31: 0.05 | G31: 2.636 | H31: =G30*G31*1/E28 -> 35.285039 | I31: =G31*G30*G29*1/E28 -> 89.48286 | J31: =G6*G30*1/E28 -> 35.289907
B32: XCOG | C32: =(C23*(C29-C30))/(C16*TAN(C28))+279.4 -> 521.68952 | D32: Gearbox Input Shaft(Gear 2) | F32: 0.05 | G32: 1.933 | H32: =G32*G30*1/E28 -> 25.874803 | I32: =G32*G30*G29*1/E28 -> 65.618501 | J32: ='[1]Reduced mass'!$D$9 -> 20.041667
B33: Fastest Velocity in 10 Meter | C33: =SQRT(#REF!^2+2*$C$38*#REF!) -> #REF! | D33: Gearbox Input Shaft(Gear 3) | F33: 0.05 | G33: 1.476 | H33: =G33*G30*1/E28 -> 19.75748 | I33: =G33*G30*G29*1/E28 -> 50.10497 | J33: =G8*G30*1/E28 -> 19.76003
B34: Speed 6500 rpm (1st) | C34: =I6 -> 27.389809
B35: Drive Torque at Shaft | C35: =C7*0.97*G6 -> 56.26
B36: Drive Torque at Rear Wheels | C36: =G9*0.94*C35 -> 179.80696
B37: Force | C37: =(C36/0.254) -> 707.90142
B38: Acceleration | C38: =C37/(C15+C16) -> 1.9603484
B39: Tyre Mass(kg) | C39: 10.2
B40: Wheel Mass(kg) | C40: 6.4
B41: Total Mass of assembly(kg) | C41: =C40+C39 -> 16.6
B42: Kfront | C42: =C12*0.9/1000 -> 0.27432
B43: Speed 6500 rpm (1st) | C43: =C13*0.9/1000 -> 0.2286
B44: Inertia Front | C44: =C41*C42^2 -> 1.2491743
B45: Inertia Rear | C45: =C41*C43^2 -> 0.86748214
B46: Inertia Engine | C46: 0.17
B47: Reduced Mass - Gear 1 | C47: =540+(4*((C45/0.245^2)+C46*(G6^2/0.245^2))) -> 676.5466
B48: Reduced Mass - Gear 2 | C48: =540+(4*((C45/0.245^2)+C46*(G7^2/0.245^2))) -> 640.15189
B49: Reduced Mass - Gear 3 | C49: =540+(4*((C45/0.245^2)+C46*(G8^2/0.245^2))) -> 622.49467

Sheet CW1
A2: Straight
A3: Braking Zone
A4: Corner | D4: Renegade Dx-10C Dual Purpose Circuit Lap Simulation
C5: Track Position | D5: Gear | E5: Sector | F5: Distance | G5: Time(s) | H5: Speed (Kmph) | I5: Speed (m/s) | J5: Acceleration(m/s^2) | K5: Aero (N) | L5: Rolling (N) | M5: Acceleration(N) | N5: Gradient(N) | O5: TTE(N) | P5: Power Required (kw) | Q5: RPM | R5: Power(hp) | S5: Torque(Nm) | T5: Torque | U5: Rounded RPM | V5: TORQUE INDEX | W5: RPM INDEX | X5: BSFC
C6: STRAIGHT | D6: 1 | E6: 1 | F6: 0 | G6: 0 | H6: 0 | I6: 0 | J6: =0.97 -> 0.97 | K6: =0.5*1.167*0.95*1.151*I6^2 -> 0 | L6: 103 | M6: =J6*525 -> 509.25 | N6: 0 | O6: =K6+L6+M6+N6 -> 612.25 | P6: =(O6*I6)/1000 -> 0 | Q6: =VLOOKUP(H6,AA7:AB68,2,TRUE) -> 0 | R6: =VLOOKUP(Q6,$AG$7:$AH$68,2,FALSE) -> 0 | S6: 0 | U6: =MROUND(Q6,500) -> 0 | V6: =MATCH(T6,$AJ$7:$AJ$29,0) -> 23 | W6: 0 | X6: 0 | Y6: =R6*0.7457 -> 0 | AA6: Speed Gear 1(kmph) | AB6: RPM | AC6: Speed gear 2(kmph) | AD6: RPM | AE6: Speed Gear 3 (kmph) | AF6: RPM | AG6: RPM | AH6: Power (HP) | AI6: Torque (Nm) | AJ6: Torque Nm | AK6: 500 | AL6: 1000 | AM6: 1500 | AN6: 2000 | AO6: 2500 | AP6: 3000 | AQ6: 3500 | AR6: 4000 | AS6: 4500 | AT6: 5000 | AU6: 5500 | AV6: 6000 | AW6: 6500 | AX6: 7000
C7: STRAIGHT | D7: 1 | E7: 1 | F7: 1 | G7: =$F$7/I7 -> 0.71795816 | H7: =I7*3.6 -> 5.0142198 | I7: =MIN(13.2,(SQRT((I6^2)+2*J6*$F$7))) -> 1.3928388 | J7: =0.97 -> 0.97 | K7: =0.5*1.167*0.95*1.151*I7^2 -> 1.2377745 | L7: 103 | M7: =525*J7 -> 509.25 | N7: 0 | O7: =K7+L7+M7+N7 -> 613.48777 | P7: =(O7*I7)/1000 -> 0.85448959 | Q7: =VLOOKUP(H7,AA8:AB69,2,TRUE) -> 1100 | R7: =VLOOKUP(Q7,$AG$7:$AH$68,2,FALSE) -> 0.86 | S7: =VLOOKUP(Q7,$AG$7:$AI$68,3,TRUE) -> 5.5720182 | T7: =ROUNDUP(S7,0) -> 6 | U7: =MROUND(Q7,500) -> 1000 | V7: =MATCH(T7,$AJ$7:$AJ$29,0) -> 17 | W7: =MATCH(U7,$AK$6:$AX$6,0) -> 2 | X7: =INDEX($AK$7:$AX$29,V7,W7) -> 546 | Y7: =R7*0.7457 -> 0.641302 | AA7: 0 | AB7: 0 | AC7: 0 | AD7: 0 | AE7: 0 | AF7: 0 | AG7: 0 | AH7: 0 | AI7: 0 | AJ7: 22 | AK7: 488 | AL7: 488 | AM7: 488 | AN7: 488 | AO7: 488 | AP7: 488 | AQ7: 488 | AR7: 488 | AS7: 488 | AT7: 488 | AU7: 488 | AV7: 488 | AW7: 488 | AX7: 488
C8: STRAIGHT | D8: 1 | E8: 1 | F8: =F7+1 -> 2 | G8: =($F$7/I8)+G7 -> 1.2256312 | H8: =I8*3.6 -> 7.0911776 | I8: =MIN(13.2,(SQRT((I7^2)+2*J7*$F$7))) -> 1.9697716 | J8: =0.97 -> 0.97 | K8: =0.5*1.167*0.95*1.151*I8^2 -> 2.4755489 | L8: 103 | M8: =525*J8 -> 509.25 | N8: 0 | O8: =K8+L8+M8+N8 -> 614.72555 | P8: =(O8*I8)/1000 -> 1.2108689 | Q8: =VLOOKUP(H8,AA9:AB70,2,TRUE) -> 1600 | R8: =VLOOKUP(Q8,$AG$7:$AH$68,2,FALSE) -> 1.9 | S8: =VLOOKUP(Q8,$AG$7:$AI$68,3,TRUE) -> 8.4633125 | T8: =ROUNDUP(S8,0) -> 9 | U8: =MROUND(Q8,500) -> 1500 | V8: =MATCH(T8,$AJ$7:$AJ$29,0) -> 14 | W8: =MATCH(U8,$AK$6:$AX$6,0) -> 3 | X8: =INDEX($AK$7:$AX$29,V8,W8) -> 480 | Y8: =R8*0.7457 -> 1.41683 | AA8: =((AB8*PI()*0.23084)/(30*'Specifications (CW1)'!$G$6*'Specifications (CW1)'!$G$9)*1.6) -> 4.3149467 | AB8: 1000 | AC8: =((AD8*PI()*0.22254)/(30*'Specifications (CW1)'!$G$7*'Specifications (CW1)'!$G$9)*1.6) -> 5.6724546 | AD8: 1000 | AE8: =((AF8*PI()*0.2184)/(30*'Specifications (CW1)'!$G$8*'Specifications (CW1)'!$G$9)*1.6) -> 7.2908795 | AF8: 1000 | AG8: 1000 | AH8: 0.68 | AI8: =(AH8*7127)/AG8 -> 4.84636 | AJ8: 21 | AK8: 488 | AL8: 488 | AM8: 488 | AN8: 488 | AO8: 488 | AP8: 488 | AQ8: 488 | AR8: 488 | AS8: 488 | AT8: 488 | AU8: 488 | AV8: 488 | AW8: 488 | AX8: 488
C9: STRAIGHT | D9: 1 | E9: 1 | F9: =F8+1 -> 3 | G9: =($F$7/I9)+G8 -> 1.6401446 | H9: =I9*3.6 -> 8.6848834 | I9: =MIN(13.2,(SQRT((I8^2)+2*J8*$F$7))) -> 2.4124676 | J9: =0.97 -> 0.97 | K9: =0.5*1.167*0.95*1.151*I9^2 -> 3.7133234 | L9: 103 | M9: =525*J9 -> 509.25 | N9: 0 | O9: =K9+L9+M9+N9 -> 615.96332 | P9: =(O9*I9)/1000 -> 1.4859916 | Q9: =VLOOKUP(H9,AA10:AB71,2,TRUE) -> 2000 | R9: =VLOOKUP(Q9,$AG$7:$AH$68,2,FALSE) -> 3.26 | S9: =VLOOKUP(Q9,$AG$7:$AI$68,3,TRUE) -> 11.61701 | T9: =ROUNDUP(S9,0) -> 12 | U9: =MROUND(Q9,500) -> 2000 | V9: =MATCH(T9,$AJ$7:$AJ$29,0) -> 11 | W9: =MATCH(U9,$AK$6:$AX$6,0) -> 4 | X9: =INDEX($AK$7:$AX$29,V9,W9) -> 475 | Y9: =R9*0.7457 -> 2.430982 | AA9: =((AB9*PI()*0.23084)/(30*'Specifications (CW1)'!$G$6*'Specifications (CW1)'!$G$9)*1.6) -> 4.7464414 | AB9: 1100 | AC9: =((AD9*PI()*0.22254)/(30*'Specifications (CW1)'!$G$7*'Specifications (CW1)'!$G$9)*1.6) -> 6.2397001 | AD9: 1100 | AE9: =((AF9*PI()*0.2184)/(30*'Specifications (CW1)'!$G$8*'Specifications (CW1)'!$G$9)*1.6) -> 8.0199674 | AF9: 1100 | AG9: 1100 | AH9: 0.86 | AI9: =(AH9*7127)/AG9 -> 5.5720182 | AJ9: 20 | AK9: 488 | AL9: 488 | AM9: 488 | AN9: 488 | AO9: 455 | AP9: 455 | AQ9: 462 | AR9: 466 | AS9: 475 | AT9: 484 | AU9: 488 | AV9: 488 | AW9: 488 | AX9: 488
C10: STRAIGHT | D10: 1 | E10: 1 | F10: =F9+1 -> 4 | G10: =($F$7/I10)+G9 -> 1.9991237 | H10: =I10*3.6 -> 10.02844 | I10: =MIN(13.2,(SQRT((I9^2)+2*J9*$F$7))) -> 2.7856777 | J10: =0.97 -> 0.97 | K10: =0.5*1.167*0.95*1.151*I10^2 -> 4.9510979 | L10: 103 | M10: =525*J10 -> 509.25 | N10: 0 | O10: =K10+L10+M10+N10 -> 617.2011 | P10: =(O10*I10)/1000 -> 1.7193233 | Q10: =VLOOKUP(H10,AA11:AB72,2,TRUE) -> 2300 | R10: =VLOOKUP(Q10,$AG$7:$AH$68,2,FALSE) -> 4.24 | S10: =VLOOKUP(Q10,$AG$7:$AI$68,3,TRUE) -> 13.13847 | T10: =ROUNDUP(S10,0) -> 14 | U10: =MROUND(Q10,500) -> 2500 | V10: =MATCH(T10,$AJ$7:$AJ$29,0) -> 9 | W10: =MATCH(U10,$AK$6:$AX$6,0) -> 5 | X10: =INDEX($AK$7:$AX$29,V10,W10) -> 434 | Y10: =R10*0.7457 -> 3.161768 | AA10: =((AB10*PI()*0.23084)/(30*'Specifications (CW1)'!$G$6*'Specifications (CW1)'!$G$9)*1.6) -> 5.1779361 | AB10: 1200 | AC10: =((AD10*PI()*0.22254)/(30*'Specifications (CW1)'!$G$7*'Specifications (CW1)'!$G$9)*1.6) -> 6.8069455 | AD10: 1200 | AE10: =((AF10*PI()*0.2184)/(30*'Specifications (CW1)'!$G$8*'Specifications (CW1)'!$G$9)*1.6) -> 8.7490554 | AF10: 1200 | AG10: 1200 | AH10: 1.03 | AI10: =(AH10*7127)/AG10 -> 6.1173417 | AJ10: 19 | AK10: 488 | AL10: 488 | AM10: 488 | AN10: 488 | AO10: 455 | AP10: 455 | AQ10: 462 | AR10: 466 | AS10: 475 | AT10: 484 | AU10: 488 | AV10: 488 | AW10: 488 | AX10: 488
C11: STRAIGHT | D11: 1 | E11: 1 | F11: =F10+1 -> 5 | G11: =($F$7/I11)+G10 -> 2.3202043 | H11: =I11*3.6 -> 11.212136 | I11: =MIN(13.2,(SQRT((I10^2)+2*J10*$F$7))) -> 3.1144823 | J11: =0.97 -> 0.97 | K11: =0.5*1.167*0.95*1.151*I11^2 -> 6.1888723 | L11: 103 | M11: =525*J11 -> 509.25 | N11: 0 | O11: =K11+L11+M11+N11 -> 618.43887 | P11: =(O11*I11)/1000 -> 1.9261169 | Q11: =VLOOKUP(H11,AA12:AB73,2,TRUE) -> 2500 | R11: =VLOOKUP(Q11,$AG$7:$AH$68,2,FALSE) -> 5.24 | S11: =VLOOKUP(Q11,$AG$7:$AI$68,3,TRUE) -> 14.938192 | T11: =ROUNDUP(S11,0) -> 15 | U11: =MROUND(Q11,500) -> 2500 | V11: =MATCH(T11,$AJ$7:$AJ$29,0) -> 8 | W11: =MATCH(U11,$AK$6:$AX$6,0) -> 5 | X11: =INDEX($AK$7:$AX$29,V11,W11) -> 434 | Y11: =R11*0.7457 -> 3.907468 | AA11: =((AB11*PI()*0.23084)/(30*'Specifications (CW1)'!$G$6*'Specifications (CW1)'!$G$9)*1.6) -> 5.6094307 | AB11: 1300 | AC11: =((AD11*PI()*0.22254)/(30*'Specifications (CW1)'!$G$7*'Specifications (CW1)'!$G$9)*1.6) -> 7.374191 | AD11: 1300 | AE11: =((AF11*PI()*0.2184)/(30*'Specifications (CW1)'!$G$8*'Specifications (CW1)'!$G$9)*1.6) -> 9.4781433 | AF11: 1300 | AG11: 1300 | AH11: 1.2 | AI11: =(AH11*7127)/AG11 -> 6.5787692 | AJ11: 18 | AK11: 488 | AL11: 488 | AM11: 452 | AN11: 448 | AO11: 434 | AP11: 424 | AQ11: 428 | AR11: 462 | AS11: 472 | AT11: 483 | AU11: 491 | AV11: 491 | AW11: 491 | AX11: 491
C12: STRAIGHT | D12: 1 | E12: 1 | F12: =F11+1 -> 6 | G12: =($F$7/I12)+G11 -> 2.6133095 | H12: =I12*3.6 -> 12.28228 | I12: =MIN(13.2,(SQRT((I11^2)+2*J11*$F$7))) -> 3.4117444 | J12: =0.97 -> 0.97 | K12: =0.5*1.167*0.95*1.151*I12^2 -> 7.4266468 | L12: 103 | M12: =525*J12 -> 509.25 | N12: 0 | O12: =K12+L12+M12+N12 -> 619.67665 | P12: =(O12*I12)/1000 -> 2.1141783 | Q12: =VLOOKUP(H12,AA13:AB74,2,TRUE) -> 2800 | R12: =VLOOKUP(Q12,$AG$7:$AH$68,2,FALSE) -> 6.326 | S12: =VLOOKUP(Q12,$AG$7:$AI$68,3,TRUE) -> 16.101929 | T12: =ROUNDUP(S12,0) -> 17 | U12: =MROUND(Q12,500) -> 3000 | V12: =MATCH(T12,$AJ$7:$AJ$29,0) -> 6 | W12: =MATCH(U12,$AK$6:$AX$6,0) -> 6 | X12: =INDEX($AK$7:$AX$29,V12,W12) -> 424 | Y12: =R12*0.7457 -> 4.7172982 | AA12: =((AB12*PI()*0.23084)/(30*'Specifications (CW1)'!$G$6*'Specifications (CW1)'!$G$9)*1.6) -> 6.0409254 | AB12: 1400 | AC12: =((AD12*PI()*0.22254)/(30*'Specifications (CW1)'!$G$7*'Specifications (CW1)'!$G$9)*1.6) -> 7.9414364 | AD12: 1400 | AE12: =((AF12*PI()*0.2184)/(30*'Specifications (CW1)'!$G$8*'Specifications (CW1)'!$G$9)*1.6) -> 10.207231 | AF12: 1400 | AG12: 1400 | AH12: 1.39 | AI12: =(AH12*7127)/AG12 -> 7.0760929 | AJ12: 17 | AK12: 488 | AL12: 488 | AM12: 452 | AN12: 448 | AO12: 434 | AP12: 424 | AQ12: 428 | AR12: 462 | AS12: 472 | AT12: 483 | AU12: 491 | AV12: 491 | AW12: 491 | AX12: 491
C13: STRAIGHT | D13: 1 | E13: 1 | F13: =F12+1 -> 7 | G13: =($F$7/I13)+G12 -> 2.8846722 | H13: =I13*3.6 -> 13.266379 | I13: =MIN(13.2,(SQRT((I12^2)+2*J12*$F$7))) -> 3.6851052 | J13: =0.97 -> 0.97 | K13: =0.5*1.167*0.95*1.151*I13^2 -> 8.6644213 | L13: 103 | M13: =525*J13 -> 509.25 | N13: 0 | O13: =K13+L13+M13+N13 -> 620.91442 | P13: =(O13*I13)/1000 -> 2.2881349 | Q13: =VLOOKUP(H13,AA14:AB75,2,TRUE) -> 3000 | R13: =VLOOKUP(Q13,$AG$7:$AH$68,2,FALSE) -> 7.17 | S13: =VLOOKUP(Q13,$AG$7:$AI$68,3,TRUE) -> 17.03353 | T13: =ROUNDUP(S13,0) -> 18 | U13: =MROUND(Q13,500) -> 3000 | V13: =MATCH(T13,$AJ$7:$AJ$29,0) -> 5 | W13: =MATCH(U13,$AK$6:$AX$6,0) -> 6 | X13: =INDEX($AK$7:$AX$29,V13,W13) -> 424 | Y13: =R13*0.7457 -> 5.346669 | AA13: =((AB13*PI()*0.23084)/(30*'Specifications (CW1)'!$G$6*'Specifications (CW1)'!$G$9)*1.6) -> 6.4724201 | AB13: 1500 | AC13: =((AD13*PI()*0.22254)/(30*'Specifications (CW1)'!$G$7*'Specifications (CW1)'!$G$9)*1.6) -> 8.5086819 | AD13: 1500 | AE13: =((AF13*PI()*0.2184)/(30*'Specifications (CW1)'!$G$8*'Specifications (CW1)'!$G$9)*1.6) -> 10.936319 | AF13: 1500 | AG13: 1500 | AH13: 1.56 | AI13: =(AH13*7127)/AG13 -> 7.41208 | AJ13: 16 | AK13: 524 | AL13: 488 | AM13: 446 | AN13: 448 | AO13: 434 | AP13: 438 | AQ13: 438 | AR13: 462 | AS13: 470 | AT13: 479 | AU13: 495 | AV13: 495 | AW13: 495 | AX13: 495
C14: STRAIGHT | D14: 2 | E14: 1 | F14: =F13+1 -> 8 | G14: =($F$7/I14)+G13 -> 3.1385087 | H14: =I14*3.6 -> 14.182355 | I14: =MIN(13.2,(SQRT((I13^2)+2*J13*$F$7))) -> 3.9395431 | J14: =0.97 -> 0.97 | K14: =0.5*1.167*0.95*1.151*I14^2 -> 9.9021957 | L14: 103 | M14: =525*J14 -> 509.25 | N14: 0 | O14: =K14+L14+M14+N14 -> 622.1522 | P14: =(O14*I14)/1000 -> 2.4509954 | Q14: =VLOOKUP(H14,AC15:AD76,2,TRUE) -> 2500 | R14: =VLOOKUP(Q14,$AG$7:$AH$68,2,FALSE) -> 5.24 | S14: =VLOOKUP(Q14,$AG$7:$AI$68,3,TRUE) -> 14.938192 | T14: =ROUNDUP(S14,0) -> 15 | U14: =MROUND(Q14,500) -> 2500 | V14: =MATCH(T14,$AJ$7:$AJ$29,0) -> 8 | W14: =MATCH(U14,$AK$6:$AX$6,0) -> 5 | X14: =INDEX($AK$7:$AX$29,V14,W14) -> 434 | Y14: =R14*0.7457 -> 3.907468 | AA14: =((AB14*PI()*0.23084)/(30*'Specifications (CW1)'!$G$6*'Specifications (CW1)'!$G$9)*1.6) -> 6.9039147 | AB14: 1600 | AC14: =((AD14*PI()*0.22254)/(30*'Specifications (CW1)'!$G$7*'Specifications (CW1)'!$G$9)*1.6) -> 9.0759274 | AD14: 1600 | AE14: =((AF14*PI()*0.2184)/(30*'Specifications (CW1)'!$G$8*'Specifications (CW1)'!$G$9)*1.6) -> 11.665407 | AF14: 1600 | AG14: 1600 | AH14: 1.9 | AI14: =(AH14*7127)/AG14 -> 8.4633125 | AJ14: 15 | AK14: 521 | AL14: 488 | AM14: 446 | AN14: 448 | AO14: 434 | AP14: 448 | AQ14: 448 | AR14: 462 | AS14: 470 | AT14: 479 | AU14: 495 | AV14: 495 | AW14: 495 | AX14: 495
C15: STRAIGHT | D15: 2 | E15: 1 | F15: =F14+1 -> 9 | G15: =($F$7/I15)+G14 -> 3.3778281 | H15: =I15*3.6 -> 15.042659 | I15: =MIN(13.2,(SQRT((I14^2)+2*J14*$F$7))) -> 4.1785165 | J15: =0.97 -> 0.97 | K15: =0.5*1.167*0.95*1.151*I15^2 -> 11.13997 | L15: 103 | M15: =525*J15 -> 509.25 | N15: 0 | O15: =K15+L15+M15+N15 -> 623.38997 | P15: =(O15*I15)/1000 -> 2.6048453 | Q15: =VLOOKUP(H15,AC16:AD77,2,TRUE) -> 2600 | R15: =VLOOKUP(Q15,$AG$7:$AH$68,2,FALSE) -> 5.542 | S15: =VLOOKUP(Q15,$AG$7:$AI$68,3,TRUE) -> 15.191475 | T15: =ROUNDUP(S15,0) -> 16 | U15: =MROUND(Q15,500) -> 2500 | V15: =MATCH(T15,$AJ$7:$AJ$29,0) -> 7 | W15: =MATCH(U15,$AK$6:$AX$6,0) -> 5 | X15: =INDEX($AK$7:$AX$29,V15,W15) -> 434 | Y15: =R15*0.7457 -> 4.1326694 | AA15: =((AB15*PI()*0.23084)/(30*'Specifications (CW1)'!$G$6*'Specifications (CW1)'!$G$9)*1.6) -> 7.3354094 | AB15: 1700 | AC15: =((AD15*PI()*0.22254)/(30*'Specifications (CW1)'!$G$7*'Specifications (CW1)'!$G$9)*1.6) -> 9.6431728 | AD15: 1700 | AE15: =((AF15*PI()*0.2184)/(30*'Specifications (CW1)'!$G$8*'Specifications (CW1)'!$G$9)*1.6) -> 12.394495 | AF15: 1700 | AG15: 1700 | AH15: 2.24 | AI15: =(AH15*7127)/AG15 -> 9.3908706 | AJ15: 14 | AK15: 502 | AL15: 482 | AM15: 454 | AN15: 459 | AO15: 434 | AP15: 455 | AQ15: 459 | AR15: 462 | AS15: 471 | AT15: 483 | AU15: 498 | AV15: 498 | AW15: 498 | AX15: 498
C16: STRAIGHT | D16: 2 | E16: 1 | F16: =F15+1 -> 10 | G16: =($F$7/I16)+G15 -> 3.6048664 | H16: =I16*3.6 -> 15.856355 | I16: =MIN(13.2,(SQRT((I15^2)+2*J15*$F$7))) -> 4.4045431 | J16: =0.97 -> 0.97 | K16: =0.5*1.167*0.95*1.151*I16^2 -> 12.377745 | L16: 103 | M16: =525*J16 -> 509.25 | N16: 0 | O16: =K16+L16+M16+N16 -> 624.62774 | P16: =(O16*I16)/1000 -> 2.7511998 | Q16: =VLOOKUP(H16,AC17:AD78,2,TRUE) -> 2700 | R16: =VLOOKUP(Q16,$AG$7:$AH$68,2,FALSE) -> 5.934 | S16: =VLOOKUP(Q16,$AG$7:$AI$68,3,TRUE) -> 15.663562 | T16: =ROUNDUP(S16,0) -> 16 | U16: =MROUND(Q16,500) -> 2500 | V16: =MATCH(T16,$AJ$7:$AJ$29,0) -> 7 | W16: =MATCH(U16,$AK$6:$AX$6,0) -> 5 | X16: =INDEX($AK$7:$AX$29,V16,W16) -> 434 | Y16: =R16*0.7457 -> 4.4249838 | AA16: =((AB16*PI()*0.23084)/(30*'Specifications (CW1)'!$G$6*'Specifications (CW1)'!$G$9)*1.6) -> 7.7669041 | AB16: 1800 | AC16: =((AD16*PI()*0.22254)/(30*'Specifications (CW1)'!$G$7*'Specifications (CW1)'!$G$9)*1.6) -> 10.210418 | AD16: 1800 | AE16: =((AF16*PI()*0.2184)/(30*'Specifications (CW1)'!$G$8*'Specifications (CW1)'!$G$9)*1.6) -> 13.123583 | AF16: 1800 | AG16: 1800 | AH16: 2.58 | AI16: =(AH16*7127)/AG16 -> 10.215367 | AJ16: 13 | AK16: 502 | AL16: 482 | AM16: 454 | AN16: 459 | AO16: 434 | AP16: 455 | AQ16: 459 | AR16: 462 | AS16: 471 | AT16: 483 | AU16: 498 | AV16: 498 | AW16: 498 | AX16: 498
C17: STRAIGHT | D17: 2 | E17: 1 | F17: =F16+1 -> 11 | G17: =($F$7/I17)+G16 -> 3.8213389 | H17: =I17*3.6 -> 16.630286 | I17: =MIN(13.2,(SQRT((I16^2)+2*J16*$F$7))) -> 4.6195238 | J17: =0.97 -> 0.97 | K17: =0.5*1.167*0.95*1.151*I17^2 -> 13.615519 | L17: 103 | M17: =525*J17 -> 509.25 | N17: 0 | O17: =K17+L17+M17+N17 -> 625.86552 | P17: =(O17*I17)/1000 -> 2.8912007 | Q17: =VLOOKUP(H17,AC18:AD79,2,TRUE) -> 2900 | R17: =VLOOKUP(Q17,$AG$7:$AH$68,2,FALSE) -> 6.718 | S17: =VLOOKUP(Q17,$AG$7:$AI$68,3,TRUE) -> 16.510064 | T17: =ROUNDUP(S17,0) -> 17 | U17: =MROUND(Q17,500) -> 3000 | V17: =MATCH(T17,$AJ$7:$AJ$29,0) -> 6 | W17: =MATCH(U17,$AK$6:$AX$6,0) -> 6 | X17: =INDEX($AK$7:$AX$29,V17,W17) -> 424 | Y17: =R17*0.7457 -> 5.0096126 | AA17: =((AB17*PI()*0.23084)/(30*'Specifications (CW1)'!$G$6*'Specifications (CW1)'!$G$9)*1.6) -> 8.1983987 | AB17: 1900 | AC17: =((AD17*PI()*0.22254)/(30*'Specifications (CW1)'!$G$7*'Specifications (CW1)'!$G$9)*1.6) -> 10.777664 | AD17: 1900 | AE17: =((AF17*PI()*0.2184)/(30*'Specifications (CW1)'!$G$8*'Specifications (CW1)'!$G$9)*1.6) -> 13.852671 | AF17: 1900 | AG17: 1900 | AH17: 2.92 | AI17: =(AH17*7127)/AG17 -> 10.953074 | AJ17: 12 | AK17: 513 | AL17: 482 | AM17: 462 | AN17: 475 | AO17: 446 | AP17: 462 | AQ17: 467 | AR17: 475 | AS17: 479 | AT17: 484 | AU17: 495 | AV17: 513 | AW17: 527 | AX17: 538
A18: TRACK LAYOUT | B18: Rr Coeficient | C18: STRAIGHT | D18: 2 | E18: 1 | F18: =F17+1 -> 12 | G18: =($F$7/I18)+G17 -> 4.0285956 | H18: =I18*3.6 -> 17.369767 | I18: =MIN(13.2,(SQRT((I17^2)+2*J17*$F$7))) -> 4.8249352 | J18: =0.97 -> 0.97 | K18: =0.5*1.167*0.95*1.151*I18^2 -> 14.853294 | L18: 103 | M18: =525*J18 -> 509.25 | N18: 0 | O18: =K18+L18+M18+N18 -> 627.10329 | P18: =(O18*I18)/1000 -> 3.0257328 | Q18: =VLOOKUP(H18,AC19:AD80,2,TRUE) -> 3000 | R18: =VLOOKUP(Q18,$AG$7:$AH$68,2,FALSE) -> 7.17 | S18: =VLOOKUP(Q18,$AG$7:$AI$68,3,TRUE) -> 17.03353 | T18: =ROUNDUP(S18,0) -> 18 | U18: =MROUND(Q18,500) -> 3000 | V18: =MATCH(T18,$AJ$7:$AJ$29,0) -> 5 | W18: =MATCH(U18,$AK$6:$AX$6,0) -> 6 | X18: =INDEX($AK$7:$AX$29,V18,W18) -> 424 | Y18: =R18*0.7457 -> 5.346669 | AA18: =((AB18*PI()*0.23084)/(30*'Specifications (CW1)'!$G$6*'Specifications (CW1)'!$G$9)*1.6) -> 8.6298934 | AB18: 2000 | AC18: =((AD18*PI()*0.22254)/(30*'Specifications (CW1)'!$G$7*'Specifications (CW1)'!$G$9)*1.6) -> 11.344909 | AD18: 2000 | AE18: =((AF18*PI()*0.2184)/(30*'Specifications (CW1)'!$G$8*'Specifications (CW1)'!$G$9)*1.6) -> 14.581759 | AF18: 2000 | AG18: 2000 | AH18: 3.26 | AI18: =(AH18*7127)/AG18 -> 11.61701 | AJ18: 11 | AK18: 513 | AL18: 482 | AM18: 462 | AN18: 475 | AO18: 446 | AP18: 462 | AQ18: 467 | AR18: 475 | AS18: 479 | AT18: 484 | AU18: 495 | AV18: 513 | AW18: 527 | AX18: 538
A19: SECTOR 1-Asphalt | B19: 0.02 | C19: STRAIGHT | D19: 2 | E19: 1 | F19: =F18+1 -> 13 | G19: =($F$7/I19)+G18 -> 4.2277214 | H19: =I19*3.6 -> 18.079027 | I19: =MIN(13.2,(SQRT((I18^2)+2*J18*$F$7))) -> 5.0219518 | J19: =0.97 -> 0.97 | K19: =0.5*1.167*0.95*1.151*I19^2 -> 16.091068 | L19: 103 | M19: =525*J19 -> 509.25 | N19: 0 | O19: =K19+L19+M19+N19 -> 628.34107 | P19: =(O19*I19)/1000 -> 3.1554986 | Q19: =VLOOKUP(H19,AC20:AD81,2,TRUE) -> 3100 | R19: =VLOOKUP(Q19,$AG$7:$AH$68,2,FALSE) -> 7.572 | S19: =VLOOKUP(Q19,$AG$7:$AI$68,3,TRUE) -> 17.408272 | T19: =ROUNDUP(S19,0) -> 18 | U19: =MROUND(Q19,500) -> 3000 | V19: =MATCH(T19,$AJ$7:$AJ$29,0) -> 5 | W19: =MATCH(U19,$AK$6:$AX$6,0) -> 6 | X19: =INDEX($AK$7:$AX$29,V19,W19) -> 424 | Y19: =R19*0.7457 -> 5.6464404 | AA19: =((AB19*PI()*0.23084)/(30*'Specifications (CW1)'!$G$6*'Specifications (CW1)'!$G$9)*1.6) -> 9.0613881 | AB19: 2100 | AC19: =((AD19*PI()*0.22254)/(30*'Specifications (CW1)'!$G$7*'Specifications (CW1)'!$G$9)*1.6) -> 11.912155 | AD19: 2100 | AE19: =((AF19*PI()*0.2184)/(30*'Specifications (CW1)'!$G$8*'Specifications (CW1)'!$G$9)*1.6) -> 15.310847 | AF19: 2100 | AG19: 2100 | AH19: 3.66 | AI19: =(AH19*7127)/AG19 -> 12.421343 | AJ19: 10 | AK19: 516 | AL19: 484 | AM19: 480 | AN19: 500 | AO19: 466 | AP19: 479 | AQ19: 477 | AR19: 482 | AS19: 493 | AT19: 506 | AU19: 527 | AV19: 534 | AW19: 541 | AX19: 546
A20: SECTOR 2-GRAVEL | B20: 0.025 | C20: STRAIGHT | D20: 2 | E20: 1 | F20: =F19+1 -> 14 | G20: =($F$7/I20)+G19 -> 4.4196038 | H20: =I20*3.6 -> 18.761492 | I20: =MIN(13.2,(SQRT((I19^2)+2*J19*$F$7))) -> 5.2115257 | J20: =0.97 -> 0.97 | K20: =0.5*1.167*0.95*1.151*I20^2 -> 17.328843 | L20: 103 | M20: =525*J20 -> 509.25 | N20: 0 | O20: =K20+L20+M20+N20 -> 629.57884 | P20: =(O20*I20)/1000 -> 3.2810663 | Q20: =VLOOKUP(H20,AC21:AD82,2,TRUE) -> 3300 | R20: =VLOOKUP(Q20,$AG$7:$AH$68,2,FALSE) -> 8.496 | S20: =VLOOKUP(Q20,$AG$7:$AI$68,3,TRUE) -> 18.348785 | T20: =ROUNDUP(S20,0) -> 19 | U20: =MROUND(Q20,500) -> 3500 | V20: =MATCH(T20,$AJ$7:$AJ$29,0) -> 4 | W20: =MATCH(U20,$AK$6:$AX$6,0) -> 7 | X20: =INDEX($AK$7:$AX$29,V20,W20) -> 462 | Y20: =R20*0.7457 -> 6.3354672 | AA20: =((AB20*PI()*0.23084)/(30*'Specifications (CW1)'!$G$6*'Specifications (CW1)'!$G$9)*1.6) -> 9.4928828 | AB20: 2200 | AC20: =((AD20*PI()*0.22254)/(30*'Specifications (CW1)'!$G$7*'Specifications (CW1)'!$G$9)*1.6) -> 12.4794 | AD20: 2200 | AE20: =((AF20*PI()*0.2184)/(30*'Specifications (CW1)'!$G$8*'Specifications (CW1)'!$G$9)*1.6) -> 16.039935 | AF20: 2200 | AG20: 2200 | AH20: 4.05 | AI20: =(AH20*7127)/AG20 -> 13.120159 | AJ20: 9 | AK20: 516 | AL20: 484 | AM20: 480 | AN20: 500 | AO20: 466 | AP20: 479 | AQ20: 477 | AR20: 482 | AS20: 493 | AT20: 506 | AU20: 527 | AV20: 534 | AW20: 541 | AX20: 546
A21: SECTOR 3-MUD | B21: 0.3 | C21: STRAIGHT | D21: 2 | E21: 1 | F21: =F20+1 -> 15 | G21: =($F$7/I21)+G20 -> 4.6049798 | H21: =I21*3.6 -> 19.41999 | I21: =MIN(13.2,(SQRT((I20^2)+2*J20*$F$7))) -> 5.3944416 | J21: 0.8 | K21: =0.5*1.167*0.95*1.151*I21^2 -> 18.566617 | L21: 103 | M21: =525*J21 -> 420 | N21: 0 | O21: =K21+L21+M21+N21 -> 541.56662 | P21: =(O21*I21)/1000 -> 2.9214495 | Q21: =VLOOKUP(H21,AC22:AD83,2,TRUE) -> 3400 | R21: =VLOOKUP(Q21,$AG$7:$AH$68,2,FALSE) -> 8.958 | S21: =VLOOKUP(Q21,$AG$7:$AI$68,3,TRUE) -> 18.777549 | T21: =ROUNDUP(S21,0) -> 19 | U21: =MROUND(Q21,500) -> 3500 | V21: =MATCH(T21,$AJ$7:$AJ$29,0) -> 4 | W21: =MATCH(U21,$AK$6:$AX$6,0) -> 7 | X21: =INDEX($AK$7:$AX$29,V21,W21) -> 462 | Y21: =R21*0.7457 -> 6.6799806 | AA21: =((AB21*PI()*0.23084)/(30*'Specifications (CW1)'!$G$6*'Specifications (CW1)'!$G$9)*1.6) -> 9.9243774 | AB21: 2300 | AC21: =((AD21*PI()*0.22254)/(30*'Specifications (CW1)'!$G$7*'Specifications (CW1)'!$G$9)*1.6) -> 13.046646 | AD21: 2300 | AE21: =((AF21*PI()*0.2184)/(30*'Specifications (CW1)'!$G$8*'Specifications (CW1)'!$G$9)*1.6) -> 16.769023 | AF21: 2300 | AG21: 2300 | AH21: 4.24 | AI21: =(AH21*7127)/AG21 -> 13.13847 | AJ21: 8 | AK21: 531 | AL21: 507 | AM21: 506 | AN21: 534 | AO21: 479 | AP21: 511 | AQ21: 480 | AR21: 504 | AS21: 516 | AT21: 533 | AU21: 565 | AV21: 574 | AW21: 583 | AX21: 591
A22: SECTOR 4-Loose Sand | B22: 0.1 | C22: STRAIGHT | D22: 2 | E22: 1 | F22: =F21+1 -> 16 | G22: =($F$7/I22)+G21 -> 4.7854605 | H22: =I22*3.6 -> 19.946729 | I22: =MIN(13.2,(SQRT((I21^2)+2*J21*$F$7))) -> 5.5407581 | J22: 0.8 | K22: =0.5*1.167*0.95*1.151*I22^2 -> 19.587462 | L22: 103 | M22: =525*J22 -> 420 | N22: 0 | O22: =K22+L22+M22+N22 -> 542.58746 | P22: =(O22*I22)/1000 -> 3.0063459 | Q22: =VLOOKUP(H22,AC23:AD84,2,TRUE) -> 3500 | R22: =VLOOKUP(Q22,$AG$7:$AH$68,2,FALSE) -> 9.22 | S22: =VLOOKUP(Q22,$AG$7:$AI$68,3,TRUE) -> 18.774554 | T22: =ROUNDUP(S22,0) -> 19 | U22: =MROUND(Q22,500) -> 3500 | V22: =MATCH(T22,$AJ$7:$AJ$29,0) -> 4 | W22: =MATCH(U22,$AK$6:$AX$6,0) -> 7 | X22: =INDEX($AK$7:$AX$29,V22,W22) -> 462 | Y22: =R22*0.7457 -> 6.875354 | AA22: =((AB22*PI()*0.23084)/(30*'Specifications (CW1)'!$G$6*'Specifications (CW1)'!$G$9)*1.6) -> 10.355872 | AB22: 2400 | AC22: =((AD22*PI()*0.22254)/(30*'Specifications (CW1)'!$G$7*'Specifications (CW1)'!$G$9)*1.6) -> 13.613891 | AD22: 2400 | AE22: =((AF22*PI()*0.2184)/(30*'Specifications (CW1)'!$G$8*'Specifications (CW1)'!$G$9)*1.6) -> 17.498111 | AF22: 2400 | AG22: 2400 | AH22: 4.45 | AI22: =(AH22*7127)/AG22 -> 13.214646 | AJ22: 7 | AK22: 531 | AL22: 507 | AM22: 506 | AN22: 534 | AO22: 479 | AP22: 511 | AQ22: 480 | AR22: 504 | AS22: 516 | AT22: 533 | AU22: 565 | AV22: 574 | AW22: 583 | AX22: 591
C23: STRAIGHT | D23: 2 | E23: 1 | F23: =F22+1 -> 17 | G23: =($F$7/I23)+G22 -> 4.9614143 | H23: =I23*3.6 -> 20.459912 | I23: =MIN(13.2,(SQRT((I22^2)+2*J22*$F$7))) -> 5.6833089 | J23: 0.8 | K23: =0.5*1.167*0.95*1.151*I23^2 -> 20.608307 | L23: 103 | M23: =525*J23 -> 420 | N23: 0 | O23: =K23+L23+M23+N23 -> 543.60831 | P23: =(O23*I23)/1000 -> 3.0894939 | Q23: =VLOOKUP(H23,AC24:AD85,2,TRUE) -> 3600 | R23: =VLOOKUP(Q23,$AG$7:$AH$68,2,FALSE) -> 9.636 | S23: =VLOOKUP(Q23,$AG$7:$AI$68,3,TRUE) -> 19.076603 | T23: =ROUNDUP(S23,0) -> 20 | U23: =MROUND(Q23,500) -> 3500 | V23: =MATCH(T23,$AJ$7:$AJ$29,0) -> 3 | W23: =MATCH(U23,$AK$6:$AX$6,0) -> 7 | X23: =INDEX($AK$7:$AX$29,V23,W23) -> 462 | Y23: =R23*0.7457 -> 7.1855652 | AA23: =((AB23*PI()*0.23084)/(30*'Specifications (CW1)'!$G$6*'Specifications (CW1)'!$G$9)*1.6) -> 10.787367 | AB23: 2500 | AC23: =((AD23*PI()*0.22254)/(30*'Specifications (CW1)'!$G$7*'Specifications (CW1)'!$G$9)*1.6) -> 14.181136 | AD23: 2500 | AE23: =((AF23*PI()*0.2184)/(30*'Specifications (CW1)'!$G$8*'Specifications (CW1)'!$G$9)*1.6) -> 18.227199 | AF23: 2500 | AG23: 2500 | AH23: 5.24 | AI23: =(AH23*7127)/AG23 -> 14.938192 | AJ23: 6 | AK23: 570 | AL23: 546 | AM23: 545 | AN23: 590 | AO23: 511 | AP23: 565 | AQ23: 588 | AR23: 517 | AS23: 551 | AT23: 578 | AU23: 621 | AV23: 632 | AW23: 644 | AX23: 651
C24: STRAIGHT | D24: 2 | E24: 1 | F24: =F23+1 -> 18 | G24: =($F$7/I24)+G23 -> 5.1331657 | H24: =I24*3.6 -> 20.960534 | I24: =MIN(13.2,(SQRT((I23^2)+2*J23*$F$7))) -> 5.8223707 | J24: 0.8 | K24: =0.5*1.167*0.95*1.151*I24^2 -> 21.629152 | L24: 103 | M24: =525*J24 -> 420 | N24: 0 | O24: =K24+L24+M24+N24 -> 544.62915 | P24: =(O24*I24)/1000 -> 3.1710328 | Q24: =VLOOKUP(H24,AC25:AD86,2,TRUE) -> 3600 | R24: =VLOOKUP(Q24,$AG$7:$AH$68,2,FALSE) -> 9.636 | S24: =VLOOKUP(Q24,$AG$7:$AI$68,3,TRUE) -> 19.076603 | T24: =ROUNDUP(S24,0) -> 20 | U24: =MROUND(Q24,500) -> 3500 | V24: =MATCH(T24,$AJ$7:$AJ$29,0) -> 3 | W24: =MATCH(U24,$AK$6:$AX$6,0) -> 7 | X24: =INDEX($AK$7:$AX$29,V24,W24) -> 462 | Y24: =R24*0.7457 -> 7.1855652 | AA24: =((AB24*PI()*0.23084)/(30*'Specifications (CW1)'!$G$6*'Specifications (CW1)'!$G$9)*1.6) -> 11.218861 | AB24: 2600 | AC24: =((AD24*PI()*0.22254)/(30*'Specifications (CW1)'!$G$7*'Specifications (CW1)'!$G$9)*1.6) -> 14.748382 | AD24: 2600 | AE24: =((AF24*PI()*0.2184)/(30*'Specifications (CW1)'!$G$8*'Specifications (CW1)'!$G$9)*1.6) -> 18.956287 | AF24: 2600 | AG24: 2600 | AH24: 5.542 | AI24: =(AH24*7127)/AG24 -> 15.191475 | AJ24: 5 | AK24: 570 | AL24: 546 | AM24: 545 | AN24: 590 | AO24: 571 | AP24: 565 | AQ24: 588 | AR24: 517 | AS24: 551 | AT24: 578 | AU24: 621 | AV24: 632 | AW24: 644 | AX24: 651
C25: STRAIGHT | D25: 2 | E25: 1 | F25: =F24+1 -> 19 | G25: =($F$7/I25)+G24 -> 5.3010019 | H25: =I25*3.6 -> 21.449476 | I25: =MIN(13.2,(SQRT((I24^2)+2*J24*$F$7))) -> 5.9581876 | J25: 0.8 | K25: =0.5*1.167*0.95*1.151*I25^2 -> 22.649997 | L25: 103 | M25: =525*J25 -> 420 | N25: 0 | O25: =K25+L25+M25+N25 -> 545.65 | P25: =(O25*I25)/1000 -> 3.2510851 | Q25: =VLOOKUP(H25,AC26:AD87,2,TRUE) -> 3700 | R25: =VLOOKUP(Q25,$AG$7:$AH$68,2,FALSE) -> 9.852 | S25: =VLOOKUP(Q25,$AG$7:$AI$68,3,TRUE) -> 18.977082 | T25: =ROUNDUP(S25,0) -> 19 | U25: =MROUND(Q25,500) -> 3500 | V25: =MATCH(T25,$AJ$7:$AJ$29,0) -> 4 | W25: =MATCH(U25,$AK$6:$AX$6,0) -> 7 | X25: =INDEX($AK$7:$AX$29,V25,W25) -> 462 | Y25: =R25*0.7457 -> 7.3466364 | AA25: =((AB25*PI()*0.23084)/(30*'Specifications (CW1)'!$G$6*'Specifications (CW1)'!$G$9)*1.6) -> 11.650356 | AB25: 2700 | AC25: =((AD25*PI()*0.22254)/(30*'Specifications (CW1)'!$G$7*'Specifications (CW1)'!$G$9)*1.6) -> 15.315627 | AD25: 2700 | AE25: =((AF25*PI()*0.2184)/(30*'Specifications (CW1)'!$G$8*'Specifications (CW1)'!$G$9)*1.6) -> 19.685375 | AF25: 2700 | AG25: 2700 | AH25: 5.934 | AI25: =(AH25*7127)/AG25 -> 15.663562 | AJ25: 4 | AK25: 642 | AL25: 603 | AM25: 606 | AN25: 590 | AO25: 565 | AP25: 565 | AQ25: 540 | AR25: 556 | AS25: 592 | AT25: 660 | AU25: 711 | AV25: 729 | AW25: 733 | AX25: 747
C26: STRAIGHT | D26: 2 | E26: 1 | F26: =F25+1 -> 20 | G26: =($F$7/I26)+G25 -> 5.4651792 | H26: =I26*3.6 -> 21.927517 | I26: =MIN(13.2,(SQRT((I25^2)+2*J25*$F$7))) -> 6.0909769 | J26: 0.8 | K26: =0.5*1.167*0.95*1.151*I26^2 -> 23.670842 | L26: 103 | M26: =525*J26 -> 420 | N26: 0 | O26: =K26+L26+M26+N26 -> 546.67084 | P26: =(O26*I26)/1000 -> 3.3297595 | Q26: =VLOOKUP(H26,AC27:AD88,2,TRUE) -> 3800 | R26: =VLOOKUP(Q26,$AG$7:$AH$68,2,FALSE) -> 10.068 | S26: =VLOOKUP(Q26,$AG$7:$AI$68,3,TRUE) -> 18.882799 | T26: =ROUNDUP(S26,0) -> 19 | U26: =MROUND(Q26,500) -> 4000 | V26: =MATCH(T26,$AJ$7:$AJ$29,0) -> 4 | W26: =MATCH(U26,$AK$6:$AX$6,0) -> 8 | X26: =INDEX($AK$7:$AX$29,V26,W26) -> 466 | Y26: =R26*0.7457 -> 7.5077076 | AA26: =((AB26*PI()*0.23084)/(30*'Specifications (CW1)'!$G$6*'Specifications (CW1)'!$G$9)*1.6) -> 12.081851 | AB26: 2800 | AC26: =((AD26*PI()*0.22254)/(30*'Specifications (CW1)'!$G$7*'Specifications (CW1)'!$G$9)*1.6) -> 15.882873 | AD26: 2800 | AE26: =((AF26*PI()*0.2184)/(30*'Specifications (CW1)'!$G$8*'Specifications (CW1)'!$G$9)*1.6) -> 20.414463 | AF26: 2800 | AG26: 2800 | AH26: 6.326 | AI26: =(AH26*7127)/AG26 -> 16.101929 | AJ26: 3 | AK26: 642 | AL26: 603 | AM26: 606 | AN26: 590 | AO26: 565 | AP26: 590 | AQ26: 540 | AR26: 556 | AS26: 592 | AT26: 660 | AU26: 711 | AV26: 729 | AW26: 733 | AX26: 747
C27: STRAIGHT | D27: 2 | E27: 1 | F27: =F26+1 -> 21 | G27: =($F$7/I27)+G26 -> 5.6259268 | H27: =I27*3.6 -> 22.395357 | I27: =MIN(13.2,(SQRT((I26^2)+2*J26*$F$7))) -> 6.2209324 | J27: 0.8 | K27: =0.5*1.167*0.95*1.151*I27^2 -> 24.691687 | L27: 103 | M27: =525*J27 -> 420 | N27: 0 | O27: =K27+L27+M27+N27 -> 547.69169 | P27: =(O27*I27)/1000 -> 3.407153 | Q27: =VLOOKUP(H27,AC28:AD89,2,TRUE) -> 3900 | R27: =VLOOKUP(Q27,$AG$7:$AH$68,2,FALSE) -> 10.284 | S27: =VLOOKUP(Q27,$AG$7:$AI$68,3,TRUE) -> 18.793351 | T27: =ROUNDUP(S27,0) -> 19 | U27: =MROUND(Q27,500) -> 4000 | V27: =MATCH(T27,$AJ$7:$AJ$29,0) -> 4 | W27: =MATCH(U27,$AK$6:$AX$6,0) -> 8 | X27: =INDEX($AK$7:$AX$29,V27,W27) -> 466 | Y27: =R27*0.7457 -> 7.6687788 | AA27: =((AB27*PI()*0.23084)/(30*'Specifications (CW1)'!$G$6*'Specifications (CW1)'!$G$9)*1.6) -> 12.513345 | AB27: 2900 | AC27: =((AD27*PI()*0.22254)/(30*'Specifications (CW1)'!$G$7*'Specifications (CW1)'!$G$9)*1.6) -> 16.450118 | AD27: 2900 | AE27: =((AF27*PI()*0.2184)/(30*'Specifications (CW1)'!$G$8*'Specifications (CW1)'!$G$9)*1.6) -> 21.14355 | AF27: 2900 | AG27: 2900 | AH27: 6.718 | AI27: =(AH27*7127)/AG27 -> 16.510064 | AJ27: 2 | AK27: 712 | AL27: 712 | AM27: 712 | AN27: 694 | AO27: 622 | AP27: 622 | AQ27: 658 | AR27: 622 | AS27: 640 | AT27: 684 | AU27: 756 | AV27: 756 | AW27: 756 | AX27: 756
C28: STRAIGHT | D28: 2 | E28: 1 | F28: =F27+1 -> 22 | G28: =($F$7/I28)+G27 -> 5.7834511 | H28: =I28*3.6 -> 22.853621 | I28: =MIN(13.2,(SQRT((I27^2)+2*J27*$F$7))) -> 6.3482281 | J28: 0.8 | K28: =0.5*1.167*0.95*1.151*I28^2 -> 25.712531 | L28: 103 | M28: =525*J28 -> 420 | N28: 0 | O28: =K28+L28+M28+N28 -> 548.71253 | P28: =(O28*I28)/1000 -> 3.4833523 | Q28: =VLOOKUP(H28,AC29:AD90,2,TRUE) -> 4000 | R28: =VLOOKUP(Q28,$AG$7:$AH$68,2,FALSE) -> 10.86 | S28: =VLOOKUP(Q28,$AG$7:$AI$68,3,TRUE) -> 19.349805 | T28: =ROUNDUP(S28,0) -> 20 | U28: =MROUND(Q28,500) -> 4000 | V28: =MATCH(T28,$AJ$7:$AJ$29,0) -> 3 | W28: =MATCH(U28,$AK$6:$AX$6,0) -> 8 | X28: =INDEX($AK$7:$AX$29,V28,W28) -> 466 | Y28: =R28*0.7457 -> 8.098302 | AA28: =((AB28*PI()*0.23084)/(30*'Specifications (CW1)'!$G$6*'Specifications (CW1)'!$G$9)*1.6) -> 12.94484 | AB28: 3000 | AC28: =((AD28*PI()*0.22254)/(30*'Specifications (CW1)'!$G$7*'Specifications (CW1)'!$G$9)*1.6) -> 17.017364 | AD28: 3000 | AE28: =((AF28*PI()*0.2184)/(30*'Specifications (CW1)'!$G$8*'Specifications (CW1)'!$G$9)*1.6) -> 21.872638 | AF28: 3000 | AG28: 3000 | AH28: 7.17 | AI28: =(AH28*7127)/AG28 -> 17.03353 | AJ28: 1 | AK28: 812 | AL28: 812 | AM28: 812 | AN28: 694 | AO28: 622 | AP28: 622 | AQ28: 658 | AR28: 622 | AS28: 640 | AT28: 684 | AU28: 756 | AV28: 756 | AW28: 851.87555 | AX28: 846.90456
C29: STRAIGHT | D29: 2 | E29: 1 | F29: =F28+1 -> 23 | G29: =($F$7/I29)+G28 -> 5.9379385 | H29: =I29*3.6 -> 23.302875 | I29: =MIN(13.2,(SQRT((I28^2)+2*J28*$F$7))) -> 6.4730209 | J29: 0.8 | K29: =0.5*1.167*0.95*1.151*I29^2 -> 26.733376 | L29: 103 | M29: =525*J29 -> 420 | N29: 0 | O29: =K29+L29+M29+N29 -> 549.73338 | P29: =(O29*I29)/1000 -> 3.5584357 | Q29: =VLOOKUP(H29,AC30:AD91,2,TRUE) -> 4100 | R29: =VLOOKUP(Q29,$AG$7:$AH$68,2,FALSE) -> 11.45 | S29: =VLOOKUP(Q29,$AG$7:$AI$68,3,TRUE) -> 19.903451 | T29: =ROUNDUP(S29,0) -> 20 | U29: =MROUND(Q29,500) -> 4000 | V29: =MATCH(T29,$AJ$7:$AJ$29,0) -> 3 | W29: =MATCH(U29,$AK$6:$AX$6,0) -> 8 | X29: =INDEX($AK$7:$AX$29,V29,W29) -> 466 | Y29: =R29*0.7457 -> 8.538265 | AA29: =((AB29*PI()*0.23084)/(30*'Specifications (CW1)'!$G$6*'Specifications (CW1)'!$G$9)*1.6) -> 13.376335 | AB29: 3100 | AC29: =((AD29*PI()*0.22254)/(30*'Specifications (CW1)'!$G$7*'Specifications (CW1)'!$G$9)*1.6) -> 17.584609 | AD29: 3100 | AE29: =((AF29*PI()*0.2184)/(30*'Specifications (CW1)'!$G$8*'Specifications (CW1)'!$G$9)*1.6) -> 22.601726 | AF29: 3100 | AG29: 3100 | AH29: 7.572 | AI29: =(AH29*7127)/AG29 -> 17.408272 | AJ29: 0 | AK29: 0 | AL29: 0 | AM29: 0 | AN29: 0 | AO29: 0 | AP29: 0 | AQ29: 0 | AR29: 0 | AS29: 0 | AT29: 0 | AU29: 0 | AV29: 0 | AW29: 0 | AX29: 0
C30: STRAIGHT | D30: 2 | E30: 1 | F30: =F29+1 -> 24 | G30: =($F$7/I30)+G29 -> 6.0895581 | H30: =I30*3.6 -> 23.743631 | I30: =MIN(13.2,(SQRT((I29^2)+2*J29*$F$7))) -> 6.595453 | J30: 0.8 | K30: =0.5*1.167*0.95*1.151*I30^2 -> 27.754221 | L30: 103 | M30: =525*J30 -> 420 | N30: 0 | O30: =K30+L30+M30+N30 -> 550.75422 | P30: =(O30*I30)/1000 -> 3.6324736 | Q30: =VLOOKUP(H30,AC31:AD92,2,TRUE) -> 4100 | R30: =VLOOKUP(Q30,$AG$7:$AH$68,2,FALSE) -> 11.45 | S30: =VLOOKUP(Q30,$AG$7:$AI$68,3,TRUE) -> 19.903451 | T30: =ROUNDUP(S30,0) -> 20 | U30: =MROUND(Q30,500) -> 4000 | V30: =MATCH(T30,$AJ$7:$AJ$29,0) -> 3 | W30: =MATCH(U30,$AK$6:$AX$6,0) -> 8 | X30: =INDEX($AK$7:$AX$29,V30,W30) -> 466 | Y30: =R30*0.7457 -> 8.538265 | AA30: =((AB30*PI()*0.23084)/(30*'Specifications (CW1)'!$G$6*'Specifications (CW1)'!$G$9)*1.6) -> 13.807829 | AB30: 3200 | AC30: =((AD30*PI()*0.22254)/(30*'Specifications (CW1)'!$G$7*'Specifications (CW1)'!$G$9)*1.6) -> 18.151855 | AD30: 3200 | AE30: =((AF30*PI()*0.2184)/(30*'Specifications (CW1)'!$G$8*'Specifications (CW1)'!$G$9)*1.6) -> 23.330814 | AF30: 3200 | AG30: 3200 | AH30: 8.034 | AI30: =(AH30*7127)/AG30 -> 17.893224
C31: STRAIGHT | D31: 2 | E31: 1 | F31: =F30+1 -> 25 | G31: =($F$7/I31)+G30 -> 6.2384639 | H31: =I31*3.6 -> 24.176352 | I31: =MIN(13.2,(SQRT((I30^2)+2*J30*$F$7))) -> 6.7156534 | J31: 0.8 | K31: =0.5*1.167*0.95*1.151*I31^2 -> 28.775066 | L31: 103 | M31: =525*J31 -> 420 | N31: 0 | O31: =K31+L31+M31+N31 -> 551.77507 | P31: =(O31*I31)/1000 -> 3.7055301 | Q31: =VLOOKUP(H31,AC32:AD93,2,TRUE) -> 4200 | R31: =VLOOKUP(Q31,$AG$7:$AH$68,2,FALSE) -> 12.04 | S31: =VLOOKUP(Q31,$AG$7:$AI$68,3,TRUE) -> 20.430733 | T31: =ROUNDUP(S31,0) -> 21 | U31: =MROUND(Q31,500) -> 4000 | V31: =MATCH(T31,$AJ$7:$AJ$29,0) -> 2 | W31: =MATCH(U31,$AK$6:$AX$6,0) -> 8 | X31: =INDEX($AK$7:$AX$29,V31,W31) -> 488 | Y31: =R31*0.7457 -> 8.978228 | AA31: =((AB31*PI()*0.23084)/(30*'Specifications (CW1)'!$G$6*'Specifications (CW1)'!$G$9)*1.6) -> 14.239324 | AB31: 3300 | AC31: =((AD31*PI()*0.22254)/(30*'Specifications (CW1)'!$G$7*'Specifications (CW1)'!$G$9)*1.6) -> 18.7191 | AD31: 3300 | AE31: =((AF31*PI()*0.2184)/(30*'Specifications (CW1)'!$G$8*'Specifications (CW1)'!$G$9)*1.6) -> 24.059902 | AF31: 3300 | AG31: 3300 | AH31: 8.496 | AI31: =(AH31*7127)/AG31 -> 18.348785
C32: STRAIGHT | D32: 2 | E32: 1 | F32: =F31+1 -> 26 | G32: =($F$7/I32)+G31 -> 6.3847967 | H32: =I32*3.6 -> 24.601463 | I32: =MIN(13.2,(SQRT((I31^2)+2*J31*$F$7))) -> 6.8337398 | J32: 0.8 | K32: =0.5*1.167*0.95*1.151*I32^2 -> 29.795911 | L32: 103 | M32: =525*J32 -> 420 | N32: 0 | O32: =K32+L32+M32+N32 -> 552.79591 | P32: =(O32*I32)/1000 -> 3.7776634 | Q32: =VLOOKUP(H32,AC33:AD94,2,TRUE) -> 4300 | R32: =VLOOKUP(Q32,$AG$7:$AH$68,2,FALSE) -> 12.63 | S32: =VLOOKUP(Q32,$AG$7:$AI$68,3,TRUE) -> 20.933491 | T32: =ROUNDUP(S32,0) -> 21 | U32: =MROUND(Q32,500) -> 4500 | V32: =MATCH(T32,$AJ$7:$AJ$29,0) -> 2 | W32: =MATCH(U32,$AK$6:$AX$6,0) -> 9 | X32: =INDEX($AK$7:$AX$29,V32,W32) -> 488 | Y32: =R32*0.7457 -> 9.418191 | AA32: =((AB32*PI()*0.23084)/(30*'Specifications (CW1)'!$G$6*'Specifications (CW1)'!$G$9)*1.6) -> 14.670819 | AB32: 3400 | AC32: =((AD32*PI()*0.22254)/(30*'Specifications (CW1)'!$G$7*'Specifications (CW1)'!$G$9)*1.6) -> 19.286346 | AD32: 3400 | AE32: =((AF32*PI()*0.2184)/(30*'Specifications (CW1)'!$G$8*'Specifications (CW1)'!$G$9)*1.6) -> 24.78899 | AF32: 3400 | AG32: 3400 | AH32: 8.958 | AI32: =(AH32*7127)/AG32 -> 18.777549
C33: STRAIGHT | D33: 2 | E33: 1 | F33: =F32+1 -> 27 | G33: =($F$7/I33)+G32 -> 6.5286853 | H33: =I33*3.6 -> 25.019353 | I33: =MIN(13.2,(SQRT((I32^2)+2*J32*$F$7))) -> 6.9498201 | J33: 0 | K33: =0.5*1.167*0.95*1.151*I33^2 -> 30.816756 | L33: 103 | M33: =525*J33 -> 0 | N33: 0 | O33: =K33+L33+M33+N33 -> 133.81676 | P33: =(O33*I33)/1000 -> 0.93000239 | Q33: =VLOOKUP(H33,AC34:AD95,2,TRUE) -> 4400 | R33: =VLOOKUP(Q33,$AG$7:$AH$68,2,FALSE) -> 13.22 | S33: =VLOOKUP(Q33,$AG$7:$AI$68,3,TRUE) -> 21.413395 | T33: =ROUNDUP(S33,0) -> 22 | U33: =MROUND(Q33,500) -> 4500 | V33: =MATCH(T33,$AJ$7:$AJ$29,0) -> 1 | W33: =MATCH(U33,$AK$6:$AX$6,0) -> 9 | X33: =INDEX($AK$7:$AX$29,V33,W33) -> 488 | Y33: =R33*0.7457 -> 9.858154 | AA33: =((AB33*PI()*0.23084)/(30*'Specifications (CW1)'!$G$6*'Specifications (CW1)'!$G$9)*1.6) -> 15.102313 | AB33: 3500 | AC33: =((AD33*PI()*0.22254)/(30*'Specifications (CW1)'!$G$7*'Specifications (CW1)'!$G$9)*1.6) -> 19.853591 | AD33: 3500 | AE33: =((AF33*PI()*0.2184)/(30*'Specifications (CW1)'!$G$8*'Specifications (CW1)'!$G$9)*1.6) -> 25.518078 | AF33: 3500 | AG33: 3500 | AH33: 9.22 | AI33: =(AH33*7127)/AG33 -> 18.774554
C34: STRAIGHT | D34: 2 | E34: 1 | F34: =F33+1 -> 28 | G34: =($F$7/I34)+G33 -> 6.6725739 | H34: =I34*3.6 -> 25.019353 | I34: =MIN(13.2,(SQRT((I33^2)+2*J33*$F$7))) -> 6.9498201 | J34: 0 | K34: =0.5*1.167*0.95*1.151*I34^2 -> 30.816756 | L34: 103 | M34: =525*J34 -> 0 | N34: 0 | O34: =K34+L34+M34+N34 -> 133.81676 | P34: =(O34*I34)/1000 -> 0.93000239 | Q34: =VLOOKUP(H34,AC35:AD96,2,TRUE) -> 4400 | R34: =VLOOKUP(Q34,$AG$7:$AH$68,2,FALSE) -> 13.22 | S34: =VLOOKUP(Q34,$AG$7:$AI$68,3,TRUE) -> 21.413395 | T34: =ROUNDUP(S34,0) -> 22 | U34: =MROUND(Q34,500) -> 4500 | V34: =MATCH(T34,$AJ$7:$AJ$29,0) -> 1 | W34: =MATCH(U34,$AK$6:$AX$6,0) -> 9 | X34: =INDEX($AK$7:$AX$29,V34,W34) -> 488 | Y34: =R34*0.7457 -> 9.858154 | AA34: =((AB34*PI()*0.23084)/(30*'Specifications (CW1)'!$G$6*'Specifications (CW1)'!$G$9)*1.6) -> 15.533808 | AB34: 3600 | AC34: =((AD34*PI()*0.22254)/(30*'Specifications (CW1)'!$G$7*'Specifications (CW1)'!$G$9)*1.6) -> 20.420837 | AD34: 3600 | AE34: =((AF34*PI()*0.2184)/(30*'Specifications (CW1)'!$G$8*'Specifications (CW1)'!$G$9)*1.6) -> 26.247166 | AF34: 3600 | AG34: 3600 | AH34: 9.636 | AI34: =(AH34*7127)/AG34 -> 19.076603
C35: STRAIGHT | D35: 2 | E35: 1 | F35: =F34+1 -> 29 | G35: =($F$7/I35)+G34 -> 6.8164625 | H35: =I35*3.6 -> 25.019353 | I35: =MIN(13.2,(SQRT((I34^2)+2*J34*$F$7))) -> 6.9498201 | J35: 0 | K35: =0.5*1.167*0.95*1.151*I35^2 -> 30.816756 | L35: 103 | M35: =525*J35 -> 0 | N35: 0 | O35: =K35+L35+M35+N35 -> 133.81676 | P35: =(O35*I35)/1000 -> 0.93000239 | Q35: =VLOOKUP(H35,AC36:AD97,2,TRUE) -> 4400 | R35: =VLOOKUP(Q35,$AG$7:$AH$68,2,FALSE) -> 13.22 | S35: =VLOOKUP(Q35,$AG$7:$AI$68,3,TRUE) -> 21.413395 | T35: =ROUNDUP(S35,0) -> 22 | U35: =MROUND(Q35,500) -> 4500 | V35: =MATCH(T35,$AJ$7:$AJ$29,0) -> 1 | W35: =MATCH(U35,$AK$6:$AX$6,0) -> 9 | X35: =INDEX($AK$7:$AX$29,V35,W35) -> 488 | Y35: =R35*0.7457 -> 9.858154 | AA35: =((AB35*PI()*0.23084)/(30*'Specifications (CW1)'!$G$6*'Specifications (CW1)'!$G$9)*1.6) -> 15.965303 | AB35: 3700 | AC35: =((AD35*PI()*0.22254)/(30*'Specifications (CW1)'!$G$7*'Specifications (CW1)'!$G$9)*1.6) -> 20.988082 | AD35: 3700 | AE35: =((AF35*PI()*0.2184)/(30*'Specifications (CW1)'!$G$8*'Specifications (CW1)'!$G$9)*1.6) -> 26.976254 | AF35: 3700 | AG35: 3700 | AH35: 9.852 | AI35: =(AH35*7127)/AG35 -> 18.977082
C36: STRAIGHT | D36: 2 | E36: 1 | F36: =F35+1 -> 30 | G36: =($F$7/I36)+G35 -> 6.9603511 | H36: =I36*3.6 -> 25.019353 | I36: =MIN(13.2,(SQRT((I35^2)+2*J35*$F$7))) -> 6.9498201 | J36: 0 | K36: =0.5*1.167*0.95*1.151*I36^2 -> 30.816756 | L36: 103 | M36: =525*J36 -> 0 | N36: 0 | O36: =K36+L36+M36+N36 -> 133.81676 | P36: =(O36*I36)/1000 -> 0.93000239 | Q36: =VLOOKUP(H36,AC37:AD98,2,TRUE) -> 4400 | R36: =VLOOKUP(Q36,$AG$7:$AH$68,2,FALSE) -> 13.22 | S36: =VLOOKUP(Q36,$AG$7:$AI$68,3,TRUE) -> 21.413395 | T36: =ROUNDUP(S36,0) -> 22 | U36: =MROUND(Q36,500) -> 4500 | V36: =MATCH(T36,$AJ$7:$AJ$29,0) -> 1 | W36: =MATCH(U36,$AK$6:$AX$6,0) -> 9 | X36: =INDEX($AK$7:$AX$29,V36,W36) -> 488 | Y36: =R36*0.7457 -> 9.858154 | AA36: =((AB36*PI()*0.23084)/(30*'Specifications (CW1)'!$G$6*'Specifications (CW1)'!$G$9)*1.6) -> 16.396797 | AB36: 3800 | AC36: =((AD36*PI()*0.22254)/(30*'Specifications (CW1)'!$G$7*'Specifications (CW1)'!$G$9)*1.6) -> 21.555327 | AD36: 3800 | AE36: =((AF36*PI()*0.2184)/(30*'Specifications (CW1)'!$G$8*'Specifications (CW1)'!$G$9)*1.6) -> 27.705342 | AF36: 3800 | AG36: 3800 | AH36: 10.068 | AI36: =(AH36*7127)/AG36 -> 18.882799
C37: STRAIGHT | D37: 2 | E37: 1 | F37: =F36+1 -> 31 | G37: =($F$7/I37)+G36 -> 7.1042397 | H37: =I37*3.6 -> 25.019353 | I37: =MIN(13.2,(SQRT((I36^2)+2*J36*$F$7))) -> 6.9498201 | J37: 0 | K37: =0.5*1.167*0.95*1.151*I37^2 -> 30.816756 | L37: 103 | M37: =525*J37 -> 0 | N37: 0 | O37: =K37+L37+M37+N37 -> 133.81676 | P37: =(O37*I37)/1000 -> 0.93000239 | Q37: =VLOOKUP(H37,AC38:AD99,2,TRUE) -> 4400 | R37: =VLOOKUP(Q37,$AG$7:$AH$68,2,FALSE) -> 13.22 | S37: =VLOOKUP(Q37,$AG$7:$AI$68,3,TRUE) -> 21.413395 | T37: =ROUNDUP(S37,0) -> 22 | U37: =MROUND(Q37,500) -> 4500 | V37: =MATCH(T37,$AJ$7:$AJ$29,0) -> 1 | W37: =MATCH(U37,$AK$6:$AX$6,0) -> 9 | X37: =INDEX($AK$7:$AX$29,V37,W37) -> 488 | Y37: =R37*0.7457 -> 9.858154 | AA37: =((AB37*PI()*0.23084)/(30*'Specifications (CW1)'!$G$6*'Specifications (CW1)'!$G$9)*1.6) -> 16.828292 | AB37: 3900 | AC37: =((AD37*PI()*0.22254)/(30*'Specifications (CW1)'!$G$7*'Specifications (CW1)'!$G$9)*1.6) -> 22.122573 | AD37: 3900 | AE37: =((AF37*PI()*0.2184)/(30*'Specifications (CW1)'!$G$8*'Specifications (CW1)'!$G$9)*1.6) -> 28.43443 | AF37: 3900 | AG37: 3900 | AH37: 10.284 | AI37: =(AH37*7127)/AG37 -> 18.793351
C38: STRAIGHT | D38: 2 | E38: 1 | F38: =F37+1 -> 32 | G38: =($F$7/I38)+G37 -> 7.2481284 | H38: =I38*3.6 -> 25.019353 | I38: =MIN(13.2,(SQRT((I37^2)+2*J37*$F$7))) -> 6.9498201 | J38: 0 | K38: =0.5*1.167*0.95*1.151*I38^2 -> 30.816756 | L38: 103 | M38: =525*J38 -> 0 | N38: 0 | O38: =K38+L38+M38+N38 -> 133.81676 | P38: =(O38*I38)/1000 -> 0.93000239 | Q38: =VLOOKUP(H38,AC39:AD100,2,TRUE) -> 4400 | R38: =VLOOKUP(Q38,$AG$7:$AH$68,2,FALSE) -> 13.22 | S38: =VLOOKUP(Q38,$AG$7:$AI$68,3,TRUE) -> 21.413395 | T38: =ROUNDUP(S38,0) -> 22 | U38: =MROUND(Q38,500) -> 4500 | V38: =MATCH(T38,$AJ$7:$AJ$29,0) -> 1 | W38: =MATCH(U38,$AK$6:$AX$6,0) -> 9 | X38: =INDEX($AK$7:$AX$29,V38,W38) -> 488 | Y38: =R38*0.7457 -> 9.858154 | AA38: =((AB38*PI()*0.23084)/(30*'Specifications (CW1)'!$G$6*'Specifications (CW1)'!$G$9)*1.6) -> 17.259787 | AB38: 4000 | AC38: =((AD38*PI()*0.22254)/(30*'Specifications (CW1)'!$G$7*'Specifications (CW1)'!$G$9)*1.6) -> 22.689818 | AD38: 4000 | AE38: =((AF38*PI()*0.2184)/(30*'Specifications (CW1)'!$G$8*'Specifications (CW1)'!$G$9)*1.6) -> 29.163518 | AF38: 4000 | AG38: 4000 | AH38: 10.86 | AI38: =(AH38*7127)/AG38 -> 19.349805
C39: STRAIGHT | D39: 2 | E39: 1 | F39: =F38+1 -> 33 | G39: =($F$7/I39)+G38 -> 7.392017 | H39: =I39*3.6 -> 25.019353 | I39: =MIN(13.2,(SQRT((I38^2)+2*J38*$F$7))) -> 6.9498201 | J39: 0 | K39: =0.5*1.167*0.95*1.151*I39^2 -> 30.816756 | L39: 103 | M39: =525*J39 -> 0 | N39: 0 | O39: =K39+L39+M39+N39 -> 133.81676 | P39: =(O39*I39)/1000 -> 0.93000239 | Q39: =VLOOKUP(H39,AC40:AD101,2,TRUE) -> 4400 | R39: =VLOOKUP(Q39,$AG$7:$AH$68,2,FALSE) -> 13.22 | S39: =VLOOKUP(Q39,$AG$7:$AI$68,3,TRUE) -> 21.413395 | T39: =ROUNDUP(S39,0) -> 22 | U39: =MROUND(Q39,500) -> 4500 | V39: =MATCH(T39,$AJ$7:$AJ$29,0) -> 1 | W39: =MATCH(U39,$AK$6:$AX$6,0) -> 9 | X39: =INDEX($AK$7:$AX$29,V39,W39) -> 488 | Y39: =R39*0.7457 -> 9.858154 | AA39: =((AB39*PI()*0.23084)/(30*'Specifications (CW1)'!$G$6*'Specifications (CW1)'!$G$9)*1.6) -> 17.691282 | AB39: 4100 | AC39: =((AD39*PI()*0.22254)/(30*'Specifications (CW1)'!$G$7*'Specifications (CW1)'!$G$9)*1.6) -> 23.257064 | AD39: 4100 | AE39: =((AF39*PI()*0.2184)/(30*'Specifications (CW1)'!$G$8*'Specifications (CW1)'!$G$9)*1.6) -> 29.892606 | AF39: 4100 | AG39: 4100 | AH39: 11.45 | AI39: =(AH39*7127)/AG39 -> 19.903451
C40: STRAIGHT | D40: 2 | E40: 1 | F40: =F39+1 -> 34 | G40: =($F$7/I40)+G39 -> 7.5359056 | H40: =I40*3.6 -> 25.019353 | I40: =MIN(13.2,(SQRT((I39^2)+2*J39*$F$7))) -> 6.9498201 | J40: 0 | K40: =0.5*1.167*0.95*1.151*I40^2 -> 30.816756 | L40: 103 | M40: =525*J40 -> 0 | N40: 0 | O40: =K40+L40+M40+N40 -> 133.81676 | P40: =(O40*I40)/1000 -> 0.93000239 | Q40: =VLOOKUP(H40,AC41:AD102,2,TRUE) -> 4400 | R40: =VLOOKUP(Q40,$AG$7:$AH$68,2,FALSE) -> 13.22 | S40: =VLOOKUP(Q40,$AG$7:$AI$68,3,TRUE) -> 21.413395 | T40: =ROUNDUP(S40,0) -> 22 | U40: =MROUND(Q40,500) -> 4500 | V40: =MATCH(T40,$AJ$7:$AJ$29,0) -> 1 | W40: =MATCH(U40,$AK$6:$AX$6,0) -> 9 | X40: =INDEX($AK$7:$AX$29,V40,W40) -> 488 | Y40: =R40*0.7457 -> 9.858154 | AA40: =((AB40*PI()*0.23084)/(30*'Specifications (CW1)'!$G$6*'Specifications (CW1)'!$G$9)*1.6) -> 18.122776 | AB40: 4200 | AC40: =((AD40*PI()*0.22254)/(30*'Specifications (CW1)'!$G$7*'Specifications (CW1)'!$G$9)*1.6) -> 23.824309 | AD40: 4200 | AE40: =((AF40*PI()*0.2184)/(30*'Specifications (CW1)'!$G$8*'Specifications (CW1)'!$G$9)*1.6) -> 30.621694 | AF40: 4200 | AG40: 4200 | AH40: 12.04 | AI40: =(AH40*7127)/AG40 -> 20.430733
C41: STRAIGHT | D41: 3 | E41: 1 | F41: =F40+1 -> 35 | G41: =($F$7/I41)+G40 -> 7.6797942 | H41: =I41*3.6 -> 25.019353 | I41: =MIN(13.2,(SQRT((I40^2)+2*J40*$F$7))) -> 6.9498201 | J41: 0.7 | K41: =0.5*1.167*0.95*1.151*I41^2 -> 30.816756 | L41: 103 | M41: =525*J41 -> 367.5 | N41: 0 | O41: =K41+L41+M41+N41 -> 501.31676 | P41: =(O41*I41)/1000 -> 3.4840613 | Q41: =VLOOKUP(H41,$AE$7:$AF$68,2,TRUE) -> 3400 | R41: =VLOOKUP(Q41,$AG$7:$AH$68,2,FALSE) -> 8.958 | S41: =VLOOKUP(Q41,$AG$7:$AI$68,3,TRUE) -> 18.777549 | T41: =ROUNDUP(S41,0) -> 19 | U41: =MROUND(Q41,500) -> 3500 | V41: =MATCH(T41,$AJ$7:$AJ$29,0) -> 4 | W41: =MATCH(U41,$AK$6:$AX$6,0) -> 7 | X41: =INDEX($AK$7:$AX$29,V41,W41) -> 462 | Y41: =R41*0.7457 -> 6.6799806 | AA41: =((AB41*PI()*0.23084)/(30*'Specifications (CW1)'!$G$6*'Specifications (CW1)'!$G$9)*1.6) -> 18.554271 | AB41: 4300 | AC41: =((AD41*PI()*0.22254)/(30*'Specifications (CW1)'!$G$7*'Specifications (CW1)'!$G$9)*1.6) -> 24.391555 | AD41: 4300 | AE41: =((AF41*PI()*0.2184)/(30*'Specifications (CW1)'!$G$8*'Specifications (CW1)'!$G$9)*1.6) -> 31.350782 | AF41: 4300 | AG41: 4300 | AH41: 12.63 | AI41: =(AH41*7127)/AG41 -> 20.933491
C42: STRAIGHT | D42: 3 | E42: 1 | F42: =F41+1 -> 36 | G42: =($F$7/I42)+G41 -> 7.8216417 | H42: =I42*3.6 -> 25.379362 | I42: =MIN(13.2,(SQRT((I41^2)+2*J41*$F$7))) -> 7.0498227 | J42: 0.7 | K42: =0.5*1.167*0.95*1.151*I42^2 -> 31.709995 | L42: 103 | M42: =525*J42 -> 367.5 | N42: 0 | O42: =K42+L42+M42+N42 -> 502.21 | P42: =(O42*I42)/1000 -> 3.5404914 | Q42: =VLOOKUP(H42,$AE$7:$AF$68,2,TRUE) -> 3400 | R42: =VLOOKUP(Q42,$AG$7:$AH$68,2,FALSE) -> 8.958 | S42: =VLOOKUP(Q42,$AG$7:$AI$68,3,TRUE) -> 18.777549 | T42: =ROUNDUP(S42,0) -> 19 | U42: =MROUND(Q42,500) -> 3500 | V42: =MATCH(T42,$AJ$7:$AJ$29,0) -> 4 | W42: =MATCH(U42,$AK$6:$AX$6,0) -> 7 | X42: =INDEX($AK$7:$AX$29,V42,W42) -> 462 | Y42: =R42*0.7457 -> 6.6799806 | AA42: =((AB42*PI()*0.23084)/(30*'Specifications (CW1)'!$G$6*'Specifications (CW1)'!$G$9)*1.6) -> 18.985766 | AB42: 4400 | AC42: =((AD42*PI()*0.22254)/(30*'Specifications (CW1)'!$G$7*'Specifications (CW1)'!$G$9)*1.6) -> 24.9588 | AD42: 4400 | AE42: =((AF42*PI()*0.2184)/(30*'Specifications (CW1)'!$G$8*'Specifications (CW1)'!$G$9)*1.6) -> 32.07987 | AF42: 4400 | AG42: 4400 | AH42: 13.22 | AI42: =(AH42*7127)/AG42 -> 21.413395
C43: STRAIGHT | D43: 3 | E43: 1 | F43: =F42+1 -> 37 | G43: =($F$7/I43)+G42 -> 7.9615327 | H43: =I43*3.6 -> 25.734335 | I43: =MIN(13.2,(SQRT((I42^2)+2*J42*$F$7))) -> 7.1484264 | J43: 0.7 | K43: =0.5*1.167*0.95*1.151*I43^2 -> 32.603235 | L43: 103 | M43: =525*J43 -> 367.5 | N43: 0 | O43: =K43+L43+M43+N43 -> 503.10323 | P43: =(O43*I43)/1000 -> 3.5963964 | Q43: =VLOOKUP(H43,$AE$7:$AF$68,2,TRUE) -> 3500 | R43: =VLOOKUP(Q43,$AG$7:$AH$68,2,FALSE) -> 9.22 | S43: =VLOOKUP(Q43,$AG$7:$AI$68,3,TRUE) -> 18.774554 | T43: =ROUNDUP(S43,0) -> 19 | U43: =MROUND(Q43,500) -> 3500 | V43: =MATCH(T43,$AJ$7:$AJ$29,0) -> 4 | W43: =MATCH(U43,$AK$6:$AX$6,0) -> 7 | X43: =INDEX($AK$7:$AX$29,V43,W43) -> 462 | Y43: =R43*0.7457 -> 6.875354 | AA43: =((AB43*PI()*0.23084)/(30*'Specifications (CW1)'!$G$6*'Specifications (CW1)'!$G$9)*1.6) -> 19.41726 | AB43: 4500 | AC43: =((AD43*PI()*0.22254)/(30*'Specifications (CW1)'!$G$7*'Specifications (CW1)'!$G$9)*1.6) -> 25.526046 | AD43: 4500 | AE43: =((AF43*PI()*0.2184)/(30*'Specifications (CW1)'!$G$8*'Specifications (CW1)'!$G$9)*1.6) -> 32.808958 | AF43: 4500 | AG43: 4500 | AH43: 13.81 | AI43: =(AH43*7127)/AG43 -> 21.871971
C44: STRAIGHT | D44: 3 | E44: 1 | F44: =F43+1 -> 38 | G44: =($F$7/I44)+G43 -> 8.0995458 | H44: =I44*3.6 -> 26.084478 | I44: =MIN(13.2,(SQRT((I43^2)+2*J43*$F$7))) -> 7.2456884 | J44: 0.7 | K44: =0.5*1.167*0.95*1.151*I44^2 -> 33.496474 | L44: 103 | M44: =525*J44 -> 367.5 | N44: 0 | O44: =K44+L44+M44+N44 -> 503.99647 | P44: =(O44*I44)/1000 -> 3.6518014 | Q44: =VLOOKUP(H44,$AE$7:$AF$68,2,TRUE) -> 3500 | R44: =VLOOKUP(Q44,$AG$7:$AH$68,2,FALSE) -> 9.22 | S44: =VLOOKUP(Q44,$AG$7:$AI$68,3,TRUE) -> 18.774554 | T44: =ROUNDUP(S44,0) -> 19 | U44: =MROUND(Q44,500) -> 3500 | V44: =MATCH(T44,$AJ$7:$AJ$29,0) -> 4 | W44: =MATCH(U44,$AK$6:$AX$6,0) -> 7 | X44: =INDEX($AK$7:$AX$29,V44,W44) -> 462 | Y44: =R44*0.7457 -> 6.875354 | AA44: =((AB44*PI()*0.23084)/(30*'Specifications (CW1)'!$G$6*'Specifications (CW1)'!$G$9)*1.6) -> 19.848755 | AB44: 4600 | AC44: =((AD44*PI()*0.22254)/(30*'Specifications (CW1)'!$G$7*'Specifications (CW1)'!$G$9)*1.6) -> 26.093291 | AD44: 4600 | AE44: =((AF44*PI()*0.2184)/(30*'Specifications (CW1)'!$G$8*'Specifications (CW1)'!$G$9)*1.6) -> 33.538046 | AF44: 4600 | AG44: 4600 | AH44: 14.1 | AI44: =(AH44*7127)/AG44 -> 21.845804
C45: STRAIGHT | D45: 3 | E45: 1 | F45: =F44+1 -> 39 | G45: =($F$7/I45)+G44 -> 8.2357547 | H45: =I45*3.6 -> 26.429983 | I45: =MIN(13.2,(SQRT((I44^2)+2*J44*$F$7))) -> 7.3416619 | J45: 0.7 | K45: =0.5*1.167*0.95*1.151*I45^2 -> 34.389713 | L45: 103 | M45: =525*J45 -> 367.5 | N45: 0 | O45: =K45+L45+M45+N45 -> 504.88971 | P45: =(O45*I45)/1000 -> 3.7067296 | Q45: =VLOOKUP(H45,$AE$7:$AF$68,2,TRUE) -> 3600 | R45: =VLOOKUP(Q45,$AG$7:$AH$68,2,FALSE) -> 9.636 | S45: =VLOOKUP(Q45,$AG$7:$AI$68,3,TRUE) -> 19.076603 | T45: =ROUNDUP(S45,0) -> 20 | U45: =MROUND(Q45,500) -> 3500 | V45: =MATCH(T45,$AJ$7:$AJ$29,0) -> 3 | W45: =MATCH(U45,$AK$6:$AX$6,0) -> 7 | X45: =INDEX($AK$7:$AX$29,V45,W45) -> 462 | Y45: =R45*0.7457 -> 7.1855652 | AA45: =((AB45*PI()*0.23084)/(30*'Specifications (CW1)'!$G$6*'Specifications (CW1)'!$G$9)*1.6) -> 20.28025 | AB45: 4700 | AC45: =((AD45*PI()*0.22254)/(30*'Specifications (CW1)'!$G$7*'Specifications (CW1)'!$G$9)*1.6) -> 26.660537 | AD45: 4700 | AE45: =((AF45*PI()*0.2184)/(30*'Specifications (CW1)'!$G$8*'Specifications (CW1)'!$G$9)*1.6) -> 34.267133 | AF45: 4700 | AG45: 4700 | AH45: 14.39 | AI45: =(AH45*7127)/AG45 -> 21.820751
C46: STRAIGHT | D46: 3 | E46: 1 | F46: =F45+1 -> 40 | G46: =($F$7/I46)+G45 -> 8.3702285 | H46: =I46*3.6 -> 26.771029 | I46: =MIN(13.2,(SQRT((I45^2)+2*J45*$F$7))) -> 7.436397 | J46: 0.7 | K46: =0.5*1.167*0.95*1.151*I46^2 -> 35.282953 | L46: 103 | M46: =525*J46 -> 367.5 | N46: 0 | O46: =K46+L46+M46+N46 -> 505.78295 | P46: =(O46*I46)/1000 -> 3.7612028 | Q46: =VLOOKUP(H46,$AE$7:$AF$68,2,TRUE) -> 3600 | R46: =VLOOKUP(Q46,$AG$7:$AH$68,2,FALSE) -> 9.636 | S46: =VLOOKUP(Q46,$AG$7:$AI$68,3,TRUE) -> 19.076603 | T46: =ROUNDUP(S46,0) -> 20 | U46: =MROUND(Q46,500) -> 3500 | V46: =MATCH(T46,$AJ$7:$AJ$29,0) -> 3 | W46: =MATCH(U46,$AK$6:$AX$6,0) -> 7 | X46: =INDEX($AK$7:$AX$29,V46,W46) -> 462 | Y46: =R46*0.7457 -> 7.1855652 | AA46: =((AB46*PI()*0.23084)/(30*'Specifications (CW1)'!$G$6*'Specifications (CW1)'!$G$9)*1.6) -> 20.711744 | AB46: 4800 | AC46: =((AD46*PI()*0.22254)/(30*'Specifications (CW1)'!$G$7*'Specifications (CW1)'!$G$9)*1.6) -> 27.227782 | AD46: 4800 | AE46: =((AF46*PI()*0.2184)/(30*'Specifications (CW1)'!$G$8*'Specifications (CW1)'!$G$9)*1.6) -> 34.996221 | AF46: 4800 | AG46: 4800 | AH46: 14.68 | AI46: =(AH46*7127)/AG46 -> 21.796742
C47: STRAIGHT | D47: 3 | E47: 1 | F47: =F46+1 -> 41 | G47: =($F$7/I47)+G46 -> 8.5030316 | H47: =I47*3.6 -> 27.107785 | I47: =MIN(13.2,(SQRT((I46^2)+2*J46*$F$7))) -> 7.5299402 | J47: 0.7 | K47: =0.5*1.167*0.95*1.151*I47^2 -> 36.176192 | L47: 103 | M47: =525*J47 -> 367.5 | N47: 0 | O47: =K47+L47+M47+N47 -> 506.67619 | P47: =(O47*I47)/1000 -> 3.8152414 | Q47: =VLOOKUP(H47,$AE$7:$AF$68,2,TRUE) -> 3700 | R47: =VLOOKUP(Q47,$AG$7:$AH$68,2,FALSE) -> 9.852 | S47: =VLOOKUP(Q47,$AG$7:$AI$68,3,TRUE) -> 18.977082 | T47: =ROUNDUP(S47,0) -> 19 | U47: =MROUND(Q47,500) -> 3500 | V47: =MATCH(T47,$AJ$7:$AJ$29,0) -> 4 | W47: =MATCH(U47,$AK$6:$AX$6,0) -> 7 | X47: =INDEX($AK$7:$AX$29,V47,W47) -> 462 | Y47: =R47*0.7457 -> 7.3466364 | AA47: =((AB47*PI()*0.23084)/(30*'Specifications (CW1)'!$G$6*'Specifications (CW1)'!$G$9)*1.6) -> 21.143239 | AB47: 4900 | AC47: =((AD47*PI()*0.22254)/(30*'Specifications (CW1)'!$G$7*'Specifications (CW1)'!$G$9)*1.6) -> 27.795028 | AD47: 4900 | AE47: =((AF47*PI()*0.2184)/(30*'Specifications (CW1)'!$G$8*'Specifications (CW1)'!$G$9)*1.6) -> 35.725309 | AF47: 4900 | AG47: 4900 | AH47: 14.97 | AI47: =(AH47*7127)/AG47 -> 21.773712
C48: STRAIGHT | D48: 3 | E48: 1 | F48: =F47+1 -> 42 | G48: =($F$7/I48)+G47 -> 8.634225 | H48: =I48*3.6 -> 27.440408 | I48: =MIN(13.2,(SQRT((I47^2)+2*J47*$F$7))) -> 7.6223356 | J48: 0.7 | K48: =0.5*1.167*0.95*1.151*I48^2 -> 37.069431 | L48: 103 | M48: =525*J48 -> 367.5 | N48: 0 | O48: =K48+L48+M48+N48 -> 507.56943 | P48: =(O48*I48)/1000 -> 3.8688645 | Q48: =VLOOKUP(H48,$AE$7:$AF$68,2,TRUE) -> 3700 | R48: =VLOOKUP(Q48,$AG$7:$AH$68,2,FALSE) -> 9.852 | S48: =VLOOKUP(Q48,$AG$7:$AI$68,3,TRUE) -> 18.977082 | T48: =ROUNDUP(S48,0) -> 19 | U48: =MROUND(Q48,500) -> 3500 | V48: =MATCH(T48,$AJ$7:$AJ$29,0) -> 4 | W48: =MATCH(U48,$AK$6:$AX$6,0) -> 7 | X48: =INDEX($AK$7:$AX$29,V48,W48) -> 462 | Y48: =R48*0.7457 -> 7.3466364 | AA48: =((AB48*PI()*0.23084)/(30*'Specifications (CW1)'!$G$6*'Specifications (CW1)'!$G$9)*1.6) -> 21.574734 | AB48: 5000 | AC48: =((AD48*PI()*0.22254)/(30*'Specifications (CW1)'!$G$7*'Specifications (CW1)'!$G$9)*1.6) -> 28.362273 | AD48: 5000 | AE48: =((AF48*PI()*0.2184)/(30*'Specifications (CW1)'!$G$8*'Specifications (CW1)'!$G$9)*1.6) -> 36.454397 | AF48: 5000 | AG48: 5000 | AH48: 15.26 | AI48: =(AH48*7127)/AG48 -> 21.751604
C49: STRAIGHT | D49: 3 | E49: 1 | F49: =F48+1 -> 43 | G49: =($F$7/I49)+G48 -> 8.7638658 | H49: =I49*3.6 -> 27.769048 | I49: =MIN(13.2,(SQRT((I48^2)+2*J48*$F$7))) -> 7.7136243 | J49: 0.7 | K49: =0.5*1.167*0.95*1.151*I49^2 -> 37.96267 | L49: 103 | M49: =525*J49 -> 367.5 | N49: 0 | O49: =K49+L49+M49+N49 -> 508.46267 | P49: =(O49*I49)/1000 -> 3.92209 | Q49: =VLOOKUP(H49,$AE$7:$AF$68,2,TRUE) -> 3800 | R49: =VLOOKUP(Q49,$AG$7:$AH$68,2,FALSE) -> 10.068 | S49: =VLOOKUP(Q49,$AG$7:$AI$68,3,TRUE) -> 18.882799 | T49: =ROUNDUP(S49,0) -> 19 | U49: =MROUND(Q49,500) -> 4000 | V49: =MATCH(T49,$AJ$7:$AJ$29,0) -> 4 | W49: =MATCH(U49,$AK$6:$AX$6,0) -> 8 | X49: =INDEX($AK$7:$AX$29,V49,W49) -> 466 | Y49: =R49*0.7457 -> 7.5077076 | AA49: =((AB49*PI()*0.23084)/(30*'Specifications (CW1)'!$G$6*'Specifications (CW1)'!$G$9)*1.6) -> 22.006228 | AB49: 5100 | AC49: =((AD49*PI()*0.22254)/(30*'Specifications (CW1)'!$G$7*'Specifications (CW1)'!$G$9)*1.6) -> 28.929518 | AD49: 5100 | AE49: =((AF49*PI()*0.2184)/(30*'Specifications (CW1)'!$G$8*'Specifications (CW1)'!$G$9)*1.6) -> 37.183485 | AF49: 5100 | AG49: 5100 | AH49: 15.59 | AI49: =(AH49*7127)/AG49 -> 21.786261
C50: STRAIGHT | D50: 3 | E50: 1 | F50: =F49+1 -> 44 | G50: =($F$7/I50)+G49 -> 8.8920077 | H50: =I50*3.6 -> 28.093843 | I50: =MIN(13.2,(SQRT((I49^2)+2*J49*$F$7))) -> 7.8038452 | J50: 0.7 | K50: =0.5*1.167*0.95*1.151*I50^2 -> 38.85591 | L50: 103 | M50: =525*J50 -> 367.5 | N50: 0 | O50: =K50+L50+M50+N50 -> 509.35591 | P50: =(O50*I50)/1000 -> 3.9749347 | Q50: =VLOOKUP(H50,$AE$7:$AF$68,2,TRUE) -> 3800 | R50: =VLOOKUP(Q50,$AG$7:$AH$68,2,FALSE) -> 10.068 | S50: =VLOOKUP(Q50,$AG$7:$AI$68,3,TRUE) -> 18.882799 | T50: =ROUNDUP(S50,0) -> 19 | U50: =MROUND(Q50,500) -> 4000 | V50: =MATCH(T50,$AJ$7:$AJ$29,0) -> 4 | W50: =MATCH(U50,$AK$6:$AX$6,0) -> 8 | X50: =INDEX($AK$7:$AX$29,V50,W50) -> 466 | Y50: =R50*0.7457 -> 7.5077076 | AA50: =((AB50*PI()*0.23084)/(30*'Specifications (CW1)'!$G$6*'Specifications (CW1)'!$G$9)*1.6) -> 22.437723 | AB50: 5200 | AC50: =((AD50*PI()*0.22254)/(30*'Specifications (CW1)'!$G$7*'Specifications (CW1)'!$G$9)*1.6) -> 29.496764 | AD50: 5200 | AE50: =((AF50*PI()*0.2184)/(30*'Specifications (CW1)'!$G$8*'Specifications (CW1)'!$G$9)*1.6) -> 37.912573 | AF50: 5200 | AG50: 5200 | AH50: 15.92 | AI50: =(AH50*7127)/AG50 -> 21.819585
C51: STRAIGHT | D51: 3 | E51: 1 | F51: =F50+1 -> 45 | G51: =($F$7/I51)+G50 -> 9.0187017 | H51: =I51*3.6 -> 28.414926 | I51: =MIN(13.2,(SQRT((I50^2)+2*J50*$F$7))) -> 7.8930349 | J51: 0.7 | K51: =0.5*1.167*0.95*1.151*I51^2 -> 39.749149 | L51: 103 | M51: =525*J51 -> 367.5 | N51: 0 | O51: =K51+L51+M51+N51 -> 510.24915 | P51: =(O51*I51)/1000 -> 4.0274143 | Q51: =VLOOKUP(H51,$AE$7:$AF$68,2,TRUE) -> 3800 | R51: =VLOOKUP(Q51,$AG$7:$AH$68,2,FALSE) -> 10.068 | S51: =VLOOKUP(Q51,$AG$7:$AI$68,3,TRUE) -> 18.882799 | T51: =ROUNDUP(S51,0) -> 19 | U51: =MROUND(Q51,500) -> 4000 | V51: =MATCH(T51,$AJ$7:$AJ$29,0) -> 4 | W51: =MATCH(U51,$AK$6:$AX$6,0) -> 8 | X51: =INDEX($AK$7:$AX$29,V51,W51) -> 466 | Y51: =R51*0.7457 -> 7.5077076 | AA51: =((AB51*PI()*0.23084)/(30*'Specifications (CW1)'!$G$6*'Specifications (CW1)'!$G$9)*1.6) -> 22.869218 | AB51: 5300 | AC51: =((AD51*PI()*0.22254)/(30*'Specifications (CW1)'!$G$7*'Specifications (CW1)'!$G$9)*1.6) -> 30.064009 | AD51: 5300 | AE51: =((AF51*PI()*0.2184)/(30*'Specifications (CW1)'!$G$8*'Specifications (CW1)'!$G$9)*1.6) -> 38.641661 | AF51: 5300 | AG51: 5300 | AH51: 16.25 | AI51: =(AH51*7127)/AG51 -> 21.851651
C52: STRAIGHT | D52: 3 | E52: 1 | F52: =F51+1 -> 46 | G52: =($F$7/I52)+G51 -> 9.1439957 | H52: =I52*3.6 -> 28.732421 | I52: =MIN(13.2,(SQRT((I51^2)+2*J51*$F$7))) -> 7.981228 | J52: 0.7 | K52: =0.5*1.167*0.95*1.151*I52^2 -> 40.642388 | L52: 103 | M52: =525*J52 -> 367.5 | N52: 0 | O52: =K52+L52+M52+N52 -> 511.14239 | P52: =(O52*I52)/1000 -> 4.0795439 | Q52: =VLOOKUP(H52,$AE$7:$AF$68,2,TRUE) -> 3900 | R52: =VLOOKUP(Q52,$AG$7:$AH$68,2,FALSE) -> 10.284 | S52: =VLOOKUP(Q52,$AG$7:$AI$68,3,TRUE) -> 18.793351 | T52: =ROUNDUP(S52,0) -> 19 | U52: =MROUND(Q52,500) -> 4000 | V52: =MATCH(T52,$AJ$7:$AJ$29,0) -> 4 | W52: =MATCH(U52,$AK$6:$AX$6,0) -> 8 | X52: =INDEX($AK$7:$AX$29,V52,W52) -> 466 | Y52: =R52*0.7457 -> 7.6687788 | AA52: =((AB52*PI()*0.23084)/(30*'Specifications (CW1)'!$G$6*'Specifications (CW1)'!$G$9)*1.6) -> 23.300712 | AB52: 5400 | AC52: =((AD52*PI()*0.22254)/(30*'Specifications (CW1)'!$G$7*'Specifications (CW1)'!$G$9)*1.6) -> 30.631255 | AD52: 5400 | AE52: =((AF52*PI()*0.2184)/(30*'Specifications (CW1)'!$G$8*'Specifications (CW1)'!$G$9)*1.6) -> 39.370749 | AF52: 5400 | AG52: 5400 | AH52: 16.58 | AI52: =(AH52*7127)/AG52 -> 21.88253
... C68: STRAIGHT | D68: 3 | E68: 1 | F68: =F67+1 -> 62 | G68: =($F$7/I68)+G67 -> 10.989248 | H68: =I68*3.6 -> 33.404431 | I68: =MIN(13.2,(SQRT((I67^2)+2*J67*$F$7))) -> 9.2790086 | J68: 0.7 | K68: =0.5*1.167*0.95*1.151*I68^2 -> 54.934217 | L68: 103 | M68: =525*J68 -> 367.5 | N68: 0 | O68: =K68+L68+M68+N68 -> 525.43422 | P68: =(O68*I68)/1000 -> 4.8755086 | Q68: =VLOOKUP(H68,$AE$7:$AF$68,2,TRUE) -> 4500 | R68: =VLOOKUP(Q68,$AG$7:$AH$68,2,FALSE) -> 13.81 | S68: =VLOOKUP(Q68,$AG$7:$AI$68,3,TRUE) -> 21.871971 | T68: =ROUNDUP(S68,0) -> 22 | U68: =MROUND(Q68,500) -> 4500 | V68: =MATCH(T68,$AJ$7:$AJ$29,0) -> 1 | W68: =MATCH(U68,$AK$6:$AX$6,0) -> 9 | X68: =INDEX($AK$7:$AX$29,V68,W68) -> 488 | Y68: =R68*0.7457 -> 10.298117 | AA68: =((AB68*PI()*0.23084)/(30*'Specifications (CW1)'!$G$6*'Specifications (CW1)'!$G$9)*1.6) -> 30.204627 | AB68: 7000 | AC68: =((AD68*PI()*0.22254)/(30*'Specifications (CW1)'!$G$7*'Specifications (CW1)'!$G$9)*1.6) -> 39.707182 | AD68: 7000 | AE68: =((AF68*PI()*0.2184)/(30*'Specifications (CW1)'!$G$8*'Specifications (CW1)'!$G$9)*1.6) -> 51.036156 | AF68: 7000 | AG68: 7000 | AH68: 12.45 | AI68: =(AH68*7127)/AG68 -> 12.675879
C69: STRAIGHT | D69: 3 | E69: 1 | F69: =F68+1 -> 63 | G69: =($F$7/I69)+G68 -> 11.096152 | H69: =I69*3.6 -> 33.674916 | I69: =MIN(13.2,(SQRT((I68^2)+2*J68*$F$7))) -> 9.3541435 | J69: 0.7 | K69: =0.5*1.167*0.95*1.151*I69^2 -> 55.827457 | L69: 103 | M69: =525*J69 -> 367.5 | N69: 0 | O69: =K69+L69+M69+N69 -> 526.32746 | P69: =(O69*I69)/1000 -> 4.9233425 | Q69: =VLOOKUP(H69,$AE$7:$AF$68,2,TRUE) -> 4600 | R69: =VLOOKUP(Q69,$AG$7:$AH$68,2,FALSE) -> 14.1 | S69: =VLOOKUP(Q69,$AG$7:$AI$68,3,TRUE) -> 21.845804 | T69: =ROUNDUP(S69,0) -> 22 | U69: =MROUND(Q69,500) -> 4500 | V69: =MATCH(T69,$AJ$7:$AJ$29,0) -> 1 | W69: =MATCH(U69,$AK$6:$AX$6,0) -> 9 | X69: =INDEX($AK$7:$AX$29,V69,W69) -> 488 | Y69: =R69*0.7457 -> 10.51437
C70: STRAIGHT | D70: 3 | E70: 1 | F70: =F69+1 -> 64 | G70: =($F$7/I70)+G69 -> 11.202212 | H70: =I70*3.6 -> 33.943247 | I70: =MIN(13.2,(SQRT((I69^2)+2*J69*$F$7))) -> 9.4286797 | J70: 0.7 | K70: =0.5*1.167*0.95*1.151*I70^2 -> 56.720696 | L70: 103 | M70: =525*J70 -> 367.5 | N70: 0 | O70: =K70+L70+M70+N70 -> 527.2207 | P70: =(O70*I70)/1000 -> 4.970995 | Q70: =VLOOKUP(H70,$AE$7:$AF$68,2,TRUE) -> 4600 | R70: =VLOOKUP(Q70,$AG$7:$AH$68,2,FALSE) -> 14.1 | S70: =VLOOKUP(Q70,$AG$7:$AI$68,3,TRUE) -> 21.845804 | T70: =ROUNDUP(S70,0) -> 22 | U70: =MROUND(Q70,500) -> 4500 | V70: =MATCH(T70,$AJ$7:$AJ$29,0) -> 1 | W70: =MATCH(U70,$AK$6:$AX$6,0) -> 9 | X70: =INDEX($AK$7:$AX$29,V70,W70) -> 488 | Y70: =R70*0.7457 -> 10.51437
C71: STRAIGHT | D71: 3 | E71: 1 | F71: =F70+1 -> 65 | G71: =($F$7/I71)+G70 -> 11.307446 | H71: =I71*3.6 -> 34.209472 | I71: =MIN(13.2,(SQRT((I70^2)+2*J70*$F$7))) -> 9.5026312 | J71: 0.7 | K71: =0.5*1.167*0.95*1.151*I71^2 -> 57.613935 | L71: 103 | M71: =525*J71 -> 367.5 | N71: 0 | O71: =K71+L71+M71+N71 -> 528.11394 | P71: =(O71*I71)/1000 -> 5.018472 | Q71: =VLOOKUP(H71,$AE$7:$AF$68,2,TRUE) -> 4600 | R71: =VLOOKUP(Q71,$AG$7:$AH$68,2,FALSE) -> 14.1 | S71: =VLOOKUP(Q71,$AG$7:$AI$68,3,TRUE) -> 21.845804 | T71: =ROUNDUP(S71,0) -> 22 | U71: =MROUND(Q71,500) -> 4500 | V71: =MATCH(T71,$AJ$7:$AJ$29,0) -> 1 | W71: =MATCH(U71,$AK$6:$AX$6,0) -> 9 | X71: =INDEX($AK$7:$AX$29,V71,W71) -> 488 | Y71: =R71*0.7457 -> 10.51437
C72: STRAIGHT | D72: 3 | E72: 1 | F72: =F71+1 -> 66 | G72: =($F$7/I72)+G71 -> 11.411873 | H72: =I72*3.6 -> 34.473642 | I72: =MIN(13.2,(SQRT((I71^2)+2*J71*$F$7))) -> 9.5760117 | J72: 0.7 | K72: =0.5*1.167*0.95*1.151*I72^2 -> 58.507174 | L72: 103 | M72: =525*J72 -> 367.5 | N72: 0 | O72: =K72+L72+M72+N72 -> 529.00717 | P72: =(O72*I72)/1000 -> 5.0657789 | Q72: =VLOOKUP(H72,$AE$7:$AF$68,2,TRUE) -> 4700 | R72: =VLOOKUP(Q72,$AG$7:$AH$68,2,FALSE) -> 14.39 | S72: =VLOOKUP(Q72,$AG$7:$AI$68,3,TRUE) -> 21.820751 | T72: =ROUNDUP(S72,0) -> 22 | U72: =MROUND(Q72,500) -> 4500 | V72: =MATCH(T72,$AJ$7:$AJ$29,0) -> 1 | W72: =MATCH(U72,$AK$6:$AX$6,0) -> 9 | X72: =INDEX($AK$7:$AX$29,V72,W72) -> 488 | Y72: =R72*0.7457 -> 10.730623
C73: STRAIGHT | D73: 3 | E73: 1 | F73: =F72+1 -> 67 | G73: =($F$7/I73)+G72 -> 11.515513 | H73: =I73*3.6 -> 34.735803 | I73: =MIN(13.2,(SQRT((I72^2)+2*J72*$F$7))) -> 9.6488341 | J73: 0.7 | K73: =0.5*1.167*0.95*1.151*I73^2 -> 59.400414 | L73: 103 | M73: =525*J73 -> 367.5 | N73: 0 | O73: =K73+L73+M73+N73 -> 529.90041 | P73: =(O73*I73)/1000 -> 5.1129212 | Q73: =VLOOKUP(H73,$AE$7:$AF$68,2,TRUE) -> 4700 | R73: =VLOOKUP(Q73,$AG$7:$AH$68,2,FALSE) -> 14.39 | S73: =VLOOKUP(Q73,$AG$7:$AI$68,3,TRUE) -> 21.820751 | T73: =ROUNDUP(S73,0) -> 22 | U73: =MROUND(Q73,500) -> 4500 | V73: =MATCH(T73,$AJ$7:$AJ$29,0) -> 1 | W73: =MATCH(U73,$AK$6:$AX$6,0) -> 9 | X73: =INDEX($AK$7:$AX$29,V73,W73) -> 488 | Y73: =R73*0.7457 -> 10.730623
C74: STRAIGHT | D74: 3 | E74: 1 | F74: =F73+1 -> 68 | G74: =($F$7/I74)+G73 -> 11.618382 | H74: =I74*3.6 -> 34.996 | I74: =MIN(13.2,(SQRT((I73^2)+2*J73*$F$7))) -> 9.721111 | J74: 0.7 | K74: =0.5*1.167*0.95*1.151*I74^2 -> 60.293653 | L74: 103 | M74: =525*J74 -> 367.5 | N74: 0 | O74: =K74+L74+M74+N74 -> 530.79365 | P74: =(O74*I74)/1000 -> 5.159904 | Q74: =VLOOKUP(H74,$AE$7:$AF$68,2,TRUE) -> 4700 | R74: =VLOOKUP(Q74,$AG$7:$AH$68,2,FALSE) -> 14.39 | S74: =VLOOKUP(Q74,$AG$7:$AI$68,3,TRUE) -> 21.820751 | T74: =ROUNDUP(S74,0) -> 22 | U74: =MROUND(Q74,500) -> 4500 | V74: =MATCH(T74,$AJ$7:$AJ$29,0) -> 1 | W74: =MATCH(U74,$AK$6:$AX$6,0) -> 9 | X74: =INDEX($AK$7:$AX$29,V74,W74) -> 488 | Y74: =R74*0.7457 -> 10.730623
C75: STRAIGHT | D75: 3 | E75: 1 | F75: =F74+1 -> 69 | G75: =($F$7/I75)+G74 -> 11.720497 | H75: =I75*3.6 -> 35.254276 | I75: =MIN(13.2,(SQRT((I74^2)+2*J74*$F$7))) -> 9.7928545 | J75: 0.7 | K75: =0.5*1.167*0.95*1.151*I75^2 -> 61.186892 | L75: 103 | M75: =525*J75 -> 367.5 | N75: 0 | O75: =K75+L75+M75+N75 -> 531.68689 | P75: =(O75*I75)/1000 -> 5.2067324 | Q75: =VLOOKUP(H75,$AE$7:$AF$68,2,TRUE) -> 4800 | R75: =VLOOKUP(Q75,$AG$7:$AH$68,2,FALSE) -> 14.68 | S75: =VLOOKUP(Q75,$AG$7:$AI$68,3,TRUE) -> 21.796742 | T75: =ROUNDUP(S75,0) -> 22 | U75: =MROUND(Q75,500) -> 5000 | V75: =MATCH(T75,$AJ$7:$AJ$29,0) -> 1 | W75: =MATCH(U75,$AK$6:$AX$6,0) -> 10 | X75: =INDEX($AK$7:$AX$29,V75,W75) -> 488 | Y75: =R75*0.7457 -> 10.946876
C76: STRAIGHT | D76: 3 | E76: 1 | F76: =F75+1 -> 70 | G76: =($F$7/I76)+G75 -> 11.821875 | H76: =I76*3.6 -> 35.510674 | I76: =MIN(13.2,(SQRT((I75^2)+2*J75*$F$7))) -> 9.8640762 | J76: 0.7 | K76: =0.5*1.167*0.95*1.151*I76^2 -> 62.080132 | L76: 103 | M76: =525*J76 -> 367.5 | N76: 0 | O76: =K76+L76+M76+N76 -> 532.58013 | P76: =(O76*I76)/1000 -> 5.253411 | Q76: =VLOOKUP(H76,$AE$7:$AF$68,2,TRUE) -> 4800 | R76: =VLOOKUP(Q76,$AG$7:$AH$68,2,FALSE) -> 14.68 | S76: =VLOOKUP(Q76,$AG$7:$AI$68,3,TRUE) -> 21.796742 | T76: =ROUNDUP(S76,0) -> 22 | U76: =MROUND(Q76,500) -> 5000 | V76: =MATCH(T76,$AJ$7:$AJ$29,0) -> 1 | W76: =MATCH(U76,$AK$6:$AX$6,0) -> 10 | X76: =INDEX($AK$7:$AX$29,V76,W76) -> 488 | Y76: =R76*0.7457 -> 10.946876
C77: STRAIGHT | D77: 3 | E77: 1 | F77: =F76+1 -> 71 | G77: =($F$7/I77)+G76 -> 11.922531 | H77: =I77*3.6 -> 35.765235 | I77: =MIN(13.2,(SQRT((I76^2)+2*J76*$F$7))) -> 9.9347874 | J77: 0.7 | K77: =0.5*1.167*0.95*1.151*I77^2 -> 62.973371 | L77: 103 | M77: =525*J77 -> 367.5 | N77: 0 | O77: =K77+L77+M77+N77 -> 533.47337 | P77: =(O77*I77)/1000 -> 5.2999445 | Q77: =VLOOKUP(H77,$AE$7:$AF$68,2,TRUE) -> 4900 | R77: =VLOOKUP(Q77,$AG$7:$AH$68,2,FALSE) -> 14.97 | S77: =VLOOKUP(Q77,$AG$7:$AI$68,3,TRUE) -> 21.773712 | T77: =ROUNDUP(S77,0) -> 22 | U77: =MROUND(Q77,500) -> 5000 | V77: =MATCH(T77,$AJ$7:$AJ$29,0) -> 1 | W77: =MATCH(U77,$AK$6:$AX$6,0) -> 10 | X77: =INDEX($AK$7:$AX$29,V77,W77) -> 488 | Y77: =R77*0.7457 -> 11.163129
C78: STRAIGHT | D78: 3 | E78: 1 | F78: =F77+1 -> 72 | G78: =($F$7/I78)+G77 -> 12.022481 | H78: =I78*3.6 -> 36.017996 | I78: =MIN(13.2,(SQRT((I77^2)+2*J77*$F$7))) -> 10.004999 | J78: 0.7 | K78: =0.5*1.167*0.95*1.151*I78^2 -> 63.86661 | L78: 103 | M78: =525*J78 -> 367.5 | N78: 0 | O78: =K78+L78+M78+N78 -> 534.36661 | P78: =(O78*I78)/1000 -> 5.3463373 | Q78: =VLOOKUP(H78,$AE$7:$AF$68,2,TRUE) -> 4900 | R78: =VLOOKUP(Q78,$AG$7:$AH$68,2,FALSE) -> 14.97 | S78: =VLOOKUP(Q78,$AG$7:$AI$68,3,TRUE) -> 21.773712 | T78: =ROUNDUP(S78,0) -> 22 | U78: =MROUND(Q78,500) -> 5000 | V78: =MATCH(T78,$AJ$7:$AJ$29,0) -> 1 | W78: =MATCH(U78,$AK$6:$AX$6,0) -> 10 | X78: =INDEX($AK$7:$AX$29,V78,W78) -> 488 | Y78: =R78*0.7457 -> 11.163129
C79: STRAIGHT | D79: 3 | E79: 1 | F79: =F78+1 -> 73 | G79: =($F$7/I79)+G78 -> 12.12174 | H79: =I79*3.6 -> 36.268995 | I79: =MIN(13.2,(SQRT((I78^2)+2*J78*$F$7))) -> 10.074721 | J79: 0.7 | K79: =0.5*1.167*0.95*1.151*I79^2 -> 64.75985 | L79: 103 | M79: =525*J79 -> 367.5 | N79: 0 | O79: =K79+L79+M79+N79 -> 535.25985 | P79: =(O79*I79)/1000 -> 5.3925936 | Q79: =VLOOKUP(H79,$AE$7:$AF$68,2,TRUE) -> 4900 | R79: =VLOOKUP(Q79,$AG$7:$AH$68,2,FALSE) -> 14.97 | S79: =VLOOKUP(Q79,$AG$7:$AI$68,3,TRUE) -> 21.773712 | T79: =ROUNDUP(S79,0) -> 22 | U79: =MROUND(Q79,500) -> 5000 | V79: =MATCH(T79,$AJ$7:$AJ$29,0) -> 1 | W79: =MATCH(U79,$AK$6:$AX$6,0) -> 10 | X79: =INDEX($AK$7:$AX$29,V79,W79) -> 488 | Y79: =R79*0.7457 -> 11.163129
C80: STRAIGHT | D80: 3 | E80: 1 | F80: =F79+1 -> 74 | G80: =($F$7/I80)+G79 -> 12.22032 | H80: =I80*3.6 -> 36.518269 | I80: =MIN(13.2,(SQRT((I79^2)+2*J79*$F$7))) -> 10.143964 | J80: 0.7 | K80: =0.5*1.167*0.95*1.151*I80^2 -> 65.653089 | L80: 103 | M80: =525*J80 -> 367.5 | N80: 0 | O80: =K80+L80+M80+N80 -> 536.15309 | P80: =(O80*I80)/1000 -> 5.4387175 | Q80: =VLOOKUP(H80,$AE$7:$AF$68,2,TRUE) -> 5000 | R80: =VLOOKUP(Q80,$AG$7:$AH$68,2,FALSE) -> 15.26 | S80: =VLOOKUP(Q80,$AG$7:$AI$68,3,TRUE) -> 21.751604 | T80: =ROUNDUP(S80,0) -> 22 | U80: =MROUND(Q80,500) -> 5000 | V80: =MATCH(T80,$AJ$7:$AJ$29,0) -> 1 | W80: =MATCH(U80,$AK$6:$AX$6,0) -> 10 | X80: =INDEX($AK$7:$AX$29,V80,W80) -> 488 | Y80: =R80*0.7457 -> 11.379382
... C90: STRAIGHT | D90: 3 | E90: 1 | F90: =F89+1 -> 84 | G90: =($F$7/I90)+G89 -> 13.171665 | H90: =I90*3.6 -> 38.923309 | I90: =MIN(13.2,(SQRT((I89^2)+2*J89*$F$7))) -> 10.81203 | J90: 0.7 | K90: =0.5*1.167*0.95*1.151*I90^2 -> 74.585482 | L90: 103 | M90: =525*J90 -> 367.5 | N90: 0 | O90: =K90+L90+M90+N90 -> 545.08548 | P90: =(O90*I90)/1000 -> 5.8934808 | Q90: =VLOOKUP(H90,$AE$7:$AF$68,2,TRUE) -> 5300 | R90: =VLOOKUP(Q90,$AG$7:$AH$68,2,FALSE) -> 16.25 | S90: =VLOOKUP(Q90,$AG$7:$AI$68,3,TRUE) -> 21.851651 | T90: =ROUNDUP(S90,0) -> 22 | U90: =MROUND(Q90,500) -> 5500 | V90: =MATCH(T90,$AJ$7:$AJ$29,0) -> 1 | W90: =MATCH(U90,$AK$6:$AX$6,0) -> 11 | X90: =INDEX($AK$7:$AX$29,V90,W90) -> 488 | Y90: =R90*0.7457 -> 12.117625
C91: BP | D91: 3 | E91: 1 | F91: =F90+1 -> 85 | G91: =($F$7/I91)+G90 -> 13.263606 | H91: =I91*3.6 -> 39.155689 | I91: =MIN(13.2,(SQRT((I90^2)+2*J90*$F$7))) -> 10.87658 | J91: -0.7 | K91: =0.5*1.167*0.95*1.151*I91^2 -> 75.478721 | L91: 103 | M91: =525*J91 -> -367.5 | N91: 0 | O91: =K91+L91+M91+N91 -> -189.02128 | P91: =(O91*I91)/1000 -> -2.0559051 | Q91: =VLOOKUP(H91,$AE$7:$AF$68,2,TRUE) -> 5300 | R91: =VLOOKUP(Q91,$AG$7:$AH$68,2,FALSE) -> 16.25 | S91: =VLOOKUP(Q91,$AG$7:$AI$68,3,TRUE) -> 21.851651 | T91: =ROUNDUP(S91,0) -> 22 | U91: =MROUND(Q91,500) -> 5500 | V91: =MATCH(T91,$AJ$7:$AJ$29,0) -> 1 | W91: =MATCH(U91,$AK$6:$AX$6,0) -> 11 | X91: 0 | Y91: =R91*0.7457 -> 12.117625
C92: BP | D92: 3 | E92: 1 | F92: =F91+1 -> 86 | G92: =($F$7/I92)+G91 -> 13.356096 | H92: =I92*3.6 -> 38.923309 | I92: =MIN(13.2,(SQRT((I91^2)+2*J91*$F$7))) -> 10.81203 | J92: -0.7 | K92: =0.5*1.167*0.95*1.151*I92^2 -> 74.585482 | L92: 103 | M92: =525*J92 -> -367.5 | N92: 0 | O92: =K92+L92+M92+N92 -> -189.91452 | P92: =(O92*I92)/1000 -> -2.0533615 | Q92: =VLOOKUP(H92,$AE$7:$AF$68,2,TRUE) -> 5300 | R92: =VLOOKUP(Q92,$AG$7:$AH$68,2,FALSE) -> 16.25 | S92: =VLOOKUP(Q92,$AG$7:$AI$68,3,TRUE) -> 21.851651 | T92: =ROUNDUP(S92,0) -> 22 | U92: =MROUND(Q92,500) -> 5500 | V92: =MATCH(T92,$AJ$7:$AJ$29,0) -> 1 | W92: =MATCH(U92,$AK$6:$AX$6,0) -> 11 | X92: 0 | Y92: =R92*0.7457 -> 12.117625
C93: BP | D93: 3 | E93: 1 | F93: =F92+1 -> 87 | G93: =($F$7/I93)+G92 -> 13.449144 | H93: =I93*3.6 -> 38.689533 | I93: =MIN(13.2,(SQRT((I92^2)+2*J92*$F$7))) -> 10.747093 | J93: -0.7 | K93: =0.5*1.167*0.95*1.151*I93^2 -> 73.692243 | L93: 103 | M93: =525*J93 -> -367.5 | N93: 0 | O93: =K93+L93+M93+N93 -> -190.80776 | P93: =(O93*I93)/1000 -> -2.0506286 | Q93: =VLOOKUP(H93,$AE$7:$AF$68,2,TRUE) -> 5300 | R93: =VLOOKUP(Q93,$AG$7:$AH$68,2,FALSE) -> 16.25 | S93: =VLOOKUP(Q93,$AG$7:$AI$68,3,TRUE) -> 21.851651 | T93: =ROUNDUP(S93,0) -> 22 | U93: =MROUND(Q93,500) -> 5500 | V93: =MATCH(T93,$AJ$7:$AJ$29,0) -> 1 | W93: =MATCH(U93,$AK$6:$AX$6,0) -> 11 | X93: 0 | Y93: =R93*0.7457 -> 12.117625
C94: BP | D94: 3 | E94: 1 | F94: =F93+1 -> 88 | G94: =($F$7/I94)+G93 -> 13.542762 | H94: =I94*3.6 -> 38.454337 | I94: =MIN(13.2,(SQRT((I93^2)+2*J93*$F$7))) -> 10.68176 | J94: -0.7 | K94: =0.5*1.167*0.95*1.151*I94^2 -> 72.799003 | L94: 103 | M94: =525*J94 -> -367.5 | N94: 0 | O94: =K94+L94+M94+N94 -> -191.701 | P94: =(O94*I94)/1000 -> -2.0477041 | Q94: =VLOOKUP(H94,$AE$7:$AF$68,2,TRUE) -> 5200 | R94: =VLOOKUP(Q94,$AG$7:$AH$68,2,FALSE) -> 15.92 | S94: =VLOOKUP(Q94,$AG$7:$AI$68,3,TRUE) -> 21.819585 | T94: =ROUNDUP(S94,0) -> 22 | U94: =MROUND(Q94,500) -> 5000 | V94: =MATCH(T94,$AJ$7:$AJ$29,0) -> 1 | W94: =MATCH(U94,$AK$6:$AX$6,0) -> 10 | X94: 0 | Y94: =R94*0.7457 -> 11.871544
C95: BP | D95: 3 | E95: 1 | F95: =F94+1 -> 89 | G95: =($F$7/I95)+G94 -> 13.636959 | H95: =I95*3.6 -> 38.217692 | I95: =MIN(13.2,(SQRT((I94^2)+2*J94*$F$7))) -> 10.616026 | J95: -0.7 | K95: =0.5*1.167*0.95*1.151*I95^2 -> 71.905764 | L95: 103 | M95: =525*J95 -> -367.5 | N95: 0 | O95: =K95+L95+M95+N95 -> -192.59424 | P95: =(O95*I95)/1000 -> -2.0445853 | Q95: =VLOOKUP(H95,$AE$7:$AF$68,2,TRUE) -> 5200 | R95: =VLOOKUP(Q95,$AG$7:$AH$68,2,FALSE) -> 15.92 | S95: =VLOOKUP(Q95,$AG$7:$AI$68,3,TRUE) -> 21.819585 | T95: =ROUNDUP(S95,0) -> 22 | U95: =MROUND(Q95,500) -> 5000 | V95: =MATCH(T95,$AJ$7:$AJ$29,0) -> 1 | W95: =MATCH(U95,$AK$6:$AX$6,0) -> 10 | X95: 0 | Y95: =R95*0.7457 -> 11.871544
C96: BP | D96: 3 | E96: 1 | F96: =F95+1 -> 90 | G96: =($F$7/I96)+G95 -> 13.731747 | H96: =I96*3.6 -> 37.979573 | I96: =MIN(13.2,(SQRT((I95^2)+2*J95*$F$7))) -> 10.549882 | J96: -0.7 | K96: =0.5*1.167*0.95*1.151*I96^2 -> 71.012525 | L96: 103 | M96: =525*J96 -> -367.5 | N96: 0 | O96: =K96+L96+M96+N96 -> -193.48748 | P96: =(O96*I96)/1000 -> -2.0412699 | Q96: =VLOOKUP(H96,$AE$7:$AF$68,2,TRUE) -> 5200 | R96: =VLOOKUP(Q96,$AG$7:$AH$68,2,FALSE) -> 15.92 | S96: =VLOOKUP(Q96,$AG$7:$AI$68,3,TRUE) -> 21.819585 | T96: =ROUNDUP(S96,0) -> 22 | U96: =MROUND(Q96,500) -> 5000 | V96: =MATCH(T96,$AJ$7:$AJ$29,0) -> 1 | W96: =MATCH(U96,$AK$6:$AX$6,0) -> 10 | X96: 0 | Y96: =R96*0.7457 -> 11.871544
C97: BP | D97: 3 | E97: 1 | F97: =F96+1 -> 91 | G97: =($F$7/I97)+G96 -> 13.827136 | H97: =I97*3.6 -> 37.739952 | I97: =MIN(13.2,(SQRT((I96^2)+2*J96*$F$7))) -> 10.48332 | J97: -0.7 | K97: =0.5*1.167*0.95*1.151*I97^2 -> 70.119285 | L97: 103 | M97: =525*J97 -> -367.5 | N97: 0 | O97: =K97+L97+M97+N97 -> -194.38071 | P97: =(O97*I97)/1000 -> -2.0377552 | Q97: =VLOOKUP(H97,$AE$7:$AF$68,2,TRUE) -> 5100 | R97: =VLOOKUP(Q97,$AG$7:$AH$68,2,FALSE) -> 15.59 | S97: =VLOOKUP(Q97,$AG$7:$AI$68,3,TRUE) -> 21.786261 | T97: =ROUNDUP(S97,0) -> 22 | U97: =MROUND(Q97,500) -> 5000 | V97: =MATCH(T97,$AJ$7:$AJ$29,0) -> 1 | W97: =MATCH(U97,$AK$6:$AX$6,0) -> 10 | X97: 0 | Y97: =R97*0.7457 -> 11.625463
C98: BP | D98: 3 | E98: 1 | F98: =F97+1 -> 92 | G98: =($F$7/I98)+G97 -> 13.923139 | H98: =I98*3.6 -> 37.4988 | I98: =MIN(13.2,(SQRT((I97^2)+2*J97*$F$7))) -> 10.416333 | J98: -0.7 | K98: =0.5*1.167*0.95*1.151*I98^2 -> 69.226046 | L98: 103 | M98: =525*J98 -> -367.5 | N98: 0 | O98: =K98+L98+M98+N98 -> -195.27395 | P98: =(O98*I98)/1000 -> -2.0340386 | Q98: =VLOOKUP(H98,$AE$7:$AF$68,2,TRUE) -> 5100 | R98: =VLOOKUP(Q98,$AG$7:$AH$68,2,FALSE) -> 15.59 | S98: =VLOOKUP(Q98,$AG$7:$AI$68,3,TRUE) -> 21.786261 | T98: =ROUNDUP(S98,0) -> 22 | U98: =MROUND(Q98,500) -> 5000 | V98: =MATCH(T98,$AJ$7:$AJ$29,0) -> 1 | W98: =MATCH(U98,$AK$6:$AX$6,0) -> 10 | X98: 0 | Y98: =R98*0.7457 -> 11.625463
C99: BP | D99: 3 | E99: 1 | F99: =F98+1 -> 93 | G99: =($F$7/I99)+G98 -> 14.019768 | H99: =I99*3.6 -> 37.256087 | I99: =MIN(13.2,(SQRT((I98^2)+2*J98*$F$7))) -> 10.348913 | J99: -0.7 | K99: =0.5*1.167*0.95*1.151*I99^2 -> 68.332807 | L99: 103 | M99: =525*J99 -> -367.5 | N99: 0 | O99: =K99+L99+M99+N99 -> -196.16719 | P99: =(O99*I99)/1000 -> -2.0301172 | Q99: =VLOOKUP(H99,$AE$7:$AF$68,2,TRUE) -> 5100 | R99: =VLOOKUP(Q99,$AG$7:$AH$68,2,FALSE) -> 15.59 | S99: =VLOOKUP(Q99,$AG$7:$AI$68,3,TRUE) -> 21.786261 | T99: =ROUNDUP(S99,0) -> 22 | U99: =MROUND(Q99,500) -> 5000 | V99: =MATCH(T99,$AJ$7:$AJ$29,0) -> 1 | W99: =MATCH(U99,$AK$6:$AX$6,0) -> 10 | X99: 0 | Y99: =R99*0.7457 -> 11.625463
C100: BP | D100: 3 | E100: 1 | F100: =F99+1 -> 94 | G100: =($F$7/I100)+G99 -> 14.117034 | H100: =I100*3.6 -> 37.011782 | I100: =MIN(13.2,(SQRT((I99^2)+2*J99*$F$7))) -> 10.281051 | J100: -0.7 | K100: =0.5*1.167*0.95*1.151*I100^2 -> 67.439568 | L100: 103 | M100: =525*J100 -> -367.5 | N100: 0 | O100: =K100+L100+M100+N100 -> -197.06043 | P100: =(O100*I100)/1000 -> -2.0259883 | Q100: =VLOOKUP(H100,$AE$7:$AF$68,2,TRUE) -> 5000 | R100: =VLOOKUP(Q100,$AG$7:$AH$68,2,FALSE) -> 15.26 | S100: =VLOOKUP(Q100,$AG$7:$AI$68,3,TRUE) -> 21.751604 | T100: =ROUNDUP(S100,0) -> 22 | U100: =MROUND(Q100,500) -> 5000 | V100: =MATCH(T100,$AJ$7:$AJ$29,0) -> 1 | W100: =MATCH(U100,$AK$6:$AX$6,0) -> 10 | X100: 0 | Y100: =R100*0.7457 -> 11.379382
C101: BP | D101: 3 | E101: 1 | F101: =F100+1 -> 95 | G101: =($F$7/I101)+G100 -> 14.214951 | H101: =I101*3.6 -> 36.765854 | I101: =MIN(13.2,(SQRT((I100^2)+2*J100*$F$7))) -> 10.212737 | J101: -0.7 | K101: =0.5*1.167*0.95*1.151*I101^2 -> 66.546328 | L101: 103 | M101: =525*J101 -> -367.5 | N101: 0 | O101: =K101+L101+M101+N101 -> -197.95367 | P101: =(O101*I101)/1000 -> -2.0216488 | Q101: =VLOOKUP(H101,$AE$7:$AF$68,2,TRUE) -> 5000 | R101: =VLOOKUP(Q101,$AG$7:$AH$68,2,FALSE) -> 15.26 | S101: =VLOOKUP(Q101,$AG$7:$AI$68,3,TRUE) -> 21.751604 | T101: =ROUNDUP(S101,0) -> 22 | U101: =MROUND(Q101,500) -> 5000 | V101: =MATCH(T101,$AJ$7:$AJ$29,0) -> 1 | W101: =MATCH(U101,$AK$6:$AX$6,0) -> 10 | X101: 0 | Y101: =R101*0.7457 -> 11.379382
C102: BP | D102: 3 | E102: 1 | F102: =F101+1 -> 96 | G102: =($F$7/I102)+G101 -> 14.313532 | H102: =I102*3.6 -> 36.518269 | I102: =MIN(13.2,(SQRT((I101^2)+2*J101*$F$7))) -> 10.143964 | J102: -0.7 | K102: =0.5*1.167*0.95*1.151*I102^2 -> 65.653089 | L102: 103 | M102: =525*J102 -> -367.5 | N102: 0 | O102: =K102+L102+M102+N102 -> -198.84691 | P102: =(O102*I102)/1000 -> -2.0170959 | Q102: =VLOOKUP(H102,$AE$7:$AF$68,2,TRUE) -> 5000 | R102: =VLOOKUP(Q102,$AG$7:$AH$68,2,FALSE) -> 15.26 | S102: =VLOOKUP(Q102,$AG$7:$AI$68,3,TRUE) -> 21.751604 | T102: =ROUNDUP(S102,0) -> 22 | U102: =MROUND(Q102,500) -> 5000 | V102: =MATCH(T102,$AJ$7:$AJ$29,0) -> 1 | W102: =MATCH(U102,$AK$6:$AX$6,0) -> 10 | X102: 0 | Y102: =R102*0.7457 -> 11.379382
... C120: BP | D120: 3 | E120: 1 | F120: =F119+1 -> 114 | G120: =($F$7/I120)+G119 -> 16.257923 | H120: =I120*3.6 -> 30.098239 | I120: =MIN(13.2,(SQRT((I119^2)+2*J119*$F$7))) -> 8.360622 | J120: -1 | K120: =0.5*1.167*0.95*1.151*I120^2 -> 44.598162 | L120: 103 | M120: =525*J120 -> -525 | N120: 0 | O120: =K120+L120+M120+N120 -> -377.40184 | P120: =(O120*I120)/1000 -> -3.1553141 | Q120: =VLOOKUP(H120,$AE$7:$AF$68,2,TRUE) -> 4100 | R120: =VLOOKUP(Q120,$AG$7:$AH$68,2,FALSE) -> 11.45 | S120: =VLOOKUP(Q120,$AG$7:$AI$68,3,TRUE) -> 19.903451 | T120: =ROUNDUP(S120,0) -> 20 | U120: =MROUND(Q120,500) -> 4000 | V120: =MATCH(T120,$AJ$7:$AJ$29,0) -> 3 | W120: =MATCH(U120,$AK$6:$AX$6,0) -> 8 | X120: 0 | Y120: =R120*0.7457 -> 8.538265
C121: APEX | D121: 3 | E121: 1 | F121: =F120+1 -> 115 | G121: =($F$7/I121)+G120 -> 16.37928 | H121: =I121*3.6 -> 29.664524 | I121: =MIN(13.2,(SQRT((I120^2)+2*J120*$F$7))) -> 8.2401456 | J121: 0.8 | K121: =0.5*1.167*0.95*1.151*I121^2 -> 43.322106 | L121: 103 | M121: =525*J121 -> 420 | N121: 0 | O121: =K121+L121+M121+N121 -> 566.32211 | P121: =(O121*I121)/1000 -> 4.6665766 | Q121: =VLOOKUP(H121,$AE$7:$AF$68,2,TRUE) -> 4000 | R121: =VLOOKUP(Q121,$AG$7:$AH$68,2,FALSE) -> 10.86 | S121: =VLOOKUP(Q121,$AG$7:$AI$68,3,TRUE) -> 19.349805 | T121: =ROUNDUP(S121,0) -> 20 | U121: =MROUND(Q121,500) -> 4000 | V121: =MATCH(T121,$AJ$7:$AJ$29,0) -> 3 | W121: =MATCH(U121,$AK$6:$AX$6,0) -> 8 | X121: =INDEX($AK$7:$AX$29,V121,W121) -> 466 | Y121: =R121*0.7457 -> 8.098302
C122: APEX | D122: 3 | E122: 1 | F122: =F121+1 -> 116 | G122: =($F$7/I122)+G121 -> 16.499232 | H122: =I122*3.6 -> 30.011998 | I122: =MIN(13.2,(SQRT((I121^2)+2*J121*$F$7))) -> 8.336666 | J122: 0.8 | K122: =0.5*1.167*0.95*1.151*I122^2 -> 44.342951 | L122: 103 | M122: =525*J122 -> 420 | N122: 0 | O122: =K122+L122+M122+N122 -> 567.34295 | P122: =(O122*I122)/1000 -> 4.7297487 | Q122: =VLOOKUP(H122,$AE$7:$AF$68,2,TRUE) -> 4100 | R122: =VLOOKUP(Q122,$AG$7:$AH$68,2,FALSE) -> 11.45 | S122: =VLOOKUP(Q122,$AG$7:$AI$68,3,TRUE) -> 19.903451 | T122: =ROUNDUP(S122,0) -> 20 | U122: =MROUND(Q122,500) -> 4000 | V122: =MATCH(T122,$AJ$7:$AJ$29,0) -> 3 | W122: =MATCH(U122,$AK$6:$AX$6,0) -> 8 | X122: =INDEX($AK$7:$AX$29,V122,W122) -> 466 | Y122: =R122*0.7457 -> 8.538265
C123: APEX | D123: 3 | E123: 1 | F123: =F122+1 -> 117 | G123: =($F$7/I123)+G122 -> 16.617827 | H123: =I123*3.6 -> 30.355494 | I123: =MIN(13.2,(SQRT((I122^2)+2*J122*$F$7))) -> 8.4320816 | J123: 0.8 | K123: =0.5*1.167*0.95*1.151*I123^2 -> 45.363796 | L123: 103 | M123: =525*J123 -> 420 | N123: 0 | O123: =K123+L123+M123+N123 -> 568.3638 | P123: =(O123*I123)/1000 -> 4.7924899 | Q123: =VLOOKUP(H123,$AE$7:$AF$68,2,TRUE) -> 4100 | R123: =VLOOKUP(Q123,$AG$7:$AH$68,2,FALSE) -> 11.45 | S123: =VLOOKUP(Q123,$AG$7:$AI$68,3,TRUE) -> 19.903451 | T123: =ROUNDUP(S123,0) -> 20 | U123: =MROUND(Q123,500) -> 4000 | V123: =MATCH(T123,$AJ$7:$AJ$29,0) -> 3 | W123: =MATCH(U123,$AK$6:$AX$6,0) -> 8 | X123: =INDEX($AK$7:$AX$29,V123,W123) -> 466 | Y123: =R123*0.7457 -> 8.538265
C124: APEX | D124: 3 | E124: 1 | F124: =F123+1 -> 118 | G124: =($F$7/I124)+G123 -> 16.735109 | H124: =I124*3.6 -> 30.695146 | I124: =MIN(13.2,(SQRT((I123^2)+2*J123*$F$7))) -> 8.5264295 | J124: 0.8 | K124: =0.5*1.167*0.95*1.151*I124^2 -> 46.384641 | L124: 103 | M124: =525*J124 -> 420 | N124: 0 | O124: =K124+L124+M124+N124 -> 569.38464 | P124: =(O124*I124)/1000 -> 4.854818 | Q124: =VLOOKUP(H124,$AE$7:$AF$68,2,TRUE) -> 4200 | R124: =VLOOKUP(Q124,$AG$7:$AH$68,2,FALSE) -> 12.04 | S124: =VLOOKUP(Q124,$AG$7:$AI$68,3,TRUE) -> 20.430733 | T124: =ROUNDUP(S124,0) -> 21 | U124: =MROUND(Q124,500) -> 4000 | V124: =MATCH(T124,$AJ$7:$AJ$29,0) -> 2 | W124: =MATCH(U124,$AK$6:$AX$6,0) -> 8 | X124: =INDEX($AK$7:$AX$29,V124,W124) -> 488 | Y124: =R124*0.7457 -> 8.978228
C125: APEX | D125: 3 | E125: 1 | F125: =F124+1 -> 119 | G125: =($F$7/I125)+G124 -> 16.851122 | H125: =I125*3.6 -> 31.031081 | I125: =MIN(13.2,(SQRT((I124^2)+2*J124*$F$7))) -> 8.6197448 | J125: 0.8 | K125: =0.5*1.167*0.95*1.151*I125^2 -> 47.405486 | L125: 103 | M125: =525*J125 -> 420 | N125: 0 | O125: =K125+L125+M125+N125 -> 570.40549 | P125: =(O125*I125)/1000 -> 4.9167497 | Q125: =VLOOKUP(H125,$AE$7:$AF$68,2,TRUE) -> 4200 | R125: =VLOOKUP(Q125,$AG$7:$AH$68,2,FALSE) -> 12.04 | S125: =VLOOKUP(Q125,$AG$7:$AI$68,3,TRUE) -> 20.430733 | T125: =ROUNDUP(S125,0) -> 21 | U125: =MROUND(Q125,500) -> 4000 | V125: =MATCH(T125,$AJ$7:$AJ$29,0) -> 2 | W125: =MATCH(U125,$AK$6:$AX$6,0) -> 8 | X125: =INDEX($AK$7:$AX$29,V125,W125) -> 488 | Y125: =R125*0.7457 -> 8.978228
C126: APEX | D126: 3 | E126: 1 | F126: =F125+1 -> 120 | G126: =($F$7/I126)+G125 -> 16.965905 | H126: =I126*3.6 -> 31.363418 | I126: =MIN(13.2,(SQRT((I125^2)+2*J125*$F$7))) -> 8.7120606 | J126: 0.8 | K126: =0.5*1.167*0.95*1.151*I126^2 -> 48.426331 | L126: 103 | M126: =525*J126 -> 420 | N126: 0 | O126: =K126+L126+M126+N126 -> 571.42633 | P126: =(O126*I126)/1000 -> 4.9783008 | Q126: =VLOOKUP(H126,$AE$7:$AF$68,2,TRUE) -> 4300 | R126: =VLOOKUP(Q126,$AG$7:$AH$68,2,FALSE) -> 12.63 | S126: =VLOOKUP(Q126,$AG$7:$AI$68,3,TRUE) -> 20.933491 | T126: =ROUNDUP(S126,0) -> 21 | U126: =MROUND(Q126,500) -> 4500 | V126: =MATCH(T126,$AJ$7:$AJ$29,0) -> 2 | W126: =MATCH(U126,$AK$6:$AX$6,0) -> 9 | X126: =INDEX($AK$7:$AX$29,V126,W126) -> 488 | Y126: =R126*0.7457 -> 9.418191
C127: APEX | D127: 3 | E127: 1 | F127: =F126+1 -> 121 | G127: =($F$7/I127)+G126 -> 17.079497 | H127: =I127*3.6 -> 31.69227 | I127: =MIN(13.2,(SQRT((I126^2)+2*J126*$F$7))) -> 8.8034084 | J127: 0.8 | K127: =0.5*1.167*0.95*1.151*I127^2 -> 49.447176 | L127: 103 | M127: =525*J127 -> 420 | N127: 0 | O127: =K127+L127+M127+N127 -> 572.44718 | P127: =(O127*I127)/1000 -> 5.0394863 | Q127: =VLOOKUP(H127,$AE$7:$AF$68,2,TRUE) -> 4300 | R127: =VLOOKUP(Q127,$AG$7:$AH$68,2,FALSE) -> 12.63 | S127: =VLOOKUP(Q127,$AG$7:$AI$68,3,TRUE) -> 20.933491 | T127: =ROUNDUP(S127,0) -> 21 | U127: =MROUND(Q127,500) -> 4500 | V127: =MATCH(T127,$AJ$7:$AJ$29,0) -> 2 | W127: =MATCH(U127,$AK$6:$AX$6,0) -> 9 | X127: =INDEX($AK$7:$AX$29,V127,W127) -> 488 | Y127: =R127*0.7457 -> 9.418191
C128: APEX | D128: 3 | E128: 1 | F128: =F127+1 -> 122 | G128: =($F$7/I128)+G127 -> 17.191935 | H128: =I128*3.6 -> 32.017745 | I128: =MIN(13.2,(SQRT((I127^2)+2*J127*$F$7))) -> 8.8938181 | J128: 0.8 | K128: =0.5*1.167*0.95*1.151*I128^2 -> 50.468021 | L128: 103 | M128: =525*J128 -> 420 | N128: 0 | O128: =K128+L128+M128+N128 -> 573.46802 | P128: =(O128*I128)/1000 -> 5.1003202 | Q128: =VLOOKUP(H128,$AE$7:$AF$68,2,TRUE) -> 4300 | R128: =VLOOKUP(Q128,$AG$7:$AH$68,2,FALSE) -> 12.63 | S128: =VLOOKUP(Q128,$AG$7:$AI$68,3,TRUE) -> 20.933491 | T128: =ROUNDUP(S128,0) -> 21 | U128: =MROUND(Q128,500) -> 4500 | V128: =MATCH(T128,$AJ$7:$AJ$29,0) -> 2 | W128: =MATCH(U128,$AK$6:$AX$6,0) -> 9 | X128: =INDEX($AK$7:$AX$29,V128,W128) -> 488 | Y128: =R128*0.7457 -> 9.418191
C129: APEX | D129: 3 | E129: 1 | F129: =F128+1 -> 123 | G129: =($F$7/I129)+G128 -> 17.303253 | H129: =I129*3.6 -> 32.339944 | I129: =MIN(13.2,(SQRT((I128^2)+2*J128*$F$7))) -> 8.9833179 | J129: 0.8 | K129: =0.5*1.167*0.95*1.151*I129^2 -> 51.488866 | L129: 103 | M129: =525*J129 -> 420 | N129: 0 | O129: =K129+L129+M129+N129 -> 574.48887 | P129: =(O129*I129)/1000 -> 5.1608161 | Q129: =VLOOKUP(H129,$AE$7:$AF$68,2,TRUE) -> 4400 | R129: =VLOOKUP(Q129,$AG$7:$AH$68,2,FALSE) -> 13.22 | S129: =VLOOKUP(Q129,$AG$7:$AI$68,3,TRUE) -> 21.413395 | T129: =ROUNDUP(S129,0) -> 22 | U129: =MROUND(Q129,500) -> 4500 | V129: =MATCH(T129,$AJ$7:$AJ$29,0) -> 1 | W129: =MATCH(U129,$AK$6:$AX$6,0) -> 9 | X129: =INDEX($AK$7:$AX$29,V129,W129) -> 488 | Y129: =R129*0.7457 -> 9.858154
C130: APEX | D130: 3 | E130: 1 | F130: =F129+1 -> 124 | G130: =($F$7/I130)+G129 -> 17.413483 | H130: =I130*3.6 -> 32.658965 | I130: =MIN(13.2,(SQRT((I129^2)+2*J129*$F$7))) -> 9.0719347 | J130: 0.8 | K130: =0.5*1.167*0.95*1.151*I130^2 -> 52.509711 | L130: 103 | M130: =525*J130 -> 420 | N130: 0 | O130: =K130+L130+M130+N130 -> 575.50971 | P130: =(O130*I130)/1000 -> 5.2209865 | Q130: =VLOOKUP(H130,$AE$7:$AF$68,2,TRUE) -> 4400 | R130: =VLOOKUP(Q130,$AG$7:$AH$68,2,FALSE) -> 13.22 | S130: =VLOOKUP(Q130,$AG$7:$AI$68,3,TRUE) -> 21.413395 | T130: =ROUNDUP(S130,0) -> 22 | U130: =MROUND(Q130,500) -> 4500 | V130: =MATCH(T130,$AJ$7:$AJ$29,0) -> 1 | W130: =MATCH(U130,$AK$6:$AX$6,0) -> 9 | X130: =INDEX($AK$7:$AX$29,V130,W130) -> 488 | Y130: =R130*0.7457 -> 9.858154
C131: APEX | D131: 3 | E131: 1 | F131: =F130+1 -> 125 | G131: =($F$7/I131)+G130 -> 17.522657 | H131: =I131*3.6 -> 32.9749 | I131: =MIN(13.2,(SQRT((I130^2)+2*J130*$F$7))) -> 9.1596943 | J131: 0.8 | K131: =0.5*1.167*0.95*1.151*I131^2 -> 53.530555 | L131: 103 | M131: =525*J131 -> 420 | N131: 0 | O131: =K131+L131+M131+N131 -> 576.53056 | P131: =(O131*I131)/1000 -> 5.2808437 | Q131: =VLOOKUP(H131,$AE$7:$AF$68,2,TRUE) -> 4500 | R131: =VLOOKUP(Q131,$AG$7:$AH$68,2,FALSE) -> 13.81 | S131: =VLOOKUP(Q131,$AG$7:$AI$68,3,TRUE) -> 21.871971 | T131: =ROUNDUP(S131,0) -> 22 | U131: =MROUND(Q131,500) -> 4500 | V131: =MATCH(T131,$AJ$7:$AJ$29,0) -> 1 | W131: =MATCH(U131,$AK$6:$AX$6,0) -> 9 | X131: =INDEX($AK$7:$AX$29,V131,W131) -> 488 | Y131: =R131*0.7457 -> 10.298117
C132: APEX | D132: 3 | E132: 1 | F132: =F131+1 -> 126 | G132: =($F$7/I132)+G131 -> 17.630804 | H132: =I132*3.6 -> 33.287836 | I132: =MIN(13.2,(SQRT((I131^2)+2*J131*$F$7))) -> 9.246621 | J132: 0.8 | K132: =0.5*1.167*0.95*1.151*I132^2 -> 54.5514 | L132: 103 | M132: =525*J132 -> 420 | N132: 0 | O132: =K132+L132+M132+N132 -> 577.5514 | P132: =(O132*I132)/1000 -> 5.3403989 | Q132: =VLOOKUP(H132,$AE$7:$AF$68,2,TRUE) -> 4500 | R132: =VLOOKUP(Q132,$AG$7:$AH$68,2,FALSE) -> 13.81 | S132: =VLOOKUP(Q132,$AG$7:$AI$68,3,TRUE) -> 21.871971 | T132: =ROUNDUP(S132,0) -> 22 | U132: =MROUND(Q132,500) -> 4500 | V132: =MATCH(T132,$AJ$7:$AJ$29,0) -> 1 | W132: =MATCH(U132,$AK$6:$AX$6,0) -> 9 | X132: =INDEX($AK$7:$AX$29,V132,W132) -> 488 | Y132: =R132*0.7457 -> 10.298117
... C137: APEX | D137: 3 | E137: 1 | F137: =F136+1 -> 131 | G137: =($F$7/I137)+G136 -> 18.157098 | H137: =I137*3.6 -> 34.810343 | I137: =MIN(13.2,(SQRT((I136^2)+2*J136*$F$7))) -> 9.6695398 | J137: 0.8 | K137: =0.5*1.167*0.95*1.151*I137^2 -> 59.655625 | L137: 103 | M137: =525*J137 -> 420 | N137: 0 | O137: =K137+L137+M137+N137 -> 582.65563 | P137: =(O137*I137)/1000 -> 5.6340118 | Q137: =VLOOKUP(H137,$AE$7:$AF$68,2,TRUE) -> 4700 | R137: =VLOOKUP(Q137,$AG$7:$AH$68,2,FALSE) -> 14.39 | S137: =VLOOKUP(Q137,$AG$7:$AI$68,3,TRUE) -> 21.820751 | T137: =ROUNDUP(S137,0) -> 22 | U137: =MROUND(Q137,500) -> 4500 | V137: =MATCH(T137,$AJ$7:$AJ$29,0) -> 1 | W137: =MATCH(U137,$AK$6:$AX$6,0) -> 9 | X137: =INDEX($AK$7:$AX$29,V137,W137) -> 488 | Y137: =R137*0.7457 -> 10.730623
C138: STRAIGHT | D138: 3 | E138: 1 | F138: =F137+1 -> 132 | G138: =($F$7/I138)+G137 -> 18.259642 | H138: =I138*3.6 -> 35.106922 | I138: =MIN(13.2,(SQRT((I137^2)+2*J137*$F$7))) -> 9.7519229 | J138: 0 | K138: =0.5*1.167*0.95*1.151*I138^2 -> 60.67647 | L138: 103 | M138: =525*J138 -> 0 | N138: 0 | O138: =K138+L138+M138+N138 -> 163.67647 | P138: =(O138*I138)/1000 -> 1.5961603 | Q138: =VLOOKUP(H138,$AE$39:$AF$99,2,TRUE) -> 4800 | R138: =VLOOKUP(Q138,$AG$7:$AH$68,2,FALSE) -> 14.68 | S138: =VLOOKUP(Q138,$AG$7:$AI$68,3,TRUE) -> 21.796742 | T138: =ROUNDUP(S138,0) -> 22 | U138: =MROUND(Q138,500) -> 5000 | V138: =MATCH(T138,$AJ$7:$AJ$29,0) -> 1 | W138: =MATCH(U138,$AK$6:$AX$6,0) -> 10 | X138: =INDEX($AK$7:$AX$29,V138,W138) -> 488 | Y138: =R138*0.7457 -> 10.946876
C139: STRAIGHT | D139: 3 | E139: 1 | F139: =F138+1 -> 133 | G139: =($F$7/I139)+G138 -> 18.362186 | H139: =I139*3.6 -> 35.106922 | I139: =MIN(13.2,(SQRT((I138^2)+2*J138*$F$7))) -> 9.7519229 | J139: 0 | K139: =0.5*1.167*0.95*1.151*I139^2 -> 60.67647 | L139: 103 | M139: =525*J139 -> 0 | N139: 0 | O139: =K139+L139+M139+N139 -> 163.67647 | P139: =(O139*I139)/1000 -> 1.5961603 | Q139: =VLOOKUP(H139,$AE$39:$AF$99,2,TRUE) -> 4800 | R139: =VLOOKUP(Q139,$AG$7:$AH$68,2,FALSE) -> 14.68 | S139: =VLOOKUP(Q139,$AG$7:$AI$68,3,TRUE) -> 21.796742 | T139: =ROUNDUP(S139,0) -> 22 | U139: =MROUND(Q139,500) -> 5000 | V139: =MATCH(T139,$AJ$7:$AJ$29,0) -> 1 | W139: =MATCH(U139,$AK$6:$AX$6,0) -> 10 | X139: =INDEX($AK$7:$AX$29,V139,W139) -> 488 | Y139: =R139*0.7457 -> 10.946876
C140: STRAIGHT | D140: 3 | E140: 1 | F140: =F139+1 -> 134 | G140: =($F$7/I140)+G139 -> 18.46473 | H140: =I140*3.6 -> 35.106922 | I140: =MIN(13.2,(SQRT((I139^2)+2*J139*$F$7))) -> 9.7519229 | J140: 0 | K140: =0.5*1.167*0.95*1.151*I140^2 -> 60.67647 | L140: 103 | M140: =525*J140 -> 0 | N140: 0 | O140: =K140+L140+M140+N140 -> 163.67647 | P140: =(O140*I140)/1000 -> 1.5961603 | Q140: =VLOOKUP(H140,$AE$39:$AF$99,2,TRUE) -> 4800 | R140: =VLOOKUP(Q140,$AG$7:$AH$68,2,FALSE) -> 14.68 | S140: =VLOOKUP(Q140,$AG$7:$AI$68,3,TRUE) -> 21.796742 | T140: =ROUNDUP(S140,0) -> 22 | U140: =MROUND(Q140,500) -> 5000 | V140: =MATCH(T140,$AJ$7:$AJ$29,0) -> 1 | W140: =MATCH(U140,$AK$6:$AX$6,0) -> 10 | X140: =INDEX($AK$7:$AX$29,V140,W140) -> 488 | Y140: =R140*0.7457 -> 10.946876
C141: STRAIGHT | D141: 3 | E141: 1 | F141: =F140+1 -> 135 | G141: =($F$7/I141)+G140 -> 18.567274 | H141: =I141*3.6 -> 35.106922 | I141: =MIN(13.2,(SQRT((I140^2)+2*J140*$F$7))) -> 9.7519229 | J141: 0 | K141: =0.5*1.167*0.95*1.151*I141^2 -> 60.67647 | L141: 103 | M141: =525*J141 -> 0 | N141: 0 | O141: =K141+L141+M141+N141 -> 163.67647 | P141: =(O141*I141)/1000 -> 1.5961603 | Q141: =VLOOKUP(H141,$AE$39:$AF$99,2,TRUE) -> 4800 | R141: =VLOOKUP(Q141,$AG$7:$AH$68,2,FALSE) -> 14.68 | S141: =VLOOKUP(Q141,$AG$7:$AI$68,3,TRUE) -> 21.796742 | T141: =ROUNDUP(S141,0) -> 22 | U141: =MROUND(Q141,500) -> 5000 | V141: =MATCH(T141,$AJ$7:$AJ$29,0) -> 1 | W141: =MATCH(U141,$AK$6:$AX$6,0) -> 10 | X141: =INDEX($AK$7:$AX$29,V141,W141) -> 488 | Y141: =R141*0.7457 -> 10.946876
C142: STRAIGHT | D142: 3 | E142: 1 | F142: =F141+1 -> 136 | G142: =($F$7/I142)+G141 -> 18.669818 | H142: =I142*3.6 -> 35.106922 | I142: =MIN(13.2,(SQRT((I141^2)+2*J141*$F$7))) -> 9.7519229 | J142: 0 | K142: =0.5*1.167*0.95*1.151*I142^2 -> 60.67647 | L142: 103 | M142: =525*J142 -> 0 | N142: 0 | O142: =K142+L142+M142+N142 -> 163.67647 | P142: =(O142*I142)/1000 -> 1.5961603 | Q142: =VLOOKUP(H142,$AE$39:$AF$99,2,TRUE) -> 4800 | R142: =VLOOKUP(Q142,$AG$7:$AH$68,2,FALSE) -> 14.68 | S142: =VLOOKUP(Q142,$AG$7:$AI$68,3,TRUE) -> 21.796742 | T142: =ROUNDUP(S142,0) -> 22 | U142: =MROUND(Q142,500) -> 5000 | V142: =MATCH(T142,$AJ$7:$AJ$29,0) -> 1 | W142: =MATCH(U142,$AK$6:$AX$6,0) -> 10 | X142: =INDEX($AK$7:$AX$29,V142,W142) -> 488 | Y142: =R142*0.7457 -> 10.946876
C143: STRAIGHT | D143: 3 | E143: 1 | F143: =F142+1 -> 137 | G143: =($F$7/I143)+G142 -> 18.772362 | H143: =I143*3.6 -> 35.106922 | I143: =MIN(13.2,(SQRT((I142^2)+2*J142*$F$7))) -> 9.7519229 | J143: 0 | K143: =0.5*1.167*0.95*1.151*I143^2 -> 60.67647 | L143: 103 | M143: =525*J143 -> 0 | N143: 0 | O143: =K143+L143+M143+N143 -> 163.67647 | P143: =(O143*I143)/1000 -> 1.5961603 | Q143: =VLOOKUP(H143,$AE$39:$AF$99,2,TRUE) -> 4800 | R143: =VLOOKUP(Q143,$AG$7:$AH$68,2,FALSE) -> 14.68 | S143: =VLOOKUP(Q143,$AG$7:$AI$68,3,TRUE) -> 21.796742 | T143: =ROUNDUP(S143,0) -> 22 | U143: =MROUND(Q143,500) -> 5000 | V143: =MATCH(T143,$AJ$7:$AJ$29,0) -> 1 | W143: =MATCH(U143,$AK$6:$AX$6,0) -> 10 | X143: =INDEX($AK$7:$AX$29,V143,W143) -> 488 | Y143: =R143*0.7457 -> 10.946876
C144: STRAIGHT | D144: 3 | E144: 1 | F144: =F143+1 -> 138 | G144: =($F$7/I144)+G143 -> 18.874905 | H144: =I144*3.6 -> 35.106922 | I144: =MIN(13.2,(SQRT((I143^2)+2*J143*$F$7))) -> 9.7519229 | J144: 0 | K144: =0.5*1.167*0.95*1.151*I144^2 -> 60.67647 | L144: 103 | M144: =525*J144 -> 0 | N144: 0 | O144: =K144+L144+M144+N144 -> 163.67647 | P144: =(O144*I144)/1000 -> 1.5961603 | Q144: =VLOOKUP(H144,$AE$39:$AF$99,2,TRUE) -> 4800 | R144: =VLOOKUP(Q144,$AG$7:$AH$68,2,FALSE) -> 14.68 | S144: =VLOOKUP(Q144,$AG$7:$AI$68,3,TRUE) -> 21.796742 | T144: =ROUNDUP(S144,0) -> 22 | U144: =MROUND(Q144,500) -> 5000 | V144: =MATCH(T144,$AJ$7:$AJ$29,0) -> 1 | W144: =MATCH(U144,$AK$6:$AX$6,0) -> 10 | X144: =INDEX($AK$7:$AX$29,V144,W144) -> 488 | Y144: =R144*0.7457 -> 10.946876
C145: STRAIGHT | D145: 3 | E145: 1 | F145: =F144+1 -> 139 | G145: =($F$7/I145)+G144 -> 18.977449 | H145: =I145*3.6 -> 35.106922 | I145: =MIN(13.2,(SQRT((I144^2)+2*J144*$F$7))) -> 9.7519229 | J145: 0 | K145: =0.5*1.167*0.95*1.151*I145^2 -> 60.67647 | L145: 103 | M145: =525*J145 -> 0 | N145: 0 | O145: =K145+L145+M145+N145 -> 163.67647 | P145: =(O145*I145)/1000 -> 1.5961603 | Q145: =VLOOKUP(H145,$AE$39:$AF$99,2,TRUE) -> 4800 | R145: =VLOOKUP(Q145,$AG$7:$AH$68,2,FALSE) -> 14.68 | S145: =VLOOKUP(Q145,$AG$7:$AI$68,3,TRUE) -> 21.796742 | T145: =ROUNDUP(S145,0) -> 22 | U145: =MROUND(Q145,500) -> 5000 | V145: =MATCH(T145,$AJ$7:$AJ$29,0) -> 1 | W145: =MATCH(U145,$AK$6:$AX$6,0) -> 10 | X145: =INDEX($AK$7:$AX$29,V145,W145) -> 488 | Y145: =R145*0.7457 -> 10.946876
C146: STRAIGHT | D146: 3 | E146: 1 | F146: =F145+1 -> 140 | G146: =($F$7/I146)+G145 -> 19.079993 | H146: =I146*3.6 -> 35.106922 | I146: =MIN(13.2,(SQRT((I145^2)+2*J145*$F$7))) -> 9.7519229 | J146: 0 | K146: =0.5*1.167*0.95*1.151*I146^2 -> 60.67647 | L146: 103 | M146: =525*J146 -> 0 | N146: 0 | O146: =K146+L146+M146+N146 -> 163.67647 | P146: =(O146*I146)/1000 -> 1.5961603 | Q146: =VLOOKUP(H146,$AE$39:$AF$99,2,TRUE) -> 4800 | R146: =VLOOKUP(Q146,$AG$7:$AH$68,2,FALSE) -> 14.68 | S146: =VLOOKUP(Q146,$AG$7:$AI$68,3,TRUE) -> 21.796742 | T146: =ROUNDUP(S146,0) -> 22 | U146: =MROUND(Q146,500) -> 5000 | V146: =MATCH(T146,$AJ$7:$AJ$29,0) -> 1 | W146: =MATCH(U146,$AK$6:$AX$6,0) -> 10 | X146: =INDEX($AK$7:$AX$29,V146,W146) -> 488 | Y146: =R146*0.7457 -> 10.946876
...

Sheet CW1FC1
A2: Distance | B2: Energy(KWH) | C2: Fuel Flow | D2: Fuel Usage(g) | E2: Total Fuel Consumed(g) | F2: Fuel Usage(L) | G2: Total Fuel Consumed (L) | H2: Fuel Consumed(g) in 1 Lap using optimum performance in all sectors = | N2: =SUM(D4:D1289) -> 36.745347
A3: 0 | B3: 0 | C3: 0 | D3: =B3*'CW1'!X6 -> 0 | E3: 0 | F3: =((B3*'CW1'!X6)/1000)/0.755 -> 0 | G3: 0 | H3: Fuel Consumed(L) in 1 Lap using optimum performance in all sectors = | N3: =SUM(F4:F1289) -> 0.048669334 | O3: 5.6
A4: 1 | B4: =(('CW1'!G7-'CW1'!G6)/3600)*'CW1'!P7 -> 0.00017041327 | C4: =('CW1'!X7*'CW1'!Y7)/3600 -> 0.097264137 | D4: =B4*'CW1'!X7 -> 0.093045646 | E4: =E3+D4 -> 0.093045646 | F4: =((B4*'CW1'!X7)/1000)/0.755 -> 0.00012323927 | G4: =F4+G3 -> 0.00012323927 | H4: Maximum Laps on Full Tank(Maximum Performance) = | M4: =29/N3 -> 595.85776 | O4: 5.6
A5: =A4+1 -> 2 | B5: =(('CW1'!G8-'CW1'!G7)/3600)*'CW1'!P8 -> 0.0001707571 | C5: =('CW1'!X8*'CW1'!Y8)/3600 -> 0.18891067 | D5: =B5*'CW1'!X8 -> 0.081963407 | E5: =E4+D5 -> 0.17500905 | F5: =((B5*'CW1'!X8)/1000)/0.755 -> 0.0001085608 | G5: =F5+G4 -> 0.00023180007 | H5: Distance covered on Full Tank(km) = | L5: =M4*1286/1000 -> 766.27308 | O5: 5.6
A6: =A5+1 -> 3 | B6: =(('CW1'!G9-'CW1'!G8)/3600)*'CW1'!P9 -> 0.00017110092 | C6: =('CW1'!X9*'CW1'!Y9)/3600 -> 0.32075457 | D6: =B6*'CW1'!X9 -> 0.081272939 | E6: =E5+D6 -> 0.25628199 | F6: =((B6*'CW1'!X9)/1000)/0.755 -> 0.00010764628 | G6: =F6+G5 -> 0.00033944635 | H6: Fuel Efficiency (km/l) = | L6: =(L5/29)*0.9 -> 23.780889 | O6: 5.6
A7: =A6+1 -> 4 | B7: =(('CW1'!G10-'CW1'!G9)/3600)*'CW1'!P10 -> 0.00017144475 | C7: =('CW1'!X10*'CW1'!Y10)/3600 -> 0.3811687 | D7: =B7*'CW1'!X10 -> 0.074407021 | E7: =E6+D7 -> 0.33068901 | F7: =((B7*'CW1'!X10)/1000)/0.755 -> 9.8552346e-05 | G7: =F7+G6 -> 0.00043799869 | H7: Average Positive Power (kw) = | K7: =(AVERAGE('CW1'!P6:P90)+AVERAGE('CW1'!P121:P180)+AVERAGE('CW1'!P211:P231)+AVERAGE('CW1'!P241:P340)+AVERAGE('CW1'!P391:P400,'CW1'!P411:P455,'CW1'!P477:P540,'CW1'!P551:P600))/5 -> 5.6075601 | O7: 5.6
A8: =A7+1 -> 5 | B8: =(('CW1'!G11-'CW1'!G10)/3600)*'CW1'!P11 -> 0.00017178858 | C8: =('CW1'!X11*'CW1'!Y11)/3600 -> 0.47106698 | D8: =B8*'CW1'!X11 -> 0.074556242 | E8: =E7+D8 -> 0.40524525 | F8: =((B8*'CW1'!X11)/1000)/0.755 -> 9.8749989e-05 | G8: =F8+G7 -> 0.00053674868 | H8: Average Power(kw)= | K8: =AVERAGE('CW1'!P6:P636) -> 3.0373207 | O8: 5.6
A9: =A8+1 -> 6 | B9: =(('CW1'!G12-'CW1'!G11)/3600)*'CW1'!P12 -> 0.0001721324 | C9: =('CW1'!X12*'CW1'!Y12)/3600 -> 0.5555929 | D9: =B9*'CW1'!X12 -> 0.072984138 | E9: =E8+D9 -> 0.47822939 | F9: =((B9*'CW1'!X12)/1000)/0.755 -> 9.6667733e-05 | G9: =F9+G8 -> 0.00063341641 | O9: 5.6
A10: =A9+1 -> 7 | B10: =(('CW1'!G13-'CW1'!G12)/3600)*'CW1'!P13 -> 0.00017247623 | C10: =('CW1'!X13*'CW1'!Y13)/3600 -> 0.62971879 | D10: =B10*'CW1'!X13 -> 0.073129921 | E10: =E9+D10 -> 0.55135931 | F10: =((B10*'CW1'!X13)/1000)/0.755 -> 9.6860822e-05 | G10: =F10+G9 -> 0.00073027724 | O10: 5.6
A11: =A10+1 -> 8 | B11: =(('CW1'!G14-'CW1'!G13)/3600)*'CW1'!P14 -> 0.00017282005 | C11: =('CW1'!X14*'CW1'!Y14)/3600 -> 0.47106698 | D11: =B11*'CW1'!X14 -> 0.075003904 | E11: =E10+D11 -> 0.62636322 | F11: =((B11*'CW1'!X14)/1000)/0.755 -> 9.9342919e-05 | G11: =F11+G10 -> 0.00082962015 | O11: 5.6
A12: =A11+1 -> 9 | B12: =(('CW1'!G15-'CW1'!G14)/3600)*'CW1'!P15 -> 0.00017316388 | C12: =('CW1'!X15*'CW1'!Y15)/3600 -> 0.49821626 | D12: =B12*'CW1'!X15 -> 0.075153124 | E12: =E11+D12 -> 0.70151634 | F12: =((B12*'CW1'!X15)/1000)/0.755 -> 9.9540562e-05 | G12: =F12+G11 -> 0.00092916072 | O12: 5.6
A13: =A12+1 -> 10 | B13: =(('CW1'!G16-'CW1'!G15)/3600)*'CW1'!P16 -> 0.00017350771 | C13: =('CW1'!X16*'CW1'!Y16)/3600 -> 0.53345638 | D13: =B13*'CW1'!X16 -> 0.075302345 | E13: =E12+D13 -> 0.77681869 | F13: =((B13*'CW1'!X16)/1000)/0.755 -> 9.9738205e-05 | G13: =F13+G12 -> 0.0010288989 | O13: 5.6
A14: =A13+1 -> 11 | B14: =(('CW1'!G17-'CW1'!G16)/3600)*'CW1'!P17 -> 0.00017385153 | C14: =('CW1'!X17*'CW1'!Y17)/3600 -> 0.59002104 | D14: =B14*'CW1'!X17 -> 0.07371305 | E14: =E13+D14 -> 0.85053174 | F14: =((B14*'CW1'!X17)/1000)/0.755 -> 9.7633179e-05 | G14: =F14+G13 -> 0.0011265321 | O14: 5.6
A15: =A14+1 -> 12 | B15: =(('CW1'!G18-'CW1'!G17)/3600)*'CW1'!P18 -> 0.00017419536 | C15: =('CW1'!X18*'CW1'!Y18)/3600 -> 0.62971879 | D15: =B15*'CW1'!X18 -> 0.073858832 | E15: =E14+D15 -> 0.92439057 | F15: =((B15*'CW1'!X18)/1000)/0.755 -> 9.7826268e-05 | G15: =F15+G14 -> 0.0012243584 | O15: 5.6
A16: =A15+1 -> 13 | B16: =(('CW1'!G19-'CW1'!G18)/3600)*'CW1'!P19 -> 0.00017453919 | C16: =('CW1'!X19*'CW1'!Y19)/3600 -> 0.6650252 | D16: =B16*'CW1'!X19 -> 0.074004615 | E16: =E15+D16 -> 0.99839518 | F16: =((B16*'CW1'!X19)/1000)/0.755 -> 9.8019357e-05 | G16: =F16+G15 -> 0.0013223777 | O16: 5.6
A17: =A16+1 -> 14 | B17: =(('CW1'!G20-'CW1'!G19)/3600)*'CW1'!P20 -> 0.00017488301 | C17: =('CW1'!X20*'CW1'!Y20)/3600 -> 0.81305162 | D17: =B17*'CW1'!X20 -> 0.080795951 | E17: =E16+D17 -> 1.0791911 | F17: =((B17*'CW1'!X20)/1000)/0.755 -> 0.00010701451 | G17: =F17+G16 -> 0.0014293922 | O17: 5.6
A18: =A17+1 -> 15 | B18: =(('CW1'!G21-'CW1'!G20)/3600)*'CW1'!P21 -> 0.00015043517 | C18: =('CW1'!X21*'CW1'!Y21)/3600 -> 0.85726418 | D18: =B18*'CW1'!X21 -> 0.069501049 | E18: =E17+D18 -> 1.1486922 | F18: =((B18*'CW1'!X21)/1000)/0.755 -> 9.205437e-05 | G18: =F18+G17 -> 0.0015214466 | O18: 5.6
A19: =A18+1 -> 16 | B19: =(('CW1'!G22-'CW1'!G21)/3600)*'CW1'!P22 -> 0.00015071874 | C19: =('CW1'!X22*'CW1'!Y22)/3600 -> 0.8823371 | D19: =B19*'CW1'!X22 -> 0.069632058 | E19: =E18+D19 -> 1.2183242 | F19: =((B19*'CW1'!X22)/1000)/0.755 -> 9.2227891e-05 | G19: =F19+G18 -> 0.0016136745 | O19: 5.6
A20: =A19+1 -> 17 | B20: =(('CW1'!G23-'CW1'!G22)/3600)*'CW1'!P23 -> 0.00015100231 | C20: =('CW1'!X23*'CW1'!Y23)/3600 -> 0.92214753 | D20: =B20*'CW1'!X23 -> 0.069763066 | E20: =E19+D20 -> 1.2880873 | F20: =((B20*'CW1'!X23)/1000)/0.755 -> 9.2401412e-05 | G20: =F20+G19 -> 0.0017060759 | O20: 5.6
... A633: =A632+1 -> 630 | B633: =(('CW1'!G636-'CW1'!G635)/3600)*'CW1'!P636 -> 0.00014309809 | C633: =('CW1'!X636*'CW1'!Y636)/3600 -> 0 | D633: =B633*'CW1'!X636 -> 0 | E633: =E632+D633 -> 36.745347 | F633: =((B633*'CW1'!X636)/1000)/0.755 -> 0 | G633: =F633+G632 -> 0.048669334 | O633: 5.6

Sheet CW1 Data

Sheet Hybrid Specifications  
B2: Modes of Operation - Series Hybrid Version | E2: Process
B3: 1.Start and Low-Mid Range speed | E3: Battery Charging
B4: 2.Driving under normal conditions | E4: Not Charging
B5: 3.Sudden Acceleration | E5: Battery discharging
B6: 4.Decceleration(Downhill) | E6: Battery Charging
B8: Battery Specification | F8: Components Used | G8: Brand | H8: Model | I8: Weight(kg) | J8: Cost (Pound)
B9: Brand | D9: Polinovel Model HD12300 | F9: Battery | G9: Polinovel | H9: HD12300 | I9: 35 | J9: 1595
B10: 12V 300AH LiFePO4 Lithium Battery | F10: Generator | G10: Denso Hybrid Generator | I10: 7 | J10: 200
B11: Battery Type | D11: LiFePO4 | F11: Controller | G11: KASKOD MTRONIX | H11: M 400-15K Switched Reluctance Module Control | I11: 2 | J11: 252
B12: Nominal Voltage | D12: 12.8V | F12: Motor | G12: KASKOD MTRONIX | I12: 47 | J12: 464
B13: Nominal Capacity | D13: 300 Ah | F13: Belt Drive | G13: GATES POWERGRIP | I13: 0.5 | J13: 80
B14: Energy | D14: 3.8 Kwh | I14: Net Weight (kg) | J14: Costing
B15: Weight | D15: 35 kg | I15: =I9+I10+I11+I12 -> 91 | J15: =J9+J10+J11+J12+80 -> 2591
B16: Cycle Life | D16: > 2000 cycles
B17: Add on | D17: Battery Management System
B19: Control Specification | G19: Capacitor Energy storage (Not Used) | K19: Flywheel Energy storage (FESS) | M19: (Not Used)
B20: Brand | D20: KASKOD MTRONIX | F20: Capacitance Range | K20: Rotational Mass = | M20: 25kg
B21: Control | D21: Switched Reluctance Sensorless | F21: Microfarad | G21: Volts | H21: Energy stored(J/s) | I21: Power(kWh) | K21: RPM | L21: Energy Stored (J/s) | M21: Power(kWh)
B22: Max Phase Current | D22: 40A | F22: 4000 | G22: 12 | H22: =0.5*F22*G22^2 -> 288000 | I22: =H22/3600000 -> 0.08 | K22: 500 | L22: =0.5*25*K22^2 -> 3125000 | M22: =L22/3600000 -> 0.86805556
B23: Supply Voltage | D23: 48V | F23: 6000 | G23: 12 | H23: =0.5*F23*G23^2 -> 432000 | I23: =H23/3600000 -> 0.12 | K23: 1000 | L23: =0.5*25*K23^2 -> 12500000 | M23: =L23/3600000 -> 3.4722222
B24: Communication | D24: CAN interface | F24: 8000 | G24: 12 | H24: =0.5*F24*G24^2 -> 576000 | I24: =H24/3600000 -> 0.16 | K24: 1500 | L24: =0.5*25*K24^2 -> 28125000 | M24: =L24/3600000 -> 7.8125
B25: Operation Tempeature | D25: _- 40°C to +85°C _ | F25: 10000 | G25: 12 | H25: =0.5*F25*G25^2 -> 720000 | I25: =H25/3600000 -> 0.2 | K25: 2000 | L25: =0.5*25*K25^2 -> 50000000 | M25: =L25/3600000 -> 13.888889
B26: Dimension | D26: 129*115mm | F26: 12000 | G26: 12 | H26: =0.5*F26*G26^2 -> 864000 | I26: =H26/3600000 -> 0.24 | K26: 2500 | L26: =0.5*25*K26^2 -> 78125000 | M26: =L26/3600000 -> 21.701389
B27: weight | D27: 2 kg | F27: 14000 | G27: 12 | H27: =0.5*F27*G27^2 -> 1008000 | I27: =H27/3600000 -> 0.28 | K27: 3000 | L27: =0.5*25*K27^2 -> 112500000 | M27: =L27/3600000 -> 31.25
B29: Losses | D29: Percentage | F29: Motor Scaled Specifications
B30: ICE | D30: 0.06 | F30: Power | G30: 12 KW
B31: Transmission | D31: 0.01 | F31: Torque | G31: 23 NM
F32: Weight | G32: 47kg
F33: Stator length | G33: 170 mm

Sheet CW2
A2: Straight
A3: Braking Zone
A4: Corner | D4: Renegade Dx-10C Dual Purpose Circuit Lap Simulation
C5: Track Position | D5: Gear | E5: Sector | F5: Distance | G5: Time(s) | H5: Speed (Kmph) | I5: Speed (m/s) | J5: Acceleration(m/s^2) | K5: Aero (N) | L5: Rolling (N) | M5: Acceleration(N) | N5: Gradient(N) | O5: TTE(N) | P5: Power Required (kw) | Q5: RPM | R5: Power(hp) | S5: Torque(Nm) | T5: Torque | U5: Rounded RPM | V5: TORQUE INDEX | W5: RPM INDEX | X5: BSFC
C6: STRAIGHT | D6: 1 | E6: 1 | F6: 0 | G6: 0 | H6: 0 | I6: 0 | J6: =0.97 -> 0.97 | K6: =0.5*1.167*0.95*1.151*I6^2 -> 0 | L6: 120 | M6: =J6*616 -> 597.52 | N6: 0 | O6: =K6+L6+M6+N6 -> 717.52 | P6: =(O6*I6)/1000 -> 0 | Q6: =VLOOKUP(H6,AA7:AB68,2,TRUE) -> 0 | R6: =VLOOKUP(Q6,$AG$7:$AH$68,2,FALSE) -> 0 | S6: 0 | U6: =MROUND(Q6,500) -> 0 | V6: =MATCH(T6,$AJ$7:$AJ$29,0) -> 23 | W6: 0 | X6: 0 | Y6: =R6*0.7457 -> 0 | AA6: Speed Gear 1(kmph) | AB6: RPM | AC6: Speed gear 2(kmph) | AD6: RPM | AE6: Speed Gear 3 (kmph) | AF6: RPM | AG6: RPM | AH6: Power (HP) | AI6: Torque (Nm) | AJ6: Torque Nm | AK6: 500 | AL6: 1000 | AM6: 1500 | AN6: 2000 | AO6: 2500 | AP6: 3000 | AQ6: 3500 | AR6: 4000 | AS6: 4500 | AT6: 5000 | AU6: 5500 | AV6: 6000 | AW6: 6500 | AX6: 7000
C7: STRAIGHT | D7: 1 | E7: 1 | F7: 1 | G7: =$F$7/I7 -> 0.71795816 | H7: =I7*3.6 -> 5.0142198 | I7: =MIN(13.2,(SQRT((I6^2)+2*J6*$F$7))) -> 1.3928388 | J7: =0.97 -> 0.97 | K7: =0.5*1.167*0.95*1.151*I7^2 -> 1.2377745 | L7: 120 | M7: =J7*616 -> 597.52 | N7: 0 | O7: =K7+L7+M7+N7 -> 718.75777 | P7: =(O7*I7)/1000 -> 1.0011137 | Q7: =VLOOKUP(H7,AA8:AB69,2,TRUE) -> 1100 | R7: =VLOOKUP(Q7,$AG$7:$AH$68,2,FALSE) -> 0.86 | S7: =VLOOKUP(Q7,$AG$7:$AI$68,3,TRUE) -> 5.5720182 | T7: =ROUNDUP(S7,0) -> 6 | U7: =MROUND(Q7,500) -> 1000 | V7: =MATCH(T7,$AJ$7:$AJ$29,0) -> 17 | W7: =MATCH(U7,$AK$6:$AX$6,0) -> 2 | X7: =INDEX($AK$7:$AX$29,V7,W7) -> 546 | Y7: =R7*0.7457 -> 0.641302 | AA7: 0 | AB7: 0 | AC7: 0 | AD7: 0 | AE7: 0 | AF7: 0 | AG7: 0 | AH7: 0 | AI7: 0 | AJ7: 22 | AK7: 488 | AL7: 488 | AM7: 488 | AN7: 488 | AO7: 488 | AP7: 488 | AQ7: 488 | AR7: 488 | AS7: 488 | AT7: 488 | AU7: 488 | AV7: 488 | AW7: 488 | AX7: 488
C8: STRAIGHT | D8: 1 | E8: 1 | F8: =F7+1 -> 2 | G8: =($F$7/I8)+G7 -> 1.2256312 | H8: =I8*3.6 -> 7.0911776 | I8: =MIN(13.2,(SQRT((I7^2)+2*J7*$F$7))) -> 1.9697716 | J8: =0.97 -> 0.97 | K8: =0.5*1.167*0.95*1.151*I8^2 -> 2.4755489 | L8: 120 | M8: =J8*616 -> 597.52 | N8: 0 | O8: =K8+L8+M8+N8 -> 719.99555 | P8: =(O8*I8)/1000 -> 1.4182268 | Q8: =VLOOKUP(H8,AA9:AB70,2,TRUE) -> 1600 | R8: =VLOOKUP(Q8,$AG$7:$AH$68,2,FALSE) -> 1.9 | S8: =VLOOKUP(Q8,$AG$7:$AI$68,3,TRUE) -> 8.4633125 | T8: =ROUNDUP(S8,0) -> 9 | U8: =MROUND(Q8,500) -> 1500 | V8: =MATCH(T8,$AJ$7:$AJ$29,0) -> 14 | W8: =MATCH(U8,$AK$6:$AX$6,0) -> 3 | X8: =INDEX($AK$7:$AX$29,V8,W8) -> 480 | Y8: =R8*0.7457 -> 1.41683 | AA8: =((AB8*PI()*0.23084)/(30*'Specifications (CW1)'!$G$6*'Specifications (CW1)'!$G$9)*1.6) -> 4.3149467 | AB8: 1000 | AC8: =((AD8*PI()*0.22254)/(30*'Specifications (CW1)'!$G$7*'Specifications (CW1)'!$G$9)*1.6) -> 5.6724546 | AD8: 1000 | AE8: =((AF8*PI()*0.2184)/(30*'Specifications (CW1)'!$G$8*'Specifications (CW1)'!$G$9)*1.6) -> 7.2908795 | AF8: 1000 | AG8: 1000 | AH8: 0.68 | AI8: =(AH8*7127)/AG8 -> 4.84636 | AJ8: 21 | AK8: 488 | AL8: 488 | AM8: 488 | AN8: 488 | AO8: 488 | AP8: 488 | AQ8: 488 | AR8: 488 | AS8: 488 | AT8: 488 | AU8: 488 | AV8: 488 | AW8: 488 | AX8: 488
C9: STRAIGHT | D9: 1 | E9: 1 | F9: =F8+1 -> 3 | G9: =($F$7/I9)+G8 -> 1.6401446 | H9: =I9*3.6 -> 8.6848834 | I9: =MIN(13.2,(SQRT((I8^2)+2*J8*$F$7))) -> 2.4124676 | J9: =0.97 -> 0.97 | K9: =0.5*1.167*0.95*1.151*I9^2 -> 3.7133234 | L9: 120 | M9: =J9*616 -> 597.52 | N9: 0 | O9: =K9+L9+M9+N9 -> 721.23332 | P9: =(O9*I9)/1000 -> 1.739952 | Q9: =VLOOKUP(H9,AA10:AB71,2,TRUE) -> 2000 | R9: =VLOOKUP(Q9,$AG$7:$AH$68,2,FALSE) -> 3.26 | S9: =VLOOKUP(Q9,$AG$7:$AI$68,3,TRUE) -> 11.61701 | T9: =ROUNDUP(S9,0) -> 12 | U9: =MROUND(Q9,500) -> 2000 | V9: =MATCH(T9,$AJ$7:$AJ$29,0) -> 11 | W9: =MATCH(U9,$AK$6:$AX$6,0) -> 4 | X9: =INDEX($AK$7:$AX$29,V9,W9) -> 475 | Y9: =R9*0.7457 -> 2.430982 | AA9: =((AB9*PI()*0.23084)/(30*'Specifications (CW1)'!$G$6*'Specifications (CW1)'!$G$9)*1.6) -> 4.7464414 | AB9: 1100 | AC9: =((AD9*PI()*0.22254)/(30*'Specifications (CW1)'!$G$7*'Specifications (CW1)'!$G$9)*1.6) -> 6.2397001 | AD9: 1100 | AE9: =((AF9*PI()*0.2184)/(30*'Specifications (CW1)'!$G$8*'Specifications (CW1)'!$G$9)*1.6) -> 8.0199674 | AF9: 1100 | AG9: 1100 | AH9: 0.86 | AI9: =(AH9*7127)/AG9 -> 5.5720182 | AJ9: 20 | AK9: 488 | AL9: 488 | AM9: 488 | AN9: 488 | AO9: 455 | AP9: 455 | AQ9: 462 | AR9: 466 | AS9: 475 | AT9: 484 | AU9: 488 | AV9: 488 | AW9: 488 | AX9: 488
C10: STRAIGHT | D10: 1 | E10: 1 | F10: =F9+1 -> 4 | G10: =($F$7/I10)+G9 -> 1.9991237 | H10: =I10*3.6 -> 10.02844 | I10: =MIN(13.2,(SQRT((I9^2)+2*J9*$F$7))) -> 2.7856777 | J10: =0.97 -> 0.97 | K10: =0.5*1.167*0.95*1.151*I10^2 -> 4.9510979 | L10: 120 | M10: =J10*616 -> 597.52 | N10: 0 | O10: =K10+L10+M10+N10 -> 722.4711 | P10: =(O10*I10)/1000 -> 2.0125716 | Q10: =VLOOKUP(H10,AA11:AB72,2,TRUE) -> 2300 | R10: =VLOOKUP(Q10,$AG$7:$AH$68,2,FALSE) -> 4.24 | S10: =VLOOKUP(Q10,$AG$7:$AI$68,3,TRUE) -> 13.13847 | T10: =ROUNDUP(S10,0) -> 14 | U10: =MROUND(Q10,500) -> 2500 | V10: =MATCH(T10,$AJ$7:$AJ$29,0) -> 9 | W10: =MATCH(U10,$AK$6:$AX$6,0) -> 5 | X10: =INDEX($AK$7:$AX$29,V10,W10) -> 434 | Y10: =R10*0.7457 -> 3.161768 | AA10: =((AB10*PI()*0.23084)/(30*'Specifications (CW1)'!$G$6*'Specifications (CW1)'!$G$9)*1.6) -> 5.1779361 | AB10: 1200 | AC10: =((AD10*PI()*0.22254)/(30*'Specifications (CW1)'!$G$7*'Specifications (CW1)'!$G$9)*1.6) -> 6.8069455 | AD10: 1200 | AE10: =((AF10*PI()*0.2184)/(30*'Specifications (CW1)'!$G$8*'Specifications (CW1)'!$G$9)*1.6) -> 8.7490554 | AF10: 1200 | AG10: 1200 | AH10: 1.03 | AI10: =(AH10*7127)/AG10 -> 6.1173417 | AJ10: 19 | AK10: 488 | AL10: 488 | AM10: 488 | AN10: 488 | AO10: 455 | AP10: 455 | AQ10: 462 | AR10: 466 | AS10: 475 | AT10: 484 | AU10: 488 | AV10: 488 | AW10: 488 | AX10: 488
C11: STRAIGHT | D11: 1 | E11: 1 | F11: =F10+1 -> 5 | G11: =($F$7/I11)+G10 -> 2.3202043 | H11: =I11*3.6 -> 11.212136 | I11: =MIN(13.2,(SQRT((I10^2)+2*J10*$F$7))) -> 3.1144823 | J11: =0.97 -> 0.97 | K11: =0.5*1.167*0.95*1.151*I11^2 -> 6.1888723 | L11: 120 | M11: =J11*616 -> 597.52 | N11: 0 | O11: =K11+L11+M11+N11 -> 723.70887 | P11: =(O11*I11)/1000 -> 2.2539785 | Q11: =VLOOKUP(H11,AA12:AB73,2,TRUE) -> 2500 | R11: =VLOOKUP(Q11,$AG$7:$AH$68,2,FALSE) -> 5.24 | S11: =VLOOKUP(Q11,$AG$7:$AI$68,3,TRUE) -> 14.938192 | T11: =ROUNDUP(S11,0) -> 15 | U11: =MROUND(Q11,500) -> 2500 | V11: =MATCH(T11,$AJ$7:$AJ$29,0) -> 8 | W11: =MATCH(U11,$AK$6:$AX$6,0) -> 5 | X11: =INDEX($AK$7:$AX$29,V11,W11) -> 434 | Y11: =R11*0.7457 -> 3.907468 | AA11: =((AB11*PI()*0.23084)/(30*'Specifications (CW1)'!$G$6*'Specifications (CW1)'!$G$9)*1.6) -> 5.6094307 | AB11: 1300 | AC11: =((AD11*PI()*0.22254)/(30*'Specifications (CW1)'!$G$7*'Specifications (CW1)'!$G$9)*1.6) -> 7.374191 | AD11: 1300 | AE11: =((AF11*PI()*0.2184)/(30*'Specifications (CW1)'!$G$8*'Specifications (CW1)'!$G$9)*1.6) -> 9.4781433 | AF11: 1300 | AG11: 1300 | AH11: 1.2 | AI11: =(AH11*7127)/AG11 -> 6.5787692 | AJ11: 18 | AK11: 488 | AL11: 488 | AM11: 452 | AN11: 448 | AO11: 434 | AP11: 424 | AQ11: 428 | AR11: 462 | AS11: 472 | AT11: 483 | AU11: 491 | AV11: 491 | AW11: 491 | AX11: 491
C12: STRAIGHT | D12: 1 | E12: 1 | F12: =F11+1 -> 6 | G12: =($F$7/I12)+G11 -> 2.6133095 | H12: =I12*3.6 -> 12.28228 | I12: =MIN(13.2,(SQRT((I11^2)+2*J11*$F$7))) -> 3.4117444 | J12: =0.97 -> 0.97 | K12: =0.5*1.167*0.95*1.151*I12^2 -> 7.4266468 | L12: 120 | M12: =J12*616 -> 597.52 | N12: 0 | O12: =K12+L12+M12+N12 -> 724.94665 | P12: =(O12*I12)/1000 -> 2.4733327 | Q12: =VLOOKUP(H12,AA13:AB74,2,TRUE) -> 2800 | R12: =VLOOKUP(Q12,$AG$7:$AH$68,2,FALSE) -> 6.326 | S12: =VLOOKUP(Q12,$AG$7:$AI$68,3,TRUE) -> 16.101929 | T12: =ROUNDUP(S12,0) -> 17 | U12: =MROUND(Q12,500) -> 3000 | V12: =MATCH(T12,$AJ$7:$AJ$29,0) -> 6 | W12: =MATCH(U12,$AK$6:$AX$6,0) -> 6 | X12: =INDEX($AK$7:$AX$29,V12,W12) -> 424 | Y12: =R12*0.7457 -> 4.7172982 | AA12: =((AB12*PI()*0.23084)/(30*'Specifications (CW1)'!$G$6*'Specifications (CW1)'!$G$9)*1.6) -> 6.0409254 | AB12: 1400 | AC12: =((AD12*PI()*0.22254)/(30*'Specifications (CW1)'!$G$7*'Specifications (CW1)'!$G$9)*1.6) -> 7.9414364 | AD12: 1400 | AE12: =((AF12*PI()*0.2184)/(30*'Specifications (CW1)'!$G$8*'Specifications (CW1)'!$G$9)*1.6) -> 10.207231 | AF12: 1400 | AG12: 1400 | AH12: 1.39 | AI12: =(AH12*7127)/AG12 -> 7.0760929 | AJ12: 17 | AK12: 488 | AL12: 488 | AM12: 452 | AN12: 448 | AO12: 434 | AP12: 424 | AQ12: 428 | AR12: 462 | AS12: 472 | AT12: 483 | AU12: 491 | AV12: 491 | AW12: 491 | AX12: 491
C13: STRAIGHT | D13: 1 | E13: 1 | F13: =F12+1 -> 7 | G13: =($F$7/I13)+G12 -> 2.8846722 | H13: =I13*3.6 -> 13.266379 | I13: =MIN(13.2,(SQRT((I12^2)+2*J12*$F$7))) -> 3.6851052 | J13: =0.97 -> 0.97 | K13: =0.5*1.167*0.95*1.151*I13^2 -> 8.6644213 | L13: 120 | M13: =J13*616 -> 597.52 | N13: 0 | O13: =K13+L13+M13+N13 -> 726.18442 | P13: =(O13*I13)/1000 -> 2.676066 | Q13: =VLOOKUP(H13,AA14:AB75,2,TRUE) -> 3000 | R13: =VLOOKUP(Q13,$AG$7:$AH$68,2,FALSE) -> 7.17 | S13: =VLOOKUP(Q13,$AG$7:$AI$68,3,TRUE) -> 17.03353 | T13: =ROUNDUP(S13,0) -> 18 | U13: =MROUND(Q13,500) -> 3000 | V13: =MATCH(T13,$AJ$7:$AJ$29,0) -> 5 | W13: =MATCH(U13,$AK$6:$AX$6,0) -> 6 | X13: =INDEX($AK$7:$AX$29,V13,W13) -> 424 | Y13: =R13*0.7457 -> 5.346669 | AA13: =((AB13*PI()*0.23084)/(30*'Specifications (CW1)'!$G$6*'Specifications (CW1)'!$G$9)*1.6) -> 6.4724201 | AB13: 1500 | AC13: =((AD13*PI()*0.22254)/(30*'Specifications (CW1)'!$G$7*'Specifications (CW1)'!$G$9)*1.6) -> 8.5086819 | AD13: 1500 | AE13: =((AF13*PI()*0.2184)/(30*'Specifications (CW1)'!$G$8*'Specifications (CW1)'!$G$9)*1.6) -> 10.936319 | AF13: 1500 | AG13: 1500 | AH13: 1.56 | AI13: =(AH13*7127)/AG13 -> 7.41208 | AJ13: 16 | AK13: 524 | AL13: 488 | AM13: 446 | AN13: 448 | AO13: 434 | AP13: 438 | AQ13: 438 | AR13: 462 | AS13: 470 | AT13: 479 | AU13: 495 | AV13: 495 | AW13: 495 | AX13: 495
C14: STRAIGHT | D14: 2 | E14: 1 | F14: =F13+1 -> 8 | G14: =($F$7/I14)+G13 -> 3.1385087 | H14: =I14*3.6 -> 14.182355 | I14: =MIN(13.2,(SQRT((I13^2)+2*J13*$F$7))) -> 3.9395431 | J14: =0.97 -> 0.97 | K14: =0.5*1.167*0.95*1.151*I14^2 -> 9.9021957 | L14: 120 | M14: =J14*616 -> 597.52 | N14: 0 | O14: =K14+L14+M14+N14 -> 727.4222 | P14: =(O14*I14)/1000 -> 2.8657111 | Q14: =VLOOKUP(H14,AC15:AD76,2,TRUE) -> 2500 | R14: =VLOOKUP(Q14,$AG$7:$AH$68,2,FALSE) -> 5.24 | S14: =VLOOKUP(Q14,$AG$7:$AI$68,3,TRUE) -> 14.938192 | T14: =ROUNDUP(S14,0) -> 15 | U14: =MROUND(Q14,500) -> 2500 | V14: =MATCH(T14,$AJ$7:$AJ$29,0) -> 8 | W14: =MATCH(U14,$AK$6:$AX$6,0) -> 5 | X14: =INDEX($AK$7:$AX$29,V14,W14) -> 434 | Y14: =R14*0.7457 -> 3.907468 | AA14: =((AB14*PI()*0.23084)/(30*'Specifications (CW1)'!$G$6*'Specifications (CW1)'!$G$9)*1.6) -> 6.9039147 | AB14: 1600 | AC14: =((AD14*PI()*0.22254)/(30*'Specifications (CW1)'!$G$7*'Specifications (CW1)'!$G$9)*1.6) -> 9.0759274 | AD14: 1600 | AE14: =((AF14*PI()*0.2184)/(30*'Specifications (CW1)'!$G$8*'Specifications (CW1)'!$G$9)*1.6) -> 11.665407 | AF14: 1600 | AG14: 1600 | AH14: 1.9 | AI14: =(AH14*7127)/AG14 -> 8.4633125 | AJ14: 15 | AK14: 521 | AL14: 488 | AM14: 446 | AN14: 448 | AO14: 434 | AP14: 448 | AQ14: 448 | AR14: 462 | AS14: 470 | AT14: 479 | AU14: 495 | AV14: 495 | AW14: 495 | AX14: 495
C15: STRAIGHT | D15: 2 | E15: 1 | F15: =F14+1 -> 9 | G15: =($F$7/I15)+G14 -> 3.3778281 | H15: =I15*3.6 -> 15.042659 | I15: =MIN(13.2,(SQRT((I14^2)+2*J14*$F$7))) -> 4.1785165 | J15: =0.97 -> 0.97 | K15: =0.5*1.167*0.95*1.151*I15^2 -> 11.13997 | L15: 120 | M15: =J15*616 -> 597.52 | N15: 0 | O15: =K15+L15+M15+N15 -> 728.65997 | P15: =(O15*I15)/1000 -> 3.0447177 | Q15: =VLOOKUP(H15,AC16:AD77,2,TRUE) -> 2600 | R15: =VLOOKUP(Q15,$AG$7:$AH$68,2,FALSE) -> 5.542 | S15: =VLOOKUP(Q15,$AG$7:$AI$68,3,TRUE) -> 15.191475 | T15: =ROUNDUP(S15,0) -> 16 | U15: =MROUND(Q15,500) -> 2500 | V15: =MATCH(T15,$AJ$7:$AJ$29,0) -> 7 | W15: =MATCH(U15,$AK$6:$AX$6,0) -> 5 | X15: =INDEX($AK$7:$AX$29,V15,W15) -> 434 | Y15: =R15*0.7457 -> 4.1326694 | AA15: =((AB15*PI()*0.23084)/(30*'Specifications (CW1)'!$G$6*'Specifications (CW1)'!$G$9)*1.6) -> 7.3354094 | AB15: 1700 | AC15: =((AD15*PI()*0.22254)/(30*'Specifications (CW1)'!$G$7*'Specifications (CW1)'!$G$9)*1.6) -> 9.6431728 | AD15: 1700 | AE15: =((AF15*PI()*0.2184)/(30*'Specifications (CW1)'!$G$8*'Specifications (CW1)'!$G$9)*1.6) -> 12.394495 | AF15: 1700 | AG15: 1700 | AH15: 2.24 | AI15: =(AH15*7127)/AG15 -> 9.3908706 | AJ15: 14 | AK15: 502 | AL15: 482 | AM15: 454 | AN15: 459 | AO15: 434 | AP15: 455 | AQ15: 459 | AR15: 462 | AS15: 471 | AT15: 483 | AU15: 498 | AV15: 498 | AW15: 498 | AX15: 498
C16: STRAIGHT | D16: 2 | E16: 1 | F16: =F15+1 -> 10 | G16: =($F$7/I16)+G15 -> 3.6048664 | H16: =I16*3.6 -> 15.856355 | I16: =MIN(13.2,(SQRT((I15^2)+2*J15*$F$7))) -> 4.4045431 | J16: =0.97 -> 0.97 | K16: =0.5*1.167*0.95*1.151*I16^2 -> 12.377745 | L16: 120 | M16: =J16*616 -> 597.52 | N16: 0 | O16: =K16+L16+M16+N16 -> 729.89774 | P16: =(O16*I16)/1000 -> 3.2148661 | Q16: =VLOOKUP(H16,AC17:AD78,2,TRUE) -> 2700 | R16: =VLOOKUP(Q16,$AG$7:$AH$68,2,FALSE) -> 5.934 | S16: =VLOOKUP(Q16,$AG$7:$AI$68,3,TRUE) -> 15.663562 | T16: =ROUNDUP(S16,0) -> 16 | U16: =MROUND(Q16,500) -> 2500 | V16: =MATCH(T16,$AJ$7:$AJ$29,0) -> 7 | W16: =MATCH(U16,$AK$6:$AX$6,0) -> 5 | X16: =INDEX($AK$7:$AX$29,V16,W16) -> 434 | Y16: =R16*0.7457 -> 4.4249838 | AA16: =((AB16*PI()*0.23084)/(30*'Specifications (CW1)'!$G$6*'Specifications (CW1)'!$G$9)*1.6) -> 7.7669041 | AB16: 1800 | AC16: =((AD16*PI()*0.22254)/(30*'Specifications (CW1)'!$G$7*'Specifications (CW1)'!$G$9)*1.6) -> 10.210418 | AD16: 1800 | AE16: =((AF16*PI()*0.2184)/(30*'Specifications (CW1)'!$G$8*'Specifications (CW1)'!$G$9)*1.6) -> 13.123583 | AF16: 1800 | AG16: 1800 | AH16: 2.58 | AI16: =(AH16*7127)/AG16 -> 10.215367 | AJ16: 13 | AK16: 502 | AL16: 482 | AM16: 454 | AN16: 459 | AO16: 434 | AP16: 455 | AQ16: 459 | AR16: 462 | AS16: 471 | AT16: 483 | AU16: 498 | AV16: 498 | AW16: 498 | AX16: 498
C17: STRAIGHT | D17: 2 | E17: 1 | F17: =F16+1 -> 11 | G17: =($F$7/I17)+G16 -> 3.8213389 | H17: =I17*3.6 -> 16.630286 | I17: =MIN(13.2,(SQRT((I16^2)+2*J16*$F$7))) -> 4.6195238 | J17: =0.97 -> 0.97 | K17: =0.5*1.167*0.95*1.151*I17^2 -> 13.615519 | L17: 120 | M17: =J17*616 -> 597.52 | N17: 0 | O17: =K17+L17+M17+N17 -> 731.13552 | P17: =(O17*I17)/1000 -> 3.3774979 | Q17: =VLOOKUP(H17,AC18:AD79,2,TRUE) -> 2900 | R17: =VLOOKUP(Q17,$AG$7:$AH$68,2,FALSE) -> 6.718 | S17: =VLOOKUP(Q17,$AG$7:$AI$68,3,TRUE) -> 16.510064 | T17: =ROUNDUP(S17,0) -> 17 | U17: =MROUND(Q17,500) -> 3000 | V17: =MATCH(T17,$AJ$7:$AJ$29,0) -> 6 | W17: =MATCH(U17,$AK$6:$AX$6,0) -> 6 | X17: =INDEX($AK$7:$AX$29,V17,W17) -> 424 | Y17: =R17*0.7457 -> 5.0096126 | AA17: =((AB17*PI()*0.23084)/(30*'Specifications (CW1)'!$G$6*'Specifications (CW1)'!$G$9)*1.6) -> 8.1983987 | AB17: 1900 | AC17: =((AD17*PI()*0.22254)/(30*'Specifications (CW1)'!$G$7*'Specifications (CW1)'!$G$9)*1.6) -> 10.777664 | AD17: 1900 | AE17: =((AF17*PI()*0.2184)/(30*'Specifications (CW1)'!$G$8*'Specifications (CW1)'!$G$9)*1.6) -> 13.852671 | AF17: 1900 | AG17: 1900 | AH17: 2.92 | AI17: =(AH17*7127)/AG17 -> 10.953074 | AJ17: 12 | AK17: 513 | AL17: 482 | AM17: 462 | AN17: 475 | AO17: 446 | AP17: 462 | AQ17: 467 | AR17: 475 | AS17: 479 | AT17: 484 | AU17: 495 | AV17: 513 | AW17: 527 | AX17: 538
A18: TRACK LAYOUT | B18: Rr Coeficient | C18: STRAIGHT | D18: 2 | E18: 1 | F18: =F17+1 -> 12 | G18: =($F$7/I18)+G17 -> 4.0285956 | H18: =I18*3.6 -> 17.369767 | I18: =MIN(13.2,(SQRT((I17^2)+2*J17*$F$7))) -> 4.8249352 | J18: =0.97 -> 0.97 | K18: =0.5*1.167*0.95*1.151*I18^2 -> 14.853294 | L18: 120 | M18: =J18*616 -> 597.52 | N18: 0 | O18: =K18+L18+M18+N18 -> 732.37329 | P18: =(O18*I18)/1000 -> 3.5336537 | Q18: =VLOOKUP(H18,AC19:AD80,2,TRUE) -> 3000 | R18: =VLOOKUP(Q18,$AG$7:$AH$68,2,FALSE) -> 7.17 | S18: =VLOOKUP(Q18,$AG$7:$AI$68,3,TRUE) -> 17.03353 | T18: =ROUNDUP(S18,0) -> 18 | U18: =MROUND(Q18,500) -> 3000 | V18: =MATCH(T18,$AJ$7:$AJ$29,0) -> 5 | W18: =MATCH(U18,$AK$6:$AX$6,0) -> 6 | X18: =INDEX($AK$7:$AX$29,V18,W18) -> 424 | Y18: =R18*0.7457 -> 5.346669 | AA18: =((AB18*PI()*0.23084)/(30*'Specifications (CW1)'!$G$6*'Specifications (CW1)'!$G$9)*1.6) -> 8.6298934 | AB18: 2000 | AC18: =((AD18*PI()*0.22254)/(30*'Specifications (CW1)'!$G$7*'Specifications (CW1)'!$G$9)*1.6) -> 11.344909 | AD18: 2000 | AE18: =((AF18*PI()*0.2184)/(30*'Specifications (CW1)'!$G$8*'Specifications (CW1)'!$G$9)*1.6) -> 14.581759 | AF18: 2000 | AG18: 2000 | AH18: 3.26 | AI18: =(AH18*7127)/AG18 -> 11.61701 | AJ18: 11 | AK18: 513 | AL18: 482 | AM18: 462 | AN18: 475 | AO18: 446 | AP18: 462 | AQ18: 467 | AR18: 475 | AS18: 479 | AT18: 484 | AU18: 495 | AV18: 513 | AW18: 527 | AX18: 538
A19: SECTOR 1-Asphalt | B19: 0.02 | C19: STRAIGHT | D19: 2 | E19: 1 | F19: =F18+1 -> 13 | G19: =($F$7/I19)+G18 -> 4.2277214 | H19: =I19*3.6 -> 18.079027 | I19: =MIN(13.2,(SQRT((I18^2)+2*J18*$F$7))) -> 5.0219518 | J19: =0.97 -> 0.97 | K19: =0.5*1.167*0.95*1.151*I19^2 -> 16.091068 | L19: 120 | M19: =J19*616 -> 597.52 | N19: 0 | O19: =K19+L19+M19+N19 -> 733.61107 | P19: =(O19*I19)/1000 -> 3.6841594 | Q19: =VLOOKUP(H19,AC20:AD81,2,TRUE) -> 3100 | R19: =VLOOKUP(Q19,$AG$7:$AH$68,2,FALSE) -> 7.572 | S19: =VLOOKUP(Q19,$AG$7:$AI$68,3,TRUE) -> 17.408272 | T19: =ROUNDUP(S19,0) -> 18 | U19: =MROUND(Q19,500) -> 3000 | V19: =MATCH(T19,$AJ$7:$AJ$29,0) -> 5 | W19: =MATCH(U19,$AK$6:$AX$6,0) -> 6 | X19: =INDEX($AK$7:$AX$29,V19,W19) -> 424 | Y19: =R19*0.7457 -> 5.6464404 | AA19: =((AB19*PI()*0.23084)/(30*'Specifications (CW1)'!$G$6*'Specifications (CW1)'!$G$9)*1.6) -> 9.0613881 | AB19: 2100 | AC19: =((AD19*PI()*0.22254)/(30*'Specifications (CW1)'!$G$7*'Specifications (CW1)'!$G$9)*1.6) -> 11.912155 | AD19: 2100 | AE19: =((AF19*PI()*0.2184)/(30*'Specifications (CW1)'!$G$8*'Specifications (CW1)'!$G$9)*1.6) -> 15.310847 | AF19: 2100 | AG19: 2100 | AH19: 3.66 | AI19: =(AH19*7127)/AG19 -> 12.421343 | AJ19: 10 | AK19: 516 | AL19: 484 | AM19: 480 | AN19: 500 | AO19: 466 | AP19: 479 | AQ19: 477 | AR19: 482 | AS19: 493 | AT19: 506 | AU19: 527 | AV19: 534 | AW19: 541 | AX19: 546
A20: SECTOR 2-GRAVEL | B20: 0.025 | C20: STRAIGHT | D20: 2 | E20: 1 | F20: =F19+1 -> 14 | G20: =($F$7/I20)+G19 -> 4.4196038 | H20: =I20*3.6 -> 18.761492 | I20: =MIN(13.2,(SQRT((I19^2)+2*J19*$F$7))) -> 5.2115257 | J20: =0.97 -> 0.97 | K20: =0.5*1.167*0.95*1.151*I20^2 -> 17.328843 | L20: 120 | M20: =J20*616 -> 597.52 | N20: 0 | O20: =K20+L20+M20+N20 -> 734.84884 | P20: =(O20*I20)/1000 -> 3.8296836 | Q20: =VLOOKUP(H20,AC21:AD82,2,TRUE) -> 3300 | R20: =VLOOKUP(Q20,$AG$7:$AH$68,2,FALSE) -> 8.496 | S20: =VLOOKUP(Q20,$AG$7:$AI$68,3,TRUE) -> 18.348785 | T20: =ROUNDUP(S20,0) -> 19 | U20: =MROUND(Q20,500) -> 3500 | V20: =MATCH(T20,$AJ$7:$AJ$29,0) -> 4 | W20: =MATCH(U20,$AK$6:$AX$6,0) -> 7 | X20: =INDEX($AK$7:$AX$29,V20,W20) -> 462 | Y20: =R20*0.7457 -> 6.3354672 | AA20: =((AB20*PI()*0.23084)/(30*'Specifications (CW1)'!$G$6*'Specifications (CW1)'!$G$9)*1.6) -> 9.4928828 | AB20: 2200 | AC20: =((AD20*PI()*0.22254)/(30*'Specifications (CW1)'!$G$7*'Specifications (CW1)'!$G$9)*1.6) -> 12.4794 | AD20: 2200 | AE20: =((AF20*PI()*0.2184)/(30*'Specifications (CW1)'!$G$8*'Specifications (CW1)'!$G$9)*1.6) -> 16.039935 | AF20: 2200 | AG20: 2200 | AH20: 4.05 | AI20: =(AH20*7127)/AG20 -> 13.120159 | AJ20: 9 | AK20: 516 | AL20: 484 | AM20: 480 | AN20: 500 | AO20: 466 | AP20: 479 | AQ20: 477 | AR20: 482 | AS20: 493 | AT20: 506 | AU20: 527 | AV20: 534 | AW20: 541 | AX20: 546
A21: SECTOR 3-MUD | B21: 0.3 | C21: STRAIGHT | D21: 2 | E21: 1 | F21: =F20+1 -> 15 | G21: =($F$7/I21)+G20 -> 4.6049798 | H21: =I21*3.6 -> 19.41999 | I21: =MIN(13.2,(SQRT((I20^2)+2*J20*$F$7))) -> 5.3944416 | J21: 0.8 | K21: =0.5*1.167*0.95*1.151*I21^2 -> 18.566617 | L21: 120 | M21: =J21*616 -> 492.8 | N21: 0 | O21: =K21+L21+M21+N21 -> 631.36662 | P21: =(O21*I21)/1000 -> 3.4058703 | Q21: =VLOOKUP(H21,AC22:AD83,2,TRUE) -> 3400 | R21: =VLOOKUP(Q21,$AG$7:$AH$68,2,FALSE) -> 8.958 | S21: =VLOOKUP(Q21,$AG$7:$AI$68,3,TRUE) -> 18.777549 | T21: =ROUNDUP(S21,0) -> 19 | U21: =MROUND(Q21,500) -> 3500 | V21: =MATCH(T21,$AJ$7:$AJ$29,0) -> 4 | W21: =MATCH(U21,$AK$6:$AX$6,0) -> 7 | X21: =INDEX($AK$7:$AX$29,V21,W21) -> 462 | Y21: =R21*0.7457 -> 6.6799806 | AA21: =((AB21*PI()*0.23084)/(30*'Specifications (CW1)'!$G$6*'Specifications (CW1)'!$G$9)*1.6) -> 9.9243774 | AB21: 2300 | AC21: =((AD21*PI()*0.22254)/(30*'Specifications (CW1)'!$G$7*'Specifications (CW1)'!$G$9)*1.6) -> 13.046646 | AD21: 2300 | AE21: =((AF21*PI()*0.2184)/(30*'Specifications (CW1)'!$G$8*'Specifications (CW1)'!$G$9)*1.6) -> 16.769023 | AF21: 2300 | AG21: 2300 | AH21: 4.24 | AI21: =(AH21*7127)/AG21 -> 13.13847 | AJ21: 8 | AK21: 531 | AL21: 507 | AM21: 506 | AN21: 534 | AO21: 479 | AP21: 511 | AQ21: 480 | AR21: 504 | AS21: 516 | AT21: 533 | AU21: 565 | AV21: 574 | AW21: 583 | AX21: 591
A22: SECTOR 4-Loose Sand | B22: 0.1 | C22: STRAIGHT | D22: 2 | E22: 1 | F22: =F21+1 -> 16 | G22: =($F$7/I22)+G21 -> 4.7854605 | H22: =I22*3.6 -> 19.946729 | I22: =MIN(13.2,(SQRT((I21^2)+2*J21*$F$7))) -> 5.5407581 | J22: 0.8 | K22: =0.5*1.167*0.95*1.151*I22^2 -> 19.587462 | L22: 120 | M22: =J22*616 -> 492.8 | N22: 0 | O22: =K22+L22+M22+N22 -> 632.38746 | P22: =(O22*I22)/1000 -> 3.5039059 | Q22: =VLOOKUP(H22,AC23:AD84,2,TRUE) -> 3500 | R22: =VLOOKUP(Q22,$AG$7:$AH$68,2,FALSE) -> 9.22 | S22: =VLOOKUP(Q22,$AG$7:$AI$68,3,TRUE) -> 18.774554 | T22: =ROUNDUP(S22,0) -> 19 | U22: =MROUND(Q22,500) -> 3500 | V22: =MATCH(T22,$AJ$7:$AJ$29,0) -> 4 | W22: =MATCH(U22,$AK$6:$AX$6,0) -> 7 | X22: =INDEX($AK$7:$AX$29,V22,W22) -> 462 | Y22: =R22*0.7457 -> 6.875354 | AA22: =((AB22*PI()*0.23084)/(30*'Specifications (CW1)'!$G$6*'Specifications (CW1)'!$G$9)*1.6) -> 10.355872 | AB22: 2400 | AC22: =((AD22*PI()*0.22254)/(30*'Specifications (CW1)'!$G$7*'Specifications (CW1)'!$G$9)*1.6) -> 13.613891 | AD22: 2400 | AE22: =((AF22*PI()*0.2184)/(30*'Specifications (CW1)'!$G$8*'Specifications (CW1)'!$G$9)*1.6) -> 17.498111 | AF22: 2400 | AG22: 2400 | AH22: 4.45 | AI22: =(AH22*7127)/AG22 -> 13.214646 | AJ22: 7 | AK22: 531 | AL22: 507 | AM22: 506 | AN22: 534 | AO22: 479 | AP22: 511 | AQ22: 480 | AR22: 504 | AS22: 516 | AT22: 533 | AU22: 565 | AV22: 574 | AW22: 583 | AX22: 591
C23: STRAIGHT | D23: 2 | E23: 1 | F23: =F22+1 -> 17 | G23: =($F$7/I23)+G22 -> 4.9614143 | H23: =I23*3.6 -> 20.459912 | I23: =MIN(13.2,(SQRT((I22^2)+2*J22*$F$7))) -> 5.6833089 | J23: 0.8 | K23: =0.5*1.167*0.95*1.151*I23^2 -> 20.608307 | L23: 120 | M23: =J23*616 -> 492.8 | N23: 0 | O23: =K23+L23+M23+N23 -> 633.40831 | P23: =(O23*I23)/1000 -> 3.5998551 | Q23: =VLOOKUP(H23,AC24:AD85,2,TRUE) -> 3600 | R23: =VLOOKUP(Q23,$AG$7:$AH$68,2,FALSE) -> 9.636 | S23: =VLOOKUP(Q23,$AG$7:$AI$68,3,TRUE) -> 19.076603 | T23: =ROUNDUP(S23,0) -> 20 | U23: =MROUND(Q23,500) -> 3500 | V23: =MATCH(T23,$AJ$7:$AJ$29,0) -> 3 | W23: =MATCH(U23,$AK$6:$AX$6,0) -> 7 | X23: =INDEX($AK$7:$AX$29,V23,W23) -> 462 | Y23: =R23*0.7457 -> 7.1855652 | AA23: =((AB23*PI()*0.23084)/(30*'Specifications (CW1)'!$G$6*'Specifications (CW1)'!$G$9)*1.6) -> 10.787367 | AB23: 2500 | AC23: =((AD23*PI()*0.22254)/(30*'Specifications (CW1)'!$G$7*'Specifications (CW1)'!$G$9)*1.6) -> 14.181136 | AD23: 2500 | AE23: =((AF23*PI()*0.2184)/(30*'Specifications (CW1)'!$G$8*'Specifications (CW1)'!$G$9)*1.6) -> 18.227199 | AF23: 2500 | AG23: 2500 | AH23: 5.24 | AI23: =(AH23*7127)/AG23 -> 14.938192 | AJ23: 6 | AK23: 570 | AL23: 546 | AM23: 545 | AN23: 590 | AO23: 511 | AP23: 565 | AQ23: 588 | AR23: 517 | AS23: 551 | AT23: 578 | AU23: 621 | AV23: 632 | AW23: 644 | AX23: 651
C24: STRAIGHT | D24: 2 | E24: 1 | F24: =F23+1 -> 18 | G24: =($F$7/I24)+G23 -> 5.1331657 | H24: =I24*3.6 -> 20.960534 | I24: =MIN(13.2,(SQRT((I23^2)+2*J23*$F$7))) -> 5.8223707 | J24: 0.8 | K24: =0.5*1.167*0.95*1.151*I24^2 -> 21.629152 | L24: 120 | M24: =J24*616 -> 492.8 | N24: 0 | O24: =K24+L24+M24+N24 -> 634.42915 | P24: =(O24*I24)/1000 -> 3.6938817 | Q24: =VLOOKUP(H24,AC25:AD86,2,TRUE) -> 3600 | R24: =VLOOKUP(Q24,$AG$7:$AH$68,2,FALSE) -> 9.636 | S24: =VLOOKUP(Q24,$AG$7:$AI$68,3,TRUE) -> 19.076603 | T24: =ROUNDUP(S24,0) -> 20 | U24: =MROUND(Q24,500) -> 3500 | V24: =MATCH(T24,$AJ$7:$AJ$29,0) -> 3 | W24: =MATCH(U24,$AK$6:$AX$6,0) -> 7 | X24: =INDEX($AK$7:$AX$29,V24,W24) -> 462 | Y24: =R24*0.7457 -> 7.1855652 | AA24: =((AB24*PI()*0.23084)/(30*'Specifications (CW1)'!$G$6*'Specifications (CW1)'!$G$9)*1.6) -> 11.218861 | AB24: 2600 | AC24: =((AD24*PI()*0.22254)/(30*'Specifications (CW1)'!$G$7*'Specifications (CW1)'!$G$9)*1.6) -> 14.748382 | AD24: 2600 | AE24: =((AF24*PI()*0.2184)/(30*'Specifications (CW1)'!$G$8*'Specifications (CW1)'!$G$9)*1.6) -> 18.956287 | AF24: 2600 | AG24: 2600 | AH24: 5.542 | AI24: =(AH24*7127)/AG24 -> 15.191475 | AJ24: 5 | AK24: 570 | AL24: 546 | AM24: 545 | AN24: 590 | AO24: 571 | AP24: 565 | AQ24: 588 | AR24: 517 | AS24: 551 | AT24: 578 | AU24: 621 | AV24: 632 | AW24: 644 | AX24: 651
C25: STRAIGHT | D25: 2 | E25: 1 | F25: =F24+1 -> 19 | G25: =($F$7/I25)+G24 -> 5.3010019 | H25: =I25*3.6 -> 21.449476 | I25: =MIN(13.2,(SQRT((I24^2)+2*J24*$F$7))) -> 5.9581876 | J25: 0.8 | K25: =0.5*1.167*0.95*1.151*I25^2 -> 22.649997 | L25: 120 | M25: =J25*616 -> 492.8 | N25: 0 | O25: =K25+L25+M25+N25 -> 635.45 | P25: =(O25*I25)/1000 -> 3.7861303 | Q25: =VLOOKUP(H25,AC26:AD87,2,TRUE) -> 3700 | R25: =VLOOKUP(Q25,$AG$7:$AH$68,2,FALSE) -> 9.852 | S25: =VLOOKUP(Q25,$AG$7:$AI$68,3,TRUE) -> 18.977082 | T25: =ROUNDUP(S25,0) -> 19 | U25: =MROUND(Q25,500) -> 3500 | V25: =MATCH(T25,$AJ$7:$AJ$29,0) -> 4 | W25: =MATCH(U25,$AK$6:$AX$6,0) -> 7 | X25: =INDEX($AK$7:$AX$29,V25,W25) -> 462 | Y25: =R25*0.7457 -> 7.3466364 | AA25: =((AB25*PI()*0.23084)/(30*'Specifications (CW1)'!$G$6*'Specifications (CW1)'!$G$9)*1.6) -> 11.650356 | AB25: 2700 | AC25: =((AD25*PI()*0.22254)/(30*'Specifications (CW1)'!$G$7*'Specifications (CW1)'!$G$9)*1.6) -> 15.315627 | AD25: 2700 | AE25: =((AF25*PI()*0.2184)/(30*'Specifications (CW1)'!$G$8*'Specifications (CW1)'!$G$9)*1.6) -> 19.685375 | AF25: 2700 | AG25: 2700 | AH25: 5.934 | AI25: =(AH25*7127)/AG25 -> 15.663562 | AJ25: 4 | AK25: 642 | AL25: 603 | AM25: 606 | AN25: 590 | AO25: 565 | AP25: 565 | AQ25: 540 | AR25: 556 | AS25: 592 | AT25: 660 | AU25: 711 | AV25: 729 | AW25: 733 | AX25: 747
C26: STRAIGHT | D26: 2 | E26: 1 | F26: =F25+1 -> 20 | G26: =($F$7/I26)+G25 -> 5.4651792 | H26: =I26*3.6 -> 21.927517 | I26: =MIN(13.2,(SQRT((I25^2)+2*J25*$F$7))) -> 6.0909769 | J26: 0.8 | K26: =0.5*1.167*0.95*1.151*I26^2 -> 23.670842 | L26: 120 | M26: =J26*616 -> 492.8 | N26: 0 | O26: =K26+L26+M26+N26 -> 636.47084 | P26: =(O26*I26)/1000 -> 3.8767292 | Q26: =VLOOKUP(H26,AC27:AD88,2,TRUE) -> 3800 | R26: =VLOOKUP(Q26,$AG$7:$AH$68,2,FALSE) -> 10.068 | S26: =VLOOKUP(Q26,$AG$7:$AI$68,3,TRUE) -> 18.882799 | T26: =ROUNDUP(S26,0) -> 19 | U26: =MROUND(Q26,500) -> 4000 | V26: =MATCH(T26,$AJ$7:$AJ$29,0) -> 4 | W26: =MATCH(U26,$AK$6:$AX$6,0) -> 8 | X26: =INDEX($AK$7:$AX$29,V26,W26) -> 466 | Y26: =R26*0.7457 -> 7.5077076 | AA26: =((AB26*PI()*0.23084)/(30*'Specifications (CW1)'!$G$6*'Specifications (CW1)'!$G$9)*1.6) -> 12.081851 | AB26: 2800 | AC26: =((AD26*PI()*0.22254)/(30*'Specifications (CW1)'!$G$7*'Specifications (CW1)'!$G$9)*1.6) -> 15.882873 | AD26: 2800 | AE26: =((AF26*PI()*0.2184)/(30*'Specifications (CW1)'!$G$8*'Specifications (CW1)'!$G$9)*1.6) -> 20.414463 | AF26: 2800 | AG26: 2800 | AH26: 6.326 | AI26: =(AH26*7127)/AG26 -> 16.101929 | AJ26: 3 | AK26: 642 | AL26: 603 | AM26: 606 | AN26: 590 | AO26: 565 | AP26: 590 | AQ26: 540 | AR26: 556 | AS26: 592 | AT26: 660 | AU26: 711 | AV26: 729 | AW26: 733 | AX26: 747
C27: STRAIGHT | D27: 2 | E27: 1 | F27: =F26+1 -> 21 | G27: =($F$7/I27)+G26 -> 5.6259268 | H27: =I27*3.6 -> 22.395357 | I27: =MIN(13.2,(SQRT((I26^2)+2*J26*$F$7))) -> 6.2209324 | J27: 0.8 | K27: =0.5*1.167*0.95*1.151*I27^2 -> 24.691687 | L27: 120 | M27: =J27*616 -> 492.8 | N27: 0 | O27: =K27+L27+M27+N27 -> 637.49169 | P27: =(O27*I27)/1000 -> 3.9657927 | Q27: =VLOOKUP(H27,AC28:AD89,2,TRUE) -> 3900 | R27: =VLOOKUP(Q27,$AG$7:$AH$68,2,FALSE) -> 10.284 | S27: =VLOOKUP(Q27,$AG$7:$AI$68,3,TRUE) -> 18.793351 | T27: =ROUNDUP(S27,0) -> 19 | U27: =MROUND(Q27,500) -> 4000 | V27: =MATCH(T27,$AJ$7:$AJ$29,0) -> 4 | W27: =MATCH(U27,$AK$6:$AX$6,0) -> 8 | X27: =INDEX($AK$7:$AX$29,V27,W27) -> 466 | Y27: =R27*0.7457 -> 7.6687788 | AA27: =((AB27*PI()*0.23084)/(30*'Specifications (CW1)'!$G$6*'Specifications (CW1)'!$G$9)*1.6) -> 12.513345 | AB27: 2900 | AC27: =((AD27*PI()*0.22254)/(30*'Specifications (CW1)'!$G$7*'Specifications (CW1)'!$G$9)*1.6) -> 16.450118 | AD27: 2900 | AE27: =((AF27*PI()*0.2184)/(30*'Specifications (CW1)'!$G$8*'Specifications (CW1)'!$G$9)*1.6) -> 21.14355 | AF27: 2900 | AG27: 2900 | AH27: 6.718 | AI27: =(AH27*7127)/AG27 -> 16.510064 | AJ27: 2 | AK27: 712 | AL27: 712 | AM27: 712 | AN27: 694 | AO27: 622 | AP27: 622 | AQ27: 658 | AR27: 622 | AS27: 640 | AT27: 684 | AU27: 756 | AV27: 756 | AW27: 756 | AX27: 756
C28: STRAIGHT | D28: 2 | E28: 1 | F28: =F27+1 -> 22 | G28: =($F$7/I28)+G27 -> 5.7834511 | H28: =I28*3.6 -> 22.853621 | I28: =MIN(13.2,(SQRT((I27^2)+2*J27*$F$7))) -> 6.3482281 | J28: 0.8 | K28: =0.5*1.167*0.95*1.151*I28^2 -> 25.712531 | L28: 120 | M28: =J28*616 -> 492.8 | N28: 0 | O28: =K28+L28+M28+N28 -> 638.51253 | P28: =(O28*I28)/1000 -> 4.0534232 | Q28: =VLOOKUP(H28,AC29:AD90,2,TRUE) -> 4000 | R28: =VLOOKUP(Q28,$AG$7:$AH$68,2,FALSE) -> 10.86 | S28: =VLOOKUP(Q28,$AG$7:$AI$68,3,TRUE) -> 19.349805 | T28: =ROUNDUP(S28,0) -> 20 | U28: =MROUND(Q28,500) -> 4000 | V28: =MATCH(T28,$AJ$7:$AJ$29,0) -> 3 | W28: =MATCH(U28,$AK$6:$AX$6,0) -> 8 | X28: =INDEX($AK$7:$AX$29,V28,W28) -> 466 | Y28: =R28*0.7457 -> 8.098302 | AA28: =((AB28*PI()*0.23084)/(30*'Specifications (CW1)'!$G$6*'Specifications (CW1)'!$G$9)*1.6) -> 12.94484 | AB28: 3000 | AC28: =((AD28*PI()*0.22254)/(30*'Specifications (CW1)'!$G$7*'Specifications (CW1)'!$G$9)*1.6) -> 17.017364 | AD28: 3000 | AE28: =((AF28*PI()*0.2184)/(30*'Specifications (CW1)'!$G$8*'Specifications (CW1)'!$G$9)*1.6) -> 21.872638 | AF28: 3000 | AG28: 3000 | AH28: 7.17 | AI28: =(AH28*7127)/AG28 -> 17.03353 | AJ28: 1 | AK28: 812 | AL28: 812 | AM28: 812 | AN28: 694 | AO28: 622 | AP28: 622 | AQ28: 658 | AR28: 622 | AS28: 640 | AT28: 684 | AU28: 756 | AV28: 756 | AW28: 851.87555 | AX28: 846.90456
C29: STRAIGHT | D29: 2 | E29: 1 | F29: =F28+1 -> 23 | G29: =($F$7/I29)+G28 -> 5.9379385 | H29: =I29*3.6 -> 23.302875 | I29: =MIN(13.2,(SQRT((I28^2)+2*J28*$F$7))) -> 6.4730209 | J29: 0.8 | K29: =0.5*1.167*0.95*1.151*I29^2 -> 26.733376 | L29: 120 | M29: =J29*616 -> 492.8 | N29: 0 | O29: =K29+L29+M29+N29 -> 639.53338 | P29: =(O29*I29)/1000 -> 4.1397129 | Q29: =VLOOKUP(H29,AC30:AD91,2,TRUE) -> 4100 | R29: =VLOOKUP(Q29,$AG$7:$AH$68,2,FALSE) -> 11.45 | S29: =VLOOKUP(Q29,$AG$7:$AI$68,3,TRUE) -> 19.903451 | T29: =ROUNDUP(S29,0) -> 20 | U29: =MROUND(Q29,500) -> 4000 | V29: =MATCH(T29,$AJ$7:$AJ$29,0) -> 3 | W29: =MATCH(U29,$AK$6:$AX$6,0) -> 8 | X29: =INDEX($AK$7:$AX$29,V29,W29) -> 466 | Y29: =R29*0.7457 -> 8.538265 | AA29: =((AB29*PI()*0.23084)/(30*'Specifications (CW1)'!$G$6*'Specifications (CW1)'!$G$9)*1.6) -> 13.376335 | AB29: 3100 | AC29: =((AD29*PI()*0.22254)/(30*'Specifications (CW1)'!$G$7*'Specifications (CW1)'!$G$9)*1.6) -> 17.584609 | AD29: 3100 | AE29: =((AF29*PI()*0.2184)/(30*'Specifications (CW1)'!$G$8*'Specifications (CW1)'!$G$9)*1.6) -> 22.601726 | AF29: 3100 | AG29: 3100 | AH29: 7.572 | AI29: =(AH29*7127)/AG29 -> 17.408272 | AJ29: 0 | AK29: 0 | AL29: 0 | AM29: 0 | AN29: 0 | AO29: 0 | AP29: 0 | AQ29: 0 | AR29: 0 | AS29: 0 | AT29: 0 | AU29: 0 | AV29: 0 | AW29: 0 | AX29: 0
C30: STRAIGHT | D30: 2 | E30: 1 | F30: =F29+1 -> 24 | G30: =($F$7/I30)+G29 -> 6.0895581 | H30: =I30*3.6 -> 23.743631 | I30: =MIN(13.2,(SQRT((I29^2)+2*J29*$F$7))) -> 6.595453 | J30: 0.8 | K30: =0.5*1.167*0.95*1.151*I30^2 -> 27.754221 | L30: 120 | M30: =J30*616 -> 492.8 | N30: 0 | O30: =K30+L30+M30+N30 -> 640.55422 | P30: =(O30*I30)/1000 -> 4.2247452 | Q30: =VLOOKUP(H30,AC31:AD92,2,TRUE) -> 4100 | R30: =VLOOKUP(Q30,$AG$7:$AH$68,2,FALSE) -> 11.45 | S30: =VLOOKUP(Q30,$AG$7:$AI$68,3,TRUE) -> 19.903451 | T30: =ROUNDUP(S30,0) -> 20 | U30: =MROUND(Q30,500) -> 4000 | V30: =MATCH(T30,$AJ$7:$AJ$29,0) -> 3 | W30: =MATCH(U30,$AK$6:$AX$6,0) -> 8 | X30: =INDEX($AK$7:$AX$29,V30,W30) -> 466 | Y30: =R30*0.7457 -> 8.538265 | AA30: =((AB30*PI()*0.23084)/(30*'Specifications (CW1)'!$G$6*'Specifications (CW1)'!$G$9)*1.6) -> 13.807829 | AB30: 3200 | AC30: =((AD30*PI()*0.22254)/(30*'Specifications (CW1)'!$G$7*'Specifications (CW1)'!$G$9)*1.6) -> 18.151855 | AD30: 3200 | AE30: =((AF30*PI()*0.2184)/(30*'Specifications (CW1)'!$G$8*'Specifications (CW1)'!$G$9)*1.6) -> 23.330814 | AF30: 3200 | AG30: 3200 | AH30: 8.034 | AI30: =(AH30*7127)/AG30 -> 17.893224
C31: STRAIGHT | D31: 2 | E31: 1 | F31: =F30+1 -> 25 | G31: =($F$7/I31)+G30 -> 6.2384639 | H31: =I31*3.6 -> 24.176352 | I31: =MIN(13.2,(SQRT((I30^2)+2*J30*$F$7))) -> 6.7156534 | J31: 0.8 | K31: =0.5*1.167*0.95*1.151*I31^2 -> 28.775066 | L31: 120 | M31: =J31*616 -> 492.8 | N31: 0 | O31: =K31+L31+M31+N31 -> 641.57507 | P31: =(O31*I31)/1000 -> 4.3085957 | Q31: =VLOOKUP(H31,AC32:AD93,2,TRUE) -> 4200 | R31: =VLOOKUP(Q31,$AG$7:$AH$68,2,FALSE) -> 12.04 | S31: =VLOOKUP(Q31,$AG$7:$AI$68,3,TRUE) -> 20.430733 | T31: =ROUNDUP(S31,0) -> 21 | U31: =MROUND(Q31,500) -> 4000 | V31: =MATCH(T31,$AJ$7:$AJ$29,0) -> 2 | W31: =MATCH(U31,$AK$6:$AX$6,0) -> 8 | X31: =INDEX($AK$7:$AX$29,V31,W31) -> 488 | Y31: =R31*0.7457 -> 8.978228 | AA31: =((AB31*PI()*0.23084)/(30*'Specifications (CW1)'!$G$6*'Specifications (CW1)'!$G$9)*1.6) -> 14.239324 | AB31: 3300 | AC31: =((AD31*PI()*0.22254)/(30*'Specifications (CW1)'!$G$7*'Specifications (CW1)'!$G$9)*1.6) -> 18.7191 | AD31: 3300 | AE31: =((AF31*PI()*0.2184)/(30*'Specifications (CW1)'!$G$8*'Specifications (CW1)'!$G$9)*1.6) -> 24.059902 | AF31: 3300 | AG31: 3300 | AH31: 8.496 | AI31: =(AH31*7127)/AG31 -> 18.348785
C32: STRAIGHT | D32: 2 | E32: 1 | F32: =F31+1 -> 26 | G32: =($F$7/I32)+G31 -> 6.3847967 | H32: =I32*3.6 -> 24.601463 | I32: =MIN(13.2,(SQRT((I31^2)+2*J31*$F$7))) -> 6.8337398 | J32: 0.8 | K32: =0.5*1.167*0.95*1.151*I32^2 -> 29.795911 | L32: 120 | M32: =J32*616 -> 492.8 | N32: 0 | O32: =K32+L32+M32+N32 -> 642.59591 | P32: =(O32*I32)/1000 -> 4.3913333 | Q32: =VLOOKUP(H32,AC33:AD94,2,TRUE) -> 4300 | R32: =VLOOKUP(Q32,$AG$7:$AH$68,2,FALSE) -> 12.63 | S32: =VLOOKUP(Q32,$AG$7:$AI$68,3,TRUE) -> 20.933491 | T32: =ROUNDUP(S32,0) -> 21 | U32: =MROUND(Q32,500) -> 4500 | V32: =MATCH(T32,$AJ$7:$AJ$29,0) -> 2 | W32: =MATCH(U32,$AK$6:$AX$6,0) -> 9 | X32: =INDEX($AK$7:$AX$29,V32,W32) -> 488 | Y32: =R32*0.7457 -> 9.418191 | AA32: =((AB32*PI()*0.23084)/(30*'Specifications (CW1)'!$G$6*'Specifications (CW1)'!$G$9)*1.6) -> 14.670819 | AB32: 3400 | AC32: =((AD32*PI()*0.22254)/(30*'Specifications (CW1)'!$G$7*'Specifications (CW1)'!$G$9)*1.6) -> 19.286346 | AD32: 3400 | AE32: =((AF32*PI()*0.2184)/(30*'Specifications (CW1)'!$G$8*'Specifications (CW1)'!$G$9)*1.6) -> 24.78899 | AF32: 3400 | AG32: 3400 | AH32: 8.958 | AI32: =(AH32*7127)/AG32 -> 18.777549
C33: STRAIGHT | D33: 2 | E33: 1 | F33: =F32+1 -> 27 | G33: =($F$7/I33)+G32 -> 6.5286853 | H33: =I33*3.6 -> 25.019353 | I33: =MIN(13.2,(SQRT((I32^2)+2*J32*$F$7))) -> 6.9498201 | J33: 0 | K33: =0.5*1.167*0.95*1.151*I33^2 -> 30.816756 | L33: 120 | M33: =J33*616 -> 0 | N33: 0 | O33: =K33+L33+M33+N33 -> 150.81676 | P33: =(O33*I33)/1000 -> 1.0481493 | Q33: =VLOOKUP(H33,AC34:AD95,2,TRUE) -> 4400 | R33: =VLOOKUP(Q33,$AG$7:$AH$68,2,FALSE) -> 13.22 | S33: =VLOOKUP(Q33,$AG$7:$AI$68,3,TRUE) -> 21.413395 | T33: =ROUNDUP(S33,0) -> 22 | U33: =MROUND(Q33,500) -> 4500 | V33: =MATCH(T33,$AJ$7:$AJ$29,0) -> 1 | W33: =MATCH(U33,$AK$6:$AX$6,0) -> 9 | X33: =INDEX($AK$7:$AX$29,V33,W33) -> 488 | Y33: =R33*0.7457 -> 9.858154 | AA33: =((AB33*PI()*0.23084)/(30*'Specifications (CW1)'!$G$6*'Specifications (CW1)'!$G$9)*1.6) -> 15.102313 | AB33: 3500 | AC33: =((AD33*PI()*0.22254)/(30*'Specifications (CW1)'!$G$7*'Specifications (CW1)'!$G$9)*1.6) -> 19.853591 | AD33: 3500 | AE33: =((AF33*PI()*0.2184)/(30*'Specifications (CW1)'!$G$8*'Specifications (CW1)'!$G$9)*1.6) -> 25.518078 | AF33: 3500 | AG33: 3500 | AH33: 9.22 | AI33: =(AH33*7127)/AG33 -> 18.774554
C34: STRAIGHT | D34: 2 | E34: 1 | F34: =F33+1 -> 28 | G34: =($F$7/I34)+G33 -> 6.6725739 | H34: =I34*3.6 -> 25.019353 | I34: =MIN(13.2,(SQRT((I33^2)+2*J33*$F$7))) -> 6.9498201 | J34: 0 | K34: =0.5*1.167*0.95*1.151*I34^2 -> 30.816756 | L34: 120 | M34: =J34*616 -> 0 | N34: 0 | O34: =K34+L34+M34+N34 -> 150.81676 | P34: =(O34*I34)/1000 -> 1.0481493 | Q34: =VLOOKUP(H34,AC35:AD96,2,TRUE) -> 4400 | R34: =VLOOKUP(Q34,$AG$7:$AH$68,2,FALSE) -> 13.22 | S34: =VLOOKUP(Q34,$AG$7:$AI$68,3,TRUE) -> 21.413395 | T34: =ROUNDUP(S34,0) -> 22 | U34: =MROUND(Q34,500) -> 4500 | V34: =MATCH(T34,$AJ$7:$AJ$29,0) -> 1 | W34: =MATCH(U34,$AK$6:$AX$6,0) -> 9 | X34: =INDEX($AK$7:$AX$29,V34,W34) -> 488 | Y34: =R34*0.7457 -> 9.858154 | AA34: =((AB34*PI()*0.23084)/(30*'Specifications (CW1)'!$G$6*'Specifications (CW1)'!$G$9)*1.6) -> 15.533808 | AB34: 3600 | AC34: =((AD34*PI()*0.22254)/(30*'Specifications (CW1)'!$G$7*'Specifications (CW1)'!$G$9)*1.6) -> 20.420837 | AD34: 3600 | AE34: =((AF34*PI()*0.2184)/(30*'Specifications (CW1)'!$G$8*'Specifications (CW1)'!$G$9)*1.6) -> 26.247166 | AF34: 3600 | AG34: 3600 | AH34: 9.636 | AI34: =(AH34*7127)/AG34 -> 19.076603
C35: STRAIGHT | D35: 2 | E35: 1 | F35: =F34+1 -> 29 | G35: =($F$7/I35)+G34 -> 6.8164625 | H35: =I35*3.6 -> 25.019353 | I35: =MIN(13.2,(SQRT((I34^2)+2*J34*$F$7))) -> 6.9498201 | J35: 0 | K35: =0.5*1.167*0.95*1.151*I35^2 -> 30.816756 | L35: 120 | M35: =J35*616 -> 0 | N35: 0 | O35: =K35+L35+M35+N35 -> 150.81676 | P35: =(O35*I35)/1000 -> 1.0481493 | Q35: =VLOOKUP(H35,AC36:AD97,2,TRUE) -> 4400 | R35: =VLOOKUP(Q35,$AG$7:$AH$68,2,FALSE) -> 13.22 | S35: =VLOOKUP(Q35,$AG$7:$AI$68,3,TRUE) -> 21.413395 | T35: =ROUNDUP(S35,0) -> 22 | U35: =MROUND(Q35,500) -> 4500 | V35: =MATCH(T35,$AJ$7:$AJ$29,0) -> 1 | W35: =MATCH(U35,$AK$6:$AX$6,0) -> 9 | X35: =INDEX($AK$7:$AX$29,V35,W35) -> 488 | Y35: =R35*0.7457 -> 9.858154 | AA35: =((AB35*PI()*0.23084)/(30*'Specifications (CW1)'!$G$6*'Specifications (CW1)'!$G$9)*1.6) -> 15.965303 | AB35: 3700 | AC35: =((AD35*PI()*0.22254)/(30*'Specifications (CW1)'!$G$7*'Specifications (CW1)'!$G$9)*1.6) -> 20.988082 | AD35: 3700 | AE35: =((AF35*PI()*0.2184)/(30*'Specifications (CW1)'!$G$8*'Specifications (CW1)'!$G$9)*1.6) -> 26.976254 | AF35: 3700 | AG35: 3700 | AH35: 9.852 | AI35: =(AH35*7127)/AG35 -> 18.977082
C36: STRAIGHT | D36: 2 | E36: 1 | F36: =F35+1 -> 30 | G36: =($F$7/I36)+G35 -> 6.9603511 | H36: =I36*3.6 -> 25.019353 | I36: =MIN(13.2,(SQRT((I35^2)+2*J35*$F$7))) -> 6.9498201 | J36: 0 | K36: =0.5*1.167*0.95*1.151*I36^2 -> 30.816756 | L36: 120 | M36: =J36*616 -> 0 | N36: 0 | O36: =K36+L36+M36+N36 -> 150.81676 | P36: =(O36*I36)/1000 -> 1.0481493 | Q36: =VLOOKUP(H36,AC37:AD98,2,TRUE) -> 4400 | R36: =VLOOKUP(Q36,$AG$7:$AH$68,2,FALSE) -> 13.22 | S36: =VLOOKUP(Q36,$AG$7:$AI$68,3,TRUE) -> 21.413395 | T36: =ROUNDUP(S36,0) -> 22 | U36: =MROUND(Q36,500) -> 4500 | V36: =MATCH(T36,$AJ$7:$AJ$29,0) -> 1 | W36: =MATCH(U36,$AK$6:$AX$6,0) -> 9 | X36: =INDEX($AK$7:$AX$29,V36,W36) -> 488 | Y36: =R36*0.7457 -> 9.858154 | AA36: =((AB36*PI()*0.23084)/(30*'Specifications (CW1)'!$G$6*'Specifications (CW1)'!$G$9)*1.6) -> 16.396797 | AB36: 3800 | AC36: =((AD36*PI()*0.22254)/(30*'Specifications (CW1)'!$G$7*'Specifications (CW1)'!$G$9)*1.6) -> 21.555327 | AD36: 3800 | AE36: =((AF36*PI()*0.2184)/(30*'Specifications (CW1)'!$G$8*'Specifications (CW1)'!$G$9)*1.6) -> 27.705342 | AF36: 3800 | AG36: 3800 | AH36: 10.068 | AI36: =(AH36*7127)/AG36 -> 18.882799
C37: STRAIGHT | D37: 2 | E37: 1 | F37: =F36+1 -> 31 | G37: =($F$7/I37)+G36 -> 7.1042397 | H37: =I37*3.6 -> 25.019353 | I37: =MIN(13.2,(SQRT((I36^2)+2*J36*$F$7))) -> 6.9498201 | J37: 0 | K37: =0.5*1.167*0.95*1.151*I37^2 -> 30.816756 | L37: 120 | M37: =J37*616 -> 0 | N37: 0 | O37: =K37+L37+M37+N37 -> 150.81676 | P37: =(O37*I37)/1000 -> 1.0481493 | Q37: =VLOOKUP(H37,AC38:AD99,2,TRUE) -> 4400 | R37: =VLOOKUP(Q37,$AG$7:$AH$68,2,FALSE) -> 13.22 | S37: =VLOOKUP(Q37,$AG$7:$AI$68,3,TRUE) -> 21.413395 | T37: =ROUNDUP(S37,0) -> 22 | U37: =MROUND(Q37,500) -> 4500 | V37: =MATCH(T37,$AJ$7:$AJ$29,0) -> 1 | W37: =MATCH(U37,$AK$6:$AX$6,0) -> 9 | X37: =INDEX($AK$7:$AX$29,V37,W37) -> 488 | Y37: =R37*0.7457 -> 9.858154 | AA37: =((AB37*PI()*0.23084)/(30*'Specifications (CW1)'!$G$6*'Specifications (CW1)'!$G$9)*1.6) -> 16.828292 | AB37: 3900 | AC37: =((AD37*PI()*0.22254)/(30*'Specifications (CW1)'!$G$7*'Specifications (CW1)'!$G$9)*1.6) -> 22.122573 | AD37: 3900 | AE37: =((AF37*PI()*0.2184)/(30*'Specifications (CW1)'!$G$8*'Specifications (CW1)'!$G$9)*1.6) -> 28.43443 | AF37: 3900 | AG37: 3900 | AH37: 10.284 | AI37: =(AH37*7127)/AG37 -> 18.793351
C38: STRAIGHT | D38: 2 | E38: 1 | F38: =F37+1 -> 32 | G38: =($F$7/I38)+G37 -> 7.2481284 | H38: =I38*3.6 -> 25.019353 | I38: =MIN(13.2,(SQRT((I37^2)+2*J37*$F$7))) -> 6.9498201 | J38: 0 | K38: =0.5*1.167*0.95*1.151*I38^2 -> 30.816756 | L38: 120 | M38: =J38*616 -> 0 | N38: 0 | O38: =K38+L38+M38+N38 -> 150.81676 | P38: =(O38*I38)/1000 -> 1.0481493 | Q38: =VLOOKUP(H38,AC39:AD100,2,TRUE) -> 4400 | R38: =VLOOKUP(Q38,$AG$7:$AH$68,2,FALSE) -> 13.22 | S38: =VLOOKUP(Q38,$AG$7:$AI$68,3,TRUE) -> 21.413395 | T38: =ROUNDUP(S38,0) -> 22 | U38: =MROUND(Q38,500) -> 4500 | V38: =MATCH(T38,$AJ$7:$AJ$29,0) -> 1 | W38: =MATCH(U38,$AK$6:$AX$6,0) -> 9 | X38: =INDEX($AK$7:$AX$29,V38,W38) -> 488 | Y38: =R38*0.7457 -> 9.858154 | AA38: =((AB38*PI()*0.23084)/(30*'Specifications (CW1)'!$G$6*'Specifications (CW1)'!$G$9)*1.6) -> 17.259787 | AB38: 4000 | AC38: =((AD38*PI()*0.22254)/(30*'Specifications (CW1)'!$G$7*'Specifications (CW1)'!$G$9)*1.6) -> 22.689818 | AD38: 4000 | AE38: =((AF38*PI()*0.2184)/(30*'Specifications (CW1)'!$G$8*'Specifications (CW1)'!$G$9)*1.6) -> 29.163518 | AF38: 4000 | AG38: 4000 | AH38: 10.86 | AI38: =(AH38*7127)/AG38 -> 19.349805
C39: STRAIGHT | D39: 2 | E39: 1 | F39: =F38+1 -> 33 | G39: =($F$7/I39)+G38 -> 7.392017 | H39: =I39*3.6 -> 25.019353 | I39: =MIN(13.2,(SQRT((I38^2)+2*J38*$F$7))) -> 6.9498201 | J39: 0 | K39: =0.5*1.167*0.95*1.151*I39^2 -> 30.816756 | L39: 120 | M39: =J39*616 -> 0 | N39: 0 | O39: =K39+L39+M39+N39 -> 150.81676 | P39: =(O39*I39)/1000 -> 1.0481493 | Q39: =VLOOKUP(H39,AC40:AD101,2,TRUE) -> 4400 | R39: =VLOOKUP(Q39,$AG$7:$AH$68,2,FALSE) -> 13.22 | S39: =VLOOKUP(Q39,$AG$7:$AI$68,3,TRUE) -> 21.413395 | T39: =ROUNDUP(S39,0) -> 22 | U39: =MROUND(Q39,500) -> 4500 | V39: =MATCH(T39,$AJ$7:$AJ$29,0) -> 1 | W39: =MATCH(U39,$AK$6:$AX$6,0) -> 9 | X39: =INDEX($AK$7:$AX$29,V39,W39) -> 488 | Y39: =R39*0.7457 -> 9.858154 | AA39: =((AB39*PI()*0.23084)/(30*'Specifications (CW1)'!$G$6*'Specifications (CW1)'!$G$9)*1.6) -> 17.691282 | AB39: 4100 | AC39: =((AD39*PI()*0.22254)/(30*'Specifications (CW1)'!$G$7*'Specifications (CW1)'!$G$9)*1.6) -> 23.257064 | AD39: 4100 | AE39: =((AF39*PI()*0.2184)/(30*'Specifications (CW1)'!$G$8*'Specifications (CW1)'!$G$9)*1.6) -> 29.892606 | AF39: 4100 | AG39: 4100 | AH39: 11.45 | AI39: =(AH39*7127)/AG39 -> 19.903451
C40: STRAIGHT | D40: 2 | E40: 1 | F40: =F39+1 -> 34 | G40: =($F$7/I40)+G39 -> 7.5359056 | H40: =I40*3.6 -> 25.019353 | I40: =MIN(13.2,(SQRT((I39^2)+2*J39*$F$7))) -> 6.9498201 | J40: 0 | K40: =0.5*1.167*0.95*1.151*I40^2 -> 30.816756 | L40: 120 | M40: =J40*616 -> 0 | N40: 0 | O40: =K40+L40+M40+N40 -> 150.81676 | P40: =(O40*I40)/1000 -> 1.0481493 | Q40: =VLOOKUP(H40,AC41:AD102,2,TRUE) -> 4400 | R40: =VLOOKUP(Q40,$AG$7:$AH$68,2,FALSE) -> 13.22 | S40: =VLOOKUP(Q40,$AG$7:$AI$68,3,TRUE) -> 21.413395 | T40: =ROUNDUP(S40,0) -> 22 | U40: =MROUND(Q40,500) -> 4500 | V40: =MATCH(T40,$AJ$7:$AJ$29,0) -> 1 | W40: =MATCH(U40,$AK$6:$AX$6,0) -> 9 | X40: =INDEX($AK$7:$AX$29,V40,W40) -> 488 | Y40: =R40*0.7457 -> 9.858154 | AA40: =((AB40*PI()*0.23084)/(30*'Specifications (CW1)'!$G$6*'Specifications (CW1)'!$G$9)*1.6) -> 18.122776 | AB40: 4200 | AC40: =((AD40*PI()*0.22254)/(30*'Specifications (CW1)'!$G$7*'Specifications (CW1)'!$G$9)*1.6) -> 23.824309 | AD40: 4200 | AE40: =((AF40*PI()*0.2184)/(30*'Specifications (CW1)'!$G$8*'Specifications (CW1)'!$G$9)*1.6) -> 30.621694 | AF40: 4200 | AG40: 4200 | AH40: 12.04 | AI40: =(AH40*7127)/AG40 -> 20.430733
C41: STRAIGHT | D41: 3 | E41: 1 | F41: =F40+1 -> 35 | G41: =($F$7/I41)+G40 -> 7.6797942 | H41: =I41*3.6 -> 25.019353 | I41: =MIN(13.2,(SQRT((I40^2)+2*J40*$F$7))) -> 6.9498201 | J41: 0.7 | K41: =0.5*1.167*0.95*1.151*I41^2 -> 30.816756 | L41: 120 | M41: =J41*616 -> 431.2 | N41: 0 | O41: =K41+L41+M41+N41 -> 582.01676 | P41: =(O41*I41)/1000 -> 4.0449118 | Q41: =VLOOKUP(H41,$AE$7:$AF$68,2,TRUE) -> 3400 | R41: =VLOOKUP(Q41,$AG$7:$AH$68,2,FALSE) -> 8.958 | S41: =VLOOKUP(Q41,$AG$7:$AI$68,3,TRUE) -> 18.777549 | T41: =ROUNDUP(S41,0) -> 19 | U41: =MROUND(Q41,500) -> 3500 | V41: =MATCH(T41,$AJ$7:$AJ$29,0) -> 4 | W41: =MATCH(U41,$AK$6:$AX$6,0) -> 7 | X41: =INDEX($AK$7:$AX$29,V41,W41) -> 462 | Y41: =R41*0.7457 -> 6.6799806 | AA41: =((AB41*PI()*0.23084)/(30*'Specifications (CW1)'!$G$6*'Specifications (CW1)'!$G$9)*1.6) -> 18.554271 | AB41: 4300 | AC41: =((AD41*PI()*0.22254)/(30*'Specifications (CW1)'!$G$7*'Specifications (CW1)'!$G$9)*1.6) -> 24.391555 | AD41: 4300 | AE41: =((AF41*PI()*0.2184)/(30*'Specifications (CW1)'!$G$8*'Specifications (CW1)'!$G$9)*1.6) -> 31.350782 | AF41: 4300 | AG41: 4300 | AH41: 12.63 | AI41: =(AH41*7127)/AG41 -> 20.933491
C42: STRAIGHT | D42: 3 | E42: 1 | F42: =F41+1 -> 36 | G42: =($F$7/I42)+G41 -> 7.8216417 | H42: =I42*3.6 -> 25.379362 | I42: =MIN(13.2,(SQRT((I41^2)+2*J41*$F$7))) -> 7.0498227 | J42: 0.7 | K42: =0.5*1.167*0.95*1.151*I42^2 -> 31.709995 | L42: 120 | M42: =J42*616 -> 431.2 | N42: 0 | O42: =K42+L42+M42+N42 -> 582.91 | P42: =(O42*I42)/1000 -> 4.1094121 | Q42: =VLOOKUP(H42,$AE$7:$AF$68,2,TRUE) -> 3400 | R42: =VLOOKUP(Q42,$AG$7:$AH$68,2,FALSE) -> 8.958 | S42: =VLOOKUP(Q42,$AG$7:$AI$68,3,TRUE) -> 18.777549 | T42: =ROUNDUP(S42,0) -> 19 | U42: =MROUND(Q42,500) -> 3500 | V42: =MATCH(T42,$AJ$7:$AJ$29,0) -> 4 | W42: =MATCH(U42,$AK$6:$AX$6,0) -> 7 | X42: =INDEX($AK$7:$AX$29,V42,W42) -> 462 | Y42: =R42*0.7457 -> 6.6799806 | AA42: =((AB42*PI()*0.23084)/(30*'Specifications (CW1)'!$G$6*'Specifications (CW1)'!$G$9)*1.6) -> 18.985766 | AB42: 4400 | AC42: =((AD42*PI()*0.22254)/(30*'Specifications (CW1)'!$G$7*'Specifications (CW1)'!$G$9)*1.6) -> 24.9588 | AD42: 4400 | AE42: =((AF42*PI()*0.2184)/(30*'Specifications (CW1)'!$G$8*'Specifications (CW1)'!$G$9)*1.6) -> 32.07987 | AF42: 4400 | AG42: 4400 | AH42: 13.22 | AI42: =(AH42*7127)/AG42 -> 21.413395
C43: STRAIGHT | D43: 3 | E43: 1 | F43: =F42+1 -> 37 | G43: =($F$7/I43)+G42 -> 7.9615327 | H43: =I43*3.6 -> 25.734335 | I43: =MIN(13.2,(SQRT((I42^2)+2*J42*$F$7))) -> 7.1484264 | J43: 0.7 | K43: =0.5*1.167*0.95*1.151*I43^2 -> 32.603235 | L43: 120 | M43: =J43*616 -> 431.2 | N43: 0 | O43: =K43+L43+M43+N43 -> 583.80323 | P43: =(O43*I43)/1000 -> 4.1732745 | Q43: =VLOOKUP(H43,$AE$7:$AF$68,2,TRUE) -> 3500 | R43: =VLOOKUP(Q43,$AG$7:$AH$68,2,FALSE) -> 9.22 | S43: =VLOOKUP(Q43,$AG$7:$AI$68,3,TRUE) -> 18.774554 | T43: =ROUNDUP(S43,0) -> 19 | U43: =MROUND(Q43,500) -> 3500 | V43: =MATCH(T43,$AJ$7:$AJ$29,0) -> 4 | W43: =MATCH(U43,$AK$6:$AX$6,0) -> 7 | X43: =INDEX($AK$7:$AX$29,V43,W43) -> 462 | Y43: =R43*0.7457 -> 6.875354 | AA43: =((AB43*PI()*0.23084)/(30*'Specifications (CW1)'!$G$6*'Specifications (CW1)'!$G$9)*1.6) -> 19.41726 | AB43: 4500 | AC43: =((AD43*PI()*0.22254)/(30*'Specifications (CW1)'!$G$7*'Specifications (CW1)'!$G$9)*1.6) -> 25.526046 | AD43: 4500 | AE43: =((AF43*PI()*0.2184)/(30*'Specifications (CW1)'!$G$8*'Specifications (CW1)'!$G$9)*1.6) -> 32.808958 | AF43: 4500 | AG43: 4500 | AH43: 13.81 | AI43: =(AH43*7127)/AG43 -> 21.871971
C44: STRAIGHT | D44: 3 | E44: 1 | F44: =F43+1 -> 38 | G44: =($F$7/I44)+G43 -> 8.0995458 | H44: =I44*3.6 -> 26.084478 | I44: =MIN(13.2,(SQRT((I43^2)+2*J43*$F$7))) -> 7.2456884 | J44: 0.7 | K44: =0.5*1.167*0.95*1.151*I44^2 -> 33.496474 | L44: 120 | M44: =J44*616 -> 431.2 | N44: 0 | O44: =K44+L44+M44+N44 -> 584.69647 | P44: =(O44*I44)/1000 -> 4.2365284 | Q44: =VLOOKUP(H44,$AE$7:$AF$68,2,TRUE) -> 3500 | R44: =VLOOKUP(Q44,$AG$7:$AH$68,2,FALSE) -> 9.22 | S44: =VLOOKUP(Q44,$AG$7:$AI$68,3,TRUE) -> 18.774554 | T44: =ROUNDUP(S44,0) -> 19 | U44: =MROUND(Q44,500) -> 3500 | V44: =MATCH(T44,$AJ$7:$AJ$29,0) -> 4 | W44: =MATCH(U44,$AK$6:$AX$6,0) -> 7 | X44: =INDEX($AK$7:$AX$29,V44,W44) -> 462 | Y44: =R44*0.7457 -> 6.875354 | AA44: =((AB44*PI()*0.23084)/(30*'Specifications (CW1)'!$G$6*'Specifications (CW1)'!$G$9)*1.6) -> 19.848755 | AB44: 4600 | AC44: =((AD44*PI()*0.22254)/(30*'Specifications (CW1)'!$G$7*'Specifications (CW1)'!$G$9)*1.6) -> 26.093291 | AD44: 4600 | AE44: =((AF44*PI()*0.2184)/(30*'Specifications (CW1)'!$G$8*'Specifications (CW1)'!$G$9)*1.6) -> 33.538046 | AF44: 4600 | AG44: 4600 | AH44: 14.1 | AI44: =(AH44*7127)/AG44 -> 21.845804
C45: STRAIGHT | D45: 3 | E45: 1 | F45: =F44+1 -> 39 | G45: =($F$7/I45)+G44 -> 8.2357547 | H45: =I45*3.6 -> 26.429983 | I45: =MIN(13.2,(SQRT((I44^2)+2*J44*$F$7))) -> 7.3416619 | J45: 0.7 | K45: =0.5*1.167*0.95*1.151*I45^2 -> 34.389713 | L45: 120 | M45: =J45*616 -> 431.2 | N45: 0 | O45: =K45+L45+M45+N45 -> 585.58971 | P45: =(O45*I45)/1000 -> 4.2992017 | Q45: =VLOOKUP(H45,$AE$7:$AF$68,2,TRUE) -> 3600 | R45: =VLOOKUP(Q45,$AG$7:$AH$68,2,FALSE) -> 9.636 | S45: =VLOOKUP(Q45,$AG$7:$AI$68,3,TRUE) -> 19.076603 | T45: =ROUNDUP(S45,0) -> 20 | U45: =MROUND(Q45,500) -> 3500 | V45: =MATCH(T45,$AJ$7:$AJ$29,0) -> 3 | W45: =MATCH(U45,$AK$6:$AX$6,0) -> 7 | X45: =INDEX($AK$7:$AX$29,V45,W45) -> 462 | Y45: =R45*0.7457 -> 7.1855652 | AA45: =((AB45*PI()*0.23084)/(30*'Specifications (CW1)'!$G$6*'Specifications (CW1)'!$G$9)*1.6) -> 20.28025 | AB45: 4700 | AC45: =((AD45*PI()*0.22254)/(30*'Specifications (CW1)'!$G$7*'Specifications (CW1)'!$G$9)*1.6) -> 26.660537 | AD45: 4700 | AE45: =((AF45*PI()*0.2184)/(30*'Specifications (CW1)'!$G$8*'Specifications (CW1)'!$G$9)*1.6) -> 34.267133 | AF45: 4700 | AG45: 4700 | AH45: 14.39 | AI45: =(AH45*7127)/AG45 -> 21.820751
C46: STRAIGHT | D46: 3 | E46: 1 | F46: =F45+1 -> 40 | G46: =($F$7/I46)+G45 -> 8.3702285 | H46: =I46*3.6 -> 26.771029 | I46: =MIN(13.2,(SQRT((I45^2)+2*J45*$F$7))) -> 7.436397 | J46: 0.7 | K46: =0.5*1.167*0.95*1.151*I46^2 -> 35.282953 | L46: 120 | M46: =J46*616 -> 431.2 | N46: 0 | O46: =K46+L46+M46+N46 -> 586.48295 | P46: =(O46*I46)/1000 -> 4.3613201 | Q46: =VLOOKUP(H46,$AE$7:$AF$68,2,TRUE) -> 3600 | R46: =VLOOKUP(Q46,$AG$7:$AH$68,2,FALSE) -> 9.636 | S46: =VLOOKUP(Q46,$AG$7:$AI$68,3,TRUE) -> 19.076603 | T46: =ROUNDUP(S46,0) -> 20 | U46: =MROUND(Q46,500) -> 3500 | V46: =MATCH(T46,$AJ$7:$AJ$29,0) -> 3 | W46: =MATCH(U46,$AK$6:$AX$6,0) -> 7 | X46: =INDEX($AK$7:$AX$29,V46,W46) -> 462 | Y46: =R46*0.7457 -> 7.1855652 | AA46: =((AB46*PI()*0.23084)/(30*'Specifications (CW1)'!$G$6*'Specifications (CW1)'!$G$9)*1.6) -> 20.711744 | AB46: 4800 | AC46: =((AD46*PI()*0.22254)/(30*'Specifications (CW1)'!$G$7*'Specifications (CW1)'!$G$9)*1.6) -> 27.227782 | AD46: 4800 | AE46: =((AF46*PI()*0.2184)/(30*'Specifications (CW1)'!$G$8*'Specifications (CW1)'!$G$9)*1.6) -> 34.996221 | AF46: 4800 | AG46: 4800 | AH46: 14.68 | AI46: =(AH46*7127)/AG46 -> 21.796742
C47: STRAIGHT | D47: 3 | E47: 1 | F47: =F46+1 -> 41 | G47: =($F$7/I47)+G46 -> 8.5030316 | H47: =I47*3.6 -> 27.107785 | I47: =MIN(13.2,(SQRT((I46^2)+2*J46*$F$7))) -> 7.5299402 | J47: 0.7 | K47: =0.5*1.167*0.95*1.151*I47^2 -> 36.176192 | L47: 120 | M47: =J47*616 -> 431.2 | N47: 0 | O47: =K47+L47+M47+N47 -> 587.37619 | P47: =(O47*I47)/1000 -> 4.4229076 | Q47: =VLOOKUP(H47,$AE$7:$AF$68,2,TRUE) -> 3700 | R47: =VLOOKUP(Q47,$AG$7:$AH$68,2,FALSE) -> 9.852 | S47: =VLOOKUP(Q47,$AG$7:$AI$68,3,TRUE) -> 18.977082 | T47: =ROUNDUP(S47,0) -> 19 | U47: =MROUND(Q47,500) -> 3500 | V47: =MATCH(T47,$AJ$7:$AJ$29,0) -> 4 | W47: =MATCH(U47,$AK$6:$AX$6,0) -> 7 | X47: =INDEX($AK$7:$AX$29,V47,W47) -> 462 | Y47: =R47*0.7457 -> 7.3466364 | AA47: =((AB47*PI()*0.23084)/(30*'Specifications (CW1)'!$G$6*'Specifications (CW1)'!$G$9)*1.6) -> 21.143239 | AB47: 4900 | AC47: =((AD47*PI()*0.22254)/(30*'Specifications (CW1)'!$G$7*'Specifications (CW1)'!$G$9)*1.6) -> 27.795028 | AD47: 4900 | AE47: =((AF47*PI()*0.2184)/(30*'Specifications (CW1)'!$G$8*'Specifications (CW1)'!$G$9)*1.6) -> 35.725309 | AF47: 4900 | AG47: 4900 | AH47: 14.97 | AI47: =(AH47*7127)/AG47 -> 21.773712
C48: STRAIGHT | D48: 3 | E48: 1 | F48: =F47+1 -> 42 | G48: =($F$7/I48)+G47 -> 8.634225 | H48: =I48*3.6 -> 27.440408 | I48: =MIN(13.2,(SQRT((I47^2)+2*J47*$F$7))) -> 7.6223356 | J48: 0.7 | K48: =0.5*1.167*0.95*1.151*I48^2 -> 37.069431 | L48: 120 | M48: =J48*616 -> 431.2 | N48: 0 | O48: =K48+L48+M48+N48 -> 588.26943 | P48: =(O48*I48)/1000 -> 4.483987 | Q48: =VLOOKUP(H48,$AE$7:$AF$68,2,TRUE) -> 3700 | R48: =VLOOKUP(Q48,$AG$7:$AH$68,2,FALSE) -> 9.852 | S48: =VLOOKUP(Q48,$AG$7:$AI$68,3,TRUE) -> 18.977082 | T48: =ROUNDUP(S48,0) -> 19 | U48: =MROUND(Q48,500) -> 3500 | V48: =MATCH(T48,$AJ$7:$AJ$29,0) -> 4 | W48: =MATCH(U48,$AK$6:$AX$6,0) -> 7 | X48: =INDEX($AK$7:$AX$29,V48,W48) -> 462 | Y48: =R48*0.7457 -> 7.3466364 | AA48: =((AB48*PI()*0.23084)/(30*'Specifications (CW1)'!$G$6*'Specifications (CW1)'!$G$9)*1.6) -> 21.574734 | AB48: 5000 | AC48: =((AD48*PI()*0.22254)/(30*'Specifications (CW1)'!$G$7*'Specifications (CW1)'!$G$9)*1.6) -> 28.362273 | AD48: 5000 | AE48: =((AF48*PI()*0.2184)/(30*'Specifications (CW1)'!$G$8*'Specifications (CW1)'!$G$9)*1.6) -> 36.454397 | AF48: 5000 | AG48: 5000 | AH48: 15.26 | AI48: =(AH48*7127)/AG48 -> 21.751604
C49: STRAIGHT | D49: 3 | E49: 1 | F49: =F48+1 -> 43 | G49: =($F$7/I49)+G48 -> 8.7638658 | H49: =I49*3.6 -> 27.769048 | I49: =MIN(13.2,(SQRT((I48^2)+2*J48*$F$7))) -> 7.7136243 | J49: 0.7 | K49: =0.5*1.167*0.95*1.151*I49^2 -> 37.96267 | L49: 120 | M49: =J49*616 -> 431.2 | N49: 0 | O49: =K49+L49+M49+N49 -> 589.16267 | P49: =(O49*I49)/1000 -> 4.5445795 | Q49: =VLOOKUP(H49,$AE$7:$AF$68,2,TRUE) -> 3800 | R49: =VLOOKUP(Q49,$AG$7:$AH$68,2,FALSE) -> 10.068 | S49: =VLOOKUP(Q49,$AG$7:$AI$68,3,TRUE) -> 18.882799 | T49: =ROUNDUP(S49,0) -> 19 | U49: =MROUND(Q49,500) -> 4000 | V49: =MATCH(T49,$AJ$7:$AJ$29,0) -> 4 | W49: =MATCH(U49,$AK$6:$AX$6,0) -> 8 | X49: =INDEX($AK$7:$AX$29,V49,W49) -> 466 | Y49: =R49*0.7457 -> 7.5077076 | AA49: =((AB49*PI()*0.23084)/(30*'Specifications (CW1)'!$G$6*'Specifications (CW1)'!$G$9)*1.6) -> 22.006228 | AB49: 5100 | AC49: =((AD49*PI()*0.22254)/(30*'Specifications (CW1)'!$G$7*'Specifications (CW1)'!$G$9)*1.6) -> 28.929518 | AD49: 5100 | AE49: =((AF49*PI()*0.2184)/(30*'Specifications (CW1)'!$G$8*'Specifications (CW1)'!$G$9)*1.6) -> 37.183485 | AF49: 5100 | AG49: 5100 | AH49: 15.59 | AI49: =(AH49*7127)/AG49 -> 21.786261
C50: STRAIGHT | D50: 3 | E50: 1 | F50: =F49+1 -> 44 | G50: =($F$7/I50)+G49 -> 8.8920077 | H50: =I50*3.6 -> 28.093843 | I50: =MIN(13.2,(SQRT((I49^2)+2*J49*$F$7))) -> 7.8038452 | J50: 0.7 | K50: =0.5*1.167*0.95*1.151*I50^2 -> 38.85591 | L50: 120 | M50: =J50*616 -> 431.2 | N50: 0 | O50: =K50+L50+M50+N50 -> 590.05591 | P50: =(O50*I50)/1000 -> 4.604705 | Q50: =VLOOKUP(H50,$AE$7:$AF$68,2,TRUE) -> 3800 | R50: =VLOOKUP(Q50,$AG$7:$AH$68,2,FALSE) -> 10.068 | S50: =VLOOKUP(Q50,$AG$7:$AI$68,3,TRUE) -> 18.882799 | T50: =ROUNDUP(S50,0) -> 19 | U50: =MROUND(Q50,500) -> 4000 | V50: =MATCH(T50,$AJ$7:$AJ$29,0) -> 4 | W50: =MATCH(U50,$AK$6:$AX$6,0) -> 8 | X50: =INDEX($AK$7:$AX$29,V50,W50) -> 466 | Y50: =R50*0.7457 -> 7.5077076 | AA50: =((AB50*PI()*0.23084)/(30*'Specifications (CW1)'!$G$6*'Specifications (CW1)'!$G$9)*1.6) -> 22.437723 | AB50: 5200 | AC50: =((AD50*PI()*0.22254)/(30*'Specifications (CW1)'!$G$7*'Specifications (CW1)'!$G$9)*1.6) -> 29.496764 | AD50: 5200 | AE50: =((AF50*PI()*0.2184)/(30*'Specifications (CW1)'!$G$8*'Specifications (CW1)'!$G$9)*1.6) -> 37.912573 | AF50: 5200 | AG50: 5200 | AH50: 15.92 | AI50: =(AH50*7127)/AG50 -> 21.819585
C51: STRAIGHT | D51: 3 | E51: 1 | F51: =F50+1 -> 45 | G51: =($F$7/I51)+G50 -> 9.0187017 | H51: =I51*3.6 -> 28.414926 | I51: =MIN(13.2,(SQRT((I50^2)+2*J50*$F$7))) -> 7.8930349 | J51: 0.7 | K51: =0.5*1.167*0.95*1.151*I51^2 -> 39.749149 | L51: 120 | M51: =J51*616 -> 431.2 | N51: 0 | O51: =K51+L51+M51+N51 -> 590.94915 | P51: =(O51*I51)/1000 -> 4.6643823 | Q51: =VLOOKUP(H51,$AE$7:$AF$68,2,TRUE) -> 3800 | R51: =VLOOKUP(Q51,$AG$7:$AH$68,2,FALSE) -> 10.068 | S51: =VLOOKUP(Q51,$AG$7:$AI$68,3,TRUE) -> 18.882799 | T51: =ROUNDUP(S51,0) -> 19 | U51: =MROUND(Q51,500) -> 4000 | V51: =MATCH(T51,$AJ$7:$AJ$29,0) -> 4 | W51: =MATCH(U51,$AK$6:$AX$6,0) -> 8 | X51: =INDEX($AK$7:$AX$29,V51,W51) -> 466 | Y51: =R51*0.7457 -> 7.5077076 | AA51: =((AB51*PI()*0.23084)/(30*'Specifications (CW1)'!$G$6*'Specifications (CW1)'!$G$9)*1.6) -> 22.869218 | AB51: 5300 | AC51: =((AD51*PI()*0.22254)/(30*'Specifications (CW1)'!$G$7*'Specifications (CW1)'!$G$9)*1.6) -> 30.064009 | AD51: 5300 | AE51: =((AF51*PI()*0.2184)/(30*'Specifications (CW1)'!$G$8*'Specifications (CW1)'!$G$9)*1.6) -> 38.641661 | AF51: 5300 | AG51: 5300 | AH51: 16.25 | AI51: =(AH51*7127)/AG51 -> 21.851651
C52: STRAIGHT | D52: 3 | E52: 1 | F52: =F51+1 -> 46 | G52: =($F$7/I52)+G51 -> 9.1439957 | H52: =I52*3.6 -> 28.732421 | I52: =MIN(13.2,(SQRT((I51^2)+2*J51*$F$7))) -> 7.981228 | J52: 0.7 | K52: =0.5*1.167*0.95*1.151*I52^2 -> 40.642388 | L52: 120 | M52: =J52*616 -> 431.2 | N52: 0 | O52: =K52+L52+M52+N52 -> 591.84239 | P52: =(O52*I52)/1000 -> 4.723629 | Q52: =VLOOKUP(H52,$AE$7:$AF$68,2,TRUE) -> 3900 | R52: =VLOOKUP(Q52,$AG$7:$AH$68,2,FALSE) -> 10.284 | S52: =VLOOKUP(Q52,$AG$7:$AI$68,3,TRUE) -> 18.793351 | T52: =ROUNDUP(S52,0) -> 19 | U52: =MROUND(Q52,500) -> 4000 | V52: =MATCH(T52,$AJ$7:$AJ$29,0) -> 4 | W52: =MATCH(U52,$AK$6:$AX$6,0) -> 8 | X52: =INDEX($AK$7:$AX$29,V52,W52) -> 466 | Y52: =R52*0.7457 -> 7.6687788 | AA52: =((AB52*PI()*0.23084)/(30*'Specifications (CW1)'!$G$6*'Specifications (CW1)'!$G$9)*1.6) -> 23.300712 | AB52: 5400 | AC52: =((AD52*PI()*0.22254)/(30*'Specifications (CW1)'!$G$7*'Specifications (CW1)'!$G$9)*1.6) -> 30.631255 | AD52: 5400 | AE52: =((AF52*PI()*0.2184)/(30*'Specifications (CW1)'!$G$8*'Specifications (CW1)'!$G$9)*1.6) -> 39.370749 | AF52: 5400 | AG52: 5400 | AH52: 16.58 | AI52: =(AH52*7127)/AG52 -> 21.88253
... C68: STRAIGHT | D68: 3 | E68: 1 | F68: =F67+1 -> 62 | G68: =($F$7/I68)+G67 -> 10.989248 | H68: =I68*3.6 -> 33.404431 | I68: =MIN(13.2,(SQRT((I67^2)+2*J67*$F$7))) -> 9.2790086 | J68: 0.7 | K68: =0.5*1.167*0.95*1.151*I68^2 -> 54.934217 | L68: 120 | M68: =J68*616 -> 431.2 | N68: 0 | O68: =K68+L68+M68+N68 -> 606.13422 | P68: =(O68*I68)/1000 -> 5.6243246 | Q68: =VLOOKUP(H68,$AE$7:$AF$68,2,TRUE) -> 4500 | R68: =VLOOKUP(Q68,$AG$7:$AH$68,2,FALSE) -> 13.81 | S68: =VLOOKUP(Q68,$AG$7:$AI$68,3,TRUE) -> 21.871971 | T68: =ROUNDUP(S68,0) -> 22 | U68: =MROUND(Q68,500) -> 4500 | V68: =MATCH(T68,$AJ$7:$AJ$29,0) -> 1 | W68: =MATCH(U68,$AK$6:$AX$6,0) -> 9 | X68: =INDEX($AK$7:$AX$29,V68,W68) -> 488 | Y68: =R68*0.7457 -> 10.298117 | AA68: =((AB68*PI()*0.23084)/(30*'Specifications (CW1)'!$G$6*'Specifications (CW1)'!$G$9)*1.6) -> 30.204627 | AB68: 7000 | AC68: =((AD68*PI()*0.22254)/(30*'Specifications (CW1)'!$G$7*'Specifications (CW1)'!$G$9)*1.6) -> 39.707182 | AD68: 7000 | AE68: =((AF68*PI()*0.2184)/(30*'Specifications (CW1)'!$G$8*'Specifications (CW1)'!$G$9)*1.6) -> 51.036156 | AF68: 7000 | AG68: 7000 | AH68: 12.45 | AI68: =(AH68*7127)/AG68 -> 12.675879
C69: STRAIGHT | D69: 3 | E69: 1 | F69: =F68+1 -> 63 | G69: =($F$7/I69)+G68 -> 11.096152 | H69: =I69*3.6 -> 33.674916 | I69: =MIN(13.2,(SQRT((I68^2)+2*J68*$F$7))) -> 9.3541435 | J69: 0.7 | K69: =0.5*1.167*0.95*1.151*I69^2 -> 55.827457 | L69: 120 | M69: =J69*616 -> 431.2 | N69: 0 | O69: =K69+L69+M69+N69 -> 607.02746 | P69: =(O69*I69)/1000 -> 5.6782219 | Q69: =VLOOKUP(H69,$AE$7:$AF$68,2,TRUE) -> 4600 | R69: =VLOOKUP(Q69,$AG$7:$AH$68,2,FALSE) -> 14.1 | S69: =VLOOKUP(Q69,$AG$7:$AI$68,3,TRUE) -> 21.845804 | T69: =ROUNDUP(S69,0) -> 22 | U69: =MROUND(Q69,500) -> 4500 | V69: =MATCH(T69,$AJ$7:$AJ$29,0) -> 1 | W69: =MATCH(U69,$AK$6:$AX$6,0) -> 9 | X69: =INDEX($AK$7:$AX$29,V69,W69) -> 488 | Y69: =R69*0.7457 -> 10.51437
C70: STRAIGHT | D70: 3 | E70: 1 | F70: =F69+1 -> 64 | G70: =($F$7/I70)+G69 -> 11.202212 | H70: =I70*3.6 -> 33.943247 | I70: =MIN(13.2,(SQRT((I69^2)+2*J69*$F$7))) -> 9.4286797 | J70: 0.7 | K70: =0.5*1.167*0.95*1.151*I70^2 -> 56.720696 | L70: 120 | M70: =J70*616 -> 431.2 | N70: 0 | O70: =K70+L70+M70+N70 -> 607.9207 | P70: =(O70*I70)/1000 -> 5.7318895 | Q70: =VLOOKUP(H70,$AE$7:$AF$68,2,TRUE) -> 4600 | R70: =VLOOKUP(Q70,$AG$7:$AH$68,2,FALSE) -> 14.1 | S70: =VLOOKUP(Q70,$AG$7:$AI$68,3,TRUE) -> 21.845804 | T70: =ROUNDUP(S70,0) -> 22 | U70: =MROUND(Q70,500) -> 4500 | V70: =MATCH(T70,$AJ$7:$AJ$29,0) -> 1 | W70: =MATCH(U70,$AK$6:$AX$6,0) -> 9 | X70: =INDEX($AK$7:$AX$29,V70,W70) -> 488 | Y70: =R70*0.7457 -> 10.51437
C71: STRAIGHT | D71: 3 | E71: 1 | F71: =F70+1 -> 65 | G71: =($F$7/I71)+G70 -> 11.307446 | H71: =I71*3.6 -> 34.209472 | I71: =MIN(13.2,(SQRT((I70^2)+2*J70*$F$7))) -> 9.5026312 | J71: 0.7 | K71: =0.5*1.167*0.95*1.151*I71^2 -> 57.613935 | L71: 120 | M71: =J71*616 -> 431.2 | N71: 0 | O71: =K71+L71+M71+N71 -> 608.81394 | P71: =(O71*I71)/1000 -> 5.7853343 | Q71: =VLOOKUP(H71,$AE$7:$AF$68,2,TRUE) -> 4600 | R71: =VLOOKUP(Q71,$AG$7:$AH$68,2,FALSE) -> 14.1 | S71: =VLOOKUP(Q71,$AG$7:$AI$68,3,TRUE) -> 21.845804 | T71: =ROUNDUP(S71,0) -> 22 | U71: =MROUND(Q71,500) -> 4500 | V71: =MATCH(T71,$AJ$7:$AJ$29,0) -> 1 | W71: =MATCH(U71,$AK$6:$AX$6,0) -> 9 | X71: =INDEX($AK$7:$AX$29,V71,W71) -> 488 | Y71: =R71*0.7457 -> 10.51437
C72: STRAIGHT | D72: 3 | E72: 1 | F72: =F71+1 -> 66 | G72: =($F$7/I72)+G71 -> 11.411873 | H72: =I72*3.6 -> 34.473642 | I72: =MIN(13.2,(SQRT((I71^2)+2*J71*$F$7))) -> 9.5760117 | J72: 0.7 | K72: =0.5*1.167*0.95*1.151*I72^2 -> 58.507174 | L72: 120 | M72: =J72*616 -> 431.2 | N72: 0 | O72: =K72+L72+M72+N72 -> 609.70717 | P72: =(O72*I72)/1000 -> 5.838563 | Q72: =VLOOKUP(H72,$AE$7:$AF$68,2,TRUE) -> 4700 | R72: =VLOOKUP(Q72,$AG$7:$AH$68,2,FALSE) -> 14.39 | S72: =VLOOKUP(Q72,$AG$7:$AI$68,3,TRUE) -> 21.820751 | T72: =ROUNDUP(S72,0) -> 22 | U72: =MROUND(Q72,500) -> 4500 | V72: =MATCH(T72,$AJ$7:$AJ$29,0) -> 1 | W72: =MATCH(U72,$AK$6:$AX$6,0) -> 9 | X72: =INDEX($AK$7:$AX$29,V72,W72) -> 488 | Y72: =R72*0.7457 -> 10.730623
C73: STRAIGHT | D73: 3 | E73: 1 | F73: =F72+1 -> 67 | G73: =($F$7/I73)+G72 -> 11.515513 | H73: =I73*3.6 -> 34.735803 | I73: =MIN(13.2,(SQRT((I72^2)+2*J72*$F$7))) -> 9.6488341 | J73: 0.7 | K73: =0.5*1.167*0.95*1.151*I73^2 -> 59.400414 | L73: 120 | M73: =J73*616 -> 431.2 | N73: 0 | O73: =K73+L73+M73+N73 -> 610.60041 | P73: =(O73*I73)/1000 -> 5.8915821 | Q73: =VLOOKUP(H73,$AE$7:$AF$68,2,TRUE) -> 4700 | R73: =VLOOKUP(Q73,$AG$7:$AH$68,2,FALSE) -> 14.39 | S73: =VLOOKUP(Q73,$AG$7:$AI$68,3,TRUE) -> 21.820751 | T73: =ROUNDUP(S73,0) -> 22 | U73: =MROUND(Q73,500) -> 4500 | V73: =MATCH(T73,$AJ$7:$AJ$29,0) -> 1 | W73: =MATCH(U73,$AK$6:$AX$6,0) -> 9 | X73: =INDEX($AK$7:$AX$29,V73,W73) -> 488 | Y73: =R73*0.7457 -> 10.730623
C74: STRAIGHT | D74: 3 | E74: 1 | F74: =F73+1 -> 68 | G74: =($F$7/I74)+G73 -> 11.618382 | H74: =I74*3.6 -> 34.996 | I74: =MIN(13.2,(SQRT((I73^2)+2*J73*$F$7))) -> 9.721111 | J74: 0.7 | K74: =0.5*1.167*0.95*1.151*I74^2 -> 60.293653 | L74: 120 | M74: =J74*616 -> 431.2 | N74: 0 | O74: =K74+L74+M74+N74 -> 611.49365 | P74: =(O74*I74)/1000 -> 5.9443977 | Q74: =VLOOKUP(H74,$AE$7:$AF$68,2,TRUE) -> 4700 | R74: =VLOOKUP(Q74,$AG$7:$AH$68,2,FALSE) -> 14.39 | S74: =VLOOKUP(Q74,$AG$7:$AI$68,3,TRUE) -> 21.820751 | T74: =ROUNDUP(S74,0) -> 22 | U74: =MROUND(Q74,500) -> 4500 | V74: =MATCH(T74,$AJ$7:$AJ$29,0) -> 1 | W74: =MATCH(U74,$AK$6:$AX$6,0) -> 9 | X74: =INDEX($AK$7:$AX$29,V74,W74) -> 488 | Y74: =R74*0.7457 -> 10.730623
C75: STRAIGHT | D75: 3 | E75: 1 | F75: =F74+1 -> 69 | G75: =($F$7/I75)+G74 -> 11.720497 | H75: =I75*3.6 -> 35.254276 | I75: =MIN(13.2,(SQRT((I74^2)+2*J74*$F$7))) -> 9.7928545 | J75: 0.7 | K75: =0.5*1.167*0.95*1.151*I75^2 -> 61.186892 | L75: 120 | M75: =J75*616 -> 431.2 | N75: 0 | O75: =K75+L75+M75+N75 -> 612.38689 | P75: =(O75*I75)/1000 -> 5.9970158 | Q75: =VLOOKUP(H75,$AE$7:$AF$68,2,TRUE) -> 4800 | R75: =VLOOKUP(Q75,$AG$7:$AH$68,2,FALSE) -> 14.68 | S75: =VLOOKUP(Q75,$AG$7:$AI$68,3,TRUE) -> 21.796742 | T75: =ROUNDUP(S75,0) -> 22 | U75: =MROUND(Q75,500) -> 5000 | V75: =MATCH(T75,$AJ$7:$AJ$29,0) -> 1 | W75: =MATCH(U75,$AK$6:$AX$6,0) -> 10 | X75: =INDEX($AK$7:$AX$29,V75,W75) -> 488 | Y75: =R75*0.7457 -> 10.946876
C76: STRAIGHT | D76: 3 | E76: 1 | F76: =F75+1 -> 70 | G76: =($F$7/I76)+G75 -> 11.821875 | H76: =I76*3.6 -> 35.510674 | I76: =MIN(13.2,(SQRT((I75^2)+2*J75*$F$7))) -> 9.8640762 | J76: 0.7 | K76: =0.5*1.167*0.95*1.151*I76^2 -> 62.080132 | L76: 120 | M76: =J76*616 -> 431.2 | N76: 0 | O76: =K76+L76+M76+N76 -> 613.28013 | P76: =(O76*I76)/1000 -> 6.049442 | Q76: =VLOOKUP(H76,$AE$7:$AF$68,2,TRUE) -> 4800 | R76: =VLOOKUP(Q76,$AG$7:$AH$68,2,FALSE) -> 14.68 | S76: =VLOOKUP(Q76,$AG$7:$AI$68,3,TRUE) -> 21.796742 | T76: =ROUNDUP(S76,0) -> 22 | U76: =MROUND(Q76,500) -> 5000 | V76: =MATCH(T76,$AJ$7:$AJ$29,0) -> 1 | W76: =MATCH(U76,$AK$6:$AX$6,0) -> 10 | X76: =INDEX($AK$7:$AX$29,V76,W76) -> 488 | Y76: =R76*0.7457 -> 10.946876
C77: STRAIGHT | D77: 3 | E77: 1 | F77: =F76+1 -> 71 | G77: =($F$7/I77)+G76 -> 11.922531 | H77: =I77*3.6 -> 35.765235 | I77: =MIN(13.2,(SQRT((I76^2)+2*J76*$F$7))) -> 9.9347874 | J77: 0.7 | K77: =0.5*1.167*0.95*1.151*I77^2 -> 62.973371 | L77: 120 | M77: =J77*616 -> 431.2 | N77: 0 | O77: =K77+L77+M77+N77 -> 614.17337 | P77: =(O77*I77)/1000 -> 6.1016818 | Q77: =VLOOKUP(H77,$AE$7:$AF$68,2,TRUE) -> 4900 | R77: =VLOOKUP(Q77,$AG$7:$AH$68,2,FALSE) -> 14.97 | S77: =VLOOKUP(Q77,$AG$7:$AI$68,3,TRUE) -> 21.773712 | T77: =ROUNDUP(S77,0) -> 22 | U77: =MROUND(Q77,500) -> 5000 | V77: =MATCH(T77,$AJ$7:$AJ$29,0) -> 1 | W77: =MATCH(U77,$AK$6:$AX$6,0) -> 10 | X77: =INDEX($AK$7:$AX$29,V77,W77) -> 488 | Y77: =R77*0.7457 -> 11.163129
C78: STRAIGHT | D78: 3 | E78: 1 | F78: =F77+1 -> 72 | G78: =($F$7/I78)+G77 -> 12.022481 | H78: =I78*3.6 -> 36.017996 | I78: =MIN(13.2,(SQRT((I77^2)+2*J77*$F$7))) -> 10.004999 | J78: 0.7 | K78: =0.5*1.167*0.95*1.151*I78^2 -> 63.86661 | L78: 120 | M78: =J78*616 -> 431.2 | N78: 0 | O78: =K78+L78+M78+N78 -> 615.06661 | P78: =(O78*I78)/1000 -> 6.1537407 | Q78: =VLOOKUP(H78,$AE$7:$AF$68,2,TRUE) -> 4900 | R78: =VLOOKUP(Q78,$AG$7:$AH$68,2,FALSE) -> 14.97 | S78: =VLOOKUP(Q78,$AG$7:$AI$68,3,TRUE) -> 21.773712 | T78: =ROUNDUP(S78,0) -> 22 | U78: =MROUND(Q78,500) -> 5000 | V78: =MATCH(T78,$AJ$7:$AJ$29,0) -> 1 | W78: =MATCH(U78,$AK$6:$AX$6,0) -> 10 | X78: =INDEX($AK$7:$AX$29,V78,W78) -> 488 | Y78: =R78*0.7457 -> 11.163129
C79: STRAIGHT | D79: 3 | E79: 1 | F79: =F78+1 -> 73 | G79: =($F$7/I79)+G78 -> 12.12174 | H79: =I79*3.6 -> 36.268995 | I79: =MIN(13.2,(SQRT((I78^2)+2*J78*$F$7))) -> 10.074721 | J79: 0.7 | K79: =0.5*1.167*0.95*1.151*I79^2 -> 64.75985 | L79: 120 | M79: =J79*616 -> 431.2 | N79: 0 | O79: =K79+L79+M79+N79 -> 615.95985 | P79: =(O79*I79)/1000 -> 6.2056235 | Q79: =VLOOKUP(H79,$AE$7:$AF$68,2,TRUE) -> 4900 | R79: =VLOOKUP(Q79,$AG$7:$AH$68,2,FALSE) -> 14.97 | S79: =VLOOKUP(Q79,$AG$7:$AI$68,3,TRUE) -> 21.773712 | T79: =ROUNDUP(S79,0) -> 22 | U79: =MROUND(Q79,500) -> 5000 | V79: =MATCH(T79,$AJ$7:$AJ$29,0) -> 1 | W79: =MATCH(U79,$AK$6:$AX$6,0) -> 10 | X79: =INDEX($AK$7:$AX$29,V79,W79) -> 488 | Y79: =R79*0.7457 -> 11.163129
C80: STRAIGHT | D80: 3 | E80: 1 | F80: =F79+1 -> 74 | G80: =($F$7/I80)+G79 -> 12.22032 | H80: =I80*3.6 -> 36.518269 | I80: =MIN(13.2,(SQRT((I79^2)+2*J79*$F$7))) -> 10.143964 | J80: 0.7 | K80: =0.5*1.167*0.95*1.151*I80^2 -> 65.653089 | L80: 120 | M80: =J80*616 -> 431.2 | N80: 0 | O80: =K80+L80+M80+N80 -> 616.85309 | P80: =(O80*I80)/1000 -> 6.2573354 | Q80: =VLOOKUP(H80,$AE$7:$AF$68,2,TRUE) -> 5000 | R80: =VLOOKUP(Q80,$AG$7:$AH$68,2,FALSE) -> 15.26 | S80: =VLOOKUP(Q80,$AG$7:$AI$68,3,TRUE) -> 21.751604 | T80: =ROUNDUP(S80,0) -> 22 | U80: =MROUND(Q80,500) -> 5000 | V80: =MATCH(T80,$AJ$7:$AJ$29,0) -> 1 | W80: =MATCH(U80,$AK$6:$AX$6,0) -> 10 | X80: =INDEX($AK$7:$AX$29,V80,W80) -> 488 | Y80: =R80*0.7457 -> 11.379382
... C90: STRAIGHT | D90: 3 | E90: 1 | F90: =F89+1 -> 84 | G90: =($F$7/I90)+G89 -> 13.171665 | H90: =I90*3.6 -> 38.923309 | I90: =MIN(13.2,(SQRT((I89^2)+2*J89*$F$7))) -> 10.81203 | J90: 0.7 | K90: =0.5*1.167*0.95*1.151*I90^2 -> 74.585482 | L90: 120 | M90: =J90*616 -> 431.2 | N90: 0 | O90: =K90+L90+M90+N90 -> 625.78548 | P90: =(O90*I90)/1000 -> 6.7660116 | Q90: =VLOOKUP(H90,$AE$7:$AF$68,2,TRUE) -> 5300 | R90: =VLOOKUP(Q90,$AG$7:$AH$68,2,FALSE) -> 16.25 | S90: =VLOOKUP(Q90,$AG$7:$AI$68,3,TRUE) -> 21.851651 | T90: =ROUNDUP(S90,0) -> 22 | U90: =MROUND(Q90,500) -> 5500 | V90: =MATCH(T90,$AJ$7:$AJ$29,0) -> 1 | W90: =MATCH(U90,$AK$6:$AX$6,0) -> 11 | X90: =INDEX($AK$7:$AX$29,V90,W90) -> 488 | Y90: =R90*0.7457 -> 12.117625
C91: BP | D91: 3 | E91: 1 | F91: =F90+1 -> 85 | G91: =($F$7/I91)+G90 -> 13.263606 | H91: =I91*3.6 -> 39.155689 | I91: =MIN(13.2,(SQRT((I90^2)+2*J90*$F$7))) -> 10.87658 | J91: -0.7 | K91: =0.5*1.167*0.95*1.151*I91^2 -> 75.478721 | L91: 120 | M91: =J91*616 -> -431.2 | N91: 0 | O91: =K91+L91+M91+N91 -> -235.72128 | P91: =(O91*I91)/1000 -> -2.5638414 | Q91: =VLOOKUP(H91,$AE$7:$AF$68,2,TRUE) -> 5300 | R91: =VLOOKUP(Q91,$AG$7:$AH$68,2,FALSE) -> 16.25 | S91: =VLOOKUP(Q91,$AG$7:$AI$68,3,TRUE) -> 21.851651 | T91: =ROUNDUP(S91,0) -> 22 | U91: =MROUND(Q91,500) -> 5500 | V91: =MATCH(T91,$AJ$7:$AJ$29,0) -> 1 | W91: =MATCH(U91,$AK$6:$AX$6,0) -> 11 | X91: 0 | Y91: =R91*0.7457 -> 12.117625
C92: BP | D92: 3 | E92: 1 | F92: =F91+1 -> 86 | G92: =($F$7/I92)+G91 -> 13.356096 | H92: =I92*3.6 -> 38.923309 | I92: =MIN(13.2,(SQRT((I91^2)+2*J91*$F$7))) -> 10.81203 | J92: -0.7 | K92: =0.5*1.167*0.95*1.151*I92^2 -> 74.585482 | L92: 120 | M92: =J92*616 -> -431.2 | N92: 0 | O92: =K92+L92+M92+N92 -> -236.61452 | P92: =(O92*I92)/1000 -> -2.5582833 | Q92: =VLOOKUP(H92,$AE$7:$AF$68,2,TRUE) -> 5300 | R92: =VLOOKUP(Q92,$AG$7:$AH$68,2,FALSE) -> 16.25 | S92: =VLOOKUP(Q92,$AG$7:$AI$68,3,TRUE) -> 21.851651 | T92: =ROUNDUP(S92,0) -> 22 | U92: =MROUND(Q92,500) -> 5500 | V92: =MATCH(T92,$AJ$7:$AJ$29,0) -> 1 | W92: =MATCH(U92,$AK$6:$AX$6,0) -> 11 | X92: 0 | Y92: =R92*0.7457 -> 12.117625
C93: BP | D93: 3 | E93: 1 | F93: =F92+1 -> 87 | G93: =($F$7/I93)+G92 -> 13.449144 | H93: =I93*3.6 -> 38.689533 | I93: =MIN(13.2,(SQRT((I92^2)+2*J92*$F$7))) -> 10.747093 | J93: -0.7 | K93: =0.5*1.167*0.95*1.151*I93^2 -> 73.692243 | L93: 120 | M93: =J93*616 -> -431.2 | N93: 0 | O93: =K93+L93+M93+N93 -> -237.50776 | P93: =(O93*I93)/1000 -> -2.5525179 | Q93: =VLOOKUP(H93,$AE$7:$AF$68,2,TRUE) -> 5300 | R93: =VLOOKUP(Q93,$AG$7:$AH$68,2,FALSE) -> 16.25 | S93: =VLOOKUP(Q93,$AG$7:$AI$68,3,TRUE) -> 21.851651 | T93: =ROUNDUP(S93,0) -> 22 | U93: =MROUND(Q93,500) -> 5500 | V93: =MATCH(T93,$AJ$7:$AJ$29,0) -> 1 | W93: =MATCH(U93,$AK$6:$AX$6,0) -> 11 | X93: 0 | Y93: =R93*0.7457 -> 12.117625
C94: BP | D94: 3 | E94: 1 | F94: =F93+1 -> 88 | G94: =($F$7/I94)+G93 -> 13.542762 | H94: =I94*3.6 -> 38.454337 | I94: =MIN(13.2,(SQRT((I93^2)+2*J93*$F$7))) -> 10.68176 | J94: -0.7 | K94: =0.5*1.167*0.95*1.151*I94^2 -> 72.799003 | L94: 120 | M94: =J94*616 -> -431.2 | N94: 0 | O94: =K94+L94+M94+N94 -> -238.401 | P94: =(O94*I94)/1000 -> -2.5465423 | Q94: =VLOOKUP(H94,$AE$7:$AF$68,2,TRUE) -> 5200 | R94: =VLOOKUP(Q94,$AG$7:$AH$68,2,FALSE) -> 15.92 | S94: =VLOOKUP(Q94,$AG$7:$AI$68,3,TRUE) -> 21.819585 | T94: =ROUNDUP(S94,0) -> 22 | U94: =MROUND(Q94,500) -> 5000 | V94: =MATCH(T94,$AJ$7:$AJ$29,0) -> 1 | W94: =MATCH(U94,$AK$6:$AX$6,0) -> 10 | X94: 0 | Y94: =R94*0.7457 -> 11.871544
C95: BP | D95: 3 | E95: 1 | F95: =F94+1 -> 89 | G95: =($F$7/I95)+G94 -> 13.636959 | H95: =I95*3.6 -> 38.217692 | I95: =MIN(13.2,(SQRT((I94^2)+2*J94*$F$7))) -> 10.616026 | J95: -0.7 | K95: =0.5*1.167*0.95*1.151*I95^2 -> 71.905764 | L95: 120 | M95: =J95*616 -> -431.2 | N95: 0 | O95: =K95+L95+M95+N95 -> -239.29424 | P95: =(O95*I95)/1000 -> -2.5403537 | Q95: =VLOOKUP(H95,$AE$7:$AF$68,2,TRUE) -> 5200 | R95: =VLOOKUP(Q95,$AG$7:$AH$68,2,FALSE) -> 15.92 | S95: =VLOOKUP(Q95,$AG$7:$AI$68,3,TRUE) -> 21.819585 | T95: =ROUNDUP(S95,0) -> 22 | U95: =MROUND(Q95,500) -> 5000 | V95: =MATCH(T95,$AJ$7:$AJ$29,0) -> 1 | W95: =MATCH(U95,$AK$6:$AX$6,0) -> 10 | X95: 0 | Y95: =R95*0.7457 -> 11.871544
C96: BP | D96: 3 | E96: 1 | F96: =F95+1 -> 90 | G96: =($F$7/I96)+G95 -> 13.731747 | H96: =I96*3.6 -> 37.979573 | I96: =MIN(13.2,(SQRT((I95^2)+2*J95*$F$7))) -> 10.549882 | J96: -0.7 | K96: =0.5*1.167*0.95*1.151*I96^2 -> 71.012525 | L96: 120 | M96: =J96*616 -> -431.2 | N96: 0 | O96: =K96+L96+M96+N96 -> -240.18748 | P96: =(O96*I96)/1000 -> -2.5339494 | Q96: =VLOOKUP(H96,$AE$7:$AF$68,2,TRUE) -> 5200 | R96: =VLOOKUP(Q96,$AG$7:$AH$68,2,FALSE) -> 15.92 | S96: =VLOOKUP(Q96,$AG$7:$AI$68,3,TRUE) -> 21.819585 | T96: =ROUNDUP(S96,0) -> 22 | U96: =MROUND(Q96,500) -> 5000 | V96: =MATCH(T96,$AJ$7:$AJ$29,0) -> 1 | W96: =MATCH(U96,$AK$6:$AX$6,0) -> 10 | X96: 0 | Y96: =R96*0.7457 -> 11.871544
C97: BP | D97: 3 | E97: 1 | F97: =F96+1 -> 91 | G97: =($F$7/I97)+G96 -> 13.827136 | H97: =I97*3.6 -> 37.739952 | I97: =MIN(13.2,(SQRT((I96^2)+2*J96*$F$7))) -> 10.48332 | J97: -0.7 | K97: =0.5*1.167*0.95*1.151*I97^2 -> 70.119285 | L97: 120 | M97: =J97*616 -> -431.2 | N97: 0 | O97: =K97+L97+M97+N97 -> -241.08071 | P97: =(O97*I97)/1000 -> -2.5273263 | Q97: =VLOOKUP(H97,$AE$7:$AF$68,2,TRUE) -> 5100 | R97: =VLOOKUP(Q97,$AG$7:$AH$68,2,FALSE) -> 15.59 | S97: =VLOOKUP(Q97,$AG$7:$AI$68,3,TRUE) -> 21.786261 | T97: =ROUNDUP(S97,0) -> 22 | U97: =MROUND(Q97,500) -> 5000 | V97: =MATCH(T97,$AJ$7:$AJ$29,0) -> 1 | W97: =MATCH(U97,$AK$6:$AX$6,0) -> 10 | X97: 0 | Y97: =R97*0.7457 -> 11.625463
C98: BP | D98: 3 | E98: 1 | F98: =F97+1 -> 92 | G98: =($F$7/I98)+G97 -> 13.923139 | H98: =I98*3.6 -> 37.4988 | I98: =MIN(13.2,(SQRT((I97^2)+2*J97*$F$7))) -> 10.416333 | J98: -0.7 | K98: =0.5*1.167*0.95*1.151*I98^2 -> 69.226046 | L98: 120 | M98: =J98*616 -> -431.2 | N98: 0 | O98: =K98+L98+M98+N98 -> -241.97395 | P98: =(O98*I98)/1000 -> -2.5204814 | Q98: =VLOOKUP(H98,$AE$7:$AF$68,2,TRUE) -> 5100 | R98: =VLOOKUP(Q98,$AG$7:$AH$68,2,FALSE) -> 15.59 | S98: =VLOOKUP(Q98,$AG$7:$AI$68,3,TRUE) -> 21.786261 | T98: =ROUNDUP(S98,0) -> 22 | U98: =MROUND(Q98,500) -> 5000 | V98: =MATCH(T98,$AJ$7:$AJ$29,0) -> 1 | W98: =MATCH(U98,$AK$6:$AX$6,0) -> 10 | X98: 0 | Y98: =R98*0.7457 -> 11.625463
C99: BP | D99: 3 | E99: 1 | F99: =F98+1 -> 93 | G99: =($F$7/I99)+G98 -> 14.019768 | H99: =I99*3.6 -> 37.256087 | I99: =MIN(13.2,(SQRT((I98^2)+2*J98*$F$7))) -> 10.348913 | J99: -0.7 | K99: =0.5*1.167*0.95*1.151*I99^2 -> 68.332807 | L99: 120 | M99: =J99*616 -> -431.2 | N99: 0 | O99: =K99+L99+M99+N99 -> -242.86719 | P99: =(O99*I99)/1000 -> -2.5134114 | Q99: =VLOOKUP(H99,$AE$7:$AF$68,2,TRUE) -> 5100 | R99: =VLOOKUP(Q99,$AG$7:$AH$68,2,FALSE) -> 15.59 | S99: =VLOOKUP(Q99,$AG$7:$AI$68,3,TRUE) -> 21.786261 | T99: =ROUNDUP(S99,0) -> 22 | U99: =MROUND(Q99,500) -> 5000 | V99: =MATCH(T99,$AJ$7:$AJ$29,0) -> 1 | W99: =MATCH(U99,$AK$6:$AX$6,0) -> 10 | X99: 0 | Y99: =R99*0.7457 -> 11.625463
C100: BP | D100: 3 | E100: 1 | F100: =F99+1 -> 94 | G100: =($F$7/I100)+G99 -> 14.117034 | H100: =I100*3.6 -> 37.011782 | I100: =MIN(13.2,(SQRT((I99^2)+2*J99*$F$7))) -> 10.281051 | J100: -0.7 | K100: =0.5*1.167*0.95*1.151*I100^2 -> 67.439568 | L100: 120 | M100: =J100*616 -> -431.2 | N100: 0 | O100: =K100+L100+M100+N100 -> -243.76043 | P100: =(O100*I100)/1000 -> -2.5061133 | Q100: =VLOOKUP(H100,$AE$7:$AF$68,2,TRUE) -> 5000 | R100: =VLOOKUP(Q100,$AG$7:$AH$68,2,FALSE) -> 15.26 | S100: =VLOOKUP(Q100,$AG$7:$AI$68,3,TRUE) -> 21.751604 | T100: =ROUNDUP(S100,0) -> 22 | U100: =MROUND(Q100,500) -> 5000 | V100: =MATCH(T100,$AJ$7:$AJ$29,0) -> 1 | W100: =MATCH(U100,$AK$6:$AX$6,0) -> 10 | X100: 0 | Y100: =R100*0.7457 -> 11.379382
C101: BP | D101: 3 | E101: 1 | F101: =F100+1 -> 95 | G101: =($F$7/I101)+G100 -> 14.214951 | H101: =I101*3.6 -> 36.765854 | I101: =MIN(13.2,(SQRT((I100^2)+2*J100*$F$7))) -> 10.212737 | J101: -0.7 | K101: =0.5*1.167*0.95*1.151*I101^2 -> 66.546328 | L101: 120 | M101: =J101*616 -> -431.2 | N101: 0 | O101: =K101+L101+M101+N101 -> -244.65367 | P101: =(O101*I101)/1000 -> -2.4985836 | Q101: =VLOOKUP(H101,$AE$7:$AF$68,2,TRUE) -> 5000 | R101: =VLOOKUP(Q101,$AG$7:$AH$68,2,FALSE) -> 15.26 | S101: =VLOOKUP(Q101,$AG$7:$AI$68,3,TRUE) -> 21.751604 | T101: =ROUNDUP(S101,0) -> 22 | U101: =MROUND(Q101,500) -> 5000 | V101: =MATCH(T101,$AJ$7:$AJ$29,0) -> 1 | W101: =MATCH(U101,$AK$6:$AX$6,0) -> 10 | X101: 0 | Y101: =R101*0.7457 -> 11.379382
C102: BP | D102: 3 | E102: 1 | F102: =F101+1 -> 96 | G102: =($F$7/I102)+G101 -> 14.313532 | H102: =I102*3.6 -> 36.518269 | I102: =MIN(13.2,(SQRT((I101^2)+2*J101*$F$7))) -> 10.143964 | J102: -0.7 | K102: =0.5*1.167*0.95*1.151*I102^2 -> 65.653089 | L102: 120 | M102: =J102*616 -> -431.2 | N102: 0 | O102: =K102+L102+M102+N102 -> -245.54691 | P102: =(O102*I102)/1000 -> -2.490819 | Q102: =VLOOKUP(H102,$AE$7:$AF$68,2,TRUE) -> 5000 | R102: =VLOOKUP(Q102,$AG$7:$AH$68,2,FALSE) -> 15.26 | S102: =VLOOKUP(Q102,$AG$7:$AI$68,3,TRUE) -> 21.751604 | T102: =ROUNDUP(S102,0) -> 22 | U102: =MROUND(Q102,500) -> 5000 | V102: =MATCH(T102,$AJ$7:$AJ$29,0) -> 1 | W102: =MATCH(U102,$AK$6:$AX$6,0) -> 10 | X102: 0 | Y102: =R102*0.7457 -> 11.379382
... C120: BP | D120: 3 | E120: 1 | F120: =F119+1 -> 114 | G120: =($F$7/I120)+G119 -> 16.257923 | H120: =I120*3.6 -> 30.098239 | I120: =MIN(13.2,(SQRT((I119^2)+2*J119*$F$7))) -> 8.360622 | J120: -1 | K120: =0.5*1.167*0.95*1.151*I120^2 -> 44.598162 | L120: 120 | M120: =J120*616 -> -616 | N120: 0 | O120: =K120+L120+M120+N120 -> -451.40184 | P120: =(O120*I120)/1000 -> -3.7740001 | Q120: =VLOOKUP(H120,$AE$7:$AF$68,2,TRUE) -> 4100 | R120: =VLOOKUP(Q120,$AG$7:$AH$68,2,FALSE) -> 11.45 | S120: =VLOOKUP(Q120,$AG$7:$AI$68,3,TRUE) -> 19.903451 | T120: =ROUNDUP(S120,0) -> 20 | U120: =MROUND(Q120,500) -> 4000 | V120: =MATCH(T120,$AJ$7:$AJ$29,0) -> 3 | W120: =MATCH(U120,$AK$6:$AX$6,0) -> 8 | X120: 0 | Y120: =R120*0.7457 -> 8.538265
C121: APEX | D121: 3 | E121: 1 | F121: =F120+1 -> 115 | G121: =($F$7/I121)+G120 -> 16.37928 | H121: =I121*3.6 -> 29.664524 | I121: =MIN(13.2,(SQRT((I120^2)+2*J120*$F$7))) -> 8.2401456 | J121: 0.8 | K121: =0.5*1.167*0.95*1.151*I121^2 -> 43.322106 | L121: 120 | M121: =J121*616 -> 492.8 | N121: 0 | O121: =K121+L121+M121+N121 -> 656.12211 | P121: =(O121*I121)/1000 -> 5.4065417 | Q121: =VLOOKUP(H121,$AE$7:$AF$68,2,TRUE) -> 4000 | R121: =VLOOKUP(Q121,$AG$7:$AH$68,2,FALSE) -> 10.86 | S121: =VLOOKUP(Q121,$AG$7:$AI$68,3,TRUE) -> 19.349805 | T121: =ROUNDUP(S121,0) -> 20 | U121: =MROUND(Q121,500) -> 4000 | V121: =MATCH(T121,$AJ$7:$AJ$29,0) -> 3 | W121: =MATCH(U121,$AK$6:$AX$6,0) -> 8 | X121: =INDEX($AK$7:$AX$29,V121,W121) -> 466 | Y121: =R121*0.7457 -> 8.098302
C122: APEX | D122: 3 | E122: 1 | F122: =F121+1 -> 116 | G122: =($F$7/I122)+G121 -> 16.499232 | H122: =I122*3.6 -> 30.011998 | I122: =MIN(13.2,(SQRT((I121^2)+2*J121*$F$7))) -> 8.336666 | J122: 0.8 | K122: =0.5*1.167*0.95*1.151*I122^2 -> 44.342951 | L122: 120 | M122: =J122*616 -> 492.8 | N122: 0 | O122: =K122+L122+M122+N122 -> 657.14295 | P122: =(O122*I122)/1000 -> 5.4783813 | Q122: =VLOOKUP(H122,$AE$7:$AF$68,2,TRUE) -> 4100 | R122: =VLOOKUP(Q122,$AG$7:$AH$68,2,FALSE) -> 11.45 | S122: =VLOOKUP(Q122,$AG$7:$AI$68,3,TRUE) -> 19.903451 | T122: =ROUNDUP(S122,0) -> 20 | U122: =MROUND(Q122,500) -> 4000 | V122: =MATCH(T122,$AJ$7:$AJ$29,0) -> 3 | W122: =MATCH(U122,$AK$6:$AX$6,0) -> 8 | X122: =INDEX($AK$7:$AX$29,V122,W122) -> 466 | Y122: =R122*0.7457 -> 8.538265
C123: APEX | D123: 3 | E123: 1 | F123: =F122+1 -> 117 | G123: =($F$7/I123)+G122 -> 16.617827 | H123: =I123*3.6 -> 30.355494 | I123: =MIN(13.2,(SQRT((I122^2)+2*J122*$F$7))) -> 8.4320816 | J123: 0.8 | K123: =0.5*1.167*0.95*1.151*I123^2 -> 45.363796 | L123: 120 | M123: =J123*616 -> 492.8 | N123: 0 | O123: =K123+L123+M123+N123 -> 658.1638 | P123: =(O123*I123)/1000 -> 5.5496908 | Q123: =VLOOKUP(H123,$AE$7:$AF$68,2,TRUE) -> 4100 | R123: =VLOOKUP(Q123,$AG$7:$AH$68,2,FALSE) -> 11.45 | S123: =VLOOKUP(Q123,$AG$7:$AI$68,3,TRUE) -> 19.903451 | T123: =ROUNDUP(S123,0) -> 20 | U123: =MROUND(Q123,500) -> 4000 | V123: =MATCH(T123,$AJ$7:$AJ$29,0) -> 3 | W123: =MATCH(U123,$AK$6:$AX$6,0) -> 8 | X123: =INDEX($AK$7:$AX$29,V123,W123) -> 466 | Y123: =R123*0.7457 -> 8.538265
C124: APEX | D124: 3 | E124: 1 | F124: =F123+1 -> 118 | G124: =($F$7/I124)+G123 -> 16.735109 | H124: =I124*3.6 -> 30.695146 | I124: =MIN(13.2,(SQRT((I123^2)+2*J123*$F$7))) -> 8.5264295 | J124: 0.8 | K124: =0.5*1.167*0.95*1.151*I124^2 -> 46.384641 | L124: 120 | M124: =J124*616 -> 492.8 | N124: 0 | O124: =K124+L124+M124+N124 -> 659.18464 | P124: =(O124*I124)/1000 -> 5.6204914 | Q124: =VLOOKUP(H124,$AE$7:$AF$68,2,TRUE) -> 4200 | R124: =VLOOKUP(Q124,$AG$7:$AH$68,2,FALSE) -> 12.04 | S124: =VLOOKUP(Q124,$AG$7:$AI$68,3,TRUE) -> 20.430733 | T124: =ROUNDUP(S124,0) -> 21 | U124: =MROUND(Q124,500) -> 4000 | V124: =MATCH(T124,$AJ$7:$AJ$29,0) -> 2 | W124: =MATCH(U124,$AK$6:$AX$6,0) -> 8 | X124: =INDEX($AK$7:$AX$29,V124,W124) -> 488 | Y124: =R124*0.7457 -> 8.978228
C125: APEX | D125: 3 | E125: 1 | F125: =F124+1 -> 119 | G125: =($F$7/I125)+G124 -> 16.851122 | H125: =I125*3.6 -> 31.031081 | I125: =MIN(13.2,(SQRT((I124^2)+2*J124*$F$7))) -> 8.6197448 | J125: 0.8 | K125: =0.5*1.167*0.95*1.151*I125^2 -> 47.405486 | L125: 120 | M125: =J125*616 -> 492.8 | N125: 0 | O125: =K125+L125+M125+N125 -> 660.20549 | P125: =(O125*I125)/1000 -> 5.6908028 | Q125: =VLOOKUP(H125,$AE$7:$AF$68,2,TRUE) -> 4200 | R125: =VLOOKUP(Q125,$AG$7:$AH$68,2,FALSE) -> 12.04 | S125: =VLOOKUP(Q125,$AG$7:$AI$68,3,TRUE) -> 20.430733 | T125: =ROUNDUP(S125,0) -> 21 | U125: =MROUND(Q125,500) -> 4000 | V125: =MATCH(T125,$AJ$7:$AJ$29,0) -> 2 | W125: =MATCH(U125,$AK$6:$AX$6,0) -> 8 | X125: =INDEX($AK$7:$AX$29,V125,W125) -> 488 | Y125: =R125*0.7457 -> 8.978228
C126: APEX | D126: 3 | E126: 1 | F126: =F125+1 -> 120 | G126: =($F$7/I126)+G125 -> 16.965905 | H126: =I126*3.6 -> 31.363418 | I126: =MIN(13.2,(SQRT((I125^2)+2*J125*$F$7))) -> 8.7120606 | J126: 0.8 | K126: =0.5*1.167*0.95*1.151*I126^2 -> 48.426331 | L126: 120 | M126: =J126*616 -> 492.8 | N126: 0 | O126: =K126+L126+M126+N126 -> 661.22633 | P126: =(O126*I126)/1000 -> 5.7606439 | Q126: =VLOOKUP(H126,$AE$7:$AF$68,2,TRUE) -> 4300 | R126: =VLOOKUP(Q126,$AG$7:$AH$68,2,FALSE) -> 12.63 | S126: =VLOOKUP(Q126,$AG$7:$AI$68,3,TRUE) -> 20.933491 | T126: =ROUNDUP(S126,0) -> 21 | U126: =MROUND(Q126,500) -> 4500 | V126: =MATCH(T126,$AJ$7:$AJ$29,0) -> 2 | W126: =MATCH(U126,$AK$6:$AX$6,0) -> 9 | X126: =INDEX($AK$7:$AX$29,V126,W126) -> 488 | Y126: =R126*0.7457 -> 9.418191
C127: APEX | D127: 3 | E127: 1 | F127: =F126+1 -> 121 | G127: =($F$7/I127)+G126 -> 17.079497 | H127: =I127*3.6 -> 31.69227 | I127: =MIN(13.2,(SQRT((I126^2)+2*J126*$F$7))) -> 8.8034084 | J127: 0.8 | K127: =0.5*1.167*0.95*1.151*I127^2 -> 49.447176 | L127: 120 | M127: =J127*616 -> 492.8 | N127: 0 | O127: =K127+L127+M127+N127 -> 662.24718 | P127: =(O127*I127)/1000 -> 5.8300324 | Q127: =VLOOKUP(H127,$AE$7:$AF$68,2,TRUE) -> 4300 | R127: =VLOOKUP(Q127,$AG$7:$AH$68,2,FALSE) -> 12.63 | S127: =VLOOKUP(Q127,$AG$7:$AI$68,3,TRUE) -> 20.933491 | T127: =ROUNDUP(S127,0) -> 21 | U127: =MROUND(Q127,500) -> 4500 | V127: =MATCH(T127,$AJ$7:$AJ$29,0) -> 2 | W127: =MATCH(U127,$AK$6:$AX$6,0) -> 9 | X127: =INDEX($AK$7:$AX$29,V127,W127) -> 488 | Y127: =R127*0.7457 -> 9.418191
C128: APEX | D128: 3 | E128: 1 | F128: =F127+1 -> 122 | G128: =($F$7/I128)+G127 -> 17.191935 | H128: =I128*3.6 -> 32.017745 | I128: =MIN(13.2,(SQRT((I127^2)+2*J127*$F$7))) -> 8.8938181 | J128: 0.8 | K128: =0.5*1.167*0.95*1.151*I128^2 -> 50.468021 | L128: 120 | M128: =J128*616 -> 492.8 | N128: 0 | O128: =K128+L128+M128+N128 -> 663.26802 | P128: =(O128*I128)/1000 -> 5.8989851 | Q128: =VLOOKUP(H128,$AE$7:$AF$68,2,TRUE) -> 4300 | R128: =VLOOKUP(Q128,$AG$7:$AH$68,2,FALSE) -> 12.63 | S128: =VLOOKUP(Q128,$AG$7:$AI$68,3,TRUE) -> 20.933491 | T128: =ROUNDUP(S128,0) -> 21 | U128: =MROUND(Q128,500) -> 4500 | V128: =MATCH(T128,$AJ$7:$AJ$29,0) -> 2 | W128: =MATCH(U128,$AK$6:$AX$6,0) -> 9 | X128: =INDEX($AK$7:$AX$29,V128,W128) -> 488 | Y128: =R128*0.7457 -> 9.418191
C129: APEX | D129: 3 | E129: 1 | F129: =F128+1 -> 123 | G129: =($F$7/I129)+G128 -> 17.303253 | H129: =I129*3.6 -> 32.339944 | I129: =MIN(13.2,(SQRT((I128^2)+2*J128*$F$7))) -> 8.9833179 | J129: 0.8 | K129: =0.5*1.167*0.95*1.151*I129^2 -> 51.488866 | L129: 120 | M129: =J129*616 -> 492.8 | N129: 0 | O129: =K129+L129+M129+N129 -> 664.28887 | P129: =(O129*I129)/1000 -> 5.967518 | Q129: =VLOOKUP(H129,$AE$7:$AF$68,2,TRUE) -> 4400 | R129: =VLOOKUP(Q129,$AG$7:$AH$68,2,FALSE) -> 13.22 | S129: =VLOOKUP(Q129,$AG$7:$AI$68,3,TRUE) -> 21.413395 | T129: =ROUNDUP(S129,0) -> 22 | U129: =MROUND(Q129,500) -> 4500 | V129: =MATCH(T129,$AJ$7:$AJ$29,0) -> 1 | W129: =MATCH(U129,$AK$6:$AX$6,0) -> 9 | X129: =INDEX($AK$7:$AX$29,V129,W129) -> 488 | Y129: =R129*0.7457 -> 9.858154
C130: APEX | D130: 3 | E130: 1 | F130: =F129+1 -> 124 | G130: =($F$7/I130)+G129 -> 17.413483 | H130: =I130*3.6 -> 32.658965 | I130: =MIN(13.2,(SQRT((I129^2)+2*J129*$F$7))) -> 9.0719347 | J130: 0.8 | K130: =0.5*1.167*0.95*1.151*I130^2 -> 52.509711 | L130: 120 | M130: =J130*616 -> 492.8 | N130: 0 | O130: =K130+L130+M130+N130 -> 665.30971 | P130: =(O130*I130)/1000 -> 6.0356463 | Q130: =VLOOKUP(H130,$AE$7:$AF$68,2,TRUE) -> 4400 | R130: =VLOOKUP(Q130,$AG$7:$AH$68,2,FALSE) -> 13.22 | S130: =VLOOKUP(Q130,$AG$7:$AI$68,3,TRUE) -> 21.413395 | T130: =ROUNDUP(S130,0) -> 22 | U130: =MROUND(Q130,500) -> 4500 | V130: =MATCH(T130,$AJ$7:$AJ$29,0) -> 1 | W130: =MATCH(U130,$AK$6:$AX$6,0) -> 9 | X130: =INDEX($AK$7:$AX$29,V130,W130) -> 488 | Y130: =R130*0.7457 -> 9.858154
C131: APEX | D131: 3 | E131: 1 | F131: =F130+1 -> 125 | G131: =($F$7/I131)+G130 -> 17.522657 | H131: =I131*3.6 -> 32.9749 | I131: =MIN(13.2,(SQRT((I130^2)+2*J130*$F$7))) -> 9.1596943 | J131: 0.8 | K131: =0.5*1.167*0.95*1.151*I131^2 -> 53.530555 | L131: 120 | M131: =J131*616 -> 492.8 | N131: 0 | O131: =K131+L131+M131+N131 -> 666.33056 | P131: =(O131*I131)/1000 -> 6.1033842 | Q131: =VLOOKUP(H131,$AE$7:$AF$68,2,TRUE) -> 4500 | R131: =VLOOKUP(Q131,$AG$7:$AH$68,2,FALSE) -> 13.81 | S131: =VLOOKUP(Q131,$AG$7:$AI$68,3,TRUE) -> 21.871971 | T131: =ROUNDUP(S131,0) -> 22 | U131: =MROUND(Q131,500) -> 4500 | V131: =MATCH(T131,$AJ$7:$AJ$29,0) -> 1 | W131: =MATCH(U131,$AK$6:$AX$6,0) -> 9 | X131: =INDEX($AK$7:$AX$29,V131,W131) -> 488 | Y131: =R131*0.7457 -> 10.298117
C132: APEX | D132: 3 | E132: 1 | F132: =F131+1 -> 126 | G132: =($F$7/I132)+G131 -> 17.630804 | H132: =I132*3.6 -> 33.287836 | I132: =MIN(13.2,(SQRT((I131^2)+2*J131*$F$7))) -> 9.246621 | J132: 0.8 | K132: =0.5*1.167*0.95*1.151*I132^2 -> 54.5514 | L132: 120 | M132: =J132*616 -> 492.8 | N132: 0 | O132: =K132+L132+M132+N132 -> 667.3514 | P132: =(O132*I132)/1000 -> 6.1707455 | Q132: =VLOOKUP(H132,$AE$7:$AF$68,2,TRUE) -> 4500 | R132: =VLOOKUP(Q132,$AG$7:$AH$68,2,FALSE) -> 13.81 | S132: =VLOOKUP(Q132,$AG$7:$AI$68,3,TRUE) -> 21.871971 | T132: =ROUNDUP(S132,0) -> 22 | U132: =MROUND(Q132,500) -> 4500 | V132: =MATCH(T132,$AJ$7:$AJ$29,0) -> 1 | W132: =MATCH(U132,$AK$6:$AX$6,0) -> 9 | X132: =INDEX($AK$7:$AX$29,V132,W132) -> 488 | Y132: =R132*0.7457 -> 10.298117
... C137: APEX | D137: 3 | E137: 1 | F137: =F136+1 -> 131 | G137: =($F$7/I137)+G136 -> 18.157098 | H137: =I137*3.6 -> 34.810343 | I137: =MIN(13.2,(SQRT((I136^2)+2*J136*$F$7))) -> 9.6695398 | J137: 0.8 | K137: =0.5*1.167*0.95*1.151*I137^2 -> 59.655625 | L137: 120 | M137: =J137*616 -> 492.8 | N137: 0 | O137: =K137+L137+M137+N137 -> 672.45563 | P137: =(O137*I137)/1000 -> 6.5023364 | Q137: =VLOOKUP(H137,$AE$7:$AF$68,2,TRUE) -> 4700 | R137: =VLOOKUP(Q137,$AG$7:$AH$68,2,FALSE) -> 14.39 | S137: =VLOOKUP(Q137,$AG$7:$AI$68,3,TRUE) -> 21.820751 | T137: =ROUNDUP(S137,0) -> 22 | U137: =MROUND(Q137,500) -> 4500 | V137: =MATCH(T137,$AJ$7:$AJ$29,0) -> 1 | W137: =MATCH(U137,$AK$6:$AX$6,0) -> 9 | X137: =INDEX($AK$7:$AX$29,V137,W137) -> 488 | Y137: =R137*0.7457 -> 10.730623
C138: STRAIGHT | D138: 3 | E138: 1 | F138: =F137+1 -> 132 | G138: =($F$7/I138)+G137 -> 18.259642 | H138: =I138*3.6 -> 35.106922 | I138: =MIN(13.2,(SQRT((I137^2)+2*J137*$F$7))) -> 9.7519229 | J138: 0 | K138: =0.5*1.167*0.95*1.151*I138^2 -> 60.67647 | L138: 120 | M138: =J138*616 -> 0 | N138: 0 | O138: =K138+L138+M138+N138 -> 180.67647 | P138: =(O138*I138)/1000 -> 1.761943 | Q138: =VLOOKUP(H138,$AE$39:$AF$99,2,TRUE) -> 4800 | R138: =VLOOKUP(Q138,$AG$7:$AH$68,2,FALSE) -> 14.68 | S138: =VLOOKUP(Q138,$AG$7:$AI$68,3,TRUE) -> 21.796742 | T138: =ROUNDUP(S138,0) -> 22 | U138: =MROUND(Q138,500) -> 5000 | V138: =MATCH(T138,$AJ$7:$AJ$29,0) -> 1 | W138: =MATCH(U138,$AK$6:$AX$6,0) -> 10 | X138: =INDEX($AK$7:$AX$29,V138,W138) -> 488 | Y138: =R138*0.7457 -> 10.946876
C139: STRAIGHT | D139: 3 | E139: 1 | F139: =F138+1 -> 133 | G139: =($F$7/I139)+G138 -> 18.362186 | H139: =I139*3.6 -> 35.106922 | I139: =MIN(13.2,(SQRT((I138^2)+2*J138*$F$7))) -> 9.7519229 | J139: 0 | K139: =0.5*1.167*0.95*1.151*I139^2 -> 60.67647 | L139: 120 | M139: =J139*616 -> 0 | N139: 0 | O139: =K139+L139+M139+N139 -> 180.67647 | P139: =(O139*I139)/1000 -> 1.761943 | Q139: =VLOOKUP(H139,$AE$39:$AF$99,2,TRUE) -> 4800 | R139: =VLOOKUP(Q139,$AG$7:$AH$68,2,FALSE) -> 14.68 | S139: =VLOOKUP(Q139,$AG$7:$AI$68,3,TRUE) -> 21.796742 | T139: =ROUNDUP(S139,0) -> 22 | U139: =MROUND(Q139,500) -> 5000 | V139: =MATCH(T139,$AJ$7:$AJ$29,0) -> 1 | W139: =MATCH(U139,$AK$6:$AX$6,0) -> 10 | X139: =INDEX($AK$7:$AX$29,V139,W139) -> 488 | Y139: =R139*0.7457 -> 10.946876
C140: STRAIGHT | D140: 3 | E140: 1 | F140: =F139+1 -> 134 | G140: =($F$7/I140)+G139 -> 18.46473 | H140: =I140*3.6 -> 35.106922 | I140: =MIN(13.2,(SQRT((I139^2)+2*J139*$F$7))) -> 9.7519229 | J140: 0 | K140: =0.5*1.167*0.95*1.151*I140^2 -> 60.67647 | L140: 120 | M140: =J140*616 -> 0 | N140: 0 | O140: =K140+L140+M140+N140 -> 180.67647 | P140: =(O140*I140)/1000 -> 1.761943 | Q140: =VLOOKUP(H140,$AE$39:$AF$99,2,TRUE) -> 4800 | R140: =VLOOKUP(Q140,$AG$7:$AH$68,2,FALSE) -> 14.68 | S140: =VLOOKUP(Q140,$AG$7:$AI$68,3,TRUE) -> 21.796742 | T140: =ROUNDUP(S140,0) -> 22 | U140: =MROUND(Q140,500) -> 5000 | V140: =MATCH(T140,$AJ$7:$AJ$29,0) -> 1 | W140: =MATCH(U140,$AK$6:$AX$6,0) -> 10 | X140: =INDEX($AK$7:$AX$29,V140,W140) -> 488 | Y140: =R140*0.7457 -> 10.946876
C141: STRAIGHT | D141: 3 | E141: 1 | F141: =F140+1 -> 135 | G141: =($F$7/I141)+G140 -> 18.567274 | H141: =I141*3.6 -> 35.106922 | I141: =MIN(13.2,(SQRT((I140^2)+2*J140*$F$7))) -> 9.7519229 | J141: 0 | K141: =0.5*1.167*0.95*1.151*I141^2 -> 60.67647 | L141: 120 | M141: =J141*616 -> 0 | N141: 0 | O141: =K141+L141+M141+N141 -> 180.67647 | P141: =(O141*I141)/1000 -> 1.761943 | Q141: =VLOOKUP(H141,$AE$39:$AF$99,2,TRUE) -> 4800 | R141: =VLOOKUP(Q141,$AG$7:$AH$68,2,FALSE) -> 14.68 | S141: =VLOOKUP(Q141,$AG$7:$AI$68,3,TRUE) -> 21.796742 | T141: =ROUNDUP(S141,0) -> 22 | U141: =MROUND(Q141,500) -> 5000 | V141: =MATCH(T141,$AJ$7:$AJ$29,0) -> 1 | W141: =MATCH(U141,$AK$6:$AX$6,0) -> 10 | X141: =INDEX($AK$7:$AX$29,V141,W141) -> 488 | Y141: =R141*0.7457 -> 10.946876
