Workbook

Sheet Design Book Title
A1: GU-DD-001
A2: Issue 1
C5: Design Book
C10: HESH Example for course
C15: Teamcentre Document Number | M15: Issue | P15: Date
C16: Insert TC document number here | P16: date issued

Sheet Requirements Set
A1: ACTIVITY SUMMARY
B4: Level 1 | C4: Originator | D4: Level 2 | E4: Level 3
B5: Performance | C5: Crew
D6: The Tank crew requires that the munition system shall destroy the specified target (Details TBC) | E6: NFS
D7: The Tank Crew requires that the system shall have consistent performance (Details TBC) | E7: NFS
D8: The Tank Crew requires that the systems shall be accurate. (Dispersion at range TBC) | E8: NFS
D9: The Tank Crew reauires that the system should have an effective range of at least 2km | E9: NFP/NFS
B10: User Friendly
D11: The tank crew requires that the munition should be easy to handle (Rate of fire 3 rpm) | E11: NFS
D12: The tank crew require that the round should have easy training characteristics. | E12: NFS
C13: Crew + logistics | D13: The tank Crew requires that the round should be light weight (Target TBC) | E13: NFS
B14: Safety | C14: All
C15: All | D15: Logistics, Main Customer and tank crew require that the round should be IM compliant. | E15: NFS
C16: All | D16: Logistics, Main Customer and the tank crew require the round to be Resistant to environmental conditions (TBC) | E16: NFS
D17: Logistics, Main Customer and tank crew require that the round only Functions when operationally required. (Details TBD) | E17: NFS
B18: Availability
D19: The main customer requires that the round should be avaialble in suitable quantity for forthcoming operations (TBD) | E19: NFS
B21: Cost
C22: MoD | D22: The main customer requires the munition to be cost effective (Target UPC TBD) | E22: NFS
C23: MoD | D23: The main customer requires a minimum development time. (TBD) | E23: NFS
C24: MoD | D24: The main customer requires high reliability (rel and conf TBD) | E24: NFS
C25: MoD | D25: The main customer requires that the munition has a fast production cycle (Delivery rate TBD) | E25: NFS
C26: MoD | D26: The main customer requires the munition to have a long service life (10 years) | E26: NFS
C27: MoD | D27: The main customer requires the munition to be interoperable (TBD) | E27: NFS
B28: Easy to transport
C29: Logistics | D29: Logistics require the munition to be transportable in bulk (Palletised load TBD) | E29: NFS
C30: Logistics | D30: Logistics requires that the munition copes with the required temperature range (MTDS TBD) | E30: NFS
C31: Logistics | D31: Logistics require that the munition copes with the service vibration. (MTDS TBD) | E31: NFS

Sheet Rationalised Req PW
C2: 1 | D2: 2 | E2: 3 | F2: 4 | G2: 5 | H2: 6 | I2: 7 | J2: 8 | K2: 9 | L2: 10 | M2: 11 | N2: 12 | O2: 13 | P2: 14 | Q2: 15 | R2: 16 | S2: 17 | T2: 18 | U2: 19 | V2: 20 | W2: Calc | Y2: Calc
B3: Pairwise comparison of requirements 1 = No Preference, Reciprocal = 1 2 = Slight Preference, Reciprocal = 0.5 5 = Preference, Reciprocal = 0.2 9 = Strong preference = 0.11 | C3: The Tank crew requires that the munition system shall destroy the specified target (Details TBC) | D3: The Tank Crew requires that the system shall have consistent performance (Details TBC) | E3: The Tank Crew requires that the systems shall be accurate. (Dispersion at range TBC) | F3: The Tank Crew reauires that the system should have an effective range of at least 2km | G3: The tank crew requires that the munition should be easy to handle (Rate of fire 3 rpm) | H3: The tank crew require that the round should have easy training characteristics. | I3: The tank Crew requires that the round should be light weight (Target TBC) | J3: Logistics, Main Customer and tank crew require that the round should be IM compliant. | K3: Logistics, Main Customer and the tank crew require the round to be Resistant to environmental conditions (TBC) | L3: Logistics, Main Customer and tank crew require that the round only Functions when operationally required. (Details TBD) | M3: The main customer requires that the round should be avaialble in suitable quantity for forthcoming operations (TBD) | N3: The main customer requires the munition to be cost effective (Target UPC TBD) | O3: The main customer requires a minimum development time. (TBD) | P3: The main customer requires high reliability (rel and conf TBD) | Q3: The main customer requires that the munition has a fast production cycle (Delivery rate TBD) | R3: The main customer requires the munition to have a long service life (10 years) | S3: The main customer requires the munition to be interoperable (TBD) | T3: Logistics require the munition to be transportable in bulk (Palletised load TBD) | U3: Logistics requires that the munition copes with the required temperature range (MTDS TBD) | V3: Logistics require that the munition copes with the service vibration. (MTDS TBD) | W3: Row Product | X3: nth root of row product | Y3: Total Normalised
A4: 1 | B4: The Tank crew requires that the munition system shall destroy the specified target (Details TBC) | C4: 1 | D4: 1 | E4: 1 | F4: 1 | G4: 5 | H4: 0.2 | I4: 0.5 | J4: 9 | K4: 2 | L4: 1 | M4: 1 | N4: 9 | O4: 5 | P4: 1 | Q4: 5 | R4: 5 | S4: 5 | T4: 2 | U4: 2 | V4: 1 | W4: =+C4*D4*E4*F4*G4*H4*I4*J4*K4*L4*M4*N4*O4*P4*Q4*R4*S4*T4*U4*V4 -> 202500 | X4: =POWER(W4,1/20) -> 1.8421341 | Y4: =+X4/$X$24*$Y$24 -> 8.0779076
A5: 2 | B5: The Tank Crew requires that the system shall have consistent performance (Details TBC) | C5: 1 | D5: 1 | E5: 1 | F5: 1 | G5: 5 | H5: 9 | I5: 5 | J5: 9 | K5: 5 | L5: 1 | M5: 1 | N5: 5 | O5: 5 | P5: 1 | Q5: 5 | R5: 1 | S5: 1 | T5: 2 | U5: 2 | V5: 1 | W5: =+C5*D5*E5*F5*G5*H5*I5*J5*K5*L5*M5*N5*O5*P5*Q5*R5*S5*T5*U5*V5 -> 5062500 | X5: =POWER(W5,1/20) -> 2.1638057 | Y5: =+X5/$X$24*$Y$24 -> 9.4884633
A6: 3 | B6: The Tank Crew requires that the systems shall be accurate. (Dispersion at range TBC) | C6: 1 | D6: 1 | E6: 1 | F6: 1 | G6: 5 | H6: 9 | I6: 2 | J6: 9 | K6: 1 | L6: 1 | M6: 1 | N6: 9 | O6: 9 | P6: 1 | Q6: 5 | R6: 5 | S6: 1 | T6: 2 | U6: 2 | V6: 1 | W6: =+C6*D6*E6*F6*G6*H6*I6*J6*K6*L6*M6*N6*O6*P6*Q6*R6*S6*T6*U6*V6 -> 6561000 | X6: =POWER(W6,1/20) -> 2.1920401 | Y6: =+X6/$X$24*$Y$24 -> 9.6122737
A7: 4 | B7: The Tank Crew reauires that the system should have an effective range of at least 2km | C7: 1 | D7: 1 | E7: 1 | F7: 1 | G7: 1 | H7: 5 | I7: 5 | J7: 9 | K7: 1 | L7: 1 | M7: 1 | N7: 9 | O7: 2 | P7: 1 | Q7: 5 | R7: 5 | S7: 1 | T7: 2 | U7: 2 | V7: 1 | W7: =+C7*D7*E7*F7*G7*H7*I7*J7*K7*L7*M7*N7*O7*P7*Q7*R7*S7*T7*U7*V7 -> 405000 | X7: =POWER(W7,1/20) -> 1.9070969 | Y7: =+X7/$X$24*$Y$24 -> 8.3627744
A8: 5 | B8: The tank crew requires that the munition should be easy to handle (Rate of fire 3 rpm) | C8: 0.2 | D8: 0.2 | E8: 0.2 | F8: 1 | G8: 1 | H8: 1 | I8: 1 | J8: 9 | K8: 1 | L8: 1 | M8: 1 | N8: 5 | O8: 1 | P8: 1 | Q8: 5 | R8: 5 | S8: 1 | T8: 2 | U8: 2 | V8: 1 | W8: =+C8*D8*E8*F8*G8*H8*I8*J8*K8*L8*M8*N8*O8*P8*Q8*R8*S8*T8*U8*V8 -> 36 | X8: =POWER(W8,1/20) -> 1.1962312 | Y8: =+X8/$X$24*$Y$24 -> 5.2455708
A9: 6 | B9: The tank crew require that the round should have easy training characteristics. | C9: 5 | D9: 0.1 | E9: 0.1 | F9: 0.2 | G9: 1 | H9: 1 | I9: 1 | J9: 5 | K9: 0.5 | L9: 0.2 | M9: 0.2 | N9: 1 | O9: 2 | P9: 2 | Q9: 5 | R9: 9 | S9: 5 | T9: 2 | U9: 2 | V9: 1 | W9: =+C9*D9*E9*F9*G9*H9*I9*J9*K9*L9*M9*N9*O9*P9*Q9*R9*S9*T9*U9*V9 -> 3.6 | X9: =POWER(W9,1/20) -> 1.0661422 | Y9: =+X9/$X$24*$Y$24 -> 4.6751199
A10: 7 | B10: The tank Crew requires that the round should be light weight (Target TBC) | C10: 2 | D10: 0.2 | E10: 0.5 | F10: 0.2 | G10: 1 | H10: 1 | I10: 1 | J10: 1 | K10: 0.2 | L10: 1 | M10: 0.2 | N10: 1 | O10: 1 | P10: 0.1 | Q10: 1 | R10: 1 | S10: 1 | T10: 1 | U10: 1 | V10: 1 | W10: =+C10*D10*E10*F10*G10*H10*I10*J10*K10*L10*M10*N10*O10*P10*Q10*R10*S10*T10*U10*V10 -> 0.00016 | X10: =POWER(W10,1/20) -> 0.64596056 | Y10: =+X10/$X$24*$Y$24 -> 2.8325894
A11: 8 | B11: Logistics, Main Customer and tank crew require that the round should be IM compliant. | C11: 0.1 | D11: 0.1 | E11: 0.1 | F11: 0.1 | G11: 0.1 | H11: 0.2 | I11: 1 | J11: 1 | K11: 1 | L11: 1 | M11: 0.2 | N11: 1 | O11: 1 | P11: 1 | Q11: 1 | R11: 1 | S11: 1 | T11: 1 | U11: 1 | V11: 1 | W11: =+C11*D11*E11*F11*G11*H11*I11*J11*K11*L11*M11*N11*O11*P11*Q11*R11*S11*T11*U11*V11 -> 4e-07 | X11: =POWER(W11,1/20) -> 0.47874362 | Y11: =+X11/$X$24*$Y$24 -> 2.0993296
A12: 9 | B12: Logistics, Main Customer and the tank crew require the round to be Resistant to environmental conditions (TBC) | C12: 0.5 | D12: 0.2 | E12: 1 | F12: 1 | G12: 1 | H12: 2 | I12: 5 | J12: 1 | K12: 1 | L12: 1 | M12: 1 | N12: 5 | O12: 5 | P12: 1 | Q12: 9 | R12: 1 | S12: 1 | T12: 1 | U12: 1 | V12: 1 | W12: =+C12*D12*E12*F12*G12*H12*I12*J12*K12*L12*M12*N12*O12*P12*Q12*R12*S12*T12*U12*V12 -> 225 | X12: =POWER(W12,1/20) -> 1.3110194 | Y12: =+X12/$X$24*$Y$24 -> 5.7489265
A13: 10 | B13: Logistics, Main Customer and tank crew require that the round only Functions when operationally required. (Details TBD) | C13: 1 | D13: 1 | E13: 1 | F13: 1 | G13: 1 | H13: 5 | I13: 1 | J13: 1 | K13: 1 | L13: 1 | M13: 5 | N13: 5 | O13: 5 | P13: 1 | Q13: 9 | R13: 1 | S13: 1 | T13: 1 | U13: 1 | V13: 1 | W13: =+C13*D13*E13*F13*G13*H13*I13*J13*K13*L13*M13*N13*O13*P13*Q13*R13*S13*T13*U13*V13 -> 5625 | X13: =POWER(W13,1/20) -> 1.5399482 | Y13: =+X13/$X$24*$Y$24 -> 6.7527979
A14: 11 | B14: The main customer requires that the round should be avaialble in suitable quantity for forthcoming operations (TBD) | C14: 1 | D14: 1 | E14: 1 | F14: 1 | G14: 1 | H14: 5 | I14: 5 | J14: 5 | K14: 1 | L14: 0.2 | M14: 1 | N14: 5 | O14: 1 | P14: 1 | Q14: 1 | R14: 1 | S14: 1 | T14: 1 | U14: 1 | V14: 1 | W14: =+C14*D14*E14*F14*G14*H14*I14*J14*K14*L14*M14*N14*O14*P14*Q14*R14*S14*T14*U14*V14 -> 125 | X14: =POWER(W14,1/20) -> 1.2730501 | Y14: =+X14/$X$24*$Y$24 -> 5.582428
A15: 12 | B15: The main customer requires the munition to be cost effective (Target UPC TBD) | C15: 0.1 | D15: 0.2 | E15: 0.1 | F15: 0.1 | G15: 0.2 | H15: 1 | I15: 1 | J15: 1 | K15: 0.2 | L15: 0.2 | M15: 5 | N15: 1 | O15: 1 | P15: 1 | Q15: 1 | R15: 1 | S15: 1 | T15: 1 | U15: 1 | V15: 1 | W15: =+C15*D15*E15*F15*G15*H15*I15*J15*K15*L15*M15*N15*O15*P15*Q15*R15*S15*T15*U15*V15 -> 8e-06 | X15: =POWER(W15,1/20) -> 0.55610205 | Y15: =+X15/$X$24*$Y$24 -> 2.4385526
... A23: 20 | B23: Logistics require that the munition copes with the service vibration. (MTDS TBD) | C23: 1 | D23: 1 | E23: 1 | F23: 1 | G23: 1 | H23: 1 | I23: 1 | J23: 1 | K23: 1 | L23: 1 | M23: 1 | N23: 1 | O23: 5 | P23: 1 | Q23: 5 | R23: 1 | S23: 1 | T23: 1 | U23: 1 | V23: 1 | W23: =+C23*D23*E23*F23*G23*H23*I23*J23*K23*L23*M23*N23*O23*P23*Q23*R23*S23*T23*U23*V23 -> 25 | X23: =POWER(W23,1/20) -> 1.1746189 | Y23: =+X23/$X$24*$Y$24 -> 5.1507993
W24: =SUM(W4:W23) -> 12237048 | X24: =SUM(X4:X23) -> 22.804595 | Y24: 100

Sheet Required Functionality
A1: ACTIVITY SUMMARY
B2: Developed from Generic Munition Use Case
B4: Level 1 | C4: How Much | D4: Level 2
B6: Provide Motive Force | C6: From Use case
B7: Initiate Weapon
B8: Stabilise Projectile
B9: Create Terminal Effect
B10: Arm Munition
B11: Acquire Target
B12: Identify Munition
B13: Defeat Target
B14: Track to Target
B15: Clear Launcher
B16: Load Munition
B17: Aim Weapon
B18: Manoeuvre Munition
B20: Provide motive force | C20: Revised After Functional Analysis
B21: Regulate motive force
B22: Seal System Pressure
B23: Remove heat from system
B24: transport motive force provider
B25: Align initiating system
B26: Support fins
B27: Stabilise Projectile
B28: Stabilise internal ballistic condition
B29: Deliver terminal effect
B30: Support booster
B31: Arm Munition
B32: Initiate effect
... B45: Aim Weapon

Sheet Concept
A1: ACTIVITY SUMMARY

Sheet Design QFD 1
B2: How | C2: Importance | D2: Provide Motive Force | E2: Initiate Weapon | F2: Stabilise Projectile | G2: Create Terminal Effect | H2: Arm Munition | I2: Acquire Target | J2: Identify Munition | K2: Defeat Target | L2: Track to Target | M2: Clear Launcher | N2: Load Munition | O2: Aim Weapon | P2: Manoeuvre Munition
B3: Requirements | Q3: Add requirements detail and definition in here.
B4: The Tank crew requires that the munition system shall destroy the specified target (Details TBC) | C4: 8.0779076 | D4: 9 | E4: 9 | F4: 3 | G4: 9 | H4: 3 | I4: 9 | J4: 9 | K4: 9 | L4: 3 | O4: 9 | P4: 1
B5: The Tank Crew requires that the system shall have consistent performance (Details TBC) | C5: 9.4884633 | D5: 9 | E5: 9 | F5: 3 | G5: 9 | K5: 9 | P5: 3
B6: The Tank Crew requires that the systems shall be accurate. (Dispersion at range TBC) | C6: 9.6122737 | D6: 9 | F6: 9 | K6: 3 | L6: 3
B7: The Tank Crew reauires that the system should have an effective range of at least 2km | C7: 8.3627744 | D7: 9 | F7: 9 | G7: 3 | P7: 3
B8: The tank crew requires that the munition should be easy to handle (Rate of fire 3 rpm) | C8: 5.2455708 | F8: 3 | M8: 9 | N8: 9
B9: The tank crew require that the round should have easy training characteristics. | C9: 4.6751199 | H9: 9 | N9: 9 | O9: 9
B10: The tank Crew requires that the round should be light weight (Target TBC) | C10: 2.8325894 | M10: 9 | N10: 9
B11: Logistics, Main Customer and tank crew require that the round should be IM compliant. | C11: 2.0993296 | D11: 9 | G11: 9 | K11: 9
B12: Logistics, Main Customer and the tank crew require the round to be Resistant to environmental conditions (TBC) | C12: 5.7489265 | D12: 9 | F12: 3 | K12: 9 | M12: 9 | N12: 9
B13: Logistics, Main Customer and tank crew require that the round only Functions when operationally required. (Details TBD) | C13: 6.7527979 | D13: 3 | E13: 9 | H13: 9 | J13: 3 | M13: 9 | N13: 9
B14: The main customer requires that the round should be avaialble in suitable quantity for forthcoming operations (TBD) | C14: 5.582428
B15: The main customer requires the munition to be cost effective (Target UPC TBD) | C15: 2.4385526
B16: The main customer requires a minimum development time. (TBD) | C16: 2.2500057
B17: The main customer requires high reliability (rel and conf TBD) | C17: 4.8685752 | D17: 9 | E17: 9 | F17: 9 | G17: 9 | K17: 9 | M17: 3 | N17: 9
B18: The main customer requires that the munition has a fast production cycle (Delivery rate TBD) | C18: 1.2809852 | D18: 9 | G18: 9
B19: The main customer requires the munition to have a long service life (10 years) | C19: 3.4445471 | D19: 9 | G19: 1
B20: The main customer requires the munition to be interoperable (TBD) | C20: 3.9082076 | M20: 9 | N20: 9 | O20: 9
B21: Logistics require the munition to be transportable in bulk (Palletised load TBD) | C21: 3.9963971
B22: Logistics requires that the munition copes with the required temperature range (MTDS TBD) | C22: 4.1837491 | D22: 9 | G22: 9 | H22: 3 | L22: 3
B23: Logistics require that the munition copes with the service vibration. (MTDS TBD) | C23: 5.1507993 | H23: 3 | M23: 9 | N23: 9
C24: 5
D25: =SUMPRODUCT($C$3:$C$24,D3:D24) -> 534.76618 | E25: =SUMPRODUCT($C$3:$C$24,E3:E24) -> 262.6897 | F25: =SUMPRODUCT($C$3:$C$24,F3:F24) -> 291.27521 | G25: =SUMPRODUCT($C$3:$C$24,G3:G24) -> 298.52396 | H25: =SUMPRODUCT($C$3:$C$24,H3:H24) -> 155.08863 | I25: =SUMPRODUCT($C$3:$C$24,I3:I24) -> 72.701168 | J25: =SUMPRODUCT($C$3:$C$24,J3:J24) -> 92.959562 | K25: =SUMPRODUCT($C$3:$C$24,K3:K24) -> 301.38564 | ... P25: =SUMPRODUCT($C$3:$C$24,P3:P24) -> 61.63162
B27: Target
B28: Benchmark
B29: Ideal Value
B30: How Much??? Derive target values for each function. This will determine how well the existing design performs and how well our modified version will perform

Sheet Design QFD 1 (2)
B2: How | C2: Importance | D2: Provide motive force | E2: Regulate motive force | F2: Seal System Pressure | G2: Remove heat from system | H2: transport motive force provider | I2: Align initiating system | J2: Support fins | K2: Stabilise Projectile | L2: Stabilise internal ballistic condition | M2: Deliver terminal effect | N2: Support booster | O2: Arm Munition | P2: Initiate effect | Q2: Defeat target | R2: Initiate booster | S2: Sequence lethal Effect | T2: Identify round | U2: environmental seal explosive | V2: Support explosive | W2: Support fuze | X2: track to target | Y2: Initiate motive force provider. | Z2: Clear Lanucher | AA2: Load Munition | AB2: Aim Weapon
B3: Requirements | AD3: Add requirements detail and definition in here.
B4: The Tank crew requires that the munition system shall destroy the specified target (Details TBC) | C4: 8.0779076 | D4: 9 | E4: 3 | F4: 3 | G4: 1 | H4: 3 | I4: 1 | J4: 1 | K4: 3 | L4: 1 | M4: 9 | N4: 1 | O4: 3 | P4: 9 | Q4: 9 | R4: 9 | S4: 9 | T4: 9 | U4: 1 | V4: 1 | W4: 1 | X4: 1 | Y4: 9 | AB4: 9
B5: The Tank Crew requires that the system shall have consistent performance (Details TBC) | C5: 9.4884633 | D5: 9 | E5: 9 | F5: 9 | I5: 3 | J5: 3 | K5: 3 | L5: 3 | P5: 9 | Q5: 9 | R5: 9 | S5: 9 | U5: 9 | V5: 3 | W5: 1 | Y5: 9
B6: The Tank Crew requires that the systems shall be accurate. (Dispersion at range TBC) | C6: 9.6122737 | D6: 9 | E6: 9 | F6: 9 | J6: 9 | K6: 9 | L6: 9 | M6: 9 | Q6: 3 | Y6: 9
B7: The Tank Crew reauires that the system should have an effective range of at least 2km | C7: 8.3627744 | D7: 9 | E7: 9 | F7: 9 | J7: 9 | K7: 9 | Y7: 9
B8: The tank crew requires that the munition should be easy to handle (Rate of fire 3 rpm) | C8: 5.2455708 | J8: 9 | K8: 3 | N8: 1 | W8: 1 | Z8: 9 | AA8: 9
B9: The tank crew require that the round should have easy training characteristics. | C9: 4.6751199 | J9: 3 | M9: 9 | O9: 9 | V9: 3 | W9: 3 | X9: 9 | AA9: 9 | AB9: 9
B10: The tank Crew requires that the round should be light weight (Target TBC) | C10: 2.8325894 | H10: 3 | Z10: 9 | AA10: 9
B11: Logistics, Main Customer and tank crew require that the round should be IM compliant. | C11: 2.0993296 | D11: 9 | E11: 9 | G11: 3 | I11: 3 | Q11: 9 | S11: 9
B12: Logistics, Main Customer and the tank crew require the round to be Resistant to environmental conditions (TBC) | C12: 5.7489265 | D12: 9 | F12: 9 | H12: 3 | J12: 3 | K12: 3 | Q12: 9 | V12: 9 | W12: 9 | Z12: 9 | AA12: 9
B13: Logistics, Main Customer and tank crew require that the round only Functions when operationally required. (Details TBD) | C13: 6.7527979 | D13: 3 | E13: 3 | I13: 9 | M13: 9 | N13: 3 | O13: 9 | P13: 9 | T13: 3 | V13: 3 | W13: 9 | Y13: 9 | Z13: 9 | AA13: 9
B14: The main customer requires that the round should be avaialble in suitable quantity for forthcoming operations (TBD) | C14: 5.582428
B15: The main customer requires the munition to be cost effective (Target UPC TBD) | C15: 2.4385526
B16: The main customer requires a minimum development time. (TBD) | C16: 2.2500057
B17: The main customer requires high reliability (rel and conf TBD) | C17: 4.8685752 | D17: 9 | E17: 9 | F17: 9 | G17: 3 | H17: 1 | I17: 9 | J17: 9 | K17: 9 | L17: 1 | P17: 9 | Q17: 9 | R17: 3 | S17: 9 | U17: 9 | V17: 3 | W17: 3 | Y17: 9 | Z17: 3 | AA17: 9
B18: The main customer requires that the munition has a fast production cycle (Delivery rate TBD) | C18: 1.2809852 | D18: 9 | E18: 9 | M18: 9
B19: The main customer requires the munition to have a long service life (10 years) | C19: 3.4445471 | D19: 9 | M19: 9
B20: The main customer requires the munition to be interoperable (TBD) | C20: 3.9082076 | D20: 9 | E20: 9 | J20: 9 | L20: 9 | Z20: 9 | AA20: 9 | AB20: 9
B21: Logistics require the munition to be transportable in bulk (Palletised load TBD) | C21: 3.9963971
B22: Logistics requires that the munition copes with the required temperature range (MTDS TBD) | C22: 4.1837491 | D22: 9 | E22: 9 | M22: 9 | O22: 3 | Y22: 9
B23: Logistics require that the munition copes with the service vibration. (MTDS TBD) | C23: 5.1507993 | D23: 9 | E23: 9 | J23: 9 | O23: 3 | V23: 9 | W23: 9 | Y23: 3 | Z23: 9 | AA23: 9
D24: =SUMPRODUCT($C$3:$C$23,D3:D23) -> 616.29724 | E24: =SUMPRODUCT($C$3:$C$23,E3:E23) -> 485.08853 | F24: =SUMPRODUCT($C$3:$C$23,F3:F23) -> 366.96284 | G24: =SUMPRODUCT($C$3:$C$23,G3:G23) -> 28.981622 | H24: =SUMPRODUCT($C$3:$C$23,H3:H23) -> 54.846846 | I24: =SUMPRODUCT($C$3:$C$23,I3:I23) -> 147.43364 | J24: =SUMPRODUCT($C$3:$C$23,J3:J23) -> 402.14925 | K24: =SUMPRODUCT($C$3:$C$23,K3:K23) -> 291.27521 | ... AC24: =SUMPRODUCT($C$3:$C$23,AC3:AC23) -> 0
B26: Target
B27: Benchmark
B28: Ideal Value
B29: How Much??? Derive target values for each function. This will determine how well the existing design performs and how well our modified version will perform

Sheet Function Means Analysis
A1: ACTIVITY SUMMARY
B2: Function | C2: Means
A3: From Functional Decomposition | B3: Provide motive force | C3: Stick propellant | D3: Granular propellant | E3: EMF | F3: Liquid propellant | G3: Bungee
B4: Regulate motive force | C4: Formulation | D4: Geometry | E4: Voltage | F4: Tension
B5: Seal System Pressure | C5: Case obturation | D5: Gun obturation | E5: Drving band | F5: Sealing ring | G5: Rear obturator
B6: Remove heat from system | C6: Brass cart case | D6: Aluminium Cart case | E6: Cooling jacket | F6: Fume extractor | G6: Steel Cart Case
B7: transport motive force provider | C7: Brass Cart Case | D7: Steel Cart Case
B8: Align initiating system | C8: Screw fit | D8: Bayonet fit | E8: Poke yoke | F8: Centralised components | G8: ALM
B9: Support fins | C9: Glue | D9: Threads | E9: Bayonet fit
B10: Stabilise Projectile | C10: 4 Fins | D10: Spin | E10: 6 fin | F10: Flip out fins | G10: Vected thrust | U10: both green and blue
B11: Stabilise internal ballistic condition | C11: Obturator | D11: Borroulet | E11: Wheelbsae control | F11: None | U11: both blue and orange
B12: Deliver terminal effect | C12: Melt Cast HE | D12: Cast Cure HE | E12: Pressed filling | F12: Notched wire | G12: Pre formed fragments | H12: use shell case for fragments | I12: Steel Case | J12: Compositie case | U12: both green and orange
B13: Support booster | C13: Cast cavity | D13: Cut cavity | E13: Cardboard liner | F13: Aluminium liner | U13: green, blue and orange
B14: Arm Munition | C14: Setback | D14: Spin | E14: Frangible Ampule | F14: Electrical | G14: Mechanical | H14: G- latch
B15: Initiate effect | C15: Electrical | D15: Mechanical | E15: Man power!
B16: Detect target | C16: IR | D16: Radar | E16: Mk1 Eyeball | F16: Use platform system | G16: Inbuitl homing device | H16: FAF | I16: CLOS
B17: Initiate booster | C17: Electrical | D17: Mechanical
B18: Sequence lethal Effect | C18: Electrical | D18: Mechanical
B19: Identify round | C19: Paint | D19: Stencil | E19: Engraving | F19: Braille | G19: Shape
B20: defeat target | C20: Blast | D20: Frag | E20: KE
B21: environmental seal explosive | C21: Thread lock | D21: Luting | E21: Adhesive | F21: O Seal | G21: Lip Seal
B22: Support explosive | C22: Rubber liner | D22: Shell Body
B23: Support fuze | C23: Common thread | D23: Adhesesive | E23: Luting | F23: Bayonet
B24: track to target | C24: Tracer | D24: FAF | E24: Wire guidance
B25: Initiate motive force provider. | C25: GP | D25: Base primer | E25: Central Primer | F25: GP/NC mix
B26: Clear Lanucher | C26: Recoil | D26: Autoload | E26: Manual | F26: Spring | G26: Mechanical
B27: Load Munition | C27: Autoload | D27: Manual
B28: Aim Weapon | C28: System | D28: FAF | E28: CLOS

Sheet Funtional Metrics
A1: ACTIVITY SUMMARY
B2: Function:- (Insert Specific function here) Test method and relationship to requirements | C2: Importance | D2: Initiate motive force provider. | F2: Firing Interval | G2: Differential Pressure | H2: Gap Distance | I2: Environmental sequence
B3: Requirements | AF3: Add requirements detail and definition in here.
B4: The Tank crew requires that the munition system shall destroy the specified target (Details TBC) | C4: 5 | D4: 9 | F4: 9 | G4: 9 | H4: 3
B5: The Tank Crew requires that the system shall have consistent performance (Details TBC) | C5: 5 | D5: 9 | F5: 9 | G5: 3 | H5: 1 | I5: 9
B6: The Tank Crew requires that the systems shall be accurate. (Dispersion at range TBC) | C6: 5 | D6: 9 | F6: 1 | G6: 9 | H6: 3 | I6: 3
B7: The Tank Crew requires that the system should have an effective range of at least 2km | C7: 5 | D7: 9 | G7: 9 | I7: 3
B8: The tank crew requires that the munition should be easy to handle (Rate of fire 3 rpm) | C8: 5
B9: The tank crew require that the round should have easy training characteristics. | C9: 5
B10: The tank Crew requires that the round should be light weight (Target TBC) | C10: 5
B11: Logistics, Main Customer and tank crew require that the round should be IM compliant. | C11: 5
B12: Logistics, Main Customer and the tank crew require the round to be Resistant to environmental conditions (TBC) | C12: 5
B13: Logistics, Main Customer and tank crew require that the round only Functions when operationally required. (Details TBD) | C13: 5 | D13: 9 | F13: 9 | H13: 9 | I13: 9
B14: The main customer requires that the round should be available in suitable quantity for forthcoming operations (TBD) | C14: 5
B15: The main customer requires the munition to be cost effective (Target UPC TBD) | C15: 5
B16: The main customer requires a minimum development time. (TBD) | C16: 5
B17: The main customer requires high reliability (rel and conf TBD) | C17: 5 | D17: 9 | F17: 9 | G17: 9 | H17: 9 | I17: 9
B18: The main customer requires that the munition has a fast production cycle (Delivery rate TBD) | C18: 5
B19: The main customer requires the munition to have a long service life (10 years) | C19: 5
B20: The main customer requires the munition to be interoperable (TBD) | C20: 5
B21: Logistics require the munition to be transportable in bulk (Palletised load TBD) | C21: 5
B22: Logistics requires that the munition copes with the required temperature range (MTDS TBD) | C22: 5 | D22: 9 | I22: 9
B23: Logistics require that the munition copes with the service vibration. (MTDS TBD) | C23: 5 | D23: 3 | I23: 9
C24: 5
C25: 5
C26: 5
C27: 5
C28: 5
C29: 5
C30: 5
C31: 5
C32: 5
C33: 5
C34: 5
C35: 5
... C49: 5
D50: =SUMPRODUCT($C$3:$C$49,D3:D49) -> 330 | E50: =SUMPRODUCT($C$3:$C$49,E3:E49) -> 0 | F50: =SUMPRODUCT($C$3:$C$49,F3:F49) -> 185 | G50: =SUMPRODUCT($C$3:$C$49,G3:G49) -> 195 | H50: =SUMPRODUCT($C$3:$C$49,H3:H49) -> 125 | I50: =SUMPRODUCT($C$3:$C$49,I3:I49) -> 255 | J50: =SUMPRODUCT($C$3:$C$49,J3:J49) -> 0 | K50: =SUMPRODUCT($C$3:$C$49,K3:K49) -> 0 | ... Z50: =SUMPRODUCT($C$3:$C$49,Z3:Z49) -> 0 | AD50: =SUMPRODUCT($C$3:$C$49,AD3:AD49) -> 0 | AE50: =SUMPRODUCT($C$3:$C$49,AE3:AE49) -> 0
B52: Target
B53: Benchmark
B54: Ideal Value
B55: How Much??? Derive target values for each function. This will determine how well the existing design performs and how well our modified version will perform

Sheet  System Pugh
A1: ACTIVITY SUMMARY
B4: ="Project Name: "&'[1]Design Book Title'!C10 -> Project Name: HESH Example for course
D6: Relative Importance Equal | E6: Relative importance Weighted | F6: Hesh | G6: FS Blast | H6: FS Blast and Frag | I6: Smart FS Blast
B7: WHATs - Customer Requirements | C7: How much:- From QFD 1
B8: The Tank crew requires that the munition system shall destroy the specified target (Details TBC) | D8: 8.0779076 | E8: 5 | F8: 0 | G8: 1 | H8: 2 | I8: 1
B9: The Tank Crew requires that the system shall have consistent performance (Details TBC) | D9: 9.4884633 | E9: 5 | F9: 0 | G9: 0 | H9: 0 | I9: 1
B10: The Tank Crew requires that the systems shall be accurate. (Dispersion at range TBC) | D10: 9.6122737 | E10: 5 | F10: 0 | G10: 1 | H10: 1 | I10: 2
B11: The Tank Crew reauires that the system should have an effective range of at least 2km | D11: 8.3627744 | E11: 5 | F11: 0 | G11: 0 | H11: 0 | I11: 0
B12: The tank crew requires that the munition should be easy to handle (Rate of fire 3 rpm) | D12: 5.2455708 | E12: 5 | F12: 0 | G12: -1 | H12: -1 | I12: -2
B13: The tank crew require that the round should have easy training characteristics. | D13: 4.6751199 | E13: 5 | F13: 0 | G13: 0 | H13: 0 | I13: -1
B14: The tank Crew requires that the round should be light weight (Target TBC) | D14: 2.8325894 | E14: 5 | F14: 0 | G14: 0 | H14: 0 | I14: 0
B15: Logistics, Main Customer and tank crew require that the round should be IM compliant. | D15: 2.0993296 | E15: 5 | F15: 0 | G15: 1 | H15: 1 | I15: 1
B16: Logistics, Main Customer and the tank crew require the round to be Resistant to environmental conditions (TBC) | D16: 5.7489265 | E16: 5 | F16: 0 | G16: 0 | H16: 0 | I16: 0
B17: Logistics, Main Customer and tank crew require that the round only Functions when operationally required. (Details TBD) | D17: 6.7527979 | E17: 5 | F17: 0 | G17: 0 | H17: 0 | I17: 0
B18: The main customer requires that the round should be avaialble in suitable quantity for forthcoming operations (TBD) | D18: 5.582428 | E18: 5 | F18: 0 | G18: 0 | H18: 0 | I18: -1
B19: The main customer requires the munition to be cost effective (Target UPC TBD) | D19: 2.4385526 | E19: 5 | F19: 0 | G19: 2 | H19: 2 | I19: -1
... B27: Logistics require that the munition copes with the service vibration. (MTDS TBD) | D27: 5.1507993 | E27: 5 | F27: 0 | G27: 0 | H27: 0 | I27: -1
F30: =SUMPRODUCT($D$8:$D$28,F8:F28) -> 0 | G30: =SUMPRODUCT($D$8:$D$28,G8:G28) -> 26.861989 | H30: =SUMPRODUCT($D$8:$D$28,H8:H28) -> 34.939897 | I30: =SUMPRODUCT($D$8:$D$28,I8:I28) -> 6.4693656
F31: =SUMPRODUCT($E$8:$E$28,F8:F28) -> 0 | G31: =SUMPRODUCT($E$8:$E$28,G8:G28) -> 30 | H31: =SUMPRODUCT($E$8:$E$28,H8:H28) -> 35 | I31: =SUMPRODUCT($E$8:$E$28,I8:I28) -> -15
B32: Ranking | D32: 100 | F32: =+F30-F31 -> 0 | G32: =+G30-G31 -> -3.1380105 | H32: =+H30-H31 -> -0.060102961 | I32: =+I30-I31 -> 21.469366
BC47: 0 | BG47: 0 | BK47: 0 | BO47: 0 | BS47: 0
BC51: 0 | BG51: 0 | BK51: 0 | BO51: 0 | BS51: 0

Sheet Design QFD 2
A1: ACTIVITY SUMMARY
B2: Design feature | C2: Importance | E2: Importance | F2: Propellant | G2: 7 hole granular | H2: Cart case | I2: Fin unit | J2: Obturator | K2: Burrelet | L2: HE | M2: Shutter | N2: Detonator | O2: Fuze Seeker | P2: Fuze Energetic | Q2: Green yellow markings | R2: Explosive booster | S2: Notched Wire | T2: Body | U2: Tracer | V2: Cap percussion
B3: Functionality | AB3: Functionality Detail
B4: Provide motive force | C4: =VALUE('Design QFD 1 (2)'!$D$24) -> 616.29724 | D4: 10 | E4: =+C4/D4 -> 61.629724 | F4: 9 | G4: 9 | I4: 3 | J4: 9 | K4: 3 | L4: 3 | O4: 3 | P4: 3 | R4: 3 | T4: 3 | U4: 3
B5: Regulate motive force | C5: =VALUE('Design QFD 1 (2)'!$E$24) -> 485.08853 | D5: 10 | E5: =+C5/D5 -> 48.508853 | F5: 9 | G5: 9 | H5: 3 | I5: 3 | J5: 9 | K5: 3 | L5: 3 | O5: 3 | P5: 3 | R5: 3 | T5: 3 | U5: 3 | V5: 1
B6: Seal System Pressure | C6: =VALUE('Design QFD 1 (2)'!$F$24) -> 366.96284 | D6: 10 | E6: =+C6/D6 -> 36.696284 | G6: 3 | H6: 9 | J6: 9 | K6: 3
B7: Remove heat from system | C7: =VALUE('Design QFD 1 (2)'!$G$24) -> 28.981622 | D7: 10 | E7: =+C7/D7 -> 2.8981622 | H7: 9 | I7: 1 | T7: 1
B8: transport motive force provider | C8: =VALUE('Design QFD 1 (2)'!$H$24) -> 54.846846 | D8: 10 | E8: =+C8/D8 -> 5.4846846 | H8: 9 | I8: 3
B9: Align initiating system | C9: =VALUE('Design QFD 1 (2)'!$I$24) -> 147.43364 | D9: 10 | E9: =+C9/D9 -> 14.743364 | H9: 9 | T9: 9 | V9: 9
B10: Support fins | C10: =VALUE('Design QFD 1 (2)'!$J$24) -> 402.14925 | D10: 10 | E10: =+C10/D10 -> 40.214925 | H10: 9 | I10: 9 | T10: 9
B11: Stabilise Projectile | C11: =VALUE('Design QFD 1 (2)'!$K$24) -> 291.27521 | D11: 10 | E11: =+C11/D11 -> 29.127521 | I11: 9 | J11: 9 | K11: 9 | T11: 9
B12: Stabilise internal ballistic condition | C12: =VALUE('Design QFD 1 (2)'!$L$24) -> 163.0962 | D12: 10 | E12: =+C12/D12 -> 16.30962 | F12: 3 | G12: 9 | H12: 3 | J12: 9 | K12: 9 | T12: 3 | U12: 1
B13: Deliver terminal effect | C13: =VALUE('Design QFD 1 (2)'!$M$24) -> 342.24643 | D13: 10 | E13: =+C13/D13 -> 34.224643 | L13: 9 | N13: 9 | P13: 9 | S13: 9 | T13: 3
B14: Support booster | C14: =VALUE('Design QFD 1 (2)'!$N$24) -> 33.581872 | D14: 10 | E14: =+C14/D14 -> 3.3581872 | L14: 9 | P14: 3 | T14: 3
B15: Arm Munition | C15: =VALUE('Design QFD 1 (2)'!$O$24) -> 155.08863 | D15: 10 | E15: =+C15/D15 -> 15.508863 | M15: 9 | N15: 3 | P15: 9
B16: Initiate effect | C16: =VALUE('Design QFD 1 (2)'!$P$24) -> 262.6897 | D16: 10 | E16: =+C16/D16 -> 26.26897 | I16: 3 | N16: 9 | P16: 9 | R16: 9 | T16: 3
B17: defeat target | C17: =VALUE('Design QFD 1 (2)'!$Q$24) -> 301.38564 | D17: 10 | E17: =+C17/D17 -> 30.138564 | I17: 3 | L17: 9 | N17: 9 | O17: 3 | P17: 9 | R17: 9 | S17: 9 | T17: 9
B18: Initiate booster | C18: =VALUE('Design QFD 1 (2)'!$R$24) -> 172.70306 | D18: 10 | E18: =+C18/D18 -> 17.270306 | N18: 9 | P18: 9 | R18: 9
B19: Sequence lethal Effect | C19: =VALUE('Design QFD 1 (2)'!$S$24) -> 220.80848 | D19: 10 | E19: =+C19/D19 -> 22.080848 | N19: 9 | O19: 9 | P19: 9 | R19: 9
B20: Identify round | C20: =VALUE('Design QFD 1 (2)'!$T$24) -> 92.959562 | D20: 10 | E20: =+C20/D20 -> 9.2959562 | H20: 9 | Q20: 9 | T20: 9
B21: environmental seal explosive | C21: =VALUE('Design QFD 1 (2)'!$V$24) -> 183.53031 | D21: 10 | E21: =+C21/D21 -> 18.353031 | I21: 9 | P21: 1 | R21: 9 | S21: 9 | T21: 9
B22: Support explosive | C22: =VALUE('Design QFD 1 (2)'!$W$24) -> 210.31574 | D22: 10 | E22: =+C22/D22 -> 21.031574 | I22: 3 | P22: 3 | R22: 9 | S22: 9 | T22: 9
B23: Support fuze | C23: =VALUE('Design QFD 1 (2)'!$X$24) -> 50.153987 | D23: 10 | E23: =+C23/D23 -> 5.0153987 | R23: 3 | S23: 3 | T23: 9
B24: track to target | C24: =VALUE('Design QFD 1 (2)'!$Y$24) -> 477.57127 | D24: 10 | E24: =+C24/D24 -> 47.757127 | I24: 3 | U24: 9
B25: Initiate motive force provider. | C25: =VALUE('Design QFD 1 (2)'!$Z$24) -> 281.35575 | D25: 10 | E25: =+C25/D25 -> 28.135575 | H25: 9 | V25: 9
B26: Clear Lanucher | C26: =VALUE('Design QFD 1 (2)'!$AA$24) -> 352.64328 | D26: 10 | E26: =+C26/D26 -> 35.264328 | H26: 9 | J26: 1 | K26: 1 | T26: 3 | V26: 3
B27: Load Munition | C27: =VALUE('Design QFD 1 (2)'!$AB$24) -> 149.95112 | D27: 10 | E27: =+C27/D27 -> 14.995112 | H27: 9 | J27: 9 | K27: 9 | T27: 9
B28: Aim Weapon | C28: =VALUE('Design QFD 1 (2)'!$AC$24) -> 0 | D28: 10 | E28: =+C28/D28 -> 0 | F28: 3 | I28: 3 | T28: 3
F29: =SUMPRODUCT($E$3:$E$28,F3:F28) -> 1040.1761 | G29: =SUMPRODUCT($E$3:$E$28,G3:G28) -> 1248.1226 | H29: =SUMPRODUCT($E$3:$E$28,H3:H28) -> 1884.0109 | I29: =SUMPRODUCT($E$3:$E$28,I3:I28) -> 1514.6159 | J29: =SUMPRODUCT($E$3:$E$28,J3:J28) -> 1900.6684 | K29: =SUMPRODUCT($E$3:$E$28,K3:K28) -> 1019.6592 | L29: =SUMPRODUCT($E$3:$E$28,L3:L28) -> 939.90828 | M29: =SUMPRODUCT($E$3:$E$28,M3:M28) -> 139.57977 | ... AA29: =SUMPRODUCT($E$3:$E$28,AA3:AA28) -> 0
B31: Target
B32: Benchmark
B33: Ideal Value
B34: How Much???

Sheet Prime P Diagram (Given)
A1: ACTIVITY SUMMARY
A2: P-Diagram
A3: Author: | E3: Noise Factors | G3: External | L3: Noise Factors | N3: Unit to unit | P3: Noise Factor | R3: Deterioration
A4: Date: | E4: Barrel Temperature | L4: Dimensional Variation | P4: Barrel Wear
A5: Issue: 1 | E5: Differential Temperature | L5: Variation in fill Density | P5: Ageing of propellant
A6: System: | E6: Wind speed | L6: Material Variation | P6: Ageing of the initiation system
E7: Dust/ sand / grit / Salt | L7: Propellant vivacity | P7: Debris Build up
E8: Opposition mobility | L8: Case size variation | P8: Chamber wear
L9: Fin material variation
L10: Assembly misalignment
L11: Material property variation
L12: Propellant Dimensional Variation
B22: Signal factors | I22: Hesh Munition Direct Fire Defeat Target | Q22: Outputs Precision Accuracy
L31: Control Factors
L32: Length
L33: 120 dia
L34: Circular area Probable
L35: Frag pattern
L36: Upper and lower temperature
L37: Pressure Budget

Sheet Prime "What Why"
A1: ACTIVITY SUMMARY
G2: =VALUE('Design QFD 2'!#REF!) -> #REF!
A3: If insert rows/columns, copy formulae in purple cells.
M4: NOISE FACTORS | AC4: Relative Importance of noise in meeting performance via control factor
A5: Performance Characteristics | B5: Design control parameters | C5: Weighting | D5: Unit to Unit Variation | M5: Deterioration | T5: External
C6: of design | D6: Mfg | M6: Raw Mat'l | T6: Environment | Z6: Human | AB6: Total
C7: control parameter
D8: Manufacturing Variation | E8: Variation in fill Density | F8: Material Dimensional Variation | G8: Propellant vivacity | H8: Case size variation | I8: Fin material variation | J8: Assembly misalignment | K8: Propellant Dimensional Variation | L8: Material Property Variation | M8: Barrel Wear | N8: Ageing of propellant | O8: Ageing of the initiation system | P8: Debris Build up | Q8: Chamber wear | T8: Barrel Temperature | U8: Differential Temperature | V8: Wind speed | W8: Dust/ sand / grit / Salt | X8: Opposition mobility
B9: Length | C9: 1 | D9: 1 | F9: 1 | H9: 3 | J9: 3 | AB9: =SUM(D9:AA9) -> 8 | AC9: =+AB9*C9 -> 8
B10: 120 dia | C10: 3 | D10: 9 | F10: 3 | J10: 3 | AB10: =SUM(D10:AA10) -> 15 | AC10: =+AB10*C10 -> 45
B11: Circular area Probable | C11: 9 | G11: 9 | H11: 3 | I11: 9 | J11: 9 | K11: 9 | L11: 9 | M11: 9 | N11: 3 | O11: 3 | P11: 3 | Q11: 3 | T11: 3 | U11: 9 | V11: 3 | W11: 3 | X11: 9 | AB11: =SUM(D11:AA11) -> 96 | AC11: =+AB11*C11 -> 864
B12: Frag pattern | C12: 9 | D12: 9 | E12: 3 | F12: 3 | G12: 3 | I12: 3 | J12: 3 | L12: 9 | M12: 9 | N12: 1 | P12: 1 | Q12: 1 | T12: 1 | U12: 3 | W12: 1 | AB12: =SUM(D12:AA12) -> 50 | AC12: =+AB12*C12 -> 450
B13: Upper and lower temperature | C13: 3 | E13: 1 | F13: 1 | G13: 9 | H13: 3 | L13: 3 | O13: 9 | T13: 3 | W13: 3 | AB13: =SUM(D13:AA13) -> 32 | AC13: =+AB13*C13 -> 96
B14: Pressure Budget | C14: 9 | D14: 3 | E14: 1 | F14: 1 | G14: 3 | H14: 3 | J14: 3 | K14: 9 | L14: 3 | M14: 3 | N14: 9 | O14: 3 | P14: 3 | Q14: 3 | W14: 3 | AB14: =SUM(D14:AA14) -> 50 | AC14: =+AB14*C14 -> 450
C15: 5 | AB15: =SUM(D15:AA15) -> 0 | AC15: =+AB15*C15 -> 0
C16: 5 | AB16: =SUM(D16:AA16) -> 0 | AC16: =+AB16*C16 -> 0
C17: 5 | AB17: =SUM(D17:AA17) -> 0 | AC17: =+AB17*C17 -> 0
C18: 5 | AB18: =SUM(D18:AA18) -> 0 | AC18: =+AB18*C18 -> 0
B19: Relative importance of noise factor: | D19: =SUMPRODUCT($C9:$C18,D9:D18) -> 136 | E19: =SUMPRODUCT($C9:$C18,E9:E18) -> 39 | F19: =SUMPRODUCT($C9:$C18,F9:F18) -> 49 | G19: =SUMPRODUCT($C9:$C18,G9:G18) -> 162 | H19: =SUMPRODUCT($C9:$C18,H9:H18) -> 66 | I19: =SUMPRODUCT($C9:$C18,I9:I18) -> 108 | J19: =SUMPRODUCT($C9:$C18,J9:J18) -> 147 | K19: =SUMPRODUCT($C9:$C18,K9:K18) -> 162 | ... AA19: =SUMPRODUCT($C9:$C18,AA9:AA18) -> 0
B21: Team:
B22: Date completed:
C23: 100

Sheet P-Diagram 2 (Derived)
A1: ACTIVITY SUMMARY
A2: P-Diagram
A3: Author: | E3: Noise Factors | G3: External | L3: Noise Factors | N3: Unit to unit | P3: Noise Factor | R3: Deterioration
A4: Date: | E4: Barrel Temperature | L4: Dimensional Variation | P4: Barrel Wear
A5: Issue: 1 | E5: Differential Temperature | L5: Variation in fill Density | P5: Ageing of propellant
A6: System: | E6: Wind speed | L6: Material Variation | P6: Ageing of the initiation system
E7: Dust/ sand / grit / Salt | L7: Propellant vivacity | P7: Debris Build up
E8: Opposition mobility | L8: Case size variation | P8: Chamber wear
L9: Fin material variation
L10: Assembly misalignment
L11: Material property variation
L12: Propellant Dimensional Variation
B22: Signal factors | I22: Hesh Munition Direct Fire Defeat Target | Q22: Outputs Circular Area Probable
L31: Control Factors
L32: C g Location
L33: Aero Profile
L34: Precession
L35: Nutation
L36: Pressure Time curves
L37: MASS
L38: Obturation

Sheet What Why 2
A1: ACTIVITY SUMMARY
G2: =VALUE('Design QFD 2'!#REF!) -> #REF!
A3: If insert rows/columns, copy formulae in purple cells.
M4: NOISE FACTORS | AC4: Relative Importance of noise in meeting performance via control factor
A5: Performance Characteristics | B5: Design control parameters | C5: Weighting | D5: Unit to Unit Variation | M5: Deterioration | T5: External
C6: of design | D6: Mfg | M6: Raw Mat'l | T6: Environment | Z6: Human | AB6: Total
C7: control parameter
D8: Manufacturing Variation | E8: Variation in fill Density | F8: Material Dimensional Variation | G8: Propellant vivacity | H8: Case size variation | I8: Fin material variation | J8: Propellant Dimensional Variation | K8: Assembly misalignment | L8: Material Property Variation | M8: Barrel Wear | N8: Ageing of propellant | O8: Ageing of the initiation system | P8: Debris Build up | Q8: Chamber wear | T8: Barrel Temperature | U8: Differential Temperature | V8: Wind speed | W8: Dust/ sand / grit / Salt | X8: Opposition mobility
B9: C g Location | C9: 9 | D9: 3 | E9: 3 | F9: 3 | I9: 1 | L9: 1 | AB9: =SUM(D9:AA9) -> 11 | AC9: =+AB9*C9 -> 99
B10: Aero Profile | C10: 3 | D10: 3 | F10: 9 | V10: 3 | AB10: =SUM(D10:AA10) -> 15 | AC10: =+AB10*C10 -> 45
B11: Precession | C11: 9 | D11: 1 | E11: 1 | F11: 9 | G11: 3 | I11: 9 | J11: 3 | K11: 3 | P11: 1 | U11: 9 | AB11: =SUM(D11:AA11) -> 39 | AC11: =+AB11*C11 -> 351
B12: Nutation | C12: 9 | D12: 1 | E12: 1 | F12: 9 | G12: 3 | I12: 9 | K12: 3 | P12: 1 | U12: 9 | AB12: =SUM(D12:AA12) -> 36 | AC12: =+AB12*C12 -> 324
B13: Pressure Time curves | C13: 9 | D13: 3 | G13: 9 | H13: 3 | J13: 9 | M13: 9 | N13: 9 | O13: 3 | Q13: 3 | T13: 3 | AB13: =SUM(D13:AA13) -> 51 | AC13: =+AB13*C13 -> 459
B14: Mass | C14: 1 | D14: 3 | E14: 3 | F14: 1 | L14: 3 | AB14: =SUM(D14:AA14) -> 10 | AC14: =+AB14*C14 -> 10
B15: Obturation | C15: 3 | D15: 3 | F15: 3 | G15: 9 | H15: 9 | J15: 9 | K15: 3 | L15: 3 | M15: 9 | N15: 3 | P15: 3 | Q15: 9 | T15: 3 | U15: 1 | W15: 3 | AB15: =SUM(D15:AA15) -> 70 | AC15: =+AB15*C15 -> 210
C16: 0 | AB16: =SUM(D16:AA16) -> 0 | AC16: =+AB16*C16 -> 0
C17: 0 | AB17: =SUM(D17:AA17) -> 0 | AC17: =+AB17*C17 -> 0
C18: 0 | AB18: =SUM(D18:AA18) -> 0 | AC18: =+AB18*C18 -> 0
B19: Relative importance of noise factor: | D19: =SUMPRODUCT($C9:$C18,D9:D18) -> 93 | E19: =SUMPRODUCT($C9:$C18,E9:E18) -> 48 | F19: =SUMPRODUCT($C9:$C18,F9:F18) -> 226 | G19: =SUMPRODUCT($C9:$C18,G9:G18) -> 162 | H19: =SUMPRODUCT($C9:$C18,H9:H18) -> 54 | I19: =SUMPRODUCT($C9:$C18,I9:I18) -> 171 | J19: =SUMPRODUCT($C9:$C18,J9:J18) -> 135 | K19: =SUMPRODUCT($C9:$C18,K9:K18) -> 63 | ... AA19: =SUMPRODUCT($C9:$C18,AA9:AA18) -> 0
B21: Team:
B22: Date completed:
C23: 100

Sheet P-Diagram 3 (Target Defeat)
A1: ACTIVITY SUMMARY
A2: P-Diagram
A3: Author: | E3: Noise Factors | G3: External | L3: Noise Factors | N3: Unit to unit | P3: Noise Factor | R3: Deterioration
A4: Date: | E4: Temperature | L4: Shell Mtl | P4: Barrel wear
A5: Issue: 1 | E5: Humidity | L5: Shell dimension | P5: Ageing of Explosive
A6: System: | E6: Air density | L6: Frag aid Material | P6: Age of initiators
E7: opposition mobility | L7: Frag aid dimensions | P7: Deterioration in fuze components
E8: target variability | L8: Explosive batch to batch | P8: Internal corrosion
E9: Operator error fuze set | L9: Fill Variation
L10: Explosive train miss assembly
B22: Signal factors Prox PD Delay | I22: Hesh Munition Direct Fire Defeat Target | Q22: Defeat Target Fragmentation and Impact
L31: Control Factors
L32: Amount of Explosive
L33: Type of Explosive
L34: Fragment Size
L35: Strength of nose area
L36: Nose Geometry
L37: Nose material
L38: Fuze type
L39: Fuse energetics
L41: Frag Mass
L42: Polar Plot
L43: Velocity
... L45: Fuze Delay

Sheet what why 3 (Target Defeat)
A1: ACTIVITY SUMMARY
I2: =VALUE('Design QFD 2'!#REF!) -> #REF!
A3: If insert rows/columns, copy formulae in purple cells.
O4: NOISE FACTORS | AE4: Relative Importance of noise in meeting performance via control factor
A5: Performance Characteristics | B5: Design control parameters | E5: Weighting | F5: Unit to Unit Variation | O5: Deterioration | V5: External
E6: of design | F6: Mfg | O6: Raw Mat'l | V6: Environment | AB6: Human | AD6: Total
E7: control parameter
C8: Soft and Squidgy | D8: Soft Skin Vehicles | E8: Buildings | F8: Shell Mtl | G8: Shell dimension | H8: Frag aid Material | I8: Frag aid dimensions | J8: Explosive batch to batch | K8: Fill Variation | L8: Explosive train miss assembly | O8: Barrel wear | P8: Ageing of Explosive | Q8: Age of initiators | R8: Deterioration in fuze components | S8: Internal corrosion | V8: Temperature | W8: Humidity | X8: Air density | Y8: opposition mobility | Z8: target variability | AA8: Operator error fuze set
B9: Frag Mass | C9: 9 | D9: 9 | E9: 3 | F9: 3 | G9: 1 | H9: 3 | I9: 9 | J9: 3 | K9: 3 | P9: 3 | S9: 3 | V9: 1 | Z9: 9 | AD9: =SUM(F9:AC9) -> 38 | AE9: =+AD9*E9 -> 114
B10: Polar Plot | C10: 9 | D10: 3 | E10: 1 | F10: 9 | G10: 3 | H10: 9 | I10: 9 | J10: 3 | K10: 3 | O10: 1 | P10: 3 | S10: 3 | AA10: 9 | AD10: =SUM(F10:AC10) -> 52 | AE10: =+AD10*E10 -> 52
B11: Velocity | C11: 9 | D11: 3 | E11: 1 | F11: 1 | I11: 3 | J11: 1 | K11: 1 | P11: 1 | V11: 1 | Z11: 9 | AD11: =SUM(F11:AC11) -> 17 | AE11: =+AD11*E11 -> 17
B12: Impact Energy | C12: 1 | D12: 3 | E12: 9 | V12: 3 | X12: 3 | Z12: 9 | AD12: =SUM(F12:AC12) -> 15 | AE12: =+AD12*E12 -> 135
B13: Fuze Delay | C13: 9 | D13: 3 | E13: 9 | L13: 3 | Q13: 9 | R13: 9 | S13: 3 | X13: 3 | Z13: 9 | AA13: 9 | AD13: =SUM(F13:AC13) -> 45 | AE13: =+AD13*E13 -> 405
AD14: =SUM(F14:AC14) -> 0 | AE14: =+AD14*E14 -> 0
AD15: =SUM(F15:AC15) -> 0 | AE15: =+AD15*E15 -> 0
AD16: =SUM(F16:AC16) -> 0 | AE16: =+AD16*E16 -> 0
AD17: =SUM(F17:AC17) -> 0 | AE17: =+AD17*E17 -> 0
AD18: =SUM(F18:AC18) -> 0 | AE18: =+AD18*E18 -> 0
B19: Relative importance of noise factor: | F19: =SUMPRODUCT($E9:$E18,F9:F18) -> 19 | G19: =SUMPRODUCT($E9:$E18,G9:G18) -> 6 | H19: =SUMPRODUCT($E9:$E18,H9:H18) -> 18 | I19: =SUMPRODUCT($E9:$E18,I9:I18) -> 39 | J19: =SUMPRODUCT($E9:$E18,J9:J18) -> 13 | K19: =SUMPRODUCT($E9:$E18,K9:K18) -> 13 | L19: =SUMPRODUCT($E9:$E18,L9:L18) -> 27 | M19: =SUMPRODUCT($E9:$E18,M9:M18) -> 0 | ... AC19: =SUMPRODUCT($E9:$E18,AC9:AC18) -> 0
B21: Team:
B22: Date completed:
E23: 100

Sheet What Why 3.1 (Building)
A1: ACTIVITY SUMMARY
G2: =VALUE('Design QFD 2'!#REF!) -> #REF!
A3: If insert rows/columns, copy formulae in purple cells.
M4: NOISE FACTORS | AC4: Relative Importance of noise in meeting performance via control factor
A5: Performance Characteristics | B5: Design control parameters | C5: Weighting | D5: Unit to Unit Variation | M5: Deterioration | T5: External
C6: of design | D6: Mfg | M6: Raw Mat'l | T6: Environment | Z6: Human | AB6: Total
C7: control parameter
D8: Shell Mtl | E8: Shell dimension | F8: Frag aid Material | G8: Frag aid dimensions | H8: Explosive batch to batch | I8: Fill Variation | J8: Explosive train miss assembly | M8: Barrel wear | N8: Ageing of Explosive | O8: Age of initiators | P8: Deterioration in fuze components | Q8: Internal corrosion | T8: Temperature | U8: Humidity | V8: Air density | W8: opposition mobility | X8: target variability | Y8: Operator error fuze set
B9: Amount of Explosive | C9: 1 | H9: 1 | I9: 3 | O9: 3 | X9: 3 | AB9: =SUM(D9:AA9) -> 10 | AC9: =+AB9*C9 -> 10
B10: Type of Explosive | C10: 9 | H10: 9 | N10: 9 | O10: 3 | X10: 9 | AB10: =SUM(D10:AA10) -> 30 | AC10: =+AB10*C10 -> 270
B11: Fragment Size | C11: 3 | D11: 3 | F11: 9 | G11: 9 | H11: 3 | I11: 3 | J11: 3 | N11: 3 | Q11: 3 | X11: 9 | AB11: =SUM(D11:AA11) -> 45 | AC11: =+AB11*C11 -> 135
B12: Strength of nose area | C12: 9 | D12: 9 | E12: 9 | X12: 9 | AB12: =SUM(D12:AA12) -> 27 | AC12: =+AB12*C12 -> 243
B13: Nose Geometry | C13: 9 | D13: 3 | X13: 3 | AB13: =SUM(D13:AA13) -> 6 | AC13: =+AB13*C13 -> 54
B14: Nose material | C14: 9 | D14: 9 | X14: 3 | AB14: =SUM(D14:AA14) -> 12 | AC14: =+AB14*C14 -> 108
B15: Fuze type | C15: 9 | I15: 1 | P15: 3 | X15: 9 | Y15: 3 | AB15: =SUM(D15:AA15) -> 16 | AC15: =+AB15*C15 -> 144
B16: Fuze energetics | C16: 9 | I16: 1 | N16: 3 | O16: 9 | P16: 3 | X16: 3 | Y16: 3 | AB16: =SUM(D16:AA16) -> 22 | AC16: =+AB16*C16 -> 198
AB17: =SUM(D17:AA17) -> 0 | AC17: =+AB17*C17 -> 0
AB18: =SUM(D18:AA18) -> 0 | AC18: =+AB18*C18 -> 0
B19: Relative importance of noise factor: | D19: =SUMPRODUCT($C9:$C18,D9:D18) -> 198 | E19: =SUMPRODUCT($C9:$C18,E9:E18) -> 81 | F19: =SUMPRODUCT($C9:$C18,F9:F18) -> 27 | G19: =SUMPRODUCT($C9:$C18,G9:G18) -> 27 | H19: =SUMPRODUCT($C9:$C18,H9:H18) -> 91 | I19: =SUMPRODUCT($C9:$C18,I9:I18) -> 30 | J19: =SUMPRODUCT($C9:$C18,J9:J18) -> 9 | K19: =SUMPRODUCT($C9:$C18,K9:K18) -> 0 | ... AA19: =SUMPRODUCT($C9:$C18,AA9:AA18) -> 0
B21: Team:
B22: Date completed:
C23: 100

Sheet What Why 3.2 (Human)
A1: ACTIVITY SUMMARY
G2: =VALUE('Design QFD 2'!#REF!) -> #REF!
A3: If insert rows/columns, copy formulae in purple cells.
M4: NOISE FACTORS | AC4: Relative Importance of noise in meeting performance via control factor
A5: Performance Characteristics | B5: Design control parameters | C5: Weighting | D5: Unit to Unit Variation | M5: Deterioration | T5: External
C6: of design | D6: Mfg | M6: Raw Mat'l | T6: Environment | Z6: Human | AB6: Total
C7: control parameter
D8: Shell Mtl | E8: Shell dimension | F8: Frag aid Material | G8: Frag aid dimensions | H8: Explosive batch to batch | I8: Fill Variation | J8: Explosive train miss assembly | M8: Barrel wear | N8: Ageing of Explosive | O8: Age of initiators | P8: Deterioration in fuze components | Q8: Internal corrosion | T8: Temperature | U8: Humidity | V8: Air density | W8: opposition mobility | X8: target variability | Y8: Operator error fuze set
B9: Amount of Explosive | C9: 1 | E9: 1 | H9: 1 | I9: 3 | J9: 3 | AB9: =SUM(D9:AA9) -> 8 | AC9: =+AB9*C9 -> 8
B10: Type of Explosive | C10: 9 | H10: 1 | N10: 3 | O10: 3 | P10: 3 | X10: 9 | Y10: 9 | AB10: =SUM(D10:AA10) -> 28 | AC10: =+AB10*C10 -> 252
B11: Fragment Size | C11: 9 | D11: 1 | E11: 1 | F11: 9 | G11: 9 | H11: 3 | I11: 3 | J11: 9 | N11: 9 | O11: 3 | P11: 3 | Q11: 3 | W11: 3 | X11: 9 | AB11: =SUM(D11:AA11) -> 65 | AC11: =+AB11*C11 -> 585
B12: Strength of nose area | C12: 1 | D12: 1 | E12: 1 | F12: 3 | Q12: 3 | AB12: =SUM(D12:AA12) -> 8 | AC12: =+AB12*C12 -> 8
B13: Nose Geometry | C13: 1 | AB13: =SUM(D13:AA13) -> 0 | AC13: =+AB13*C13 -> 0
B14: Nose material | C14: 1 | F14: 3 | AB14: =SUM(D14:AA14) -> 3 | AC14: =+AB14*C14 -> 3
B15: Fuze type | C15: 9 | X15: 3 | AB15: =SUM(D15:AA15) -> 3 | AC15: =+AB15*C15 -> 27
B16: Fuze energetics | C16: 9 | F16: 3 | N16: 3 | O16: 3 | P16: 3 | AB16: =SUM(D16:AA16) -> 12 | AC16: =+AB16*C16 -> 108
AB17: =SUM(D17:AA17) -> 0 | AC17: =+AB17*C17 -> 0
AB18: =SUM(D18:AA18) -> 0 | AC18: =+AB18*C18 -> 0
B19: Relative importance of noise factor: | D19: =SUMPRODUCT($C9:$C18,D9:D18) -> 10 | E19: =SUMPRODUCT($C9:$C18,E9:E18) -> 11 | F19: =SUMPRODUCT($C9:$C18,F9:F18) -> 114 | G19: =SUMPRODUCT($C9:$C18,G9:G18) -> 81 | H19: =SUMPRODUCT($C9:$C18,H9:H18) -> 37 | I19: =SUMPRODUCT($C9:$C18,I9:I18) -> 30 | J19: =SUMPRODUCT($C9:$C18,J9:J18) -> 84 | K19: =SUMPRODUCT($C9:$C18,K9:K18) -> 0 | ... AA19: =SUMPRODUCT($C9:$C18,AA9:AA18) -> 0
B21: Team:
B22: Date completed:
C23: 100

Sheet QFD2 Body
A1: ACTIVITY SUMMARY
B2: Design feature | C2: Importance | E2: Importance | F2: Bar Code | G2: Fins Threaded to body | H2: Cart case crimp | I2: Knurl under obturator | J2: Thread fuze | K2: Mould exploder cavity | L2: Two Piece case | M2: Bore rider | N2: Secant ogive | O2: Chromate Conversion | P2: Powder coat | R2: Coil and Insert | S2: Pressed RDX Wax | T2: Split ring | U2: Rubber Liner
B3: Functionality | AA3: Functionality Detail
B4: ID/Shell | C4: 100 | D4: 10 | E4: =+C4/D4 -> 10 | F4: 9 | P4: 9 | AA4: Stanag 4130, Durability, 100% recognition, Contrast
B5: Interface fin Assy | C5: 100 | D5: 10 | E5: =+C5/D5 -> 10 | G5: 9 | H5: 1
B6: Interface to cartridge | C6: 100 | D6: 10 | E6: =+C6/D6 -> 10 | G6: 1 | H6: 9 | P6: 9
B7: Interface to obturator | C7: 100 | D7: 10 | E7: =+C7/D7 -> 10 | H7: 3 | I7: 9 | L7: 3 | T7: 9
B8: Interface to Fuze | C8: 100 | D8: 10 | E8: =+C8/D8 -> 10 | J8: 9 | K8: 3 | L8: 3 | N8: 3
B9: Interface to Exploder | C9: 100 | D9: 10 | E9: =+C9/D9 -> 10 | J9: 3 | K9: 9 | L9: 3 | N9: 1 | S9: 9
B10: Interface to fragmentation | C10: 100 | D10: 10 | E10: =+C10/D10 -> 10 | L10: 9 | N10: 3 | O10: 3 | R10: 9 | S10: 9 | U10: 9
B11: Generate fragments | C11: 100 | D11: 10 | E11: =+C11/D11 -> 10 | L11: 9 | M11: 3 | N11: 3 | O11: 3 | P11: 3 | R11: 9 | S11: 9 | U11: 3
B12: Contain explosive | C12: 100 | D12: 10 | E12: =+C12/D12 -> 10 | K12: 9 | L12: 9 | M12: 1 | N12: 1 | O12: 3 | P12: 3 | R12: 9 | S12: 9 | U12: 3
B13: Obturate Shell | C13: 100 | D13: 10 | E13: =+C13/D13 -> 10 | I13: 9 | M13: 9 | P13: 3 | T13: 9
B14: Counter Balloting | C14: 100 | D14: 10 | E14: =+C14/D14 -> 10 | G14: 3 | I14: 9 | L14: 9 | M14: 9 | P14: 3 | T14: 3
B15: Control Drag | C15: 100 | D15: 10 | E15: =+C15/D15 -> 10 | G15: 3 | L15: 9 | M15: 9 | N15: 9 | T15: 9
B16: Generate effect | C16: 100 | D16: 10 | E16: =+C16/D16 -> 10 | J16: 3 | K16: 3 | L16: 9 | M16: 3 | N16: 3 | R16: 9 | S16: 9
B17: Control Internal Corrosion | C17: 100 | D17: 10 | E17: =+C17/D17 -> 10 | O17: 9 | U17: 9
B18: Cushions Insert | C18: 100 | D18: 10 | E18: =+C18/D18 -> 10 | R18: 3 | S18: 3 | U18: 9
B19: Control external Corrosion | C19: 100 | D19: 10 | E19: =+C19/D19 -> 10 | F19: 3 | O19: 9 | P19: 9
C20: 100 | D20: 10 | E20: =+C20/D20 -> 10
C21: 100 | D21: 10 | E21: =+C21/D21 -> 10
C22: 100 | D22: 10 | E22: =+C22/D22 -> 10
C23: 100 | D23: 10 | E23: =+C23/D23 -> 10
C24: 100 | D24: 10 | E24: =+C24/D24 -> 10
C25: 100 | D25: 10 | E25: =+C25/D25 -> 10
C26: 100 | D26: 10 | E26: =+C26/D26 -> 10
F27: =SUMPRODUCT($E$3:$E$26,F3:F26) -> 120 | G27: =SUMPRODUCT($E$3:$E$26,G3:G26) -> 160 | H27: =SUMPRODUCT($E$3:$E$26,H3:H26) -> 130 | I27: =SUMPRODUCT($E$3:$E$26,I3:I26) -> 270 | J27: =SUMPRODUCT($E$3:$E$26,J3:J26) -> 150 | K27: =SUMPRODUCT($E$3:$E$26,K3:K26) -> 240 | L27: =SUMPRODUCT($E$3:$E$26,L3:L26) -> 630 | M27: =SUMPRODUCT($E$3:$E$26,M3:M26) -> 340 | ... Z27: =SUMPRODUCT($E$3:$E$26,Z3:Z26) -> 0
B29: Target
B30: Benchmark
B31: Ideal Value | F31: Yellow to Std XYD, Font, Paint type, Compatibility | P31: Green to Std XYD, Paint type, compatibility
B32: How Much???

Sheet P Diagram Component
A1: ACTIVITY SUMMARY
A2: P-Diagram
A3: Author: | E3: Noise Factors | G3: External | L3: Noise Factors | N3: Unit to unit | P3: Noise Factor | R3: Deterioration
A4: Date: | E4: Operator Competence | L4: Manufacturing geometric variation | P4: Tooling deterioration
A5: Issue: 1 | E5: Operator fatigue | L5: Material property variation, Shell | P5: Cutting fluid condition
A6: System: | E6: Temperature | L6: Material property variation powder coat
E7: Humidity | L7: Chromate conversion variation
L8: Cutting fluid variation
L9: Surface Finish variation
L10: Measurement variation
L11: Contamination
L12: Within batch variation of steel
L13: Inclusions in shell material
B22: Signal factors | I22: Shell Body Base component | Q22: System compatibility
L31: Control Factors
L32: Shell Outer Diameter | N32: O groove internal angle
L33: Shell Internal Diameter | N33: O Groove knurl geometry
L34: Internal recess geometry | N34: Rear body interface length
L35: Shell Material | N35: Rear body length
L36: Fin interface diameter | N36: Nose body interface thread
L37: Fin interface thread | N37: Anodate depth
L38: Canellure groove 1 distance | N38: Powder coat depth
L39: Canellure grove 1 width | N39: Surface finish internal
L40: Canellure groove 1 depth | N40: Surface finish external
L41: Canellure groove radii
L42: Canellure groove 2 distance
L43: Canellure grove 2 width
L44: Canellure groove 2 depth
L45: O groove length
L46: O Groove width
L47: O Groove depth

Sheet What Why Component
A1: ACTIVITY SUMMARY
G2: =VALUE('Design QFD 2'!#REF!) -> #REF!
A3: If insert rows/columns, copy formulae in purple cells.
M4: NOISE FACTORS | Y4: Relative Importance of noise in meeting performance via control factor
A5: Performance Characteristics | B5: Design control parameters | C5: Weighting | D5: Unit to Unit Variation | M5: Deterioration
C6: of design | D6: Mfg | M6: Raw Mat'l | V6: Human | X6: Total
C7: control parameter
D8: Manufacturing geometric variation | E8: Material property variation, Shell | F8: Material property variation powder coat | G8: Chromate conversion | H8: Cutting fluid variation | I8: Surface Finish variation | J8: Measurement variation | K8: Contamination | L8: Within batch variation of steel | M8: Inclusions in shell material | O8: Tooling deterioration | P8: Cutting fluid condition | R8: Operator Competence | S8: Operator fatigue | T8: Temperature | U8: Humidity
B9: Shell Outer Diameter | C9: 9 | D9: 9 | F9: 9 | I9: 3 | J9: 9 | K9: 3 | O9: 9 | R9: 3 | S9: 1 | T9: 3 | U9: 3 | X9: =SUM(D9:W9) -> 52 | Y9: =+X9*C9 -> 468 | Z9: Shell Outer Diameter
B10: Shell Internal Diameter | C10: 3 | D10: 9 | F10: 9 | I10: 3 | J10: 9 | K10: 3 | O10: 9 | R10: 3 | S10: 1 | T10: 3 | U10: 3 | X10: =SUM(D10:W10) -> 52 | Y10: =+X10*C10 -> 156
B11: Internal recess geometry | C11: 3 | D11: 9 | F11: 9 | I11: 3 | J11: 9 | K11: 3 | O11: 9 | R11: 3 | S11: 1 | T11: 3 | U11: 3 | X11: =SUM(D11:W11) -> 52 | Y11: =+X11*C11 -> 156
B12: Shell Material | C12: 9 | E12: 9 | G12: 9 | L12: 9 | M12: 9 | O12: 3 | X12: =SUM(D12:W12) -> 39 | Y12: =+X12*C12 -> 351 | Z12: Shell Material
B13: Fin interface diameter | C13: 3 | D13: 9 | F13: 9 | I13: 3 | J13: 9 | K13: 3 | O13: 9 | R13: 3 | S13: 1 | T13: 3 | U13: 3 | X13: =SUM(D13:W13) -> 52 | Y13: =+X13*C13 -> 156
B14: Fin interface thread | C14: 3 | D14: 9 | F14: 9 | I14: 3 | J14: 9 | K14: 3 | O14: 9 | R14: 3 | S14: 1 | T14: 3 | U14: 3 | X14: =SUM(D14:W14) -> 52 | Y14: =+X14*C14 -> 156
B15: Canellure groove 1 distance | C15: 3 | D15: 9 | F15: 9 | I15: 3 | J15: 9 | K15: 3 | O15: 9 | R15: 3 | S15: 1 | T15: 3 | U15: 3 | X15: =SUM(D15:W15) -> 52 | Y15: =+X15*C15 -> 156
B16: Canellure grove 1 width | C16: 3 | D16: 9 | F16: 9 | I16: 3 | J16: 9 | K16: 3 | O16: 9 | R16: 3 | S16: 1 | T16: 3 | U16: 3 | X16: =SUM(D16:W16) -> 52 | Y16: =+X16*C16 -> 156
B17: Canellure groove 1 depth | C17: 3 | D17: 9 | F17: 9 | I17: 3 | J17: 9 | K17: 3 | O17: 9 | R17: 3 | S17: 1 | T17: 3 | U17: 3 | X17: =SUM(D17:W17) -> 52 | Y17: =+X17*C17 -> 156
B18: Canellure groove radii | C18: 3 | D18: 9 | F18: 9 | I18: 3 | J18: 9 | K18: 3 | O18: 9 | R18: 3 | S18: 1 | T18: 3 | U18: 3 | X18: =SUM(D18:W18) -> 52 | Y18: =+X18*C18 -> 156
B19: Canellure groove 2 distance | C19: 3 | D19: 9 | F19: 9 | I19: 3 | J19: 9 | K19: 3 | O19: 9 | R19: 3 | S19: 1 | T19: 3 | U19: 3 | X19: =SUM(D19:W19) -> 52 | Y19: =+X19*C19 -> 156
B20: Canellure grove 2 width | C20: 3 | D20: 9 | F20: 9 | I20: 3 | J20: 9 | K20: 3 | O20: 9 | R20: 3 | S20: 1 | T20: 3 | U20: 3 | X20: =SUM(D20:W20) -> 52 | Y20: =+X20*C20 -> 156
B21: Canellure groove 2 depth | C21: 3 | D21: 9 | F21: 9 | I21: 3 | J21: 9 | K21: 3 | O21: 9 | R21: 3 | S21: 1 | T21: 3 | U21: 3 | X21: =SUM(D21:W21) -> 52 | Y21: =+X21*C21 -> 156
B22: O groove length | C22: 9 | D22: 9 | F22: 9 | I22: 3 | J22: 9 | K22: 3 | O22: 9 | R22: 3 | S22: 1 | T22: 3 | U22: 3 | X22: =SUM(D22:W22) -> 52 | Y22: =+X22*C22 -> 468 | Z22: O groove length
B23: O Groove width | C23: 9 | D23: 9 | F23: 9 | I23: 3 | J23: 9 | K23: 3 | O23: 9 | R23: 3 | S23: 1 | T23: 3 | U23: 3 | X23: =SUM(D23:W23) -> 52 | Y23: =+X23*C23 -> 468 | Z23: O Groove width
B24: O Groove depth | C24: 9 | D24: 9 | F24: 9 | I24: 3 | J24: 9 | K24: 3 | O24: 9 | R24: 3 | S24: 1 | T24: 3 | U24: 3 | X24: =SUM(D24:W24) -> 52 | Y24: =+X24*C24 -> 468 | Z24: O Groove depth
B25: O groove internal angle | C25: 9 | D25: 9 | F25: 9 | I25: 3 | J25: 9 | K25: 3 | O25: 9 | R25: 3 | S25: 1 | T25: 3 | U25: 3 | X25: =SUM(D25:W25) -> 52 | Y25: =+X25*C25 -> 468 | Z25: O groove internal angle
B26: O Groove knurl geometry | C26: 3 | D26: 9 | F26: 9 | I26: 3 | J26: 9 | K26: 3 | O26: 9 | R26: 3 | S26: 1 | T26: 3 | U26: 3 | X26: =SUM(D26:W26) -> 52 | Y26: =+X26*C26 -> 156
B27: Rear body interface length | C27: 9 | D27: 9 | F27: 9 | I27: 3 | J27: 9 | K27: 3 | O27: 9 | R27: 3 | S27: 1 | T27: 3 | U27: 3 | X27: =SUM(D27:W27) -> 52 | Y27: =+X27*C27 -> 468 | Z27: Rear body interface length
B28: Rear body length | C28: 9 | D28: 9 | F28: 9 | I28: 3 | J28: 9 | K28: 3 | O28: 9 | R28: 3 | S28: 1 | T28: 3 | U28: 3 | X28: =SUM(D28:W28) -> 52 | Y28: =+X28*C28 -> 468 | Z28: Rear body length
B29: Nose body interface thread | C29: 9 | D29: 9 | F29: 9 | I29: 3 | J29: 9 | K29: 3 | O29: 9 | R29: 3 | S29: 1 | T29: 3 | U29: 3 | X29: =SUM(D29:W29) -> 52 | Y29: =+X29*C29 -> 468 | Z29: Nose body interface thread
B30: Chromate conversion depth | C30: 3 | E30: 9 | G30: 9 | H30: 3 | I30: 3 | K30: 9 | O30: 3 | R30: 3 | S30: 9 | T30: 3 | U30: 3 | X30: =SUM(D30:W30) -> 54 | Y30: =+X30*C30 -> 162
B31: Powder coat depth | C31: 9 | D31: 9 | F31: 9 | G31: 9 | H31: 3 | I31: 3 | J31: 9 | K31: 9 | O31: 9 | R31: 3 | S31: 9 | T31: 9 | U31: 9 | X31: =SUM(D31:W31) -> 90 | Y31: =+X31*C31 -> 810 | Z31: Powder coat depth
B32: Surface finish internal | C32: 9 | E32: 9 | G32: 9 | H32: 3 | I32: 3 | K32: 9 | O32: 3 | R32: 3 | S32: 9 | T32: 3 | U32: 3 | X32: =SUM(D32:W32) -> 54 | Y32: =+X32*C32 -> 486 | Z32: Surface finish internal
B33: Surface finish external | C33: 9 | D33: 9 | F33: 9 | G33: 9 | H33: 3 | I33: 3 | J33: 9 | K33: 9 | O33: 9 | R33: 3 | S33: 9 | T33: 9 | U33: 9 | X33: =SUM(D33:W33) -> 90 | Y33: =+X33*C33 -> 810 | Z33: Surface finish external
X34: =SUM(D34:W34) -> 0 | Y34: =+X34*C34 -> 0
X35: =SUM(D35:W35) -> 0 | Y35: =+X35*C35 -> 0
B36: Relative importance of noise factor: | D36: =SUMPRODUCT($C9:$C35,D9:D35) -> 1134 | E36: =SUMPRODUCT($C9:$C35,E9:E35) -> 189 | F36: =SUMPRODUCT($C9:$C35,F9:F35) -> 1134 | G36: =SUMPRODUCT($C9:$C35,G9:G35) -> 351 | H36: =SUMPRODUCT($C9:$C35,H9:H35) -> 90 | I36: =SUMPRODUCT($C9:$C35,I9:I35) -> 414 | J36: =SUMPRODUCT($C9:$C35,J9:J35) -> 1134 | K36: =SUMPRODUCT($C9:$C35,K9:K35) -> 594 | ... W36: =SUMPRODUCT($C9:$C35,W9:W35) -> 0
B38: Team:
B39: Date completed:
C40: 100

Sheet Control Importances (Base)

Sheet Noise importances (Base)

Sheet Manufacturing Requirements
A6: ACTIVITY SUMMARY

Sheet Process Map 
A1: ACTIVITY SUMMARY

Sheet Manufacturing QFD 1
A1: ACTIVITY SUMMARY
B2: Manufacturing Functionality | C2: Importance | D2: Manufacture Body | E2: Manufacture fins | F2: Manufacture Explosive | G2: Fill Shell | H2: Manufacture Primer | I2: Manufacture Charge | J2: Manufacture tracer | K2: Manufacture booster | L2: Assemble muniton | M2: Fit fuze
B3: Manufacturing Requirements | U3: Manufacturing Requirements detail
B4: Manufacturing Costs
B5: Labour | C5: 5 | D5: 3 | E5: 3 | F5: 9 | G5: 9 | H5: 1 | I5: 3 | J5: 9 | K5: 3 | L5: 9 | M5: 1
B6: Equipment capital cost | C6: 5 | D6: 9 | E6: 9 | F6: 3 | G6: 9 | H6: 3 | I6: 3 | J6: 9 | K6: 9 | L6: 3 | M6: 1 | U6: Some equipment may pre-exisit. Note when in bid. Bought in componenets (multifaceted argument)
B7: Service / Operating Cost | C7: 5 | D7: 9 | E7: 9 | F7: 3 | G7: 9 | H7: 1 | I7: 1 | J7: 1 | K7: 1 | L7: 3 | M7: 1
B8: Set up cost | C8: 5 | D8: 9 | E8: 9 | F8: 3 | G8: 9 | H8: 1 | I8: 1 | J8: 1 | K8: 1 | L8: 9 | M8: 1
B9: Material Cost - Metal Bits | C9: 5 | D9: 3 | E9: 9 | H9: 1 | I9: 1 | J9: 1
B10: Material Cost - Energetic Bits | C10: 5 | F10: 9 | G10: 3 | H10: 3 | I10: 3 | J10: 3 | K10: 9
B11: Material Cost - other | C11: 5 | J11: 3 | K11: 3 | M11: 9
B12: Maintenance Cost | D12: 9 | E12: 9 | F12: 3 | G12: 9 | H12: 1 | I12: 1 | J12: 1 | K12: 1 | L12: 9 | M12: 3
B13: Manufacturing Capacity | C13: 5
B14: Target production rate XX per month | C14: 5 | D14: 9 | E14: 9 | F14: 1 | G14: 1 | H14: 3 | I14: 3 | J14: 3 | K14: 3 | L14: 1 | M14: 1 | U14: Clashes with other items in schedule
B15: Reliable Manufacture | C15: 5
B16: Repeatable performance | C16: 5 | D16: 1 | E16: 1 | F16: 3 | G16: 9 | H16: 1 | I16: 1 | J16: 1 | K16: 1 | L16: 3 | M16: 3
B17: Effective Maintenance | C17: 5 | D17: 9 | E17: 9 | G17: 9 | H17: 3 | I17: 3 | J17: 3 | K17: 3 | L17: 9
B18: Low system outage | C18: 5 | D18: 3 | E18: 3 | G18: 9 | H18: 9 | I18: 9 | J18: 9 | L18: 9
B19: Quality | C19: 5
B20: Defect Free | C20: 5 | F20: 3 | G20: 9 | J20: 3 | L20: 3
B21: Effective test and inspection | C21: 5 | U21: This is a solution, Should we remove it?
B22: Safety | C22: 5
B23: Explosive | C23: 5 | F23: 9 | G23: 9 | H23: 9 | I23: 9 | J23: 9 | K23: 9 | L23: 9 | M23: 9
B24: Non-Explosive | C24: 5 | G24: 9 | J24: 3 | K24: 3 | L24: 9 | M24: 3
C25: 5
C26: 5
C27: 5
C28: 5
D29: =SUMPRODUCT($C$3:$C$28,D3:D28) -> 275 | E29: =SUMPRODUCT($C$3:$C$28,E3:E28) -> 305 | F29: =SUMPRODUCT($C$3:$C$28,F3:F28) -> 215 | G29: =SUMPRODUCT($C$3:$C$28,G3:G28) -> 470 | H29: =SUMPRODUCT($C$3:$C$28,H3:H28) -> 175 | I29: =SUMPRODUCT($C$3:$C$28,I3:I28) -> 185 | J29: =SUMPRODUCT($C$3:$C$28,J3:J28) -> 290 | K29: =SUMPRODUCT($C$3:$C$28,K3:K28) -> 225 | ... T29: =SUMPRODUCT($C$3:$C$28,T3:T28) -> 0
B32: Target
B33: Benchmark
B34: Ideal Value
B35: Functionality Detail/ insert specifications for each operation

Sheet QFD 2 Manufacturing
A1: ACTIVITY SUMMARY
B2: Design feature | C2: Importance | E2: Importance | F2: Forge | G2: Swage | H2: CNC Machine | I2: Clean | J2: Surface treat | K2: Extrude | L2: Buy in raw ingredients | M2: Incorporate | N2: Melt Cast | O2: Probed Cooling | P2: Buy in components | Q2: Manual assembly | R2: Mix | S2: Press | T2: Robot assisted assembly line
B3: Functionality | AB3: Functionality Detail
B4: Manufacture Body | C4: =VALUE('Manufacturing QFD 1'!D29) -> 275 | D4: 10 | E4: =+C4/D4 -> 27.5 | F4: 9 | G4: 9 | H4: 9 | I4: 9 | J4: 9 | L4: 3
B5: Manufacture fins | C5: =VALUE('Manufacturing QFD 1'!E29) -> 305 | D5: 10 | E5: =+C5/D5 -> 30.5 | H5: 9 | I5: 3 | J5: 9 | K5: 9 | L5: 3
B6: Manufacture Explosive | C6: =VALUE('Manufacturing QFD 1'!F29) -> 215 | D6: 10 | E6: =+C6/D6 -> 21.5 | L6: 9 | M6: 9
B7: Fill Shell | C7: =VALUE('Manufacturing QFD 1'!G29) -> 470 | D7: 10 | E7: =+C7/D7 -> 47 | F7: 1 | G7: 1 | I7: 9 | J7: 9 | M7: 3 | N7: 9 | O7: 9 | Q7: 3
B8: Manufacture Primer | C8: =VALUE('Manufacturing QFD 1'!H29) -> 175 | D8: 10 | E8: =+C8/D8 -> 17.5 | L8: 3 | P8: 9 | Q8: 9
B9: Manufacture Charge | C9: =VALUE('Manufacturing QFD 1'!I29) -> 185 | D9: 10 | E9: =+C9/D9 -> 18.5 | L9: 9 | P9: 9 | Q9: 9
B10: Manufacture tracer | C10: =VALUE('Manufacturing QFD 1'!J29) -> 290 | D10: 10 | E10: =+C10/D10 -> 29 | H10: 9 | I10: 3 | L10: 9 | Q10: 9 | R10: 9 | S10: 9
B11: Manufacture booster | C11: =VALUE('Manufacturing QFD 1'!K29) -> 225 | D11: 10 | E11: =+C11/D11 -> 22.5 | L11: 9 | Q11: 9 | R11: 9 | S11: 9
B12: Assemble muniton | C12: =VALUE('Manufacturing QFD 1'!L29) -> 335 | D12: 10 | E12: =+C12/D12 -> 33.5 | Q12: 1 | T12: 9
B13: Fit fuze | C13: =VALUE('Manufacturing QFD 1'!M29) -> 145 | D13: 10 | E13: =+C13/D13 -> 14.5 | H13: 9 | I13: 9 | Q13: 3
D14: 10 | E14: =+C14/D14 -> 0
F15: =SUMPRODUCT($E$3:$E$14,F3:F14) -> 294.5 | G15: =SUMPRODUCT($E$3:$E$14,G3:G14) -> 294.5 | H15: =SUMPRODUCT($E$3:$E$14,H3:H14) -> 913.5 | I15: =SUMPRODUCT($E$3:$E$14,I3:I14) -> 979.5 | J15: =SUMPRODUCT($E$3:$E$14,J3:J14) -> 945 | K15: =SUMPRODUCT($E$3:$E$14,K3:K14) -> 274.5 | L15: =SUMPRODUCT($E$3:$E$14,L3:L14) -> 1050 | M15: =SUMPRODUCT($E$3:$E$14,M3:M14) -> 334.5 | ... AA15: =SUMPRODUCT($E$3:$E$14,AA3:AA14) -> 0
B17: Target
B18: Benchmark
B19: Ideal Value
B20: How Much???

Sheet Means importance

Sheet Process FMA
A1: ACTIVITY SUMMARY
B2: Function | C2: Means
B3: Forge Shell | C3: Forge from Cast Billet | D3: Forge from machined billet
B4: Form Cavity | C4: Hot Forging | D4: Drill | E4: ALM | F4: Two Piece
B5: Head Shell | C5: Swage | D5: Press | E5: ALM
B6: Coarse M/C | C6: Hand lathe | D6: CNC | E6: Robot | F6: Hand set
B7: Fine M/C | C7: Hand lathe | D7: CNC | E7: Robot | F7: Hand set
B8: Clean Shell | C8: Ultrasonic | D8: Brush and Blow | E8: Bath clean | F8: Vacuum
B9: Form Wire | C9: Hot form | D9: Cold form | E9: ALM | F9: Don't
B10: Coil Wire | C10: Hot form | D10: Cold form | E10: ALM | F10: Don't
B11: Harden Wire | C11: Hot form | D11: Cold form | E11: ALM | F11: Don't
B12: Insert Wire | C12: manual | D12: robot | E12: form in situ | F12: ALM
B13: Surface Finish | C13: Oxsilan | D13: Varnish | E13: Bitumen | F13: Hylamar | G13: rextac/epilene
B14: Paint | C14: Water based | D14: Powder coat | E14: Brush | F14: Don't
B15: Cure paint | C15: Oven | D15: Hot air blow | E15: Air dry
B16: Make Fins | C16: Hand M/C | D16: CNC | E16: Robot | F16: ALM
B17: Coarse MC | C17: Hand M/C | D17: CNC | E17: Robot | F17: ALM
B18: Fine M/C | C18: Hand M/C | D18: CNC | E18: Robot | F18: ALM
B19: Anodise | C19: Sulphuric Acid | D19: Black anodise | E19: Chromic acid | F19: ALM
B20: Clean Shell | C20: Hand M/C | D20: CNC | E20: Robot | F20: ALM
B21: Obtain tracer
B22: Cap Holder | C22: Manual | D22: Robot | E22: Buy in capped holder | F22: Fortress
B23: Load Primer | C23: Manual | D23: Weigh | E23: Volumetric | F23: Robot | G23: Fortress
B24: Load Pre-mag | C24: Manual | D24: Weigh | E24: Volumetric | F24: Robot | G24: Fortress
B25: Seal Primer | C25: Manual | D25: Brush | E25: Adhesive | F25: Varnish | G25: Ultrasound
B26: Assemble primer | C26: Manual | D26: Robot | E26: Buy in filled primer | F26: Fortress
B27: Pack | C27: Manual | D27: Robot | E27: Air Handler | F27: Semi Auto
B28: Roll Liner | C28: Manual | D28: Auto | E28: Buy in rolled liner
B29: Seal Liner | C29: Manual | D29: Auto | E29: Buy in Sealed Liner
B30: Line Primer body | C30: Manual | D30: Auto
B31: Fill Body | C31: Cast Cure | D31: Press Fill | E31: Melt Cast IM | F31: Melt cast RTA | G31: Melt Cast Cream TNT
B32: Liquefy Contents | C32: Cast cure | D32: Melt cast | E32: Powder press
B33: Mix | C33: Incorporator | D33: Hand | E33: High Shear | F33: RAM | G33: Ram in case
B34: Fill Shell | C34: Pour | D34: Pump | E34: Press | F34: Inject
B35: Fit Filling Aid | C35: Hand | D35: robot | E35: Don't
B36: Warm Shell | C36: Oven | D36: Warm air | E36: Condition in shop | F36: Don't
B37: Move in | C37: hover pallet | D37: Conveyer | E37: heated box | F37: Manual | G37: Robot | H37: Powered conveyer
B38: Move out | C38: hover pallet | D38: Conveyer | E38: heated box | F38: Manual | G38: Robot | H38: Powered conveyer
B39: Solidify Contents | C39: Cure in oven | D39: Cure at RT | E39: Cool | F39: Cool and Probe | G39: Don't (press)
B40: Remove Filling Aid | C40: Hand | D40: Robot | E40: Don't
B41: Form Booster Cavity | C41: Counter bore | D41: Mould | E41: Press
B42: Manufacture pellets | C42: hand Press | D42: rotary press | E42: cast | F42: extrude
B43: Fit Booster | C43: Hand | D43: Robot
B44: Fit PRF | C44: Hand | D44: Robot
B45: Pack | C45: Hand | D45: Robot
B46: Mark | C46: Hand | D46: Robot | E46: Paint | F46: Stencil | G46: Pad pint | H46: Label
B47: Fit primer | C47: Hand | D47: Robot
B48: Fill Case | C48: Hand | D48: Robot
B49: Fit Tail | C49: Hand | D49: Robot
B50: Fit Tracer | C50: Hand | D50: Robot
B51: Fit Shell | C51: Hand | D51: Robot
B52: Attach Case | C52: Hand | D52: Robot | E52: Canellure | F52: press | G52: weld | H52: glue
B53: Remove PRF | C53: Hand | D53: Robot
B54: Fit Fuse | C54: Hand | D54: Robot
B55: Mark | C55: Hand | D55: Robot | E55: Paint | F55: Stencil | G55: Pad pint | H55: Label
B56: Pack | C56: Hand | D56: Robot

Sheet Process Pugh
A1: ACTIVITY SUMMARY
C4: ="Project Name: "&'Design Book Title'!C10 -> Project Name: HESH Example for course
D6: Relative Importance Equal | E6: Relative importance Weighted | F6: Benchmark design Melt Cast Manual | G6: Alternative manufacturing method 1. Melt Cast IM Automatic | H6: Alternative manufacturing method 2 Cast Cure IM Automatic
B7: WHATs - Customer Requirements | C7: How much:- From QFD 1
B8: Labour | D8: 5 | E8: 5 | F8: 0 | G8: 2 | H8: 2
B9: Equipment / Capital Costs | D9: 5 | E9: 1 | F9: 0 | G9: -1 | H9: -2
B10: Service Operating Costs | D10: 5 | E10: 2 | F10: 0 | G10: -1 | H10: -1
B11: Material Cost | D11: 5 | E11: 2 | F11: 0 | G11: -1 | H11: -2
B12: Maintenance Cost | D12: 5 | E12: 3 | F12: 0 | G12: -1 | H12: -1
B13: Surge Capacity | D13: 5 | E13: 5 | F13: 0 | G13: 1 | H13: 1
B14: Reliable manufacture | D14: 5 | E14: 5 | F14: 0 | G14: 1 | H14: 0
B15: Effective Mainteneace | D15: 5 | E15: 3 | F15: 0 | G15: 0 | H15: 0
B16: Defect Free | D16: 5 | E16: 5 | F16: 0 | G16: 0 | H16: -1
B17: Effective Test and Inspect | D17: 5 | E17: 5 | F17: 0 | G17: 1 | H17: -1
B18: Explosive Regs Safety | D18: 5 | E18: 5 | F18: 0 | G18: -1 | H18: -1
B19: Non Explosive Regs Safety | D19: 5 | E19: 4 | F19: 0 | G19: 1 | H19: 1
D20: 5 | E20: 5 | F20: 0 | G20: 0 | H20: 0
D21: 5 | E21: 5 | F21: 0 | G21: 0 | H21: 0
D22: 5 | E22: 5 | F22: 0 | G22: 0 | H22: 0
D23: Un Weighted | F23: =SUMPRODUCT($D$8:$D$22,F8:F22) -> 0 | G23: =SUMPRODUCT($D$8:$D$22,G8:G22) -> 5 | H23: =SUMPRODUCT($D$8:$D$22,H8:H22) -> -25
D24: Weighted | F24: =SUMPRODUCT($E$8:$E$22,F8:F22) -> 0 | G24: =SUMPRODUCT($E$8:$E$22,G8:G22) -> 16 | H24: =SUMPRODUCT($E$8:$E$22,H8:H22) -> -7
B25: Ranking | D25: 100 | F25: =+F23-F24 -> 0 | G25: =+G23-G24 -> -11 | H25: =+H23-H24 -> -18
BB40: 0 | BF40: 0 | BJ40: 0 | BN40: 0 | BR40: 0
BB44: 0 | BF44: 0 | BJ44: 0 | BN44: 0 | BR44: 0

Sheet QFD 3
A1: ACTIVITY SUMMARY
B2: Process Features | E2: Importance
F3: Oven (Heat treat) | G3: Rough machine Lathe | H3: Stress relief Oven | I3: CNC lathe | J3: Degaussing kit | K3: Chemical Degrease | L3: Chromate Conversion bath | M3: Powder Coat | N3: Manual pack | O3: Robot handling
B4: Important design features | AJ4: Functionality Details
B5: Shell Outer Diameter | C5: 50 | D5: 10 | E5: 3 | F5: 9 | G5: 9 | I5: 3 | K5: 1 | L5: 3 | M5: 3 | O5: 3
B6: Shell Material | C6: 50 | D6: 10 | E6: 2 | F6: 9 | H6: 9 | J6: 9
B7: O groove length | C7: 50 | D7: 10 | E7: 3 | I7: 9
B8: O Groove width | C8: 50 | D8: 10 | E8: 3 | I8: 9
B9: O Groove depth | C9: 50 | D9: 10 | E9: 3 | I9: 9
B10: O groove internal angle | C10: 50 | D10: 10 | E10: 3 | I10: 9
B11: Rear body interface length | C11: 50 | D11: 10 | E11: 3 | I11: 9
B12: Rear body length | C12: 50 | D12: 10 | E12: 3 | G12: 9 | I12: 3
B13: Nose body interface thread | C13: 50 | D13: 10 | E13: 3 | G13: 9 | I13: 3
B14: Powder coat depth | C14: 50 | D14: 10 | E14: 5 | K14: 9 | L14: 9 | M14: 9 | N14: 3 | O14: 3
B15: Surface finish internal | C15: 50 | D15: 10 | E15: 3 | K15: 9 | L15: 9
B16: Surface finish external | C16: 50 | D16: 10 | E16: 5 | I16: 9 | K16: 9 | L16: 9 | M16: 9 | N16: 3 | O16: 3
C19: 50 | D19: 10
F20: =SUMPRODUCT($E$5:$E$19,F5:F19) -> 45 | G20: =SUMPRODUCT($E$5:$E$19,G5:G19) -> 81 | H20: =SUMPRODUCT($E$5:$E$19,H5:H19) -> 18 | I20: =SUMPRODUCT($E$5:$E$19,I5:I19) -> 207 | J20: =SUMPRODUCT($E$5:$E$19,J5:J19) -> 18 | K20: =SUMPRODUCT($E$5:$E$19,K5:K19) -> 120 | L20: =SUMPRODUCT($E$5:$E$19,L5:L19) -> 126 | M20: =SUMPRODUCT($E$5:$E$19,M5:M19) -> 99 | ... AI20: =SUMPRODUCT($E$5:$E$19,AI5:AI19) -> 0
B22: Target
B23: Benchmark
B24: Ideal Value
B25: Process Features Details

Sheet 1st Key P Diagram
A1: ACTIVITY SUMMARY
A5: P-Diagram
A6: Author: | E6: Noise Factors | G6: External | L6: Noise Factors | N6: Unit to unit | P6: Noise Factor | R6: Deterioration
A7: Date: | E7: Temperature | L7: Batch to Batch variation of chemical | P7: Contamination in bath
A8: Issue: 1 | E8: Humidity | L8: Agitation variation | P8: Filter degradation
A9: System: | E9: Operator competence | L9: Position of work variation
E10: Operator fatigue | L10: State of input work
L11: Variation in duration
L12: Bath temperature variation
I27: Degreasing | Q27: Clean article
L38: Control Factors
L39: Chemical Purity
L40: Temperature
L41: Duration
L42: Frequent of agitation
L43: Position of work in bath
L44: Security of fixtures
L45: Filter web
L46: Chemical concentration

Sheet 1st Key  "What Why"
A1: ACTIVITY SUMMARY
A3: If insert rows/columns, copy formulae in purple cells.
V4: Relative Importance of noise in meeting performance via control factor
A5: Performance Characteristics Ys: | B5: Design control parameters | C5: Weighting of design control parameter. | D5: Unit to Unit Variation | L5: Deterioration | Q5: External
D6: Mfg | Q6: Environment | S6: Human | U6: Total
D8: Batch to Batch variation of chemical | E8: Agitation variation | F8: Position of work variation | G8: State of input work | H8: Variation in duration | I8: Bath temperature variation | M8: Contamination in bath | N8: Filter degradation | Q8: Temperature | R8: Humidity | S8: Operator competence | T8: Operator fatigue
B9: Chemical Purity | C9: 9 | D9: 9 | G9: 9 | M9: 9 | N9: 9 | S9: 3 | T9: 9 | U9: =SUM(D9:T9) -> 48 | V9: =+U9*C9 -> 432
B10: Temperature | C10: 3 | I10: 9 | N10: 9 | Q10: 3 | S10: 3 | T10: 3 | U10: =SUM(D10:T10) -> 27 | V10: =+U10*C10 -> 81
B11: Duration | C11: 3 | D11: 3 | F11: 3 | G11: 9 | H11: 9 | I11: 3 | M11: 3 | Q11: 3 | S11: 1 | T11: 3 | U11: =SUM(D11:T11) -> 37 | V11: =+U11*C11 -> 111
B12: Frequent of agitation | C12: 3 | E12: 9 | F12: 9 | S12: 1 | T12: 3 | U12: =SUM(D12:T12) -> 22 | V12: =+U12*C12 -> 66
B13: Position of work in bath | C13: 3 | E13: 9 | S13: 9 | T13: 9 | U13: =SUM(D13:T13) -> 27 | V13: =+U13*C13 -> 81
B14: Security of fixtures | C14: 3 | E14: 9 | G14: 9 | S14: 9 | T14: 9 | U14: =SUM(D14:T14) -> 36 | V14: =+U14*C14 -> 108
B15: Filter web | C15: 9 | M15: 9 | N15: 9 | U15: =SUM(D15:T15) -> 18 | V15: =+U15*C15 -> 162
B16: Chemical concentration | C16: 9 | D16: 9 | Q16: 9 | R16: 9 | S16: 3 | T16: 3 | U16: =SUM(D16:T16) -> 33 | V16: =+U16*C16 -> 297
U17: =SUM(D17:T17) -> 0 | V17: =+U17*C17 -> 0
U18: =SUM(D18:T18) -> 0 | V18: =+U18*C18 -> 0
U19: =SUM(D19:T19) -> 0 | V19: =+U19*C19 -> 0
U20: =SUM(D20:T20) -> 0 | V20: =+U20*C20 -> 0
B21: Relative importance of noise factor: | D21: =SUMPRODUCT($C9:$C20,D9:D20) -> 171 | E21: =SUMPRODUCT($C9:$C20,E9:E20) -> 81 | F21: =SUMPRODUCT($C9:$C20,F9:F20) -> 36 | G21: =SUMPRODUCT($C9:$C20,G9:G20) -> 135 | H21: =SUMPRODUCT($C9:$C20,H9:H20) -> 27 | I21: =SUMPRODUCT($C9:$C20,I9:I20) -> 36 | J21: =SUMPRODUCT($C9:$C20,J9:J20) -> 0 | K21: =SUMPRODUCT($C9:$C20,K9:K20) -> 0 | ... T21: =SUMPRODUCT($C9:$C20,T9:T20) -> 189
B23: Team:
B24: Date completed:

Sheet 1st QFD4
A1: ACTIVITY SUMMARY
E3: Operational assessment | L3: Process Controls
E4: manufacturing controlas and Aids | F4: Difficulty | G4: Frequency | H4: Severity | I4: Detectability | J4: RPN | L4: Reciept Inspection | M4: In process inspection | N4: Process instruction | O4: Process monitoring (Auto SPC read out) | P4: Poke Yoke | Q4: Upstream process improvements | R4: regular tank purge and clean | S4: Operator training | T4: DI Column mainteneance
B5: Process parameters | C5: Target Values
B6: Chemical Purity | C6: To specification | F6: 1 | G6: 9 | H6: 9 | I6: 1 | J6: =+F6*G6*H6*I6 -> 81 | L6: 9 | M6: 9 | N6: 1 | O6: 9 | Q6: 3 | R6: 9 | S6: 3
B7: Chemical Concentration | C7: % solution controlled | F7: 3 | G7: 9 | H7: 9 | I7: 3 | J7: =+F7*G7*H7*I7 -> 729 | M7: 9 | N7: 3 | O7: 9 | Q7: 3 | R7: 9 | S7: 3 | T7: 9
B8: Filter Webb | C8: Mesh size and depth | F8: 1 | G8: 3 | H8: 9 | I8: 3 | J8: =+F8*G8*H8*I8 -> 81 | L8: 9 | M8: 9 | N8: 3 | O8: 3 | P8: 9 | Q8: 1 | R8: 9 | S8: 3
B9: Shell Arragement | C9: Shell aligned with cleaning jets | F9: 1 | G9: 9 | H9: 9 | I9: 1 | J9: =+F9*G9*H9*I9 -> 81 | N9: 3 | P9: 9 | Q9: 3 | S9: 3
J10: =+F10*G10*H10*I10 -> 0
J11: =+F11*G11*H11*I11 -> 0
J12: =+F12*G12*H12*I12 -> 0
L13: =SUMPRODUCT($J$6:$J$12,L6:L12) -> 1458 | M13: =SUMPRODUCT($J$6:$J$12,M6:M12) -> 8019 | N13: =SUMPRODUCT($J$6:$J$12,N6:N12) -> 2754 | O13: =SUMPRODUCT($J$6:$J$12,O6:O12) -> 7533 | P13: =SUMPRODUCT($J$6:$J$12,P6:P12) -> 1458 | Q13: =SUMPRODUCT($J$6:$J$12,Q6:Q12) -> 2754 | R13: =SUMPRODUCT($J$6:$J$12,R6:R12) -> 8019 | S13: =SUMPRODUCT($J$6:$J$12,S6:S12) -> 2916 | ... AB13: =SUMPRODUCT($J$6:$J$12,AB6:AB12) -> 0

Sheet 2nd Key P Diag
A5: P-Diagram
A6: Author: | E6: Noise Factors | G6: External | L6: Noise Factors | N6: Unit to unit | P6: Noise Factor | R6: Deterioration
A7: Date: | E7: Temperature | L7: Variation in material properties | P7: Coolant contamination
A8: Issue: 1 | E8: Humidity | L8: Variation in Spin rate | P8: Tool Wear
A9: System: | E9: Operator Competence | L9: Variation in feed rates | P9: Vice Wear
E10: Operator Fatigue | L10: Unit to unit variation (Tool) | P10: Vice contamination
L11: Variation in coolant concentration | P11: Machine deterioration
L12: Unit to Unit variation (Coolant)
L13: Variation in coolant flow rate
L14: Variation in vice pressure
I27: Turning Process | Q27: Consistently Accurate Component
L38: Control Factors
L39: Coolant type
L40: Coolant Concentration
L41: Coolant flow rate
L42: Vice type
L43: Vice pressure
L44: Spin rate
L45: Tool Type
L46: Feed rate

Sheet 2nd Key What Why
A3: If insert rows/columns, copy formulae in purple cells.
X4: Relative Importance of noise in meeting performance via control factor
A5: Performance Characteristics Ys: | B5: Design control parameters | C5: Weighting | D5: External | I5: Unit to Unit | R5: Deterioration
C6: of design | D6: Mfg | S6: Environment | U6: Human | W6: Total
C7: control parameter
D8: Temperature | E8: Humidity | F8: Operator Competence | G8: Operator Fatigue | I8: Variation in material properties | J8: Variation in Spin rate | K8: Variation in feed rates | L8: Unit to unit variation (Tool) | M8: Variation in coolant concentration | N8: Unit to Unit variation (Coolant) | O8: Variation in coolant flow rate | P8: Variation in vice pressure | R8: Coolant contamination | S8: Tool Wear | T8: Vice Wear | U8: Vice contamination | V8: Machine deterioration
A9: Produce Pellets | B9: Coolant type | C9: 3 | F9: 3 | G9: 3 | W9: =SUM(D9:V9) -> 6 | X9: =+W9*C9 -> 18
B10: Coolant Concentration | C10: 9 | D10: 1 | E10: 1 | M10: 9 | N10: 3 | R10: 3 | W10: =SUM(D10:V10) -> 17 | X10: =+W10*C10 -> 153
B11: Coolant flow rate | C11: 9 | D11: 1 | F11: 3 | G11: 3 | M11: 3 | N11: 1 | O11: 9 | R11: 9 | V11: 3 | W11: =SUM(D11:V11) -> 32 | X11: =+W11*C11 -> 288
B12: Vice type | C12: 3 | F12: 3 | G12: 3 | T12: 1 | U12: 3 | W12: =SUM(D12:V12) -> 10 | X12: =+W12*C12 -> 30
B13: Vice pressure | C13: 3 | D13: 1 | F13: 3 | G13: 1 | P13: 9 | T13: 9 | U13: 9 | V13: 3 | W13: =SUM(D13:V13) -> 35 | X13: =+W13*C13 -> 105
B14: Spin rate | C14: 9 | J14: 9 | K14: 3 | L14: 3 | V14: 3 | W14: =SUM(D14:V14) -> 18 | X14: =+W14*C14 -> 162
B15: Tool Type | C15: 9 | F15: 3 | G15: 9 | K15: 1 | W15: =SUM(D15:V15) -> 13 | X15: =+W15*C15 -> 117
B16: Feed rate | C16: 9 | K16: 9 | L16: 3 | V16: 3 | W16: =SUM(D16:V16) -> 15 | X16: =+W16*C16 -> 135
W17: =SUM(D17:V17) -> 0 | X17: =+W17*C17 -> 0
W18: =SUM(D18:V18) -> 0 | X18: =+W18*C18 -> 0
B19: Relative importance of noise factor: | D19: =SUMPRODUCT($C9:$C18,D9:D18) -> 21 | E19: =SUMPRODUCT($C9:$C18,E9:E18) -> 9 | F19: =SUMPRODUCT($C9:$C18,F9:F18) -> 81 | G19: =SUMPRODUCT($C9:$C18,G9:G18) -> 129 | H19: =SUMPRODUCT($C9:$C18,H9:H18) -> 0 | I19: =SUMPRODUCT($C9:$C18,I9:I18) -> 0 | J19: =SUMPRODUCT($C9:$C18,J9:J18) -> 81 | K19: =SUMPRODUCT($C9:$C18,K9:K18) -> 117 | ... V19: =SUMPRODUCT($C9:$C18,V9:V18) -> 90
B20: Direct factor severity assessment | I20: 3 | S20: 9
B21: Team:
B22: Date completed:

Sheet 2nd QFD 4 
E3: Operational assessment | L3: Process Controls
E4: manufacturing controls and Aids | F4: Difficulty | G4: Frequency | H4: Severity | I4: Detectability | J4: RPN | L4: SPC | M4: Smart tools | N4: Speed sensor | O4: Feed rate sensor | P4: PM Schedule | Q4: QA on incoming coolant | R4: C of C on coolant | S4: Approved supplier on coolant | T4: Flow ratre monitor for coolant | U4: SOP | V4: Training
B5: Process parameters | C5: Target Values
B6: Tool wear | F6: 1 | G6: 9 | H6: 9 | I6: 3 | J6: =+F6*G6*H6*I6 -> 243 | L6: 9 | M6: 9 | N6: 1 | O6: 1 | P6: 9 | U6: 9 | V6: 9
B7: Coolant Concentration | F7: 3 | G7: 3 | H7: 3 | I7: 3 | J7: =+F7*G7*H7*I7 -> 81 | L7: 9 | Q7: 9 | R7: 3 | S7: 3 | U7: 9 | V7: 9
B8: Coolant Flow Rate | F8: 1 | G8: 3 | H8: 9 | I8: 3 | J8: =+F8*G8*H8*I8 -> 81 | P8: 9 | T8: 9 | U8: 3 | V8: 3
B9: Spin rate | F9: 1 | G9: 1 | H9: 9 | I9: 1 | J9: =+F9*G9*H9*I9 -> 9 | L9: 9 | N9: 9 | P9: 9 | U9: 9 | V9: 9
B10: Feed rate | F10: 1 | G10: 1 | H10: 9 | I10: 1 | J10: =+F10*G10*H10*I10 -> 9 | L10: 9 | O10: 9 | P10: 9 | U10: 9 | V10: 9
J11: =+F11*G11*H11*I11 -> 0
J12: =+F12*G12*H12*I12 -> 0
J13: =+F13*G13*H13*I13 -> 0
J14: =+F14*G14*H14*I14 -> 0
J15: =+F15*G15*H15*I15 -> 0
L16: =SUMPRODUCT($J$6:$J$15,L6:L15) -> 3078 | M16: =SUMPRODUCT($J$6:$J$15,M6:M15) -> 2187 | N16: =SUMPRODUCT($J$6:$J$15,N6:N15) -> 324 | O16: =SUMPRODUCT($J$6:$J$15,O6:O15) -> 324 | P16: =SUMPRODUCT($J$6:$J$15,P6:P15) -> 3078 | Q16: =SUMPRODUCT($J$6:$J$15,Q6:Q15) -> 729 | R16: =SUMPRODUCT($J$6:$J$15,R6:R15) -> 243 | S16: =SUMPRODUCT($J$6:$J$15,S6:S15) -> 243 | ... AJ16: =SUMPRODUCT($J$6:$J$15,AJ6:AJ15) -> 0
