Workbook
Name Left_front__corner_sprung_mass__kg: #REF!
Name Left_front__corner_sprung_mass__kg: #REF!
Name Left_front__corner_sprung_mass__kg: #REF!
Name Left_front__corner_sprung_mass__kg: #REF!
Name Left_front__corner_sprung_mass__kg: #REF!
Name Left_front__corner_sprung_mass__kg: #REF!
Name Left_front__corner_sprung_mass__kg: #REF!

Sheet Example Calc 
C1: Lateral Acceleration | D1: 6 | F1: Insert the Lat acc in m/s^2 in here and then read it into the calculations
B3: Measured Suspension Data | E3: Calculated Suspension Data | H3: Results
B4: MR fl | C4: Motion Ratio front left | D4: 0.546 | E4: Ms fl | F4: Front Left corner sprung mass [kg] | G4: =D8-D12 -> 156 | H4: Kϕf | I4: Front Roll Stiffness [Nm/rad] | J4: =(D24^2*AVERAGE(G17:G18)*1000)/2 -> 21287.361
B5: MR fr | C5: Motion Ratio front right | D5: 0.546 | E5: Ms fr | F5: Front Right corner sprung mass [kg] | G5: =D9-D13 -> 156 | H5: Kϕr | I5: Rear Roll Stiffness [Nm/rad] | J5: =(D25^2*AVERAGE(G19:G20)*1000)/2 -> 29796.574
B6: MR rl | C6: Motion Ratio rear left | D6: 0.625 | E6: Ms rl | F6: Rear Left corner sprung mass [kg] | G6: =D10-D14 -> 164 | H6: Kϕt | I6: Total Roll Stiffness [Nm/rad] | J6: =SUM(J4:J5) -> 51083.935 | L6: Mot = Ms x ay x Hsra
B7: MR rr | C7: Motion Ratio rear right | D7: 0.625 | E7: Ms rr | F7: Rear Right corner sprung mass [kg] | G7: =D11-D15 -> 164 | H7: Mot | I7: Overturning moment [Nm] | J7: =G10*D1*G25 -> 1262.856
B8: M fl | C8: Front Left total measured static corner mass [kg] | D8: 194 | E8: Ms f | F8: Total front sprung mass [kg] | G8: =G4+G5 -> 312 | H8: ϕ | I8: Roll angle (Radians) | J8: =J7/J6 -> 0.024721197 | K8: =J8*180/3.142 -> 1.4162366 | L8: deg
B9: M fr | C9: Front Right measured static corner mass [kg] | D9: 194 | E9: Ms r | F9: Total rear sprung mass [kg] | G9: =G6+G7 -> 328 | H9: WTsf | I9: Front weight transfer due to spung mass [N] | J9: =J8*AVERAGE(G17:G18)*D24*1000/2 -> 414.36931
B10: M rl | C10: Rear Left total measured static corner mass [kg] | D10: 208 | E10: Mst | F10: Total sprung mass | G10: =G8+G9 -> 640 | H10: WTsr | I10: Rear weight transfer due to spung mass [N] | J10: =J8*AVERAGE(G19:G20)*D25*1000/2 -> 551.76552 | L10: WTsf =(ϕ x Kwf x Tf)/2
B11: M rr | C11: Rear Right total measured static corner mass [kg] | D11: 208 | E11: Mtot | F11: Total Mass | G11: =SUM(D8:D11) -> 804 | H11: WTsrcf | I11: Front WT due to sprung mass at RC Height | J11: =G8*D1*D31/D24 -> 44.220472
B12: Mus fl | C12: Front Left unsprung mass [kg] | D12: 38 | E12: Must | F12: Total unsprung mass | G12: =SUM(D12:D15) -> 164 | H12: WTsrcr | I12: Rear WT due to sprung mass at RC Height | J12: =G9*D1*D32/D25 -> 88.449438 | L12: WTsr =(ϕ x Kwr x Tr)/2
B13: Mus fr | C13: Front Right total unsprung mass [kg] | D13: 38 | E13: Kw fl | F13: Front Left wheel rate due to spring [N/mm] | G13: =D16*D4^2 -> 16.39638 | H13: Wtusf | I13: Front WT due to Unsprung mass at wheel centre height | J13: =(SUM(D12:D13)*D1*D27)/D24 -> 98.740157
B14: Mus rl | C14: Rear Left unsprung mass [kg] | D14: 44 | E14: Kw fr | F14: Front Right wheel rate due to spring [N/mm] | G14: =D17*D5^2 -> 16.39638 | H14: Wtusr | I14: Rear WT due to Unsprung mass at wheel centre height | J14: =(SUM(D14:D15)*D1*D28)/D25 -> 108.76404
B15: Mus rr | C15: Rear Right unsprung mass [kg] | D15: 44 | E15: Kw rl | F15: Rear Left Wheel Rate due to spring [N/mm] | G15: =D18*D6^2 -> 23.4375 | I15: Total front WT | J15: =J9+J11+J13 -> 557.32994
B16: Ks fl | C16: Front Left Spring rate [N/mm] | D16: 55 | E16: Kw rr | F16: Rear Right wheel rate due to spring [N/mm] | G16: =D19*D7^2 -> 23.4375 | I16: Total Rear WT | J16: =J10+J12+J14 -> 748.979
B17: Ks fr | C17: Front Right Spring rate [N/mm] | D17: 55 | E17: Kw flc | F17: Combined Front Left wheel rate in roll [N/mm] | G17: =G13+D20 -> 26.39638 | I17: Total WT calculated by adding alll Weight Transfers | J17: =J15+J16 -> 1306.3089
B18: Ks rl | C18: Rear Left Spring rate [N/mm] | D18: 60 | E18: Kw frc | F18: Combined Front Right wheel rate in roll [N/mm] | G18: =G14+D21 -> 26.39638 | H18: Fz fl | I18: Left front vertical force [N] | J18: =(D8*9.81)+J15 -> 2460.4699
B19: Ks rr | C19: Rear Right Spring rate [N/mm] | D19: 60 | E19: Kw rlc | F19: Combined Rear Left Wheel Rate in roll [N/mm] | G19: =G15+D22 -> 33.4375 | H19: Fz fr | I19: Front Rightvertical force [N] | J19: =(D9*9.81)-J15 -> 1345.8101 | L19: From static +/- WT
B20: Kwarbfl | C20: Front Left ARB Rate as a wheel rate [N/mm] | D20: 10 | E20: Kw rrc | F20: Combined Rear Right wheel rate in roll [N/mm] | G20: =G16+D23 -> 33.4375 | H20: Fz rl | I20: Rear Left vertical force [N] | J20: =(D10*9.81)+J16 -> 2789.459 | L20: Read vertical wheel load values into correct
B21: Kwarbfr | C21: Front Right ARB Rate as a wheel rate [N/mm] | D21: 10 | E21: b | F21: Distance of cg of sprung mass from front axle [m] | G21: =(G9*D26)/G10 -> 1.2048875 | H21: Fz rr | I21: Rear Right vertical force [N] | J21: =(D11 *9.81)-J16 -> 1291.501 | L21: cells of Rowley Load Split Calculator on
B22: Kwarbrl | C22: Rear Left ARB Rate asa wheel rate [N/mm] | D22: 10 | E22: hr -hf | F22: Rear -Front RC Height [m] | G22: =D32-D31 -> 0.03 | I22: Total wheel loads by individual wheel load check [N] | J22: =SUM(J18:J21) -> 7887.24 | L22: another sheet
B23: Kwarbrr | C23: Rear Right ARB Rate as a wheel rate [N/mm] | D23: 10 | E23: z | F23: Depth of triangle at CG [m] | G23: =G22*G21/D26 -> 0.015375 | I23: Total wheel load by static corner weight check [N] | J23: =G11*9.81 -> 7887.24
B24: Tf | C24: Front Track [m] | D24: 1.27 | E24: z+hf | F24: Height of roll axis at CG [m] | G24: =G23+D31 -> 0.045375 | H24: WT | I24: Total WT calculated for 'solid' car [N] | J24: =G11*D1*D29/ AVERAGE(D24:D25) -> 1311.091 | L24: Use Htot and Mtot to calculate total WT
B25: Tr | C25: Rear track [m] | D25: 1.335 | E25: Hsra | F25: Height of CG above roll axis [m] | G25: =D30-G24 -> 0.32886875 | H25: FLS | I25: Front Load Split [N] | J25: =J18-J19 -> 1114.6599 | L25: These may not match exactly due to different tracks
B26: L | C26: Wheel base [m] | D26: 2.351 | H26: RLS | I26: Rear Load Split [N] | J26: =J20-J21 -> 1497.958
B27: Rrf | C27: Rolling Radius front [m] | D27: 0.275 | F27: b x Mstot = Msr * L | H27: FRLSD | I27: Front - Rear Load Split Difference [N] | J27: =J25-J26 -> -383.29812
B28: Rrr | C28: Rolling Radius rear [m] | D28: 0.275
B29: Ht | C29: Height of CG of total mass above ground [m] | D29: 0.354
B30: Hs | C30: Height of CG of sprung mass above ground [ m] | D30: =((D29*G11)-(SUM(D12:D13)*D27)-( SUM(D14:D15)*D28))/G10 -> 0.37424375 | G30: hr-hf = Z
B31: hf | C31: Height of Front roll centre above ground [m] | D31: 0.03 | G31: L b
B32: hr | C32: Height of Rear roll centre above ground [m] | D32: 0.06
F33: Ht x Mt = (Musf x Rrf) + (Musr x Rrr) + (Mstot x Hs)

Sheet Example Calc  (No Formulae)
C1: Lateral Acceleration | D1: 6 | F1: Insert the Lat acc in m/s^2 in here and then read it into the calculations
B3: Measured Suspension Data | E3: Calculated Suspension Data | H3: Results
B4: MR fl | C4: Motion Ratio front left | D4: 0.546 | E4: Ms fl | F4: Front Left corner sprung mass [kg] | G4: 156 | H4: Kϕf | I4: Front Roll Stiffness [Nm/rad] | J4: 21287.361
B5: MR fr | C5: Motion Ratio front right | D5: 0.546 | E5: Ms fr | F5: Front Right corner sprung mass [kg] | G5: 156 | H5: Kϕr | I5: Rear Roll Stiffness [Nm/rad] | J5: 29796.574
B6: MR rl | C6: Motion Ratio rear left | D6: 0.625 | E6: Ms rl | F6: Rear Left corner sprung mass [kg] | G6: 164 | H6: Kϕt | I6: Total Roll Stiffness [Nm/rad] | J6: 51083.935 | L6: Mot = Ms x ay x Hsra
B7: MR rr | C7: Motion Ratio rear right | D7: 0.625 | E7: Ms rr | F7: Rear Right corner sprung mass [kg] | G7: 164 | H7: Mot | I7: Overturning moment [Nm] | J7: 1262.856
B8: M fl | C8: Front Left total measured static corner mass [kg] | D8: 194 | E8: Ms f | F8: Total front sprung mass [kg] | G8: 312 | H8: ϕ | I8: Roll angle (Radians) | J8: 0.024721197 | K8: =J8*180/3.142 -> 1.4162366 | L8: deg
B9: M fr | C9: Front Right measured static corner mass [kg] | D9: 194 | E9: Ms r | F9: Total rear sprung mass [kg] | G9: 328 | H9: WTsf | I9: Front weight transfer due to spung mass [N] | J9: 414.36931
B10: M rl | C10: Rear Left total measured static corner mass [kg] | D10: 208 | E10: Mst | F10: Total sprung mass | G10: 640 | H10: WTsr | I10: Rear weight transfer due to spung mass [N] | J10: 551.76552 | L10: WTsf =(ϕ x Kwf x Tf)/2
B11: M rr | C11: Rear Right total measured static corner mass [kg] | D11: 208 | E11: Mtot | F11: Total Mass | G11: 804 | H11: WTsrcf | I11: Front WT due to sprung mass at RC Height | J11: 44.220472
B12: Mus fl | C12: Front Left unsprung mass [kg] | D12: 38 | E12: Must | F12: Total unsprung mass | G12: 164 | H12: WTsrcr | I12: Rear WT due to sprung mass at RC Height | J12: 88.449438 | L12: WTsr =(ϕ x Kwr x Tr)/2
B13: Mus fr | C13: Front Right total unsprung mass [kg] | D13: 38 | E13: Kw fl | F13: Front Left wheel rate due to spring [N/mm] | G13: 16.39638 | H13: Wtusf | I13: Front WT due to Unsprung mass at wheel centre height | J13: 98.740157
B14: Mus rl | C14: Rear Left unsprung mass [kg] | D14: 44 | E14: Kw fr | F14: Front Right wheel rate due to spring [N/mm] | G14: 16.39638 | H14: Wtusr | I14: Rear WT due to Unsprung mass at wheel centre height | J14: 108.76404
B15: Mus rr | C15: Rear Right unsprung mass [kg] | D15: 44 | E15: Kw rl | F15: Rear Left Wheel Rate due to spring [N/mm] | G15: 23.4375 | I15: Total front WT | J15: 557.32994
B16: Ks fl | C16: Front Left Spring rate [N/mm] | D16: 55 | E16: Kw rr | F16: Rear Right wheel rate due to spring [N/mm] | G16: 23.4375 | I16: Total Rear WT | J16: 748.979
B17: Ks fr | C17: Front Right Spring rate [N/mm] | D17: 55 | E17: Kw flc | F17: Combined Front Left wheel rate in roll [N/mm] | G17: 26.39638 | I17: Total WT calculated by adding alll Weight Transfers | J17: 1306.3089
B18: Ks rl | C18: Rear Left Spring rate [N/mm] | D18: 60 | E18: Kw frc | F18: Combined Front Right wheel rate in roll [N/mm] | G18: 26.39638 | H18: Fz fl | I18: Left front vertical force [N] | J18: 2460.4699
B19: Ks rr | C19: Rear Right Spring rate [N/mm] | D19: 60 | E19: Kw rlc | F19: Combined Rear Left Wheel Rate in roll [N/mm] | G19: 33.4375 | H19: Fz fr | I19: Front Rightvertical force [N] | J19: 1345.8101 | L19: From static +/- WT
B20: Kwarbfl | C20: Front Left ARB Rate as a wheel rate [N/mm] | D20: 10 | E20: Kw rrc | F20: Combined Rear Right wheel rate in roll [N/mm] | G20: 33.4375 | H20: Fz rl | I20: Rear Left vertical force [N] | J20: 2789.459 | L20: Read vertical wheel load values into correct
B21: Kwarbfr | C21: Front Right ARB Rate as a wheel rate [N/mm] | D21: 10 | E21: b | F21: Distance of cg of sprung mass from front axle [m] | G21: 1.2048875 | H21: Fz rr | I21: Rear Right vertical force [N] | J21: 1291.501 | L21: cells of Rowley Load Split Calculator on
B22: Kwarbrl | C22: Rear Left ARB Rate asa wheel rate [N/mm] | D22: 10 | E22: hr -hf | F22: Rear -Front RC Height [m] | G22: 0.03 | I22: Total wheel loads by individual wheel load check [N] | J22: 7887.24 | L22: another sheet
B23: Kwarbrr | C23: Rear Right ARB Rate as a wheel rate [N/mm] | D23: 10 | E23: z | F23: Depth of triangle at CG [m] | G23: 0.015375 | I23: Total wheel load by static corner weight check [N] | J23: 7887.24
B24: Tf | C24: Front Track [m] | D24: 1.27 | E24: z+hf | F24: Height of roll axis at CG [m] | G24: 0.045375 | H24: WT | I24: Total WT calculated for 'solid' car [N] | J24: 1311.091 | L24: Use Htot and Mtot to calculate total WT
B25: Tr | C25: Rear track [m] | D25: 1.335 | E25: Hsra | F25: Height of CG above roll axis [m] | G25: 0.32886875 | H25: FLS | I25: Front Load Split [N] | J25: 1114.6599 | L25: These may not match exactly due to different tracks
B26: L | C26: Wheel base [m] | D26: 2.351 | H26: RLS | I26: Rear Load Split [N] | J26: 1497.958
B27: Rrf | C27: Rolling Radius front [m] | D27: 0.275 | F27: b x Mstot = Msr * L | H27: FRLSD | I27: Front -Rear Load Split Difference [N] | J27: -383.29812
B28: Rrr | C28: Rolling Radius rear [m] | D28: 0.275
B29: Ht | C29: Height of CG of total mass above ground [m] | D29: 0.354
B30: Hs | C30: Height of CG of sprung mass above ground [ m] | D30: 0.37424375 | G30: hr-hf = Z
B31: hf | C31: Height of Front roll centre above ground [m] | D31: 0.03 | G31: L b
B32: hr | C32: Height of Rear roll centre above ground [m] | D32: 0.06
F33: Ht x Mt = (Musf x Rrf) + (Musr x Rrr) + (Mstot x Hs)

Sheet Example  Calc Load Splits 
C2: Wheel load distribution
H5: =H7/H11 -> 0.48258706
H6: LF+RF
H7: =F9+J9 -> 3806.28
F8: =F9/H11 -> 0.31195576 | G8: LF | I8: RF | J8: =J9/H11 -> 0.17063131
C9: Front Split | D9: LF-RF | E9: =F9-J9 -> 1114.6599 | F9: =+'Example Calc '!J18 -> 2460.4699 | J9: ='Example Calc '!J19 -> 1345.8101
D11: LF+LR | E11: =F11/H11 -> 0.66562308 | F11: =F9+F13 -> 5249.9289 | H11: =H7+H14 -> 7887.24 | J11: =J9+J13 -> 2637.3111 | K11: =J11/H11 -> 0.33437692 | L11: RF+RR
C12: Front - Rear Load Split Difference | E12: =E9-E13 -> -383.29812 | F12: =F13/H11 -> 0.35366732 | J12: =J13/H11 -> 0.16374562
C13: Rear Split | D13: LR-RR | E13: =F13-J13 -> 1497.958 | F13: ='Example Calc '!J20 -> 2789.459 | G13: LR | I13: RR | J13: ='Example Calc '!J21 -> 1291.501
E14: LR-LF Split | F14: =F13-F9 -> 328.98906 | H14: =F13+J13 -> 4080.96 | J14: =J13-J9 -> -54.30906 | K14: RR-RF Split
E15: Wedge | F15: =(F13+J9)/H11 -> 0.52429862 | H15: LR+RR
E16: LR-RF Split | F16: =F13-J9 -> 1443.6489 | H16: =H14/H11 -> 0.51741294
E19: 156

Sheet Simple  Calc
C1: Lateral Acceleration | D1: 5 | F1: Insert the Lat acc in m/s^2 in here and then read it into the calculations
B3: Measured Suspension Data | E3: Calculated Suspension Data | H3: Results
B4: MR fl | C4: Motion Ratio front left | D4: 1 | E4: Ms fl | F4: Front Left corner sprung mass [kg] | G4: =D8-D12 -> 225 | H4: Kϕf | I4: Front Roll Stiffness [Nm/rad] | J4: =(D24^2*AVERAGE(G17:G18)*1000)/2 -> 67500
B5: MR fr | C5: Motion Ratio front right | D5: 1 | E5: Ms fr | F5: Front Right corner sprung mass [kg] | G5: =D9-D13 -> 225 | H5: Kϕr | I5: Rear Roll Stiffness [Nm/rad] | J5: =(D25^2*AVERAGE(G19:G20)*1000)/2 -> 67500
B6: MR rl | C6: Motion Ratio rear left | D6: 1 | E6: Ms rl | F6: Rear Left corner sprung mass [kg] | G6: =D10-D14 -> 225 | H6: Kϕt | I6: Total Roll Stiffness [Nm/rad] | J6: =SUM(J4:J5) -> 135000 | L6: Mot = Ms x ay x Hsra
B7: MR rr | C7: Motion Ratio rear right | D7: 1 | E7: Ms rr | F7: Rear Right corner sprung mass [kg] | G7: =D11-D15 -> 225 | H7: Mot | I7: Overturning moment [Nm] | J7: =G10*D1*G25 -> 1187.5
B8: M fl | C8: Front Left total measured static corner mass [kg] | D8: 250 | E8: Ms f | F8: Total front sprung mass [kg] | G8: =G4+G5 -> 450 | H8: ϕ | I8: Roll angle (Radians) | J8: =J7/J6 -> 0.0087962963 | K8: =J8*180/3.142 -> 0.50392531 | L8: deg
B9: M fr | C9: Front Right measured static corner mass [kg] | D9: 250 | E9: Ms r | F9: Total rear sprung mass [kg] | G9: =G6+G7 -> 450 | H9: WTsf | I9: Front weight transfer due to spung mass [N] | J9: =J8*AVERAGE(G17:G18)*D24*1000/2 -> 395.83333
B10: M rl | C10: Rear Left total measured static corner mass [kg] | D10: 250 | E10: Mst | F10: Total sprung mass | G10: =G8+G9 -> 900 | H10: WTsr | I10: Rear weight transfer due to spung mass [N] | J10: =J8*AVERAGE(G19:G20)*D25*1000/2 -> 395.83333 | L10: WTsf =(ϕ x Kwf x Tf)/2
B11: M rr | C11: Rear Right total measured static corner mass [kg] | D11: 250 | E11: Mtot | F11: Total Mass | G11: =SUM(D8:D11) -> 1000 | H11: WTsrcf | I11: Front WT due to sprung mass at RC Height | J11: =G8*D1*D31/D24 -> 150
B12: Mus fl | C12: Front Left unsprung mass [kg] | D12: 25 | E12: Must | F12: Total unsprung mass | G12: =SUM(D12:D15) -> 100 | H12: WTsrcr | I12: Rear WT due to sprung mass at RC Height | J12: =G9*D1*D32/D25 -> 300 | L12: WTsr =(ϕ x Kwr x Tr)/2
B13: Mus fr | C13: Front Right total unsprung mass [kg] | D13: 25 | E13: Kw fl | F13: Front Left wheel rate due to spring [N/mm] | G13: =D16*D4^2 -> 50 | H13: Wtusf | I13: Front WT due to Unsprung mass at wheel centre height | J13: =(SUM(D12:D13)*D1*D27)/D24 -> 45.833333
B14: Mus rl | C14: Rear Left unsprung mass [kg] | D14: 25 | E14: Kw fr | F14: Front Right wheel rate due to spring [N/mm] | G14: =D17*D5^2 -> 50 | H14: Wtusr | I14: Rear WT due to Unsprung mass at wheel centre height | J14: =(SUM(D14:D15)*D1*D28)/D25 -> 45.833333
B15: Mus rr | C15: Rear Right unsprung mass [kg] | D15: 25 | E15: Kw rl | F15: Rear Left Wheel Rate due to spring [N/mm] | G15: =D18*D6^2 -> 50 | I15: Total front WT | J15: =J9+J11+J13 -> 591.66667
B16: Ks fl | C16: Front Left Spring rate [N/mm] | D16: 50 | E16: Kw rr | F16: Rear Right wheel rate due to spring [N/mm] | G16: =D19*D7^2 -> 50 | I16: Total Rear WT | J16: =J10+J12+J14 -> 741.66667
B17: Ks fr | C17: Front Right Spring rate [N/mm] | D17: 50 | E17: Kw flc | F17: Combined Front Left wheel rate in roll [N/mm] | G17: =G13+D20 -> 60 | I17: Total WT calculated by adding alll Weight Transfers | J17: =J15+J16 -> 1333.3333
B18: Ks rl | C18: Rear Left Spring rate [N/mm] | D18: 50 | E18: Kw frc | F18: Combined Front Right wheel rate in roll [N/mm] | G18: =G14+D21 -> 60 | H18: Fz fl | I18: Left front vertical force [N] | J18: =(D8*9.81)+J15 -> 3044.1667
B19: Ks rr | C19: Rear Right Spring rate [N/mm] | D19: 50 | E19: Kw rlc | F19: Combined Rear Left Wheel Rate in roll [N/mm] | G19: =G15+D22 -> 60 | H19: Fz fr | I19: Front Rightvertical force [N] | J19: =(D9*9.81)-J15 -> 1860.8333 | L19: From static +/- WT
B20: Kwarbfl | C20: Front Left ARB Rate as a wheel rate [N/mm] | D20: 10 | E20: Kw rrc | F20: Combined Rear Right wheel rate in roll [N/mm] | G20: =G16+D23 -> 60 | H20: Fz rl | I20: Rear Left vertical force [N] | J20: =(D10*9.81)+J16 -> 3194.1667 | L20: Read vertical wheel load values into correct
B21: Kwarbfr | C21: Front Right ARB Rate as a wheel rate [N/mm] | D21: 10 | E21: b | F21: Distance of cg of sprung mass from front axle [m] | G21: =(G9*D26)/G10 -> 1.25 | H21: Fz rr | I21: Rear Right vertical force [N] | J21: =(D11 *9.81)-J16 -> 1710.8333 | L21: cells of Rowley Load Split Calculator on
B22: Kwarbrl | C22: Rear Left ARB Rate asa wheel rate [N/mm] | D22: 10 | E22: hr -hf | F22: Rear -Front RC Height [m] | G22: =D32-D31 -> 0.1 | I22: Total wheel loads by individual wheel load check [N] | J22: =SUM(J18:J21) -> 9810 | L22: another sheet
B23: Kwarbrr | C23: Rear Right ARB Rate as a wheel rate [N/mm] | D23: 10 | E23: z | F23: Depth of triangle at CG [m] | G23: =G22*G21/D26 -> 0.05 | I23: Total wheel load by static corner weight check [N] | J23: =G11*9.81 -> 9810
B24: Tf | C24: Front Track [m] | D24: 1.5 | E24: z+hf | F24: Height of roll axis at CG [m] | G24: =G23+D31 -> 0.15 | H24: WT | I24: Total WT calculated for 'solid' car [N] | J24: =G11*D1*D29/ AVERAGE(D24:D25) -> 1333.3333 | L24: Use Htot and Mtot to calculate total WT
B25: Tr | C25: Rear track [m] | D25: 1.5 | E25: Hsra | F25: Height of CG above roll axis [m] | G25: =D30-G24 -> 0.26388889 | H25: FLS | I25: Front Load Split [N] | J25: =J18-J19 -> 1183.3333 | L25: These may not match exactly due to different tracks
B26: L | C26: Wheel base [m] | D26: 2.5 | H26: RLS | I26: Rear Load Split [N] | J26: =J20-J21 -> 1483.3333
B27: Rrf | C27: Rolling Radius front [m] | D27: 0.275 | F27: b x Mstot = Msr * L | H27: FRLSD | I27: Front- Rear Load Split Difference [N] | J27: =J25-J26 -> -300
B28: Rrr | C28: Rolling Radius rear [m] | D28: 0.275
B29: Ht | C29: Height of CG of total mass above ground [m] | D29: 0.4
B30: Hs | C30: Height of CG of sprung mass above ground [ m] | D30: =((D29*G11)-(SUM(D12:D13)*D27)-( SUM(D14:D15)*D28))/G10 -> 0.41388889 | G30: hr-hf = Z
B31: hf | C31: Height of Front roll centre above ground [m] | D31: 0.1 | G31: L b
B32: hr | C32: Height of Rear roll centre above ground [m] | D32: 0.2
F33: Ht x Mt = (Musf x Rrf) + (Musr x Rrr) + (Mstot x Hs)

Sheet Simple Calc  No Formulae 
C1: Lateral Acceleration | D1: 5 | F1: Insert the Lat acc in m/s^2 in here and then read it into the calculations
B3: Measured Suspension Data | E3: Calculated Suspension Data | H3: Results
B4: MR fl | C4: Motion Ratio front left | D4: 1 | E4: Ms fl | F4: Front Left corner sprung mass [kg] | G4: 225 | H4: Kϕf | I4: Front Roll Stiffness [Nm/rad] | J4: 67500
B5: MR fr | C5: Motion Ratio front right | D5: 1 | E5: Ms fr | F5: Front Right corner sprung mass [kg] | G5: 225 | H5: Kϕr | I5: Rear Roll Stiffness [Nm/rad] | J5: 67500
B6: MR rl | C6: Motion Ratio rear left | D6: 1 | E6: Ms rl | F6: Rear Left corner sprung mass [kg] | G6: 225 | H6: Kϕt | I6: Total Roll Stiffness [Nm/rad] | J6: 135000 | L6: Mot = Ms x ay x Hsra
B7: MR rr | C7: Motion Ratio rear right | D7: 1 | E7: Ms rr | F7: Rear Right corner sprung mass [kg] | G7: 225 | H7: Mot | I7: Overturning moment [Nm] | J7: 1187.5
B8: M fl | C8: Front Left total measured static corner mass [kg] | D8: 250 | E8: Ms f | F8: Total front sprung mass [kg] | G8: 450 | H8: ϕ | I8: Roll angle (Radians) | J8: 0.0087962963 | K8: =J8*180/3.142 -> 0.50392531 | L8: deg
B9: M fr | C9: Front Right measured static corner mass [kg] | D9: 250 | E9: Ms r | F9: Total rear sprung mass [kg] | G9: 450 | H9: WTsf | I9: Front weight transfer due to spung mass [N] | J9: 395.83333
B10: M rl | C10: Rear Left total measured static corner mass [kg] | D10: 250 | E10: Mst | F10: Total sprung mass | G10: 900 | H10: WTsr | I10: Rear weight transfer due to spung mass [N] | J10: 395.83333 | L10: WTsf =(ϕ x Kwf x Tf)/2
B11: M rr | C11: Rear Right total measured static corner mass [kg] | D11: 250 | E11: Mtot | F11: Total Mass | G11: 1000 | H11: WTsrcf | I11: Front WT due to sprung mass at RC Height | J11: 150
B12: Mus fl | C12: Front Left unsprung mass [kg] | D12: 25 | E12: Must | F12: Total unsprung mass | G12: 100 | H12: WTsrcr | I12: Rear WT due to sprung mass at RC Height | J12: 300 | L12: WTsr =(ϕ x Kwr x Tr)/2
B13: Mus fr | C13: Front Right total unsprung mass [kg] | D13: 25 | E13: Kw fl | F13: Front Left wheel rate due to spring [N/mm] | G13: 50 | H13: Wtusf | I13: Front WT due to Unsprung mass at wheel centre height | J13: 45.833333
B14: Mus rl | C14: Rear Left unsprung mass [kg] | D14: 25 | E14: Kw fr | F14: Front Right wheel rate due to spring [N/mm] | G14: 50 | H14: Wtusr | I14: Rear WT due to Unsprung mass at wheel centre height | J14: 45.833333
B15: Mus rr | C15: Rear Right unsprung mass [kg] | D15: 25 | E15: Kw rl | F15: Rear Left Wheel Rate due to spring [N/mm] | G15: 50 | I15: Total front WT | J15: 591.66667
B16: Ks fl | C16: Front Left Spring rate [N/mm] | D16: 50 | E16: Kw rr | F16: Rear Right wheel rate due to spring [N/mm] | G16: 50 | I16: Total Rear WT | J16: 741.66667
B17: Ks fr | C17: Front Right Spring rate [N/mm] | D17: 50 | E17: Kw flc | F17: Combined Front Left wheel rate in roll [N/mm] | G17: 60 | I17: Total WT calculated by adding alll Weight Transfers | J17: 1333.3333
B18: Ks rl | C18: Rear Left Spring rate [N/mm] | D18: 50 | E18: Kw frc | F18: Combined Front Right wheel rate in roll [N/mm] | G18: 60 | H18: Fz fl | I18: Left front vertical force [N] | J18: 3044.1667
B19: Ks rr | C19: Rear Right Spring rate [N/mm] | D19: 50 | E19: Kw rlc | F19: Combined Rear Left Wheel Rate in roll [N/mm] | G19: 60 | H19: Fz fr | I19: Front Rightvertical force [N] | J19: 1860.8333 | L19: From static +/- WT
B20: Kwarbfl | C20: Front Left ARB Rate as a wheel rate [N/mm] | D20: 10 | E20: Kw rrc | F20: Combined Rear Right wheel rate in roll [N/mm] | G20: 60 | H20: Fz rl | I20: Rear Left vertical force [N] | J20: 3194.1667 | L20: Read vertical wheel load values into correct
B21: Kwarbfr | C21: Front Right ARB Rate as a wheel rate [N/mm] | D21: 10 | E21: b | F21: Distance of cg of sprung mass from front axle [m] | G21: 1.25 | H21: Fz rr | I21: Rear Right vertical force [N] | J21: 1710.8333 | L21: cells of Rowley Load Split Calculator on
B22: Kwarbrl | C22: Rear Left ARB Rate asa wheel rate [N/mm] | D22: 10 | E22: hr -hf | F22: Rear -Front RC Height [m] | G22: 0.1 | I22: Total wheel loads by individual wheel load check [N] | J22: 9810 | L22: another sheet
B23: Kwarbrr | C23: Rear Right ARB Rate as a wheel rate [N/mm] | D23: 10 | E23: z | F23: Depth of triangle at CG [m] | G23: 0.05 | I23: Total wheel load by static corner weight check [N] | J23: 9810
B24: Tf | C24: Front Track [m] | D24: 1.5 | E24: z+hf | F24: Height of roll axis at CG [m] | G24: 0.15 | H24: WT | I24: Total WT calculated for 'solid' car [N] | J24: 1333.3333 | L24: Use Htot and Mtot to calculate total WT
B25: Tr | C25: Rear track [m] | D25: 1.5 | E25: Hsra | F25: Height of CG above roll axis [m] | G25: 0.26388889 | H25: FLS | I25: Front Load Split [N] | J25: 1183.3333 | L25: These may not match exactly due to different tracks
B26: L | C26: Wheel base [m] | D26: 2.5 | H26: RLS | I26: Rear Load Split [N] | J26: 1483.3333
B27: Rrf | C27: Rolling Radius front [m] | D27: 0.275 | F27: b x Mstot = Msr * L | H27: FRLSD | I27: Front- Rear Load Split Difference [N] | J27: -300
B28: Rrr | C28: Rolling Radius rear [m] | D28: 0.275
B29: Ht | C29: Height of CG of total mass above ground [m] | D29: 0.4
B30: Hs | C30: Height of CG of sprung mass above ground [ m] | D30: 0.41388889 | G30: hr-hf = Z
B31: hf | C31: Height of Front roll centre above ground [m] | D31: 0.1 | G31: L b
B32: hr | C32: Height of Rear roll centre above ground [m] | D32: 0.2
F33: Ht x Mt = (Musf x Rrf) + (Musr x Rrr) + (Mstot x Hs)

Sheet Simple  Calc Load Splits
C2: Wheel load distribution
H5: =H7/H11 -> 0.5
H6: LF+RF
H7: =F9+J9 -> 4905
F8: =F9/H11 -> 0.31031261 | G8: LF | I8: RF | J8: =J9/H11 -> 0.18968739
C9: Front Split | D9: LF-RF | E9: =F9-J9 -> 1183.3333 | F9: ='Simple Calc'!J18 -> 3044.1667 | J9: ='Simple Calc'!J19 -> 1860.8333
D11: LF+LR | E11: =F11/H11 -> 0.63591573 | F11: =F9+F13 -> 6238.3333 | H11: =H7+H14 -> 9810 | J11: =J9+J13 -> 3571.6667 | K11: =J11/H11 -> 0.36408427 | L11: RF+RR
C12: Front - Rear Load Split Difference | E12: =E9-E13 -> -300 | F12: =F13/H11 -> 0.32560313 | J12: =J13/H11 -> 0.17439687
C13: Rear Split | D13: LR-RR | E13: =F13-J13 -> 1483.3333 | F13: ='Simple Calc'!J20 -> 3194.1667 | G13: LR | I13: RR | J13: ='Simple Calc'!J21 -> 1710.8333
E14: LR-LF Split | F14: =F13-F9 -> 150 | H14: =F13+J13 -> 4905 | J14: =J13-J9 -> -150 | K14: RR-RF Split
E15: Wedge | F15: =(F13+J9)/H11 -> 0.51529052 | H15: LR+RR
E16: LR-RF Split | F16: =F13-J9 -> 1333.3333 | H16: =H14/H11 -> 0.5
E19: 156

Sheet Blank WT Structure
C1: Lateral Acceleration
B3: Measured Suspension Data | E3: Calculated Suspension Data | H3: Results
B4: MR fl | C4: Motion Ratio front left | E4: Ms fl | F4: Front Left corner sprung mass [kg] | H4: Kϕf | I4: Front Roll Stiffness [Nm/rad]
B5: MR fr | C5: Motion Ratio front right | E5: Ms fr | F5: Front Right corner sprung mass [kg] | H5: Kϕr | I5: Rear Roll Stiffness [Nm/rad]
B6: MR rl | C6: Motion Ratio rear left | E6: Ms rl | F6: Rear Left corner sprung mass [kg] | H6: Kϕt | I6: Total Roll Stiffness [Nm/rad]
B7: MR rr | C7: Motion Ratio rear right | E7: Ms rr | F7: Rear Right corner sprung mass [kg] | H7: Mot | I7: Overturning moment [Nm]
B8: M fl | C8: Front Left total measured static corner mass [kg] | E8: Ms f | F8: Total front sprung mass [kg] | H8: ϕ | I8: Roll angle (Radians)
B9: M fr | C9: Front Right measured static corner mass [kg] | E9: Ms r | F9: Total rear sprung mass [kg] | H9: WTsf | I9: Front weight transfer due to spung mass [N]
B10: M rl | C10: Rear Left total measured static corner mass [kg] | E10: Mst | F10: Total sprung mass | H10: WTsr | I10: Rear weight transfer due to spung mass [N]
B11: M rr | C11: Rear Right total measured static corner mass [kg] | E11: Mtot | F11: Total Mass | H11: WTsrcf | I11: Front WT due to sprung mass at RC Height
B12: Mus fl | C12: Front Left unsprung mass [kg] | E12: Must | F12: Total unsprung mass | H12: WTsrcr | I12: Rear WT due to sprung mass at RC Height
B13: Mus fr | C13: Front Right total unsprung mass [kg] | E13: Kw fl | F13: Front Left wheel rate due to spring [N/mm] | H13: Wtusf | I13: Front WT due to Unsprung mass at wheel centre height
B14: Mus rl | C14: Rear Left unsprung mass [kg] | E14: Kw fr | F14: Front Right wheel rate due to spring [N/mm] | H14: Wtusr | I14: Rear WT due to Unsprung mass at wheel centre height
B15: Mus rr | C15: Rear Right unsprung mass [kg] | E15: Kw rl | F15: Rear Left Wheel Rate due to spring [N/mm] | I15: Total front WT
B16: Ks fl | C16: Front Left Spring rate [N/mm] | E16: Kw rr | F16: Rear Right wheel rate due to spring [N/mm] | I16: Total Rear WT
B17: Ks fr | C17: Front Right Spring rate [N/mm] | E17: Kw flc | F17: Combined Front Left wheel rate in roll [N/mm] | I17: Total WT calculated by adding alll Weight Transfers
B18: Ks rl | C18: Rear Left Spring rate [N/mm] | E18: Kw frc | F18: Combined Front Right wheel rate in roll [N/mm] | H18: Fz fl | I18: Left front vertical force [N]
B19: Ks rr | C19: Rear Right Spring rate [N/mm] | E19: Kw rlc | F19: Combined Rear Left Wheel Rate in roll [N/mm] | H19: Fz fr | I19: Front Rightvertical force [N]
B20: Kwarbfl | C20: Front Left ARB Rate as a wheel rate [N/mm] | E20: Kw rrc | F20: Combined Rear Right wheel rate in roll [N/mm] | H20: Fz rl | I20: Rear Left vertical force [N]
B21: Kwarbfr | C21: Front Right ARB Rate as a wheel rate [N/mm] | E21: b | F21: Distance of cg of sprung mass from front axle [m] | H21: Fz rr | I21: Rear Right vertical force [N]
B22: Kwarbrl | C22: Rear Left ARB Rate asa wheel rate [N/mm] | E22: hr -hf | F22: Rear -Front RC Height [m] | I22: Total wheel loads by individual wheel load check [N]
B23: Kwarbrr | C23: Rear Right ARB Rate as a wheel rate [N/mm] | E23: z | F23: Depth of triangle at CG [m] | I23: Total wheel load by static corner weight check [N]
B24: Tf | C24: Front Track [m] | E24: z+hf | F24: Height of roll axis at CG [m] | H24: WT | I24: Total WT calculated for 'solid' car [N]
B25: Tr | C25: Rear track [m] | E25: Hsra | F25: Height of CG above roll axis [m] | H25: FLS | I25: Front Load Split [N]
B26: L | C26: Wheel base [m] | H26: RLS | I26: Rear Load Split [N]
B27: Rrf | C27: Rolling Radius front [m] | H27: FRLSD | I27: Front Rear Load Split Difference [N]
B28: Rrr | C28: Rolling Radius rear [m]
B29: Ht | C29: Height of CG of total mass above ground [m]
B30: Hs | C30: Height of CG of sprung mass above ground [ m]
B31: hf | C31: Height of Front roll centre above ground [m]
B32: hr | C32: Height of Rear roll centre above ground [m]
