Workbook

Sheet motorcycle data
B2: Suzuki SV650 sk5
B3: power (W) | C3: kerb mass (kg) | D3: power to weight ratio | E3: rolling resistance coefficient | F3: aero drag coefficient | G3: frontal area (m^2)
B4: 51453.3 | C4: 198 | D4: =B4/C4 -> 259.86515 | E4: 0.02 | F4: 0.7 | G4: 0.47
E6: rolling resistance force (N)
E7: =C4*9.81*E4 -> 38.8476

Sheet WLTC_class_3
B2: Class 3 vehicles: | C2: vehicles with a ratio of rated power in W / kerb mass in kg > 34
B4: For further requirements/recommendations see table "Explanations" | P4: *KERS presumed to be 75% efficient
B6: Phase | C6: Total elapsed time | D6: Phase elapsed time | E6: WLTC class 3, version 5, vehicle speed | F6: WLTC class 3, version 5, vehicle speed | G6: WLTC class 3, version 5, acceleration | H6: acceleration force | I6: Aero resistance | J6: Total force | K6: tractive force | L6: Braking force | M6: Power | N6: Tractive power | O6: Braking Power | P6: regenerative power after losses | Q6: regenerative power after losses during braking period | R6: sum of regenerative power after losses during braking period | S6: energy stored per braking period | T6: Cumulative tractive power | U6: Cumulative braking power | V6: braking power returned to contact patch | X6: maximum velocity | Y6: average velocity | Z6: maximum acceleration | AA6: average acceleration | AB6: maximum tractive force | AC6: avergage tractive force | AD6: maximum braking force | AE6: average braking force | AF6: maximum tractive power | AG6: average tractive power | AH6: maximum braking power | AI6: average braking power | AJ6: maximum power after losses | AK6: average power after losses | AL6: maximum braking power per period | AM6: average braking power per period (after losses) | AN6: maximum braking energy per period | AO6: average braking energy per period | AP6: maximum power available for acceleration | AQ6: average power avaialable for acceleration
B7: Phase | C7: s | D7: s | E7: km/s | F7: m/s | G7: m/s² | H7: N | I7: N | J7: N | K7: N | L7: N | M7: kW | N7: kW | O7: kW | P7: kW | Q7: kW | R7: kW | S7: Kj | T7: kW | U7: kW | V7: N | X7: m/s | Y7: m/s | Z7: m/s² | AA7: m/s² | AB7: N | AC7: N | AD7: N | AE7: N | AF7: kW | AG7: kW | AH7: kW | AI7: kW | AJ7: kW | AK7: kW | AL7: kW | AM7: kW | AN7: kJ | AO7: kJ | AP7: N | AQ7: N
B8: Low | C8: 0 | D8: 0 | E8: 0 | F8: =E8/3.6 -> 0 | G8: =($E9-0)/2/3.6 -> 0 | H8: =('motorcycle data'!$C$4)*(G8) -> 0 | I8: =0.5*1.225*F8^2*('motorcycle data'!$F$4)*('motorcycle data'!$G$4) -> 0 | J8: =IF(F8=0,0,H8+I8+'motorcycle data'!$E$7) -> 0 | K8: =IF(J8<=0,0,J8) -> 0 | L8: =IF(J8<0,J8*-1,0) -> 0 | M8: =(J8*F8)/1000 -> 0 | N8: =IF(M8>0,M8,0) -> 0 | O8: =IF(M8<0,M8*-1,0) -> 0 | P8: =O8*0.75 -> 0 | Q8: =IF(G8<0,P8,"") | R8: =IF(H8<0,Q8,"") | T8: =N8 -> 0 | U8: =O8 -> 0 | V8: =O8*0.75*0.9*0.9 -> 0 | X8: =MAX(F8:F1808) -> 36.472222 | Y8: =AVERAGE(F8:F1808) -> 12.916374 | Z8: =MAX(G8:G1808) -> 1.5833333 | AA8: =AVERAGEIF(G8:G1808,">0") -> 0.40910553 | AB8: =MAX(K8:K1808) -> 362.71201 | AC8: =AVERAGE(K8:K1808) -> 104.64786 | AD8: =MAX(L8:L1808) -> 251.06627 | AE8: =AVERAGE(M8:M1808) -> 1.8363128 | AF8: =MAX(N8:N1808) -> 12.008115 | AG8: =AVERAGE(N8:N1808) -> 1.9712208 | AH8: =MAX(O8:O1808) -> 3.0454504 | AI8: =AVERAGE(O8:O1808) -> 0.13490802 | AJ8: =MAX(P8:P1808) -> 2.2840878 | AK8: =AVERAGE(P8:P1808) -> 0.10118102 | AL8: =MAX(R8:R1808) -> 15.441026 | AM8: =AVERAGE(R8:R1808) -> 3.0371169 | AN8: =MAX(S8:S1808) -> 1096.3129 | AO8: =AVERAGE(S9:S1808) -> 90.272302 | AP8: =MAX(V8:V1808) -> 1.8501111 | AQ8: =AVERAGEIF(V8:V1808,">0") -> 0.47308936
B9: Low | C9: 1 | D9: 1 | E9: 0 | F9: =E9/3.6 -> 0 | G9: =($E10-$E8)/2/3.6 -> 0 | H9: =('motorcycle data'!$C$4)*(G9) -> 0 | I9: =0.5*1.225*F9^2*('motorcycle data'!$F$4)*('motorcycle data'!$G$4) -> 0 | J9: =IF(F9=0,0,H9+I9+'motorcycle data'!$E$7) -> 0 | K9: =IF(J9<=0,0,J9) -> 0 | L9: =IF(J9<0,J9*-1,0) -> 0 | M9: =(J9*F9)/1000 -> 0 | N9: =IF(M9>0,M9,0) -> 0 | O9: =IF(M9<0,M9*-1,0) -> 0 | P9: =O9*0.75 -> 0 | Q9: =IF(G9<0,P9,"") | T9: =T8+N9 -> 0 | U9: =U8+O9 -> 0 | V9: =O9*0.75*0.9*0.9 -> 0
B10: Low | C10: 2 | D10: 2 | E10: 0 | F10: =E10/3.6 -> 0 | G10: =($E11-$E9)/2/3.6 -> 0 | H10: =('motorcycle data'!$C$4)*(G10) -> 0 | I10: =0.5*1.225*F10^2*('motorcycle data'!$F$4)*('motorcycle data'!$G$4) -> 0 | J10: =IF(F10=0,0,H10+I10+'motorcycle data'!$E$7) -> 0 | K10: =IF(J10<=0,0,J10) -> 0 | L10: =IF(J10<0,J10*-1,0) -> 0 | M10: =(J10*F10)/1000 -> 0 | N10: =IF(M10>0,M10,0) -> 0 | O10: =IF(M10<0,M10*-1,0) -> 0 | P10: =O10*0.75 -> 0 | Q10: =IF(G10<0,P10,"") | T10: =T9+N10 -> 0 | U10: =U9+O10 -> 0 | V10: =O10*0.75*0.9*0.9 -> 0
B11: Low | C11: 3 | D11: 3 | E11: 0 | F11: =E11/3.6 -> 0 | G11: =($E12-$E10)/2/3.6 -> 0 | H11: =('motorcycle data'!$C$4)*(G11) -> 0 | I11: =0.5*1.225*F11^2*('motorcycle data'!$F$4)*('motorcycle data'!$G$4) -> 0 | J11: =IF(F11=0,0,H11+I11+'motorcycle data'!$E$7) -> 0 | K11: =IF(J11<=0,0,J11) -> 0 | L11: =IF(J11<0,J11*-1,0) -> 0 | M11: =(J11*F11)/1000 -> 0 | N11: =IF(M11>0,M11,0) -> 0 | O11: =IF(M11<0,M11*-1,0) -> 0 | P11: =O11*0.75 -> 0 | Q11: =IF(G11<0,P11,"") | T11: =T10+N11 -> 0 | U11: =U10+O11 -> 0 | V11: =O11*0.75*0.9*0.9 -> 0
B12: Low | C12: 4 | D12: 4 | E12: 0 | F12: =E12/3.6 -> 0 | G12: =($E13-$E11)/2/3.6 -> 0 | H12: =('motorcycle data'!$C$4)*(G12) -> 0 | I12: =0.5*1.225*F12^2*('motorcycle data'!$F$4)*('motorcycle data'!$G$4) -> 0 | J12: =IF(F12=0,0,H12+I12+'motorcycle data'!$E$7) -> 0 | K12: =IF(J12<=0,0,J12) -> 0 | L12: =IF(J12<0,J12*-1,0) -> 0 | M12: =(J12*F12)/1000 -> 0 | N12: =IF(M12>0,M12,0) -> 0 | O12: =IF(M12<0,M12*-1,0) -> 0 | P12: =O12*0.75 -> 0 | Q12: =IF(G12<0,P12,"") | T12: =T11+N12 -> 0 | U12: =U11+O12 -> 0 | V12: =O12*0.75*0.9*0.9 -> 0
B13: Low | C13: 5 | D13: 5 | E13: 0 | F13: =E13/3.6 -> 0 | G13: =($E14-$E12)/2/3.6 -> 0 | H13: =('motorcycle data'!$C$4)*(G13) -> 0 | I13: =0.5*1.225*F13^2*('motorcycle data'!$F$4)*('motorcycle data'!$G$4) -> 0 | J13: =IF(F13=0,0,H13+I13+'motorcycle data'!$E$7) -> 0 | K13: =IF(J13<=0,0,J13) -> 0 | L13: =IF(J13<0,J13*-1,0) -> 0 | M13: =(J13*F13)/1000 -> 0 | N13: =IF(M13>0,M13,0) -> 0 | O13: =IF(M13<0,M13*-1,0) -> 0 | P13: =O13*0.75 -> 0 | Q13: =IF(G13<0,P13,"") | T13: =T12+N13 -> 0 | U13: =U12+O13 -> 0 | V13: =O13*0.75*0.9*0.9 -> 0
B14: Low | C14: 6 | D14: 6 | E14: 0 | F14: =E14/3.6 -> 0 | G14: =($E15-$E13)/2/3.6 -> 0 | H14: =('motorcycle data'!$C$4)*(G14) -> 0 | I14: =0.5*1.225*F14^2*('motorcycle data'!$F$4)*('motorcycle data'!$G$4) -> 0 | J14: =IF(F14=0,0,H14+I14+'motorcycle data'!$E$7) -> 0 | K14: =IF(J14<=0,0,J14) -> 0 | L14: =IF(J14<0,J14*-1,0) -> 0 | M14: =(J14*F14)/1000 -> 0 | N14: =IF(M14>0,M14,0) -> 0 | O14: =IF(M14<0,M14*-1,0) -> 0 | P14: =O14*0.75 -> 0 | Q14: =IF(G14<0,P14,"") | T14: =T13+N14 -> 0 | U14: =U13+O14 -> 0 | V14: =O14*0.75*0.9*0.9 -> 0
B15: Low | C15: 7 | D15: 7 | E15: 0 | F15: =E15/3.6 -> 0 | G15: =($E16-$E14)/2/3.6 -> 0 | H15: =('motorcycle data'!$C$4)*(G15) -> 0 | I15: =0.5*1.225*F15^2*('motorcycle data'!$F$4)*('motorcycle data'!$G$4) -> 0 | J15: =IF(F15=0,0,H15+I15+'motorcycle data'!$E$7) -> 0 | K15: =IF(J15<=0,0,J15) -> 0 | L15: =IF(J15<0,J15*-1,0) -> 0 | M15: =(J15*F15)/1000 -> 0 | N15: =IF(M15>0,M15,0) -> 0 | O15: =IF(M15<0,M15*-1,0) -> 0 | P15: =O15*0.75 -> 0 | Q15: =IF(G15<0,P15,"") | T15: =T14+N15 -> 0 | U15: =U14+O15 -> 0 | V15: =O15*0.75*0.9*0.9 -> 0
B16: Low | C16: 8 | D16: 8 | E16: 0 | F16: =E16/3.6 -> 0 | G16: =($E17-$E15)/2/3.6 -> 0 | H16: =('motorcycle data'!$C$4)*(G16) -> 0 | I16: =0.5*1.225*F16^2*('motorcycle data'!$F$4)*('motorcycle data'!$G$4) -> 0 | J16: =IF(F16=0,0,H16+I16+'motorcycle data'!$E$7) -> 0 | K16: =IF(J16<=0,0,J16) -> 0 | L16: =IF(J16<0,J16*-1,0) -> 0 | M16: =(J16*F16)/1000 -> 0 | N16: =IF(M16>0,M16,0) -> 0 | O16: =IF(M16<0,M16*-1,0) -> 0 | P16: =O16*0.75 -> 0 | Q16: =IF(G16<0,P16,"") | T16: =T15+N16 -> 0 | U16: =U15+O16 -> 0 | V16: =O16*0.75*0.9*0.9 -> 0
B17: Low | C17: 9 | D17: 9 | E17: 0 | F17: =E17/3.6 -> 0 | G17: =($E18-$E16)/2/3.6 -> 0 | H17: =('motorcycle data'!$C$4)*(G17) -> 0 | I17: =0.5*1.225*F17^2*('motorcycle data'!$F$4)*('motorcycle data'!$G$4) -> 0 | J17: =IF(F17=0,0,H17+I17+'motorcycle data'!$E$7) -> 0 | K17: =IF(J17<=0,0,J17) -> 0 | L17: =IF(J17<0,J17*-1,0) -> 0 | M17: =(J17*F17)/1000 -> 0 | N17: =IF(M17>0,M17,0) -> 0 | O17: =IF(M17<0,M17*-1,0) -> 0 | P17: =O17*0.75 -> 0 | Q17: =IF(G17<0,P17,"") | T17: =T16+N17 -> 0 | U17: =U16+O17 -> 0 | V17: =O17*0.75*0.9*0.9 -> 0
B18: Low | C18: 10 | D18: 10 | E18: 0 | F18: =E18/3.6 -> 0 | G18: =($E19-$E17)/2/3.6 -> 0 | H18: =('motorcycle data'!$C$4)*(G18) -> 0 | I18: =0.5*1.225*F18^2*('motorcycle data'!$F$4)*('motorcycle data'!$G$4) -> 0 | J18: =IF(F18=0,0,H18+I18+'motorcycle data'!$E$7) -> 0 | K18: =IF(J18<=0,0,J18) -> 0 | L18: =IF(J18<0,J18*-1,0) -> 0 | M18: =(J18*F18)/1000 -> 0 | N18: =IF(M18>0,M18,0) -> 0 | O18: =IF(M18<0,M18*-1,0) -> 0 | P18: =O18*0.75 -> 0 | Q18: =IF(G18<0,P18,"") | T18: =T17+N18 -> 0 | U18: =U17+O18 -> 0 | V18: =O18*0.75*0.9*0.9 -> 0
B19: Low | C19: 11 | D19: 11 | E19: 0 | F19: =E19/3.6 -> 0 | G19: =($E20-$E18)/2/3.6 -> 0.027777778 | H19: =('motorcycle data'!$C$4)*(G19) -> 5.5 | I19: =0.5*1.225*F19^2*('motorcycle data'!$F$4)*('motorcycle data'!$G$4) -> 0 | J19: =IF(F19=0,0,H19+I19+'motorcycle data'!$E$7) -> 0 | K19: =IF(J19<=0,0,J19) -> 0 | L19: =IF(J19<0,J19*-1,0) -> 0 | M19: =(J19*F19)/1000 -> 0 | N19: =IF(M19>0,M19,0) -> 0 | O19: =IF(M19<0,M19*-1,0) -> 0 | P19: =O19*0.75 -> 0 | Q19: =IF(G19<0,P19,"") | T19: =T18+N19 -> 0 | U19: =U18+O19 -> 0 | V19: =O19*0.75*0.9*0.9 -> 0
B20: Low | C20: 12 | D20: 12 | E20: 0.2 | F20: =E20/3.6 -> 0.055555556 | G20: =($E21-$E19)/2/3.6 -> 0.23611111 | H20: =('motorcycle data'!$C$4)*(G20) -> 46.75 | I20: =0.5*1.225*F20^2*('motorcycle data'!$F$4)*('motorcycle data'!$G$4) -> 0.00062195216 | J20: =IF(F20=0,0,H20+I20+'motorcycle data'!$E$7) -> 85.598222 | K20: =IF(J20<=0,0,J20) -> 85.598222 | L20: =IF(J20<0,J20*-1,0) -> 0 | M20: =(J20*F20)/1000 -> 0.0047554568 | N20: =IF(M20>0,M20,0) -> 0.0047554568 | O20: =IF(M20<0,M20*-1,0) -> 0 | P20: =O20*0.75 -> 0 | Q20: =IF(G20<0,P20,"") | T20: =T19+N20 -> 0.0047554568 | U20: =U19+O20 -> 0 | V20: =O20*0.75*0.9*0.9 -> 0
... B42: Low | C42: 34 | D42: 34 | E42: 44.4 | F42: =E42/3.6 -> 12.333333 | G42: =($E43-$E41)/2/3.6 -> 0.083333333 | H42: =('motorcycle data'!$C$4)*(G42) -> 16.5 | I42: =0.5*1.225*F42^2*('motorcycle data'!$F$4)*('motorcycle data'!$G$4) -> 30.65229 | J42: =IF(F42=0,0,H42+I42+'motorcycle data'!$E$7) -> 85.99989 | K42: =IF(J42<=0,0,J42) -> 85.99989 | L42: =IF(J42<0,J42*-1,0) -> 0 | M42: =(J42*F42)/1000 -> 1.0606653 | N42: =IF(M42>0,M42,0) -> 1.0606653 | O42: =IF(M42<0,M42*-1,0) -> 0 | P42: =O42*0.75 -> 0 | Q42: =IF(G42<0,P42,"") | T42: =T41+N42 -> 25.119147 | U42: =U41+O42 -> 0 | V42: =O42*0.75*0.9*0.9 -> 0
B43: Low | C43: 35 | D43: 35 | E43: 44.5 | F43: =E43/3.6 -> 12.361111 | G43: =($E44-$E42)/2/3.6 -> -0.027777778 | H43: =('motorcycle data'!$C$4)*(G43) -> -5.5 | I43: =0.5*1.225*F43^2*('motorcycle data'!$F$4)*('motorcycle data'!$G$4) -> 30.790519 | J43: =IF(F43=0,0,H43+I43+'motorcycle data'!$E$7) -> 64.138119 | K43: =IF(J43<=0,0,J43) -> 64.138119 | L43: =IF(J43<0,J43*-1,0) -> 0 | M43: =(J43*F43)/1000 -> 0.79281842 | N43: =IF(M43>0,M43,0) -> 0.79281842 | O43: =IF(M43<0,M43*-1,0) -> 0 | P43: =O43*0.75 -> 0 | Q43: =IF(G43<0,P43,"") -> 0 | R43: =SUM(Q43:Q63) -> 5.5207449 | S43: =R43*21 -> 115.93564 | T43: =T42+N43 -> 25.911966 | U43: =U42+O43 -> 0 | V43: =O43*0.75*0.9*0.9 -> 0
B44: Low | C44: 36 | D44: 36 | E44: 44.2 | F44: =E44/3.6 -> 12.277778 | G44: =($E45-$E43)/2/3.6 -> -0.25 | H44: =('motorcycle data'!$C$4)*(G44) -> -49.5 | I44: =0.5*1.225*F44^2*('motorcycle data'!$F$4)*('motorcycle data'!$G$4) -> 30.376765 | J44: =IF(F44=0,0,H44+I44+'motorcycle data'!$E$7) -> 19.724365 | K44: =IF(J44<=0,0,J44) -> 19.724365 | L44: =IF(J44<0,J44*-1,0) -> 0 | M44: =(J44*F44)/1000 -> 0.24217138 | N44: =IF(M44>0,M44,0) -> 0.24217138 | O44: =IF(M44<0,M44*-1,0) -> 0 | P44: =O44*0.75 -> 0 | Q44: =IF(G44<0,P44,"") -> 0 | T44: =T43+N44 -> 26.154137 | U44: =U43+O44 -> 0 | V44: =O44*0.75*0.9*0.9 -> 0
B45: Low | C45: 37 | D45: 37 | E45: 42.7 | F45: =E45/3.6 -> 11.861111 | G45: =($E46-$E44)/2/3.6 -> -0.59722222 | H45: =('motorcycle data'!$C$4)*(G45) -> -118.25 | I45: =0.5*1.225*F45^2*('motorcycle data'!$F$4)*('motorcycle data'!$G$4) -> 28.349979 | J45: =IF(F45=0,0,H45+I45+'motorcycle data'!$E$7) -> -51.052421 | K45: =IF(J45<=0,0,J45) -> 0 | L45: =IF(J45<0,J45*-1,0) -> 51.052421 | M45: =(J45*F45)/1000 -> -0.60553844 | N45: =IF(M45>0,M45,0) -> 0 | O45: =IF(M45<0,M45*-1,0) -> 0.60553844 | P45: =O45*0.75 -> 0.45415383 | Q45: =IF(G45<0,P45,"") -> 0.45415383 | T45: =T44+N45 -> 26.154137 | U45: =U44+O45 -> 0.60553844 | V45: =O45*0.75*0.9*0.9 -> 0.3678646
B46: Low | C46: 38 | D46: 38 | E46: 39.9 | F46: =E46/3.6 -> 11.083333 | G46: =($E47-$E45)/2/3.6 -> -0.79166667 | H46: =('motorcycle data'!$C$4)*(G46) -> -156.75 | I46: =0.5*1.225*F46^2*('motorcycle data'!$F$4)*('motorcycle data'!$G$4) -> 24.753851 | J46: =IF(F46=0,0,H46+I46+'motorcycle data'!$E$7) -> -93.148549 | K46: =IF(J46<=0,0,J46) -> 0 | L46: =IF(J46<0,J46*-1,0) -> 93.148549 | M46: =(J46*F46)/1000 -> -1.0323964 | N46: =IF(M46>0,M46,0) -> 0 | O46: =IF(M46<0,M46*-1,0) -> 1.0323964 | P46: =O46*0.75 -> 0.77429731 | Q46: =IF(G46<0,P46,"") -> 0.77429731 | T46: =T45+N46 -> 26.154137 | U46: =U45+O46 -> 1.6379349 | V46: =O46*0.75*0.9*0.9 -> 0.62718082
B47: Low | C47: 39 | D47: 39 | E47: 37 | F47: =E47/3.6 -> 10.277778 | G47: =($E48-$E46)/2/3.6 -> -0.73611111 | H47: =('motorcycle data'!$C$4)*(G47) -> -145.75 | I47: =0.5*1.225*F47^2*('motorcycle data'!$F$4)*('motorcycle data'!$G$4) -> 21.286313 | J47: =IF(F47=0,0,H47+I47+'motorcycle data'!$E$7) -> -85.616087 | K47: =IF(J47<=0,0,J47) -> 0 | L47: =IF(J47<0,J47*-1,0) -> 85.616087 | M47: =(J47*F47)/1000 -> -0.87994312 | N47: =IF(M47>0,M47,0) -> 0 | O47: =IF(M47<0,M47*-1,0) -> 0.87994312 | P47: =O47*0.75 -> 0.65995734 | Q47: =IF(G47<0,P47,"") -> 0.65995734 | T47: =T46+N47 -> 26.154137 | U47: =U46+O47 -> 2.517878 | V47: =O47*0.75*0.9*0.9 -> 0.53456545
B48: Low | C48: 40 | D48: 40 | E48: 34.6 | F48: =E48/3.6 -> 9.6111111 | G48: =($E49-$E47)/2/3.6 -> -0.65277778 | H48: =('motorcycle data'!$C$4)*(G48) -> -129.25 | I48: =0.5*1.225*F48^2*('motorcycle data'!$F$4)*('motorcycle data'!$G$4) -> 18.614406 | J48: =IF(F48=0,0,H48+I48+'motorcycle data'!$E$7) -> -71.787994 | K48: =IF(J48<=0,0,J48) -> 0 | L48: =IF(J48<0,J48*-1,0) -> 71.787994 | M48: =(J48*F48)/1000 -> -0.68996238 | N48: =IF(M48>0,M48,0) -> 0 | O48: =IF(M48<0,M48*-1,0) -> 0.68996238 | P48: =O48*0.75 -> 0.51747179 | Q48: =IF(G48<0,P48,"") -> 0.51747179 | T48: =T47+N48 -> 26.154137 | U48: =U47+O48 -> 3.2078404 | V48: =O48*0.75*0.9*0.9 -> 0.41915215
B49: Low | C49: 41 | D49: 41 | E49: 32.3 | F49: =E49/3.6 -> 8.9722222 | G49: =($E50-$E48)/2/3.6 -> -0.77777778 | H49: =('motorcycle data'!$C$4)*(G49) -> -154 | I49: =0.5*1.225*F49^2*('motorcycle data'!$F$4)*('motorcycle data'!$G$4) -> 16.221912 | J49: =IF(F49=0,0,H49+I49+'motorcycle data'!$E$7) -> -98.930488 | K49: =IF(J49<=0,0,J49) -> 0 | L49: =IF(J49<0,J49*-1,0) -> 98.930488 | M49: =(J49*F49)/1000 -> -0.88762633 | N49: =IF(M49>0,M49,0) -> 0 | O49: =IF(M49<0,M49*-1,0) -> 0.88762633 | P49: =O49*0.75 -> 0.66571974 | Q49: =IF(G49<0,P49,"") -> 0.66571974 | T49: =T48+N49 -> 26.154137 | U49: =U48+O49 -> 4.0954667 | V49: =O49*0.75*0.9*0.9 -> 0.53923299
B50: Low | C50: 42 | D50: 42 | E50: 29 | F50: =E50/3.6 -> 8.0555556 | G50: =($E51-$E49)/2/3.6 -> -1 | H50: =('motorcycle data'!$C$4)*(G50) -> -198 | I50: =0.5*1.225*F50^2*('motorcycle data'!$F$4)*('motorcycle data'!$G$4) -> 13.076544 | J50: =IF(F50=0,0,H50+I50+'motorcycle data'!$E$7) -> -146.07586 | K50: =IF(J50<=0,0,J50) -> 0 | L50: =IF(J50<0,J50*-1,0) -> 146.07586 | M50: =(J50*F50)/1000 -> -1.1767222 | N50: =IF(M50>0,M50,0) -> 0 | O50: =IF(M50<0,M50*-1,0) -> 1.1767222 | P50: =O50*0.75 -> 0.88254163 | Q50: =IF(G50<0,P50,"") -> 0.88254163 | T50: =T49+N50 -> 26.154137 | U50: =U49+O50 -> 5.2721889 | V50: =O50*0.75*0.9*0.9 -> 0.71485872
B51: Low | C51: 43 | D51: 43 | E51: 25.1 | F51: =E51/3.6 -> 6.9722222 | G51: =($E52-$E50)/2/3.6 -> -0.94444444 | H51: =('motorcycle data'!$C$4)*(G51) -> -187 | I51: =0.5*1.225*F51^2*('motorcycle data'!$F$4)*('motorcycle data'!$G$4) -> 9.795902 | J51: =IF(F51=0,0,H51+I51+'motorcycle data'!$E$7) -> -138.3565 | K51: =IF(J51<=0,0,J51) -> 0 | L51: =IF(J51<0,J51*-1,0) -> 138.3565 | M51: =(J51*F51)/1000 -> -0.96465225 | N51: =IF(M51>0,M51,0) -> 0 | O51: =IF(M51<0,M51*-1,0) -> 0.96465225 | P51: =O51*0.75 -> 0.72348919 | Q51: =IF(G51<0,P51,"") -> 0.72348919 | T51: =T50+N51 -> 26.154137 | U51: =U50+O51 -> 6.2368411 | V51: =O51*0.75*0.9*0.9 -> 0.58602624
B52: Low | C52: 44 | D52: 44 | E52: 22.2 | F52: =E52/3.6 -> 6.1666667 | G52: =($E53-$E51)/2/3.6 -> -0.58333333 | H52: =('motorcycle data'!$C$4)*(G52) -> -115.5 | I52: =0.5*1.225*F52^2*('motorcycle data'!$F$4)*('motorcycle data'!$G$4) -> 7.6630726 | J52: =IF(F52=0,0,H52+I52+'motorcycle data'!$E$7) -> -68.989327 | K52: =IF(J52<=0,0,J52) -> 0 | L52: =IF(J52<0,J52*-1,0) -> 68.989327 | M52: =(J52*F52)/1000 -> -0.42543419 | N52: =IF(M52>0,M52,0) -> 0 | O52: =IF(M52<0,M52*-1,0) -> 0.42543419 | P52: =O52*0.75 -> 0.31907564 | Q52: =IF(G52<0,P52,"") -> 0.31907564 | T52: =T51+N52 -> 26.154137 | U52: =U51+O52 -> 6.6622753 | V52: =O52*0.75*0.9*0.9 -> 0.25845127
B53: Low | C53: 45 | D53: 45 | E53: 20.9 | F53: =E53/3.6 -> 5.8055556 | G53: =($E54-$E52)/2/3.6 -> -0.25 | H53: =('motorcycle data'!$C$4)*(G53) -> -49.5 | I53: =0.5*1.225*F53^2*('motorcycle data'!$F$4)*('motorcycle data'!$G$4) -> 6.7918731 | J53: =IF(F53=0,0,H53+I53+'motorcycle data'!$E$7) -> -3.8605269 | K53: =IF(J53<=0,0,J53) -> 0 | L53: =IF(J53<0,J53*-1,0) -> 3.8605269 | M53: =(J53*F53)/1000 -> -0.022412504 | N53: =IF(M53>0,M53,0) -> 0 | O53: =IF(M53<0,M53*-1,0) -> 0.022412504 | P53: =O53*0.75 -> 0.016809378 | Q53: =IF(G53<0,P53,"") -> 0.016809378 | T53: =T52+N53 -> 26.154137 | U53: =U52+O53 -> 6.6846878 | V53: =O53*0.75*0.9*0.9 -> 0.013615596
B54: Low | C54: 46 | D54: 46 | E54: 20.4 | F54: =E54/3.6 -> 5.6666667 | G54: =($E55-$E53)/2/3.6 -> -0.19444444 | H54: =('motorcycle data'!$C$4)*(G54) -> -38.5 | I54: =0.5*1.225*F54^2*('motorcycle data'!$F$4)*('motorcycle data'!$G$4) -> 6.4707903 | J54: =IF(F54=0,0,H54+I54+'motorcycle data'!$E$7) -> 6.8183903 | K54: =IF(J54<=0,0,J54) -> 6.8183903 | L54: =IF(J54<0,J54*-1,0) -> 0 | M54: =(J54*F54)/1000 -> 0.038637545 | N54: =IF(M54>0,M54,0) -> 0.038637545 | O54: =IF(M54<0,M54*-1,0) -> 0 | P54: =O54*0.75 -> 0 | Q54: =IF(G54<0,P54,"") -> 0 | T54: =T53+N54 -> 26.192775 | U54: =U53+O54 -> 6.6846878 | V54: =O54*0.75*0.9*0.9 -> 0
B55: Low | C55: 47 | D55: 47 | E55: 19.5 | F55: =E55/3.6 -> 5.4166667 | G55: =($E56-$E54)/2/3.6 -> -0.27777778 | H55: =('motorcycle data'!$C$4)*(G55) -> -55 | I55: =0.5*1.225*F55^2*('motorcycle data'!$F$4)*('motorcycle data'!$G$4) -> 5.9124327 | J55: =IF(F55=0,0,H55+I55+'motorcycle data'!$E$7) -> -10.239967 | K55: =IF(J55<=0,0,J55) -> 0 | L55: =IF(J55<0,J55*-1,0) -> 10.239967 | M55: =(J55*F55)/1000 -> -0.055466489 | N55: =IF(M55>0,M55,0) -> 0 | O55: =IF(M55<0,M55*-1,0) -> 0.055466489 | P55: =O55*0.75 -> 0.041599867 | Q55: =IF(G55<0,P55,"") -> 0.041599867 | T55: =T54+N55 -> 26.192775 | U55: =U54+O55 -> 6.7401543 | V55: =O55*0.75*0.9*0.9 -> 0.033695892
... B86: Low | C86: 78 | D86: 78 | E86: 39.3 | F86: =E86/3.6 -> 10.916667 | G86: =($E87-$E85)/2/3.6 -> 0.13888889 | H86: =('motorcycle data'!$C$4)*(G86) -> 27.5 | I86: =0.5*1.225*F86^2*('motorcycle data'!$F$4)*('motorcycle data'!$G$4) -> 24.014972 | J86: =IF(F86=0,0,H86+I86+'motorcycle data'!$E$7) -> 90.362572 | K86: =IF(J86<=0,0,J86) -> 90.362572 | L86: =IF(J86<0,J86*-1,0) -> 0 | M86: =(J86*F86)/1000 -> 0.98645808 | N86: =IF(M86>0,M86,0) -> 0.98645808 | O86: =IF(M86<0,M86*-1,0) -> 0 | P86: =O86*0.75 -> 0 | Q86: =IF(G86<0,P86,"") | T86: =T85+N86 -> 45.140777 | U86: =U85+O86 -> 7.3609931 | V86: =O86*0.75*0.9*0.9 -> 0
B87: Low | C87: 79 | D87: 79 | E87: 39.5 | F87: =E87/3.6 -> 10.972222 | G87: =($E88-$E86)/2/3.6 -> -0.041666667 | H87: =('motorcycle data'!$C$4)*(G87) -> -8.25 | I87: =0.5*1.225*F87^2*('motorcycle data'!$F$4)*('motorcycle data'!$G$4) -> 24.260021 | J87: =IF(F87=0,0,H87+I87+'motorcycle data'!$E$7) -> 54.857621 | K87: =IF(J87<=0,0,J87) -> 54.857621 | L87: =IF(J87<0,J87*-1,0) -> 0 | M87: =(J87*F87)/1000 -> 0.60191001 | N87: =IF(M87>0,M87,0) -> 0.60191001 | O87: =IF(M87<0,M87*-1,0) -> 0 | P87: =O87*0.75 -> 0 | Q87: =IF(G87<0,P87,"") -> 0 | R87: =SUM(Q87:Q107) -> 4.9591369 | S87: =R87*21 -> 104.14187 | T87: =T86+N87 -> 45.742687 | U87: =U86+O87 -> 7.3609931 | V87: =O87*0.75*0.9*0.9 -> 0
B88: Low | C88: 80 | D88: 80 | E88: 39 | F88: =E88/3.6 -> 10.833333 | G88: =($E89-$E87)/2/3.6 -> -0.13888889 | H88: =('motorcycle data'!$C$4)*(G88) -> -27.5 | I88: =0.5*1.225*F88^2*('motorcycle data'!$F$4)*('motorcycle data'!$G$4) -> 23.649731 | J88: =IF(F88=0,0,H88+I88+'motorcycle data'!$E$7) -> 34.997331 | K88: =IF(J88<=0,0,J88) -> 34.997331 | L88: =IF(J88<0,J88*-1,0) -> 0 | M88: =(J88*F88)/1000 -> 0.37913775 | N88: =IF(M88>0,M88,0) -> 0.37913775 | O88: =IF(M88<0,M88*-1,0) -> 0 | P88: =O88*0.75 -> 0 | Q88: =IF(G88<0,P88,"") -> 0 | T88: =T87+N88 -> 46.121824 | U88: =U87+O88 -> 7.3609931 | V88: =O88*0.75*0.9*0.9 -> 0
B89: Low | C89: 81 | D89: 81 | E89: 38.5 | F89: =E89/3.6 -> 10.694444 | G89: =($E90-$E88)/2/3.6 -> -0.23611111 | H89: =('motorcycle data'!$C$4)*(G89) -> -46.75 | I89: =0.5*1.225*F89^2*('motorcycle data'!$F$4)*('motorcycle data'!$G$4) -> 23.047215 | J89: =IF(F89=0,0,H89+I89+'motorcycle data'!$E$7) -> 15.144815 | K89: =IF(J89<=0,0,J89) -> 15.144815 | L89: =IF(J89<0,J89*-1,0) -> 0 | M89: =(J89*F89)/1000 -> 0.16196538 | N89: =IF(M89>0,M89,0) -> 0.16196538 | O89: =IF(M89<0,M89*-1,0) -> 0 | P89: =O89*0.75 -> 0 | Q89: =IF(G89<0,P89,"") -> 0 | T89: =T88+N89 -> 46.28379 | U89: =U88+O89 -> 7.3609931 | V89: =O89*0.75*0.9*0.9 -> 0
B90: Low | C90: 82 | D90: 82 | E90: 37.3 | F90: =E90/3.6 -> 10.361111 | G90: =($E91-$E89)/2/3.6 -> -0.20833333 | H90: =('motorcycle data'!$C$4)*(G90) -> -41.25 | I90: =0.5*1.225*F90^2*('motorcycle data'!$F$4)*('motorcycle data'!$G$4) -> 21.632896 | J90: =IF(F90=0,0,H90+I90+'motorcycle data'!$E$7) -> 19.230496 | K90: =IF(J90<=0,0,J90) -> 19.230496 | L90: =IF(J90<0,J90*-1,0) -> 0 | M90: =(J90*F90)/1000 -> 0.1992493 | N90: =IF(M90>0,M90,0) -> 0.1992493 | O90: =IF(M90<0,M90*-1,0) -> 0 | P90: =O90*0.75 -> 0 | Q90: =IF(G90<0,P90,"") -> 0 | T90: =T89+N90 -> 46.483039 | U90: =U89+O90 -> 7.3609931 | V90: =O90*0.75*0.9*0.9 -> 0
B91: Low | C91: 83 | D91: 83 | E91: 37 | F91: =E91/3.6 -> 10.277778 | G91: =($E92-$E90)/2/3.6 -> -0.083333333 | H91: =('motorcycle data'!$C$4)*(G91) -> -16.5 | I91: =0.5*1.225*F91^2*('motorcycle data'!$F$4)*('motorcycle data'!$G$4) -> 21.286313 | J91: =IF(F91=0,0,H91+I91+'motorcycle data'!$E$7) -> 43.633913 | K91: =IF(J91<=0,0,J91) -> 43.633913 | L91: =IF(J91<0,J91*-1,0) -> 0 | M91: =(J91*F91)/1000 -> 0.44845966 | N91: =IF(M91>0,M91,0) -> 0.44845966 | O91: =IF(M91<0,M91*-1,0) -> 0 | P91: =O91*0.75 -> 0 | Q91: =IF(G91<0,P91,"") -> 0 | T91: =T90+N91 -> 46.931499 | U91: =U90+O91 -> 7.3609931 | V91: =O91*0.75*0.9*0.9 -> 0
B92: Low | C92: 84 | D92: 84 | E92: 36.7 | F92: =E92/3.6 -> 10.194444 | G92: =($E93-$E91)/2/3.6 -> -0.15277778 | H92: =('motorcycle data'!$C$4)*(G92) -> -30.25 | I92: =0.5*1.225*F92^2*('motorcycle data'!$F$4)*('motorcycle data'!$G$4) -> 20.942529 | J92: =IF(F92=0,0,H92+I92+'motorcycle data'!$E$7) -> 29.540129 | K92: =IF(J92<=0,0,J92) -> 29.540129 | L92: =IF(J92<0,J92*-1,0) -> 0 | M92: =(J92*F92)/1000 -> 0.3011452 | N92: =IF(M92>0,M92,0) -> 0.3011452 | O92: =IF(M92<0,M92*-1,0) -> 0 | P92: =O92*0.75 -> 0 | Q92: =IF(G92<0,P92,"") -> 0 | T92: =T91+N92 -> 47.232644 | U92: =U91+O92 -> 7.3609931 | V92: =O92*0.75*0.9*0.9 -> 0
B93: Low | C93: 85 | D93: 85 | E93: 35.9 | F93: =E93/3.6 -> 9.9722222 | G93: =($E94-$E92)/2/3.6 -> -0.19444444 | H93: =('motorcycle data'!$C$4)*(G93) -> -38.5 | I93: =0.5*1.225*F93^2*('motorcycle data'!$F$4)*('motorcycle data'!$G$4) -> 20.039454 | J93: =IF(F93=0,0,H93+I93+'motorcycle data'!$E$7) -> 20.387054 | K93: =IF(J93<=0,0,J93) -> 20.387054 | L93: =IF(J93<0,J93*-1,0) -> 0 | M93: =(J93*F93)/1000 -> 0.20330423 | N93: =IF(M93>0,M93,0) -> 0.20330423 | O93: =IF(M93<0,M93*-1,0) -> 0 | P93: =O93*0.75 -> 0 | Q93: =IF(G93<0,P93,"") -> 0 | T93: =T92+N93 -> 47.435948 | U93: =U92+O93 -> 7.3609931 | V93: =O93*0.75*0.9*0.9 -> 0
B94: Low | C94: 86 | D94: 86 | E94: 35.3 | F94: =E94/3.6 -> 9.8055556 | G94: =($E95-$E93)/2/3.6 -> -0.18055556 | H94: =('motorcycle data'!$C$4)*(G94) -> -35.75 | I94: =0.5*1.225*F94^2*('motorcycle data'!$F$4)*('motorcycle data'!$G$4) -> 19.375209 | J94: =IF(F94=0,0,H94+I94+'motorcycle data'!$E$7) -> 22.472809 | K94: =IF(J94<=0,0,J94) -> 22.472809 | L94: =IF(J94<0,J94*-1,0) -> 0 | M94: =(J94*F94)/1000 -> 0.22035838 | N94: =IF(M94>0,M94,0) -> 0.22035838 | O94: =IF(M94<0,M94*-1,0) -> 0 | P94: =O94*0.75 -> 0 | Q94: =IF(G94<0,P94,"") -> 0 | T94: =T93+N94 -> 47.656307 | U94: =U93+O94 -> 7.3609931 | V94: =O94*0.75*0.9*0.9 -> 0
B95: Low | C95: 87 | D95: 87 | E95: 34.6 | F95: =E95/3.6 -> 9.6111111 | G95: =($E96-$E94)/2/3.6 -> -0.15277778 | H95: =('motorcycle data'!$C$4)*(G95) -> -30.25 | I95: =0.5*1.225*F95^2*('motorcycle data'!$F$4)*('motorcycle data'!$G$4) -> 18.614406 | J95: =IF(F95=0,0,H95+I95+'motorcycle data'!$E$7) -> 27.212006 | K95: =IF(J95<=0,0,J95) -> 27.212006 | L95: =IF(J95<0,J95*-1,0) -> 0 | M95: =(J95*F95)/1000 -> 0.26153762 | N95: =IF(M95>0,M95,0) -> 0.26153762 | O95: =IF(M95<0,M95*-1,0) -> 0 | P95: =O95*0.75 -> 0 | Q95: =IF(G95<0,P95,"") -> 0 | T95: =T94+N95 -> 47.917844 | U95: =U94+O95 -> 7.3609931 | V95: =O95*0.75*0.9*0.9 -> 0
B96: Low | C96: 88 | D96: 88 | E96: 34.2 | F96: =E96/3.6 -> 9.5 | G96: =($E97-$E95)/2/3.6 -> -0.375 | H96: =('motorcycle data'!$C$4)*(G96) -> -74.25 | I96: =0.5*1.225*F96^2*('motorcycle data'!$F$4)*('motorcycle data'!$G$4) -> 18.186503 | J96: =IF(F96=0,0,H96+I96+'motorcycle data'!$E$7) -> -17.215897 | K96: =IF(J96<=0,0,J96) -> 0 | L96: =IF(J96<0,J96*-1,0) -> 17.215897 | M96: =(J96*F96)/1000 -> -0.16355102 | N96: =IF(M96>0,M96,0) -> 0 | O96: =IF(M96<0,M96*-1,0) -> 0.16355102 | P96: =O96*0.75 -> 0.12266327 | Q96: =IF(G96<0,P96,"") -> 0.12266327 | T96: =T95+N96 -> 47.917844 | U96: =U95+O96 -> 7.5245442 | V96: =O96*0.75*0.9*0.9 -> 0.099357245
B97: Low | C97: 89 | D97: 89 | E97: 31.9 | F97: =E97/3.6 -> 8.8611111 | G97: =($E98-$E96)/2/3.6 -> -0.95833333 | H97: =('motorcycle data'!$C$4)*(G97) -> -189.75 | I97: =0.5*1.225*F97^2*('motorcycle data'!$F$4)*('motorcycle data'!$G$4) -> 15.822618 | J97: =IF(F97=0,0,H97+I97+'motorcycle data'!$E$7) -> -135.07978 | K97: =IF(J97<=0,0,J97) -> 0 | L97: =IF(J97<0,J97*-1,0) -> 135.07978 | M97: =(J97*F97)/1000 -> -1.196957 | N97: =IF(M97>0,M97,0) -> 0 | O97: =IF(M97<0,M97*-1,0) -> 1.196957 | P97: =O97*0.75 -> 0.89771771 | Q97: =IF(G97<0,P97,"") -> 0.89771771 | T97: =T96+N97 -> 47.917844 | U97: =U96+O97 -> 8.7215011 | V97: =O97*0.75*0.9*0.9 -> 0.72715135
B98: Low | C98: 90 | D98: 90 | E98: 27.3 | F98: =E98/3.6 -> 7.5833333 | G98: =($E99-$E97)/2/3.6 -> -1.375 | H98: =('motorcycle data'!$C$4)*(G98) -> -272.25 | I98: =0.5*1.225*F98^2*('motorcycle data'!$F$4)*('motorcycle data'!$G$4) -> 11.588368 | J98: =IF(F98=0,0,H98+I98+'motorcycle data'!$E$7) -> -221.81403 | K98: =IF(J98<=0,0,J98) -> 0 | L98: =IF(J98<0,J98*-1,0) -> 221.81403 | M98: =(J98*F98)/1000 -> -1.6820897 | N98: =IF(M98>0,M98,0) -> 0 | O98: =IF(M98<0,M98*-1,0) -> 1.6820897 | P98: =O98*0.75 -> 1.2615673 | Q98: =IF(G98<0,P98,"") -> 1.2615673 | T98: =T97+N98 -> 47.917844 | U98: =U97+O98 -> 10.403591 | V98: =O98*0.75*0.9*0.9 -> 1.0218695
B99: Low | C99: 91 | D99: 91 | E99: 22 | F99: =E99/3.6 -> 6.1111111 | G99: =($E100-$E98)/2/3.6 -> -1.4305556 | H99: =('motorcycle data'!$C$4)*(G99) -> -283.25 | I99: =0.5*1.225*F99^2*('motorcycle data'!$F$4)*('motorcycle data'!$G$4) -> 7.5256211 | J99: =IF(F99=0,0,H99+I99+'motorcycle data'!$E$7) -> -236.87678 | K99: =IF(J99<=0,0,J99) -> 0 | L99: =IF(J99<0,J99*-1,0) -> 236.87678 | M99: =(J99*F99)/1000 -> -1.4475803 | N99: =IF(M99>0,M99,0) -> 0 | O99: =IF(M99<0,M99*-1,0) -> 1.4475803 | P99: =O99*0.75 -> 1.0856852 | Q99: =IF(G99<0,P99,"") -> 1.0856852 | T99: =T98+N99 -> 47.917844 | U99: =U98+O99 -> 11.851171 | V99: =O99*0.75*0.9*0.9 -> 0.87940504
... B158: Low | C158: 150 | D158: 150 | E158: 29.8 | F158: =E158/3.6 -> 8.2777778 | G158: =($E159-$E157)/2/3.6 -> 0.027777778 | H158: =('motorcycle data'!$C$4)*(G158) -> 5.5 | I158: =0.5*1.225*F158^2*('motorcycle data'!$F$4)*('motorcycle data'!$G$4) -> 13.80796 | J158: =IF(F158=0,0,H158+I158+'motorcycle data'!$E$7) -> 58.15556 | K158: =IF(J158<=0,0,J158) -> 58.15556 | L158: =IF(J158<0,J158*-1,0) -> 0 | M158: =(J158*F158)/1000 -> 0.4813988 | N158: =IF(M158>0,M158,0) -> 0.4813988 | O158: =IF(M158<0,M158*-1,0) -> 0 | P158: =O158*0.75 -> 0 | Q158: =IF(G158<0,P158,"") | T158: =T157+N158 -> 57.665633 | U158: =U157+O158 -> 13.973176 | V158: =O158*0.75*0.9*0.9 -> 0
B159: Low | C159: 151 | D159: 151 | E159: 29.4 | F159: =E159/3.6 -> 8.1666667 | G159: =($E160-$E158)/2/3.6 -> -0.36111111 | H159: =('motorcycle data'!$C$4)*(G159) -> -71.5 | I159: =0.5*1.225*F159^2*('motorcycle data'!$F$4)*('motorcycle data'!$G$4) -> 13.439764 | J159: =IF(F159=0,0,H159+I159+'motorcycle data'!$E$7) -> -19.212636 | K159: =IF(J159<=0,0,J159) -> 0 | L159: =IF(J159<0,J159*-1,0) -> 19.212636 | M159: =(J159*F159)/1000 -> -0.15690319 | N159: =IF(M159>0,M159,0) -> 0 | O159: =IF(M159<0,M159*-1,0) -> 0.15690319 | P159: =O159*0.75 -> 0.11767739 | Q159: =IF(G159<0,P159,"") -> 0.11767739 | R159: =SUM(Q159:Q164) -> 3.0071323 | S159: =R159*6 -> 18.042794 | T159: =T158+N159 -> 57.665633 | U159: =U158+O159 -> 14.130079 | V159: =O159*0.75*0.9*0.9 -> 0.095318689
B160: Low | C160: 152 | D160: 152 | E160: 27.2 | F160: =E160/3.6 -> 7.5555556 | G160: =($E161-$E159)/2/3.6 -> -0.94444444 | H160: =('motorcycle data'!$C$4)*(G160) -> -187 | I160: =0.5*1.225*F160^2*('motorcycle data'!$F$4)*('motorcycle data'!$G$4) -> 11.503627 | J160: =IF(F160=0,0,H160+I160+'motorcycle data'!$E$7) -> -136.64877 | K160: =IF(J160<=0,0,J160) -> 0 | L160: =IF(J160<0,J160*-1,0) -> 136.64877 | M160: =(J160*F160)/1000 -> -1.0324574 | N160: =IF(M160>0,M160,0) -> 0 | O160: =IF(M160<0,M160*-1,0) -> 1.0324574 | P160: =O160*0.75 -> 0.77434305 | Q160: =IF(G160<0,P160,"") -> 0.77434305 | T160: =T159+N160 -> 57.665633 | U160: =U159+O160 -> 15.162536 | V160: =O160*0.75*0.9*0.9 -> 0.62721787
B161: Low | C161: 153 | D161: 153 | E161: 22.6 | F161: =E161/3.6 -> 6.2777778 | G161: =($E162-$E160)/2/3.6 -> -1.375 | H161: =('motorcycle data'!$C$4)*(G161) -> -272.25 | I161: =0.5*1.225*F161^2*('motorcycle data'!$F$4)*('motorcycle data'!$G$4) -> 7.9417071 | J161: =IF(F161=0,0,H161+I161+'motorcycle data'!$E$7) -> -225.46069 | K161: =IF(J161<=0,0,J161) -> 0 | L161: =IF(J161<0,J161*-1,0) -> 225.46069 | M161: =(J161*F161)/1000 -> -1.4153921 | N161: =IF(M161>0,M161,0) -> 0 | O161: =IF(M161<0,M161*-1,0) -> 1.4153921 | P161: =O161*0.75 -> 1.0615441 | Q161: =IF(G161<0,P161,"") -> 1.0615441 | T161: =T160+N161 -> 57.665633 | U161: =U160+O161 -> 16.577928 | V161: =O161*0.75*0.9*0.9 -> 0.85985072
B162: Low | C162: 154 | D162: 154 | E162: 17.3 | F162: =E162/3.6 -> 4.8055556 | G162: =($E163-$E161)/2/3.6 -> -1.2916667 | H162: =('motorcycle data'!$C$4)*(G162) -> -255.75 | I162: =0.5*1.225*F162^2*('motorcycle data'!$F$4)*('motorcycle data'!$G$4) -> 4.6536016 | J162: =IF(F162=0,0,H162+I162+'motorcycle data'!$E$7) -> -212.2488 | K162: =IF(J162<=0,0,J162) -> 0 | L162: =IF(J162<0,J162*-1,0) -> 212.2488 | M162: =(J162*F162)/1000 -> -1.0199734 | N162: =IF(M162>0,M162,0) -> 0 | O162: =IF(M162<0,M162*-1,0) -> 1.0199734 | P162: =O162*0.75 -> 0.76498004 | Q162: =IF(G162<0,P162,"") -> 0.76498004 | T162: =T161+N162 -> 57.665633 | U162: =U161+O162 -> 17.597902 | V162: =O162*0.75*0.9*0.9 -> 0.61963384
B163: Low | C163: 155 | D163: 155 | E163: 13.3 | F163: =E163/3.6 -> 3.6944444 | G163: =($E164-$E162)/2/3.6 -> -0.73611111 | H163: =('motorcycle data'!$C$4)*(G163) -> -145.75 | I163: =0.5*1.225*F163^2*('motorcycle data'!$F$4)*('motorcycle data'!$G$4) -> 2.7504279 | J163: =IF(F163=0,0,H163+I163+'motorcycle data'!$E$7) -> -104.15197 | K163: =IF(J163<=0,0,J163) -> 0 | L163: =IF(J163<0,J163*-1,0) -> 104.15197 | M163: =(J163*F163)/1000 -> -0.38478367 | N163: =IF(M163>0,M163,0) -> 0 | O163: =IF(M163<0,M163*-1,0) -> 0.38478367 | P163: =O163*0.75 -> 0.28858776 | Q163: =IF(G163<0,P163,"") -> 0.28858776 | T163: =T162+N163 -> 57.665633 | U163: =U162+O163 -> 17.982685 | V163: =O163*0.75*0.9*0.9 -> 0.23375608
B164: Low | C164: 156 | D164: 156 | E164: 12 | F164: =E164/3.6 -> 3.3333333 | G164: =($E165-$E163)/2/3.6 -> -0.097222222 | H164: =('motorcycle data'!$C$4)*(G164) -> -19.25 | I164: =0.5*1.225*F164^2*('motorcycle data'!$F$4)*('motorcycle data'!$G$4) -> 2.2390278 | J164: =IF(F164=0,0,H164+I164+'motorcycle data'!$E$7) -> 21.836628 | K164: =IF(J164<=0,0,J164) -> 21.836628 | L164: =IF(J164<0,J164*-1,0) -> 0 | M164: =(J164*F164)/1000 -> 0.072788759 | N164: =IF(M164>0,M164,0) -> 0.072788759 | O164: =IF(M164<0,M164*-1,0) -> 0 | P164: =O164*0.75 -> 0 | Q164: =IF(G164<0,P164,"") -> 0 | T164: =T163+N164 -> 57.738422 | U164: =U163+O164 -> 17.982685 | V164: =O164*0.75*0.9*0.9 -> 0
B165: Low | C165: 157 | D165: 157 | E165: 12.6 | F165: =E165/3.6 -> 3.5 | G165: =($E166-$E164)/2/3.6 -> 0.29166667 | H165: =('motorcycle data'!$C$4)*(G165) -> 57.75 | I165: =0.5*1.225*F165^2*('motorcycle data'!$F$4)*('motorcycle data'!$G$4) -> 2.4685281 | J165: =IF(F165=0,0,H165+I165+'motorcycle data'!$E$7) -> 99.066128 | K165: =IF(J165<=0,0,J165) -> 99.066128 | L165: =IF(J165<0,J165*-1,0) -> 0 | M165: =(J165*F165)/1000 -> 0.34673145 | N165: =IF(M165>0,M165,0) -> 0.34673145 | O165: =IF(M165<0,M165*-1,0) -> 0 | P165: =O165*0.75 -> 0 | Q165: =IF(G165<0,P165,"") | T165: =T164+N165 -> 58.085153 | U165: =U164+O165 -> 17.982685 | V165: =O165*0.75*0.9*0.9 -> 0
B166: Low | C166: 158 | D166: 158 | E166: 14.1 | F166: =E166/3.6 -> 3.9166667 | G166: =($E167-$E165)/2/3.6 -> 0.63888889 | H166: =('motorcycle data'!$C$4)*(G166) -> 126.5 | I166: =0.5*1.225*F166^2*('motorcycle data'!$F$4)*('motorcycle data'!$G$4) -> 3.0912577 | J166: =IF(F166=0,0,H166+I166+'motorcycle data'!$E$7) -> 168.43886 | K166: =IF(J166<=0,0,J166) -> 168.43886 | L166: =IF(J166<0,J166*-1,0) -> 0 | M166: =(J166*F166)/1000 -> 0.65971886 | N166: =IF(M166>0,M166,0) -> 0.65971886 | O166: =IF(M166<0,M166*-1,0) -> 0 | P166: =O166*0.75 -> 0 | Q166: =IF(G166<0,P166,"") | T166: =T165+N166 -> 58.744872 | U166: =U165+O166 -> 17.982685 | V166: =O166*0.75*0.9*0.9 -> 0
B167: Low | C167: 159 | D167: 159 | E167: 17.2 | F167: =E167/3.6 -> 4.7777778 | G167: =($E168-$E166)/2/3.6 -> 0.83333333 | H167: =('motorcycle data'!$C$4)*(G167) -> 165 | I167: =0.5*1.225*F167^2*('motorcycle data'!$F$4)*('motorcycle data'!$G$4) -> 4.5999582 | J167: =IF(F167=0,0,H167+I167+'motorcycle data'!$E$7) -> 208.44756 | K167: =IF(J167<=0,0,J167) -> 208.44756 | L167: =IF(J167<0,J167*-1,0) -> 0 | M167: =(J167*F167)/1000 -> 0.99591611 | N167: =IF(M167>0,M167,0) -> 0.99591611 | O167: =IF(M167<0,M167*-1,0) -> 0 | P167: =O167*0.75 -> 0 | Q167: =IF(G167<0,P167,"") | T167: =T166+N167 -> 59.740788 | U167: =U166+O167 -> 17.982685 | V167: =O167*0.75*0.9*0.9 -> 0
B168: Low | C168: 160 | D168: 160 | E168: 20.1 | F168: =E168/3.6 -> 5.5833333 | G168: =($E169-$E167)/2/3.6 -> 0.86111111 | H168: =('motorcycle data'!$C$4)*(G168) -> 170.5 | I168: =0.5*1.225*F168^2*('motorcycle data'!$F$4)*('motorcycle data'!$G$4) -> 6.2818723 | J168: =IF(F168=0,0,H168+I168+'motorcycle data'!$E$7) -> 215.62947 | K168: =IF(J168<=0,0,J168) -> 215.62947 | L168: =IF(J168<0,J168*-1,0) -> 0 | M168: =(J168*F168)/1000 -> 1.2039312 | N168: =IF(M168>0,M168,0) -> 1.2039312 | O168: =IF(M168<0,M168*-1,0) -> 0 | P168: =O168*0.75 -> 0 | Q168: =IF(G168<0,P168,"") | T168: =T167+N168 -> 60.94472 | U168: =U167+O168 -> 17.982685 | V168: =O168*0.75*0.9*0.9 -> 0
B169: Low | C169: 161 | D169: 161 | E169: 23.4 | F169: =E169/3.6 -> 6.5 | G169: =($E170-$E168)/2/3.6 -> 0.75 | H169: =('motorcycle data'!$C$4)*(G169) -> 148.5 | I169: =0.5*1.225*F169^2*('motorcycle data'!$F$4)*('motorcycle data'!$G$4) -> 8.5139031 | J169: =IF(F169=0,0,H169+I169+'motorcycle data'!$E$7) -> 195.8615 | K169: =IF(J169<=0,0,J169) -> 195.8615 | L169: =IF(J169<0,J169*-1,0) -> 0 | M169: =(J169*F169)/1000 -> 1.2730998 | N169: =IF(M169>0,M169,0) -> 1.2730998 | O169: =IF(M169<0,M169*-1,0) -> 0 | P169: =O169*0.75 -> 0 | Q169: =IF(G169<0,P169,"") | T169: =T168+N169 -> 62.217819 | U169: =U168+O169 -> 17.982685 | V169: =O169*0.75*0.9*0.9 -> 0
B170: Low | C170: 162 | D170: 162 | E170: 25.5 | F170: =E170/3.6 -> 7.0833333 | G170: =($E171-$E169)/2/3.6 -> 0.58333333 | H170: =('motorcycle data'!$C$4)*(G170) -> 115.5 | I170: =0.5*1.225*F170^2*('motorcycle data'!$F$4)*('motorcycle data'!$G$4) -> 10.11061 | J170: =IF(F170=0,0,H170+I170+'motorcycle data'!$E$7) -> 164.45821 | K170: =IF(J170<=0,0,J170) -> 164.45821 | L170: =IF(J170<0,J170*-1,0) -> 0 | M170: =(J170*F170)/1000 -> 1.1649123 | N170: =IF(M170>0,M170,0) -> 1.1649123 | O170: =IF(M170<0,M170*-1,0) -> 0 | P170: =O170*0.75 -> 0 | Q170: =IF(G170<0,P170,"") | T170: =T169+N170 -> 63.382732 | U170: =U169+O170 -> 17.982685 | V170: =O170*0.75*0.9*0.9 -> 0
B171: Low | C171: 163 | D171: 163 | E171: 27.6 | F171: =E171/3.6 -> 7.6666667 | G171: =($E172-$E170)/2/3.6 -> 0.55555556 | H171: =('motorcycle data'!$C$4)*(G171) -> 110 | I171: =0.5*1.225*F171^2*('motorcycle data'!$F$4)*('motorcycle data'!$G$4) -> 11.844457 | J171: =IF(F171=0,0,H171+I171+'motorcycle data'!$E$7) -> 160.69206 | K171: =IF(J171<=0,0,J171) -> 160.69206 | L171: =IF(J171<0,J171*-1,0) -> 0 | M171: =(J171*F171)/1000 -> 1.2319724 | N171: =IF(M171>0,M171,0) -> 1.2319724 | O171: =IF(M171<0,M171*-1,0) -> 0 | P171: =O171*0.75 -> 0 | Q171: =IF(G171<0,P171,"") | T171: =T170+N171 -> 64.614704 | U171: =U170+O171 -> 17.982685 | V171: =O171*0.75*0.9*0.9 -> 0
... B178: Low | C178: 170 | D178: 170 | E178: 38 | F178: =E178/3.6 -> 10.555556 | G178: =($E179-$E177)/2/3.6 -> 0.027777778 | H178: =('motorcycle data'!$C$4)*(G178) -> 5.5 | I178: =0.5*1.225*F178^2*('motorcycle data'!$F$4)*('motorcycle data'!$G$4) -> 22.452473 | J178: =IF(F178=0,0,H178+I178+'motorcycle data'!$E$7) -> 66.800073 | K178: =IF(J178<=0,0,J178) -> 66.800073 | L178: =IF(J178<0,J178*-1,0) -> 0 | M178: =(J178*F178)/1000 -> 0.70511188 | N178: =IF(M178>0,M178,0) -> 0.70511188 | O178: =IF(M178<0,M178*-1,0) -> 0 | P178: =O178*0.75 -> 0 | Q178: =IF(G178<0,P178,"") | T178: =T177+N178 -> 72.990855 | U178: =U177+O178 -> 17.982685 | V178: =O178*0.75*0.9*0.9 -> 0
B179: Low | C179: 171 | D179: 171 | E179: 37.4 | F179: =E179/3.6 -> 10.388889 | G179: =($E180-$E178)/2/3.6 -> -0.40277778 | H179: =('motorcycle data'!$C$4)*(G179) -> -79.75 | I179: =0.5*1.225*F179^2*('motorcycle data'!$F$4)*('motorcycle data'!$G$4) -> 21.749045 | J179: =IF(F179=0,0,H179+I179+'motorcycle data'!$E$7) -> -19.153355 | K179: =IF(J179<=0,0,J179) -> 0 | L179: =IF(J179<0,J179*-1,0) -> 19.153355 | M179: =(J179*F179)/1000 -> -0.19898208 | N179: =IF(M179>0,M179,0) -> 0 | O179: =IF(M179<0,M179*-1,0) -> 0.19898208 | P179: =O179*0.75 -> 0.14923656 | Q179: =IF(G179<0,P179,"") -> 0.14923656 | R179: =SUM(Q179:Q183) -> 2.7193871 | S179: =R179*5 -> 13.596935 | T179: =T178+N179 -> 72.990855 | U179: =U178+O179 -> 18.181668 | V179: =O179*0.75*0.9*0.9 -> 0.12088161
B180: Low | C180: 172 | D180: 172 | E180: 35.1 | F180: =E180/3.6 -> 9.75 | G180: =($E181-$E179)/2/3.6 -> -0.88888889 | H180: =('motorcycle data'!$C$4)*(G180) -> -176 | I180: =0.5*1.225*F180^2*('motorcycle data'!$F$4)*('motorcycle data'!$G$4) -> 19.156282 | J180: =IF(F180=0,0,H180+I180+'motorcycle data'!$E$7) -> -117.99612 | K180: =IF(J180<=0,0,J180) -> 0 | L180: =IF(J180<0,J180*-1,0) -> 117.99612 | M180: =(J180*F180)/1000 -> -1.1504622 | N180: =IF(M180>0,M180,0) -> 0 | O180: =IF(M180<0,M180*-1,0) -> 1.1504622 | P180: =O180*0.75 -> 0.86284661 | Q180: =IF(G180<0,P180,"") -> 0.86284661 | T180: =T179+N180 -> 72.990855 | U180: =U179+O180 -> 19.33213 | V180: =O180*0.75*0.9*0.9 -> 0.69890576
B181: Low | C181: 173 | D181: 173 | E181: 31 | F181: =E181/3.6 -> 8.6111111 | G181: =($E182-$E180)/2/3.6 -> -1.1111111 | H181: =('motorcycle data'!$C$4)*(G181) -> -220 | I181: =0.5*1.225*F181^2*('motorcycle data'!$F$4)*('motorcycle data'!$G$4) -> 14.942401 | J181: =IF(F181=0,0,H181+I181+'motorcycle data'!$E$7) -> -166.21 | K181: =IF(J181<=0,0,J181) -> 0 | L181: =IF(J181<0,J181*-1,0) -> 166.21 | M181: =(J181*F181)/1000 -> -1.4312528 | N181: =IF(M181>0,M181,0) -> 0 | O181: =IF(M181<0,M181*-1,0) -> 1.4312528 | P181: =O181*0.75 -> 1.0734396 | Q181: =IF(G181<0,P181,"") -> 1.0734396 | T181: =T180+N181 -> 72.990855 | U181: =U180+O181 -> 20.763382 | V181: =O181*0.75*0.9*0.9 -> 0.86948606
B182: Low | C182: 174 | D182: 174 | E182: 27.1 | F182: =E182/3.6 -> 7.5277778 | G182: =($E183-$E181)/2/3.6 -> -0.79166667 | H182: =('motorcycle data'!$C$4)*(G182) -> -156.75 | I182: =0.5*1.225*F182^2*('motorcycle data'!$F$4)*('motorcycle data'!$G$4) -> 11.419197 | J182: =IF(F182=0,0,H182+I182+'motorcycle data'!$E$7) -> -106.4832 | K182: =IF(J182<=0,0,J182) -> 0 | L182: =IF(J182<0,J182*-1,0) -> 106.4832 | M182: =(J182*F182)/1000 -> -0.80158189 | N182: =IF(M182>0,M182,0) -> 0 | O182: =IF(M182<0,M182*-1,0) -> 0.80158189 | P182: =O182*0.75 -> 0.60118642 | Q182: =IF(G182<0,P182,"") -> 0.60118642 | T182: =T181+N182 -> 72.990855 | U182: =U181+O182 -> 21.564964 | V182: =O182*0.75*0.9*0.9 -> 0.486961
B183: Low | C183: 175 | D183: 175 | E183: 25.3 | F183: =E183/3.6 -> 7.0277778 | G183: =($E184-$E182)/2/3.6 -> -0.27777778 | H183: =('motorcycle data'!$C$4)*(G183) -> -55 | I183: =0.5*1.225*F183^2*('motorcycle data'!$F$4)*('motorcycle data'!$G$4) -> 9.952634 | J183: =IF(F183=0,0,H183+I183+'motorcycle data'!$E$7) -> -6.199766 | K183: =IF(J183<=0,0,J183) -> 0 | L183: =IF(J183<0,J183*-1,0) -> 6.199766 | M183: =(J183*F183)/1000 -> -0.043570578 | N183: =IF(M183>0,M183,0) -> 0 | O183: =IF(M183<0,M183*-1,0) -> 0.043570578 | P183: =O183*0.75 -> 0.032677934 | Q183: =IF(G183<0,P183,"") -> 0.032677934 | T183: =T182+N183 -> 72.990855 | U183: =U182+O183 -> 21.608535 | V183: =O183*0.75*0.9*0.9 -> 0.026469126
B184: Low | C184: 176 | D184: 176 | E184: 25.1 | F184: =E184/3.6 -> 6.9722222 | G184: =($E185-$E183)/2/3.6 -> 0.083333333 | H184: =('motorcycle data'!$C$4)*(G184) -> 16.5 | I184: =0.5*1.225*F184^2*('motorcycle data'!$F$4)*('motorcycle data'!$G$4) -> 9.795902 | J184: =IF(F184=0,0,H184+I184+'motorcycle data'!$E$7) -> 65.143502 | K184: =IF(J184<=0,0,J184) -> 65.143502 | L184: =IF(J184<0,J184*-1,0) -> 0 | M184: =(J184*F184)/1000 -> 0.45419497 | N184: =IF(M184>0,M184,0) -> 0.45419497 | O184: =IF(M184<0,M184*-1,0) -> 0 | P184: =O184*0.75 -> 0 | Q184: =IF(G184<0,P184,"") | T184: =T183+N184 -> 73.44505 | U184: =U183+O184 -> 21.608535 | V184: =O184*0.75*0.9*0.9 -> 0
B185: Low | C185: 177 | D185: 177 | E185: 25.9 | F185: =E185/3.6 -> 7.1944444 | G185: =($E186-$E184)/2/3.6 -> 0.375 | H185: =('motorcycle data'!$C$4)*(G185) -> 74.25 | I185: =0.5*1.225*F185^2*('motorcycle data'!$F$4)*('motorcycle data'!$G$4) -> 10.430293 | J185: =IF(F185=0,0,H185+I185+'motorcycle data'!$E$7) -> 123.52789 | K185: =IF(J185<=0,0,J185) -> 123.52789 | L185: =IF(J185<0,J185*-1,0) -> 0 | M185: =(J185*F185)/1000 -> 0.88871457 | N185: =IF(M185>0,M185,0) -> 0.88871457 | O185: =IF(M185<0,M185*-1,0) -> 0 | P185: =O185*0.75 -> 0 | Q185: =IF(G185<0,P185,"") | T185: =T184+N185 -> 74.333765 | U185: =U184+O185 -> 21.608535 | V185: =O185*0.75*0.9*0.9 -> 0
B186: Low | C186: 178 | D186: 178 | E186: 27.8 | F186: =E186/3.6 -> 7.7222222 | G186: =($E187-$E185)/2/3.6 -> 0.45833333 | H186: =('motorcycle data'!$C$4)*(G186) -> 90.75 | I186: =0.5*1.225*F186^2*('motorcycle data'!$F$4)*('motorcycle data'!$G$4) -> 12.016738 | J186: =IF(F186=0,0,H186+I186+'motorcycle data'!$E$7) -> 141.61434 | K186: =IF(J186<=0,0,J186) -> 141.61434 | L186: =IF(J186<0,J186*-1,0) -> 0 | M186: =(J186*F186)/1000 -> 1.0935774 | N186: =IF(M186>0,M186,0) -> 1.0935774 | O186: =IF(M186<0,M186*-1,0) -> 0 | P186: =O186*0.75 -> 0 | Q186: =IF(G186<0,P186,"") | T186: =T185+N186 -> 75.427342 | U186: =U185+O186 -> 21.608535 | V186: =O186*0.75*0.9*0.9 -> 0
B187: Low | C187: 179 | D187: 179 | E187: 29.2 | F187: =E187/3.6 -> 8.1111111 | G187: =($E188-$E186)/2/3.6 -> 0.25 | H187: =('motorcycle data'!$C$4)*(G187) -> 49.5 | I187: =0.5*1.225*F187^2*('motorcycle data'!$F$4)*('motorcycle data'!$G$4) -> 13.257532 | J187: =IF(F187=0,0,H187+I187+'motorcycle data'!$E$7) -> 101.60513 | K187: =IF(J187<=0,0,J187) -> 101.60513 | L187: =IF(J187<0,J187*-1,0) -> 0 | M187: =(J187*F187)/1000 -> 0.82413052 | N187: =IF(M187>0,M187,0) -> 0.82413052 | O187: =IF(M187<0,M187*-1,0) -> 0 | P187: =O187*0.75 -> 0 | Q187: =IF(G187<0,P187,"") | T187: =T186+N187 -> 76.251473 | U187: =U186+O187 -> 21.608535 | V187: =O187*0.75*0.9*0.9 -> 0
B188: Low | C188: 180 | D188: 180 | E188: 29.6 | F188: =E188/3.6 -> 8.2222222 | G188: =($E189-$E187)/2/3.6 -> 0.041666667 | H188: =('motorcycle data'!$C$4)*(G188) -> 8.25 | I188: =0.5*1.225*F188^2*('motorcycle data'!$F$4)*('motorcycle data'!$G$4) -> 13.62324 | J188: =IF(F188=0,0,H188+I188+'motorcycle data'!$E$7) -> 60.72084 | K188: =IF(J188<=0,0,J188) -> 60.72084 | L188: =IF(J188<0,J188*-1,0) -> 0 | M188: =(J188*F188)/1000 -> 0.49926024 | N188: =IF(M188>0,M188,0) -> 0.49926024 | O188: =IF(M188<0,M188*-1,0) -> 0 | P188: =O188*0.75 -> 0 | Q188: =IF(G188<0,P188,"") | T188: =T187+N188 -> 76.750733 | U188: =U187+O188 -> 21.608535 | V188: =O188*0.75*0.9*0.9 -> 0
B189: Low | C189: 181 | D189: 181 | E189: 29.5 | F189: =E189/3.6 -> 8.1944444 | G189: =($E190-$E188)/2/3.6 -> -0.055555556 | H189: =('motorcycle data'!$C$4)*(G189) -> -11 | I189: =0.5*1.225*F189^2*('motorcycle data'!$F$4)*('motorcycle data'!$G$4) -> 13.531347 | J189: =IF(F189=0,0,H189+I189+'motorcycle data'!$E$7) -> 41.378947 | K189: =IF(J189<=0,0,J189) -> 41.378947 | L189: =IF(J189<0,J189*-1,0) -> 0 | M189: =(J189*F189)/1000 -> 0.33907748 | N189: =IF(M189>0,M189,0) -> 0.33907748 | O189: =IF(M189<0,M189*-1,0) -> 0 | P189: =O189*0.75 -> 0 | Q189: =IF(G189<0,P189,"") -> 0 | R189: =SUM(Q189:Q203) -> 2.0015561 | S189: =R189*15 -> 30.023341 | T189: =T188+N189 -> 77.089811 | U189: =U188+O189 -> 21.608535 | V189: =O189*0.75*0.9*0.9 -> 0
B190: Low | C190: 182 | D190: 182 | E190: 29.2 | F190: =E190/3.6 -> 8.1111111 | G190: =($E191-$E189)/2/3.6 -> -0.16666667 | H190: =('motorcycle data'!$C$4)*(G190) -> -33 | I190: =0.5*1.225*F190^2*('motorcycle data'!$F$4)*('motorcycle data'!$G$4) -> 13.257532 | J190: =IF(F190=0,0,H190+I190+'motorcycle data'!$E$7) -> 19.105132 | K190: =IF(J190<=0,0,J190) -> 19.105132 | L190: =IF(J190<0,J190*-1,0) -> 0 | M190: =(J190*F190)/1000 -> 0.15496385 | N190: =IF(M190>0,M190,0) -> 0.15496385 | O190: =IF(M190<0,M190*-1,0) -> 0 | P190: =O190*0.75 -> 0 | Q190: =IF(G190<0,P190,"") -> 0 | T190: =T189+N190 -> 77.244774 | U190: =U189+O190 -> 21.608535 | V190: =O190*0.75*0.9*0.9 -> 0
B191: Low | C191: 183 | D191: 183 | E191: 28.3 | F191: =E191/3.6 -> 7.8611111 | G191: =($E192-$E190)/2/3.6 -> -0.43055556 | H191: =('motorcycle data'!$C$4)*(G191) -> -85.25 | I191: =0.5*1.225*F191^2*('motorcycle data'!$F$4)*('motorcycle data'!$G$4) -> 12.452882 | J191: =IF(F191=0,0,H191+I191+'motorcycle data'!$E$7) -> -33.949518 | K191: =IF(J191<=0,0,J191) -> 0 | L191: =IF(J191<0,J191*-1,0) -> 33.949518 | M191: =(J191*F191)/1000 -> -0.26688094 | N191: =IF(M191>0,M191,0) -> 0 | O191: =IF(M191<0,M191*-1,0) -> 0.26688094 | P191: =O191*0.75 -> 0.2001607 | Q191: =IF(G191<0,P191,"") -> 0.2001607 | T191: =T190+N191 -> 77.244774 | U191: =U190+O191 -> 21.875416 | V191: =O191*0.75*0.9*0.9 -> 0.16213017
B192: Low | C192: 184 | D192: 184 | E192: 26.1 | F192: =E192/3.6 -> 7.25 | G192: =($E193-$E191)/2/3.6 -> -0.65277778 | H192: =('motorcycle data'!$C$4)*(G192) -> -129.25 | I192: =0.5*1.225*F192^2*('motorcycle data'!$F$4)*('motorcycle data'!$G$4) -> 10.592001 | J192: =IF(F192=0,0,H192+I192+'motorcycle data'!$E$7) -> -79.810399 | K192: =IF(J192<=0,0,J192) -> 0 | L192: =IF(J192<0,J192*-1,0) -> 79.810399 | M192: =(J192*F192)/1000 -> -0.57862539 | N192: =IF(M192>0,M192,0) -> 0 | O192: =IF(M192<0,M192*-1,0) -> 0.57862539 | P192: =O192*0.75 -> 0.43396905 | Q192: =IF(G192<0,P192,"") -> 0.43396905 | T192: =T191+N192 -> 77.244774 | U192: =U191+O192 -> 22.454041 | V192: =O192*0.75*0.9*0.9 -> 0.35151493
B193: Low | C193: 185 | D193: 185 | E193: 23.6 | F193: =E193/3.6 -> 6.5555556 | G193: =($E194-$E192)/2/3.6 -> -0.70833333 | H193: =('motorcycle data'!$C$4)*(G193) -> -140.25 | I193: =0.5*1.225*F193^2*('motorcycle data'!$F$4)*('motorcycle data'!$G$4) -> 8.6600619 | J193: =IF(F193=0,0,H193+I193+'motorcycle data'!$E$7) -> -92.742338 | K193: =IF(J193<=0,0,J193) -> 0 | L193: =IF(J193<0,J193*-1,0) -> 92.742338 | M193: =(J193*F193)/1000 -> -0.60797755 | N193: =IF(M193>0,M193,0) -> 0 | O193: =IF(M193<0,M193*-1,0) -> 0.60797755 | P193: =O193*0.75 -> 0.45598316 | Q193: =IF(G193<0,P193,"") -> 0.45598316 | T193: =T192+N193 -> 77.244774 | U193: =U192+O193 -> 23.062019 | V193: =O193*0.75*0.9*0.9 -> 0.36934636
B194: Low | C194: 186 | D194: 186 | E194: 21 | F194: =E194/3.6 -> 5.8333333 | G194: =($E195-$E193)/2/3.6 -> -0.65277778 | H194: =('motorcycle data'!$C$4)*(G194) -> -129.25 | I194: =0.5*1.225*F194^2*('motorcycle data'!$F$4)*('motorcycle data'!$G$4) -> 6.8570226 | J194: =IF(F194=0,0,H194+I194+'motorcycle data'!$E$7) -> -83.545377 | K194: =IF(J194<=0,0,J194) -> 0 | L194: =IF(J194<0,J194*-1,0) -> 83.545377 | M194: =(J194*F194)/1000 -> -0.48734804 | N194: =IF(M194>0,M194,0) -> 0 | O194: =IF(M194<0,M194*-1,0) -> 0.48734804 | P194: =O194*0.75 -> 0.36551103 | Q194: =IF(G194<0,P194,"") -> 0.36551103 | T194: =T193+N194 -> 77.244774 | U194: =U193+O194 -> 23.549367 | V194: =O194*0.75*0.9*0.9 -> 0.29606393
B195: Low | C195: 187 | D195: 187 | E195: 18.9 | F195: =E195/3.6 -> 5.25 | G195: =($E196-$E194)/2/3.6 -> -0.54166667 | H195: =('motorcycle data'!$C$4)*(G195) -> -107.25 | I195: =0.5*1.225*F195^2*('motorcycle data'!$F$4)*('motorcycle data'!$G$4) -> 5.5541883 | J195: =IF(F195=0,0,H195+I195+'motorcycle data'!$E$7) -> -62.848212 | K195: =IF(J195<=0,0,J195) -> 0 | L195: =IF(J195<0,J195*-1,0) -> 62.848212 | M195: =(J195*F195)/1000 -> -0.32995311 | N195: =IF(M195>0,M195,0) -> 0 | O195: =IF(M195<0,M195*-1,0) -> 0.32995311 | P195: =O195*0.75 -> 0.24746483 | Q195: =IF(G195<0,P195,"") -> 0.24746483 | T195: =T194+N195 -> 77.244774 | U195: =U194+O195 -> 23.87932 | V195: =O195*0.75*0.9*0.9 -> 0.20044652
B196: Low | C196: 188 | D196: 188 | E196: 17.1 | F196: =E196/3.6 -> 4.75 | G196: =($E197-$E195)/2/3.6 -> -0.44444444 | H196: =('motorcycle data'!$C$4)*(G196) -> -88 | I196: =0.5*1.225*F196^2*('motorcycle data'!$F$4)*('motorcycle data'!$G$4) -> 4.5466258 | J196: =IF(F196=0,0,H196+I196+'motorcycle data'!$E$7) -> -44.605774 | K196: =IF(J196<=0,0,J196) -> 0 | L196: =IF(J196<0,J196*-1,0) -> 44.605774 | M196: =(J196*F196)/1000 -> -0.21187743 | N196: =IF(M196>0,M196,0) -> 0 | O196: =IF(M196<0,M196*-1,0) -> 0.21187743 | P196: =O196*0.75 -> 0.15890807 | Q196: =IF(G196<0,P196,"") -> 0.15890807 | T196: =T195+N196 -> 77.244774 | U196: =U195+O196 -> 24.091197 | V196: =O196*0.75*0.9*0.9 -> 0.12871554
B197: Low | C197: 189 | D197: 189 | E197: 15.7 | F197: =E197/3.6 -> 4.3611111 | G197: =($E198-$E196)/2/3.6 -> -0.36111111 | H197: =('motorcycle data'!$C$4)*(G197) -> -71.5 | I197: =0.5*1.225*F197^2*('motorcycle data'!$F$4)*('motorcycle data'!$G$4) -> 3.8326247 | J197: =IF(F197=0,0,H197+I197+'motorcycle data'!$E$7) -> -28.819775 | K197: =IF(J197<=0,0,J197) -> 0 | L197: =IF(J197<0,J197*-1,0) -> 28.819775 | M197: =(J197*F197)/1000 -> -0.12568624 | N197: =IF(M197>0,M197,0) -> 0 | O197: =IF(M197<0,M197*-1,0) -> 0.12568624 | P197: =O197*0.75 -> 0.094264682 | Q197: =IF(G197<0,P197,"") -> 0.094264682 | T197: =T196+N197 -> 77.244774 | U197: =U196+O197 -> 24.216884 | V197: =O197*0.75*0.9*0.9 -> 0.076354392
B198: Low | C198: 190 | D198: 190 | E198: 14.5 | F198: =E198/3.6 -> 4.0277778 | G198: =($E199-$E197)/2/3.6 -> -0.27777778 | H198: =('motorcycle data'!$C$4)*(G198) -> -55 | I198: =0.5*1.225*F198^2*('motorcycle data'!$F$4)*('motorcycle data'!$G$4) -> 3.269136 | J198: =IF(F198=0,0,H198+I198+'motorcycle data'!$E$7) -> -12.883264 | K198: =IF(J198<=0,0,J198) -> 0 | L198: =IF(J198<0,J198*-1,0) -> 12.883264 | M198: =(J198*F198)/1000 -> -0.051890924 | N198: =IF(M198>0,M198,0) -> 0 | O198: =IF(M198<0,M198*-1,0) -> 0.051890924 | P198: =O198*0.75 -> 0.038918193 | Q198: =IF(G198<0,P198,"") -> 0.038918193 | T198: =T197+N198 -> 77.244774 | U198: =U197+O198 -> 24.268775 | V198: =O198*0.75*0.9*0.9 -> 0.031523736
B199: Low | C199: 191 | D199: 191 | E199: 13.7 | F199: =E199/3.6 -> 3.8055556 | G199: =($E200-$E198)/2/3.6 -> -0.22222222 | H199: =('motorcycle data'!$C$4)*(G199) -> -44 | I199: =0.5*1.225*F199^2*('motorcycle data'!$F$4)*('motorcycle data'!$G$4) -> 2.918355 | J199: =IF(F199=0,0,H199+I199+'motorcycle data'!$E$7) -> -2.234045 | K199: =IF(J199<=0,0,J199) -> 0 | L199: =IF(J199<0,J199*-1,0) -> 2.234045 | M199: =(J199*F199)/1000 -> -0.0085017823 | N199: =IF(M199>0,M199,0) -> 0 | O199: =IF(M199<0,M199*-1,0) -> 0.0085017823 | P199: =O199*0.75 -> 0.0063763367 | Q199: =IF(G199<0,P199,"") -> 0.0063763367 | T199: =T198+N199 -> 77.244774 | U199: =U198+O199 -> 24.277276 | V199: =O199*0.75*0.9*0.9 -> 0.0051648327
B200: Low | C200: 192 | D200: 192 | E200: 12.9 | F200: =E200/3.6 -> 3.5833333 | G200: =($E201-$E199)/2/3.6 -> -0.16666667 | H200: =('motorcycle data'!$C$4)*(G200) -> -33 | I200: =0.5*1.225*F200^2*('motorcycle data'!$F$4)*('motorcycle data'!$G$4) -> 2.5874765 | J200: =IF(F200=0,0,H200+I200+'motorcycle data'!$E$7) -> 8.4350765 | K200: =IF(J200<=0,0,J200) -> 8.4350765 | L200: =IF(J200<0,J200*-1,0) -> 0 | M200: =(J200*F200)/1000 -> 0.030225691 | N200: =IF(M200>0,M200,0) -> 0.030225691 | O200: =IF(M200<0,M200*-1,0) -> 0 | P200: =O200*0.75 -> 0 | Q200: =IF(G200<0,P200,"") -> 0 | T200: =T199+N200 -> 77.275 | U200: =U199+O200 -> 24.277276 | V200: =O200*0.75*0.9*0.9 -> 0
B201: Low | C201: 193 | D201: 193 | E201: 12.5 | F201: =E201/3.6 -> 3.4722222 | G201: =($E202-$E200)/2/3.6 -> -0.097222222 | H201: =('motorcycle data'!$C$4)*(G201) -> -19.25 | I201: =0.5*1.225*F201^2*('motorcycle data'!$F$4)*('motorcycle data'!$G$4) -> 2.4295006 | J201: =IF(F201=0,0,H201+I201+'motorcycle data'!$E$7) -> 22.027101 | K201: =IF(J201<=0,0,J201) -> 22.027101 | L201: =IF(J201<0,J201*-1,0) -> 0 | M201: =(J201*F201)/1000 -> 0.076482988 | N201: =IF(M201>0,M201,0) -> 0.076482988 | O201: =IF(M201<0,M201*-1,0) -> 0 | P201: =O201*0.75 -> 0 | Q201: =IF(G201<0,P201,"") -> 0 | T201: =T200+N201 -> 77.351483 | U201: =U200+O201 -> 24.277276 | V201: =O201*0.75*0.9*0.9 -> 0
... B238: Low | C238: 230 | D238: 230 | E238: 56.5 | F238: =E238/3.6 -> 15.694444 | G238: =($E239-$E237)/2/3.6 -> 0.041666667 | H238: =('motorcycle data'!$C$4)*(G238) -> 8.25 | I238: =0.5*1.225*F238^2*('motorcycle data'!$F$4)*('motorcycle data'!$G$4) -> 49.63567 | J238: =IF(F238=0,0,H238+I238+'motorcycle data'!$E$7) -> 96.73327 | K238: =IF(J238<=0,0,J238) -> 96.73327 | L238: =IF(J238<0,J238*-1,0) -> 0 | M238: =(J238*F238)/1000 -> 1.5181749 | N238: =IF(M238>0,M238,0) -> 1.5181749 | O238: =IF(M238<0,M238*-1,0) -> 0 | P238: =O238*0.75 -> 0 | Q238: =IF(G238<0,P238,"") | T238: =T237+N238 -> 126.44884 | U238: =U237+O238 -> 24.277276 | V238: =O238*0.75*0.9*0.9 -> 0
B239: Low | C239: 231 | D239: 231 | E239: 56.5 | F239: =E239/3.6 -> 15.694444 | G239: =($E240-$E238)/2/3.6 -> -0.041666667 | H239: =('motorcycle data'!$C$4)*(G239) -> -8.25 | I239: =0.5*1.225*F239^2*('motorcycle data'!$F$4)*('motorcycle data'!$G$4) -> 49.63567 | J239: =IF(F239=0,0,H239+I239+'motorcycle data'!$E$7) -> 80.23327 | K239: =IF(J239<=0,0,J239) -> 80.23327 | L239: =IF(J239<0,J239*-1,0) -> 0 | M239: =(J239*F239)/1000 -> 1.2592166 | N239: =IF(M239>0,M239,0) -> 1.2592166 | O239: =IF(M239<0,M239*-1,0) -> 0 | P239: =O239*0.75 -> 0 | Q239: =IF(G239<0,P239,"") -> 0 | R239: =SUM(Q239:Q265) -> 6.5111346 | S239: =R239*26 -> 169.2895 | T239: =T238+N239 -> 127.70805 | U239: =U238+O239 -> 24.277276 | V239: =O239*0.75*0.9*0.9 -> 0
B240: Low | C240: 232 | D240: 232 | E240: 56.2 | F240: =E240/3.6 -> 15.611111 | G240: =($E241-$E239)/2/3.6 -> -0.22222222 | H240: =('motorcycle data'!$C$4)*(G240) -> -44 | I240: =0.5*1.225*F240^2*('motorcycle data'!$F$4)*('motorcycle data'!$G$4) -> 49.109965 | J240: =IF(F240=0,0,H240+I240+'motorcycle data'!$E$7) -> 43.957565 | K240: =IF(J240<=0,0,J240) -> 43.957565 | L240: =IF(J240<0,J240*-1,0) -> 0 | M240: =(J240*F240)/1000 -> 0.68622642 | N240: =IF(M240>0,M240,0) -> 0.68622642 | O240: =IF(M240<0,M240*-1,0) -> 0 | P240: =O240*0.75 -> 0 | Q240: =IF(G240<0,P240,"") -> 0 | T240: =T239+N240 -> 128.39428 | U240: =U239+O240 -> 24.277276 | V240: =O240*0.75*0.9*0.9 -> 0
B241: Low | C241: 233 | D241: 233 | E241: 54.9 | F241: =E241/3.6 -> 15.25 | G241: =($E242-$E240)/2/3.6 -> -0.45833333 | H241: =('motorcycle data'!$C$4)*(G241) -> -90.75 | I241: =0.5*1.225*F241^2*('motorcycle data'!$F$4)*('motorcycle data'!$G$4) -> 46.864251 | J241: =IF(F241=0,0,H241+I241+'motorcycle data'!$E$7) -> -5.0381492 | K241: =IF(J241<=0,0,J241) -> 0 | L241: =IF(J241<0,J241*-1,0) -> 5.0381492 | M241: =(J241*F241)/1000 -> -0.076831776 | N241: =IF(M241>0,M241,0) -> 0 | O241: =IF(M241<0,M241*-1,0) -> 0.076831776 | P241: =O241*0.75 -> 0.057623832 | Q241: =IF(G241<0,P241,"") -> 0.057623832 | T241: =T240+N241 -> 128.39428 | U241: =U240+O241 -> 24.354108 | V241: =O241*0.75*0.9*0.9 -> 0.046675304
B242: Low | C242: 234 | D242: 234 | E242: 52.9 | F242: =E242/3.6 -> 14.694444 | G242: =($E243-$E241)/2/3.6 -> -0.54166667 | H242: =('motorcycle data'!$C$4)*(G242) -> -107.25 | I242: =0.5*1.225*F242^2*('motorcycle data'!$F$4)*('motorcycle data'!$G$4) -> 43.511929 | J242: =IF(F242=0,0,H242+I242+'motorcycle data'!$E$7) -> -24.890471 | K242: =IF(J242<=0,0,J242) -> 0 | L242: =IF(J242<0,J242*-1,0) -> 24.890471 | M242: =(J242*F242)/1000 -> -0.36575165 | N242: =IF(M242>0,M242,0) -> 0 | O242: =IF(M242<0,M242*-1,0) -> 0.36575165 | P242: =O242*0.75 -> 0.27431374 | Q242: =IF(G242<0,P242,"") -> 0.27431374 | T242: =T241+N242 -> 128.39428 | U242: =U241+O242 -> 24.71986 | V242: =O242*0.75*0.9*0.9 -> 0.22219413
B243: Low | C243: 235 | D243: 235 | E243: 51 | F243: =E243/3.6 -> 14.166667 | G243: =($E244-$E242)/2/3.6 -> -0.43055556 | H243: =('motorcycle data'!$C$4)*(G243) -> -85.25 | I243: =0.5*1.225*F243^2*('motorcycle data'!$F$4)*('motorcycle data'!$G$4) -> 40.442439 | J243: =IF(F243=0,0,H243+I243+'motorcycle data'!$E$7) -> -5.9599608 | K243: =IF(J243<=0,0,J243) -> 0 | L243: =IF(J243<0,J243*-1,0) -> 5.9599608 | M243: =(J243*F243)/1000 -> -0.084432777 | N243: =IF(M243>0,M243,0) -> 0 | O243: =IF(M243<0,M243*-1,0) -> 0.084432777 | P243: =O243*0.75 -> 0.063324583 | Q243: =IF(G243<0,P243,"") -> 0.063324583 | T243: =T242+N243 -> 128.39428 | U243: =U242+O243 -> 24.804293 | V243: =O243*0.75*0.9*0.9 -> 0.051292912
B244: Low | C244: 236 | D244: 236 | E244: 49.8 | F244: =E244/3.6 -> 13.833333 | G244: =($E245-$E243)/2/3.6 -> -0.25 | H244: =('motorcycle data'!$C$4)*(G244) -> -49.5 | I244: =0.5*1.225*F244^2*('motorcycle data'!$F$4)*('motorcycle data'!$G$4) -> 38.561656 | J244: =IF(F244=0,0,H244+I244+'motorcycle data'!$E$7) -> 27.909256 | K244: =IF(J244<=0,0,J244) -> 27.909256 | L244: =IF(J244<0,J244*-1,0) -> 0 | M244: =(J244*F244)/1000 -> 0.38607804 | N244: =IF(M244>0,M244,0) -> 0.38607804 | O244: =IF(M244<0,M244*-1,0) -> 0 | P244: =O244*0.75 -> 0 | Q244: =IF(G244<0,P244,"") -> 0 | T244: =T243+N244 -> 128.78036 | U244: =U243+O244 -> 24.804293 | V244: =O244*0.75*0.9*0.9 -> 0
B245: Low | C245: 237 | D245: 237 | E245: 49.2 | F245: =E245/3.6 -> 13.666667 | G245: =($E246-$E244)/2/3.6 -> -0.19444444 | H245: =('motorcycle data'!$C$4)*(G245) -> -38.5 | I245: =0.5*1.225*F245^2*('motorcycle data'!$F$4)*('motorcycle data'!$G$4) -> 37.638057 | J245: =IF(F245=0,0,H245+I245+'motorcycle data'!$E$7) -> 37.985657 | K245: =IF(J245<=0,0,J245) -> 37.985657 | L245: =IF(J245<0,J245*-1,0) -> 0 | M245: =(J245*F245)/1000 -> 0.51913731 | N245: =IF(M245>0,M245,0) -> 0.51913731 | O245: =IF(M245<0,M245*-1,0) -> 0 | P245: =O245*0.75 -> 0 | Q245: =IF(G245<0,P245,"") -> 0 | T245: =T244+N245 -> 129.29949 | U245: =U244+O245 -> 24.804293 | V245: =O245*0.75*0.9*0.9 -> 0
B246: Low | C246: 238 | D246: 238 | E246: 48.4 | F246: =E246/3.6 -> 13.444444 | G246: =($E247-$E245)/2/3.6 -> -0.31944444 | H246: =('motorcycle data'!$C$4)*(G246) -> -63.25 | I246: =0.5*1.225*F246^2*('motorcycle data'!$F$4)*('motorcycle data'!$G$4) -> 36.424006 | J246: =IF(F246=0,0,H246+I246+'motorcycle data'!$E$7) -> 12.021606 | K246: =IF(J246<=0,0,J246) -> 12.021606 | L246: =IF(J246<0,J246*-1,0) -> 0 | M246: =(J246*F246)/1000 -> 0.16162382 | N246: =IF(M246>0,M246,0) -> 0.16162382 | O246: =IF(M246<0,M246*-1,0) -> 0 | P246: =O246*0.75 -> 0 | Q246: =IF(G246<0,P246,"") -> 0 | T246: =T245+N246 -> 129.46112 | U246: =U245+O246 -> 24.804293 | V246: =O246*0.75*0.9*0.9 -> 0
B247: Low | C247: 239 | D247: 239 | E247: 46.9 | F247: =E247/3.6 -> 13.027778 | G247: =($E248-$E246)/2/3.6 -> -0.56944444 | H247: =('motorcycle data'!$C$4)*(G247) -> -112.75 | I247: =0.5*1.225*F247^2*('motorcycle data'!$F$4)*('motorcycle data'!$G$4) -> 34.201305 | J247: =IF(F247=0,0,H247+I247+'motorcycle data'!$E$7) -> -39.701095 | K247: =IF(J247<=0,0,J247) -> 0 | L247: =IF(J247<0,J247*-1,0) -> 39.701095 | M247: =(J247*F247)/1000 -> -0.51721705 | N247: =IF(M247>0,M247,0) -> 0 | O247: =IF(M247<0,M247*-1,0) -> 0.51721705 | P247: =O247*0.75 -> 0.38791278 | Q247: =IF(G247<0,P247,"") -> 0.38791278 | T247: =T246+N247 -> 129.46112 | U247: =U246+O247 -> 25.32151 | V247: =O247*0.75*0.9*0.9 -> 0.31420936
B248: Low | C248: 240 | D248: 240 | E248: 44.3 | F248: =E248/3.6 -> 12.305556 | G248: =($E249-$E247)/2/3.6 -> -0.75 | H248: =('motorcycle data'!$C$4)*(G248) -> -148.5 | I248: =0.5*1.225*F248^2*('motorcycle data'!$F$4)*('motorcycle data'!$G$4) -> 30.514372 | J248: =IF(F248=0,0,H248+I248+'motorcycle data'!$E$7) -> -79.138028 | K248: =IF(J248<=0,0,J248) -> 0 | L248: =IF(J248<0,J248*-1,0) -> 79.138028 | M248: =(J248*F248)/1000 -> -0.9738374 | N248: =IF(M248>0,M248,0) -> 0 | O248: =IF(M248<0,M248*-1,0) -> 0.9738374 | P248: =O248*0.75 -> 0.73037805 | Q248: =IF(G248<0,P248,"") -> 0.73037805 | T248: =T247+N248 -> 129.46112 | U248: =U247+O248 -> 26.295347 | V248: =O248*0.75*0.9*0.9 -> 0.59160622
B249: Low | C249: 241 | D249: 241 | E249: 41.5 | F249: =E249/3.6 -> 11.527778 | G249: =($E250-$E248)/2/3.6 -> -0.66666667 | H249: =('motorcycle data'!$C$4)*(G249) -> -132 | I249: =0.5*1.225*F249^2*('motorcycle data'!$F$4)*('motorcycle data'!$G$4) -> 26.778928 | J249: =IF(F249=0,0,H249+I249+'motorcycle data'!$E$7) -> -66.373472 | K249: =IF(J249<=0,0,J249) -> 0 | L249: =IF(J249<0,J249*-1,0) -> 66.373472 | M249: =(J249*F249)/1000 -> -0.76513864 | N249: =IF(M249>0,M249,0) -> 0 | O249: =IF(M249<0,M249*-1,0) -> 0.76513864 | P249: =O249*0.75 -> 0.57385398 | Q249: =IF(G249<0,P249,"") -> 0.57385398 | T249: =T248+N249 -> 129.46112 | U249: =U248+O249 -> 27.060486 | V249: =O249*0.75*0.9*0.9 -> 0.46482172
B250: Low | C250: 242 | D250: 242 | E250: 39.5 | F250: =E250/3.6 -> 10.972222 | G250: =($E251-$E249)/2/3.6 -> -0.625 | H250: =('motorcycle data'!$C$4)*(G250) -> -123.75 | I250: =0.5*1.225*F250^2*('motorcycle data'!$F$4)*('motorcycle data'!$G$4) -> 24.260021 | J250: =IF(F250=0,0,H250+I250+'motorcycle data'!$E$7) -> -60.642379 | K250: =IF(J250<=0,0,J250) -> 0 | L250: =IF(J250<0,J250*-1,0) -> 60.642379 | M250: =(J250*F250)/1000 -> -0.66538165 | N250: =IF(M250>0,M250,0) -> 0 | O250: =IF(M250<0,M250*-1,0) -> 0.66538165 | P250: =O250*0.75 -> 0.49903624 | Q250: =IF(G250<0,P250,"") -> 0.49903624 | T250: =T249+N250 -> 129.46112 | U250: =U249+O250 -> 27.725867 | V250: =O250*0.75*0.9*0.9 -> 0.40421935
B251: Low | C251: 243 | D251: 243 | E251: 37 | F251: =E251/3.6 -> 10.277778 | G251: =($E252-$E250)/2/3.6 -> -0.68055556 | H251: =('motorcycle data'!$C$4)*(G251) -> -134.75 | I251: =0.5*1.225*F251^2*('motorcycle data'!$F$4)*('motorcycle data'!$G$4) -> 21.286313 | J251: =IF(F251=0,0,H251+I251+'motorcycle data'!$E$7) -> -74.616087 | K251: =IF(J251<=0,0,J251) -> 0 | L251: =IF(J251<0,J251*-1,0) -> 74.616087 | M251: =(J251*F251)/1000 -> -0.76688756 | N251: =IF(M251>0,M251,0) -> 0 | O251: =IF(M251<0,M251*-1,0) -> 0.76688756 | P251: =O251*0.75 -> 0.57516567 | Q251: =IF(G251<0,P251,"") -> 0.57516567 | T251: =T250+N251 -> 129.46112 | U251: =U250+O251 -> 28.492755 | V251: =O251*0.75*0.9*0.9 -> 0.4658842
... B278: Low | C278: 270 | D278: 270 | E278: 45.9 | F278: =E278/3.6 -> 12.75 | G278: =($E279-$E277)/2/3.6 -> 0.22222222 | H278: =('motorcycle data'!$C$4)*(G278) -> 44 | I278: =0.5*1.225*F278^2*('motorcycle data'!$F$4)*('motorcycle data'!$G$4) -> 32.758376 | J278: =IF(F278=0,0,H278+I278+'motorcycle data'!$E$7) -> 115.60598 | K278: =IF(J278<=0,0,J278) -> 115.60598 | L278: =IF(J278<0,J278*-1,0) -> 0 | M278: =(J278*F278)/1000 -> 1.4739762 | N278: =IF(M278>0,M278,0) -> 1.4739762 | O278: =IF(M278<0,M278*-1,0) -> 0 | P278: =O278*0.75 -> 0 | Q278: =IF(G278<0,P278,"") | T278: =T277+N278 -> 151.15921 | U278: =U277+O278 -> 32.958789 | V278: =O278*0.75*0.9*0.9 -> 0
B279: Low | C279: 271 | D279: 271 | E279: 46 | F279: =E279/3.6 -> 12.777778 | G279: =($E280-$E278)/2/3.6 -> -0.041666667 | H279: =('motorcycle data'!$C$4)*(G279) -> -8.25 | I279: =0.5*1.225*F279^2*('motorcycle data'!$F$4)*('motorcycle data'!$G$4) -> 32.901269 | J279: =IF(F279=0,0,H279+I279+'motorcycle data'!$E$7) -> 63.498869 | K279: =IF(J279<=0,0,J279) -> 63.498869 | L279: =IF(J279<0,J279*-1,0) -> 0 | M279: =(J279*F279)/1000 -> 0.81137444 | N279: =IF(M279>0,M279,0) -> 0.81137444 | O279: =IF(M279<0,M279*-1,0) -> 0 | P279: =O279*0.75 -> 0 | Q279: =IF(G279<0,P279,"") -> 0 | R279: =SUM(Q279:Q288) -> 5.9844397 | S279: =R279*10 -> 59.844397 | T279: =T278+N279 -> 151.97058 | U279: =U278+O279 -> 32.958789 | V279: =O279*0.75*0.9*0.9 -> 0
B280: Low | C280: 272 | D280: 272 | E280: 45.6 | F280: =E280/3.6 -> 12.666667 | G280: =($E281-$E279)/2/3.6 -> -0.097222222 | H280: =('motorcycle data'!$C$4)*(G280) -> -19.25 | I280: =0.5*1.225*F280^2*('motorcycle data'!$F$4)*('motorcycle data'!$G$4) -> 32.331561 | J280: =IF(F280=0,0,H280+I280+'motorcycle data'!$E$7) -> 51.929161 | K280: =IF(J280<=0,0,J280) -> 51.929161 | L280: =IF(J280<0,J280*-1,0) -> 0 | M280: =(J280*F280)/1000 -> 0.65776937 | N280: =IF(M280>0,M280,0) -> 0.65776937 | O280: =IF(M280<0,M280*-1,0) -> 0 | P280: =O280*0.75 -> 0 | Q280: =IF(G280<0,P280,"") -> 0 | T280: =T279+N280 -> 152.62835 | U280: =U279+O280 -> 32.958789 | V280: =O280*0.75*0.9*0.9 -> 0
...

Sheet tractive forces

Sheet tractive power

Sheet velocity vs time

Sheet cumulative power

Sheet power available for acceleratio
