Workbook

Sheet motorcycle data
B2: Suzuki SV650 sk5
B3: power (W) | C3: kerb mass (kg) | D3: power to weight ratio | E3: rolling resistance coefficient | F3: aero drag coefficient | G3: frontal area (m^2)
B4: 51453.3 | C4: 198 | D4: =B4/C4 -> 259.86515 | E4: 0.02 | F4: 0.7 | G4: 0.47
E6: rolling resistance force (N)
E7: =C4*9.81*E4 -> 38.8476

Sheet WLTC_class_3
B2: Class 3 vehicles: | C2: vehicles with a ratio of rated power in W / kerb mass in kg > 34
B4: For further requirements/recommendations see table "Explanations" | P4: *KERS presumed to be 75% efficient
B6: Phase | C6: Total elapsed time | D6: Phase elapsed time | E6: WLTC class 3, version 5, vehicle speed | F6: WLTC class 3, version 5, vehicle speed | G6: WLTC class 3, version 5, acceleration | H6: acceleration force | I6: Aero resistance | J6: Total force | K6: tractive force | L6: Braking force | M6: Power | N6: Tractive power | O6: Braking Power | P6: regenerative power after losses | Q6: regenerative power after losses during braking period | R6: sum of regenerative power after losses during braking period | S6: energy stored per braking period | T6: Cumulative tractive power | U6: Cumulative braking power | V6: braking power returned to contact patch | X6: maximum velocity | Y6: average velocity | Z6: maximum acceleration | AA6: average acceleration | AB6: maximum tractive force | AC6: avergage tractive force | AD6: maximum braking force | AE6: average braking force | AF6: maximum tractive power | AG6: average tractive power | AH6: maximum braking power | AI6: average braking power | AJ6: maximum power after losses | AK6: average power after losses | AL6: maximum braking power per period | AM6: average braking power per period (after losses) | AN6: maximum braking energy per period | AO6: average braking energy per period | AP6: maximum power available for acceleration | AQ6: average power avaialable for acceleration
B7: Phase | C7: s | D7: s | E7: km/s | F7: m/s | G7: m/s² | H7: N | I7: N | J7: N | K7: N | L7: N | M7: kW | N7: kW | O7: kW | P7: kW | Q7: kW | R7: kW | S7: Kj | T7: kW | U7: kW | V7: N | X7: m/s | Y7: m/s | Z7: m/s² | AA7: m/s² | AB7: N | AC7: N | AD7: N | AE7: N | AF7: kW | AG7: kW | AH7: kW | AI7: kW | AJ7: kW | AK7: kW | AL7: kW | AM7: kW | AN7: kJ | AO7: kJ | AP7: N | AQ7: N
B8: Low | C8: 0 | D8: 0 | E8: 0 | F8: =E8/3.6 -> 0 | G8: =($E9-0)/2/3.6 -> 0 | H8: =('motorcycle data'!$C$4)*(G8) -> 0 | I8: =0.5*1.225*F8^2*('motorcycle data'!$F$4)*('motorcycle data'!$G$4) -> 0 | J8: =IF(F8=0,0,H8+I8+'motorcycle data'!$E$7) -> 0 | K8: =IF(J8<=0,0,J8) -> 0 | L8: =IF(J8<0,J8*-1,0) -> 0 | M8: =(J8*F8)/1000 -> 0 | N8: =IF(M8>0,M8,0) -> 0 | O8: =IF(M8<0,M8*-1,0) -> 0 | P8: =O8*0.75 -> 0 | Q8: =IF(G8<0,P8,"") | R8: =IF(H8<0,Q8,"") | T8: =N8 -> 0 | U8: =O8 -> 0 | V8: =O8*0.75*0.9*0.9 -> 0 | X8: =MAX(F8:F1808) -> 36.472222 | Y8: =AVERAGE(F8:F1808) -> 12.916374 | Z8: =MAX(G8:G1808) -> 1.5833333 | AA8: =AVERAGEIF(G8:G1808,">0") -> 0.40910553 | AB8: =MAX(K8:K1808) -> 362.71201 | AC8: =AVERAGE(K8:K1808) -> 104.64786 | AD8: =MAX(L8:L1808) -> 251.06627 | AE8: =AVERAGE(M8:M1808) -> 1.8363128 | AF8: =MAX(N8:N1808) -> 12.008115 | AG8: =AVERAGE(N8:N1808) -> 1.9712208 | AH8: =MAX(O8:O1808) -> 3.0454504 | AI8: =AVERAGE(O8:O1808) -> 0.13490802 | AJ8: =MAX(P8:P1808) -> 2.2840878 | AK8: =AVERAGE(P8:P1808) -> 0.10118102 | AL8: =MAX(R8:R1808) -> 15.441026 | AM8: =AVERAGE(R8:R1808) -> 3.0371169 | AN8: =MAX(S8:S1808) -> 1096.3129 | AO8: =AVERAGE(S9:S1808) -> 90.272302 | AP8: =MAX(V8:V1808) -> 1.8501111 | AQ8: =AVERAGEIF(V8:V1808,">0") -> 0.47308936
B9: Low | C9: 1 | D9: 1 | E9: 0 | F9: =E9/3.6 -> 0 | G9: =($E10-$E8)/2/3.6 -> 0 | H9: =('motorcycle data'!$C$4)*(G9) -> 0 | I9: =0.5*1.225*F9^2*('motorcycle data'!$F$4)*('motorcycle data'!$G$4) -> 0 | J9: =IF(F9=0,0,H9+I9+'motorcycle data'!$E$7) -> 0 | K9: =IF(J9<=0,0,J9) -> 0 | L9: =IF(J9<0,J9*-1,0) -> 0 | M9: =(J9*F9)/1000 -> 0 | N9: =IF(M9>0,M9,0) -> 0 | O9: =IF(M9<0,M9*-1,0) -> 0 | P9: =O9*0.75 -> 0 | Q9: =IF(G9<0,P9,"") | T9: =T8+N9 -> 0 | U9: =U8+O9 -> 0 | V9: =O9*0.75*0.9*0.9 -> 0
B10: Low | C10: 2 | D10: 2 | E10: 0 | F10: =E10/3.6 -> 0 | G10: =($E11-$E9)/2/3.6 -> 0 | H10: =('motorcycle data'!$C$4)*(G10) -> 0 | I10: =0.5*1.225*F10^2*('motorcycle data'!$F$4)*('motorcycle data'!$G$4) -> 0 | J10: =IF(F10=0,0,H10+I10+'motorcycle data'!$E$7) -> 0 | K10: =IF(J10<=0,0,J10) -> 0 | L10: =IF(J10<0,J10*-1,0) -> 0 | M10: =(J10*F10)/1000 -> 0 | N10: =IF(M10>0,M10,0) -> 0 | O10: =IF(M10<0,M10*-1,0) -> 0 | P10: =O10*0.75 -> 0 | Q10: =IF(G10<0,P10,"") | T10: =T9+N10 -> 0 | U10: =U9+O10 -> 0 | V10: =O10*0.75*0.9*0.9 -> 0
B11: Low | C11: 3 | D11: 3 | E11: 0 | F11: =E11/3.6 -> 0 | G11: =($E12-$E10)/2/3.6 -> 0 | H11: =('motorcycle data'!$C$4)*(G11) -> 0 | I11: =0.5*1.225*F11^2*('motorcycle data'!$F$4)*('motorcycle data'!$G$4) -> 0 | J11: =IF(F11=0,0,H11+I11+'motorcycle data'!$E$7) -> 0 | K11: =IF(J11<=0,0,J11) -> 0 | L11: =IF(J11<0,J11*-1,0) -> 0 | M11: =(J11*F11)/1000 -> 0 | N11: =IF(M11>0,M11,0) -> 0 | O11: =IF(M11<0,M11*-1,0) -> 0 | P11: =O11*0.75 -> 0 | Q11: =IF(G11<0,P11,"") | T11: =T10+N11 -> 0 | U11: =U10+O11 -> 0 | V11: =O11*0.75*0.9*0.9 -> 0
B12: Low | C12: 4 | D12: 4 | E12: 0 | F12: =E12/3.6 -> 0 | G12: =($E13-$E11)/2/3.6 -> 0 | H12: =('motorcycle data'!$C$4)*(G12) -> 0 | I12: =0.5*1.225*F12^2*('motorcycle data'!$F$4)*('motorcycle data'!$G$4) -> 0 | J12: =IF(F12=0,0,H12+I12+'motorcycle data'!$E$7) -> 0 | K12: =IF(J12<=0,0,J12) -> 0 | L12: =IF(J12<0,J12*-1,0) -> 0 | M12: =(J12*F12)/1000 -> 0 | N12: =IF(M12>0,M12,0) -> 0 | O12: =IF(M12<0,M12*-1,0) -> 0 | P12: =O12*0.75 -> 0 | Q12: =IF(G12<0,P12,"") | T12: =T11+N12 -> 0 | U12: =U11+O12 -> 0 | V12: =O12*0.75*0.9*0.9 -> 0
B13: Low | C13: 5 | D13: 5 | E13: 0 | F13: =E13/3.6 -> 0 | G13: =($E14-$E12)/2/3.6 -> 0 | H13: =('motorcycle data'!$C$4)*(G13) -> 0 | I13: =0.5*1.225*F13^2*('motorcycle data'!$F$4)*('motorcycle data'!$G$4) -> 0 | J13: =IF(F13=0,0,H13+I13+'motorcycle data'!$E$7) -> 0 | K13: =IF(J13<=0,0,J13) -> 0 | L13: =IF(J13<0,J13*-1,0) -> 0 | M13: =(J13*F13)/1000 -> 0 | N13: =IF(M13>0,M13,0) -> 0 | O13: =IF(M13<0,M13*-1,0) -> 0 | P13: =O13*0.75 -> 0 | Q13: =IF(G13<0,P13,"") | T13: =T12+N13 -> 0 | U13: =U12+O13 -> 0 | V13: =O13*0.75*0.9*0.9 -> 0
B14: Low | C14: 6 | D14: 6 | E14: 0 | F14: =E14/3.6 -> 0 | G14: =($E15-$E13)/2/3.6 -> 0 | H14: =('motorcycle data'!$C$4)*(G14) -> 0 | I14: =0.5*1.225*F14^2*('motorcycle data'!$F$4)*('motorcycle data'!$G$4) -> 0 | J14: =IF(F14=0,0,H14+I14+'motorcycle data'!$E$7) -> 0 | K14: =IF(J14<=0,0,J14) -> 0 | L14: =IF(J14<0,J14*-1,0) -> 0 | M14: =(J14*F14)/1000 -> 0 | N14: =IF(M14>0,M14,0) -> 0 | O14: =IF(M14<0,M14*-1,0) -> 0 | P14: =O14*0.75 -> 0 | Q14: =IF(G14<0,P14,"") | T14: =T13+N14 -> 0 | U14: =U13+O14 -> 0 | V14: =O14*0.75*0.9*0.9 -> 0
B15: Low | C15: 7 | D15: 7 | E15: 0 | F15: =E15/3.6 -> 0 | G15: =($E16-$E14)/2/3.6 -> 0 | H15: =('motorcycle data'!$C$4)*(G15) -> 0 | I15: =0.5*1.225*F15^2*('motorcycle data'!$F$4)*('motorcycle data'!$G$4) -> 0 | J15: =IF(F15=0,0,H15+I15+'motorcycle data'!$E$7) -> 0 | K15: =IF(J15<=0,0,J15) -> 0 | L15: =IF(J15<0,J15*-1,0) -> 0 | M15: =(J15*F15)/1000 -> 0 | N15: =IF(M15>0,M15,0) -> 0 | O15: =IF(M15<0,M15*-1,0) -> 0 | P15: =O15*0.75 -> 0 | Q15: =IF(G15<0,P15,"") | T15: =T14+N15 -> 0 | U15: =U14+O15 -> 0 | V15: =O15*0.75*0.9*0.9 -> 0
B16: Low | C16: 8 | D16: 8 | E16: 0 | F16: =E16/3.6 -> 0 | G16: =($E17-$E15)/2/3.6 -> 0 | H16: =('motorcycle data'!$C$4)*(G16) -> 0 | I16: =0.5*1.225*F16^2*('motorcycle data'!$F$4)*('motorcycle data'!$G$4) -> 0 | J16: =IF(F16=0,0,H16+I16+'motorcycle data'!$E$7) -> 0 | K16: =IF(J16<=0,0,J16) -> 0 | L16: =IF(J16<0,J16*-1,0) -> 0 | M16: =(J16*F16)/1000 -> 0 | N16: =IF(M16>0,M16,0) -> 0 | O16: =IF(M16<0,M16*-1,0) -> 0 | P16: =O16*0.75 -> 0 | Q16: =IF(G16<0,P16,"") | T16: =T15+N16 -> 0 | U16: =U15+O16 -> 0 | V16: =O16*0.75*0.9*0.9 -> 0
B17: Low | C17: 9 | D17: 9 | E17: 0 | F17: =E17/3.6 -> 0 | G17: =($E18-$E16)/2/3.6 -> 0 | H17: =('motorcycle data'!$C$4)*(G17) -> 0 | I17: =0.5*1.225*F17^2*('motorcycle data'!$F$4)*('motorcycle data'!$G$4) -> 0 | J17: =IF(F17=0,0,H17+I17+'motorcycle data'!$E$7) -> 0 | K17: =IF(J17<=0,0,J17) -> 0 | L17: =IF(J17<0,J17*-1,0) -> 0 | M17: =(J17*F17)/1000 -> 0 | N17: =IF(M17>0,M17,0) -> 0 | O17: =IF(M17<0,M17*-1,0) -> 0 | P17: =O17*0.75 -> 0 | Q17: =IF(G17<0,P17,"") | T17: =T16+N17 -> 0 | U17: =U16+O17 -> 0 | V17: =O17*0.75*0.9*0.9 -> 0
B18: Low | C18: 10 | D18: 10 | E18: 0 | F18: =E18/3.6 -> 0 | G18: =($E19-$E17)/2/3.6 -> 0 | H18: =('motorcycle data'!$C$4)*(G18) -> 0 | I18: =0.5*1.225*F18^2*('motorcycle data'!$F$4)*('motorcycle data'!$G$4) -> 0 | J18: =IF(F18=0,0,H18+I18+'motorcycle data'!$E$7) -> 0 | K18: =IF(J18<=0,0,J18) -> 0 | L18: =IF(J18<0,J18*-1,0) -> 0 | M18: =(J18*F18)/1000 -> 0 | N18: =IF(M18>0,M18,0) -> 0 | O18: =IF(M18<0,M18*-1,0) -> 0 | P18: =O18*0.75 -> 0 | Q18: =IF(G18<0,P18,"") | T18: =T17+N18 -> 0 | U18: =U17+O18 -> 0 | V18: =O18*0.75*0.9*0.9 -> 0
B19: Low | C19: 11 | D19: 11 | E19: 0 | F19: =E19/3.6 -> 0 | G19: =($E20-$E18)/2/3.6 -> 0.027777778 | H19: =('motorcycle data'!$C$4)*(G19) -> 5.5 | I19: =0.5*1.225*F19^2*('motorcycle data'!$F$4)*('motorcycle data'!$G$4) -> 0 | J19: =IF(F19=0,0,H19+I19+'motorcycle data'!$E$7) -> 0 | K19: =IF(J19<=0,0,J19) -> 0 | L19: =IF(J19<0,J19*-1,0) -> 0 | M19: =(J19*F19)/1000 -> 0 | N19: =IF(M19>0,M19,0) -> 0 | O19: =IF(M19<0,M19*-1,0) -> 0 | P19: =O19*0.75 -> 0 | Q19: =IF(G19<0,P19,"") | T19: =T18+N19 -> 0 | U19: =U18+O19 -> 0 | V19: =O19*0.75*0.9*0.9 -> 0
B20: Low | C20: 12 | D20: 12 | E20: 0.2 | F20: =E20/3.6 -> 0.055555556 | G20: =($E21-$E19)/2/3.6 -> 0.23611111 | H20: =('motorcycle data'!$C$4)*(G20) -> 46.75 | I20: =0.5*1.225*F20^2*('motorcycle data'!$F$4)*('motorcycle data'!$G$4) -> 0.00062195216 | J20: =IF(F20=0,0,H20+I20+'motorcycle data'!$E$7) -> 85.598222 | K20: =IF(J20<=0,0,J20) -> 85.598222 | L20: =IF(J20<0,J20*-1,0) -> 0 | M20: =(J20*F20)/1000 -> 0.0047554568 | N20: =IF(M20>0,M20,0) -> 0.0047554568 | O20: =IF(M20<0,M20*-1,0) -> 0 | P20: =O20*0.75 -> 0 | Q20: =IF(G20<0,P20,"") | T20: =T19+N20 -> 0.0047554568 | U20: =U19+O20 -> 0 | V20: =O20*0.75*0.9*0.9 -> 0
... B42: Low | C42: 34 | D42: 34 | E42: 44.4 | F42: =E42/3.6 -> 12.333333 | G42: =($E43-$E41)/2/3.6 -> 0.083333333 | H42: =('motorcycle data'!$C$4)*(G42) -> 16.5 | I42: =0.5*1.225*F42^2*('motorcycle data'!$F$4)*('motorcycle data'!$G$4) -> 30.65229 | J42: =IF(F42=0,0,H42+I42+'motorcycle data'!$E$7) -> 85.99989 | K42: =IF(J42<=0,0,J42) -> 85.99989 | L42: =IF(J42<0,J42*-1,0) -> 0 | M42: =(J42*F42)/1000 -> 1.0606653 | N42: =IF(M42>0,M42,0) -> 1.0606653 | O42: =IF(M42<0,M42*-1,0) -> 0 | P42: =O42*0.75 -> 0 | Q42: =IF(G42<0,P42,"") | T42: =T41+N42 -> 25.119147 | U42: =U41+O42 -> 0 | V42: =O42*0.75*0.9*0.9 -> 0
B43: Low | C43: 35 | D43: 35 | E43: 44.5 | F43: =E43/3.6 -> 12.361111 | G43: =($E44-$E42)/2/3.6 -> -0.027777778 | H43: =('motorcycle data'!$C$4)*(G43) -> -5.5 | I43: =0.5*1.225*F43^2*('motorcycle data'!$F$4)*('motorcycle data'!$G$4) -> 30.790519 | J43: =IF(F43=0,0,H43+I43+'motorcycle data'!$E$7) -> 64.138119 | K43: =IF(J43<=0,0,J43) -> 64.138119 | L43: =IF(J43<0,J43*-1,0) -> 0 | M43: =(J43*F43)/1000 -> 0.79281842 | N43: =IF(M43>0,M43,0) -> 0.79281842 | O43: =IF(M43<0,M43*-1,0) -> 0 | P43: =O43*0.75 -> 0 | Q43: =IF(G43<0,P43,"") -> 0 | R43: =SUM(Q43:Q63) -> 5.5207449 | S43: =R43*21 -> 115.93564 | T43: =T42+N43 -> 25.911966 | U43: =U42+O43 -> 0 | V43: =O43*0.75*0.9*0.9 -> 0
B44: Low | C44: 36 | D44: 36 | E44: 44.2 | F44: =E44/3.6 -> 12.277778 | G44: =($E45-$E43)/2/3.6 -> -0.25 | H44: =('motorcycle data'!$C$4)*(G44) -> -49.5 | I44: =0.5*1.225*F44^2*('motorcycle data'!$F$4)*('motorcycle data'!$G$4) -> 30.376765 | J44: =IF(F44=0,0,H44+I44+'motorcycle data'!$E$7) -> 19.724365 | K44: =IF(J44<=0,0,J44) -> 19.724365 | L44: =IF(J44<0,J44*-1,0) -> 0 | M44: =(J44*F44)/1000 -> 0.24217138 | N44: =IF(M44>0,M44,0) -> 0.24217138 | O44: =IF(M44<0,M44*-1,0) -> 0 | P44: =O44*0.75 -> 0 | Q44: =IF(G44<0,P44,"") -> 0 | T44: =T43+N44 -> 26.154137 | U44: =U43+O44 -> 0 | V44: =O44*0.75*0.9*0.9 -> 0
B45: Low | C45: 37 | D45: 37 | E45: 42.7 | F45: =E45/3.6 -> 11.861111 | G45: =($E46-$E44)/2/3.6 -> -0.59722222 | H45: =('motorcycle data'!$C$4)*(G45) -> -118.25 | I45: =0.5*1.225*F45^2*('motorcycle data'!$F$4)*('motorcycle data'!$G$4) -> 28.349979 | J45: =IF(F45=0,0,H45+I45+'motorcycle data'!$E$7) -> -51.052421 | K45: =IF(J45<=0,0,J45) -> 0 | L45: =IF(J45<0,J45*-1,0) -> 51.052421 | M45: =(J45*F45)/1000 -> -0.60553844 | N45: =IF(M45>0,M45,0) -> 0 | O45: =IF(M45<0,M45*-1,0) -> 0.60553844 | P45: =O45*0.75 -> 0.45415383 | Q45: =IF(G45<0,P45,"") -> 0.45415383 | T45: =T44+N45 -> 26.154137 | U45: =U44+O45 -> 0.60553844 | V45: =O45*0.75*0.9*0.9 -> 0.3678646
B46: Low | C46: 38 | D46: 38 | E46: 39.9 | F46: =E46/3.6 -> 11.083333 | G46: =($E47-$E45)/2/3.6 -> -0.79166667 | H46: =('motorcycle data'!$C$4)*(G46) -> -156.75 | I46: =0.5*1.225*F46^2*('motorcycle data'!$F$4)*('motorcycle data'!$G$4) -> 24.753851 | J46: =IF(F46=0,0,H46+I46+'motorcycle data'!$E$7) -> -93.148549 | K46: =IF(J46<=0,0,J46) -> 0 | L46: =IF(J46<0,J46*-1,0) -> 93.148549 | M46: =(J46*F46)/1000 -> -1.0323964 | N46: =IF(M46>0,M46,0) -> 0 | O46: =IF(M46<0,M46*-1,0) -> 1.0323964 | P46: =O46*0.75 -> 0.77429731 | Q46: =IF(G46<0,P46,"") -> 0.77429731 | T46: =T45+N46 -> 26.154137 | U46: =U45+O46 -> 1.6379349 | V46: =O46*0.75*0.9*0.9 -> 0.62718082
B47: Low | C47: 39 | D47: 39 | E47: 37 | F47: =E47/3.6 -> 10.277778 | G47: =($E48-$E46)/2/3.6 -> -0.73611111 | H47: =('motorcycle data'!$C$4)*(G47) -> -145.75 | I47: =0.5*1.225*F47^2*('motorcycle data'!$F$4)*('motorcycle data'!$G$4) -> 21.286313 | J47: =IF(F47=0,0,H47+I47+'motorcycle data'!$E$7) -> -85.616087 | K47: =IF(J47<=0,0,J47) -> 0 | L47: =IF(J47<0,J47*-1,0) -> 85.616087 | M47: =(J47*F47)/1000 -> -0.87994312 | N47: =IF(M47>0,M47,0) -> 0 | O47: =IF(M47<0,M47*-1,0) -> 0.87994312 | P47: =O47*0.75 -> 0.65995734 | Q47: =IF(G47<0,P47,"") -> 0.65995734 | T47: =T46+N47 -> 26.154137 | U47: =U46+O47 -> 2.517878 | V47: =O47*0.75*0.9*0.9 -> 0.53456545
B48: Low | C48: 40 | D48: 40 | E48: 34.6 | F48: =E48/3.6 -> 9.6111111 | G48: =($E49-$E47)/2/3.6 -> -0.65277778 | H48: =('motorcycle data'!$C$4)*(G48) -> -129.25 | I48: =0.5*1.225*F48^2*('motorcycle data'!$F$4)*('motorcycle data'!$G$4) -> 18.614406 | J48: =IF(F48=0,0,H48+I48+'motorcycle data'!$E$7) -> -71.787994 | K48: =IF(J48<=0,0,J48) -> 0 | L48: =IF(J48<0,J48*-1,0) -> 71.787994 | M48: =(J48*F48)/1000 -> -0.68996238 | N48: =IF(M48>0,M48,0) -> 0 | O48: =IF(M48<0,M48*-1,0) -> 0.68996238 | P48: =O48*0.75 -> 0.51747179 | Q48: =IF(G48<0,P48,"") -> 0.51747179 | T48: =T47+N48 -> 26.154137 | U48: =U47+O48 -> 3.2078404 | V48: =O48*0.75*0.9*0.9 -> 0.41915215
B49: Low | C49: 41 | D49: 41 | E49: 32.3 | F49: =E49/3.6 -> 8.9722222 | G49: =($E50-$E48)/2/3.6 -> -0.77777778 | H49: =('motorcycle data'!$C$4)*(G49) -> -154 | I49: =0.5*1.225*F49^2*('motorcycle data'!$F$4)*('motorcycle data'!$G$4) -> 16.221912 | J49: =IF(F49=0,0,H49+I49+'motorcycle data'!$E$7) -> -98.930488 | K49: =IF(J49<=0,0,J49) -> 0 | L49: =IF(J49<0,J49*-1,0) -> 98.930488 | M49: =(J49*F49)/1000 -> -0.88762633 | N49: =IF(M49>0,M49,0) -> 0 | O49: =IF(M49<0,M49*-1,0) -> 0.88762633 | P49: =O49*0.75 -> 0.66571974 | Q49: =IF(G49<0,P49,"") -> 0.66571974 | T49: =T48+N49 -> 26.154137 | U49: =U48+O49 -> 4.0954667 | V49: =O49*0.75*0.9*0.9 -> 0.53923299
B50: Low | C50: 42 | D50: 42 | E50: 29 | F50: =E50/3.6 -> 8.0555556 | G50: =($E51-$E49)/2/3.6 -> -1 | H50: =('motorcycle data'!$C$4)*(G50) -> -198 | I50: =0.5*1.225*F50^2*('motorcycle data'!$F$4)*('motorcycle data'!$G$4) -> 13.076544 | J50: =IF(F50=0,0,H50+I50+'motorcycle data'!$E$7) -> -146.07586 | K50: =IF(J50<=0,0,J50) -> 0 | L50: =IF(J50<0,J50*-1,0) -> 146.07586 | M50: =(J50*F50)/1000 -> -1.1767222 | N50: =IF(M50>0,M50,0) -> 0 | O50: =IF(M50<0,M50*-1,0) -> 1.1767222 | P50: =O50*0.75 -> 0.88254163 | Q50: =IF(G50<0,P50,"") -> 0.88254163 | T50: =T49+N50 -> 26.154137 | U50: =U49+O50 -> 5.2721889 | V50: =O50*0.75*0.9*0.9 -> 0.71485872
B51: Low | C51: 43 | D51: 43 | E51: 25.1 | F51: =E51/3.6 -> 6.9722222 | G51: =($E52-$E50)/2/3.6 -> -0.94444444 | H51: =('motorcycle data'!$C$4)*(G51) -> -187 | I51: =0.5*1.225*F51^2*('motorcycle data'!$F$4)*('motorcycle data'!$G$4) -> 9.795902 | J51: =IF(F51=0,0,H51+I51+'motorcycle data'!$E$7) -> -138.3565 | K51: =IF(J51<=0,0,J51) -> 0 | L51: =IF(J51<0,J51*-1,0) -> 138.3565 | M51: =(J51*F51)/1000 -> -0.96465225 | N51: =IF(M51>0,M51,0) -> 0 | O51: =IF(M51<0,M51*-1,0) -> 0.96465225 | P51: =O51*0.75 -> 0.72348919 | Q51: =IF(G51<0,P51,"") -> 0.72348919 | T51: =T50+N51 -> 26.154137 | U51: =U50+O51 -> 6.2368411 | V51: =O51*0.75*0.9*0.9 -> 0.58602624
B52: Low | C52: 44 | D52: 44 | E52: 22.2 | F52: =E52/3.6 -> 6.1666667 | G52: =($E53-$E51)/2/3.6 -> -0.58333333 | H52: =('motorcycle data'!$C$4)*(G52) -> -115.5 | I52: =0.5*1.225*F52^2*('motorcycle data'!$F$4)*('motorcycle data'!$G$4) -> 7.6630726 | J52: =IF(F52=0,0,H52+I52+'motorcycle data'!$E$7) -> -68.989327 | K52: =IF(J52<=0,0,J52) -> 0 | L52: =IF(J52<0,J52*-1,0) -> 68.989327 | M52: =(J52*F52)/1000 -> -0.42543419 | N52: =IF(M52>0,M52,0) -> 0 | O52: =IF(M52<0,M52*-1,0) -> 0.42543419 | P52: =O52*0.75 -> 0.31907564 | Q52: =IF(G52<0,P52,"") -> 0.31907564 | T52: =T51+N52 -> 26.154137 | U52: =U51+O52 -> 6.6622753 | V52: =O52*0.75*0.9*0.9 -> 0.25845127
B53: Low | C53: 45 | D53: 45 | E53: 20.9 | F53: =E53/3.6 -> 5.8055556 | G53: =($E54-$E52)/2/3.6 -> -0.25 | H53: =('motorcycle data'!$C$4)*(G53) -> -49.5 | I53: =0.5*1.225*F53^2*('motorcycle data'!$F$4)*('motorcycle data'!$G$4) -> 6.7918731 | J53: =IF(F53=0,0,H53+I53+'motorcycle data'!$E$7) -> -3.8605269 | K53: =IF(J53<=0,0,J53) -> 0 | L53: =IF(J53<0,J53*-1,0) -> 3.8605269 | M53: =(J53*F53)/1000 -> -0.022412504 | N53: =IF(M53>0,M53,0) -> 0 | O53: =IF(M53<0,M53*-1,0) -> 0.022412504 | P53: =O53*0.75 -> 0.016809378 | Q53: =IF(G53<0,P53,"") -> 0.016809378 | T53: =T52+N53 -> 26.154137 | U53: =U52+O53 -> 6.6846878 | V53: =O53*0.75*0.9*0.9 -> 0.013615596
B54: Low | C54: 46 | D54: 46 | E54: 20.4 | F54: =E54/3.6 -> 5.6666667 | G54: =($E55-$E53)/2/3.6 -> -0.19444444 | H54: =('motorcycle data'!$C$4)*(G54) -> -38.5 | I54: =0.5*1.225*F54^2*('motorcycle data'!$F$4)*('motorcycle data'!$G$4) -> 6.4707903 | J54: =IF(F54=0,0,H54+I54+'motorcycle data'!$E$7) -> 6.8183903 | K54: =IF(J54<=0,0,J54) -> 6.8183903 | L54: =IF(J54<0,J54*-1,0) -> 0 | M54: =(J54*F54)/1000 -> 0.038637545 | N54: =IF(M54>0,M54,0) -> 0.038637545 | O54: =IF(M54<0,M54*-1,0) -> 0 | P54: =O54*0.75 -> 0 | Q54: =IF(G54<0,P54,"") -> 0 | T54: =T53+N54 -> 26.192775 | U54: =U53+O54 -> 6.6846878 | V54: =O54*0.75*0.9*0.9 -> 0
B55: Low | C55: 47 | D55: 47 | E55: 19.5 | F55: =E55/3.6 -> 5.4166667 | G55: =($E56-$E54)/2/3.6 -> -0.27777778 | H55: =('motorcycle data'!$C$4)*(G55) -> -55 | I55: =0.5*1.225*F55^2*('motorcycle data'!$F$4)*('motorcycle data'!$G$4) -> 5.9124327 | J55: =IF(F55=0,0,H55+I55+'motorcycle data'!$E$7) -> -10.239967 | K55: =IF(J55<=0,0,J55) -> 0 | L55: =IF(J55<0,J55*-1,0) -> 10.239967 | M55: =(J55*F55)/1000 -> -0.055466489 | N55: =IF(M55>0,M55,0) -> 0 | O55: =IF(M55<0,M55*-1,0) -> 0.055466489 | P55: =O55*0.75 -> 0.041599867 | Q55: =IF(G55<0,P55,"") -> 0.041599867 | T55: =T54+N55 -> 26.192775 | U55: =U54+O55 -> 6.7401543 | V55: =O55*0.75*0.9*0.9 -> 0.033695892
... B86: Low | C86: 78 | D86: 78 | E86: 39.3 | F86: =E86/3.6 -> 10.916667 | G86: =($E87-$E85)/2/3.6 -> 0.13888889 | H86: =('motorcycle data'!$C$4)*(G86) -> 27.5 | I86: =0.5*1.225*F86^2*('motorcycle data'!$F$4)*('motorcycle data'!$G$4) -> 24.014972 | J86: =IF(F86=0,0,H86+I86+'motorcycle data'!$E$7) -> 90.362572 | K86: =IF(J86<=0,0,J86) -> 90.362572 | L86: =IF(J86<0,J86*-1,0) -> 0 | M86: =(J86*F86)/1000 -> 0.98645808 | N86: =IF(M86>0,M86,0) -> 0.98645808 | O86: =IF(M86<0,M86*-1,0) -> 0 | P86: =O86*0.75 -> 0 | Q86: =IF(G86<0,P86,"") | T86: =T85+N86 -> 45.140777 | U86: =U85+O86 -> 7.3609931 | V86: =O86*0.75*0.9*0.9 -> 0
B87: Low | C87: 79 | D87: 79 | E87: 39.5 | F87: =E87/3.6 -> 10.972222 | G87: =($E88-$E86)/2/3.6 -> -0.041666667 | H87: =('motorcycle data'!$C$4)*(G87) -> -8.25 | I87: =0.5*1.225*F87^2*('motorcycle data'!$F$4)*('motorcycle data'!$G$4) -> 24.260021 | J87: =IF(F87=0,0,H87+I87+'motorcycle data'!$E$7) -> 54.857621 | K87: =IF(J87<=0,0,J87) -> 54.857621 | L87: =IF(J87<0,J87*-1,0) -> 0 | M87: =(J87*F87)/1000 -> 0.60191001 | N87: =IF(M87>0,M87,0) -> 0.60191001 | O87: =IF(M87<0,M87*-1,0) -> 0 | P87: =O87*0.75 -> 0 | Q87: =IF(G87<0,P87,"") -> 0 | R87: =SUM(Q87:Q107) -> 4.9591369 | S87: =R87*21 -> 104.14187 | T87: =T86+N87 -> 45.742687 | U87: =U86+O87 -> 7.3609931 | V87: =O87*0.75*0.9*0.9 -> 0
B88: Low | C88: 80 | D88: 80 | E88: 39 | F88: =E88/3.6 -> 10.833333 | G88: =($E89-$E87)/2/3.6 -> -0.13888889 | H88: =('motorcycle data'!$C$4)*(G88) -> -27.5 | I88: =0.5*1.225*F88^2*('motorcycle data'!$F$4)*('motorcycle data'!$G$4) -> 23.649731 | J88: =IF(F88=0,0,H88+I88+'motorcycle data'!$E$7) -> 34.997331 | K88: =IF(J88<=0,0,J88) -> 34.997331 | L88: =IF(J88<0,J88*-1,0) -> 0 | M88: =(J88*F88)/1000 -> 0.37913775 | N88: =IF(M88>0,M88,0) -> 0.37913775 | O88: =IF(M88<0,M88*-1,0) -> 0 | P88: =O88*0.75 -> 0 | Q88: =IF(G88<0,P88,"") -> 0 | T88: =T87+N88 -> 46.121824 | U88: =U87+O88 -> 7.3609931 | V88: =O88*0.75*0.9*0.9 -> 0
B89: Low | C89: 81 | D89: 81 | E89: 38.5 | F89: =E89/3.6 -> 10.694444 | G89: =($E90-$E88)/2/3.6 -> -0.23611111 | H89: =('motorcycle data'!$C$4)*(G89) -> -46.75 | I89: =0.5*1.225*F89^2*('motorcycle data'!$F$4)*('motorcycle data'!$G$4) -> 23.047215 | J89: =IF(F89=0,0,H89+I89+'motorcycle data'!$E$7) -> 15.144815 | K89: =IF(J89<=0,0,J89) -> 15.144815 | L89: =IF(J89<0,J89*-1,0) -> 0 | M89: =(J89*F89)/1000 -> 0.16196538 | N89: =IF(M89>0,M89,0) -> 0.16196538 | O89: =IF(M89<0,M89*-1,0) -> 0 | P89: =O89*0.75 -> 0 | Q89: =IF(G89<0,P89,"") -> 0 | T89: =T88+N89 -> 46.28379 | U89: =U88+O89 -> 7.3609931 | V89: =O89*0.75*0.9*0.9 -> 0
B90: Low | C90: 82 | D90: 82 | E90: 37.3 | F90: =E90/3.6 -> 10.361111 | G90: =($E91-$E89)/2/3.6 -> -0.20833333 | H90: =('motorcycle data'!$C$4)*(G90) -> -41.25 | I90: =0.5*1.225*F90^2*('motorcycle data'!$F$4)*('motorcycle data'!$G$4) -> 21.632896 | J90: =IF(F90=0,0,H90+I90+'motorcycle data'!$E$7) -> 19.230496 | K90: =IF(J90<=0,0,J90) -> 19.230496 | L90: =IF(J90<0,J90*-1,0) -> 0 | M90: =(J90*F90)/1000 -> 0.1992493 | N90: =IF(M90>0,M90,0) -> 0.1992493 | O90: =IF(M90<0,M90*-1,0) -> 0 | P90: =O90*0.75 -> 0 | Q90: =IF(G90<0,P90,"") -> 0 | T90: =T89+N90 -> 46.483039 | U90: =U89+O90 -> 7.3609931 | V90: =O90*0.75*0.9*0.9 -> 0
B91: Low | C91: 83 | D91: 83 | E91: 37 | F91: =E91/3.6 -> 10.277778 | G91: =($E92-$E90)/2/3.6 -> -0.083333333 | H91: =('motorcycle data'!$C$4)*(G91) -> -16.5 | I91: =0.5*1.225*F91^2*('motorcycle data'!$F$4)*('motorcycle data'!$G$4) -> 21.286313 | J91: =IF(F91=0,0,H91+I91+'motorcycle data'!$E$7) -> 43.633913 | K91: =IF(J91<=0,0,J91) -> 43.633913 | L91: =IF(J91<0,J91*-1,0) -> 0 | M91: =(J91*F91)/1000 -> 0.44845966 | N91: =IF(M91>0,M91,0) -> 0.44845966 | O91: =IF(M91<0,M91*-1,0) -> 0 | P91: =O91*0.75 -> 0 | Q91: =IF(G91<0,P91,"") -> 0 | T91: =T90+N91 -> 46.931499 | U91: =U90+O91 -> 7.3609931 | V91: =O91*0.75*0.9*0.9 -> 0
B92: Low | C92: 84 | D92: 84 | E92: 36.7 | F92: =E92/3.6 -> 10.194444 | G92: =($E93-$E91)/2/3.6 -> -0.15277778 | H92: =('motorcycle data'!$C$4)*(G92) -> -30.25 | I92: =0.5*1.225*F92^2*('motorcycle data'!$F$4)*('motorcycle data'!$G$4) -> 20.942529 | J92: =IF(F92=0,0,H92+I92+'motorcycle data'!$E$7) -> 29.540129 | K92: =IF(J92<=0,0,J92) -> 29.540129 | L92: =IF(J92<0,J92*-1,0) -> 0 | M92: =(J92*F92)/1000 -> 0.3011452 | N92: =IF(M92>0,M92,0) -> 0.3011452 | O92: =IF(M92<0,M92*-1,0) -> 0 | P92: =O92*0.75 -> 0 | Q92: =IF(G92<0,P92,"") -> 0 | T92: =T91+N92 -> 47.232644 | U92: =U91+O92 -> 7.3609931 | V92: =O92*0.75*0.9*0.9 -> 0
B93: Low | C93: 85 | D93: 85 | E93: 35.9 | F93: =E93/3.6 -> 9.9722222 | G93: =($E94-$E92)/2/3.6 -> -0.19444444 | H93: =('motorcycle data'!$C$4)*(G93) -> -38.5 | I93: =0.5*1.225*F93^2*('motorcycle data'!$F$4)*('motorcycle data'!$G$4) -> 20.039454 | J93: =IF(F93=0,0,H93+I93+'motorcycle data'!$E$7) -> 20.387054 | K93: =IF(J93<=0,0,J93) -> 20.387054 | L93: =IF(J93<0,J93*-1,0) -> 0 | M93: =(J93*F93)/1000 -> 0.20330423 | N93: =IF(M93>0,M93,0) -> 0.20330423 | O93: =IF(M93<0,M93*-1,0) -> 0 | P93: =O93*0.75 -> 0 | Q93: =IF(G93<0,P93,"") -> 0 | T93: =T92+N93 -> 47.435948 | U93: =U92+O93 -> 7.3609931 | V93: =O93*0.75*0.9*0.9 -> 0
B94: Low | C94: 86 | D94: 86 | E94: 35.3 | F94: =E94/3.6 -> 9.8055556 | G94: =($E95-$E93)/2/3.6 -> -0.18055556 | H94: =('motorcycle data'!$C$4)*(G94) -> -35.75 | I94: =0.5*1.225*F94^2*('motorcycle data'!$F$4)*('motorcycle data'!$G$4) -> 19.375209 | J94: =IF(F94=0,0,H94+I94+'motorcycle data'!$E$7) -> 22.472809 | K94: =IF(J94<=0,0,J94) -> 22.472809 | L94: =IF(J94<0,J94*-1,0) -> 0 | M94: =(J94*F94)/1000 -> 0.22035838 | N94: =IF(M94>0,M94,0) -> 0.22035838 | O94: =IF(M94<0,M94*-1,0) -> 0 | P94: =O94*0.75 -> 0 | Q94: =IF(G94<0,P94,"") -> 0 | T94: =T93+N94 -> 47.656307 | U94: =U93+O94 -> 7.3609931 | V94: =O94*0.75*0.9*0.9 -> 0
...

Sheet tractive forces

Sheet tractive power

Sheet velocity vs time

Sheet cumulative power

Sheet power available for acceleratio
