Workbook
Name Left_front__corner_sprung_mass__kg: #REF!
Name Left_front__corner_sprung_mass__kg: #REF!
Name Left_front__corner_sprung_mass__kg: #REF!
Name Left_front__corner_sprung_mass__kg: #REF!
Name Left_front__corner_sprung_mass__kg: #REF!
Name Left_front__corner_sprung_mass__kg: #REF!
Name Left_front__corner_sprung_mass__kg: #REF!
Name Left_front__corner_sprung_mass__kg: #REF!

Sheet EXAM Q1
C1: Lateral Acceleration | D1: 7
B3: Measured Suspension Data | E3: Calculated Suspension Data | H3: Results
B4: MR fl | C4: Motion Ratio front left | D4: 1 | E4: Ms fl | F4: Front Left corner sprung mass [kg] | G4: =SUM(D8-D12) -> 225 | H4: Kϕf | I4: Front Roll Stiffness [Nm/rad] | J4: =((D20^2*G21)/2) -> 49.246875
B5: MR fr | C5: Motion Ratio front right | D5: 1 | E5: Ms fr | F5: Front Right corner sprung mass [kg] | G5: =SUM(D9-D13) -> 225 | H5: Kϕr | I5: Rear Roll Stiffness [Nm/rad] | J5: =((D21^2*G22)/2) -> 49.246875
B6: MR rl | C6: Motion Ratio rear left | D6: 1 | E6: Ms rl | F6: Rear Left corner sprung mass [kg] | G6: =SUM(D10-D14) -> 225 | H6: Kϕt | I6: Total Roll Stiffness [Nm/rad] | J6: =J4+J5 -> 98.49375
B7: MR rr | C7: Motion Ratio rear right | D7: 1 | E7: Ms rr | F7: Rear Right corner sprung mass [kg] | G7: =SUM(D11-D15) -> 225 | H7: Mot | I7: Overturning moment [Nm] | J7: =(G10*D1*G27) -> 1663.2
B8: M fl | C8: Front Left total measured static corner mass [kg] | D8: 250 | E8: Ms f | F8: Total front sprung mass [kg] | G8: =SUM(G4+G5) -> 450 | H8: ϕ | I8: Roll angle (Radians) | J8: =(J7/J6) -> 16.886351 | K8: =J8*180/3.142 -> 967.39119 | L8: deg
B9: M fr | C9: Front Right measured static corner mass [kg] | D9: 250 | E9: Ms r | F9: Total rear sprung mass [kg] | G9: =SUM(G6+G7) -> 450 | H9: WTsf | I9: Front weight transfer due to spung mass [N] | J9: =(J8*G21*D20)/2 -> 554.4
B10: M rl | C10: Rear Left total measured static corner mass [kg] | D10: 250 | E10: Mstot | F10: Total sprung mass | G10: =SUM(G8+G9) -> 900 | H10: WTsr | I10: Rear weight transfer due to spung mass [N] | J10: =(J8*G22*D21)/2 -> 554.4
B11: M rr | C11: Rear Right total measured static corner mass [kg] | D11: 250 | E11: Mtot | F11: Total Mass | G11: =SUM(G10+D12+D13+D14+D15) -> 1000
B12: Mus fl | C12: Front Left unsprung mass [kg] | D12: 25 | E12: Mustot | F12: Total unsprung mass | G12: =SUM(D12+D13+D14+D15) -> 100 | H12: WTsrcf | I12: Front WT due to sprung mass at RC Height | J12: =(G8*'EXAM Q1'!D1*'EXAM Q1'!D27)/'EXAM Q1'!D20 -> 210
B13: Mus fr | C13: Front Right total unsprung mass [kg] | D13: 25 | E13: Ks fl | F13: Front Left Spring rate [N/mm] | G13: =SUM(D16*0.1751) -> 43.775 | H13: WTsrcr | I13: Rear WT due to sprung mass at RC Height | J13: =(G9*D1*D28)/D21 -> 420
B14: Mus rl | C14: Rear Left unsprung mass [kg] | D14: 25 | E14: Ks fr | F14: Front Right rspring rate [N/mm] | G14: =SUM(D17*0.1751) -> 43.775 | H14: Wtusf | I14: Front WT due to Unsprung mass at wheel centre height | J14: =((D12+D13)*D1*D23)/D20 -> 64.166667
B15: Mus rr | C15: Rear Right unsprung mass [kg] | D15: 25 | E15: Ks rl | F15: Rear Left Spring rate [N/mm] | G15: =SUM(D18*0.1751) -> 43.775 | H15: Wtusr | I15: Rear WT due to Unsprung mass at wheel centre height | J15: =((D14+D15)*D1*D24)/D21 -> 64.166667
B16: Ks fl | C16: Front Left Spring rate [lb/in] | D16: 250 | E16: Ks rr | F16: Rear Right Spring Rate [N/mm] | G16: =SUM(D19*0.1751) -> 43.775 | I16: Total front WT | J16: =J9+J12+J14 -> 828.56667
B17: Ks fr | C17: Front Right Spring rate [lb/in] | D17: 250 | E17: Kw fl | F17: Front Left wheel rate [N/mm] | G17: =D4^2*G13 -> 43.775 | I17: Total Rear WT | J17: =J10+J13+J15 -> 1038.5667
B18: Ks rl | C18: Rear Left Spring rate [lb/in] | D18: 250 | E18: Kw fr | F18: Front Right wheel rate [N/mm] | G18: =D5^2*G14 -> 43.775 | I18: Total WT calculated by adding all Weight Transfers | J18: =J16+J17 -> 1867.1333
B19: Ks rr | C19: Rear Right Spring rate [lb/in] | D19: 250 | E19: Kw rl | F19: Rear Left Wheel Rate [N/mm] | G19: =D6^2*G15 -> 43.775 | H19: Fz fl | I19: Left front vertical force [N] | J19: =D8*9.81+J16 -> 3281.0667
B20: Tf | C20: Front Track | D20: 1.5 | E20: Kw rr | F20: Rear Right wheel rate [N/mm] | G20: =D7^2*G16 -> 43.775 | H20: Fz fr | I20: Front Right vertical force [N] | J20: =D9*9.81-J16 -> 1623.9333
B21: Tr | C21: Rear track | D21: 1.5 | F21: Average Front wheel rate [N/m] | G21: =(G17+G18)/2 -> 43.775 | H21: Fz rl | I21: Rear Left vertical force [N] | J21: =D10*9.81+J17 -> 3491.0667
B22: L | C22: Wheel base | D22: 2.5 | F22: Average Rear wheel rate [N/m] | G22: =(G19+G20)/2 -> 43.775 | H22: Fz rr | I22: Rear Right vertical force [N] | J22: =D11*9.81-J17 -> 1413.9333
B23: Rrf | C23: Rolling Radius front | D23: 0.275 | E23: b | F23: distance of cg of sprung mass from front axle [m] | G23: =(G9*D22)/G10 -> 1.25 | I23: Total wheel loads by individual wheel load check | J23: =J19+J20+J21+J22 -> 9810
B24: Rrr | C24: Rolling Radius rear | D24: 0.275 | E24: hr -hf | F24: Rear -Front RC Height [m] | G24: =D28-D27 -> 0.1 | I24: Total wheel load by static corner weight check | J24: =G11*9.81 -> 9810
B25: Htot | C25: Height of CG of total mass above ground | D25: 0.4 | E25: z | F25: Depth of triangle at CG [m] | G25: =(D28-D27)/D22*G23 -> 0.05
B26: Hs | C26: Height of CG of sprung mass above ground | D26: 0.414 | E26: z+hf | F26: Height of roll axis at CG [m] | G26: =G25+D27 -> 0.15
B27: hf | C27: Height of Front roll centre above ground | D27: 0.1 | E27: Hsra | F27: Height of CG above roll axis [m] | G27: =D26-G25-D27 -> 0.264 | H27: WT | I27: Total WT calculated for 'solid' car | J27: =(G11*D1*D25)/((D20+D21)/2) -> 1866.6667
B28: hr | C28: Height of Rear roll centre above ground | D28: 0.2
H29: Fs | I29: Front Split | J29: =(J19-J20) -> 1657.1333
H30: Rs | I30: Rear Split | J30: =(J21-J22) -> 2077.1333
H31: FRLSD | I31: Front Rear Load Split Difference | J31: =(J29-J30) -> -420
I32: Rear Weight Percenatge [%] | J32: =(J17/J18*100) -> 55.623594

Sheet EXAM Q2
C1: Lateral Acceleration | D1: 8.1
B3: Measured Suspension Data | E3: Calculated Suspension Data | H3: Results
B4: MR fl | C4: Motion Ratio front left | D4: 0.87 | E4: Ms fl | F4: Front Left corner sprung mass [kg] | G4: =SUM(D8-D12) -> 156.8 | H4: Kϕf | I4: Front Roll Stiffness [Nm/rad] | J4: =((D20^2*G21)/2) -> 28.87769
B5: MR fr | C5: Motion Ratio front right | D5: 0.82 | E5: Ms fr | F5: Front Right corner sprung mass [kg] | G5: =SUM(D9-D13) -> 177.2 | H5: Kϕr | I5: Rear Roll Stiffness [Nm/rad] | J5: =((D21^2*G22)/2) -> 70.815567
B6: MR rl | C6: Motion Ratio rear left | D6: 1.02 | E6: Ms rl | F6: Rear Left corner sprung mass [kg] | G6: =SUM(D10-D14) -> 163.8 | H6: Kϕt | I6: Total Roll Stiffness [Nm/rad] | J6: =J4+J5 -> 99.693257
B7: MR rr | C7: Motion Ratio rear right | D7: 1.02 | E7: Ms rr | F7: Rear Right corner sprung mass [kg] | G7: =SUM(D11-D15) -> 184.2 | H7: Mot | I7: Overturning moment [Nm] | J7: =(G10*D1*G27) -> 1645.4988
B8: M fl | C8: Front Left total measured static corner mass [kg] | D8: 185.8 | E8: Ms f | F8: Total front sprung mass [kg] | G8: =SUM(G4+G5) -> 334 | H8: ϕ | I8: Roll angle (Radians) | J8: =(J7/J6) -> 16.505618 | K8: =J8*180/3.142 -> 945.57963 | L8: deg
B9: M fr | C9: Front Right measured static corner mass [kg] | D9: 206.2 | E9: Ms r | F9: Total rear sprung mass [kg] | G9: =SUM(G6+G7) -> 348 | H9: WTsf | I9: Front weight transfer due to spung mass [N] | J9: =(J8*G21*D20)/2 -> 324.2477
B10: M rl | C10: Rear Left total measured static corner mass [kg] | D10: 198.8 | E10: Mstot | F10: Total sprung mass | G10: =SUM(G8+G9) -> 682 | H10: WTsr | I10: Rear weight transfer due to spung mass [N] | J10: =(J8*G22*D21)/2 -> 768.98335
B11: M rr | C11: Rear Right total measured static corner mass [kg] | D11: 219.2 | E11: Mtot | F11: Total Mass | G11: =SUM(G10+D12+D13+D14+D15) -> 810
B12: Mus fl | C12: Front Left unsprung mass [kg] | D12: 29 | E12: Mustot | F12: Total unsprung mass | G12: =SUM(D12+D13+D14+D15) -> 128 | H12: WTsrcf | I12: Front WT due to sprung mass at RC Height | J12: =(G8*'EXAM Q2'!D1*'EXAM Q2'!D27)/'EXAM Q2'!D20 -> 110.42449
B13: Mus fr | C13: Front Right total unsprung mass [kg] | D13: 29 | E13: Ks fl | F13: Front Left Spring rate [N/mm] | G13: =SUM(D16*0.1751) -> 37.6465 | H13: WTsrcr | I13: Rear WT due to sprung mass at RC Height | J13: =(G9*D1*D28)/D21 -> 315.26053
B14: Mus rl | C14: Rear Left unsprung mass [kg] | D14: 35 | E14: Ks fr | F14: Front Right rspring rate [N/mm] | G14: =SUM(D17*0.1751) -> 37.1212 | H14: Wtusf | I14: Front WT due to Unsprung mass at wheel centre height | J14: =((D12+D13)*D1*D23)/D20 -> 89.485714
B15: Mus rr | C15: Rear Right unsprung mass [kg] | D15: 35 | E15: Ks rl | F15: Rear Left Spring rate [N/mm] | G15: =SUM(D18*0.1751) -> 58.8336 | H15: Wtusr | I15: Rear WT due to Unsprung mass at wheel centre height | J15: =((D14+D15)*D1*D24)/D21 -> 104.44737
B16: Ks fl | C16: Front Left Spring rate [lb/in] | D16: 215 | E16: Ks rr | F16: Rear Right Spring Rate [N/mm] | G16: =SUM(D19*0.1751) -> 59.0087 | I16: Total front WT | J16: =J9+J12+J14 -> 524.1579
B17: Ks fr | C17: Front Right Spring rate [lb/in] | D17: 212 | E17: Kw fl | F17: Front Left wheel rate [N/mm] | G17: =D4^2*G13 -> 28.494636 | I17: Total Rear WT | J17: =J10+J13+J15 -> 1188.6912
B18: Ks rl | C18: Rear Left Spring rate [lb/in] | D18: 336 | E18: Kw fr | F18: Front Right wheel rate [N/mm] | G18: =D5^2*G14 -> 24.960295 | I18: Total WT calculated by adding all Weight Transfers | J18: =J16+J17 -> 1712.8491
B19: Ks rr | C19: Rear Right Spring rate [lb/in] | D19: 337 | E19: Kw rl | F19: Rear Left Wheel Rate [N/mm] | G19: =D6^2*G15 -> 61.210477 | H19: Fz fl | I19: Left front vertical force [N] | J19: =D8*9.81+J16 -> 2346.8559
B20: Tf | C20: Front Track | D20: 1.47 | E20: Kw rr | F20: Rear Right wheel rate [N/mm] | G20: =D7^2*G16 -> 61.392651 | H20: Fz fr | I20: Front Right vertical force [N] | J20: =D9*9.81-J16 -> 1498.6641
B21: Tr | C21: Rear track | D21: 1.52 | F21: Average Front wheel rate [N/m] | G21: =(G17+G18)/2 -> 26.727465 | H21: Fz rl | I21: Rear Left vertical force [N] | J21: =D10*9.81+J17 -> 3138.9192
B22: L | C22: Wheel base | D22: 2.55 | F22: Average Rear wheel rate [N/m] | G22: =(G19+G20)/2 -> 61.301564 | H22: Fz rr | I22: Rear Right vertical force [N] | J22: =D11*9.81-J17 -> 961.66076
B23: Rrf | C23: Rolling Radius front | D23: 0.28 | E23: b | F23: distance of cg of sprung mass from front axle [m] | G23: =(G9*D22)/G10 -> 1.301173 | I23: Total wheel loads by individual wheel load check | J23: =J19+J20+J21+J22 -> 7946.1
B24: Rrr | C24: Rolling Radius rear | D24: 0.28 | E24: hr -hf | F24: Rear -Front RC Height [m] | G24: =D28-D27 -> 0.11 | I24: Total wheel load by static corner weight check | J24: =G11*9.81 -> 7946.1
B25: Htot | C25: Height of CG of total mass above ground | D25: 0.45 | E25: z | F25: Depth of triangle at CG [m] | G25: =(D28-D27)/D22*G23 -> 0.056129032
B26: Hs | C26: Height of CG of sprung mass above ground | D26: 0.414 | E26: z+hf | F26: Height of roll axis at CG [m] | G26: =G25+D27 -> 0.11612903
B27: hf | C27: Height of Front roll centre above ground | D27: 0.06 | E27: Hsra | F27: Height of CG above roll axis [m] | G27: =D26-G25-D27 -> 0.29787097 | H27: WT | I27: Total WT calculated for 'solid' car | J27: =(G11*D1*D25)/((D20+D21)/2) -> 1974.8829
B28: hr | C28: Height of Rear roll centre above ground | D28: 0.17
H29: Fs | I29: Front Split | J29: =(J19-J20) -> 848.1918
H30: Rs | I30: Rear Split | J30: =(J21-J22) -> 2177.2585
H31: FRLSD | I31: Front Rear Load Split Difference | J31: =(J29-J30) -> -1329.0667
I32: Rear Weight Percenatge [%] | J32: =(J17/J18*100) -> 69.398478

Sheet EXAM Q3
C1: Lateral Acceleration | D1: 8.1
B3: Measured Suspension Data | E3: Calculated Suspension Data | H3: Results
B4: MR fl | C4: Motion Ratio front left | D4: 0.87 | E4: Ms fl | F4: Front Left corner sprung mass [kg] | G4: =SUM(D8-D12) -> 156.8 | H4: Kϕf | I4: Front Roll Stiffness [Nm/rad] | J4: =((D20^2*G21)/2) -> 31.772551
B5: MR fr | C5: Motion Ratio front right | D5: 0.82 | E5: Ms fr | F5: Front Right corner sprung mass [kg] | G5: =SUM(D9-D13) -> 177.2 | H5: Kϕr | I5: Rear Roll Stiffness [Nm/rad] | J5: =((D21^2*G22)/2) -> 70.815567
B6: MR rl | C6: Motion Ratio rear left | D6: 1.02 | E6: Ms rl | F6: Rear Left corner sprung mass [kg] | G6: =SUM(D10-D14) -> 163.8 | H6: Kϕt | I6: Total Roll Stiffness [Nm/rad] | J6: =J4+J5 -> 102.58812
B7: MR rr | C7: Motion Ratio rear right | D7: 1.02 | E7: Ms rr | F7: Rear Right corner sprung mass [kg] | G7: =SUM(D11-D15) -> 184.2 | H7: Mot | I7: Overturning moment [Nm] | J7: =(G10*D1*G27) -> 1645.4988
B8: M fl | C8: Front Left total measured static corner mass [kg] | D8: 185.8 | E8: Ms f | F8: Total front sprung mass [kg] | G8: =SUM(G4+G5) -> 334 | H8: ϕ | I8: Roll angle (Radians) | J8: =(J7/J6) -> 16.039858 | K8: =J8*180/3.142 -> 918.897 | L8: deg
B9: M fr | C9: Front Right measured static corner mass [kg] | D9: 206.2 | E9: Ms r | F9: Total rear sprung mass [kg] | G9: =SUM(G6+G7) -> 348 | H9: WTsf | I9: Front weight transfer due to spung mass [N] | J9: =(J8*G21*D20)/2 -> 346.68516
B10: M rl | C10: Rear Left total measured static corner mass [kg] | D10: 198.8 | E10: Mstot | F10: Total sprung mass | G10: =SUM(G8+G9) -> 682 | H10: WTsr | I10: Rear weight transfer due to spung mass [N] | J10: =(J8*G22*D21)/2 -> 747.28396
B11: M rr | C11: Rear Right total measured static corner mass [kg] | D11: 219.2 | E11: Mtot | F11: Total Mass | G11: =SUM(G10+D12+D13+D14+D15) -> 810
B12: Mus fl | C12: Front Left unsprung mass [kg] | D12: 29 | E12: Mustot | F12: Total unsprung mass | G12: =SUM(D12+D13+D14+D15) -> 128 | H12: WTsrcf | I12: Front WT due to sprung mass at RC Height | J12: =(G8*'EXAM Q3'!D1*'EXAM Q3'!D27)/'EXAM Q3'!D20 -> 110.42449
B13: Mus fr | C13: Front Right total unsprung mass [kg] | D13: 29 | E13: Ks fl | F13: Front Left Spring rate [N/mm] | G13: =SUM(D16*0.1751) -> 41.1485 | H13: WTsrcr | I13: Rear WT due to sprung mass at RC Height | J13: =(G9*D1*D28)/D21 -> 315.26053
B14: Mus rl | C14: Rear Left unsprung mass [kg] | D14: 35 | E14: Ks fr | F14: Front Right rspring rate [N/mm] | G14: =SUM(D17*0.1751) -> 41.1485 | H14: Wtusf | I14: Front WT due to Unsprung mass at wheel centre height | J14: =((D12+D13)*D1*D23)/D20 -> 89.485714
B15: Mus rr | C15: Rear Right unsprung mass [kg] | D15: 35 | E15: Ks rl | F15: Rear Left Spring rate [N/mm] | G15: =SUM(D18*0.1751) -> 58.8336 | H15: Wtusr | I15: Rear WT due to Unsprung mass at wheel centre height | J15: =((D14+D15)*D1*D24)/D21 -> 104.44737
B16: Ks fl | C16: Front Left Spring rate [lb/in] | D16: 235 | E16: Ks rr | F16: Rear Right Spring Rate [N/mm] | G16: =SUM(D19*0.1751) -> 59.0087 | I16: Total front WT | J16: =J9+J12+J14 -> 546.59537
B17: Ks fr | C17: Front Right Spring rate [lb/in] | D17: 235 | E17: Kw fl | F17: Front Left wheel rate [N/mm] | G17: =D4^2*G13 -> 31.1453 | I17: Total Rear WT | J17: =J10+J13+J15 -> 1166.9919
B18: Ks rl | C18: Rear Left Spring rate [lb/in] | D18: 336 | E18: Kw fr | F18: Front Right wheel rate [N/mm] | G18: =D5^2*G14 -> 27.668251 | I18: Total WT calculated by adding all Weight Transfers | J18: =J16+J17 -> 1713.5872
B19: Ks rr | C19: Rear Right Spring rate [lb/in] | D19: 337 | E19: Kw rl | F19: Rear Left Wheel Rate [N/mm] | G19: =D6^2*G15 -> 61.210477 | H19: Fz fl | I19: Left front vertical force [N] | J19: =D8*9.81+J16 -> 2369.2934
B20: Tf | C20: Front Track | D20: 1.47 | E20: Kw rr | F20: Rear Right wheel rate [N/mm] | G20: =D7^2*G16 -> 61.392651 | H20: Fz fr | I20: Front Right vertical force [N] | J20: =D9*9.81-J16 -> 1476.2266
B21: Tr | C21: Rear track | D21: 1.52 | F21: Average Front wheel rate [N/m] | G21: =(G17+G18)/2 -> 29.406776 | H21: Fz rl | I21: Rear Left vertical force [N] | J21: =D10*9.81+J17 -> 3117.2199
B22: L | C22: Wheel base | D22: 2.55 | F22: Average Rear wheel rate [N/m] | G22: =(G19+G20)/2 -> 61.301564 | H22: Fz rr | I22: Rear Right vertical force [N] | J22: =D11*9.81-J17 -> 983.36015
B23: Rrf | C23: Rolling Radius front | D23: 0.28 | E23: b | F23: distance of cg of sprung mass from front axle [m] | G23: =(G9*D22)/G10 -> 1.301173 | I23: Total wheel loads by individual wheel load check | J23: =J19+J20+J21+J22 -> 7946.1
B24: Rrr | C24: Rolling Radius rear | D24: 0.28 | E24: hr -hf | F24: Rear -Front RC Height [m] | G24: =D28-D27 -> 0.11 | I24: Total wheel load by static corner weight check | J24: =G11*9.81 -> 7946.1
B25: Htot | C25: Height of CG of total mass above ground | D25: 0.45 | E25: z | F25: Depth of triangle at CG [m] | G25: =(D28-D27)/D22*G23 -> 0.056129032
B26: Hs | C26: Height of CG of sprung mass above ground | D26: 0.414 | E26: z+hf | F26: Height of roll axis at CG [m] | G26: =G25+D27 -> 0.11612903
B27: hf | C27: Height of Front roll centre above ground | D27: 0.06 | E27: Hsra | F27: Height of CG above roll axis [m] | G27: =D26-G25-D27 -> 0.29787097 | H27: WT | I27: Total WT calculated for 'solid' car | J27: =(G11*D1*D25)/((D20+D21)/2) -> 1974.8829
B28: hr | C28: Height of Rear roll centre above ground | D28: 0.17
H29: Fs | I29: Front Split | J29: =(J19-J20) -> 893.06673
H30: Rs | I30: Rear Split | J30: =(J21-J22) -> 2133.8597
H31: FRLSD | I31: Front Rear Load Split Difference | J31: =(J29-J30) -> -1240.793
I32: Rear Weight Percenatge [%] | J32: =(J17/J18*100) -> 68.102273

Sheet EXAM Q4
C1: Lateral Acceleration | D1: 8.1
B3: Measured Suspension Data | E3: Calculated Suspension Data | H3: Results
B4: MR fl | C4: Motion Ratio front left | D4: 0.87 | E4: Ms fl | F4: Front Left corner sprung mass [kg] | G4: =SUM(D8-D12) -> 156.8 | H4: Kϕf | I4: Front Roll Stiffness [Nm/rad] | J4: =((D20^2*G21)/2) -> 31.772551
B5: MR fr | C5: Motion Ratio front right | D5: 0.82 | E5: Ms fr | F5: Front Right corner sprung mass [kg] | G5: =SUM(D9-D13) -> 177.2 | H5: Kϕr | I5: Rear Roll Stiffness [Nm/rad] | J5: =((D21^2*G22)/2) -> 33.352199
B6: MR rl | C6: Motion Ratio rear left | D6: 0.7 | E6: Ms rl | F6: Rear Left corner sprung mass [kg] | G6: =SUM(D10-D14) -> 163.8 | H6: Kϕt | I6: Total Roll Stiffness [Nm/rad] | J6: =J4+J5 -> 65.12475
B7: MR rr | C7: Motion Ratio rear right | D7: 0.7 | E7: Ms rr | F7: Rear Right corner sprung mass [kg] | G7: =SUM(D11-D15) -> 184.2 | H7: Mot | I7: Overturning moment [Nm] | J7: =(G10*D1*G27) -> 1645.4988
B8: M fl | C8: Front Left total measured static corner mass [kg] | D8: 185.8 | E8: Ms f | F8: Total front sprung mass [kg] | G8: =SUM(G4+G5) -> 334 | H8: ϕ | I8: Roll angle (Radians) | J8: =(J7/J6) -> 25.266873 | K8: =J8*180/3.142 -> 1447.4975 | L8: deg
B9: M fr | C9: Front Right measured static corner mass [kg] | D9: 206.2 | E9: Ms r | F9: Total rear sprung mass [kg] | G9: =SUM(G6+G7) -> 348 | H9: WTsf | I9: Front weight transfer due to spung mass [N] | J9: =(J8*G21*D20)/2 -> 546.11769
B10: M rl | C10: Rear Left total measured static corner mass [kg] | D10: 198.8 | E10: Mstot | F10: Total sprung mass | G10: =SUM(G8+G9) -> 682 | H10: WTsr | I10: Rear weight transfer due to spung mass [N] | J10: =(J8*G22*D21)/2 -> 554.4117
B11: M rr | C11: Rear Right total measured static corner mass [kg] | D11: 219.2 | E11: Mtot | F11: Total Mass | G11: =SUM(G10+D12+D13+D14+D15) -> 810
B12: Mus fl | C12: Front Left unsprung mass [kg] | D12: 29 | E12: Mustot | F12: Total unsprung mass | G12: =SUM(D12+D13+D14+D15) -> 128 | H12: WTsrcf | I12: Front WT due to sprung mass at RC Height | J12: =(G8*'EXAM Q4'!D1*'EXAM Q4'!D27)/'EXAM Q4'!D20 -> 110.42449
B13: Mus fr | C13: Front Right total unsprung mass [kg] | D13: 29 | E13: Ks fl | F13: Front Left Spring rate [N/mm] | G13: =SUM(D16*0.1751) -> 41.1485 | H13: WTsrcr | I13: Rear WT due to sprung mass at RC Height | J13: =(G9*D1*D28)/D21 -> 315.26053
B14: Mus rl | C14: Rear Left unsprung mass [kg] | D14: 35 | E14: Ks fr | F14: Front Right rspring rate [N/mm] | G14: =SUM(D17*0.1751) -> 41.1485 | H14: Wtusf | I14: Front WT due to Unsprung mass at wheel centre height | J14: =((D12+D13)*D1*D23)/D20 -> 89.485714
B15: Mus rr | C15: Rear Right unsprung mass [kg] | D15: 35 | E15: Ks rl | F15: Rear Left Spring rate [N/mm] | G15: =SUM(D18*0.1751) -> 58.8336 | H15: Wtusr | I15: Rear WT due to Unsprung mass at wheel centre height | J15: =((D14+D15)*D1*D24)/D21 -> 104.44737
B16: Ks fl | C16: Front Left Spring rate [lb/in] | D16: 235 | E16: Ks rr | F16: Rear Right Spring Rate [N/mm] | G16: =SUM(D19*0.1751) -> 59.0087 | I16: Total front WT | J16: =J9+J12+J14 -> 746.0279
B17: Ks fr | C17: Front Right Spring rate [lb/in] | D17: 235 | E17: Kw fl | F17: Front Left wheel rate [N/mm] | G17: =D4^2*G13 -> 31.1453 | I17: Total Rear WT | J17: =J10+J13+J15 -> 974.1196
B18: Ks rl | C18: Rear Left Spring rate [lb/in] | D18: 336 | E18: Kw fr | F18: Front Right wheel rate [N/mm] | G18: =D5^2*G14 -> 27.668251 | I18: Total WT calculated by adding all Weight Transfers | J18: =J16+J17 -> 1720.1475
B19: Ks rr | C19: Rear Right Spring rate [lb/in] | D19: 337 | E19: Kw rl | F19: Rear Left Wheel Rate [N/mm] | G19: =D6^2*G15 -> 28.828464 | H19: Fz fl | I19: Left front vertical force [N] | J19: =D8*9.81+J16 -> 2568.7259
B20: Tf | C20: Front Track | D20: 1.47 | E20: Kw rr | F20: Rear Right wheel rate [N/mm] | G20: =D7^2*G16 -> 28.914263 | H20: Fz fr | I20: Front Right vertical force [N] | J20: =D9*9.81-J16 -> 1276.7941
B21: Tr | C21: Rear track | D21: 1.52 | F21: Average Front wheel rate [N/m] | G21: =(G17+G18)/2 -> 29.406776 | H21: Fz rl | I21: Rear Left vertical force [N] | J21: =D10*9.81+J17 -> 2924.3476
B22: L | C22: Wheel base | D22: 2.55 | F22: Average Rear wheel rate [N/m] | G22: =(G19+G20)/2 -> 28.871363 | H22: Fz rr | I22: Rear Right vertical force [N] | J22: =D11*9.81-J17 -> 1176.2324
B23: Rrf | C23: Rolling Radius front | D23: 0.28 | E23: b | F23: distance of cg of sprung mass from front axle [m] | G23: =(G9*D22)/G10 -> 1.301173 | I23: Total wheel loads by individual wheel load check | J23: =J19+J20+J21+J22 -> 7946.1
B24: Rrr | C24: Rolling Radius rear | D24: 0.28 | E24: hr -hf | F24: Rear -Front RC Height [m] | G24: =D28-D27 -> 0.11 | I24: Total wheel load by static corner weight check | J24: =G11*9.81 -> 7946.1
B25: Htot | C25: Height of CG of total mass above ground | D25: 0.45 | E25: z | F25: Depth of triangle at CG [m] | G25: =(D28-D27)/D22*G23 -> 0.056129032
B26: Hs | C26: Height of CG of sprung mass above ground | D26: 0.414 | E26: z+hf | F26: Height of roll axis at CG [m] | G26: =G25+D27 -> 0.11612903
B27: hf | C27: Height of Front roll centre above ground | D27: 0.06 | E27: Hsra | F27: Height of CG above roll axis [m] | G27: =D26-G25-D27 -> 0.29787097 | H27: WT | I27: Total WT calculated for 'solid' car | J27: =(G11*D1*D25)/((D20+D21)/2) -> 1974.8829
B28: hr | C28: Height of Rear roll centre above ground | D28: 0.17
H29: Fs | I29: Front Split | J29: =(J19-J20) -> 1291.9318
H30: Rs | I30: Rear Split | J30: =(J21-J22) -> 1748.1152
H31: FRLSD | I31: Front Rear Load Split Difference | J31: =(J29-J30) -> -456.1834
I32: Rear Weight Percenatge [%] | J32: =(J17/J18*100) -> 56.630004

Sheet EXAM Q5
C1: Lateral Acceleration | D1: 8.1
B3: Measured Suspension Data | E3: Calculated Suspension Data | H3: Results
B4: MR fl | C4: Motion Ratio front left | D4: 0.87 | E4: Ms fl | F4: Front Left corner sprung mass [kg] | G4: =SUM(D8-D12) -> 156.8 | H4: Kϕf | I4: Front Roll Stiffness [Nm/rad] | J4: =((D20^2*G21)/2) -> 31.772551
B5: MR fr | C5: Motion Ratio front right | D5: 0.82 | E5: Ms fr | F5: Front Right corner sprung mass [kg] | G5: =SUM(D9-D13) -> 177.2 | H5: Kϕr | I5: Rear Roll Stiffness [Nm/rad] | J5: =((D21^2*G22)/2) -> 21.944062
B6: MR rl | C6: Motion Ratio rear left | D6: 0.7 | E6: Ms rl | F6: Rear Left corner sprung mass [kg] | G6: =SUM(D10-D14) -> 163.8 | H6: Kϕt | I6: Total Roll Stiffness [Nm/rad] | J6: =J4+J5 -> 53.716613
B7: MR rr | C7: Motion Ratio rear right | D7: 0.7 | E7: Ms rr | F7: Rear Right corner sprung mass [kg] | G7: =SUM(D11-D15) -> 184.2 | H7: Mot | I7: Overturning moment [Nm] | J7: =(G10*D1*G27) -> 1645.4988
B8: M fl | C8: Front Left total measured static corner mass [kg] | D8: 185.8 | E8: Ms f | F8: Total front sprung mass [kg] | G8: =SUM(G4+G5) -> 334 | H8: ϕ | I8: Roll angle (Radians) | J8: =(J7/J6) -> 30.632959 | K8: =J8*180/3.142 -> 1754.9117 | L8: deg
B9: M fr | C9: Front Right measured static corner mass [kg] | D9: 206.2 | E9: Ms r | F9: Total rear sprung mass [kg] | G9: =SUM(G6+G7) -> 348 | H9: WTsf | I9: Front weight transfer due to spung mass [N] | J9: =(J8*G21*D20)/2 -> 662.10017
B10: M rl | C10: Rear Left total measured static corner mass [kg] | D10: 198.8 | E10: Mstot | F10: Total sprung mass | G10: =SUM(G8+G9) -> 682 | H10: WTsr | I10: Rear weight transfer due to spung mass [N] | J10: =(J8*G22*D21)/2 -> 442.24444
B11: M rr | C11: Rear Right total measured static corner mass [kg] | D11: 219.2 | E11: Mtot | F11: Total Mass | G11: =SUM(G10+D12+D13+D14+D15) -> 810
B12: Mus fl | C12: Front Left unsprung mass [kg] | D12: 29 | E12: Mustot | F12: Total unsprung mass | G12: =SUM(D12+D13+D14+D15) -> 128 | H12: WTsrcf | I12: Front WT due to sprung mass at RC Height | J12: =(G8*'EXAM Q5'!D1*'EXAM Q5'!D27)/'EXAM Q5'!D20 -> 110.42449
B13: Mus fr | C13: Front Right total unsprung mass [kg] | D13: 29 | E13: Ks fl | F13: Front Left Spring rate [N/mm] | G13: =SUM(D16*0.1751) -> 41.1485 | H13: WTsrcr | I13: Rear WT due to sprung mass at RC Height | J13: =(G9*D1*D28)/D21 -> 315.26053
B14: Mus rl | C14: Rear Left unsprung mass [kg] | D14: 35 | E14: Ks fr | F14: Front Right rspring rate [N/mm] | G14: =SUM(D17*0.1751) -> 41.1485 | H14: Wtusf | I14: Front WT due to Unsprung mass at wheel centre height | J14: =((D12+D13)*D1*D23)/D20 -> 89.485714
B15: Mus rr | C15: Rear Right unsprung mass [kg] | D15: 35 | E15: Ks rl | F15: Rear Left Spring rate [N/mm] | G15: =SUM(D18*0.1751) -> 38.85469 | H15: Wtusr | I15: Rear WT due to Unsprung mass at wheel centre height | J15: =((D14+D15)*D1*D24)/D21 -> 104.44737
B16: Ks fl | C16: Front Left Spring rate [lb/in] | D16: 235 | E16: Ks rr | F16: Rear Right Spring Rate [N/mm] | G16: =SUM(D19*0.1751) -> 38.67959 | I16: Total front WT | J16: =J9+J12+J14 -> 862.01037
B17: Ks fr | C17: Front Right Spring rate [lb/in] | D17: 235 | E17: Kw fl | F17: Front Left wheel rate [N/mm] | G17: =D4^2*G13 -> 31.1453 | I17: Total Rear WT | J17: =J10+J13+J15 -> 861.95234
B18: Ks rl | C18: Rear Left Spring rate [lb/in] | D18: 221.9 | E18: Kw fr | F18: Front Right wheel rate [N/mm] | G18: =D5^2*G14 -> 27.668251 | I18: Total WT calculated by adding all Weight Transfers | J18: =J16+J17 -> 1723.9627
B19: Ks rr | C19: Rear Right Spring rate [lb/in] | D19: 220.9 | E19: Kw rl | F19: Rear Left Wheel Rate [N/mm] | G19: =D6^2*G15 -> 19.038798 | H19: Fz fl | I19: Left front vertical force [N] | J19: =D8*9.81+J16 -> 2684.7084
B20: Tf | C20: Front Track | D20: 1.47 | E20: Kw rr | F20: Rear Right wheel rate [N/mm] | G20: =D7^2*G16 -> 18.952999 | H20: Fz fr | I20: Front Right vertical force [N] | J20: =D9*9.81-J16 -> 1160.8116
B21: Tr | C21: Rear track | D21: 1.52 | F21: Average Front wheel rate [N/m] | G21: =(G17+G18)/2 -> 29.406776 | H21: Fz rl | I21: Rear Left vertical force [N] | J21: =D10*9.81+J17 -> 2812.1803
B22: L | C22: Wheel base | D22: 2.55 | F22: Average Rear wheel rate [N/m] | G22: =(G19+G20)/2 -> 18.995899 | H22: Fz rr | I22: Rear Right vertical force [N] | J22: =D11*9.81-J17 -> 1288.3997
B23: Rrf | C23: Rolling Radius front | D23: 0.28 | E23: b | F23: distance of cg of sprung mass from front axle [m] | G23: =(G9*D22)/G10 -> 1.301173 | I23: Total wheel loads by individual wheel load check | J23: =J19+J20+J21+J22 -> 7946.1
B24: Rrr | C24: Rolling Radius rear | D24: 0.28 | E24: hr -hf | F24: Rear -Front RC Height [m] | G24: =D28-D27 -> 0.11 | I24: Total wheel load by static corner weight check | J24: =G11*9.81 -> 7946.1
B25: Htot | C25: Height of CG of total mass above ground | D25: 0.45 | E25: z | F25: Depth of triangle at CG [m] | G25: =(D28-D27)/D22*G23 -> 0.056129032
B26: Hs | C26: Height of CG of sprung mass above ground | D26: 0.414 | E26: z+hf | F26: Height of roll axis at CG [m] | G26: =G25+D27 -> 0.11612903
B27: hf | C27: Height of Front roll centre above ground | D27: 0.06 | E27: Hsra | F27: Height of CG above roll axis [m] | G27: =D26-G25-D27 -> 0.29787097 | H27: WT | I27: Total WT calculated for 'solid' car | J27: =(G11*D1*D25)/((D20+D21)/2) -> 1974.8829
B28: hr | C28: Height of Rear roll centre above ground | D28: 0.17
H29: Fs | I29: Front Split | J29: =(J19-J20) -> 1523.8967
H30: Rs | I30: Rear Split | J30: =(J21-J22) -> 1523.7807
H31: FRLSD | I31: Front Rear Load Split Difference | J31: =(J29-J30) -> 0.11606121
I32: Rear Weight Percenatge [%] | J32: =(J17/J18*100) -> 49.998317

Sheet EXAM Q6
C1: Lateral Acceleration | D1: 8.1
B3: Measured Suspension Data | E3: Calculated Suspension Data | H3: Results
B4: MR fl | C4: Motion Ratio front left | D4: 0.87 | E4: Ms fl | F4: Front Left corner sprung mass [kg] | G4: =SUM(D8-D12) -> 181.8 | H4: Kϕf | I4: Front Roll Stiffness [Nm/rad] | J4: =((D20^2*G21)/2) -> 31.772551
B5: MR fr | C5: Motion Ratio front right | D5: 0.82 | E5: Ms fr | F5: Front Right corner sprung mass [kg] | G5: =SUM(D9-D13) -> 152.2 | H5: Kϕr | I5: Rear Roll Stiffness [Nm/rad] | J5: =((D21^2*G22)/2) -> 27.256626
B6: MR rl | C6: Motion Ratio rear left | D6: 0.7 | E6: Ms rl | F6: Rear Left corner sprung mass [kg] | G6: =SUM(D10-D14) -> 138.8 | H6: Kϕt | I6: Total Roll Stiffness [Nm/rad] | J6: =J4+J5 -> 59.029177
B7: MR rr | C7: Motion Ratio rear right | D7: 0.7 | E7: Ms rr | F7: Rear Right corner sprung mass [kg] | G7: =SUM(D11-D15) -> 209.2 | H7: Mot | I7: Overturning moment [Nm] | J7: =(G10*D1*G27) -> 1645.4988
B8: M fl | C8: Front Left total measured static corner mass [kg] | D8: 210.8 | E8: Ms f | F8: Total front sprung mass [kg] | G8: =SUM(G4+G5) -> 334 | H8: ϕ | I8: Roll angle (Radians) | J8: =(J7/J6) -> 27.876025 | K8: =J8*180/3.142 -> 1596.9715 | L8: deg
B9: M fr | C9: Front Right measured static corner mass [kg] | D9: 181.2 | E9: Ms r | F9: Total rear sprung mass [kg] | G9: =SUM(G6+G7) -> 348 | H9: WTsf | I9: Front weight transfer due to spung mass [N] | J9: =(J8*G21*D20)/2 -> 602.51184
B10: M rl | C10: Rear Left total measured static corner mass [kg] | D10: 173.8 | E10: Mstot | F10: Total sprung mass | G10: =SUM(G8+G9) -> 682 | H10: WTsr | I10: Rear weight transfer due to spung mass [N] | J10: =(J8*G22*D21)/2 -> 499.87263
B11: M rr | C11: Rear Right total measured static corner mass [kg] | D11: 244.2 | E11: Mtot | F11: Total Mass | G11: =SUM(G10+D12+D13+D14+D15) -> 810
B12: Mus fl | C12: Front Left unsprung mass [kg] | D12: 29 | E12: Mustot | F12: Total unsprung mass | G12: =SUM(D12+D13+D14+D15) -> 128 | H12: WTsrcf | I12: Front WT due to sprung mass at RC Height | J12: =(G8*'EXAM Q6'!D1*'EXAM Q6'!D27)/'EXAM Q6'!D20 -> 110.42449
B13: Mus fr | C13: Front Right total unsprung mass [kg] | D13: 29 | E13: Ks fl | F13: Front Left Spring rate [N/mm] | G13: =SUM(D16*0.1751) -> 41.1485 | H13: WTsrcr | I13: Rear WT due to sprung mass at RC Height | J13: =(G9*D1*D28)/D21 -> 315.26053
B14: Mus rl | C14: Rear Left unsprung mass [kg] | D14: 35 | E14: Ks fr | F14: Front Right rspring rate [N/mm] | G14: =SUM(D17*0.1751) -> 41.1485 | H14: Wtusf | I14: Front WT due to Unsprung mass at wheel centre height | J14: =((D12+D13)*D1*D23)/D20 -> 89.485714
B15: Mus rr | C15: Rear Right unsprung mass [kg] | D15: 35 | E15: Ks rl | F15: Rear Left Spring rate [N/mm] | G15: =SUM(D18*0.1751) -> 48.1525 | H15: Wtusr | I15: Rear WT due to Unsprung mass at wheel centre height | J15: =((D14+D15)*D1*D24)/D21 -> 104.44737
B16: Ks fl | C16: Front Left Spring rate [lb/in] | D16: 235 | E16: Ks rr | F16: Rear Right Spring Rate [N/mm] | G16: =SUM(D19*0.1751) -> 48.1525 | I16: Total front WT | J16: =J9+J12+J14 -> 802.42205
B17: Ks fr | C17: Front Right Spring rate [lb/in] | D17: 235 | E17: Kw fl | F17: Front Left wheel rate [N/mm] | G17: =D4^2*G13 -> 31.1453 | I17: Total Rear WT | J17: =J10+J13+J15 -> 919.58052
B18: Ks rl | C18: Rear Left Spring rate [lb/in] | D18: 275 | E18: Kw fr | F18: Front Right wheel rate [N/mm] | G18: =D5^2*G14 -> 27.668251 | I18: Total WT calculated by adding all Weight Transfers | J18: =J16+J17 -> 1722.0026
B19: Ks rr | C19: Rear Right Spring rate [lb/in] | D19: 275 | E19: Kw rl | F19: Rear Left Wheel Rate [N/mm] | G19: =D6^2*G15 -> 23.594725 | H19: Fz fl | I19: Left front vertical force [N] | J19: =D8*9.81+J16 -> 2870.37
B20: Tf | C20: Front Track | D20: 1.47 | E20: Kw rr | F20: Rear Right wheel rate [N/mm] | G20: =D7^2*G16 -> 23.594725 | H20: Fz fr | I20: Front Right vertical force [N] | J20: =D9*9.81-J16 -> 975.14995
B21: Tr | C21: Rear track | D21: 1.52 | F21: Average Front wheel rate [N/m] | G21: =(G17+G18)/2 -> 29.406776 | H21: Fz rl | I21: Rear Left vertical force [N] | J21: =D10*9.81+J17 -> 2624.5585
B22: L | C22: Wheel base | D22: 2.55 | F22: Average Rear wheel rate [N/m] | G22: =(G19+G20)/2 -> 23.594725 | H22: Fz rr | I22: Rear Right vertical force [N] | J22: =D11*9.81-J17 -> 1476.0215
B23: Rrf | C23: Rolling Radius front | D23: 0.28 | E23: b | F23: distance of cg of sprung mass from front axle [m] | G23: =(G9*D22)/G10 -> 1.301173 | I23: Total wheel loads by individual wheel load check | J23: =J19+J20+J21+J22 -> 7946.1
B24: Rrr | C24: Rolling Radius rear | D24: 0.28 | E24: hr -hf | F24: Rear -Front RC Height [m] | G24: =D28-D27 -> 0.11 | I24: Total wheel load by static corner weight check | J24: =G11*9.81 -> 7946.1
B25: Htot | C25: Height of CG of total mass above ground | D25: 0.45 | E25: z | F25: Depth of triangle at CG [m] | G25: =(D28-D27)/D22*G23 -> 0.056129032
B26: Hs | C26: Height of CG of sprung mass above ground | D26: 0.414 | E26: z+hf | F26: Height of roll axis at CG [m] | G26: =G25+D27 -> 0.11612903
B27: hf | C27: Height of Front roll centre above ground | D27: 0.06 | E27: Hsra | F27: Height of CG above roll axis [m] | G27: =D26-G25-D27 -> 0.29787097 | H27: WT | I27: Total WT calculated for 'solid' car | J27: =(G11*D1*D25)/((D20+D21)/2) -> 1974.8829
B28: hr | C28: Height of Rear roll centre above ground | D28: 0.17
H29: Fs | I29: Front Split | J29: =(J19-J20) -> 1895.2201
H30: Rs | I30: Rear Split | J30: =(J21-J22) -> 1148.537
H31: FRLSD | I31: Front Rear Load Split Difference | J31: =(J29-J30) -> 746.68305
I32: Rear Weight Percenatge [%] | J32: =(J17/J18*100) -> 53.401809

Sheet EXAM Q6,ii
C1: Lateral Acceleration | D1: 8.1
B3: Measured Suspension Data | E3: Calculated Suspension Data | H3: Results
B4: MR fl | C4: Motion Ratio front left | D4: 0.87 | E4: Ms fl | F4: Front Left corner sprung mass [kg] | G4: =SUM(D8-D12) -> 181.8 | H4: Kϕf | I4: Front Roll Stiffness [Nm/rad] | J4: =((D20^2*G21)/2) -> 31.772551
B5: MR fr | C5: Motion Ratio front right | D5: 0.82 | E5: Ms fr | F5: Front Right corner sprung mass [kg] | G5: =SUM(D9-D13) -> 152.2 | H5: Kϕr | I5: Rear Roll Stiffness [Nm/rad] | J5: =((D21^2*G22)/2) -> 27.256626
B6: MR rl | C6: Motion Ratio rear left | D6: 0.7 | E6: Ms rl | F6: Rear Left corner sprung mass [kg] | G6: =SUM(D10-D14) -> 138.8 | H6: Kϕt | I6: Total Roll Stiffness [Nm/rad] | J6: =J4+J5 -> 59.029177
B7: MR rr | C7: Motion Ratio rear right | D7: 0.7 | E7: Ms rr | F7: Rear Right corner sprung mass [kg] | G7: =SUM(D11-D15) -> 209.2 | H7: Mot | I7: Overturning moment [Nm] | J7: =(G10*D1*G27) -> 1645.4988
B8: M fl | C8: Front Left total measured static corner mass [kg] | D8: 210.8 | E8: Ms f | F8: Total front sprung mass [kg] | G8: =SUM(G4+G5) -> 334 | H8: ϕ | I8: Roll angle (Radians) | J8: =(J7/J6) -> 27.876025 | K8: =J8*180/3.142 -> 1596.9715 | L8: deg
B9: M fr | C9: Front Right measured static corner mass [kg] | D9: 181.2 | E9: Ms r | F9: Total rear sprung mass [kg] | G9: =SUM(G6+G7) -> 348 | H9: WTsf | I9: Front weight transfer due to spung mass [N] | J9: =(J8*G21*D20)/2 -> 602.51184
B10: M rl | C10: Rear Left total measured static corner mass [kg] | D10: 173.8 | E10: Mstot | F10: Total sprung mass | G10: =SUM(G8+G9) -> 682 | H10: WTsr | I10: Rear weight transfer due to spung mass [N] | J10: =(J8*G22*D21)/2 -> 499.87263
B11: M rr | C11: Rear Right total measured static corner mass [kg] | D11: 244.2 | E11: Mtot | F11: Total Mass | G11: =SUM(G10+D12+D13+D14+D15) -> 810
B12: Mus fl | C12: Front Left unsprung mass [kg] | D12: 29 | E12: Mustot | F12: Total unsprung mass | G12: =SUM(D12+D13+D14+D15) -> 128 | H12: WTsrcf | I12: Front WT due to sprung mass at RC Height | J12: =(G8*'EXAM Q6,ii'!D1*'EXAM Q6,ii'!D27)/'EXAM Q6,ii'!D20 -> 110.42449
B13: Mus fr | C13: Front Right total unsprung mass [kg] | D13: 29 | E13: Ks fl | F13: Front Left Spring rate [N/mm] | G13: =SUM(D16*0.1751) -> 41.1485 | H13: WTsrcr | I13: Rear WT due to sprung mass at RC Height | J13: =(G9*D1*D28)/D21 -> 315.26053
B14: Mus rl | C14: Rear Left unsprung mass [kg] | D14: 35 | E14: Ks fr | F14: Front Right rspring rate [N/mm] | G14: =SUM(D17*0.1751) -> 41.1485 | H14: Wtusf | I14: Front WT due to Unsprung mass at wheel centre height | J14: =((D12+D13)*D1*D23)/D20 -> 89.485714
B15: Mus rr | C15: Rear Right unsprung mass [kg] | D15: 35 | E15: Ks rl | F15: Rear Left Spring rate [N/mm] | G15: =SUM(D18*0.1751) -> 48.1525 | H15: Wtusr | I15: Rear WT due to Unsprung mass at wheel centre height | J15: =((D14+D15)*D1*D24)/D21 -> 104.44737
B16: Ks fl | C16: Front Left Spring rate [lb/in] | D16: 235 | E16: Ks rr | F16: Rear Right Spring Rate [N/mm] | G16: =SUM(D19*0.1751) -> 48.1525 | I16: Total front WT | J16: =J9+J12+J14 -> 802.42205
B17: Ks fr | C17: Front Right Spring rate [lb/in] | D17: 235 | E17: Kw fl | F17: Front Left wheel rate [N/mm] | G17: =D4^2*G13 -> 31.1453 | I17: Total Rear WT | J17: =J10+J13+J15 -> 919.58052
B18: Ks rl | C18: Rear Left Spring rate [lb/in] | D18: 275 | E18: Kw fr | F18: Front Right wheel rate [N/mm] | G18: =D5^2*G14 -> 27.668251 | I18: Total WT calculated by adding all Weight Transfers | J18: =J16+J17 -> 1722.0026
B19: Ks rr | C19: Rear Right Spring rate [lb/in] | D19: 275 | E19: Kw rl | F19: Rear Left Wheel Rate [N/mm] | G19: =D6^2*G15 -> 23.594725 | H19: Fz fl | I19: Left front vertical force [N] | J19: =D8*9.81+J16 -> 2870.37
B20: Tf | C20: Front Track | D20: 1.47 | E20: Kw rr | F20: Rear Right wheel rate [N/mm] | G20: =D7^2*G16 -> 23.594725 | H20: Fz fr | I20: Front Right vertical force [N] | J20: =D9*9.81-J16 -> 975.14995
B21: Tr | C21: Rear track | D21: 1.52 | F21: Average Front wheel rate [N/m] | G21: =(G17+G18)/2 -> 29.406776 | H21: Fz rl | I21: Rear Left vertical force [N] | J21: =D10*9.81+J17 -> 2624.5585
B22: L | C22: Wheel base | D22: 2.55 | F22: Average Rear wheel rate [N/m] | G22: =(G19+G20)/2 -> 23.594725 | H22: Fz rr | I22: Rear Right vertical force [N] | J22: =D11*9.81-J17 -> 1476.0215
B23: Rrf | C23: Rolling Radius front | D23: 0.28 | E23: b | F23: distance of cg of sprung mass from front axle [m] | G23: =(G9*D22)/G10 -> 1.301173 | I23: Total wheel loads by individual wheel load check | J23: =J19+J20+J21+J22 -> 7946.1
B24: Rrr | C24: Rolling Radius rear | D24: 0.28 | E24: hr -hf | F24: Rear -Front RC Height [m] | G24: =D28-D27 -> 0.11 | I24: Total wheel load by static corner weight check | J24: =G11*9.81 -> 7946.1
B25: Htot | C25: Height of CG of total mass above ground | D25: 0.45 | E25: z | F25: Depth of triangle at CG [m] | G25: =(D28-D27)/D22*G23 -> 0.056129032
B26: Hs | C26: Height of CG of sprung mass above ground | D26: 0.414 | E26: z+hf | F26: Height of roll axis at CG [m] | G26: =G25+D27 -> 0.11612903
B27: hf | C27: Height of Front roll centre above ground | D27: 0.06 | E27: Hsra | F27: Height of CG above roll axis [m] | G27: =D26-G25-D27 -> 0.29787097 | H27: WT | I27: Total WT calculated for 'solid' car | J27: =(G11*D1*D25)/((D20+D21)/2) -> 1974.8829
B28: hr | C28: Height of Rear roll centre above ground | D28: 0.17
H29: Fs | I29: Front Split | J29: =(J19-J20) -> 1895.2201
H30: Rs | I30: Rear Split | J30: =(J21-J22) -> 1148.537
H31: FRLSD | I31: Front Rear Load Split Difference | J31: =(J29-J30) -> 746.68305
I32: Rear Weight Percenatge [%] | J32: =(J17/J18*100) -> 53.401809
H33: Wdg | I33: Wedge, Load Distribution/bias (degrees) | J33: =(J20+J21)/J23 -> 0.45301575
C39: ÷

Sheet Spring Rate Conversion
C5: Spring Rate Conversions
C7: By Warren Rowley | H7: 1
G8: kg/mm to N/m | H8: 9806.65
G9: lb/in to N/mm | H9: 0.17512678
G11: lb/in to N/m | H11: 175.12678
G12: lb/in to kg/mm | H12: 0.01785796
G13: N/mm to kg/mm | H13: 0.10197162
G14: N/mm to lb/in | H14: 5.7101491
G15: N/mm to N/m | H15: 1000
G16: N/m to N/mm | H16: 0.001
G17: N/m to kg/mm | H17: 0.00010197
G18: N/m to lb/in | H18: 0.00571015
E19: N/mm | F19: N/m | G19: kg/mm | H19: lb/in
C20: N/mm | D20: 148.85776 | E20: 148.85776 | F20: 148857.76 | G20: 15.179267 | H20: 850.00001
C21: N/m | D21: 100 | E21: 0.1 | F21: 100 | G21: 0.010197 | H21: 0.571015
C22: kg/mm | D22: 0.010197162 | E22: 0.099999999 | F22: 99.999999 | G22: 0.010197162 | H22: 0.5710149
C23: lb/in | D23: 900 | E23: 157.6141 | F23: 157614.1 | G23: 16.072164 | H23: 900

Sheet Load Spliits
C2: Wheel load distribution
H5: =H7/H11 -> 0.5
H6: LF+RF
H7: =F9+J9 -> 4905
F8: =F9/H11 -> 0.33446143 | G8: LF | I8: RF | J8: =J9/H11 -> 0.16553857
C9: Front Split | D9: LF-RF | E9: =F9-J9 -> 1657.1333 | F9: ='EXAM Q1'!J19 -> 3281.0667 | J9: ='EXAM Q1'!J20 -> 1623.9333
D11: LF+LR | E11: =F11/H11 -> 0.6903296 | F11: =F9+F13 -> 6772.1333 | H11: =H7+H14 -> 9810 | J11: =J9+J13 -> 3037.8667 | K11: =J11/H11 -> 0.3096704 | L11: RF+RR
C12: (LR-RR) - | D12: (LF-RF) | E12: =E13-E9 -> 420 | F12: =F13/H11 -> 0.35586816 | J12: =J13/H11 -> 0.14413184
C13: Rear Split | D13: LR-RR | E13: =F13-J13 -> 2077.1333 | F13: ='EXAM Q1'!J21 -> 3491.0667 | G13: LR | I13: RR | J13: ='EXAM Q1'!J22 -> 1413.9333
E14: LR-LF Split | F14: =F13-F9 -> 210 | H14: =F13+J13 -> 4905 | J14: =J13-J9 -> -210 | K14: RR-RF Split
E15: Wedge | F15: =(F13+J9)/H11 -> 0.52140673 | H15: LR+RR
E16: LR-RF Split | F16: =F13-J9 -> 1867.1333 | H16: =H14/H11 -> 0.5
E19: 156
