Workbook

Sheet Summary and PDP
A1: Academic Skills Assessment | E1: Name | F1: Mike Durke
C2: Score | D2: Max Score | E2: % | F2: SMART Objectives for your PDP
A3: 1 | B3: Reading and Research | C3: ='1. Reading & Research'!B14 -> 10 | D3: =SUM(10*5) -> 50 | E3: =C3/D3*100 -> 20 | F3: What are my goals?
A4: 2 | B4: Referencing and Academic Integrity | C4: ='2. Referencing and Integrity'!B10 -> 6 | D4: =SUM(6*5) -> 30 | E4: =C4/D4*100 -> 20 | F4: Why have I prioritised these?
A5: 3 | B5: Assignment Preparation | C5: ='3. Assignment Prepration'!B11 -> 7 | D5: =SUM(7*5) -> 35 | E5: =C5/D5*100 -> 20 | F5: What is my deadline for achieving them?
A6: 4 | B6: Academic Writing | C6: ='4. Academic Writing'!B8 -> 4 | D6: =SUM(4*5) -> 20 | E6: =C6/D6*100 -> 20 | F6: What steps do I need to take?
A7: 5 | B7: Presenting | C7: ='5. Presenting'!B11 -> 7 | D7: =SUM(7*5) -> 35 | E7: =C7/D7*100 -> 20 | F7: How will I know if I have achieved my goals?
A8: 6 | B8: Submitting Assignments and Accessing Feedback | C8: ='6. Submitting Assignments'!B11 -> 7 | D8: =SUM(7*5) -> 35 | E8: =C8/D8*100 -> 20
B9: Academic Skills Audit Score | C9: =SUM(C3:C8) -> 41 | D9: =SUM(D3:D8) -> 205 | E9: =C9/D9*100 -> 20
A11: Adapted from an Oxford Brookes University Academic Skills Assessment
A12: https://www.brookes.ac.uk/students/academic-development/online-resources/skills-audit/

Sheet 1. Reading  & Research
A1: 1. Reading and Research | B1: Confidence Rating
B2: 1 - not at all confident
B3: 5 - very confident
A4: I can find readings lists for modules. | B4: 1
A5: I know how to use the library including online. | B5: 1
A6: I know our subject librarian and how they can help. | B6: 1
A7: I know how to use a database and find journal articles. | B7: 1
A8: I can search for articles on a particular subject. | B8: 1
A9: I can evaluate sources to check their credibility. | B9: 1
A10: I can quickly decide which parts of a book to read. | B10: 1
A11: I know how to read critically. | B11: 1
A12: I can take effective notes. | B12: 1
A13: I can organise my notes to find what I need later. | B13: 1
A14: Score | B14: =SUM(B4:B13) -> 10

Sheet 2. Referencing and Integrity
A1: 2. Referencing and Integrity | B1: Confidence Rating
B2: 1 - not at all confident
B3: 5 - very confident
A4: I understand the importance of referencing. | B4: 1
A5: I can reference appropriately and accurately. | B5: 1
A6: I know when to quote directly and when to paraphrase. | B6: 1
A7: I can synthesise information and put it into my own words. | B7: 1
A8: I understand: plagiarism, collusion, duplication, poor academic practice and academic misconduct. | B8: 1
A9: I know which system of referencing is used in my subject area. | B9: 1
A10: Score | B10: =SUM(B4:B9) -> 6

Sheet 3. Assignment Prepration
A1: 3. Assignment Preparation | B1: Confidence Rating
B2: 1 - not at all confident
B3: 5 - very confident
A4: I know where to find assignment briefs. | B4: 1
A5: I know when assignments are due. | B5: 1
A6: I know how to organise my time so I can balance my work across modules. | B6: 1
A7: I can find and make use of the marking criteria. | B7: 1
A8: I can plan assignments effectively. | B8: 1
A9: I know where to go for help if I am uncler about an assignment. | B9: 1
A10: I can proofred my own work. | B10: 1
A11: Score | B11: =SUM(B4:B10) -> 7

Sheet 4. Academic Writing
A1: 4. Academic Writing | B1: Confidence Rating
B2: 1 - not at all confident
B3: 5 - very confident
A4: I know how to structure assignments (including essays and reports). | B4: 1
A5: I know how to structure a paragraph. | B5: 1
A6: I know how to write academically. | B6: 1
A7: I know how to support my arguments with evidence and examples. | B7: 1
A8: Score | B8: =SUM(B4:B7) -> 4

Sheet 5. Presenting
A1: 5. Presenting | B1: Confidence Rating
B2: 1 - not at all confident
B3: 5 - very confident
A4: I can prepare for a seminar discussion. | B4: 1
A5: I am confident speking to my peers in class. | B5: 1
A6: I can plan a presentation. | B6: 1
A7: I can present in an appropriate style. | B7: 1
A8: I can use appropriate visual aids when required. | B8: 1
A9: I can negotiate confidently with peers if planning a group presentation. | B9: 1
A10: I know how to approach and speak to my lecturers. | B10: 1
A11: Score | B11: =SUM(B4:B10) -> 7

Sheet 6. Submitting Assignments
A1: 6. Submitting Assignments and Accessing Feedback | B1: Confidence Rating
B2: 1 - not at all confident
B3: 5 - very confident
A4: I know when to submit my assignments. | B4: 1
A5: I understand extenuating circumstances and how to apply. | B5: 1
A6: I know how to use Turnitin. | B6: 1
A7: I know what the similarity score refers to. | B7: 1
A8: I know how to access assignment feedback. | B8: 1
A9: I understnd the purpose of formative and summative feedback. | B9: 1
A10: I know how to make use of feedbck to improve my future performance. | B10: 1
A11: Score | B11: =SUM(B4:B10) -> 7
