Workbook

Sheet Blank spreadsheet
A2: Account Name | C2: Opening | D2: Balances | E2: Sales Day | F2: Book | G2: Purchase | H2: Day Book | I2: Cash | J2: Receipts | K2: Cash | L2: Payments | M2: Petty Cash | N2: Book | O2: Draft | P2: Balances | Q2: Adjustments | S2: Profit and Loss | U2: Balance Sheet
C4: DR | D4: CR | E4: DR | F4: CR | G4: DR | H4: CR | I4: DR | J4: CR | K4: DR | L4: CR | M4: DR | N4: CR | O4: DR | P4: CR | Q4: DR | R4: CR | S4: DR | T4: CR | U4: DR | V4: CR
A7: Motor Vehicles | C7: 27176 | G7: 14850 | O7: 42026 | U7: 42026
A8: Provision for Dep'n (MV) | D8: 7574 | P8: 7574 | R8: 1605 | V8: =P8+R8 -> 9179
A9: Stock at 1-1-2021 | C9: 13481 | O9: 13481 | S9: 13481
A10: Trade Debtors | C10: 11583 | E10: 25914 | J10: 10518 | O10: =C10+E10-J10 -> 26979 | U10: 26979
A11: Trade Creditors | D11: 2896 | H11: 47343 | K11: 3622 | P11: =D11+H11-K11 -> 46617 | V11: 46617
A12: Bank Current Account | C12: 4010 | I12: 34240 | L12: 9615 | O12: =C12+I12-L12 -> 28635 | U12: 28635
A13: Cash in Hand | C13: 675 | O13: 675 | U13: 675
A14: Capital | D14: 44161 | J14: 12000 | P14: 56161 | V14: 56161
A15: VAT Control Account | D15: 2005 | F15: 4319 | G15: 7853 | J15: 1990 | K15: =230+2005 -> 2235 | M15: 28 | O15: 1802 | U15: 1802
A16: Accrued Telephone | R16: 60 | V16: 60
A17: Bank loan | D17: 15741 | P17: 15741 | V17: 15741
A18: Fixtures and Equipment | C18: 25394 | G18: 6400 | O18: 31794 | U18: 31794
A19: Provision for Dep'n (F&E) | D19: 9578 | P19: 9578 | R19: 448 | V19: =P19+R19 -> 10026
A20: Accrued Gas | R20: 240 | V20: 240
A21: Accrued Electricity | R21: 120 | V21: 120
A22: Insurance | K22: 2200 | O22: 2200 | R22: 1650 | S22: =O22-R22 -> 550
A23: Legal Fees | K23: 1050 | O23: 1050 | S23: 1050
A24: Telephone | D24: 134 | G24: 440 | O24: 440 | P24: 134 | Q24: 60 | S24: =O24+Q24-P24 -> 366
A25: Gas | D25: 119 | G25: 300 | O25: 300 | P25: 119 | Q25: 240 | S25: =O25+Q25-P25 -> 421
A26: Sales | F26: 21595 | J26: 9950 | P26: =F26+J26 -> 31545 | T26: 31545
A27: Purchases | G27: 17500 | O27: 17500 | R27: 220 | S27: 17500 | T27: 220
A28: Discount Allowed | I28: 218 | O28: 218 | S28: 218
A29: Discount Received | L29: 329 | P29: 329 | T29: 329
A30: Advertising | M30: 140 | O30: 140 | S30: 140
A31: Petty Cash | K31: 437 | N31: 308 | O31: =K31-N31 -> 129 | U31: 129
A32: Electricity | D32: 111 | K32: 400 | O32: 400 | P32: 111 | Q32: 120 | S32: =O32+Q32-P32 -> 409
A33: Stationery | M33: 140 | O33: 140 | S33: 140
A35: Dep'n Exp(FP) | Q35: 448 | S35: 448
A36: Dep'n Exp(MV) | Q36: 1605 | S36: 1605
A37: Closing Stock (B/S) | Q37: 15840 | U37: 15840
A38: Closing Stock (P&L) | R38: 15840 | T38: 15840
A39: Accrued rent | R39: 450 | V39: 450
A40: Prepayments | Q40: 1650 | U40: 1650
A41: Drawings | Q41: 220 | U41: 220
A42: Rent | Q42: 450 | S42: 450
A43: Profit for the Period | S43: 11156 | V43: 11156
C44: =SUM(C7:C43) -> 82319 | D44: =SUM(D7:D43) -> 82319 | E44: =SUM(E7:E43) -> 25914 | F44: =SUM(F7:F43) -> 25914 | G44: =SUM(G7:G43) -> 47343 | H44: =SUM(H7:H43) -> 47343 | I44: =SUM(I7:I43) -> 34458 | J44: =SUM(J7:J43) -> 34458 | ... V44: =SUM(V7:V43) -> 149750

Sheet Adjustments
A3: Adjustment workings
A5: 1. Straight line depreciation of motor vehicle
B7: Cost = 27,176
B8: 20% of 27,176 = 5,435.20
B9: 5,435.20 / 12 = 452
B10: 452 x 3 = 1,358
B13: Cost = 14,850
B14: 20% of 14,850 = 2,970
B15: 2,970 / 12 = 247
B17: 1,358 + 247 = 1,605
A20: Total depreciation = | B20: 1605
A22: Reducing balance depreciation of Fixtures and fittings
B24: Cost = 25,394 - 9,578 = 15,816
B25: 10 % of 15,816 = 1,581
B26: 1,581 / 12 x 3 = 395
B28: 10 % of 6,400 = 640
B29: 640 / 12 x 3 = 53
A30: Total depreciation = | B30: 395 + 53 = 448
A32: 2. Rent
B33: 1800 / 12 = 150
B34: 150 X 3 = 450
A35: 3. Drawings
B36: Debit drawings = 220
B37: Credit purchases = 220
A40: 4. Accrued Expenses
B41: Debit Gas = 240
B42: Credit accrued gas= 240
B44: Debit telephone = 60
B45: Credit accrued telephone= 60
B47: Debit electricity = 120
B48: Credit accrued electricity = 120
A51: 5. Closing stock
A54: 6. Insurance Premium
B55: Prepaid expense = 2,200 x 9/12 = 1,650
B57: 3 months relating to current year end and 9 months prepaid.
B59: Debit prepaid expense = 1650
B60: Credit Insurance = 1650

Sheet SDB
A1: SALES DAY BOOK
A6: Date | B6: Customer | E6: Total | F6: VAT | G6: Net
E8: £ | F8: £ | G8: £
A10: 44202 | B10: Black | E10: 12474 | F10: 2079 | G10: 10395
A11: 44209 | B11: Orange | E11: 5568 | F11: 928 | G11: 4640
A12: 44255 | B12: Silver | E12: 1440 | F12: 240 | G12: 1200
A13: 44255 | B13: Orange | E13: 2940 | F13: 490 | G13: 2450
A14: 44278 | B14: Black | E14: 3492 | F14: 582 | G14: 2910
E15: =SUM(E10:E14) -> 25914 | F15: =SUM(F10:F14) -> 4319 | G15: =SUM(G10:G14) -> 21595
E18: DR | F18: Debtors | G18: 25914
E20: CR | F20: Sales | G20: 21595
F21: VAT a/c | G21: 4319

Sheet PDB
A1: PURCHASE DAY BOOK
A6: Date | B6: Narrative | D6: Total | E6: VAT | F6: Equipment at Cost | G6: Vehicle Cost | H6: Purchases | I6: Telephone | J6: Gas
D8: £ | E8: £ | H8: £ | I8: £
A10: 44202 | B10: White | D10: 7488 | E10: 1248 | H10: 6240
A11: 44227 | B11: Telephone | D11: 528 | E11: 88 | I11: 440
A12: 44227 | B12: Gas | D12: 315 | E12: 15 | J12: 300
A13: 44264 | B13: Equipment at Cost | D13: 7680 | E13: 1280 | F13: 6400
A14: 44268 | B14: Yellow | D14: 5736 | E14: 956 | H14: 4780
A15: 44271 | B15: White | D15: 7776 | E15: 1296 | H15: 6480
A16: 44281 | B16: Vehicle Cost | D16: 17820 | E16: 2970 | G16: 14850
D17: =SUM(D10:D16) -> 47343 | E17: =SUM(E10:E16) -> 7853 | F17: 6400 | H17: =SUM(H10:H16) -> 17500 | I17: =SUM(I10:I13) -> 440 | J17: =SUM(J10:J13) -> 300
D21: DR | E21: Purchases | F21: 17500
E22: Telephone | F22: 440
E23: VAT a/c | F23: 7853
E24: Gas | F24: 300
E25: Vehicle | F25: 14850
E26: Equip at Cost | F26: 6400
D28: CR | E28: Creditors | F28: 47343

Sheet CBP
A1: CASH BOOK (Payments)
A6: Date | B6: Narrative | D6: Total | E6: VAT | F6: To | G6: Insurance | H6: Petty | I6: Electricity | J6: Legal Fees | K6: Discount
F7: Creditors | H7: Cash | K7: Received
D8: £ | E8: £ | F8: £ | H8: £
A10: 44209 | B10: Grey | D10: 700 | F10: 700
A11: 44209 | B11: Insurance | D11: 2200 | G11: 2200
A12: 44227 | B12: HM Customs | D12: 2005 | G12: 2005
A13: 44230 | B13: Electricity | D13: 420 | E13: 20 | I13: 400
A14: 44237 | B14: Legal Fees | D14: 1260 | E14: 210 | J14: 1050
A15: 44237 | B15: Payment of Telephone | D15: 528 | F15: 528
A16: 44237 | B16: Payment of Gas | D16: 315 | F16: 315
A17: 44255 | B17: Yellow | D17: 250 | F17: 250 | K17: 32
A18: 44264 | B18: White | D18: 1500 | F18: 1500 | K18: 297
A19: 44282 | B19: Petty Cash Top Up | D19: 437 | H19: 437
D20: =SUM(D10:D19) -> 9615 | E20: =SUM(E10:E18) -> 230 | F20: =SUM(F10:F18) -> 3293 | H20: =SUM(H10:H19) -> 437 | I20: =SUM(I10:I16) -> 400 | J20: =SUM(J10:J16) -> 1050 | K20: =SUM(K10:K18) -> 329
D23: DR | E23: VAT a/c | F23: 230 | K23: DR | L23: Creditors | N23: 329
E24: Creditors | F24: 3293
E25: Petty Cash | F25: 437 | K25: CR | L25: Discount Received | N25: 329
E26: Insurance | F26: 2200
E27: Electricty | F27: 400
E28: Legal Fees | F28: 1050
E29: HMRC | F29: 2005
D31: CR | E31: Bank | F31: =7610+F29 -> 9615

Sheet CBR
A1: CASH BOOK (Receipts)
A6: Date | B6: Narrative | E6: Total | F6: VAT | G6: From | H6: Sales | I6: Disposals | J6: Capital | L6: Discount
G7: Debtors | L7: Allowed
E8: £ | F8: £ | G8: £ | H8: £ | I8: £ | L8: £
A10: 41280 | B10: Cash Sales | E10: 4812 | F10: 802 | H10: 4010
A11: 44205 | B11: Claret | E11: 2900 | G11: 2900 | L11: 218
A12: 44206 | B12: Black | E12: 2400 | G12: 2400
A13: 44255 | B13: Capital Injected | E13: 12000 | J13: 12000
A14: 44257 | B14: Orange | E14: 5000 | G14: 5000
A15: 44257 | B15: Cash Sales | E15: 5346 | F15: 891 | H15: 4455
A16: 44264 | B16: Cash Sales | E16: 1782 | F16: 297 | H16: 1485
E17: =SUM(E10:E16) -> 34240 | F17: =SUM(F10:F16) -> 1990 | G17: =SUM(G10:G16) -> 10300 | H17: =SUM(H10:H16) -> 9950 | I17: =SUM(I10:I14) -> 0 | J17: =SUM(J10:J14) -> 12000 | L17: =SUM(L10:L14) -> 218
E20: DR | F20: Bank | G20: 34240 | L20: DR | M20: Discount Allowed | P20: 218
E22: CR | F22: VAT a/c | G22: 1990 | L22: CR | M22: Debtors | P22: 218
F23: Debtors | G23: 10300
F24: Sales | G24: 9950
F25: Capital | G25: 12000

Sheet PCB
A1: PETTY CASH BOOK
A6: Receipts | B6: Narrative | C6: Date | D6: Total | E6: VAT | F6: Advertising | G6: Stamps
B8: Stamps | C8: 44202 | D8: 70 | E8: 0 | G8: 70
B9: Advertising | C9: 44227 | D9: 168 | E9: 28 | F9: 140
B10: Stamps | C10: 44230 | D10: 70 | E10: 0 | G10: 70
D13: 308 | E13: =SUM(E8:E12) -> 28 | F13: =SUM(F8:F12) -> 140 | G13: =SUM(G8:G12) -> 140
B15: Bal b/f | C15: 44227
B16: Bank | C16: 44227
D19: DR | E19: Stamps | F19: 140
E20: Advertising | F20: 140
E21: VAT a/c | F21: 28
D22: CR
E23: Petty Cash | F23: 308

Sheet Accounts
A2: Balance Sheet at 31st March 2021
G5: Provision
F6: Cost | G6: for Dep'n | H6: NBV
F7: £ | G7: £ | H7: £
A8: Non Current Assets
A9: Fixtures & Equipment | F9: ='Blank spreadsheet'!U18 -> 31794 | G9: ='Blank spreadsheet'!V19 -> 10026 | H9: =F9-G9 -> 21768
A10: Motor Vehicles | F10: ='Blank spreadsheet'!U7 -> 42026 | G10: ='Blank spreadsheet'!V8 -> 9179 | H10: =F10-G10 -> 32847
H11: =H9+H10 -> 54615
A13: Current Assets
A14: Stock | F14: ='Blank spreadsheet'!U37 -> 15840
A15: Trade Debtors | F15: ='Blank spreadsheet'!U10 -> 26979
A16: Prepayments | F16: ='Blank spreadsheet'!U40 -> 1650
A17: Bank Current Account | F17: ='Blank spreadsheet'!U12 -> 28635
A18: Cash in Hand | F18: ='Blank spreadsheet'!U13 -> 675
A19: Petty Cash | F19: ='Blank spreadsheet'!U31 -> 129
A20: VAT | F20: ='Blank spreadsheet'!U15 -> 1802
G22: =SUM(F14:F20) -> 75710
A24: Current Liabilities
A25: Trade Creditors | F25: ='Blank spreadsheet'!V11 -> 46617
A26: Accruals | F26: ='Blank spreadsheet'!V16+'Blank spreadsheet'!V20+'Blank spreadsheet'!V21+'Blank spreadsheet'!V39 -> 870
G28: =SUM(F25:F26) -> 47487
A29: Net Current Assets | H29: =G22-G28 -> 28223
A32: Non - Current Liabilities
A33: Bank Loan | H33: ='Blank spreadsheet'!V17 -> 15741
A36: Net Assets | H36: =H11+H29-H33 -> 67097
A38: Represented by :
A40: Capital | H40: ='Blank spreadsheet'!V14 -> 56161
A41: Profit for the year | H41: ='Blank spreadsheet'!V43 -> 11156
A42: less : Drawings | H42: =-'Blank spreadsheet'!U41 -> -220
H44: =SUM(H40:H43) -> 67097
A47: Trading and Profit and Loss Account for the
A48: month ended 31st March 2021
A52: Sales | H52: ='Blank spreadsheet'!T26 -> 31545
A54: less : cost of goods sold
A55: Opening Stock | H55: ='Blank spreadsheet'!S9 -> 13481
A56: Purchases | H56: ='Blank spreadsheet'!S27 -> 17500
A57: Less: Goods drawn by proprietor | H57: -220
A58: less : Closing Stock | H58: =-'Blank spreadsheet'!T38 -> -15840
H60: =SUM(H55:H58) -> 14921
A62: Gross Profit | H62: =H52-H60 -> 16624
...
