Workbook

Sheet Vehicle Data
B1: https://www.press.renault.co.uk/assets/documents/original/15645-AllNewM%C3%A9ganeRSPressKitApril20191.pdf
B2: Kerb Mass (kg) | C2: 1419 | D2: Gross Vehicle Weight (kg) | E2: 1899
B3: Test Mass (kg) | C3: =((E2-(C2+100))*0.15)+C2+100 -> 1576
B4: Frontal area (m) | C4: =E4*G4*0.84 -> 2.2746612 | D4: Overall width without door mirrors (m) | E4: 1.874 | F4: Unladen height (m) | G4: 1.445
B5: Rolling resistance coefficient | C5: 0.012
B6: Coefficient of aerodynamic drag | C6: =C7/C4 -> 0.34290821
B7: CdA | C7: 0.78
B8: Rolling Resistance | C8: =C5*C3*9.81 -> 185.52672
B9: Rho (ρ) | C9: 1.29

Sheet Calculations
A1: Phase | B1: Total elapsed time | C1: Phase elapsed time | D1: WLTC class 3, version 5, vehicle speed | E1: WLTC class 3, version 5, vehicle speed | F1: Cumulative Distance | G1: WLTC class 3, version 5, acceleration | H1: WLTC class 3, version 5, acceleration | I1: Rolling Resistance | J1: Aerodynamic Resistance | K1: Acceleration Resistance | L1: Total Resistance | M1: Tractive Energy | N1: Cumulative Tractive Energy | O1: Cumulative Tractive Energy | P1: Braking Energy | Q1: Cumulative Braking Energy | R1: Cumulative Braking Energy | S1: Total Energy Required | T1: Tractive Power Required | U1: Kinetic Energy | V1: Recoverable Energy | W1: Cumulative Recoverable Energy
A2: Phase | B2: s | C2: s | D2: km/h | E2: m/s | F2: m | G2: m/s² | H2: km/h/s | I2: N | J2: N | K2: N | L2: N | M2: J | N2: J | O2: kWh | P2: J | Q2: J | R2: kWh | S2: J | T2: kW | U2: kJ | V2: kJ | W2: kWh
A3: Low | B3: 0 | C3: 0 | D3: 0 | E3: =D3/3.6 -> 0 | F3: =E3 -> 0 | G3: =D3/2/3.6 -> 0 | H3: =($G4-0)/2 -> 0 | I3: ='Vehicle Data'!$C$8 -> 185.52672 | J3: =0.5*'Vehicle Data'!$C$4*'Vehicle Data'!$C$9*'Vehicle Data'!$C$6*(Calculations!E3^2) -> 0 | K3: ='Vehicle Data'!$C$3*G3 -> 0 | L3: =SUM(I3:K3) -> 185.52672 | M3: =IF(G3>0,L3*E3,0) -> 0 | N3: =M3 -> 0 | O3: =N3/3600000 -> 0 | P3: =IF(G3<0,E3*L3,0) -> 0 | Q3: =SUMIF(P$3:P3, "<0") -> 0 | R3: =Q3/3600000*-1 -> 0 | S3: =IF(M3>0,M3,P3) -> 0 | T3: =L3*E3/1000 -> 0 | U3: =(0.5*'Vehicle Data'!$C$3*(E3^2))/1000 -> 0 | V3: =IF(U3>0,U3,0) -> 0 | W3: =SUM(V$3:V3)/3600 -> 0
A4: Low | B4: 1 | C4: 1 | D4: 0 | E4: =D4/3.6 -> 0 | F4: =SUM(E$3:E4) -> 0 | G4: =($D5-$D3)/2/3.6 -> 0 | H4: =($G5-$G3)/2 -> 0 | I4: ='Vehicle Data'!$C$8 -> 185.52672 | J4: =0.5*'Vehicle Data'!$C$4*'Vehicle Data'!$C$9*'Vehicle Data'!$C$6*(Calculations!E4^2) -> 0 | K4: ='Vehicle Data'!$C$3*G4 -> 0 | L4: =SUM(I4:K4) -> 185.52672 | M4: =IF(G4>0,L4*E4,0) -> 0 | N4: =SUM(M$3:M4) -> 0 | O4: =N4/3600000 -> 0 | P4: =IF(G4<0,E4*L4,0) -> 0 | Q4: =SUMIF(P$3:P4, "<0") -> 0 | R4: =Q4/3600000*-1 -> 0 | S4: =IF(M4>0,M4,P4) -> 0 | T4: =L4*E4/1000 -> 0 | U4: =(0.5*'Vehicle Data'!$C$3*(E4^2-E3^2))/1000 -> 0 | V4: =IF(U3-U4>0,(U3-U4)*0.8,0) -> 0 | W4: =SUM(V$3:V4)/3600 -> 0
A5: Low | B5: 2 | C5: 2 | D5: 0 | E5: =D5/3.6 -> 0 | F5: =SUM(E$3:E5) -> 0 | G5: =($D6-$D4)/2/3.6 -> 0 | H5: =($G6-$G4)/2 -> 0 | I5: ='Vehicle Data'!$C$8 -> 185.52672 | J5: =0.5*'Vehicle Data'!$C$4*'Vehicle Data'!$C$9*'Vehicle Data'!$C$6*(Calculations!E5^2) -> 0 | K5: ='Vehicle Data'!$C$3*G5 -> 0 | L5: =SUM(I5:K5) -> 185.52672 | M5: =IF(G5>0,L5*E5,0) -> 0 | N5: =SUM(M$3:M5) -> 0 | O5: =N5/3600000 -> 0 | P5: =IF(G5<0,E5*L5,0) -> 0 | Q5: =SUMIF(P$3:P5, "<0") -> 0 | R5: =Q5/3600000*-1 -> 0 | S5: =IF(M5>0,M5,P5) -> 0 | T5: =L5*E5/1000 -> 0 | U5: =(0.5*'Vehicle Data'!$C$3*(E5^2-E4^2))/1000 -> 0 | V5: =IF(U4-U5>0,(U4-U5)*0.8,0) -> 0 | W5: =SUM(V$3:V5)/3600 -> 0
A6: Low | B6: 3 | C6: 3 | D6: 0 | E6: =D6/3.6 -> 0 | F6: =SUM(E$3:E6) -> 0 | G6: =($D7-$D5)/2/3.6 -> 0 | H6: =($G7-$G5)/2 -> 0 | I6: ='Vehicle Data'!$C$8 -> 185.52672 | J6: =0.5*'Vehicle Data'!$C$4*'Vehicle Data'!$C$9*'Vehicle Data'!$C$6*(Calculations!E6^2) -> 0 | K6: ='Vehicle Data'!$C$3*G6 -> 0 | L6: =SUM(I6:K6) -> 185.52672 | M6: =IF(G6>0,L6*E6,0) -> 0 | N6: =SUM(M$3:M6) -> 0 | O6: =N6/3600000 -> 0 | P6: =IF(G6<0,E6*L6,0) -> 0 | Q6: =SUMIF(P$3:P6, "<0") -> 0 | R6: =Q6/3600000*-1 -> 0 | S6: =IF(M6>0,M6,P6) -> 0 | T6: =L6*E6/1000 -> 0 | U6: =(0.5*'Vehicle Data'!$C$3*(E6^2-E5^2))/1000 -> 0 | V6: =IF(U5-U6>0,(U5-U6)*0.8,0) -> 0 | W6: =SUM(V$3:V6)/3600 -> 0
A7: Low | B7: 4 | C7: 4 | D7: 0 | E7: =D7/3.6 -> 0 | F7: =SUM(E$3:E7) -> 0 | G7: =($D8-$D6)/2/3.6 -> 0 | H7: =($G8-$G6)/2 -> 0 | I7: ='Vehicle Data'!$C$8 -> 185.52672 | J7: =0.5*'Vehicle Data'!$C$4*'Vehicle Data'!$C$9*'Vehicle Data'!$C$6*(Calculations!E7^2) -> 0 | K7: ='Vehicle Data'!$C$3*G7 -> 0 | L7: =SUM(I7:K7) -> 185.52672 | M7: =IF(G7>0,L7*E7,0) -> 0 | N7: =SUM(M$3:M7) -> 0 | O7: =N7/3600000 -> 0 | P7: =IF(G7<0,E7*L7,0) -> 0 | Q7: =SUMIF(P$3:P7, "<0") -> 0 | R7: =Q7/3600000*-1 -> 0 | S7: =IF(M7>0,M7,P7) -> 0 | T7: =L7*E7/1000 -> 0 | U7: =(0.5*'Vehicle Data'!$C$3*(E7^2-E6^2))/1000 -> 0 | V7: =IF(U6-U7>0,(U6-U7)*0.8,0) -> 0 | W7: =SUM(V$3:V7)/3600 -> 0
A8: Low | B8: 5 | C8: 5 | D8: 0 | E8: =D8/3.6 -> 0 | F8: =SUM(E$3:E8) -> 0 | G8: =($D9-$D7)/2/3.6 -> 0 | H8: =($G9-$G7)/2 -> 0 | I8: ='Vehicle Data'!$C$8 -> 185.52672 | J8: =0.5*'Vehicle Data'!$C$4*'Vehicle Data'!$C$9*'Vehicle Data'!$C$6*(Calculations!E8^2) -> 0 | K8: ='Vehicle Data'!$C$3*G8 -> 0 | L8: =SUM(I8:K8) -> 185.52672 | M8: =IF(G8>0,L8*E8,0) -> 0 | N8: =SUM(M$3:M8) -> 0 | O8: =N8/3600000 -> 0 | P8: =IF(G8<0,E8*L8,0) -> 0 | Q8: =SUMIF(P$3:P8, "<0") -> 0 | R8: =Q8/3600000*-1 -> 0 | S8: =IF(M8>0,M8,P8) -> 0 | T8: =L8*E8/1000 -> 0 | U8: =(0.5*'Vehicle Data'!$C$3*(E8^2-E7^2))/1000 -> 0 | V8: =IF(U7-U8>0,(U7-U8)*0.8,0) -> 0 | W8: =SUM(V$3:V8)/3600 -> 0
A9: Low | B9: 6 | C9: 6 | D9: 0 | E9: =D9/3.6 -> 0 | F9: =SUM(E$3:E9) -> 0 | G9: =($D10-$D8)/2/3.6 -> 0 | H9: =($G10-$G8)/2 -> 0 | I9: ='Vehicle Data'!$C$8 -> 185.52672 | J9: =0.5*'Vehicle Data'!$C$4*'Vehicle Data'!$C$9*'Vehicle Data'!$C$6*(Calculations!E9^2) -> 0 | K9: ='Vehicle Data'!$C$3*G9 -> 0 | L9: =SUM(I9:K9) -> 185.52672 | M9: =IF(G9>0,L9*E9,0) -> 0 | N9: =SUM(M$3:M9) -> 0 | O9: =N9/3600000 -> 0 | P9: =IF(G9<0,E9*L9,0) -> 0 | Q9: =SUMIF(P$3:P9, "<0") -> 0 | R9: =Q9/3600000*-1 -> 0 | S9: =IF(M9>0,M9,P9) -> 0 | T9: =L9*E9/1000 -> 0 | U9: =(0.5*'Vehicle Data'!$C$3*(E9^2-E8^2))/1000 -> 0 | V9: =IF(U8-U9>0,(U8-U9)*0.8,0) -> 0 | W9: =SUM(V$3:V9)/3600 -> 0
A10: Low | B10: 7 | C10: 7 | D10: 0 | E10: =D10/3.6 -> 0 | F10: =SUM(E$3:E10) -> 0 | G10: =($D11-$D9)/2/3.6 -> 0 | H10: =($G11-$G9)/2 -> 0 | I10: ='Vehicle Data'!$C$8 -> 185.52672 | J10: =0.5*'Vehicle Data'!$C$4*'Vehicle Data'!$C$9*'Vehicle Data'!$C$6*(Calculations!E10^2) -> 0 | K10: ='Vehicle Data'!$C$3*G10 -> 0 | L10: =SUM(I10:K10) -> 185.52672 | M10: =IF(G10>0,L10*E10,0) -> 0 | N10: =SUM(M$3:M10) -> 0 | O10: =N10/3600000 -> 0 | P10: =IF(G10<0,E10*L10,0) -> 0 | Q10: =SUMIF(P$3:P10, "<0") -> 0 | R10: =Q10/3600000*-1 -> 0 | S10: =IF(M10>0,M10,P10) -> 0 | T10: =L10*E10/1000 -> 0 | U10: =(0.5*'Vehicle Data'!$C$3*(E10^2-E9^2))/1000 -> 0 | V10: =IF(U9-U10>0,(U9-U10)*0.8,0) -> 0 | W10: =SUM(V$3:V10)/3600 -> 0
A11: Low | B11: 8 | C11: 8 | D11: 0 | E11: =D11/3.6 -> 0 | F11: =SUM(E$3:E11) -> 0 | G11: =($D12-$D10)/2/3.6 -> 0 | H11: =($G12-$G10)/2 -> 0 | I11: ='Vehicle Data'!$C$8 -> 185.52672 | J11: =0.5*'Vehicle Data'!$C$4*'Vehicle Data'!$C$9*'Vehicle Data'!$C$6*(Calculations!E11^2) -> 0 | K11: ='Vehicle Data'!$C$3*G11 -> 0 | L11: =SUM(I11:K11) -> 185.52672 | M11: =IF(G11>0,L11*E11,0) -> 0 | N11: =SUM(M$3:M11) -> 0 | O11: =N11/3600000 -> 0 | P11: =IF(G11<0,E11*L11,0) -> 0 | Q11: =SUMIF(P$3:P11, "<0") -> 0 | R11: =Q11/3600000*-1 -> 0 | S11: =IF(M11>0,M11,P11) -> 0 | T11: =L11*E11/1000 -> 0 | U11: =(0.5*'Vehicle Data'!$C$3*(E11^2-E10^2))/1000 -> 0 | V11: =IF(U10-U11>0,(U10-U11)*0.8,0) -> 0 | W11: =SUM(V$3:V11)/3600 -> 0
A12: Low | B12: 9 | C12: 9 | D12: 0 | E12: =D12/3.6 -> 0 | F12: =SUM(E$3:E12) -> 0 | G12: =($D13-$D11)/2/3.6 -> 0 | H12: =($G13-$G11)/2 -> 0 | I12: ='Vehicle Data'!$C$8 -> 185.52672 | J12: =0.5*'Vehicle Data'!$C$4*'Vehicle Data'!$C$9*'Vehicle Data'!$C$6*(Calculations!E12^2) -> 0 | K12: ='Vehicle Data'!$C$3*G12 -> 0 | L12: =SUM(I12:K12) -> 185.52672 | M12: =IF(G12>0,L12*E12,0) -> 0 | N12: =SUM(M$3:M12) -> 0 | O12: =N12/3600000 -> 0 | P12: =IF(G12<0,E12*L12,0) -> 0 | Q12: =SUMIF(P$3:P12, "<0") -> 0 | R12: =Q12/3600000*-1 -> 0 | S12: =IF(M12>0,M12,P12) -> 0 | T12: =L12*E12/1000 -> 0 | U12: =(0.5*'Vehicle Data'!$C$3*(E12^2-E11^2))/1000 -> 0 | V12: =IF(U11-U12>0,(U11-U12)*0.8,0) -> 0 | W12: =SUM(V$3:V12)/3600 -> 0
A13: Low | B13: 10 | C13: 10 | D13: 0 | E13: =D13/3.6 -> 0 | F13: =SUM(E$3:E13) -> 0 | G13: =($D14-$D12)/2/3.6 -> 0 | H13: =($G14-$G12)/2 -> 0.013888889 | I13: ='Vehicle Data'!$C$8 -> 185.52672 | J13: =0.5*'Vehicle Data'!$C$4*'Vehicle Data'!$C$9*'Vehicle Data'!$C$6*(Calculations!E13^2) -> 0 | K13: ='Vehicle Data'!$C$3*G13 -> 0 | L13: =SUM(I13:K13) -> 185.52672 | M13: =IF(G13>0,L13*E13,0) -> 0 | N13: =SUM(M$3:M13) -> 0 | O13: =N13/3600000 -> 0 | P13: =IF(G13<0,E13*L13,0) -> 0 | Q13: =SUMIF(P$3:P13, "<0") -> 0 | R13: =Q13/3600000*-1 -> 0 | S13: =IF(M13>0,M13,P13) -> 0 | T13: =L13*E13/1000 -> 0 | U13: =(0.5*'Vehicle Data'!$C$3*(E13^2-E12^2))/1000 -> 0 | V13: =IF(U12-U13>0,(U12-U13)*0.8,0) -> 0 | W13: =SUM(V$3:V13)/3600 -> 0
A14: Low | B14: 11 | C14: 11 | D14: 0 | E14: =D14/3.6 -> 0 | F14: =SUM(E$3:E14) -> 0 | G14: =($D15-$D13)/2/3.6 -> 0.027777778 | H14: =($G15-$G13)/2 -> 0.11805556 | I14: ='Vehicle Data'!$C$8 -> 185.52672 | J14: =0.5*'Vehicle Data'!$C$4*'Vehicle Data'!$C$9*'Vehicle Data'!$C$6*(Calculations!E14^2) -> 0 | K14: ='Vehicle Data'!$C$3*G14 -> 43.777778 | L14: =SUM(I14:K14) -> 229.3045 | M14: =IF(G14>0,L14*E14,0) -> 0 | N14: =SUM(M$3:M14) -> 0 | O14: =N14/3600000 -> 0 | P14: =IF(G14<0,E14*L14,0) -> 0 | Q14: =SUMIF(P$3:P14, "<0") -> 0 | R14: =Q14/3600000*-1 -> 0 | S14: =IF(M14>0,M14,P14) -> 0 | T14: =L14*E14/1000 -> 0 | U14: =(0.5*'Vehicle Data'!$C$3*(E14^2-E13^2))/1000 -> 0 | V14: =IF(U13-U14>0,(U13-U14)*0.8,0) -> 0 | W14: =SUM(V$3:V14)/3600 -> 0
A15: Low | B15: 12 | C15: 12 | D15: 0.2 | E15: =D15/3.6 -> 0.055555556 | F15: =SUM(E$3:E15) -> 0.055555556 | G15: =($D16-$D14)/2/3.6 -> 0.23611111 | H15: =($G16-$G14)/2 -> 0.34722222 | I15: ='Vehicle Data'!$C$8 -> 185.52672 | J15: =0.5*'Vehicle Data'!$C$4*'Vehicle Data'!$C$9*'Vehicle Data'!$C$6*(Calculations!E15^2) -> 0.0015527778 | K15: ='Vehicle Data'!$C$3*G15 -> 372.11111 | L15: =SUM(I15:K15) -> 557.63938 | M15: =IF(G15>0,L15*E15,0) -> 30.979966 | N15: =SUM(M$3:M15) -> 30.979966 | O15: =N15/3600000 -> 8.605546e-06 | P15: =IF(G15<0,E15*L15,0) -> 0 | Q15: =SUMIF(P$3:P15, "<0") -> 0 | R15: =Q15/3600000*-1 -> 0 | S15: =IF(M15>0,M15,P15) -> 30.979966 | T15: =L15*E15/1000 -> 0.030979966 | U15: =(0.5*'Vehicle Data'!$C$3*(E15^2-E14^2))/1000 -> 0.0024320988 | V15: =IF(U14-U15>0,(U14-U15)*0.8,0) -> 0 | W15: =SUM(V$3:V15)/3600 -> 0
... A906: Middle | B906: 903 | C906: 314 | D906: 54.6 | E906: =D906/3.6 -> 15.166667 | F906: =SUM(E$3:E906) -> 6801.75 | G906: =($D907-$D905)/2/3.6 -> -1.4444444 | H906: =($G907-$G905)/2 -> -0.23611111 | I906: ='Vehicle Data'!$C$8 -> 185.52672 | J906: =0.5*'Vehicle Data'!$C$4*'Vehicle Data'!$C$9*'Vehicle Data'!$C$6*(Calculations!E906^2) -> 115.72697 | K906: ='Vehicle Data'!$C$3*G906 -> -2276.4444 | L906: =SUM(I906:K906) -> -1975.1907 | M906: =IF(G906>0,L906*E906,0) -> 0 | N906: =SUM(M$3:M906) -> 3173780.9 | O906: =N906/3600000 -> 0.8816058 | P906: =IF(G906<0,E906*L906,0) -> -29957.06 | Q906: =SUMIF(P$3:P906, "<0") -> -1375148.7 | R906: =Q906/3600000*-1 -> 0.38198576 | S906: =IF(M906>0,M906,P906) -> -29957.06 | T906: =L906*E906/1000 -> -29.95706 | U906: =(0.5*'Vehicle Data'!$C$3*(E906^2-E905^2))/1000 -> -35.443583 | V906: =IF(U905-U906>0,(U905-U906)*0.8,0) -> 21.3154 | W906: =SUM(V$3:V906)/3600 -> 0.20071854
A907: Middle | B907: 904 | C907: 315 | D907: 49.3 | E907: =D907/3.6 -> 13.694444 | F907: =SUM(E$3:E907) -> 6815.4444 | G907: =($D908-$D906)/2/3.6 -> -1.3472222 | H907: =($G908-$G906)/2 -> 0.23611111 | I907: ='Vehicle Data'!$C$8 -> 185.52672 | J907: =0.5*'Vehicle Data'!$C$4*'Vehicle Data'!$C$9*'Vehicle Data'!$C$6*(Calculations!E907^2) -> 94.350272 | K907: ='Vehicle Data'!$C$3*G907 -> -2123.2222 | L907: =SUM(I907:K907) -> -1843.3452 | M907: =IF(G907>0,L907*E907,0) -> 0 | N907: =SUM(M$3:M907) -> 3173780.9 | O907: =N907/3600000 -> 0.8816058 | P907: =IF(G907<0,E907*L907,0) -> -25243.589 | Q907: =SUMIF(P$3:P907, "<0") -> -1400392.3 | R907: =Q907/3600000*-1 -> 0.38899787 | S907: =IF(M907>0,M907,P907) -> -25243.589 | T907: =L907*E907/1000 -> -25.243589 | U907: =(0.5*'Vehicle Data'!$C$3*(E907^2-E906^2))/1000 -> -33.482096 | V907: =IF(U906-U907>0,(U906-U907)*0.8,0) -> 0 | W907: =SUM(V$3:V907)/3600 -> 0.20071854 | X907: =SUM(T907-T906)+2.67 -> 7.3834708
A908: Middle | B908: 905 | C908: 316 | D908: 44.9 | E908: =D908/3.6 -> 12.472222 | F908: =SUM(E$3:E908) -> 6827.9167 | G908: =($D909-$D907)/2/3.6 -> -0.97222222 | H908: =($G909-$G907)/2 -> 0.43055556 | I908: ='Vehicle Data'!$C$8 -> 185.52672 | J908: =0.5*'Vehicle Data'!$C$4*'Vehicle Data'!$C$9*'Vehicle Data'!$C$6*(Calculations!E908^2) -> 78.260388 | K908: ='Vehicle Data'!$C$3*G908 -> -1532.2222 | L908: =SUM(I908:K908) -> -1268.4351 | M908: =IF(G908>0,L908*E908,0) -> 0 | N908: =SUM(M$3:M908) -> 3173780.9 | O908: =N908/3600000 -> 0.8816058 | P908: =IF(G908<0,E908*L908,0) -> -15820.205 | Q908: =SUMIF(P$3:P908, "<0") -> -1416212.5 | R908: =Q908/3600000*-1 -> 0.39339237 | S908: =IF(M908>0,M908,P908) -> -15820.205 | T908: =L908*E908/1000 -> -15.820205 | U908: =(0.5*'Vehicle Data'!$C$3*(E908^2-E907^2))/1000 -> -25.201407 | V908: =IF(U907-U908>0,(U907-U908)*0.8,0) -> 0 | W908: =SUM(V$3:V908)/3600 -> 0.20071854 | X908: =SUM(T908-T907)+2.67 -> 12.093384
A909: Middle | B909: 906 | C909: 317 | D909: 42.3 | E909: =D909/3.6 -> 11.75 | F909: =SUM(E$3:E909) -> 6839.6667 | G909: =($D910-$D908)/2/3.6 -> -0.48611111 | H909: =($G910-$G908)/2 -> 0.41666667 | I909: ='Vehicle Data'!$C$8 -> 185.52672 | J909: =0.5*'Vehicle Data'!$C$4*'Vehicle Data'!$C$9*'Vehicle Data'!$C$6*(Calculations!E909^2) -> 69.459244 | K909: ='Vehicle Data'!$C$3*G909 -> -766.11111 | L909: =SUM(I909:K909) -> -511.12515 | M909: =IF(G909>0,L909*E909,0) -> 0 | N909: =SUM(M$3:M909) -> 3173780.9 | O909: =N909/3600000 -> 0.8816058 | P909: =IF(G909<0,E909*L909,0) -> -6005.7205 | Q909: =SUMIF(P$3:P909, "<0") -> -1422218.3 | R909: =Q909/3600000*-1 -> 0.39506063 | S909: =IF(M909>0,M909,P909) -> -6005.7205 | T909: =L909*E909/1000 -> -6.0057205 | U909: =(0.5*'Vehicle Data'!$C$3*(E909^2-E908^2))/1000 -> -13.785136 | V909: =IF(U908-U909>0,(U908-U909)*0.8,0) -> 0 | W909: =SUM(V$3:V909)/3600 -> 0.20071854 | X909: =SUM(T909-T908)+2.67 -> 12.484484
A910: Middle | B910: 907 | C910: 318 | D910: 41.4 | E910: =D910/3.6 -> 11.5 | F910: =SUM(E$3:E910) -> 6851.1667 | G910: =($D911-$D909)/2/3.6 -> -0.13888889 | H910: =($G911-$G909)/2 -> 0.29166667 | I910: ='Vehicle Data'!$C$8 -> 185.52672 | J910: =0.5*'Vehicle Data'!$C$4*'Vehicle Data'!$C$9*'Vehicle Data'!$C$6*(Calculations!E910^2) -> 66.534975 | K910: ='Vehicle Data'!$C$3*G910 -> -218.88889 | L910: =SUM(I910:K910) -> 33.172806 | M910: =IF(G910>0,L910*E910,0) -> 0 | N910: =SUM(M$3:M910) -> 3173780.9 | O910: =N910/3600000 -> 0.8816058 | P910: =IF(G910<0,E910*L910,0) -> 381.48727 | Q910: =SUMIF(P$3:P910, "<0") -> -1422218.3 | R910: =Q910/3600000*-1 -> 0.39506063 | S910: =IF(M910>0,M910,P910) -> 381.48727 | T910: =L910*E910/1000 -> 0.38148727 | U910: =(0.5*'Vehicle Data'!$C$3*(E910^2-E909^2))/1000 -> -4.58025 | V910: =IF(U909-U910>0,(U909-U910)*0.8,0) -> 0 | W910: =SUM(V$3:V910)/3600 -> 0.20071854 | X910: =SUM(T910-T909)+2.67 -> 9.0572078
A911: Middle | B911: 908 | C911: 319 | D911: 41.3 | E911: =D911/3.6 -> 11.472222 | F911: =SUM(E$3:E911) -> 6862.6389 | G911: =($D912-$D910)/2/3.6 -> 0.097222222 | H911: =($G912-$G910)/2 -> 0.30555556 | I911: ='Vehicle Data'!$C$8 -> 185.52672 | J911: =0.5*'Vehicle Data'!$C$4*'Vehicle Data'!$C$9*'Vehicle Data'!$C$6*(Calculations!E911^2) -> 66.213938 | K911: ='Vehicle Data'!$C$3*G911 -> 153.22222 | L911: =SUM(I911:K911) -> 404.96288 | M911: =IF(G911>0,L911*E911,0) -> 4645.8242 | N911: =SUM(M$3:M911) -> 3178426.7 | O911: =N911/3600000 -> 0.88289631 | P911: =IF(G911<0,E911*L911,0) -> 0 | Q911: =SUMIF(P$3:P911, "<0") -> -1422218.3 | R911: =Q911/3600000*-1 -> 0.39506063 | S911: =IF(M911>0,M911,P911) -> 4645.8242 | T911: =L911*E911/1000 -> 4.6458242 | U911: =(0.5*'Vehicle Data'!$C$3*(E911^2-E910^2))/1000 -> -0.50283642 | V911: =IF(U910-U911>0,(U910-U911)*0.8,0) -> 0 | W911: =SUM(V$3:V911)/3600 -> 0.20071854 | X911: =SUM(T911-T910)+2.67 -> 6.9343369
A912: Middle | B912: 909 | C912: 320 | D912: 42.1 | E912: =D912/3.6 -> 11.694444 | F912: =SUM(E$3:E912) -> 6874.3333 | G912: =($D913-$D911)/2/3.6 -> 0.47222222 | H912: =($G913-$G911)/2 -> 0.38888889 | I912: ='Vehicle Data'!$C$8 -> 185.52672 | J912: =0.5*'Vehicle Data'!$C$4*'Vehicle Data'!$C$9*'Vehicle Data'!$C$6*(Calculations!E912^2) -> 68.803972 | K912: ='Vehicle Data'!$C$3*G912 -> 744.22222 | L912: =SUM(I912:K912) -> 998.55291 | M912: =IF(G912>0,L912*E912,0) -> 11677.522 | N912: =SUM(M$3:M912) -> 3190104.2 | O912: =N912/3600000 -> 0.88614007 | P912: =IF(G912<0,E912*L912,0) -> 0 | Q912: =SUMIF(P$3:P912, "<0") -> -1422218.3 | R912: =Q912/3600000*-1 -> 0.39506063 | S912: =IF(M912>0,M912,P912) -> 11677.522 | T912: =L912*E912/1000 -> 11.677522 | U912: =(0.5*'Vehicle Data'!$C$3*(E912^2-E911^2))/1000 -> 4.0567407 | V912: =IF(U911-U912>0,(U911-U912)*0.8,0) -> 0 | W912: =SUM(V$3:V912)/3600 -> 0.20071854 | X912: =SUM(T912-T911)+2.67 -> 9.7016974
A913: Middle | B913: 910 | C913: 321 | D913: 44.7 | E913: =D913/3.6 -> 12.416667 | F913: =SUM(E$3:E913) -> 6886.75 | G913: =($D914-$D912)/2/3.6 -> 0.875 | H913: =($G914-$G912)/2 -> 0.22916667 | I913: ='Vehicle Data'!$C$8 -> 185.52672 | J913: =0.5*'Vehicle Data'!$C$4*'Vehicle Data'!$C$9*'Vehicle Data'!$C$6*(Calculations!E913^2) -> 77.564744 | K913: ='Vehicle Data'!$C$3*G913 -> 1379 | L913: =SUM(I913:K913) -> 1642.0915 | M913: =IF(G913>0,L913*E913,0) -> 20389.302 | N913: =SUM(M$3:M913) -> 3210493.5 | O913: =N913/3600000 -> 0.89180376 | P913: =IF(G913<0,E913*L913,0) -> 0 | Q913: =SUMIF(P$3:P913, "<0") -> -1422218.3 | R913: =Q913/3600000*-1 -> 0.39506063 | S913: =IF(M913>0,M913,P913) -> 20389.302 | T913: =L913*E913/1000 -> 20.389302 | U913: =(0.5*'Vehicle Data'!$C$3*(E913^2-E912^2))/1000 -> 13.721901 | V913: =IF(U912-U913>0,(U912-U913)*0.8,0) -> 0 | W913: =SUM(V$3:V913)/3600 -> 0.20071854 | X913: =SUM(T913-T912)+2.67 -> 11.381781
A914: Middle | B914: 911 | C914: 322 | D914: 48.4 | E914: =D914/3.6 -> 13.444444 | F914: =SUM(E$3:E914) -> 6900.1944 | G914: =($D915-$D913)/2/3.6 -> 0.93055556 | H914: =($G915-$G913)/2 -> -0.13888889 | I914: ='Vehicle Data'!$C$8 -> 185.52672 | J914: =0.5*'Vehicle Data'!$C$4*'Vehicle Data'!$C$9*'Vehicle Data'!$C$6*(Calculations!E914^2) -> 90.936878 | K914: ='Vehicle Data'!$C$3*G914 -> 1466.5556 | L914: =SUM(I914:K914) -> 1743.0192 | M914: =IF(G914>0,L914*E914,0) -> 23433.924 | N914: =SUM(M$3:M914) -> 3233927.5 | O914: =N914/3600000 -> 0.89831319 | P914: =IF(G914<0,E914*L914,0) -> 0 | Q914: =SUMIF(P$3:P914, "<0") -> -1422218.3 | R914: =Q914/3600000*-1 -> 0.39506063 | S914: =IF(M914>0,M914,P914) -> 23433.924 | T914: =L914*E914/1000 -> 23.433924 | U914: =(0.5*'Vehicle Data'!$C$3*(E914^2-E913^2))/1000 -> 20.944627 | V914: =IF(U913-U914>0,(U913-U914)*0.8,0) -> 0 | W914: =SUM(V$3:V914)/3600 -> 0.20071854 | X914: =SUM(T914-T913)+2.67 -> 5.7146218 | Y914: =SUM(X907:X914) -> 74.750984
A915: Middle | B915: 912 | C915: 323 | D915: 51.4 | E915: =D915/3.6 -> 14.277778 | F915: =SUM(E$3:E915) -> 6914.4722 | G915: =($D916-$D914)/2/3.6 -> 0.59722222 | H915: =($G916-$G914)/2 -> -0.28472222 | I915: ='Vehicle Data'!$C$8 -> 185.52672 | J915: =0.5*'Vehicle Data'!$C$4*'Vehicle Data'!$C$9*'Vehicle Data'!$C$6*(Calculations!E915^2) -> 102.55942 | K915: ='Vehicle Data'!$C$3*G915 -> 941.22222 | L915: =SUM(I915:K915) -> 1229.3084 | M915: =IF(G915>0,L915*E915,0) -> 17551.792 | N915: =SUM(M$3:M915) -> 3251479.3 | O915: =N915/3600000 -> 0.90318868 | P915: =IF(G915<0,E915*L915,0) -> 0 | Q915: =SUMIF(P$3:P915, "<0") -> -1422218.3 | R915: =Q915/3600000*-1 -> 0.39506063 | S915: =IF(M915>0,M915,P915) -> 17551.792 | T915: =L915*E915/1000 -> 17.551792 | U915: =(0.5*'Vehicle Data'!$C$3*(E915^2-E914^2))/1000 -> 18.204259 | V915: =IF(U914-U915>0,(U914-U915)*0.8,0) -> 2.1922938 | W915: =SUM(V$3:V915)/3600 -> 0.20132751
A916: Middle | B916: 913 | C916: 324 | D916: 52.7 | E916: =D916/3.6 -> 14.638889 | F916: =SUM(E$3:E916) -> 6929.1111 | G916: =($D917-$D915)/2/3.6 -> 0.36111111 | H916: =($G917-$G915)/2 -> -4.9960036e-16 | I916: ='Vehicle Data'!$C$8 -> 185.52672 | J916: =0.5*'Vehicle Data'!$C$4*'Vehicle Data'!$C$9*'Vehicle Data'!$C$6*(Calculations!E916^2) -> 107.81285 | K916: ='Vehicle Data'!$C$3*G916 -> 569.11111 | L916: =SUM(I916:K916) -> 862.45069 | M916: =IF(G916>0,L916*E916,0) -> 12625.32 | N916: =SUM(M$3:M916) -> 3264104.6 | O916: =N916/3600000 -> 0.90669572 | P916: =IF(G916<0,E916*L916,0) -> 0 | Q916: =SUMIF(P$3:P916, "<0") -> -1422218.3 | R916: =Q916/3600000*-1 -> 0.39506063 | S916: =IF(M916>0,M916,P916) -> 12625.32 | T916: =L916*E916/1000 -> 12.62532 | U916: =(0.5*'Vehicle Data'!$C$3*(E916^2-E915^2))/1000 -> 8.2283981 | V916: =IF(U915-U916>0,(U915-U916)*0.8,0) -> 7.9806889 | W916: =SUM(V$3:V916)/3600 -> 0.20354437
A917: Middle | B917: 914 | C917: 325 | D917: 54 | E917: =D917/3.6 -> 15 | F917: =SUM(E$3:E917) -> 6944.1111 | G917: =($D918-$D916)/2/3.6 -> 0.59722222 | H917: =($G918-$G916)/2 -> 0.10416667 | I917: ='Vehicle Data'!$C$8 -> 185.52672 | J917: =0.5*'Vehicle Data'!$C$4*'Vehicle Data'!$C$9*'Vehicle Data'!$C$6*(Calculations!E917^2) -> 113.1975 | K917: ='Vehicle Data'!$C$3*G917 -> 941.22222 | L917: =SUM(I917:K917) -> 1239.9464 | M917: =IF(G917>0,L917*E917,0) -> 18599.197 | N917: =SUM(M$3:M917) -> 3282703.8 | O917: =N917/3600000 -> 0.91186216 | P917: =IF(G917<0,E917*L917,0) -> 0 | Q917: =SUMIF(P$3:P917, "<0") -> -1422218.3 | R917: =Q917/3600000*-1 -> 0.39506063 | S917: =IF(M917>0,M917,P917) -> 18599.197 | T917: =L917*E917/1000 -> 18.599197 | U917: =(0.5*'Vehicle Data'!$C$3*(E917^2-E916^2))/1000 -> 8.4339105 | V917: =IF(U916-U917>0,(U916-U917)*0.8,0) -> 0 | W917: =SUM(V$3:V917)/3600 -> 0.20354437
A918: Middle | B918: 915 | C918: 326 | D918: 57 | E918: =D918/3.6 -> 15.833333 | F918: =SUM(E$3:E918) -> 6959.9444 | G918: =($D919-$D917)/2/3.6 -> 0.56944444 | H918: =($G919-$G917)/2 -> -0.14583333 | I918: ='Vehicle Data'!$C$8 -> 185.52672 | J918: =0.5*'Vehicle Data'!$C$4*'Vehicle Data'!$C$9*'Vehicle Data'!$C$6*(Calculations!E918^2) -> 126.12437 | K918: ='Vehicle Data'!$C$3*G918 -> 897.44444 | L918: =SUM(I918:K918) -> 1209.0955 | M918: =IF(G918>0,L918*E918,0) -> 19144.013 | N918: =SUM(M$3:M918) -> 3301847.8 | O918: =N918/3600000 -> 0.91717994 | P918: =IF(G918<0,E918*L918,0) -> 0 | Q918: =SUMIF(P$3:P918, "<0") -> -1422218.3 | R918: =Q918/3600000*-1 -> 0.39506063 | S918: =IF(M918>0,M918,P918) -> 19144.013 | T918: =L918*E918/1000 -> 19.144013 | U918: =(0.5*'Vehicle Data'!$C$3*(E918^2-E917^2))/1000 -> 20.247222 | V918: =IF(U917-U918>0,(U917-U918)*0.8,0) -> 0 | W918: =SUM(V$3:V918)/3600 -> 0.20354437
A919: Middle | B919: 916 | C919: 327 | D919: 58.1 | E919: =D919/3.6 -> 16.138889 | F919: =SUM(E$3:E919) -> 6976.0833 | G919: =($D920-$D918)/2/3.6 -> 0.30555556 | H919: =($G920-$G918)/2 -> -0.22222222 | I919: ='Vehicle Data'!$C$8 -> 185.52672 | J919: =0.5*'Vehicle Data'!$C$4*'Vehicle Data'!$C$9*'Vehicle Data'!$C$6*(Calculations!E919^2) -> 131.0393 | K919: ='Vehicle Data'!$C$3*G919 -> 481.55556 | L919: =SUM(I919:K919) -> 798.12158 | M919: =IF(G919>0,L919*E919,0) -> 12880.796 | N919: =SUM(M$3:M919) -> 3314728.6 | O919: =N919/3600000 -> 0.92075794 | P919: =IF(G919<0,E919*L919,0) -> 0 | Q919: =SUMIF(P$3:P919, "<0") -> -1422218.3 | R919: =Q919/3600000*-1 -> 0.39506063 | S919: =IF(M919>0,M919,P919) -> 12880.796 | T919: =L919*E919/1000 -> 12.880796 | U919: =(0.5*'Vehicle Data'!$C$3*(E919^2-E918^2))/1000 -> 7.6982006 | V919: =IF(U918-U919>0,(U918-U919)*0.8,0) -> 10.039217 | W919: =SUM(V$3:V919)/3600 -> 0.20633304
A920: Middle | B920: 917 | C920: 328 | D920: 59.2 | E920: =D920/3.6 -> 16.444444 | F920: =SUM(E$3:E920) -> 6992.5278 | G920: =($D921-$D919)/2/3.6 -> 0.125 | H920: =($G921-$G919)/2 -> -0.15972222 | I920: ='Vehicle Data'!$C$8 -> 185.52672 | J920: =0.5*'Vehicle Data'!$C$4*'Vehicle Data'!$C$9*'Vehicle Data'!$C$6*(Calculations!E920^2) -> 136.04818 | K920: ='Vehicle Data'!$C$3*G920 -> 197 | L920: =SUM(I920:K920) -> 518.5749 | M920: =IF(G920>0,L920*E920,0) -> 8527.6761 | N920: =SUM(M$3:M920) -> 3323256.3 | O920: =N920/3600000 -> 0.92312674 | P920: =IF(G920<0,E920*L920,0) -> 0 | Q920: =SUMIF(P$3:P920, "<0") -> -1422218.3 | R920: =Q920/3600000*-1 -> 0.39506063 | S920: =IF(M920>0,M920,P920) -> 8527.6761 | T920: =L920*E920/1000 -> 8.5276761 | U920: =(0.5*'Vehicle Data'!$C$3*(E920^2-E919^2))/1000 -> 7.8453426 | V920: =IF(U919-U920>0,(U919-U920)*0.8,0) -> 0 | W920: =SUM(V$3:V920)/3600 -> 0.20633304
A921: Middle | B921: 918 | C921: 329 | D921: 59 | E921: =D921/3.6 -> 16.388889 | F921: =SUM(E$3:E921) -> 7008.9167 | G921: =($D922-$D920)/2/3.6 -> -0.013888889 | H921: =($G922-$G920)/2 -> -0.027777778 | I921: ='Vehicle Data'!$C$8 -> 185.52672 | J921: =0.5*'Vehicle Data'!$C$4*'Vehicle Data'!$C$9*'Vehicle Data'!$C$6*(Calculations!E921^2) -> 135.13049 | K921: ='Vehicle Data'!$C$3*G921 -> -21.888889 | L921: =SUM(I921:K921) -> 298.76832 | M921: =IF(G921>0,L921*E921,0) -> 0 | N921: =SUM(M$3:M921) -> 3323256.3 | O921: =N921/3600000 -> 0.92312674 | P921: =IF(G921<0,E921*L921,0) -> 4896.4808 | Q921: =SUMIF(P$3:P921, "<0") -> -1422218.3 | R921: =Q921/3600000*-1 -> 0.39506063 | S921: =IF(M921>0,M921,P921) -> 4896.4808 | T921: =L921*E921/1000 -> 4.8964808 | U921: =(0.5*'Vehicle Data'!$C$3*(E921^2-E920^2))/1000 -> -1.4373704 | V921: =IF(U920-U921>0,(U920-U921)*0.8,0) -> 7.4261704 | W921: =SUM(V$3:V921)/3600 -> 0.20839587
A922: Middle | B922: 919 | C922: 330 | D922: 59.1 | E922: =D922/3.6 -> 16.416667 | F922: =SUM(E$3:E922) -> 7025.3333 | G922: =($D923-$D921)/2/3.6 -> 0.069444444 | H922: =($G923-$G921)/2 -> 0.10416667 | I922: ='Vehicle Data'!$C$8 -> 185.52672 | J922: =0.5*'Vehicle Data'!$C$4*'Vehicle Data'!$C$9*'Vehicle Data'!$C$6*(Calculations!E922^2) -> 135.58894 | K922: ='Vehicle Data'!$C$3*G922 -> 109.44444 | L922: =SUM(I922:K922) -> 430.56011 | M922: =IF(G922>0,L922*E922,0) -> 7068.3618 | N922: =SUM(M$3:M922) -> 3330324.6 | O922: =N922/3600000 -> 0.92509017 | P922: =IF(G922<0,E922*L922,0) -> 0 | Q922: =SUMIF(P$3:P922, "<0") -> -1422218.3 | R922: =Q922/3600000*-1 -> 0.39506063 | S922: =IF(M922>0,M922,P922) -> 7068.3618 | T922: =L922*E922/1000 -> 7.0683618 | U922: =(0.5*'Vehicle Data'!$C$3*(E922^2-E921^2))/1000 -> 0.71807716 | V922: =IF(U921-U922>0,(U921-U922)*0.8,0) -> 0 | W922: =SUM(V$3:V922)/3600 -> 0.20839587
A923: Middle | B923: 920 | C923: 331 | D923: 59.5 | E923: =D923/3.6 -> 16.527778 | F923: =SUM(E$3:E923) -> 7041.8611 | G923: =($D924-$D922)/2/3.6 -> 0.19444444 | H923: =($G924-$G922)/2 -> 0.15972222 | I923: ='Vehicle Data'!$C$8 -> 185.52672 | J923: =0.5*'Vehicle Data'!$C$4*'Vehicle Data'!$C$9*'Vehicle Data'!$C$6*(Calculations!E923^2) -> 137.43054 | K923: ='Vehicle Data'!$C$3*G923 -> 306.44444 | L923: =SUM(I923:K923) -> 629.4017 | M923: =IF(G923>0,L923*E923,0) -> 10402.611 | N923: =SUM(M$3:M923) -> 3340727.2 | O923: =N923/3600000 -> 0.92797979 | P923: =IF(G923<0,E923*L923,0) -> 0 | Q923: =SUMIF(P$3:P923, "<0") -> -1422218.3 | R923: =Q923/3600000*-1 -> 0.39506063 | S923: =IF(M923>0,M923,P923) -> 10402.611 | T923: =L923*E923/1000 -> 10.402611 | U923: =(0.5*'Vehicle Data'!$C$3*(E923^2-E922^2))/1000 -> 2.8844691 | V923: =IF(U922-U923>0,(U922-U923)*0.8,0) -> 0 | W923: =SUM(V$3:V923)/3600 -> 0.20839587
A924: Middle | B924: 921 | C924: 332 | D924: 60.5 | E924: =D924/3.6 -> 16.805556 | F924: =SUM(E$3:E924) -> 7058.6667 | G924: =($D925-$D923)/2/3.6 -> 0.38888889 | H924: =($G925-$G923)/2 -> 0.13888889 | I924: ='Vehicle Data'!$C$8 -> 185.52672 | J924: =0.5*'Vehicle Data'!$C$4*'Vehicle Data'!$C$9*'Vehicle Data'!$C$6*(Calculations!E924^2) -> 142.08887 | K924: ='Vehicle Data'!$C$3*G924 -> 612.88889 | L924: =SUM(I924:K924) -> 940.50448 | M924: =IF(G924>0,L924*E924,0) -> 15805.7 | N924: =SUM(M$3:M924) -> 3356532.9 | O924: =N924/3600000 -> 0.93237026 | P924: =IF(G924<0,E924*L924,0) -> 0 | Q924: =SUMIF(P$3:P924, "<0") -> -1422218.3 | R924: =Q924/3600000*-1 -> 0.39506063 | S924: =IF(M924>0,M924,P924) -> 15805.7 | T924: =L924*E924/1000 -> 15.8057 | U924: =(0.5*'Vehicle Data'!$C$3*(E924^2-E923^2))/1000 -> 7.2962963 | V924: =IF(U923-U924>0,(U923-U924)*0.8,0) -> 0 | W924: =SUM(V$3:V924)/3600 -> 0.20839587
A925: Middle | B925: 922 | C925: 333 | D925: 62.3 | E925: =D925/3.6 -> 17.305556 | F925: =SUM(E$3:E925) -> 7075.9722 | G925: =($D926-$D924)/2/3.6 -> 0.47222222 | H925: =($G926-$G924)/2 -> 0 | I925: ='Vehicle Data'!$C$8 -> 185.52672 | J925: =0.5*'Vehicle Data'!$C$4*'Vehicle Data'!$C$9*'Vehicle Data'!$C$6*(Calculations!E925^2) -> 150.66952 | K925: ='Vehicle Data'!$C$3*G925 -> 744.22222 | L925: =SUM(I925:K925) -> 1080.4185 | M925: =IF(G925>0,L925*E925,0) -> 18697.242 | N925: =SUM(M$3:M925) -> 3375230.2 | O925: =N925/3600000 -> 0.93756394 | P925: =IF(G925<0,E925*L925,0) -> 0 | Q925: =SUMIF(P$3:P925, "<0") -> -1422218.3 | R925: =Q925/3600000*-1 -> 0.39506063 | S925: =IF(M925>0,M925,P925) -> 18697.242 | T925: =L925*E925/1000 -> 18.697242 | U925: =(0.5*'Vehicle Data'!$C$3*(E925^2-E924^2))/1000 -> 13.439778 | V925: =IF(U924-U925>0,(U924-U925)*0.8,0) -> 0 | W925: =SUM(V$3:V925)/3600 -> 0.20839587
A926: Middle | B926: 923 | C926: 334 | D926: 63.9 | E926: =D926/3.6 -> 17.75 | F926: =SUM(E$3:E926) -> 7093.7222 | G926: =($D927-$D925)/2/3.6 -> 0.38888889 | H926: =($G927-$G925)/2 -> -0.22222222 | I926: ='Vehicle Data'!$C$8 -> 185.52672 | J926: =0.5*'Vehicle Data'!$C$4*'Vehicle Data'!$C$9*'Vehicle Data'!$C$6*(Calculations!E926^2) -> 158.50794 | K926: ='Vehicle Data'!$C$3*G926 -> 612.88889 | L926: =SUM(I926:K926) -> 956.92355 | M926: =IF(G926>0,L926*E926,0) -> 16985.393 | N926: =SUM(M$3:M926) -> 3392215.6 | O926: =N926/3600000 -> 0.9422821 | P926: =IF(G926<0,E926*L926,0) -> 0 | Q926: =SUMIF(P$3:P926, "<0") -> -1422218.3 | R926: =Q926/3600000*-1 -> 0.39506063 | S926: =IF(M926>0,M926,P926) -> 16985.393 | T926: =L926*E926/1000 -> 16.985393 | U926: =(0.5*'Vehicle Data'!$C$3*(E926^2-E925^2))/1000 -> 12.277235 | V926: =IF(U925-U926>0,(U925-U926)*0.8,0) -> 0.93003457 | W926: =SUM(V$3:V926)/3600 -> 0.20865421
... A1803: Extra-high | B1803: 1800 | C1803: 323 | D1803: 0 | E1803: =D1803/3.6 -> 0 | F1803: =SUM(E$3:E1803) -> 23262.389 | G1803: =($D1804-$D1802)/2/3.6 -> 0 | H1803: =($G1804-$G1802)/2 -> 0 | I1803: ='Vehicle Data'!$C$8 -> 185.52672 | J1803: =0.5*'Vehicle Data'!$C$4*'Vehicle Data'!$C$9*'Vehicle Data'!$C$6*(Calculations!E1803^2) -> 0 | K1803: ='Vehicle Data'!$C$3*G1803 -> 0 | L1803: =SUM(I1803:K1803) -> 185.52672 | M1803: =IF(G1803>0,L1803*E1803,0) -> 0 | N1803: =SUM(M$3:M1803) -> 10691980 | O1803: =N1803/3600000 -> 2.9699944 | P1803: =IF(G1803<0,E1803*L1803,0) -> 0 | Q1803: =SUMIF(P$3:P1803, "<0") -> -2998119.5 | R1803: =Q1803/3600000*-1 -> 0.83281098 | S1803: =IF(M1803>0,M1803,P1803) -> 0 | T1803: =L1803*E1803/1000 -> 0 | U1803: =(0.5*'Vehicle Data'!$C$3*(E1803^2-E1802^2))/1000 -> 0 | V1803: =IF(U1802-U1803>0,(U1802-U1803)*0.8,0) -> 0 | W1803: =SUM(V$3:V1803)/3600 -> 0.42520788

Sheet Cumulative Energy Graph

Sheet Force Graphs

Sheet Vehicle Speed Graph
Q25: Find peak multiply by duration

Sheet Power Graph

Sheet Kinetic Energy Recovery
