Workbook

Sheet Main Spreadsheet
A1: By Ben Gibson 2114133
A3: Account Name | B3: Opening | C3: Balances | D3: Sales Day | E3: Book | F3: Purchase | G3: Day Book | H3: Cash | I3: Receipts | J3: Cash | K3: Payments | L3: Petty Cash | M3: Book | N3: Draft | O3: Balances | P3: Adjustments | R3: Profit and Loss | T3: Balance Sheet
B5: DR | C5: CR | D5: DR | E5: CR | F5: DR | G5: CR | H5: DR | I5: CR | J5: DR | K5: CR | L5: DR | M5: CR | N5: DR | O5: CR | P5: DR | Q5: CR | R5: DR | S5: CR | T5: DR | U5: CR
A8: Motor Vehicles | B8: 27176 | F8: =PDB!G23 -> 14850 | N8: =B8+D8+F8+H8+J8+L8 -> 42026 | T8: =N8 -> 42026
A9: Provision for Dep'n (MV) | C9: 7574 | O9: 7574 | Q9: 1607 | U9: =O9+Q9 -> 9181
A10: Fixtures and equiptment - cost | B10: 25394 | F10: 6400 | N10: =B10+D10+F10+H10+J10+L10 -> 31794 | T10: =N10 -> 31794
A11: Provision for Dep'n (F&E) | C11: 9578 | O11: =C11+E11+G11+I11+K11+M11 -> 9578 | Q11: 448 | U11: =O11+Q11 -> 10026
A12: Stock at 1-10-2019 | B12: 13481 | N12: =B12+D12+F12+H12+J12+L12 -> 13481 | R12: =N12-Q12 -> 13481
A13: Trade Debtors | B13: 11583 | D13: =SDB!E16 -> 25914 | I13: =CBR!H24 -> 11583 | N13: =SUM(B13,D13-I13) -> 25914 | T13: =N13 -> 25914
A14: Trade Creditors | C14: 2896 | G14: 21000 | J14: 2896 | O14: =SUM(C14,G14-J14) -> 21000 | U14: =O14+Q14 -> 21000
A15: Liabilities | G15: 25500 | O15: =C15+E15+G15+I15+K15+M15 -> 25500 | Q15: 450 | U15: =O15 -> 25500
A16: Bank Current Account | B16: 4010 | H16: 34240 | K16: =CBP!O37 -> 9486 | N16: =SUM(B16,H16-K16) -> 28764 | T16: =N16 -> 28764
A17: Cash in Hand | B17: 675 | J17: =CBP!N30 -> 308 | M17: 308 | N17: 675 | T17: =N17 -> 675
A18: Capital | C18: 44161 | I18: 12000 | O18: =C18+E18+G18+I18+K18+M18 -> 56161 | U18: =O18 -> 56161
A19: Bank loan | C19: 15741 | O19: =C19+E19+G19+I19+K19+M19 -> 15741 | U19: =O19 -> 15741
A20: VAT Control Account | C20: 2005 | E20: =SDB!F16 -> 4319 | F20: 7750 | I20: 1990 | J20: =CBP!N28 -> 2338 | L20: 28 | N20: 1802 | T20: =N20 -> 1802
A21: Electricity | J21: 400 | N21: 400 | R21: 400
A22: Telephone | F22: 300 | N22: 300 | R22: 300
A23: Gas | F23: 440 | N23: 440 | R23: 440
A24: Accrued Electricity | C24: 111 | O24: 111 | P24: 120 | R24: =O24+P24 -> 231
A25: Accrued Telephone | C25: 134 | G25: 300 | J25: 300 | O25: 134 | P25: 60 | R25: =O25+P25 -> 194
A26: Accrued Gas | C26: 119 | G26: 440 | J26: 440 | O26: 119 | P26: 240 | R26: =O26+P26 -> 359
A27: Rent | P27: 450 | R27: =P27 -> 450
A28: Insurance | J28: 2200 | N28: 2200 | Q28: 1650 | R28: 550
A29: Legal Fees | J29: =CBP!N31 -> 1050 | N29: =B29+D29+F29+H29+J29+L29 -> 1050 | R29: =N29 -> 1050
A30: Sales | E30: =SDB!G16 -> 21595 | I30: 9950 | O30: =C30+E30+G30+I30+K30+M30 -> 31545 | S30: =O30+Q30 -> 31545
A31: Purchases | F31: =PDB!F23 -> 17500 | N31: =B31+D31+F31+H31+J31+L31 -> 17500 | Q31: 220 | R31: 17500
A32: Disposal of Fixed Assets
A33: Discount Allowed | H33: =CBR!L17 -> 1283 | N33: =B33+D33+F33+H33+J33+L33 -> 1283 | R33: =N33 -> 1283
A34: Rates
A35: Discount Received | K35: 446 | O35: =C35+E35+G35+I35+K35+M35 -> 446 | S35: =O35 -> 446
A36: Advertising | L36: 140 | N36: =B36+D36+F36+H36+J36+L36 -> 140 | R36: =N36 -> 140
A37: Stamps | L37: 140 | N37: =B37+D37+F37+H37+J37+L37 -> 140 | R37: =N37 -> 140
A38: Dep'n Exp(F&E) | P38: 448 | R38: 448
A39: Dep'n Exp(MV) | P39: 1607 | R39: 1607
A40: Closing Stock (B/S) | P40: 15840 | T40: =P40 -> 15840
A41: Closing Stock (P&L) | Q41: 15840 | S41: 15840
A42: Accruals | Q42: 420 | S42: =SUM(R24:R26) -> 784 | U42: =S42 -> 784
A43: Drawing | P43: 220 | S43: 220
A44: Prepayments | P44: 1650 | T44: 1650
...

Sheet SDB
A1: SALES DAY BOOK
A6: Date | B6: Customer | E6: Total | F6: VAT | G6: Net
E8: £ | F8: £ | G8: £
A10: 44567 | B10: Black | E10: 12474 | F10: 2079 | G10: 10395
A11: 13th Jan | B11: Orange | E11: 5568 | F11: 928 | G11: 4640
A12: 28th Feb | B12: Silver | E12: 1440 | F12: 240 | G12: 1200
A13: 28th Feb | B13: Orange | E13: 2940 | F13: 490 | G13: 2450
A14: 23rd March | B14: Black | E14: 3492 | F14: 582 | G14: 2910
E16: =SUM(E10:E14) -> 25914 | F16: =SUM(F10:F14) -> 4319 | G16: =SUM(G10:G14) -> 21595
D19: Debtors | F19: 25914
D21: Sales | G21: 21595
D22: VAT a/c | G22: 4319
F24: =SUM(F19:F23) -> 25914 | G24: =SUM(G19:G23) -> 25914

Sheet PDB
A1: PURCHASE DAY BOOK
A6: Date | B6: Narrative | D6: Total | E6: VAT | F6: Purchases | G6: Motor vehicle | H6: Equiptment | I6: Acc'd b/f | J6: Bill | K6: Tele | L6: Gas | M6: Bal c/f
D8: £ | E8: £ | F8: £ | G8: £ | H8: £ | I8: £ | J8: £ | K8: £ | L8: £
A9: Creditors
A10: 6th Jan | B10: White | D10: 7488 | E10: 1248 | F10: 6240
A11: 13th March | B11: Yellow | D11: 5736 | E11: 956 | F11: 4780
A12: 16th March | B12: White | D12: 7776 | E12: 1296 | F12: 6480
D13: =SUM(D10:D12) -> 21000
A14: Liabilities
A15: 26th March | B15: Vehicle | D15: 17820 | E15: 2970 | G15: 14850
A16: 9th March | B16: Equiptment | D16: 7680 | E16: 1280 | H16: 6400
D17: =SUM(D15:D16) -> 25500
A19: 31st Jan | B19: Telephone | D19: 528 | I19: 134 | K19: 440 | M19: 440
A20: 31st Jan | B20: Gas | D20: 315 | I20: 119 | L20: 300 | M20: 300
D21: =SUM(D18:D20) -> 843
E23: =SUM(E10:E20) -> 7750 | F23: =SUM(F10:F17) -> 17500 | G23: =SUM(G10:G17) -> 14850 | H23: =SUM(H10:H17) -> 6400 | J23: =SUM(J19:J22) -> 0 | K23: =SUM(K19:K22) -> 440 | L23: =SUM(L19:L22) -> 300
F26: Purchases | K26: =F23 -> 17500
F27: Motor Vehicle | K27: =G23 -> 14850
F28: Equiptment | K28: =H23 -> 6400
F29: Acc'd Gas | K29: =L23 -> 300
F30: Acc'd Telephone | K30: =K23 -> 440
E32: Liabilities | L32: =D17 -> 25500
E33: Creditors | L33: =D13 -> 21000
E34: Acc'd | L34: =SUM(K29:K30) -> 740
F35: VAT a/c | K35: =E23 -> 7750
K37: =SUM(K26:K36) -> 47240 | L37: =SUM(L26:L36) -> 47240

Sheet CBR
A1: CASH BOOK (Receipts)
A6: Date | B6: Narrative | E6: Total | F6: VAT | G6: From | H6: Sales | I6: Capital | J6: Disposals | L6: Discount
G7: Debtors | L7: Allowed
E8: £ | F8: £ | G8: £ | H8: £ | I8: £ | J8: £ | L8: £
A9: 6th Jan | B9: Cash sales | E9: 4812 | F9: 802 | H9: =E9-F9 -> 4010
A10: 9th Jan | B10: Claret | E10: 2900 | G10: 3118 | L10: 218
A11: 10th Jan | B11: Black | E11: 2400 | G11: 2525 | L11: 125
A12: 28th Feb | B12: Capital | E12: 12000 | I12: 12000
A13: 2nd March | B13: Orange | E13: 5000 | G13: 5940 | L13: 940
A14: 2nd March | B14: Cash Sales | E14: 5346 | F14: 891 | H14: =E14-F14 -> 4455
A15: 9th March | B15: Cash Sales | E15: 1782 | F15: 297 | H15: =E15-F15 -> 1485
E17: =SUM(E9:E16) -> 34240 | F17: =SUM(F9:F16) -> 1990 | G17: =SUM(G9:G15) -> 11583 | H17: =SUM(H9:H15) -> 9950 | I17: =SUM(I9:I16) -> 12000 | J17: =SUM(J9:J14) -> 0 | L17: =SUM(L9:L14) -> 1283
F20: Bank | G20: =E17 -> 34240
F21: discount | G21: =L17 -> 1283
F23: VAT a/c | H23: =F17 -> 1990
F24: Debtors | H24: =G17 -> 11583
F25: Capital | H25: =I17 -> 12000
F26: Sales | H26: =H17 -> 9950
G29: =SUM(G20:G28) -> 35523 | H29: =SUM(H20:H28) -> 35523

Sheet CBP
A1: CASH BOOK (Payments)
A6: Date | B6: Narrative | D6: Total | E6: VAT | F6: To | G6: Rent | H6: Rates | I6: Petty | O6: Discount
F7: Creditors | I7: Cash | J7: Accd Tel | K7: Accd Gas | L7: Elec | M7: Insurance | N7: Legal | O7: Received
D8: £ | E8: £ | F8: £ | G8: £ | H8: £ | I8: £ | J8: £ | K8: £ | L8: £ | M8: £ | N8: £
A10: 13th Jan | B10: Grey | D10: 700 | F10: 817 | O10: 117
A11: 13th Jan | B11: Insurance | D11: 2200 | M11: 2200
A12: 31st Jan | B12: HM customs | D12: 2005 | E12: 2005
A13: 10th Feb | B13: Legal Fees | D13: 1260 | E13: 210 | N13: 1050
A14: 3rd Feb | B14: Electricity | D14: 420 | E14: 20 | F14: 0 | L14: 400
A15: 10th Feb | B15: Gas | D15: 315 | E15: 15 | K15: 300
A16: 10th Feb | B16: Telephone | D16: 528 | E16: 88 | J16: 440
A17: 28th Feb | B17: Yellow | D17: 250 | F17: 282 | O17: 32
A18: 9th March | B18: White | D18: 1500 | F18: 1797 | O18: 297
A19: 27th March | B19: Petty Cash | D19: 308 | I19: 308
D22: =SUM(D10:D21) -> 9486 | E22: =SUM(E10:E21) -> 2338 | F22: =SUM(F10:F20) -> 2896 | H22: =SUM(H10:H21) -> 0 | I22: =SUM(I10:I21) -> 308 | J22: =SUM(J10:J21) -> 440 | K22: =SUM(K10:K21) -> 300 | L22: =SUM(L10:L21) -> 400 | M22: =SUM(M10:M21) -> 2200 | N22: =SUM(N10:N21) -> 1050 | O22: =SUM(O10:O21) -> 446
D28: DR | E28: VAT a/c | N28: =E22 -> 2338
E29: Creditors | N29: =F22 -> 2896
E30: Petty Cash | N30: =I22 -> 308
E31: Legal | N31: =N22 -> 1050
E32: Accd Telephone | N32: =J22 -> 440
E33: Accd Gas | N33: =K22 -> 300
E34: Electric | N34: =L22 -> 400
E35: insurance | N35: =M11 -> 2200
D37: CR | E37: Bank | O37: =D22 -> 9486
E39: Discount received | O39: =O22 -> 446
N41: =SUM(N28:N39) -> 9932 | O41: =SUM(O28:O40) -> 9932

Sheet PCB
A1: PETTY CASH BOOK
A6: Receipts | B6: Narrative | C6: Date | D6: Total | E6: VAT | F6: Advertising | G6: Stamps
A8: 675 | B8: Bal b/f
B9: Stamps | C9: 8th Jan | D9: 70 | E9: 0 | G9: 70
B10: Advertising | C10: 31st Jan | D10: 168 | E10: 28 | F10: 140
B11: Stamps | C11: 3rd Feb | D11: 70 | E11: 0 | G11: 70
B13: Bal c/f | C13: 27th March | D13: 367
D15: =SUM(D9:D13) -> 675 | E15: =SUM(E9:E13) -> 28 | F15: =SUM(F9:F14) -> 140 | G15: =SUM(G9:G14) -> 140
A17: 367 | B17: Balance b/f | C17: 27th march
A18: 308 | B18: Cheque cashed | C18: 27th March
A19: 675 | B19: Bal b/f | C19: 31st March
D23: DR | E23: Advertising | F23: 140
E24: VAT a/c | F24: 28
E25: Stamps | F25: =G15 -> 140
D27: CR | E27: Petty Cash | G27: 308
F29: =SUM(F23:F28) -> 308 | G29: =SUM(G23:G28) -> 308

Sheet Accounts
A2: Balance Sheet at 31st March 2020
G5: Provision
F6: Cost | G6: for Dep'n | H6: NBV
F7: £ | G7: £ | H7: £
A8: Fixed Assets
A9: Fixtures and equiptment | F9: ='Main Spreadsheet'!N10 -> 31794 | G9: 10026 | H9: =F9-G9 -> 21768
A10: Motor Vehicles | F10: ='Main Spreadsheet'!N8 -> 42026 | G10: 9181 | H10: =F10-G10 -> 32845
H11: =H9+H10 -> 54613
A13: Current Assets
A14: Stock | H14: ='Main Spreadsheet'!T40 -> 15840
A15: Trade Debtors | H15: ='Main Spreadsheet'!T13 -> 25914
A16: Prepayments | H16: ='Main Spreadsheet'!T44 -> 1650
A17: Bank Current Account | H17: ='Main Spreadsheet'!T16 -> 28764
A18: VAT Control Account | H18: ='Main Spreadsheet'!N20 -> 1802
A19: Cash in Hand | H19: ='Main Spreadsheet'!N17 -> 675
H20: =SUM(H14:H19) -> 74645
A22: Current Liabilities
A23: Trade Creditors | H23: ='Main Spreadsheet'!U14 -> 21000
A24: Accruals | H24: ='Main Spreadsheet'!U42 -> 784
A25: Rent | H25: 450
H26: =SUM(H23:H25) -> 22234
A28: Long Term Liabilities
A29: Bank Loan | H29: ='Main Spreadsheet'!O19 -> 15741
A30: Liabilities | H30: ='Main Spreadsheet'!O15 -> 25500
H31: =SUM(H29:H30) -> 41241
A34: Net Current Assets | H34: =H20-H26 -> 52411
A35: Net Fixed assets | H35: =H11-H31 -> 13372
H36: =H34+H35 -> 65783
A38: Represented by :
A40: Capital | H40: ='Main Spreadsheet'!O18 -> 56161
A41: Profit for the year | H41: =H81 -> 10262
H42: =H40+H41 -> 66423
A45: Trading and Profit and Loss Account for the
A46: 3 months ended 31st March 2020
A50: Sales | H50: ='Main Spreadsheet'!S30 -> 31545
A52: less : cost of goods sold
A53: Opening Stock | H53: ='Main Spreadsheet'!B12 -> 13481
A54: Purchases | H54: ='Main Spreadsheet'!R31 -> 17500
A55: less : Closing Stock | H55: ='Main Spreadsheet'!S41 -> 15840
A56: Drawing | H56: 220
...

Sheet Task 2 workings
A2: Depreciation | B2: Item | C2: Value | E2: rate p/a | F2: d'pn p/a | G2: Qtr | H2: month | I2: Adjustment
B3: Motor vehicles | C3: ='Main Spreadsheet'!B8 -> 27176 | E3: Fixed 20% | F3: =SUM(C3/100*20) -> 5435.2 | G3: =SUM(F3/12*3) -> 1358.8 | I3: =G3 -> 1358.8
B4: added 26th march | C4: 14850 | E4: Fixed 20% | F4: =SUM(C4/100*20) -> 2970 | H4: =SUM(F4/12) -> 247.5 | I4: 248
I5: =SUM(I3+I4) -> 1606.8
B8: Item | C8: Value | D8: d'pn p/a | E8: Value for d'pn | F8: Rate p/a | G8: Qtr | H8: Month | I8: Adjustment
B9: F&E as of 01/01 | C9: ='Main Spreadsheet'!B10 -> 25394 | D9: ='Main Spreadsheet'!C11 -> 9578 | E9: =SUM(C9-D9) -> 15816 | F9: Reducing 10% | G9: =SUM(E9/12*3/100*10) -> 395.4 | I9: =G9 -> 395.4
B10: added 6th march | C10: 6400 | E10: 6400 | F10: Reducing 10% | H10: =SUM(E10/10/12) -> 53.333333 | I10: 53
I11: =I9+I10 -> 448.4
A13: Rent | B13: Rent ammount PA | C13: Payable 6monthly | D13: Period covered rent DR | E13: Sales CR
A14: Arrears, last paid 31st dec | B14: 1800 | C14: 900 | D14: =C14/2 -> 450 | E14: 450
A16: Withdrawal
A17: Withdrawal buy to sell (goods) | B17: Withdrawal | C17: Purchases
B18: 220 | C18: 220
A20: Additional Accruals | C20: Net | D20: Vat | E20: Accruals
A21: 31st March 2020 | B21: Accrued Gas | C21: 240 | E21: 240
A22: 31st March 2020 | B22: Acc'd Elec | C22: 120 | E22: 120
A23: 31st March 2020 | B23: Acc'd Telephone | C23: 60 | E23: 60
A27: Insurance | B27: Tot paid | C27: 3month used | D27: 9 months prepayment
A28: Annual insurance paid 13th Jan | B28: 2200 | C28: 550 | D28: 1650
