Workbook

Sheet Panigale V4s 21 Data
A1: Rider Mass (kg) | B1: 75
A2: Test Mass (kg) | B2: 195
A3: Total Mass (kg) | B3: 270
A4: Frontal Area (m2) | B4: 0.37752083
A5: Frontal Area with rider (m2) | B5: 0.42776182
A6: Rolling Resistance Coefficient | B6: 0.02
A7: Drag Coefficient | B7: 0.45
A8: Air Density | B8: 1.167
A9: Power (BHP) | B9: 211
A10: Power (KW) | B10: =B9/1.341 -> 157.34526
A11: Rolling Resistance (N) | B11: =B6*9.81*B2 -> 38.259
A12: Rolling Resistance with Rider (N) | B12: =B6*9.81*(B2+B1) -> 52.974
A13: W/kg | B13: =B10*1000/B2 -> 806.89879 | C13: =IF(B13>34,"Class 3","Class 2 or 1") -> Class 3

Sheet Calculations
A1: Phase | B1: Total elapsed time | C1: Phase elapsed time | D1: WLTC class 3, version 5, vehicle speed | E1: WLTC class 3, version 5, acceleration | F1: WLTC class 3, version 5, acceleration | H1: WLTC class 3, version 5, vehicle speed | I1: Aero Drag with Rider | J1: Acceleration Resistance | K1: Rolling Resistance | L1: Total Resistive/ Tractive Forces | M1: Power | N1: Energy | O1: Tractive Power | P1: Tractive Energy | Q1: Cumulative Tractive Energy | R1: Braking Power | S1: Braking Energy | T1: Cumulative Braking Energy | U1: Max Power Input | V1: Power Stored | W1: Cumulative Power Stored for each period | X1: Max Energy Storage Required | Y1: Power Back to the Wheel | Z1: Power Back to the Wheel | AA1: Kinetic Energy Back to the Wheel | AB1: Cumulative Kinetic Energy Back to the Wheel | AC1: Percentage of Regenerated Energy Used | AD1: Pecentage of Braking Energy used for KERs
A2: Phase | B2: s | C2: s | D2: km/h | E2: m/s² | F2: km/h/s | H2: m/s | I2: (N) | J2: (N) | K2: (N) | L2: (N) | M2: (W) | N2: (kWh) | O2: (W) | P2: (kWh) | Q2: (kWh) | R2: (W) | S2: (kWh) | T2: (kWh) | U2: (W) | V2: (W) | W2: (W) | X2: (kWh) | Y2: (W) | Z2: (kW) | AA2: (kWh) | AB2: (kWh) | AC2: (%) | AD2: (%)
A3: Low | B3: 0 | C3: 0 | D3: 0 | E3: =($D4-0)/2/3.6 -> 0 | F3: =($D4-0)/2 -> 0 | H3: =$D3/3.6 -> 0 | I3: ='Panigale V4s 21 Data'!$B$8*'Panigale V4s 21 Data'!$B$5*'Panigale V4s 21 Data'!$B$7*0.5*(Calculations!$H3^2) -> 0 | J3: =$E3*'Panigale V4s 21 Data'!$B$3 -> 0 | K3: ='Panigale V4s 21 Data'!$B$12 -> 52.974 | L3: =I3+J3+K3 -> 52.974 | M3: =L3*H3 -> 0 | N3: =M3/1000/3600 -> 0 | O3: =IF(M3>0,M3,0) -> 0 | P3: =IF(N3>0,N3,0) -> 0 | Q3: =SUM($P$3:P3) -> 0 | R3: =IF(M3<0,M3*-1,0) -> 0 | S3: =IF(M3<0,M3/1000/3600*-1,0) -> 0 | T3: =SUM($S$3:S3) -> 0 | U3: =MAX(R3:R1803) -> 4719.7056 | V3: =R3*0.91*0.95*0.91 -> 0 | W3: =IF(M3<0,SUM($V$3:V3),0) -> 0 | X3: =MAX(W3:W1803)/1000/3600 -> 0.0086090665 | Y3: 0 | Z3: =Y3/1000 -> 0 | AA3: =Z3/3600 -> 0 | AB3: =SUM($AA$3:AA3) -> 0 | AC3: =(AB1803/Q1803) -> 0.080018405 | AD3: =AB1803/T1803 -> 0.59253689
A4: Low | B4: 1 | C4: 1 | D4: 0 | E4: =($D5-$D3)/2/3.6 -> 0 | F4: =($D5-$D3)/2 -> 0 | H4: =$D4/3.6 -> 0 | I4: ='Panigale V4s 21 Data'!$B$8*'Panigale V4s 21 Data'!$B$5*'Panigale V4s 21 Data'!$B$7*0.5*(Calculations!$H4*Calculations!$H4) -> 0 | J4: =$E4*'Panigale V4s 21 Data'!$B$3 -> 0 | K4: ='Panigale V4s 21 Data'!$B$12 -> 52.974 | L4: =I4+J4+K4 -> 52.974 | M4: =L4*H4 -> 0 | N4: =M4/1000/3600 -> 0 | O4: =IF(M4>0,M4,0) -> 0 | P4: =IF(N4>0,N4,0) -> 0 | Q4: =SUM($P$3:P4) -> 0 | R4: =IF(M4<0,M4*-1,0) -> 0 | S4: =IF(M4<0,M4/1000/3600*-1,0) -> 0 | T4: =SUM($S$3:S4) -> 0 | V4: =R4*0.91*0.95*0.91 -> 0 | W4: =IF(M4<0,SUM($V$3:V4),0) -> 0 | X4: (Wh) | Y4: 0 | Z4: =Y4/1000 -> 0 | AA4: =Z4/3600 -> 0 | AB4: =SUM($AA$3:AA4) -> 0 | AC4: =AC3 -> 0.080018405 | AD4: =AD3 -> 0.59253689
A5: Low | B5: 2 | C5: 2 | D5: 0 | E5: =($D6-$D4)/2/3.6 -> 0 | F5: =($D6-$D4)/2 -> 0 | H5: =$D5/3.6 -> 0 | I5: ='Panigale V4s 21 Data'!$B$8*'Panigale V4s 21 Data'!$B$5*'Panigale V4s 21 Data'!$B$7*0.5*(Calculations!$H5*Calculations!$H5) -> 0 | J5: =$E5*'Panigale V4s 21 Data'!$B$3 -> 0 | K5: ='Panigale V4s 21 Data'!$B$12 -> 52.974 | L5: =I5+J5+K5 -> 52.974 | M5: =L5*H5 -> 0 | N5: =M5/1000/3600 -> 0 | O5: =IF(M5>0,M5,0) -> 0 | P5: =IF(N5>0,N5,0) -> 0 | Q5: =SUM($P$3:P5) -> 0 | R5: =IF(M5<0,M5*-1,0) -> 0 | S5: =IF(M5<0,M5/1000/3600*-1,0) -> 0 | T5: =SUM($S$3:S5) -> 0 | V5: =R5*0.91*0.95*0.91 -> 0 | W5: =IF(M5<0,SUM($V$3:V5),0) -> 0 | X5: =X3*1000 -> 8.6090665 | Y5: 0 | Z5: =Y5/1000 -> 0 | AA5: =Z5/3600 -> 0 | AB5: =SUM($AA$3:AA5) -> 0
A6: Low | B6: 3 | C6: 3 | D6: 0 | E6: =($D7-$D5)/2/3.6 -> 0 | F6: =($D7-$D5)/2 -> 0 | H6: =$D6/3.6 -> 0 | I6: ='Panigale V4s 21 Data'!$B$8*'Panigale V4s 21 Data'!$B$5*'Panigale V4s 21 Data'!$B$7*0.5*(Calculations!$H6*Calculations!$H6) -> 0 | J6: =$E6*'Panigale V4s 21 Data'!$B$3 -> 0 | K6: ='Panigale V4s 21 Data'!$B$12 -> 52.974 | L6: =I6+J6+K6 -> 52.974 | M6: =L6*H6 -> 0 | N6: =M6/1000/3600 -> 0 | O6: =IF(M6>0,M6,0) -> 0 | P6: =IF(N6>0,N6,0) -> 0 | Q6: =SUM($P$3:P6) -> 0 | R6: =IF(M6<0,M6*-1,0) -> 0 | S6: =IF(M6<0,M6/1000/3600*-1,0) -> 0 | T6: =SUM($S$3:S6) -> 0 | V6: =R6*0.91*0.95*0.91 -> 0 | W6: =IF(M6<0,SUM($V$3:V6),0) -> 0 | Y6: 0 | Z6: =Y6/1000 -> 0 | AA6: =Z6/3600 -> 0 | AB6: =SUM($AA$3:AA6) -> 0
A7: Low | B7: 4 | C7: 4 | D7: 0 | E7: =($D8-$D6)/2/3.6 -> 0 | F7: =($D8-$D6)/2 -> 0 | H7: =$D7/3.6 -> 0 | I7: ='Panigale V4s 21 Data'!$B$8*'Panigale V4s 21 Data'!$B$5*'Panigale V4s 21 Data'!$B$7*0.5*(Calculations!$H7*Calculations!$H7) -> 0 | J7: =$E7*'Panigale V4s 21 Data'!$B$3 -> 0 | K7: ='Panigale V4s 21 Data'!$B$12 -> 52.974 | L7: =I7+J7+K7 -> 52.974 | M7: =L7*H7 -> 0 | N7: =M7/1000/3600 -> 0 | O7: =IF(M7>0,M7,0) -> 0 | P7: =IF(N7>0,N7,0) -> 0 | Q7: =SUM($P$3:P7) -> 0 | R7: =IF(M7<0,M7*-1,0) -> 0 | S7: =IF(M7<0,M7/1000/3600*-1,0) -> 0 | T7: =SUM($S$3:S7) -> 0 | V7: =R7*0.91*0.95*0.91 -> 0 | W7: =IF(M7<0,SUM($V$3:V7),0) -> 0 | Y7: 0 | Z7: =Y7/1000 -> 0 | AA7: =Z7/3600 -> 0 | AB7: =SUM($AA$3:AA7) -> 0
A8: Low | B8: 5 | C8: 5 | D8: 0 | E8: =($D9-$D7)/2/3.6 -> 0 | F8: =($D9-$D7)/2 -> 0 | H8: =$D8/3.6 -> 0 | I8: ='Panigale V4s 21 Data'!$B$8*'Panigale V4s 21 Data'!$B$5*'Panigale V4s 21 Data'!$B$7*0.5*(Calculations!$H8*Calculations!$H8) -> 0 | J8: =$E8*'Panigale V4s 21 Data'!$B$3 -> 0 | K8: ='Panigale V4s 21 Data'!$B$12 -> 52.974 | L8: =I8+J8+K8 -> 52.974 | M8: =L8*H8 -> 0 | N8: =M8/1000/3600 -> 0 | O8: =IF(M8>0,M8,0) -> 0 | P8: =IF(N8>0,N8,0) -> 0 | Q8: =SUM($P$3:P8) -> 0 | R8: =IF(M8<0,M8*-1,0) -> 0 | S8: =IF(M8<0,M8/1000/3600*-1,0) -> 0 | T8: =SUM($S$3:S8) -> 0 | V8: =R8*0.91*0.95*0.91 -> 0 | W8: =IF(M8<0,SUM($V$3:V8),0) -> 0 | Y8: 0 | Z8: =Y8/1000 -> 0 | AA8: =Z8/3600 -> 0 | AB8: =SUM($AA$3:AA8) -> 0
A9: Low | B9: 6 | C9: 6 | D9: 0 | E9: =($D10-$D8)/2/3.6 -> 0 | F9: =($D10-$D8)/2 -> 0 | H9: =$D9/3.6 -> 0 | I9: ='Panigale V4s 21 Data'!$B$8*'Panigale V4s 21 Data'!$B$5*'Panigale V4s 21 Data'!$B$7*0.5*(Calculations!$H9*Calculations!$H9) -> 0 | J9: =$E9*'Panigale V4s 21 Data'!$B$3 -> 0 | K9: ='Panigale V4s 21 Data'!$B$12 -> 52.974 | L9: =I9+J9+K9 -> 52.974 | M9: =L9*H9 -> 0 | N9: =M9/1000/3600 -> 0 | O9: =IF(M9>0,M9,0) -> 0 | P9: =IF(N9>0,N9,0) -> 0 | Q9: =SUM($P$3:P9) -> 0 | R9: =IF(M9<0,M9*-1,0) -> 0 | S9: =IF(M9<0,M9/1000/3600*-1,0) -> 0 | T9: =SUM($S$3:S9) -> 0 | V9: =R9*0.91*0.95*0.91 -> 0 | W9: =IF(M9<0,SUM($V$3:V9),0) -> 0 | Y9: 0 | Z9: =Y9/1000 -> 0 | AA9: =Z9/3600 -> 0 | AB9: =SUM($AA$3:AA9) -> 0
A10: Low | B10: 7 | C10: 7 | D10: 0 | E10: =($D11-$D9)/2/3.6 -> 0 | F10: =($D11-$D9)/2 -> 0 | H10: =$D10/3.6 -> 0 | I10: ='Panigale V4s 21 Data'!$B$8*'Panigale V4s 21 Data'!$B$5*'Panigale V4s 21 Data'!$B$7*0.5*(Calculations!$H10*Calculations!$H10) -> 0 | J10: =$E10*'Panigale V4s 21 Data'!$B$3 -> 0 | K10: ='Panigale V4s 21 Data'!$B$12 -> 52.974 | L10: =I10+J10+K10 -> 52.974 | M10: =L10*H10 -> 0 | N10: =M10/1000/3600 -> 0 | O10: =IF(M10>0,M10,0) -> 0 | P10: =IF(N10>0,N10,0) -> 0 | Q10: =SUM($P$3:P10) -> 0 | R10: =IF(M10<0,M10*-1,0) -> 0 | S10: =IF(M10<0,M10/1000/3600*-1,0) -> 0 | T10: =SUM($S$3:S10) -> 0 | V10: =R10*0.91*0.95*0.91 -> 0 | W10: =IF(M10<0,SUM($V$3:V10),0) -> 0 | Y10: 0 | Z10: =Y10/1000 -> 0 | AA10: =Z10/3600 -> 0 | AB10: =SUM($AA$3:AA10) -> 0
A11: Low | B11: 8 | C11: 8 | D11: 0 | E11: =($D12-$D10)/2/3.6 -> 0 | F11: =($D12-$D10)/2 -> 0 | H11: =$D11/3.6 -> 0 | I11: ='Panigale V4s 21 Data'!$B$8*'Panigale V4s 21 Data'!$B$5*'Panigale V4s 21 Data'!$B$7*0.5*(Calculations!$H11*Calculations!$H11) -> 0 | J11: =$E11*'Panigale V4s 21 Data'!$B$3 -> 0 | K11: ='Panigale V4s 21 Data'!$B$12 -> 52.974 | L11: =I11+J11+K11 -> 52.974 | M11: =L11*H11 -> 0 | N11: =M11/1000/3600 -> 0 | O11: =IF(M11>0,M11,0) -> 0 | P11: =IF(N11>0,N11,0) -> 0 | Q11: =SUM($P$3:P11) -> 0 | R11: =IF(M11<0,M11*-1,0) -> 0 | S11: =IF(M11<0,M11/1000/3600*-1,0) -> 0 | T11: =SUM($S$3:S11) -> 0 | V11: =R11*0.91*0.95*0.91 -> 0 | W11: =IF(M11<0,SUM($V$3:V11),0) -> 0 | Y11: 0 | Z11: =Y11/1000 -> 0 | AA11: =Z11/3600 -> 0 | AB11: =SUM($AA$3:AA11) -> 0
A12: Low | B12: 9 | C12: 9 | D12: 0 | E12: =($D13-$D11)/2/3.6 -> 0 | F12: =($D13-$D11)/2 -> 0 | H12: =$D12/3.6 -> 0 | I12: ='Panigale V4s 21 Data'!$B$8*'Panigale V4s 21 Data'!$B$5*'Panigale V4s 21 Data'!$B$7*0.5*(Calculations!$H12*Calculations!$H12) -> 0 | J12: =$E12*'Panigale V4s 21 Data'!$B$3 -> 0 | K12: ='Panigale V4s 21 Data'!$B$12 -> 52.974 | L12: =I12+J12+K12 -> 52.974 | M12: =L12*H12 -> 0 | N12: =M12/1000/3600 -> 0 | O12: =IF(M12>0,M12,0) -> 0 | P12: =IF(N12>0,N12,0) -> 0 | Q12: =SUM($P$3:P12) -> 0 | R12: =IF(M12<0,M12*-1,0) -> 0 | S12: =IF(M12<0,M12/1000/3600*-1,0) -> 0 | T12: =SUM($S$3:S12) -> 0 | V12: =R12*0.91*0.95*0.91 -> 0 | W12: =IF(M12<0,SUM($V$3:V12),0) -> 0 | Y12: 0 | Z12: =Y12/1000 -> 0 | AA12: =Z12/3600 -> 0 | AB12: =SUM($AA$3:AA12) -> 0
A13: Low | B13: 10 | C13: 10 | D13: 0 | E13: =($D14-$D12)/2/3.6 -> 0 | F13: =($D14-$D12)/2 -> 0 | H13: =$D13/3.6 -> 0 | I13: ='Panigale V4s 21 Data'!$B$8*'Panigale V4s 21 Data'!$B$5*'Panigale V4s 21 Data'!$B$7*0.5*(Calculations!$H13*Calculations!$H13) -> 0 | J13: =$E13*'Panigale V4s 21 Data'!$B$3 -> 0 | K13: ='Panigale V4s 21 Data'!$B$12 -> 52.974 | L13: =I13+J13+K13 -> 52.974 | M13: =L13*H13 -> 0 | N13: =M13/1000/3600 -> 0 | O13: =IF(M13>0,M13,0) -> 0 | P13: =IF(N13>0,N13,0) -> 0 | Q13: =SUM($P$3:P13) -> 0 | R13: =IF(M13<0,M13*-1,0) -> 0 | S13: =IF(M13<0,M13/1000/3600*-1,0) -> 0 | T13: =SUM($S$3:S13) -> 0 | V13: =R13*0.91*0.95*0.91 -> 0 | W13: =IF(M13<0,SUM($V$3:V13),0) -> 0 | Y13: 0 | Z13: =Y13/1000 -> 0 | AA13: =Z13/3600 -> 0 | AB13: =SUM($AA$3:AA13) -> 0
A14: Low | B14: 11 | C14: 11 | D14: 0 | E14: =($D15-$D13)/2/3.6 -> 0.027777778 | F14: =($D15-$D13)/2 -> 0.1 | H14: =$D14/3.6 -> 0 | I14: ='Panigale V4s 21 Data'!$B$8*'Panigale V4s 21 Data'!$B$5*'Panigale V4s 21 Data'!$B$7*0.5*(Calculations!$H14*Calculations!$H14) -> 0 | J14: =$E14*'Panigale V4s 21 Data'!$B$3 -> 7.5 | K14: ='Panigale V4s 21 Data'!$B$12 -> 52.974 | L14: =I14+J14+K14 -> 60.474 | M14: =L14*H14 -> 0 | N14: =M14/1000/3600 -> 0 | O14: =IF(M14>0,M14,0) -> 0 | P14: =IF(N14>0,N14,0) -> 0 | Q14: =SUM($P$3:P14) -> 0 | R14: =IF(M14<0,M14*-1,0) -> 0 | S14: =IF(M14<0,M14/1000/3600*-1,0) -> 0 | T14: =SUM($S$3:S14) -> 0 | V14: =R14*0.91*0.95*0.91 -> 0 | W14: =IF(M14<0,SUM($V$3:V14),0) -> 0 | Y14: 0 | Z14: =Y14/1000 -> 0 | AA14: =Z14/3600 -> 0 | AB14: =SUM($AA$3:AA14) -> 0
A15: Low | B15: 12 | C15: 12 | D15: 0.2 | E15: =($D16-$D14)/2/3.6 -> 0.23611111 | F15: =($D16-$D14)/2 -> 0.85 | H15: =$D15/3.6 -> 0.055555556 | I15: ='Panigale V4s 21 Data'!$B$8*'Panigale V4s 21 Data'!$B$5*'Panigale V4s 21 Data'!$B$7*0.5*(Calculations!$H15*Calculations!$H15) -> 0.00034666531 | J15: =$E15*'Panigale V4s 21 Data'!$B$3 -> 63.75 | K15: ='Panigale V4s 21 Data'!$B$12 -> 52.974 | L15: =I15+J15+K15 -> 116.72435 | M15: =L15*H15 -> 6.4846859 | N15: =M15/1000/3600 -> 1.8013016e-06 | O15: =IF(M15>0,M15,0) -> 6.4846859 | P15: =IF(N15>0,N15,0) -> 1.8013016e-06 | Q15: =SUM($P$3:P15) -> 1.8013016e-06 | R15: =IF(M15<0,M15*-1,0) -> 0 | S15: =IF(M15<0,M15/1000/3600*-1,0) -> 0 | T15: =SUM($S$3:S15) -> 0 | V15: =R15*0.91*0.95*0.91 -> 0 | W15: =IF(M15<0,SUM($V$3:V15),0) -> 0 | Y15: 0 | Z15: =Y15/1000 -> 0 | AA15: =Z15/3600 -> 0 | AB15: =SUM($AA$3:AA15) -> 0
A16: Low | B16: 13 | C16: 13 | D16: 1.7 | E16: =($D17-$D15)/2/3.6 -> 0.72222222 | F16: =($D17-$D15)/2 -> 2.6 | H16: =$D16/3.6 -> 0.47222222 | I16: ='Panigale V4s 21 Data'!$B$8*'Panigale V4s 21 Data'!$B$5*'Panigale V4s 21 Data'!$B$7*0.5*(Calculations!$H16*Calculations!$H16) -> 0.025046569 | J16: =$E16*'Panigale V4s 21 Data'!$B$3 -> 195 | K16: ='Panigale V4s 21 Data'!$B$12 -> 52.974 | L16: =I16+J16+K16 -> 247.99905 | M16: =L16*H16 -> 117.11066 | N16: =M16/1000/3600 -> 3.2530739e-05 | O16: =IF(M16>0,M16,0) -> 117.11066 | P16: =IF(N16>0,N16,0) -> 3.2530739e-05 | Q16: =SUM($P$3:P16) -> 3.4332041e-05 | R16: =IF(M16<0,M16*-1,0) -> 0 | S16: =IF(M16<0,M16/1000/3600*-1,0) -> 0 | T16: =SUM($S$3:S16) -> 0 | V16: =R16*0.91*0.95*0.91 -> 0 | W16: =IF(M16<0,SUM($V$3:V16),0) -> 0 | Y16: 0 | Z16: =Y16/1000 -> 0 | AA16: =Z16/3600 -> 0 | AB16: =SUM($AA$3:AA16) -> 0
A17: Low | B17: 14 | C17: 14 | D17: 5.4 | E17: =($D18-$D16)/2/3.6 -> 1.1388889 | F17: =($D18-$D16)/2 -> 4.1 | H17: =$D17/3.6 -> 1.5 | I17: ='Panigale V4s 21 Data'!$B$8*'Panigale V4s 21 Data'!$B$5*'Panigale V4s 21 Data'!$B$7*0.5*(Calculations!$H17*Calculations!$H17) -> 0.25271901 | J17: =$E17*'Panigale V4s 21 Data'!$B$3 -> 307.5 | K17: ='Panigale V4s 21 Data'!$B$12 -> 52.974 | L17: =I17+J17+K17 -> 360.72672 | M17: =L17*H17 -> 541.09008 | N17: =M17/1000/3600 -> 0.0001503028 | O17: =IF(M17>0,M17,0) -> 541.09008 | P17: =IF(N17>0,N17,0) -> 0.0001503028 | Q17: =SUM($P$3:P17) -> 0.00018463484 | R17: =IF(M17<0,M17*-1,0) -> 0 | S17: =IF(M17<0,M17/1000/3600*-1,0) -> 0 | T17: =SUM($S$3:S17) -> 0 | V17: =R17*0.91*0.95*0.91 -> 0 | W17: =IF(M17<0,SUM($V$3:V17),0) -> 0 | Y17: 0 | Z17: =Y17/1000 -> 0 | AA17: =Z17/3600 -> 0 | AB17: =SUM($AA$3:AA17) -> 0
... A48: Low | B48: 45 | C48: 45 | D48: 20.9 | E48: =($D49-$D47)/2/3.6 -> -0.25 | F48: =($D49-$D47)/2 -> -0.9 | H48: =$D48/3.6 -> 5.8055556 | I48: ='Panigale V4s 21 Data'!$B$8*'Panigale V4s 21 Data'!$B$5*'Panigale V4s 21 Data'!$B$7*0.5*(Calculations!$H48*Calculations!$H48) -> 3.7856718 | J48: =$E48*'Panigale V4s 21 Data'!$B$3 -> -67.5 | K48: ='Panigale V4s 21 Data'!$B$12 -> 52.974 | L48: =I48+J48+K48 -> -10.740328 | M48: =L48*H48 -> -62.353572 | N48: =M48/1000/3600 -> -1.7320437e-05 | O48: =IF(M48>0,M48,0) -> 0 | P48: =IF(N48>0,N48,0) -> 0 | Q48: =SUM($P$3:P48) -> 0.0090021333 | R48: =IF(M48<0,M48*-1,0) -> 62.353572 | S48: =IF(M48<0,M48/1000/3600*-1,0) -> 1.7320437e-05 | T48: =SUM($S$3:S48) -> 0.0028487952 | V48: =R48*0.91*0.95*0.91 -> 49.053243 | W48: =IF(M48<0,SUM($V$3:V48),0) -> 8068.0786 | Y48: 0 | Z48: =Y48/1000 -> 0 | AA48: =Z48/3600 -> 0 | AB48: =SUM($AA$3:AA48) -> 0
A49: Low | B49: 46 | C49: 46 | D49: 20.4 | E49: =($D50-$D48)/2/3.6 -> -0.19444444 | F49: =($D50-$D48)/2 -> -0.7 | H49: =$D49/3.6 -> 5.6666667 | I49: ='Panigale V4s 21 Data'!$B$8*'Panigale V4s 21 Data'!$B$5*'Panigale V4s 21 Data'!$B$7*0.5*(Calculations!$H49*Calculations!$H49) -> 3.6067059 | J49: =$E49*'Panigale V4s 21 Data'!$B$3 -> -52.5 | K49: ='Panigale V4s 21 Data'!$B$12 -> 52.974 | L49: =I49+J49+K49 -> 4.0807059 | M49: =L49*H49 -> 23.124 | N49: =M49/1000/3600 -> 6.4233333e-06 | O49: =IF(M49>0,M49,0) -> 23.124 | P49: =IF(N49>0,N49,0) -> 6.4233333e-06 | Q49: =SUM($P$3:P49) -> 0.0090085566 | R49: =IF(M49<0,M49*-1,0) -> 0 | S49: =IF(M49<0,M49/1000/3600*-1,0) -> 0 | T49: =SUM($S$3:S49) -> 0.0028487952 | V49: =R49*0.91*0.95*0.91 -> 0 | W49: =IF(M49<0,SUM($V$3:V49),0) -> 0 | Y49: =O49 -> 23.124 | Z49: =Y49/1000 -> 0.023124 | AA49: =Z49/3600 -> 6.4233333e-06 | AB49: =SUM($AA$3:AA49) -> 6.4233333e-06
A50: Low | B50: 47 | C50: 47 | D50: 19.5 | E50: =($D51-$D49)/2/3.6 -> -0.27777778 | F50: =($D51-$D49)/2 -> -1 | H50: =$D50/3.6 -> 5.4166667 | I50: ='Panigale V4s 21 Data'!$B$8*'Panigale V4s 21 Data'!$B$5*'Panigale V4s 21 Data'!$B$7*0.5*(Calculations!$H50*Calculations!$H50) -> 3.2954871 | J50: =$E50*'Panigale V4s 21 Data'!$B$3 -> -75 | K50: ='Panigale V4s 21 Data'!$B$12 -> 52.974 | L50: =I50+J50+K50 -> -18.730513 | M50: =L50*H50 -> -101.45694 | N50: =M50/1000/3600 -> -2.8182485e-05 | O50: =IF(M50>0,M50,0) -> 0 | P50: =IF(N50>0,N50,0) -> 0 | Q50: =SUM($P$3:P50) -> 0.0090085566 | R50: =IF(M50<0,M50*-1,0) -> 101.45694 | S50: =IF(M50<0,M50/1000/3600*-1,0) -> 2.8182485e-05 | T50: =SUM($S$3:S50) -> 0.0028769777 | V50: =R50*0.91*0.95*0.91 -> 79.815671 | W50: =IF(M50<0,SUM($V$50:V50),0) -> 79.815671 | Y50: 0 | Z50: =Y50/1000 -> 0 | AA50: =Z50/3600 -> 0 | AB50: =SUM($AA$3:AA50) -> 6.4233333e-06
A51: Low | B51: 48 | C51: 48 | D51: 18.4 | E51: =($D52-$D50)/2/3.6 -> -0.23611111 | F51: =($D52-$D50)/2 -> -0.85 | H51: =$D51/3.6 -> 5.1111111 | I51: ='Panigale V4s 21 Data'!$B$8*'Panigale V4s 21 Data'!$B$5*'Panigale V4s 21 Data'!$B$7*0.5*(Calculations!$H51*Calculations!$H51) -> 2.9341752 | J51: =$E51*'Panigale V4s 21 Data'!$B$3 -> -63.75 | K51: ='Panigale V4s 21 Data'!$B$12 -> 52.974 | L51: =I51+J51+K51 -> -7.8418248 | M51: =L51*H51 -> -40.080438 | N51: =M51/1000/3600 -> -1.1133455e-05 | O51: =IF(M51>0,M51,0) -> 0 | P51: =IF(N51>0,N51,0) -> 0 | Q51: =SUM($P$3:P51) -> 0.0090085566 | R51: =IF(M51<0,M51*-1,0) -> 40.080438 | S51: =IF(M51<0,M51/1000/3600*-1,0) -> 1.1133455e-05 | T51: =SUM($S$3:S51) -> 0.0028881112 | V51: =R51*0.91*0.95*0.91 -> 31.53108 | W51: =IF(M51<0,SUM($V$50:V51),0) -> 111.34675 | Y51: 0 | Z51: =Y51/1000 -> 0 | AA51: =Z51/3600 -> 0 | AB51: =SUM($AA$3:AA51) -> 6.4233333e-06
A52: Low | B52: 49 | C52: 49 | D52: 17.8 | E52: =($D53-$D51)/2/3.6 -> -0.083333333 | F52: =($D53-$D51)/2 -> -0.3 | H52: =$D52/3.6 -> 4.9444444 | I52: ='Panigale V4s 21 Data'!$B$8*'Panigale V4s 21 Data'!$B$5*'Panigale V4s 21 Data'!$B$7*0.5*(Calculations!$H52*Calculations!$H52) -> 2.7459359 | J52: =$E52*'Panigale V4s 21 Data'!$B$3 -> -22.5 | K52: ='Panigale V4s 21 Data'!$B$12 -> 52.974 | L52: =I52+J52+K52 -> 33.219936 | M52: =L52*H52 -> 164.25413 | N52: =M52/1000/3600 -> 4.5626147e-05 | O52: =IF(M52>0,M52,0) -> 164.25413 | P52: =IF(N52>0,N52,0) -> 4.5626147e-05 | Q52: =SUM($P$3:P52) -> 0.0090541828 | R52: =IF(M52<0,M52*-1,0) -> 0 | S52: =IF(M52<0,M52/1000/3600*-1,0) -> 0 | T52: =SUM($S$3:S52) -> 0.0028881112 | V52: =R52*0.91*0.95*0.91 -> 0 | W52: =IF(M52<0,SUM($V$3:V52),0) -> 0 | Y52: =W51 -> 111.34675 | Z52: =Y52/1000 -> 0.11134675 | AA52: =Z52/3600 -> 3.0929653e-05 | AB52: =SUM($AA$3:AA52) -> 3.7352987e-05
A53: Low | B53: 50 | C53: 50 | D53: 17.8 | E53: =($D54-$D52)/2/3.6 -> -0.055555556 | F53: =($D54-$D52)/2 -> -0.2 | H53: =$D53/3.6 -> 4.9444444 | I53: ='Panigale V4s 21 Data'!$B$8*'Panigale V4s 21 Data'!$B$5*'Panigale V4s 21 Data'!$B$7*0.5*(Calculations!$H53*Calculations!$H53) -> 2.7459359 | J53: =$E53*'Panigale V4s 21 Data'!$B$3 -> -15 | K53: ='Panigale V4s 21 Data'!$B$12 -> 52.974 | L53: =I53+J53+K53 -> 40.719936 | M53: =L53*H53 -> 201.33746 | N53: =M53/1000/3600 -> 5.5927072e-05 | O53: =IF(M53>0,M53,0) -> 201.33746 | P53: =IF(N53>0,N53,0) -> 5.5927072e-05 | Q53: =SUM($P$3:P53) -> 0.0091101099 | R53: =IF(M53<0,M53*-1,0) -> 0 | S53: =IF(M53<0,M53/1000/3600*-1,0) -> 0 | T53: =SUM($S$3:S53) -> 0.0028881112 | V53: =R53*0.91*0.95*0.91 -> 0 | W53: =IF(M53<0,SUM($V$3:V53),0) -> 0 | Y53: 0 | Z53: =Y53/1000 -> 0 | AA53: =Z53/3600 -> 0 | AB53: =SUM($AA$3:AA53) -> 3.7352987e-05
A54: Low | B54: 51 | C54: 51 | D54: 17.4 | E54: =($D55-$D53)/2/3.6 -> -0.29166667 | F54: =($D55-$D53)/2 -> -1.05 | H54: =$D54/3.6 -> 4.8333333 | I54: ='Panigale V4s 21 Data'!$B$8*'Panigale V4s 21 Data'!$B$5*'Panigale V4s 21 Data'!$B$7*0.5*(Calculations!$H54*Calculations!$H54) -> 2.6239097 | J54: =$E54*'Panigale V4s 21 Data'!$B$3 -> -78.75 | K54: ='Panigale V4s 21 Data'!$B$12 -> 52.974 | L54: =I54+J54+K54 -> -23.15209 | M54: =L54*H54 -> -111.90177 | N54: =M54/1000/3600 -> -3.1083825e-05 | O54: =IF(M54>0,M54,0) -> 0 | P54: =IF(N54>0,N54,0) -> 0 | Q54: =SUM($P$3:P54) -> 0.0091101099 | R54: =IF(M54<0,M54*-1,0) -> 111.90177 | S54: =IF(M54<0,M54/1000/3600*-1,0) -> 3.1083825e-05 | T54: =SUM($S$3:S54) -> 0.002919195 | V54: =R54*0.91*0.95*0.91 -> 88.032563 | W54: =IF(M54<0,SUM($V$54:V54),0) -> 88.032563 | Y54: 0 | Z54: =Y54/1000 -> 0 | AA54: =Z54/3600 -> 0 | AB54: =SUM($AA$3:AA54) -> 3.7352987e-05
A55: Low | B55: 52 | C55: 52 | D55: 15.7 | E55: =($D56-$D54)/2/3.6 -> -0.59722222 | F55: =($D56-$D54)/2 -> -2.15 | H55: =$D55/3.6 -> 4.3611111 | I55: ='Panigale V4s 21 Data'!$B$8*'Panigale V4s 21 Data'!$B$5*'Panigale V4s 21 Data'!$B$7*0.5*(Calculations!$H55*Calculations!$H55) -> 2.1362383 | J55: =$E55*'Panigale V4s 21 Data'!$B$3 -> -161.25 | K55: ='Panigale V4s 21 Data'!$B$12 -> 52.974 | L55: =I55+J55+K55 -> -106.13976 | M55: =L55*H55 -> -462.88729 | N55: =M55/1000/3600 -> -0.0001285798 | O55: =IF(M55>0,M55,0) -> 0 | P55: =IF(N55>0,N55,0) -> 0 | Q55: =SUM($P$3:P55) -> 0.0091101099 | R55: =IF(M55<0,M55*-1,0) -> 462.88729 | S55: =IF(M55<0,M55/1000/3600*-1,0) -> 0.0001285798 | T55: =SUM($S$3:S55) -> 0.0030477748 | V55: =R55*0.91*0.95*0.91 -> 364.15112 | W55: =IF(M55<0,SUM($V$54:V55),0) -> 452.18368 | Y55: 0 | Z55: =Y55/1000 -> 0 | AA55: =Z55/3600 -> 0 | AB55: =SUM($AA$3:AA55) -> 3.7352987e-05
A56: Low | B56: 53 | C56: 53 | D56: 13.1 | E56: =($D57-$D55)/2/3.6 -> -0.5 | F56: =($D57-$D55)/2 -> -1.8 | H56: =$D56/3.6 -> 3.6388889 | I56: ='Panigale V4s 21 Data'!$B$8*'Panigale V4s 21 Data'!$B$5*'Panigale V4s 21 Data'!$B$7*0.5*(Calculations!$H56*Calculations!$H56) -> 1.4872808 | J56: =$E56*'Panigale V4s 21 Data'!$B$3 -> -135 | K56: ='Panigale V4s 21 Data'!$B$12 -> 52.974 | L56: =I56+J56+K56 -> -80.538719 | M56: =L56*H56 -> -293.07145 | N56: =M56/1000/3600 -> -8.1408736e-05 | O56: =IF(M56>0,M56,0) -> 0 | P56: =IF(N56>0,N56,0) -> 0 | Q56: =SUM($P$3:P56) -> 0.0091101099 | R56: =IF(M56<0,M56*-1,0) -> 293.07145 | S56: =IF(M56<0,M56/1000/3600*-1,0) -> 8.1408736e-05 | T56: =SUM($S$3:S56) -> 0.0031291835 | V56: =R56*0.91*0.95*0.91 -> 230.55784 | W56: =IF(M56<0,SUM($V$54:V56),0) -> 682.74153 | Y56: 0 | Z56: =Y56/1000 -> 0 | AA56: =Z56/3600 -> 0 | AB56: =SUM($AA$3:AA56) -> 3.7352987e-05
A57: Low | B57: 54 | C57: 54 | D57: 12.1 | E57: =($D58-$D56)/2/3.6 -> -0.15277778 | F57: =($D58-$D56)/2 -> -0.55 | H57: =$D57/3.6 -> 3.3611111 | I57: ='Panigale V4s 21 Data'!$B$8*'Panigale V4s 21 Data'!$B$5*'Panigale V4s 21 Data'!$B$7*0.5*(Calculations!$H57*Calculations!$H57) -> 1.2688817 | J57: =$E57*'Panigale V4s 21 Data'!$B$3 -> -41.25 | K57: ='Panigale V4s 21 Data'!$B$12 -> 52.974 | L57: =I57+J57+K57 -> 12.992882 | M57: =L57*H57 -> 43.670519 | N57: =M57/1000/3600 -> 1.21307e-05 | O57: =IF(M57>0,M57,0) -> 43.670519 | P57: =IF(N57>0,N57,0) -> 1.21307e-05 | Q57: =SUM($P$3:P57) -> 0.0091222406 | R57: =IF(M57<0,M57*-1,0) -> 0 | S57: =IF(M57<0,M57/1000/3600*-1,0) -> 0 | T57: =SUM($S$3:S57) -> 0.0031291835 | V57: =R57*0.91*0.95*0.91 -> 0 | W57: =IF(M57<0,SUM($V$3:V57),0) -> 0 | Y57: =O57 -> 43.670519 | Z57: =Y57/1000 -> 0.043670519 | AA57: =Z57/3600 -> 1.21307e-05 | AB57: =SUM($AA$3:AA57) -> 4.9483686e-05
A58: Low | B58: 55 | C58: 55 | D58: 12 | E58: =($D59-$D57)/2/3.6 -> -0.013888889 | F58: =($D59-$D57)/2 -> -0.05 | H58: =$D58/3.6 -> 3.3333333 | I58: ='Panigale V4s 21 Data'!$B$8*'Panigale V4s 21 Data'!$B$5*'Panigale V4s 21 Data'!$B$7*0.5*(Calculations!$H58*Calculations!$H58) -> 1.2479951 | J58: =$E58*'Panigale V4s 21 Data'!$B$3 -> -3.75 | K58: ='Panigale V4s 21 Data'!$B$12 -> 52.974 | L58: =I58+J58+K58 -> 50.471995 | M58: =L58*H58 -> 168.23998 | N58: =M58/1000/3600 -> 4.6733329e-05 | O58: =IF(M58>0,M58,0) -> 168.23998 | P58: =IF(N58>0,N58,0) -> 4.6733329e-05 | Q58: =SUM($P$3:P58) -> 0.0091689739 | R58: =IF(M58<0,M58*-1,0) -> 0 | S58: =IF(M58<0,M58/1000/3600*-1,0) -> 0 | T58: =SUM($S$3:S58) -> 0.0031291835 | V58: =R58*0.91*0.95*0.91 -> 0 | W58: =IF(M58<0,SUM($V$3:V58),0) -> 0 | Y58: =O58 -> 168.23998 | Z58: =Y58/1000 -> 0.16823998 | AA58: =Z58/3600 -> 4.6733329e-05 | AB58: =SUM($AA$3:AA58) -> 9.6217015e-05
A59: Low | B59: 56 | C59: 56 | D59: 12 | E59: =($D60-$D58)/2/3.6 -> 0 | F59: =($D60-$D58)/2 -> 0 | H59: =$D59/3.6 -> 3.3333333 | I59: ='Panigale V4s 21 Data'!$B$8*'Panigale V4s 21 Data'!$B$5*'Panigale V4s 21 Data'!$B$7*0.5*(Calculations!$H59*Calculations!$H59) -> 1.2479951 | J59: =$E59*'Panigale V4s 21 Data'!$B$3 -> 0 | K59: ='Panigale V4s 21 Data'!$B$12 -> 52.974 | L59: =I59+J59+K59 -> 54.221995 | M59: =L59*H59 -> 180.73998 | N59: =M59/1000/3600 -> 5.0205551e-05 | O59: =IF(M59>0,M59,0) -> 180.73998 | P59: =IF(N59>0,N59,0) -> 5.0205551e-05 | Q59: =SUM($P$3:P59) -> 0.0092191794 | R59: =IF(M59<0,M59*-1,0) -> 0 | S59: =IF(M59<0,M59/1000/3600*-1,0) -> 0 | T59: =SUM($S$3:S59) -> 0.0031291835 | V59: =R59*0.91*0.95*0.91 -> 0 | W59: =IF(M59<0,SUM($V$3:V59),0) -> 0 | Y59: =O59 -> 180.73998 | Z59: =Y59/1000 -> 0.18073998 | AA59: =Z59/3600 -> 5.0205551e-05 | AB59: =SUM($AA$3:AA59) -> 0.00014642257
A60: Low | B60: 57 | C60: 57 | D60: 12 | E60: =($D61-$D59)/2/3.6 -> 0.041666667 | F60: =($D61-$D59)/2 -> 0.15 | H60: =$D60/3.6 -> 3.3333333 | I60: ='Panigale V4s 21 Data'!$B$8*'Panigale V4s 21 Data'!$B$5*'Panigale V4s 21 Data'!$B$7*0.5*(Calculations!$H60*Calculations!$H60) -> 1.2479951 | J60: =$E60*'Panigale V4s 21 Data'!$B$3 -> 11.25 | K60: ='Panigale V4s 21 Data'!$B$12 -> 52.974 | L60: =I60+J60+K60 -> 65.471995 | M60: =L60*H60 -> 218.23998 | N60: =M60/1000/3600 -> 6.0622218e-05 | O60: =IF(M60>0,M60,0) -> 218.23998 | P60: =IF(N60>0,N60,0) -> 6.0622218e-05 | Q60: =SUM($P$3:P60) -> 0.0092798017 | R60: =IF(M60<0,M60*-1,0) -> 0 | S60: =IF(M60<0,M60/1000/3600*-1,0) -> 0 | T60: =SUM($S$3:S60) -> 0.0031291835 | V60: =R60*0.91*0.95*0.91 -> 0 | W60: =IF(M60<0,SUM($V$3:V60),0) -> 0 | Y60: =O60 -> 218.23998 | Z60: =Y60/1000 -> 0.21823998 | AA60: =Z60/3600 -> 6.0622218e-05 | AB60: =SUM($AA$3:AA60) -> 0.00020704478
A61: Low | B61: 58 | C61: 58 | D61: 12.3 | E61: =($D62-$D60)/2/3.6 -> 0.083333333 | F61: =($D62-$D60)/2 -> 0.3 | H61: =$D61/3.6 -> 3.4166667 | I61: ='Panigale V4s 21 Data'!$B$8*'Panigale V4s 21 Data'!$B$5*'Panigale V4s 21 Data'!$B$7*0.5*(Calculations!$H61*Calculations!$H61) -> 1.3111749 | J61: =$E61*'Panigale V4s 21 Data'!$B$3 -> 22.5 | K61: ='Panigale V4s 21 Data'!$B$12 -> 52.974 | L61: =I61+J61+K61 -> 76.785175 | M61: =L61*H61 -> 262.34935 | N61: =M61/1000/3600 -> 7.2874819e-05 | O61: =IF(M61>0,M61,0) -> 262.34935 | P61: =IF(N61>0,N61,0) -> 7.2874819e-05 | Q61: =SUM($P$3:P61) -> 0.0093526765 | R61: =IF(M61<0,M61*-1,0) -> 0 | S61: =IF(M61<0,M61/1000/3600*-1,0) -> 0 | T61: =SUM($S$3:S61) -> 0.0031291835 | V61: =R61*0.91*0.95*0.91 -> 0 | W61: =IF(M61<0,SUM($V$3:V61),0) -> 0 | Y61: =W56-SUM(Y57:Y60) -> 71.851057 | Z61: =Y61/1000 -> 0.071851057 | AA61: =Z61/3600 -> 1.9958627e-05 | AB61: =SUM($AA$3:AA61) -> 0.00022700341
A62: Low | B62: 59 | C62: 59 | D62: 12.6 | E62: =($D63-$D61)/2/3.6 -> 0.33333333 | F62: =($D63-$D61)/2 -> 1.2 | H62: =$D62/3.6 -> 3.5 | I62: ='Panigale V4s 21 Data'!$B$8*'Panigale V4s 21 Data'!$B$5*'Panigale V4s 21 Data'!$B$7*0.5*(Calculations!$H62*Calculations!$H62) -> 1.3759146 | J62: =$E62*'Panigale V4s 21 Data'!$B$3 -> 90 | K62: ='Panigale V4s 21 Data'!$B$12 -> 52.974 | L62: =I62+J62+K62 -> 144.34991 | M62: =L62*H62 -> 505.2247 | N62: =M62/1000/3600 -> 0.00014034019 | O62: =IF(M62>0,M62,0) -> 505.2247 | P62: =IF(N62>0,N62,0) -> 0.00014034019 | Q62: =SUM($P$3:P62) -> 0.0094930167 | R62: =IF(M62<0,M62*-1,0) -> 0 | S62: =IF(M62<0,M62/1000/3600*-1,0) -> 0 | T62: =SUM($S$3:S62) -> 0.0031291835 | V62: =R62*0.91*0.95*0.91 -> 0 | W62: =IF(M62<0,SUM($V$3:V62),0) -> 0 | Y62: 0 | Z62: =Y62/1000 -> 0 | AA62: =Z62/3600 -> 0 | AB62: =SUM($AA$3:AA62) -> 0.00022700341
A63: Low | B63: 60 | C63: 60 | D63: 14.7 | E63: =($D64-$D62)/2/3.6 -> 0.375 | F63: =($D64-$D62)/2 -> 1.35 | H63: =$D63/3.6 -> 4.0833333 | I63: ='Panigale V4s 21 Data'!$B$8*'Panigale V4s 21 Data'!$B$5*'Panigale V4s 21 Data'!$B$7*0.5*(Calculations!$H63*Calculations!$H63) -> 1.8727727 | J63: =$E63*'Panigale V4s 21 Data'!$B$3 -> 101.25 | K63: ='Panigale V4s 21 Data'!$B$12 -> 52.974 | L63: =I63+J63+K63 -> 156.09677 | M63: =L63*H63 -> 637.39516 | N63: =M63/1000/3600 -> 0.00017705421 | O63: =IF(M63>0,M63,0) -> 637.39516 | P63: =IF(N63>0,N63,0) -> 0.00017705421 | Q63: =SUM($P$3:P63) -> 0.0096700709 | R63: =IF(M63<0,M63*-1,0) -> 0 | S63: =IF(M63<0,M63/1000/3600*-1,0) -> 0 | T63: =SUM($S$3:S63) -> 0.0031291835 | V63: =R63*0.91*0.95*0.91 -> 0 | W63: =IF(M63<0,SUM($V$3:V63),0) -> 0 | Y63: 0 | Z63: =Y63/1000 -> 0 | AA63: =Z63/3600 -> 0 | AB63: =SUM($AA$3:AA63) -> 0.00022700341
A64: Low | B64: 61 | C64: 61 | D64: 15.3 | E64: =($D65-$D63)/2/3.6 -> 0.16666667 | F64: =($D65-$D63)/2 -> 0.6 | H64: =$D64/3.6 -> 4.25 | I64: ='Panigale V4s 21 Data'!$B$8*'Panigale V4s 21 Data'!$B$5*'Panigale V4s 21 Data'!$B$7*0.5*(Calculations!$H64*Calculations!$H64) -> 2.0287721 | J64: =$E64*'Panigale V4s 21 Data'!$B$3 -> 45 | K64: ='Panigale V4s 21 Data'!$B$12 -> 52.974 | L64: =I64+J64+K64 -> 100.00277 | M64: =L64*H64 -> 425.01178 | N64: =M64/1000/3600 -> 0.00011805883 | O64: =IF(M64>0,M64,0) -> 425.01178 | P64: =IF(N64>0,N64,0) -> 0.00011805883 | Q64: =SUM($P$3:P64) -> 0.0097881297 | R64: =IF(M64<0,M64*-1,0) -> 0 | S64: =IF(M64<0,M64/1000/3600*-1,0) -> 0 | T64: =SUM($S$3:S64) -> 0.0031291835 | V64: =R64*0.91*0.95*0.91 -> 0 | W64: =IF(M64<0,SUM($V$3:V64),0) -> 0 | Y64: 0 | Z64: =Y64/1000 -> 0 | AA64: =Z64/3600 -> 0 | AB64: =SUM($AA$3:AA64) -> 0.00022700341
A65: Low | B65: 62 | C65: 62 | D65: 15.9 | E65: =($D66-$D64)/2/3.6 -> 0.125 | F65: =($D66-$D64)/2 -> 0.45 | H65: =$D65/3.6 -> 4.4166667 | I65: ='Panigale V4s 21 Data'!$B$8*'Panigale V4s 21 Data'!$B$5*'Panigale V4s 21 Data'!$B$7*0.5*(Calculations!$H65*Calculations!$H65) -> 2.1910114 | J65: =$E65*'Panigale V4s 21 Data'!$B$3 -> 33.75 | K65: ='Panigale V4s 21 Data'!$B$12 -> 52.974 | L65: =I65+J65+K65 -> 88.915011 | M65: =L65*H65 -> 392.70797 | N65: =M65/1000/3600 -> 0.00010908555 | O65: =IF(M65>0,M65,0) -> 392.70797 | P65: =IF(N65>0,N65,0) -> 0.00010908555 | Q65: =SUM($P$3:P65) -> 0.0098972153 | R65: =IF(M65<0,M65*-1,0) -> 0 | S65: =IF(M65<0,M65/1000/3600*-1,0) -> 0 | T65: =SUM($S$3:S65) -> 0.0031291835 | V65: =R65*0.91*0.95*0.91 -> 0 | W65: =IF(M65<0,SUM($V$3:V65),0) -> 0 | Y65: 0 | Z65: =Y65/1000 -> 0 | AA65: =Z65/3600 -> 0 | AB65: =SUM($AA$3:AA65) -> 0.00022700341
A66: Low | B66: 63 | C66: 63 | D66: 16.2 | E66: =($D67-$D65)/2/3.6 -> 0.16666667 | F66: =($D67-$D65)/2 -> 0.6 | H66: =$D66/3.6 -> 4.5 | I66: ='Panigale V4s 21 Data'!$B$8*'Panigale V4s 21 Data'!$B$5*'Panigale V4s 21 Data'!$B$7*0.5*(Calculations!$H66*Calculations!$H66) -> 2.2744711 | J66: =$E66*'Panigale V4s 21 Data'!$B$3 -> 45 | K66: ='Panigale V4s 21 Data'!$B$12 -> 52.974 | L66: =I66+J66+K66 -> 100.24847 | M66: =L66*H66 -> 451.11812 | N66: =M66/1000/3600 -> 0.00012531059 | O66: =IF(M66>0,M66,0) -> 451.11812 | P66: =IF(N66>0,N66,0) -> 0.00012531059 | Q66: =SUM($P$3:P66) -> 0.010022526 | R66: =IF(M66<0,M66*-1,0) -> 0 | S66: =IF(M66<0,M66/1000/3600*-1,0) -> 0 | T66: =SUM($S$3:S66) -> 0.0031291835 | V66: =R66*0.91*0.95*0.91 -> 0 | W66: =IF(M66<0,SUM($V$3:V66),0) -> 0 | Y66: 0 | Z66: =Y66/1000 -> 0 | AA66: =Z66/3600 -> 0 | AB66: =SUM($AA$3:AA66) -> 0.00022700341
A67: Low | B67: 64 | C67: 64 | D67: 17.1 | E67: =($D68-$D66)/2/3.6 -> 0.22222222 | F67: =($D68-$D66)/2 -> 0.8 | H67: =$D67/3.6 -> 4.75 | I67: ='Panigale V4s 21 Data'!$B$8*'Panigale V4s 21 Data'!$B$5*'Panigale V4s 21 Data'!$B$7*0.5*(Calculations!$H67*Calculations!$H67) -> 2.5342101 | J67: =$E67*'Panigale V4s 21 Data'!$B$3 -> 60 | K67: ='Panigale V4s 21 Data'!$B$12 -> 52.974 | L67: =I67+J67+K67 -> 115.50821 | M67: =L67*H67 -> 548.664 | N67: =M67/1000/3600 -> 0.00015240667 | O67: =IF(M67>0,M67,0) -> 548.664 | P67: =IF(N67>0,N67,0) -> 0.00015240667 | Q67: =SUM($P$3:P67) -> 0.010174933 | R67: =IF(M67<0,M67*-1,0) -> 0 | S67: =IF(M67<0,M67/1000/3600*-1,0) -> 0 | T67: =SUM($S$3:S67) -> 0.0031291835 | V67: =R67*0.91*0.95*0.91 -> 0 | W67: =IF(M67<0,SUM($V$3:V67),0) -> 0 | Y67: 0 | Z67: =Y67/1000 -> 0 | AA67: =Z67/3600 -> 0 | AB67: =SUM($AA$3:AA67) -> 0.00022700341
A68: Low | B68: 65 | C68: 65 | D68: 17.8 | E68: =($D69-$D67)/2/3.6 -> 0.13888889 | F68: =($D69-$D67)/2 -> 0.5 | H68: =$D68/3.6 -> 4.9444444 | I68: ='Panigale V4s 21 Data'!$B$8*'Panigale V4s 21 Data'!$B$5*'Panigale V4s 21 Data'!$B$7*0.5*(Calculations!$H68*Calculations!$H68) -> 2.7459359 | J68: =$E68*'Panigale V4s 21 Data'!$B$3 -> 37.5 | K68: ='Panigale V4s 21 Data'!$B$12 -> 52.974 | L68: =I68+J68+K68 -> 93.219936 | M68: =L68*H68 -> 460.92079 | N68: =M68/1000/3600 -> 0.00012803355 | O68: =IF(M68>0,M68,0) -> 460.92079 | P68: =IF(N68>0,N68,0) -> 0.00012803355 | Q68: =SUM($P$3:P68) -> 0.010302966 | R68: =IF(M68<0,M68*-1,0) -> 0 | S68: =IF(M68<0,M68/1000/3600*-1,0) -> 0 | T68: =SUM($S$3:S68) -> 0.0031291835 | V68: =R68*0.91*0.95*0.91 -> 0 | W68: =IF(M68<0,SUM($V$3:V68),0) -> 0 | Y68: 0 | Z68: =Y68/1000 -> 0 | AA68: =Z68/3600 -> 0 | AB68: =SUM($AA$3:AA68) -> 0.00022700341
A69: Low | B69: 66 | C69: 66 | D69: 18.1 | E69: =($D70-$D68)/2/3.6 -> 0.083333333 | F69: =($D70-$D68)/2 -> 0.3 | H69: =$D69/3.6 -> 5.0277778 | I69: ='Panigale V4s 21 Data'!$B$8*'Panigale V4s 21 Data'!$B$5*'Panigale V4s 21 Data'!$B$7*0.5*(Calculations!$H69*Calculations!$H69) -> 2.8392755 | J69: =$E69*'Panigale V4s 21 Data'!$B$3 -> 22.5 | K69: ='Panigale V4s 21 Data'!$B$12 -> 52.974 | L69: =I69+J69+K69 -> 78.313276 | M69: =L69*H69 -> 393.74175 | N69: =M69/1000/3600 -> 0.00010937271 | O69: =IF(M69>0,M69,0) -> 393.74175 | P69: =IF(N69>0,N69,0) -> 0.00010937271 | Q69: =SUM($P$3:P69) -> 0.010412339 | R69: =IF(M69<0,M69*-1,0) -> 0 | S69: =IF(M69<0,M69/1000/3600*-1,0) -> 0 | T69: =SUM($S$3:S69) -> 0.0031291835 | V69: =R69*0.91*0.95*0.91 -> 0 | W69: =IF(M69<0,SUM($V$3:V69),0) -> 0 | Y69: 0 | Z69: =Y69/1000 -> 0 | AA69: =Z69/3600 -> 0 | AB69: =SUM($AA$3:AA69) -> 0.00022700341
A70: Low | B70: 67 | C70: 67 | D70: 18.4 | E70: =($D71-$D69)/2/3.6 -> 0.30555556 | F70: =($D71-$D69)/2 -> 1.1 | H70: =$D70/3.6 -> 5.1111111 | I70: ='Panigale V4s 21 Data'!$B$8*'Panigale V4s 21 Data'!$B$5*'Panigale V4s 21 Data'!$B$7*0.5*(Calculations!$H70*Calculations!$H70) -> 2.9341752 | J70: =$E70*'Panigale V4s 21 Data'!$B$3 -> 82.5 | K70: ='Panigale V4s 21 Data'!$B$12 -> 52.974 | L70: =I70+J70+K70 -> 138.40818 | M70: =L70*H70 -> 707.41956 | N70: =M70/1000/3600 -> 0.00019650543 | O70: =IF(M70>0,M70,0) -> 707.41956 | P70: =IF(N70>0,N70,0) -> 0.00019650543 | Q70: =SUM($P$3:P70) -> 0.010608844 | R70: =IF(M70<0,M70*-1,0) -> 0 | S70: =IF(M70<0,M70/1000/3600*-1,0) -> 0 | T70: =SUM($S$3:S70) -> 0.0031291835 | V70: =R70*0.91*0.95*0.91 -> 0 | W70: =IF(M70<0,SUM($V$3:V70),0) -> 0 | Y70: 0 | Z70: =Y70/1000 -> 0 | AA70: =Z70/3600 -> 0 | AB70: =SUM($AA$3:AA70) -> 0.00022700341
A71: Low | B71: 68 | C71: 68 | D71: 20.3 | E71: =($D72-$D70)/2/3.6 -> 0.66666667 | F71: =($D72-$D70)/2 -> 2.4 | H71: =$D71/3.6 -> 5.6388889 | I71: ='Panigale V4s 21 Data'!$B$8*'Panigale V4s 21 Data'!$B$5*'Panigale V4s 21 Data'!$B$7*0.5*(Calculations!$H71*Calculations!$H71) -> 3.5714327 | J71: =$E71*'Panigale V4s 21 Data'!$B$3 -> 180 | K71: ='Panigale V4s 21 Data'!$B$12 -> 52.974 | L71: =I71+J71+K71 -> 236.54543 | M71: =L71*H71 -> 1333.8534 | N71: =M71/1000/3600 -> 0.00037051484 | O71: =IF(M71>0,M71,0) -> 1333.8534 | P71: =IF(N71>0,N71,0) -> 0.00037051484 | Q71: =SUM($P$3:P71) -> 0.010979359 | R71: =IF(M71<0,M71*-1,0) -> 0 | S71: =IF(M71<0,M71/1000/3600*-1,0) -> 0 | T71: =SUM($S$3:S71) -> 0.0031291835 | V71: =R71*0.91*0.95*0.91 -> 0 | W71: =IF(M71<0,SUM($V$3:V71),0) -> 0 | Y71: 0 | Z71: =Y71/1000 -> 0 | AA71: =Z71/3600 -> 0 | AB71: =SUM($AA$3:AA71) -> 0.00022700341
A72: Low | B72: 69 | C72: 69 | D72: 23.2 | E72: =($D73-$D71)/2/3.6 -> 0.86111111 | F72: =($D73-$D71)/2 -> 3.1 | H72: =$D72/3.6 -> 6.4444444 | I72: ='Panigale V4s 21 Data'!$B$8*'Panigale V4s 21 Data'!$B$5*'Panigale V4s 21 Data'!$B$7*0.5*(Calculations!$H72*Calculations!$H72) -> 4.6647284 | J72: =$E72*'Panigale V4s 21 Data'!$B$3 -> 232.5 | K72: ='Panigale V4s 21 Data'!$B$12 -> 52.974 | L72: =I72+J72+K72 -> 290.13873 | M72: =L72*H72 -> 1869.7829 | N72: =M72/1000/3600 -> 0.00051938414 | O72: =IF(M72>0,M72,0) -> 1869.7829 | P72: =IF(N72>0,N72,0) -> 0.00051938414 | Q72: =SUM($P$3:P72) -> 0.011498743 | R72: =IF(M72<0,M72*-1,0) -> 0 | S72: =IF(M72<0,M72/1000/3600*-1,0) -> 0 | T72: =SUM($S$3:S72) -> 0.0031291835 | V72: =R72*0.91*0.95*0.91 -> 0 | W72: =IF(M72<0,SUM($V$3:V72),0) -> 0 | Y72: 0 | Z72: =Y72/1000 -> 0 | AA72: =Z72/3600 -> 0 | AB72: =SUM($AA$3:AA72) -> 0.00022700341
A73: Low | B73: 70 | C73: 70 | D73: 26.5 | E73: =($D74-$D72)/2/3.6 -> 0.91666667 | F73: =($D74-$D72)/2 -> 3.3 | H73: =$D73/3.6 -> 7.3611111 | I73: ='Panigale V4s 21 Data'!$B$8*'Panigale V4s 21 Data'!$B$5*'Panigale V4s 21 Data'!$B$7*0.5*(Calculations!$H73*Calculations!$H73) -> 6.0861428 | J73: =$E73*'Panigale V4s 21 Data'!$B$3 -> 247.5 | K73: ='Panigale V4s 21 Data'!$B$12 -> 52.974 | L73: =I73+J73+K73 -> 306.56014 | M73: =L73*H73 -> 2256.6233 | N73: =M73/1000/3600 -> 0.0006268398 | O73: =IF(M73>0,M73,0) -> 2256.6233 | P73: =IF(N73>0,N73,0) -> 0.0006268398 | Q73: =SUM($P$3:P73) -> 0.012125583 | R73: =IF(M73<0,M73*-1,0) -> 0 | S73: =IF(M73<0,M73/1000/3600*-1,0) -> 0 | T73: =SUM($S$3:S73) -> 0.0031291835 | V73: =R73*0.91*0.95*0.91 -> 0 | W73: =IF(M73<0,SUM($V$3:V73),0) -> 0 | Y73: 0 | Z73: =Y73/1000 -> 0 | AA73: =Z73/3600 -> 0 | AB73: =SUM($AA$3:AA73) -> 0.00022700341
... A90: Low | B90: 87 | C90: 87 | D90: 34.6 | E90: =($D91-$D89)/2/3.6 -> -0.15277778 | F90: =($D91-$D89)/2 -> -0.55 | H90: =$D90/3.6 -> 9.6111111 | I90: ='Panigale V4s 21 Data'!$B$8*'Panigale V4s 21 Data'!$B$5*'Panigale V4s 21 Data'!$B$7*0.5*(Calculations!$H90*Calculations!$H90) -> 10.375346 | J90: =$E90*'Panigale V4s 21 Data'!$B$3 -> -41.25 | K90: ='Panigale V4s 21 Data'!$B$12 -> 52.974 | L90: =I90+J90+K90 -> 22.099346 | M90: =L90*H90 -> 212.39927 | N90: =M90/1000/3600 -> 5.8999797e-05 | O90: =IF(M90>0,M90,0) -> 212.39927 | P90: =IF(N90>0,N90,0) -> 5.8999797e-05 | Q90: =SUM($P$3:P90) -> 0.0163421 | R90: =IF(M90<0,M90*-1,0) -> 0 | S90: =IF(M90<0,M90/1000/3600*-1,0) -> 0 | T90: =SUM($S$3:S90) -> 0.0031291835 | V90: =R90*0.91*0.95*0.91 -> 0 | W90: =IF(M90<0,SUM($V$3:V90),0) -> 0 | Y90: 0 | Z90: =Y90/1000 -> 0 | AA90: =Z90/3600 -> 0 | AB90: =SUM($AA$3:AA90) -> 0.00022700341
A91: Low | B91: 88 | C91: 88 | D91: 34.2 | E91: =($D92-$D90)/2/3.6 -> -0.375 | F91: =($D92-$D90)/2 -> -1.35 | H91: =$D91/3.6 -> 9.5 | I91: ='Panigale V4s 21 Data'!$B$8*'Panigale V4s 21 Data'!$B$5*'Panigale V4s 21 Data'!$B$7*0.5*(Calculations!$H91*Calculations!$H91) -> 10.13684 | J91: =$E91*'Panigale V4s 21 Data'!$B$3 -> -101.25 | K91: ='Panigale V4s 21 Data'!$B$12 -> 52.974 | L91: =I91+J91+K91 -> -38.13916 | M91: =L91*H91 -> -362.32202 | N91: =M91/1000/3600 -> -0.000100645 | O91: =IF(M91>0,M91,0) -> 0 | P91: =IF(N91>0,N91,0) -> 0 | Q91: =SUM($P$3:P91) -> 0.0163421 | R91: =IF(M91<0,M91*-1,0) -> 362.32202 | S91: =IF(M91<0,M91/1000/3600*-1,0) -> 0.000100645 | T91: =SUM($S$3:S91) -> 0.0032298285 | V91: =R91*0.91*0.95*0.91 -> 285.03692 | W91: =IF(M91<0,SUM($V$91:V91),0) -> 285.03692 | Y91: 0 | Z91: =Y91/1000 -> 0 | AA91: =Z91/3600 -> 0 | AB91: =SUM($AA$3:AA91) -> 0.00022700341
A92: Low | B92: 89 | C92: 89 | D92: 31.9 | E92: =($D93-$D91)/2/3.6 -> -0.95833333 | F92: =($D93-$D91)/2 -> -3.45 | H92: =$D92/3.6 -> 8.8611111 | I92: ='Panigale V4s 21 Data'!$B$8*'Panigale V4s 21 Data'!$B$5*'Panigale V4s 21 Data'!$B$7*0.5*(Calculations!$H92*Calculations!$H92) -> 8.8192521 | J92: =$E92*'Panigale V4s 21 Data'!$B$3 -> -258.75 | K92: ='Panigale V4s 21 Data'!$B$12 -> 52.974 | L92: =I92+J92+K92 -> -196.95675 | M92: =L92*H92 -> -1745.2556 | N92: =M92/1000/3600 -> -0.00048479323 | O92: =IF(M92>0,M92,0) -> 0 | P92: =IF(N92>0,N92,0) -> 0 | Q92: =SUM($P$3:P92) -> 0.0163421 | R92: =IF(M92<0,M92*-1,0) -> 1745.2556 | S92: =IF(M92<0,M92/1000/3600*-1,0) -> 0.00048479323 | T92: =SUM($S$3:S92) -> 0.0037146218 | V92: =R92*0.91*0.95*0.91 -> 1372.9839 | W92: =IF(M92<0,SUM($V$91:V92),0) -> 1658.0208 | Y92: 0 | Z92: =Y92/1000 -> 0 | AA92: =Z92/3600 -> 0 | AB92: =SUM($AA$3:AA92) -> 0.00022700341
A93: Low | B93: 90 | C93: 90 | D93: 27.3 | E93: =($D94-$D92)/2/3.6 -> -1.375 | F93: =($D94-$D92)/2 -> -4.95 | H93: =$D93/3.6 -> 7.5833333 | I93: ='Panigale V4s 21 Data'!$B$8*'Panigale V4s 21 Data'!$B$5*'Panigale V4s 21 Data'!$B$7*0.5*(Calculations!$H93*Calculations!$H93) -> 6.4591547 | J93: =$E93*'Panigale V4s 21 Data'!$B$3 -> -371.25 | K93: ='Panigale V4s 21 Data'!$B$12 -> 52.974 | L93: =I93+J93+K93 -> -311.81685 | M93: =L93*H93 -> -2364.6111 | N93: =M93/1000/3600 -> -0.00065683641 | O93: =IF(M93>0,M93,0) -> 0 | P93: =IF(N93>0,N93,0) -> 0 | Q93: =SUM($P$3:P93) -> 0.0163421 | R93: =IF(M93<0,M93*-1,0) -> 2364.6111 | S93: =IF(M93<0,M93/1000/3600*-1,0) -> 0.00065683641 | T93: =SUM($S$3:S93) -> 0.0043714582 | V93: =R93*0.91*0.95*0.91 -> 1860.2277 | W93: =IF(M93<0,SUM($V$91:V93),0) -> 3518.2485 | Y93: 0 | Z93: =Y93/1000 -> 0 | AA93: =Z93/3600 -> 0 | AB93: =SUM($AA$3:AA93) -> 0.00022700341
A94: Low | B94: 91 | C94: 91 | D94: 22 | E94: =($D95-$D93)/2/3.6 -> -1.4305556 | F94: =($D95-$D93)/2 -> -5.15 | H94: =$D94/3.6 -> 6.1111111 | I94: ='Panigale V4s 21 Data'!$B$8*'Panigale V4s 21 Data'!$B$5*'Panigale V4s 21 Data'!$B$7*0.5*(Calculations!$H94*Calculations!$H94) -> 4.1946502 | J94: =$E94*'Panigale V4s 21 Data'!$B$3 -> -386.25 | K94: ='Panigale V4s 21 Data'!$B$12 -> 52.974 | L94: =I94+J94+K94 -> -329.08135 | M94: =L94*H94 -> -2011.0527 | N94: =M94/1000/3600 -> -0.00055862575 | O94: =IF(M94>0,M94,0) -> 0 | P94: =IF(N94>0,N94,0) -> 0 | Q94: =SUM($P$3:P94) -> 0.0163421 | R94: =IF(M94<0,M94*-1,0) -> 2011.0527 | S94: =IF(M94<0,M94/1000/3600*-1,0) -> 0.00055862575 | T94: =SUM($S$3:S94) -> 0.0049300839 | V94: =R94*0.91*0.95*0.91 -> 1582.0851 | W94: =IF(M94<0,SUM($V$91:V94),0) -> 5100.3336 | Y94: 0 | Z94: =Y94/1000 -> 0 | AA94: =Z94/3600 -> 0 | AB94: =SUM($AA$3:AA94) -> 0.00022700341
A95: Low | B95: 92 | C95: 92 | D95: 17 | E95: =($D96-$D94)/2/3.6 -> -1.0833333 | F95: =($D96-$D94)/2 -> -3.9 | H95: =$D95/3.6 -> 4.7222222 | I95: ='Panigale V4s 21 Data'!$B$8*'Panigale V4s 21 Data'!$B$5*'Panigale V4s 21 Data'!$B$7*0.5*(Calculations!$H95*Calculations!$H95) -> 2.5046569 | J95: =$E95*'Panigale V4s 21 Data'!$B$3 -> -292.5 | K95: ='Panigale V4s 21 Data'!$B$12 -> 52.974 | L95: =I95+J95+K95 -> -237.02134 | M95: =L95*H95 -> -1119.2675 | N95: =M95/1000/3600 -> -0.00031090763 | O95: =IF(M95>0,M95,0) -> 0 | P95: =IF(N95>0,N95,0) -> 0 | Q95: =SUM($P$3:P95) -> 0.0163421 | R95: =IF(M95<0,M95*-1,0) -> 1119.2675 | S95: =IF(M95<0,M95/1000/3600*-1,0) -> 0.00031090763 | T95: =SUM($S$3:S95) -> 0.0052409915 | V95: =R95*0.91*0.95*0.91 -> 880.52211 | W95: =IF(M95<0,SUM($V$91:V95),0) -> 5980.8557 | Y95: 0 | Z95: =Y95/1000 -> 0 | AA95: =Z95/3600 -> 0 | AB95: =SUM($AA$3:AA95) -> 0.00022700341
A96: Low | B96: 93 | C96: 93 | D96: 14.2 | E96: =($D97-$D95)/2/3.6 -> -0.69444444 | F96: =($D97-$D95)/2 -> -2.5 | H96: =$D96/3.6 -> 3.9444444 | I96: ='Panigale V4s 21 Data'!$B$8*'Panigale V4s 21 Data'!$B$5*'Panigale V4s 21 Data'!$B$7*0.5*(Calculations!$H96*Calculations!$H96) -> 1.7475398 | J96: =$E96*'Panigale V4s 21 Data'!$B$3 -> -187.5 | K96: ='Panigale V4s 21 Data'!$B$12 -> 52.974 | L96: =I96+J96+K96 -> -132.77846 | M96: =L96*H96 -> -523.73726 | N96: =M96/1000/3600 -> -0.00014548257 | O96: =IF(M96>0,M96,0) -> 0 | P96: =IF(N96>0,N96,0) -> 0 | Q96: =SUM($P$3:P96) -> 0.0163421 | R96: =IF(M96<0,M96*-1,0) -> 523.73726 | S96: =IF(M96<0,M96/1000/3600*-1,0) -> 0.00014548257 | T96: =SUM($S$3:S96) -> 0.0053864741 | V96: =R96*0.91*0.95*0.91 -> 412.02148 | W96: =IF(M96<0,SUM($V$91:V96),0) -> 6392.8772 | Y96: 0 | Z96: =Y96/1000 -> 0 | AA96: =Z96/3600 -> 0 | AB96: =SUM($AA$3:AA96) -> 0.00022700341
A97: Low | B97: 94 | C97: 94 | D97: 12 | E97: =($D98-$D96)/2/3.6 -> -0.70833333 | F97: =($D98-$D96)/2 -> -2.55 | H97: =$D97/3.6 -> 3.3333333 | I97: ='Panigale V4s 21 Data'!$B$8*'Panigale V4s 21 Data'!$B$5*'Panigale V4s 21 Data'!$B$7*0.5*(Calculations!$H97*Calculations!$H97) -> 1.2479951 | J97: =$E97*'Panigale V4s 21 Data'!$B$3 -> -191.25 | K97: ='Panigale V4s 21 Data'!$B$12 -> 52.974 | L97: =I97+J97+K97 -> -137.028 | M97: =L97*H97 -> -456.76002 | N97: =M97/1000/3600 -> -0.00012687778 | O97: =IF(M97>0,M97,0) -> 0 | P97: =IF(N97>0,N97,0) -> 0 | Q97: =SUM($P$3:P97) -> 0.0163421 | R97: =IF(M97<0,M97*-1,0) -> 456.76002 | S97: =IF(M97<0,M97/1000/3600*-1,0) -> 0.00012687778 | T97: =SUM($S$3:S97) -> 0.0055133519 | V97: =R97*0.91*0.95*0.91 -> 359.33082 | W97: =IF(M97<0,SUM($V$91:V97),0) -> 6752.208 | Y97: 0 | Z97: =Y97/1000 -> 0 | AA97: =Z97/3600 -> 0 | AB97: =SUM($AA$3:AA97) -> 0.00022700341
A98: Low | B98: 95 | C98: 95 | D98: 9.1 | E98: =($D99-$D97)/2/3.6 -> -0.86111111 | F98: =($D99-$D97)/2 -> -3.1 | H98: =$D98/3.6 -> 2.5277778 | I98: ='Panigale V4s 21 Data'!$B$8*'Panigale V4s 21 Data'!$B$5*'Panigale V4s 21 Data'!$B$7*0.5*(Calculations!$H98*Calculations!$H98) -> 0.71768385 | J98: =$E98*'Panigale V4s 21 Data'!$B$3 -> -232.5 | K98: ='Panigale V4s 21 Data'!$B$12 -> 52.974 | L98: =I98+J98+K98 -> -178.80832 | M98: =L98*H98 -> -451.98769 | N98: =M98/1000/3600 -> -0.00012555214 | O98: =IF(M98>0,M98,0) -> 0 | P98: =IF(N98>0,N98,0) -> 0 | Q98: =SUM($P$3:P98) -> 0.0163421 | R98: =IF(M98<0,M98*-1,0) -> 451.98769 | S98: =IF(M98<0,M98/1000/3600*-1,0) -> 0.00012555214 | T98: =SUM($S$3:S98) -> 0.005638904 | V98: =R98*0.91*0.95*0.91 -> 355.57645 | W98: =IF(M98<0,SUM($V$91:V98),0) -> 7107.7845 | Y98: 0 | Z98: =Y98/1000 -> 0 | AA98: =Z98/3600 -> 0 | AB98: =SUM($AA$3:AA98) -> 0.00022700341
A99: Low | B99: 96 | C99: 96 | D99: 5.8 | E99: =($D100-$D98)/2/3.6 -> -0.76388889 | F99: =($D100-$D98)/2 -> -2.75 | H99: =$D99/3.6 -> 1.6111111 | I99: ='Panigale V4s 21 Data'!$B$8*'Panigale V4s 21 Data'!$B$5*'Panigale V4s 21 Data'!$B$7*0.5*(Calculations!$H99*Calculations!$H99) -> 0.29154552 | J99: =$E99*'Panigale V4s 21 Data'!$B$3 -> -206.25 | K99: ='Panigale V4s 21 Data'!$B$12 -> 52.974 | L99: =I99+J99+K99 -> -152.98445 | M99: =L99*H99 -> -246.47495 | N99: =M99/1000/3600 -> -6.8465265e-05 | O99: =IF(M99>0,M99,0) -> 0 | P99: =IF(N99>0,N99,0) -> 0 | Q99: =SUM($P$3:P99) -> 0.0163421 | R99: =IF(M99<0,M99*-1,0) -> 246.47495 | S99: =IF(M99<0,M99/1000/3600*-1,0) -> 6.8465265e-05 | T99: =SUM($S$3:S99) -> 0.0057073693 | V99: =R99*0.91*0.95*0.91 -> 193.90061 | W99: =IF(M99<0,SUM($V$91:V99),0) -> 7301.6851 | Y99: 0 | Z99: =Y99/1000 -> 0 | AA99: =Z99/3600 -> 0 | AB99: =SUM($AA$3:AA99) -> 0.00022700341
A100: Low | B100: 97 | C100: 97 | D100: 3.6 | E100: =($D101-$D99)/2/3.6 -> -0.5 | F100: =($D101-$D99)/2 -> -1.8 | H100: =$D100/3.6 -> 1 | I100: ='Panigale V4s 21 Data'!$B$8*'Panigale V4s 21 Data'!$B$5*'Panigale V4s 21 Data'!$B$7*0.5*(Calculations!$H100*Calculations!$H100) -> 0.11231956 | J100: =$E100*'Panigale V4s 21 Data'!$B$3 -> -135 | K100: ='Panigale V4s 21 Data'!$B$12 -> 52.974 | L100: =I100+J100+K100 -> -81.91368 | M100: =L100*H100 -> -81.91368 | N100: =M100/1000/3600 -> -2.27538e-05 | O100: =IF(M100>0,M100,0) -> 0 | P100: =IF(N100>0,N100,0) -> 0 | Q100: =SUM($P$3:P100) -> 0.0163421 | R100: =IF(M100<0,M100*-1,0) -> 81.91368 | S100: =IF(M100<0,M100/1000/3600*-1,0) -> 2.27538e-05 | T100: =SUM($S$3:S100) -> 0.0057301231 | V100: =R100*0.91*0.95*0.91 -> 64.441083 | W100: =IF(M100<0,SUM($V$91:V100),0) -> 7366.1262 | Y100: 0 | Z100: =Y100/1000 -> 0 | AA100: =Z100/3600 -> 0 | AB100: =SUM($AA$3:AA100) -> 0.00022700341
A101: Low | B101: 98 | C101: 98 | D101: 2.2 | E101: =($D102-$D100)/2/3.6 -> -0.5 | F101: =($D102-$D100)/2 -> -1.8 | H101: =$D101/3.6 -> 0.61111111 | I101: ='Panigale V4s 21 Data'!$B$8*'Panigale V4s 21 Data'!$B$5*'Panigale V4s 21 Data'!$B$7*0.5*(Calculations!$H101*Calculations!$H101) -> 0.041946502 | J101: =$E101*'Panigale V4s 21 Data'!$B$3 -> -135 | K101: ='Panigale V4s 21 Data'!$B$12 -> 52.974 | L101: =I101+J101+K101 -> -81.984053 | M101: =L101*H101 -> -50.101366 | N101: =M101/1000/3600 -> -1.3917046e-05 | O101: =IF(M101>0,M101,0) -> 0 | P101: =IF(N101>0,N101,0) -> 0 | Q101: =SUM($P$3:P101) -> 0.0163421 | R101: =IF(M101<0,M101*-1,0) -> 50.101366 | S101: =IF(M101<0,M101/1000/3600*-1,0) -> 1.3917046e-05 | T101: =SUM($S$3:S101) -> 0.0057440401 | V101: =R101*0.91*0.95*0.91 -> 39.414494 | W101: =IF(M101<0,SUM($V$91:V101),0) -> 7405.5407 | Y101: 0 | Z101: =Y101/1000 -> 0 | AA101: =Z101/3600 -> 0 | AB101: =SUM($AA$3:AA101) -> 0.00022700341
A102: Low | B102: 99 | C102: 99 | D102: 0 | E102: =($D103-$D101)/2/3.6 -> -0.30555556 | F102: =($D103-$D101)/2 -> -1.1 | H102: =$D102/3.6 -> 0 | I102: ='Panigale V4s 21 Data'!$B$8*'Panigale V4s 21 Data'!$B$5*'Panigale V4s 21 Data'!$B$7*0.5*(Calculations!$H102*Calculations!$H102) -> 0 | J102: =$E102*'Panigale V4s 21 Data'!$B$3 -> -82.5 | K102: ='Panigale V4s 21 Data'!$B$12 -> 52.974 | L102: =I102+J102+K102 -> -29.526 | M102: =L102*H102 -> 0 | N102: =M102/1000/3600 -> 0 | O102: =IF(M102>0,M102,0) -> 0 | P102: =IF(N102>0,N102,0) -> 0 | Q102: =SUM($P$3:P102) -> 0.0163421 | R102: =IF(M102<0,M102*-1,0) -> 0 | S102: =IF(M102<0,M102/1000/3600*-1,0) -> 0 | T102: =SUM($S$3:S102) -> 0.0057440401 | V102: =R102*0.91*0.95*0.91 -> 0 | W102: =IF(M102<0,SUM($V$3:V102),0) -> 0 | Y102: =O102 -> 0 | Z102: =Y102/1000 -> 0 | AA102: =Z102/3600 -> 0 | AB102: =SUM($AA$3:AA102) -> 0.00022700341
A103: Low | B103: 100 | C103: 100 | D103: 0 | E103: =($D104-$D102)/2/3.6 -> 0 | F103: =($D104-$D102)/2 -> 0 | H103: =$D103/3.6 -> 0 | I103: ='Panigale V4s 21 Data'!$B$8*'Panigale V4s 21 Data'!$B$5*'Panigale V4s 21 Data'!$B$7*0.5*(Calculations!$H103*Calculations!$H103) -> 0 | J103: =$E103*'Panigale V4s 21 Data'!$B$3 -> 0 | K103: ='Panigale V4s 21 Data'!$B$12 -> 52.974 | L103: =I103+J103+K103 -> 52.974 | M103: =L103*H103 -> 0 | N103: =M103/1000/3600 -> 0 | O103: =IF(M103>0,M103,0) -> 0 | P103: =IF(N103>0,N103,0) -> 0 | Q103: =SUM($P$3:P103) -> 0.0163421 | R103: =IF(M103<0,M103*-1,0) -> 0 | S103: =IF(M103<0,M103/1000/3600*-1,0) -> 0 | T103: =SUM($S$3:S103) -> 0.0057440401 | V103: =R103*0.91*0.95*0.91 -> 0 | W103: =IF(M103<0,SUM($V$3:V103),0) -> 0 | Y103: =O103 -> 0 | Z103: =Y103/1000 -> 0 | AA103: =Z103/3600 -> 0 | AB103: =SUM($AA$3:AA103) -> 0.00022700341
A104: Low | B104: 101 | C104: 101 | D104: 0 | E104: =($D105-$D103)/2/3.6 -> 0 | F104: =($D105-$D103)/2 -> 0 | H104: =$D104/3.6 -> 0 | I104: ='Panigale V4s 21 Data'!$B$8*'Panigale V4s 21 Data'!$B$5*'Panigale V4s 21 Data'!$B$7*0.5*(Calculations!$H104*Calculations!$H104) -> 0 | J104: =$E104*'Panigale V4s 21 Data'!$B$3 -> 0 | K104: ='Panigale V4s 21 Data'!$B$12 -> 52.974 | L104: =I104+J104+K104 -> 52.974 | M104: =L104*H104 -> 0 | N104: =M104/1000/3600 -> 0 | O104: =IF(M104>0,M104,0) -> 0 | P104: =IF(N104>0,N104,0) -> 0 | Q104: =SUM($P$3:P104) -> 0.0163421 | R104: =IF(M104<0,M104*-1,0) -> 0 | S104: =IF(M104<0,M104/1000/3600*-1,0) -> 0 | T104: =SUM($S$3:S104) -> 0.0057440401 | V104: =R104*0.91*0.95*0.91 -> 0 | W104: =IF(M104<0,SUM($V$3:V104),0) -> 0 | Y104: =O104 -> 0 | Z104: =Y104/1000 -> 0 | AA104: =Z104/3600 -> 0 | AB104: =SUM($AA$3:AA104) -> 0.00022700341
A105: Low | B105: 102 | C105: 102 | D105: 0 | E105: =($D106-$D104)/2/3.6 -> 0 | F105: =($D106-$D104)/2 -> 0 | H105: =$D105/3.6 -> 0 | I105: ='Panigale V4s 21 Data'!$B$8*'Panigale V4s 21 Data'!$B$5*'Panigale V4s 21 Data'!$B$7*0.5*(Calculations!$H105*Calculations!$H105) -> 0 | J105: =$E105*'Panigale V4s 21 Data'!$B$3 -> 0 | K105: ='Panigale V4s 21 Data'!$B$12 -> 52.974 | L105: =I105+J105+K105 -> 52.974 | M105: =L105*H105 -> 0 | N105: =M105/1000/3600 -> 0 | O105: =IF(M105>0,M105,0) -> 0 | P105: =IF(N105>0,N105,0) -> 0 | Q105: =SUM($P$3:P105) -> 0.0163421 | R105: =IF(M105<0,M105*-1,0) -> 0 | S105: =IF(M105<0,M105/1000/3600*-1,0) -> 0 | T105: =SUM($S$3:S105) -> 0.0057440401 | V105: =R105*0.91*0.95*0.91 -> 0 | W105: =IF(M105<0,SUM($V$3:V105),0) -> 0 | Y105: =O105 -> 0 | Z105: =Y105/1000 -> 0 | AA105: =Z105/3600 -> 0 | AB105: =SUM($AA$3:AA105) -> 0.00022700341
A106: Low | B106: 103 | C106: 103 | D106: 0 | E106: =($D107-$D105)/2/3.6 -> 0 | F106: =($D107-$D105)/2 -> 0 | H106: =$D106/3.6 -> 0 | I106: ='Panigale V4s 21 Data'!$B$8*'Panigale V4s 21 Data'!$B$5*'Panigale V4s 21 Data'!$B$7*0.5*(Calculations!$H106*Calculations!$H106) -> 0 | J106: =$E106*'Panigale V4s 21 Data'!$B$3 -> 0 | K106: ='Panigale V4s 21 Data'!$B$12 -> 52.974 | L106: =I106+J106+K106 -> 52.974 | M106: =L106*H106 -> 0 | N106: =M106/1000/3600 -> 0 | O106: =IF(M106>0,M106,0) -> 0 | P106: =IF(N106>0,N106,0) -> 0 | Q106: =SUM($P$3:P106) -> 0.0163421 | R106: =IF(M106<0,M106*-1,0) -> 0 | S106: =IF(M106<0,M106/1000/3600*-1,0) -> 0 | T106: =SUM($S$3:S106) -> 0.0057440401 | V106: =R106*0.91*0.95*0.91 -> 0 | W106: =IF(M106<0,SUM($V$3:V106),0) -> 0 | Y106: =O106 -> 0 | Z106: =Y106/1000 -> 0 | AA106: =Z106/3600 -> 0 | AB106: =SUM($AA$3:AA106) -> 0.00022700341
A107: Low | B107: 104 | C107: 104 | D107: 0 | E107: =($D108-$D106)/2/3.6 -> 0 | F107: =($D108-$D106)/2 -> 0 | H107: =$D107/3.6 -> 0 | I107: ='Panigale V4s 21 Data'!$B$8*'Panigale V4s 21 Data'!$B$5*'Panigale V4s 21 Data'!$B$7*0.5*(Calculations!$H107*Calculations!$H107) -> 0 | J107: =$E107*'Panigale V4s 21 Data'!$B$3 -> 0 | K107: ='Panigale V4s 21 Data'!$B$12 -> 52.974 | L107: =I107+J107+K107 -> 52.974 | M107: =L107*H107 -> 0 | N107: =M107/1000/3600 -> 0 | O107: =IF(M107>0,M107,0) -> 0 | P107: =IF(N107>0,N107,0) -> 0 | Q107: =SUM($P$3:P107) -> 0.0163421 | R107: =IF(M107<0,M107*-1,0) -> 0 | S107: =IF(M107<0,M107/1000/3600*-1,0) -> 0 | T107: =SUM($S$3:S107) -> 0.0057440401 | V107: =R107*0.91*0.95*0.91 -> 0 | W107: =IF(M107<0,SUM($V$3:V107),0) -> 0 | Y107: =O107 -> 0 | Z107: =Y107/1000 -> 0 | AA107: =Z107/3600 -> 0 | AB107: =SUM($AA$3:AA107) -> 0.00022700341
A108: Low | B108: 105 | C108: 105 | D108: 0 | E108: =($D109-$D107)/2/3.6 -> 0 | F108: =($D109-$D107)/2 -> 0 | H108: =$D108/3.6 -> 0 | I108: ='Panigale V4s 21 Data'!$B$8*'Panigale V4s 21 Data'!$B$5*'Panigale V4s 21 Data'!$B$7*0.5*(Calculations!$H108*Calculations!$H108) -> 0 | J108: =$E108*'Panigale V4s 21 Data'!$B$3 -> 0 | K108: ='Panigale V4s 21 Data'!$B$12 -> 52.974 | L108: =I108+J108+K108 -> 52.974 | M108: =L108*H108 -> 0 | N108: =M108/1000/3600 -> 0 | O108: =IF(M108>0,M108,0) -> 0 | P108: =IF(N108>0,N108,0) -> 0 | Q108: =SUM($P$3:P108) -> 0.0163421 | R108: =IF(M108<0,M108*-1,0) -> 0 | S108: =IF(M108<0,M108/1000/3600*-1,0) -> 0 | T108: =SUM($S$3:S108) -> 0.0057440401 | V108: =R108*0.91*0.95*0.91 -> 0 | W108: =IF(M108<0,SUM($V$3:V108),0) -> 0 | Y108: =O108 -> 0 | Z108: =Y108/1000 -> 0 | AA108: =Z108/3600 -> 0 | AB108: =SUM($AA$3:AA108) -> 0.00022700341
A109: Low | B109: 106 | C109: 106 | D109: 0 | E109: =($D110-$D108)/2/3.6 -> 0 | F109: =($D110-$D108)/2 -> 0 | H109: =$D109/3.6 -> 0 | I109: ='Panigale V4s 21 Data'!$B$8*'Panigale V4s 21 Data'!$B$5*'Panigale V4s 21 Data'!$B$7*0.5*(Calculations!$H109*Calculations!$H109) -> 0 | J109: =$E109*'Panigale V4s 21 Data'!$B$3 -> 0 | K109: ='Panigale V4s 21 Data'!$B$12 -> 52.974 | L109: =I109+J109+K109 -> 52.974 | M109: =L109*H109 -> 0 | N109: =M109/1000/3600 -> 0 | O109: =IF(M109>0,M109,0) -> 0 | P109: =IF(N109>0,N109,0) -> 0 | Q109: =SUM($P$3:P109) -> 0.0163421 | R109: =IF(M109<0,M109*-1,0) -> 0 | S109: =IF(M109<0,M109/1000/3600*-1,0) -> 0 | T109: =SUM($S$3:S109) -> 0.0057440401 | V109: =R109*0.91*0.95*0.91 -> 0 | W109: =IF(M109<0,SUM($V$3:V109),0) -> 0 | Y109: =O109 -> 0 | Z109: =Y109/1000 -> 0 | AA109: =Z109/3600 -> 0 | AB109: =SUM($AA$3:AA109) -> 0.00022700341
A110: Low | B110: 107 | C110: 107 | D110: 0 | E110: =($D111-$D109)/2/3.6 -> 0 | F110: =($D111-$D109)/2 -> 0 | H110: =$D110/3.6 -> 0 | I110: ='Panigale V4s 21 Data'!$B$8*'Panigale V4s 21 Data'!$B$5*'Panigale V4s 21 Data'!$B$7*0.5*(Calculations!$H110*Calculations!$H110) -> 0 | J110: =$E110*'Panigale V4s 21 Data'!$B$3 -> 0 | K110: ='Panigale V4s 21 Data'!$B$12 -> 52.974 | L110: =I110+J110+K110 -> 52.974 | M110: =L110*H110 -> 0 | N110: =M110/1000/3600 -> 0 | O110: =IF(M110>0,M110,0) -> 0 | P110: =IF(N110>0,N110,0) -> 0 | Q110: =SUM($P$3:P110) -> 0.0163421 | R110: =IF(M110<0,M110*-1,0) -> 0 | S110: =IF(M110<0,M110/1000/3600*-1,0) -> 0 | T110: =SUM($S$3:S110) -> 0.0057440401 | V110: =R110*0.91*0.95*0.91 -> 0 | W110: =IF(M110<0,SUM($V$3:V110),0) -> 0 | Y110: =O110 -> 0 | Z110: =Y110/1000 -> 0 | AA110: =Z110/3600 -> 0 | AB110: =SUM($AA$3:AA110) -> 0.00022700341
A111: Low | B111: 108 | C111: 108 | D111: 0 | E111: =($D112-$D110)/2/3.6 -> 0 | F111: =($D112-$D110)/2 -> 0 | H111: =$D111/3.6 -> 0 | I111: ='Panigale V4s 21 Data'!$B$8*'Panigale V4s 21 Data'!$B$5*'Panigale V4s 21 Data'!$B$7*0.5*(Calculations!$H111*Calculations!$H111) -> 0 | J111: =$E111*'Panigale V4s 21 Data'!$B$3 -> 0 | K111: ='Panigale V4s 21 Data'!$B$12 -> 52.974 | L111: =I111+J111+K111 -> 52.974 | M111: =L111*H111 -> 0 | N111: =M111/1000/3600 -> 0 | O111: =IF(M111>0,M111,0) -> 0 | P111: =IF(N111>0,N111,0) -> 0 | Q111: =SUM($P$3:P111) -> 0.0163421 | R111: =IF(M111<0,M111*-1,0) -> 0 | S111: =IF(M111<0,M111/1000/3600*-1,0) -> 0 | T111: =SUM($S$3:S111) -> 0.0057440401 | V111: =R111*0.91*0.95*0.91 -> 0 | W111: =IF(M111<0,SUM($V$3:V111),0) -> 0 | Y111: =O111 -> 0 | Z111: =Y111/1000 -> 0 | AA111: =Z111/3600 -> 0 | AB111: =SUM($AA$3:AA111) -> 0.00022700341
A112: Low | B112: 109 | C112: 109 | D112: 0 | E112: =($D113-$D111)/2/3.6 -> 0 | F112: =($D113-$D111)/2 -> 0 | H112: =$D112/3.6 -> 0 | I112: ='Panigale V4s 21 Data'!$B$8*'Panigale V4s 21 Data'!$B$5*'Panigale V4s 21 Data'!$B$7*0.5*(Calculations!$H112*Calculations!$H112) -> 0 | J112: =$E112*'Panigale V4s 21 Data'!$B$3 -> 0 | K112: ='Panigale V4s 21 Data'!$B$12 -> 52.974 | L112: =I112+J112+K112 -> 52.974 | M112: =L112*H112 -> 0 | N112: =M112/1000/3600 -> 0 | O112: =IF(M112>0,M112,0) -> 0 | P112: =IF(N112>0,N112,0) -> 0 | Q112: =SUM($P$3:P112) -> 0.0163421 | R112: =IF(M112<0,M112*-1,0) -> 0 | S112: =IF(M112<0,M112/1000/3600*-1,0) -> 0 | T112: =SUM($S$3:S112) -> 0.0057440401 | V112: =R112*0.91*0.95*0.91 -> 0 | W112: =IF(M112<0,SUM($V$3:V112),0) -> 0 | Y112: =O112 -> 0 | Z112: =Y112/1000 -> 0 | AA112: =Z112/3600 -> 0 | AB112: =SUM($AA$3:AA112) -> 0.00022700341
A113: Low | B113: 110 | C113: 110 | D113: 0 | E113: =($D114-$D112)/2/3.6 -> 0 | F113: =($D114-$D112)/2 -> 0 | H113: =$D113/3.6 -> 0 | I113: ='Panigale V4s 21 Data'!$B$8*'Panigale V4s 21 Data'!$B$5*'Panigale V4s 21 Data'!$B$7*0.5*(Calculations!$H113*Calculations!$H113) -> 0 | J113: =$E113*'Panigale V4s 21 Data'!$B$3 -> 0 | K113: ='Panigale V4s 21 Data'!$B$12 -> 52.974 | L113: =I113+J113+K113 -> 52.974 | M113: =L113*H113 -> 0 | N113: =M113/1000/3600 -> 0 | O113: =IF(M113>0,M113,0) -> 0 | P113: =IF(N113>0,N113,0) -> 0 | Q113: =SUM($P$3:P113) -> 0.0163421 | R113: =IF(M113<0,M113*-1,0) -> 0 | S113: =IF(M113<0,M113/1000/3600*-1,0) -> 0 | T113: =SUM($S$3:S113) -> 0.0057440401 | V113: =R113*0.91*0.95*0.91 -> 0 | W113: =IF(M113<0,SUM($V$3:V113),0) -> 0 | Y113: =O113 -> 0 | Z113: =Y113/1000 -> 0 | AA113: =Z113/3600 -> 0 | AB113: =SUM($AA$3:AA113) -> 0.00022700341
... A148: Low | B148: 145 | C148: 145 | D148: 20.8 | E148: =($D149-$D147)/2/3.6 -> 0.40277778 | F148: =($D149-$D147)/2 -> 1.45 | H148: =$D148/3.6 -> 5.7777778 | I148: ='Panigale V4s 21 Data'!$B$8*'Panigale V4s 21 Data'!$B$5*'Panigale V4s 21 Data'!$B$7*0.5*(Calculations!$H148*Calculations!$H148) -> 3.749532 | J148: =$E148*'Panigale V4s 21 Data'!$B$3 -> 108.75 | K148: ='Panigale V4s 21 Data'!$B$12 -> 52.974 | L148: =I148+J148+K148 -> 165.47353 | M148: =L148*H148 -> 956.0693 | N148: =M148/1000/3600 -> 0.0002655748 | O148: =IF(M148>0,M148,0) -> 956.0693 | P148: =IF(N148>0,N148,0) -> 0.0002655748 | Q148: =SUM($P$3:P148) -> 0.018126293 | R148: =IF(M148<0,M148*-1,0) -> 0 | S148: =IF(M148<0,M148/1000/3600*-1,0) -> 0 | T148: =SUM($S$3:S148) -> 0.0057440401 | V148: =R148*0.91*0.95*0.91 -> 0 | W148: =IF(M148<0,SUM($V$3:V148),0) -> 0 | Y148: =O148 -> 956.0693 | Z148: =Y148/1000 -> 0.9560693 | AA148: =Z148/3600 -> 0.0002655748 | AB148: =SUM($AA$3:AA148) -> 0.0020111964
A149: Low | B149: 146 | C149: 146 | D149: 22.8 | E149: =($D150-$D148)/2/3.6 -> 0.63888889 | F149: =($D150-$D148)/2 -> 2.3 | H149: =$D149/3.6 -> 6.3333333 | I149: ='Panigale V4s 21 Data'!$B$8*'Panigale V4s 21 Data'!$B$5*'Panigale V4s 21 Data'!$B$7*0.5*(Calculations!$H149*Calculations!$H149) -> 4.5052623 | J149: =$E149*'Panigale V4s 21 Data'!$B$3 -> 172.5 | K149: ='Panigale V4s 21 Data'!$B$12 -> 52.974 | L149: =I149+J149+K149 -> 229.97926 | M149: =L149*H149 -> 1456.5353 | N149: =M149/1000/3600 -> 0.00040459315 | O149: =IF(M149>0,M149,0) -> 1456.5353 | P149: =IF(N149>0,N149,0) -> 0.00040459315 | Q149: =SUM($P$3:P149) -> 0.018530886 | R149: =IF(M149<0,M149*-1,0) -> 0 | S149: =IF(M149<0,M149/1000/3600*-1,0) -> 0 | T149: =SUM($S$3:S149) -> 0.0057440401 | V149: =R149*0.91*0.95*0.91 -> 0 | W149: =IF(M149<0,SUM($V$3:V149),0) -> 0 | Y149: =W101-SUM(Y141:Y148) -> 982.44589 | Z149: =Y149/1000 -> 0.98244589 | AA149: =Z149/3600 -> 0.00027290164 | AB149: =SUM($AA$3:AA149) -> 0.002284098
A150: Low | B150: 147 | C150: 147 | D150: 25.4 | E150: =($D151-$D149)/2/3.6 -> 0.68055556 | F150: =($D151-$D149)/2 -> 2.45 | H150: =$D150/3.6 -> 7.0555556 | I150: ='Panigale V4s 21 Data'!$B$8*'Panigale V4s 21 Data'!$B$5*'Panigale V4s 21 Data'!$B$7*0.5*(Calculations!$H150*Calculations!$H150) -> 5.5913648 | J150: =$E150*'Panigale V4s 21 Data'!$B$3 -> 183.75 | K150: ='Panigale V4s 21 Data'!$B$12 -> 52.974 | L150: =I150+J150+K150 -> 242.31536 | M150: =L150*H150 -> 1709.6695 | N150: =M150/1000/3600 -> 0.0004749082 | O150: =IF(M150>0,M150,0) -> 1709.6695 | P150: =IF(N150>0,N150,0) -> 0.0004749082 | Q150: =SUM($P$3:P150) -> 0.019005795 | R150: =IF(M150<0,M150*-1,0) -> 0 | S150: =IF(M150<0,M150/1000/3600*-1,0) -> 0 | T150: =SUM($S$3:S150) -> 0.0057440401 | V150: =R150*0.91*0.95*0.91 -> 0 | W150: =IF(M150<0,SUM($V$3:V150),0) -> 0 | Y150: 0 | Z150: =Y150/1000 -> 0 | AA150: =Z150/3600 -> 0 | AB150: =SUM($AA$3:AA150) -> 0.002284098
A151: Low | B151: 148 | C151: 148 | D151: 27.7 | E151: =($D152-$D150)/2/3.6 -> 0.52777778 | F151: =($D152-$D150)/2 -> 1.9 | H151: =$D151/3.6 -> 7.6944444 | I151: ='Panigale V4s 21 Data'!$B$8*'Panigale V4s 21 Data'!$B$5*'Panigale V4s 21 Data'!$B$7*0.5*(Calculations!$H151*Calculations!$H151) -> 6.6498206 | J151: =$E151*'Panigale V4s 21 Data'!$B$3 -> 142.5 | K151: ='Panigale V4s 21 Data'!$B$12 -> 52.974 | L151: =I151+J151+K151 -> 202.12382 | M151: =L151*H151 -> 1555.2305 | N151: =M151/1000/3600 -> 0.00043200847 | O151: =IF(M151>0,M151,0) -> 1555.2305 | P151: =IF(N151>0,N151,0) -> 0.00043200847 | Q151: =SUM($P$3:P151) -> 0.019437803 | R151: =IF(M151<0,M151*-1,0) -> 0 | S151: =IF(M151<0,M151/1000/3600*-1,0) -> 0 | T151: =SUM($S$3:S151) -> 0.0057440401 | V151: =R151*0.91*0.95*0.91 -> 0 | W151: =IF(M151<0,SUM($V$3:V151),0) -> 0 | Y151: 0 | Z151: =Y151/1000 -> 0 | AA151: =Z151/3600 -> 0 | AB151: =SUM($AA$3:AA151) -> 0.002284098
A152: Low | B152: 149 | C152: 149 | D152: 29.2 | E152: =($D153-$D151)/2/3.6 -> 0.29166667 | F152: =($D153-$D151)/2 -> 1.05 | H152: =$D152/3.6 -> 8.1111111 | I152: ='Panigale V4s 21 Data'!$B$8*'Panigale V4s 21 Data'!$B$5*'Panigale V4s 21 Data'!$B$7*0.5*(Calculations!$H152*Calculations!$H152) -> 7.3895177 | J152: =$E152*'Panigale V4s 21 Data'!$B$3 -> 78.75 | K152: ='Panigale V4s 21 Data'!$B$12 -> 52.974 | L152: =I152+J152+K152 -> 139.11352 | M152: =L152*H152 -> 1128.3652 | N152: =M152/1000/3600 -> 0.00031343478 | O152: =IF(M152>0,M152,0) -> 1128.3652 | P152: =IF(N152>0,N152,0) -> 0.00031343478 | Q152: =SUM($P$3:P152) -> 0.019751238 | R152: =IF(M152<0,M152*-1,0) -> 0 | S152: =IF(M152<0,M152/1000/3600*-1,0) -> 0 | T152: =SUM($S$3:S152) -> 0.0057440401 | V152: =R152*0.91*0.95*0.91 -> 0 | W152: =IF(M152<0,SUM($V$3:V152),0) -> 0 | Y152: 0 | Z152: =Y152/1000 -> 0 | AA152: =Z152/3600 -> 0 | AB152: =SUM($AA$3:AA152) -> 0.002284098
A153: Low | B153: 150 | C153: 150 | D153: 29.8 | E153: =($D154-$D152)/2/3.6 -> 0.027777778 | F153: =($D154-$D152)/2 -> 0.1 | H153: =$D153/3.6 -> 8.2777778 | I153: ='Panigale V4s 21 Data'!$B$8*'Panigale V4s 21 Data'!$B$5*'Panigale V4s 21 Data'!$B$7*0.5*(Calculations!$H153*Calculations!$H153) -> 7.6963165 | J153: =$E153*'Panigale V4s 21 Data'!$B$3 -> 7.5 | K153: ='Panigale V4s 21 Data'!$B$12 -> 52.974 | L153: =I153+J153+K153 -> 68.170317 | M153: =L153*H153 -> 564.29873 | N153: =M153/1000/3600 -> 0.00015674965 | O153: =IF(M153>0,M153,0) -> 564.29873 | P153: =IF(N153>0,N153,0) -> 0.00015674965 | Q153: =SUM($P$3:P153) -> 0.019907987 | R153: =IF(M153<0,M153*-1,0) -> 0 | S153: =IF(M153<0,M153/1000/3600*-1,0) -> 0 | T153: =SUM($S$3:S153) -> 0.0057440401 | V153: =R153*0.91*0.95*0.91 -> 0 | W153: =IF(M153<0,SUM($V$3:V153),0) -> 0 | Y153: 0 | Z153: =Y153/1000 -> 0 | AA153: =Z153/3600 -> 0 | AB153: =SUM($AA$3:AA153) -> 0.002284098
A154: Low | B154: 151 | C154: 151 | D154: 29.4 | E154: =($D155-$D153)/2/3.6 -> -0.36111111 | F154: =($D155-$D153)/2 -> -1.3 | H154: =$D154/3.6 -> 8.1666667 | I154: ='Panigale V4s 21 Data'!$B$8*'Panigale V4s 21 Data'!$B$5*'Panigale V4s 21 Data'!$B$7*0.5*(Calculations!$H154*Calculations!$H154) -> 7.4910906 | J154: =$E154*'Panigale V4s 21 Data'!$B$3 -> -97.5 | K154: ='Panigale V4s 21 Data'!$B$12 -> 52.974 | L154: =I154+J154+K154 -> -37.034909 | M154: =L154*H154 -> -302.45176 | N154: =M154/1000/3600 -> -8.4014378e-05 | O154: =IF(M154>0,M154,0) -> 0 | P154: =IF(N154>0,N154,0) -> 0 | Q154: =SUM($P$3:P154) -> 0.019907987 | R154: =IF(M154<0,M154*-1,0) -> 302.45176 | S154: =IF(M154<0,M154/1000/3600*-1,0) -> 8.4014378e-05 | T154: =SUM($S$3:S154) -> 0.0058280545 | V154: =R154*0.91*0.95*0.91 -> 237.93729 | W154: =IF(M154<0,SUM($V$154:V154),0) -> 237.93729 | Y154: 0 | Z154: =Y154/1000 -> 0 | AA154: =Z154/3600 -> 0 | AB154: =SUM($AA$3:AA154) -> 0.002284098
A155: Low | B155: 152 | C155: 152 | D155: 27.2 | E155: =($D156-$D154)/2/3.6 -> -0.94444444 | F155: =($D156-$D154)/2 -> -3.4 | H155: =$D155/3.6 -> 7.5555556 | I155: ='Panigale V4s 21 Data'!$B$8*'Panigale V4s 21 Data'!$B$5*'Panigale V4s 21 Data'!$B$7*0.5*(Calculations!$H155*Calculations!$H155) -> 6.4119215 | J155: =$E155*'Panigale V4s 21 Data'!$B$3 -> -255 | K155: ='Panigale V4s 21 Data'!$B$12 -> 52.974 | L155: =I155+J155+K155 -> -195.61408 | M155: =L155*H155 -> -1477.973 | N155: =M155/1000/3600 -> -0.00041054807 | O155: =IF(M155>0,M155,0) -> 0 | P155: =IF(N155>0,N155,0) -> 0 | Q155: =SUM($P$3:P155) -> 0.019907987 | R155: =IF(M155<0,M155*-1,0) -> 1477.973 | S155: =IF(M155<0,M155/1000/3600*-1,0) -> 0.00041054807 | T155: =SUM($S$3:S155) -> 0.0062386026 | V155: =R155*0.91*0.95*0.91 -> 1162.714 | W155: =IF(M155<0,SUM($V$154:V155),0) -> 1400.6513 | Y155: 0 | Z155: =Y155/1000 -> 0 | AA155: =Z155/3600 -> 0 | AB155: =SUM($AA$3:AA155) -> 0.002284098
A156: Low | B156: 153 | C156: 153 | D156: 22.6 | E156: =($D157-$D155)/2/3.6 -> -1.375 | F156: =($D157-$D155)/2 -> -4.95 | H156: =$D156/3.6 -> 6.2777778 | I156: ='Panigale V4s 21 Data'!$B$8*'Panigale V4s 21 Data'!$B$5*'Panigale V4s 21 Data'!$B$7*0.5*(Calculations!$H156*Calculations!$H156) -> 4.4265693 | J156: =$E156*'Panigale V4s 21 Data'!$B$3 -> -371.25 | K156: ='Panigale V4s 21 Data'!$B$12 -> 52.974 | L156: =I156+J156+K156 -> -313.84943 | M156: =L156*H156 -> -1970.277 | N156: =M156/1000/3600 -> -0.00054729916 | O156: =IF(M156>0,M156,0) -> 0 | P156: =IF(N156>0,N156,0) -> 0 | Q156: =SUM($P$3:P156) -> 0.019907987 | R156: =IF(M156<0,M156*-1,0) -> 1970.277 | S156: =IF(M156<0,M156/1000/3600*-1,0) -> 0.00054729916 | T156: =SUM($S$3:S156) -> 0.0067859017 | V156: =R156*0.91*0.95*0.91 -> 1550.007 | W156: =IF(M156<0,SUM($V$154:V156),0) -> 2950.6583 | Y156: 0 | Z156: =Y156/1000 -> 0 | AA156: =Z156/3600 -> 0 | AB156: =SUM($AA$3:AA156) -> 0.002284098
A157: Low | B157: 154 | C157: 154 | D157: 17.3 | E157: =($D158-$D156)/2/3.6 -> -1.2916667 | F157: =($D158-$D156)/2 -> -4.65 | H157: =$D157/3.6 -> 4.8055556 | I157: ='Panigale V4s 21 Data'!$B$8*'Panigale V4s 21 Data'!$B$5*'Panigale V4s 21 Data'!$B$7*0.5*(Calculations!$H157*Calculations!$H157) -> 2.5938365 | J157: =$E157*'Panigale V4s 21 Data'!$B$3 -> -348.75 | K157: ='Panigale V4s 21 Data'!$B$12 -> 52.974 | L157: =I157+J157+K157 -> -293.18216 | M157: =L157*H157 -> -1408.9032 | N157: =M157/1000/3600 -> -0.00039136199 | O157: =IF(M157>0,M157,0) -> 0 | P157: =IF(N157>0,N157,0) -> 0 | Q157: =SUM($P$3:P157) -> 0.019907987 | R157: =IF(M157<0,M157*-1,0) -> 1408.9032 | S157: =IF(M157<0,M157/1000/3600*-1,0) -> 0.00039136199 | T157: =SUM($S$3:S157) -> 0.0071772637 | V157: =R157*0.91*0.95*0.91 -> 1108.3771 | W157: =IF(M157<0,SUM($V$154:V157),0) -> 4059.0354 | Y157: 0 | Z157: =Y157/1000 -> 0 | AA157: =Z157/3600 -> 0 | AB157: =SUM($AA$3:AA157) -> 0.002284098
A158: Low | B158: 155 | C158: 155 | D158: 13.3 | E158: =($D159-$D157)/2/3.6 -> -0.73611111 | F158: =($D159-$D157)/2 -> -2.65 | H158: =$D158/3.6 -> 3.6944444 | I158: ='Panigale V4s 21 Data'!$B$8*'Panigale V4s 21 Data'!$B$5*'Panigale V4s 21 Data'!$B$7*0.5*(Calculations!$H158*Calculations!$H158) -> 1.5330407 | J158: =$E158*'Panigale V4s 21 Data'!$B$3 -> -198.75 | K158: ='Panigale V4s 21 Data'!$B$12 -> 52.974 | L158: =I158+J158+K158 -> -144.24296 | M158: =L158*H158 -> -532.8976 | N158: =M158/1000/3600 -> -0.00014802711 | O158: =IF(M158>0,M158,0) -> 0 | P158: =IF(N158>0,N158,0) -> 0 | Q158: =SUM($P$3:P158) -> 0.019907987 | R158: =IF(M158<0,M158*-1,0) -> 532.8976 | S158: =IF(M158<0,M158/1000/3600*-1,0) -> 0.00014802711 | T158: =SUM($S$3:S158) -> 0.0073252908 | V158: =R158*0.91*0.95*0.91 -> 419.22788 | W158: =IF(M158<0,SUM($V$154:V158),0) -> 4478.2633 | Y158: 0 | Z158: =Y158/1000 -> 0 | AA158: =Z158/3600 -> 0 | AB158: =SUM($AA$3:AA158) -> 0.002284098
A159: Low | B159: 156 | C159: 156 | D159: 12 | E159: =($D160-$D158)/2/3.6 -> -0.097222222 | F159: =($D160-$D158)/2 -> -0.35 | H159: =$D159/3.6 -> 3.3333333 | I159: ='Panigale V4s 21 Data'!$B$8*'Panigale V4s 21 Data'!$B$5*'Panigale V4s 21 Data'!$B$7*0.5*(Calculations!$H159*Calculations!$H159) -> 1.2479951 | J159: =$E159*'Panigale V4s 21 Data'!$B$3 -> -26.25 | K159: ='Panigale V4s 21 Data'!$B$12 -> 52.974 | L159: =I159+J159+K159 -> 27.971995 | M159: =L159*H159 -> 93.239984 | N159: =M159/1000/3600 -> 2.5899995e-05 | O159: =IF(M159>0,M159,0) -> 93.239984 | P159: =IF(N159>0,N159,0) -> 2.5899995e-05 | Q159: =SUM($P$3:P159) -> 0.019933887 | R159: =IF(M159<0,M159*-1,0) -> 0 | S159: =IF(M159<0,M159/1000/3600*-1,0) -> 0 | T159: =SUM($S$3:S159) -> 0.0073252908 | V159: =R159*0.91*0.95*0.91 -> 0 | W159: =IF(M159<0,SUM($V$3:V159),0) -> 0 | Y159: =O159 -> 93.239984 | Z159: =Y159/1000 -> 0.093239984 | AA159: =Z159/3600 -> 2.5899995e-05 | AB159: =SUM($AA$3:AA159) -> 0.002309998
A160: Low | B160: 157 | C160: 157 | D160: 12.6 | E160: =($D161-$D159)/2/3.6 -> 0.29166667 | F160: =($D161-$D159)/2 -> 1.05 | H160: =$D160/3.6 -> 3.5 | I160: ='Panigale V4s 21 Data'!$B$8*'Panigale V4s 21 Data'!$B$5*'Panigale V4s 21 Data'!$B$7*0.5*(Calculations!$H160*Calculations!$H160) -> 1.3759146 | J160: =$E160*'Panigale V4s 21 Data'!$B$3 -> 78.75 | K160: ='Panigale V4s 21 Data'!$B$12 -> 52.974 | L160: =I160+J160+K160 -> 133.09991 | M160: =L160*H160 -> 465.8497 | N160: =M160/1000/3600 -> 0.00012940269 | O160: =IF(M160>0,M160,0) -> 465.8497 | P160: =IF(N160>0,N160,0) -> 0.00012940269 | Q160: =SUM($P$3:P160) -> 0.02006329 | R160: =IF(M160<0,M160*-1,0) -> 0 | S160: =IF(M160<0,M160/1000/3600*-1,0) -> 0 | T160: =SUM($S$3:S160) -> 0.0073252908 | V160: =R160*0.91*0.95*0.91 -> 0 | W160: =IF(M160<0,SUM($V$3:V160),0) -> 0 | Y160: =O160 -> 465.8497 | Z160: =Y160/1000 -> 0.4658497 | AA160: =Z160/3600 -> 0.00012940269 | AB160: =SUM($AA$3:AA160) -> 0.0024394007
A161: Low | B161: 158 | C161: 158 | D161: 14.1 | E161: =($D162-$D160)/2/3.6 -> 0.63888889 | F161: =($D162-$D160)/2 -> 2.3 | H161: =$D161/3.6 -> 3.9166667 | I161: ='Panigale V4s 21 Data'!$B$8*'Panigale V4s 21 Data'!$B$5*'Panigale V4s 21 Data'!$B$7*0.5*(Calculations!$H161*Calculations!$H161) -> 1.7230132 | J161: =$E161*'Panigale V4s 21 Data'!$B$3 -> 172.5 | K161: ='Panigale V4s 21 Data'!$B$12 -> 52.974 | L161: =I161+J161+K161 -> 227.19701 | M161: =L161*H161 -> 889.85497 | N161: =M161/1000/3600 -> 0.00024718194 | O161: =IF(M161>0,M161,0) -> 889.85497 | P161: =IF(N161>0,N161,0) -> 0.00024718194 | Q161: =SUM($P$3:P161) -> 0.020310472 | R161: =IF(M161<0,M161*-1,0) -> 0 | S161: =IF(M161<0,M161/1000/3600*-1,0) -> 0 | T161: =SUM($S$3:S161) -> 0.0073252908 | V161: =R161*0.91*0.95*0.91 -> 0 | W161: =IF(M161<0,SUM($V$3:V161),0) -> 0 | Y161: =O161 -> 889.85497 | Z161: =Y161/1000 -> 0.88985497 | AA161: =Z161/3600 -> 0.00024718194 | AB161: =SUM($AA$3:AA161) -> 0.0026865827
A162: Low | B162: 159 | C162: 159 | D162: 17.2 | E162: =($D163-$D161)/2/3.6 -> 0.83333333 | F162: =($D163-$D161)/2 -> 3 | H162: =$D162/3.6 -> 4.7777778 | I162: ='Panigale V4s 21 Data'!$B$8*'Panigale V4s 21 Data'!$B$5*'Panigale V4s 21 Data'!$B$7*0.5*(Calculations!$H162*Calculations!$H162) -> 2.5639366 | J162: =$E162*'Panigale V4s 21 Data'!$B$3 -> 225 | K162: ='Panigale V4s 21 Data'!$B$12 -> 52.974 | L162: =I162+J162+K162 -> 280.53794 | M162: =L162*H162 -> 1340.3479 | N162: =M162/1000/3600 -> 0.00037231887 | O162: =IF(M162>0,M162,0) -> 1340.3479 | P162: =IF(N162>0,N162,0) -> 0.00037231887 | Q162: =SUM($P$3:P162) -> 0.020682791 | R162: =IF(M162<0,M162*-1,0) -> 0 | S162: =IF(M162<0,M162/1000/3600*-1,0) -> 0 | T162: =SUM($S$3:S162) -> 0.0073252908 | V162: =R162*0.91*0.95*0.91 -> 0 | W162: =IF(M162<0,SUM($V$3:V162),0) -> 0 | Y162: =O162 -> 1340.3479 | Z162: =Y162/1000 -> 1.3403479 | AA162: =Z162/3600 -> 0.00037231887 | AB162: =SUM($AA$3:AA162) -> 0.0030589015
A163: Low | B163: 160 | C163: 160 | D163: 20.1 | E163: =($D164-$D162)/2/3.6 -> 0.86111111 | F163: =($D164-$D162)/2 -> 3.1 | H163: =$D163/3.6 -> 5.5833333 | I163: ='Panigale V4s 21 Data'!$B$8*'Panigale V4s 21 Data'!$B$5*'Panigale V4s 21 Data'!$B$7*0.5*(Calculations!$H163*Calculations!$H163) -> 3.5014063 | J163: =$E163*'Panigale V4s 21 Data'!$B$3 -> 232.5 | K163: ='Panigale V4s 21 Data'!$B$12 -> 52.974 | L163: =I163+J163+K163 -> 288.97541 | M163: =L163*H163 -> 1613.446 | N163: =M163/1000/3600 -> 0.00044817945 | O163: =IF(M163>0,M163,0) -> 1613.446 | P163: =IF(N163>0,N163,0) -> 0.00044817945 | Q163: =SUM($P$3:P163) -> 0.02113097 | R163: =IF(M163<0,M163*-1,0) -> 0 | S163: =IF(M163<0,M163/1000/3600*-1,0) -> 0 | T163: =SUM($S$3:S163) -> 0.0073252908 | V163: =R163*0.91*0.95*0.91 -> 0 | W163: =IF(M163<0,SUM($V$3:V163),0) -> 0 | Y163: =O163 -> 1613.446 | Z163: =Y163/1000 -> 1.613446 | AA163: =Z163/3600 -> 0.00044817945 | AB163: =SUM($AA$3:AA163) -> 0.003507081
A164: Low | B164: 161 | C164: 161 | D164: 23.4 | E164: =($D165-$D163)/2/3.6 -> 0.75 | F164: =($D165-$D163)/2 -> 2.7 | H164: =$D164/3.6 -> 6.5 | I164: ='Panigale V4s 21 Data'!$B$8*'Panigale V4s 21 Data'!$B$5*'Panigale V4s 21 Data'!$B$7*0.5*(Calculations!$H164*Calculations!$H164) -> 4.7455014 | J164: =$E164*'Panigale V4s 21 Data'!$B$3 -> 202.5 | K164: ='Panigale V4s 21 Data'!$B$12 -> 52.974 | L164: =I164+J164+K164 -> 260.2195 | M164: =L164*H164 -> 1691.4268 | N164: =M164/1000/3600 -> 0.00046984077 | O164: =IF(M164>0,M164,0) -> 1691.4268 | P164: =IF(N164>0,N164,0) -> 0.00046984077 | Q164: =SUM($P$3:P164) -> 0.021600811 | R164: =IF(M164<0,M164*-1,0) -> 0 | S164: =IF(M164<0,M164/1000/3600*-1,0) -> 0 | T164: =SUM($S$3:S164) -> 0.0073252908 | V164: =R164*0.91*0.95*0.91 -> 0 | W164: =IF(M164<0,SUM($V$3:V164),0) -> 0 | Y164: =W158-SUM(Y159:Y163) -> 75.524705 | Z164: =Y164/1000 -> 0.075524705 | AA164: =Z164/3600 -> 2.0979085e-05 | AB164: =SUM($AA$3:AA164) -> 0.0035280601
A165: Low | B165: 162 | C165: 162 | D165: 25.5 | E165: =($D166-$D164)/2/3.6 -> 0.58333333 | F165: =($D166-$D164)/2 -> 2.1 | H165: =$D165/3.6 -> 7.0833333 | I165: ='Panigale V4s 21 Data'!$B$8*'Panigale V4s 21 Data'!$B$5*'Panigale V4s 21 Data'!$B$7*0.5*(Calculations!$H165*Calculations!$H165) -> 5.6354779 | J165: =$E165*'Panigale V4s 21 Data'!$B$3 -> 157.5 | K165: ='Panigale V4s 21 Data'!$B$12 -> 52.974 | L165: =I165+J165+K165 -> 216.10948 | M165: =L165*H165 -> 1530.7755 | N165: =M165/1000/3600 -> 0.00042521541 | O165: =IF(M165>0,M165,0) -> 1530.7755 | P165: =IF(N165>0,N165,0) -> 0.00042521541 | Q165: =SUM($P$3:P165) -> 0.022026027 | R165: =IF(M165<0,M165*-1,0) -> 0 | S165: =IF(M165<0,M165/1000/3600*-1,0) -> 0 | T165: =SUM($S$3:S165) -> 0.0073252908 | V165: =R165*0.91*0.95*0.91 -> 0 | W165: =IF(M165<0,SUM($V$3:V165),0) -> 0 | Y165: 0 | Z165: =Y165/1000 -> 0 | AA165: =Z165/3600 -> 0 | AB165: =SUM($AA$3:AA165) -> 0.0035280601
A166: Low | B166: 163 | C166: 163 | D166: 27.6 | E166: =($D167-$D165)/2/3.6 -> 0.55555556 | F166: =($D167-$D165)/2 -> 2 | H166: =$D166/3.6 -> 7.6666667 | I166: ='Panigale V4s 21 Data'!$B$8*'Panigale V4s 21 Data'!$B$5*'Panigale V4s 21 Data'!$B$7*0.5*(Calculations!$H166*Calculations!$H166) -> 6.6018941 | J166: =$E166*'Panigale V4s 21 Data'!$B$3 -> 150 | K166: ='Panigale V4s 21 Data'!$B$12 -> 52.974 | L166: =I166+J166+K166 -> 209.57589 | M166: =L166*H166 -> 1606.7485 | N166: =M166/1000/3600 -> 0.00044631903 | O166: =IF(M166>0,M166,0) -> 1606.7485 | P166: =IF(N166>0,N166,0) -> 0.00044631903 | Q166: =SUM($P$3:P166) -> 0.022472346 | R166: =IF(M166<0,M166*-1,0) -> 0 | S166: =IF(M166<0,M166/1000/3600*-1,0) -> 0 | T166: =SUM($S$3:S166) -> 0.0073252908 | V166: =R166*0.91*0.95*0.91 -> 0 | W166: =IF(M166<0,SUM($V$3:V166),0) -> 0 | Y166: 0 | Z166: =Y166/1000 -> 0 | AA166: =Z166/3600 -> 0 | AB166: =SUM($AA$3:AA166) -> 0.0035280601
A167: Low | B167: 164 | C167: 164 | D167: 29.5 | E167: =($D168-$D166)/2/3.6 -> 0.48611111 | F167: =($D168-$D166)/2 -> 1.75 | H167: =$D167/3.6 -> 8.1944444 | I167: ='Panigale V4s 21 Data'!$B$8*'Panigale V4s 21 Data'!$B$5*'Panigale V4s 21 Data'!$B$7*0.5*(Calculations!$H167*Calculations!$H167) -> 7.5421371 | J167: =$E167*'Panigale V4s 21 Data'!$B$3 -> 131.25 | K167: ='Panigale V4s 21 Data'!$B$12 -> 52.974 | L167: =I167+J167+K167 -> 191.76614 | M167: =L167*H167 -> 1571.417 | N167: =M167/1000/3600 -> 0.00043650471 | O167: =IF(M167>0,M167,0) -> 1571.417 | P167: =IF(N167>0,N167,0) -> 0.00043650471 | Q167: =SUM($P$3:P167) -> 0.02290885 | R167: =IF(M167<0,M167*-1,0) -> 0 | S167: =IF(M167<0,M167/1000/3600*-1,0) -> 0 | T167: =SUM($S$3:S167) -> 0.0073252908 | V167: =R167*0.91*0.95*0.91 -> 0 | W167: =IF(M167<0,SUM($V$3:V167),0) -> 0 | Y167: 0 | Z167: =Y167/1000 -> 0 | AA167: =Z167/3600 -> 0 | AB167: =SUM($AA$3:AA167) -> 0.0035280601
A168: Low | B168: 165 | C168: 165 | D168: 31.1 | E168: =($D169-$D167)/2/3.6 -> 0.36111111 | F168: =($D169-$D167)/2 -> 1.3 | H168: =$D168/3.6 -> 8.6388889 | I168: ='Panigale V4s 21 Data'!$B$8*'Panigale V4s 21 Data'!$B$5*'Panigale V4s 21 Data'!$B$7*0.5*(Calculations!$H168*Calculations!$H168) -> 8.3824538 | J168: =$E168*'Panigale V4s 21 Data'!$B$3 -> 97.5 | K168: ='Panigale V4s 21 Data'!$B$12 -> 52.974 | L168: =I168+J168+K168 -> 158.85645 | M168: =L168*H168 -> 1372.3433 | N168: =M168/1000/3600 -> 0.00038120646 | O168: =IF(M168>0,M168,0) -> 1372.3433 | P168: =IF(N168>0,N168,0) -> 0.00038120646 | Q168: =SUM($P$3:P168) -> 0.023290057 | R168: =IF(M168<0,M168*-1,0) -> 0 | S168: =IF(M168<0,M168/1000/3600*-1,0) -> 0 | T168: =SUM($S$3:S168) -> 0.0073252908 | V168: =R168*0.91*0.95*0.91 -> 0 | W168: =IF(M168<0,SUM($V$3:V168),0) -> 0 | Y168: 0 | Z168: =Y168/1000 -> 0 | AA168: =Z168/3600 -> 0 | AB168: =SUM($AA$3:AA168) -> 0.0035280601
A169: Low | B169: 166 | C169: 166 | D169: 32.1 | E169: =($D170-$D168)/2/3.6 -> 0.29166667 | F169: =($D170-$D168)/2 -> 1.05 | H169: =$D169/3.6 -> 8.9166667 | I169: ='Panigale V4s 21 Data'!$B$8*'Panigale V4s 21 Data'!$B$5*'Panigale V4s 21 Data'!$B$7*0.5*(Calculations!$H169*Calculations!$H169) -> 8.930185 | J169: =$E169*'Panigale V4s 21 Data'!$B$3 -> 78.75 | K169: ='Panigale V4s 21 Data'!$B$12 -> 52.974 | L169: =I169+J169+K169 -> 140.65419 | M169: =L169*H169 -> 1254.1665 | N169: =M169/1000/3600 -> 0.00034837958 | O169: =IF(M169>0,M169,0) -> 1254.1665 | P169: =IF(N169>0,N169,0) -> 0.00034837958 | Q169: =SUM($P$3:P169) -> 0.023638436 | R169: =IF(M169<0,M169*-1,0) -> 0 | S169: =IF(M169<0,M169/1000/3600*-1,0) -> 0 | T169: =SUM($S$3:S169) -> 0.0073252908 | V169: =R169*0.91*0.95*0.91 -> 0 | W169: =IF(M169<0,SUM($V$3:V169),0) -> 0 | Y169: 0 | Z169: =Y169/1000 -> 0 | AA169: =Z169/3600 -> 0 | AB169: =SUM($AA$3:AA169) -> 0.0035280601
A170: Low | B170: 167 | C170: 167 | D170: 33.2 | E170: =($D171-$D169)/2/3.6 -> 0.43055556 | F170: =($D171-$D169)/2 -> 1.55 | H170: =$D170/3.6 -> 9.2222222 | I170: ='Panigale V4s 21 Data'!$B$8*'Panigale V4s 21 Data'!$B$5*'Panigale V4s 21 Data'!$B$7*0.5*(Calculations!$H170*Calculations!$H170) -> 9.5527092 | J170: =$E170*'Panigale V4s 21 Data'!$B$3 -> 116.25 | K170: ='Panigale V4s 21 Data'!$B$12 -> 52.974 | L170: =I170+J170+K170 -> 178.77671 | M170: =L170*H170 -> 1648.7185 | N170: =M170/1000/3600 -> 0.00045797737 | O170: =IF(M170>0,M170,0) -> 1648.7185 | P170: =IF(N170>0,N170,0) -> 0.00045797737 | Q170: =SUM($P$3:P170) -> 0.024096414 | R170: =IF(M170<0,M170*-1,0) -> 0 | S170: =IF(M170<0,M170/1000/3600*-1,0) -> 0 | T170: =SUM($S$3:S170) -> 0.0073252908 | V170: =R170*0.91*0.95*0.91 -> 0 | W170: =IF(M170<0,SUM($V$3:V170),0) -> 0 | Y170: 0 | Z170: =Y170/1000 -> 0 | AA170: =Z170/3600 -> 0 | AB170: =SUM($AA$3:AA170) -> 0.0035280601
A171: Low | B171: 168 | C171: 168 | D171: 35.2 | E171: =($D172-$D170)/2/3.6 -> 0.55555556 | F171: =($D172-$D170)/2 -> 2 | H171: =$D171/3.6 -> 9.7777778 | I171: ='Panigale V4s 21 Data'!$B$8*'Panigale V4s 21 Data'!$B$5*'Panigale V4s 21 Data'!$B$7*0.5*(Calculations!$H171*Calculations!$H171) -> 10.738305 | J171: =$E171*'Panigale V4s 21 Data'!$B$3 -> 150 | K171: ='Panigale V4s 21 Data'!$B$12 -> 52.974 | L171: =I171+J171+K171 -> 213.7123 | M171: =L171*H171 -> 2089.6314 | N171: =M171/1000/3600 -> 0.00058045317 | O171: =IF(M171>0,M171,0) -> 2089.6314 | P171: =IF(N171>0,N171,0) -> 0.00058045317 | Q171: =SUM($P$3:P171) -> 0.024676867 | R171: =IF(M171<0,M171*-1,0) -> 0 | S171: =IF(M171<0,M171/1000/3600*-1,0) -> 0 | T171: =SUM($S$3:S171) -> 0.0073252908 | V171: =R171*0.91*0.95*0.91 -> 0 | W171: =IF(M171<0,SUM($V$3:V171),0) -> 0 | Y171: 0 | Z171: =Y171/1000 -> 0 | AA171: =Z171/3600 -> 0 | AB171: =SUM($AA$3:AA171) -> 0.0035280601
A172: Low | B172: 169 | C172: 169 | D172: 37.2 | E172: =($D173-$D171)/2/3.6 -> 0.38888889 | F172: =($D173-$D171)/2 -> 1.4 | H172: =$D172/3.6 -> 10.333333 | I172: ='Panigale V4s 21 Data'!$B$8*'Panigale V4s 21 Data'!$B$5*'Panigale V4s 21 Data'!$B$7*0.5*(Calculations!$H172*Calculations!$H172) -> 11.993233 | J172: =$E172*'Panigale V4s 21 Data'!$B$3 -> 105 | K172: ='Panigale V4s 21 Data'!$B$12 -> 52.974 | L172: =I172+J172+K172 -> 169.96723 | M172: =L172*H172 -> 1756.3281 | N172: =M172/1000/3600 -> 0.00048786891 | O172: =IF(M172>0,M172,0) -> 1756.3281 | P172: =IF(N172>0,N172,0) -> 0.00048786891 | Q172: =SUM($P$3:P172) -> 0.025164736 | R172: =IF(M172<0,M172*-1,0) -> 0 | S172: =IF(M172<0,M172/1000/3600*-1,0) -> 0 | T172: =SUM($S$3:S172) -> 0.0073252908 | V172: =R172*0.91*0.95*0.91 -> 0 | W172: =IF(M172<0,SUM($V$3:V172),0) -> 0 | Y172: 0 | Z172: =Y172/1000 -> 0 | AA172: =Z172/3600 -> 0 | AB172: =SUM($AA$3:AA172) -> 0.0035280601
A173: Low | B173: 170 | C173: 170 | D173: 38 | E173: =($D174-$D172)/2/3.6 -> 0.027777778 | F173: =($D174-$D172)/2 -> 0.1 | H173: =$D173/3.6 -> 10.555556 | I173: ='Panigale V4s 21 Data'!$B$8*'Panigale V4s 21 Data'!$B$5*'Panigale V4s 21 Data'!$B$7*0.5*(Calculations!$H173*Calculations!$H173) -> 12.514618 | J173: =$E173*'Panigale V4s 21 Data'!$B$3 -> 7.5 | K173: ='Panigale V4s 21 Data'!$B$12 -> 52.974 | L173: =I173+J173+K173 -> 72.988618 | M173: =L173*H173 -> 770.43541 | N173: =M173/1000/3600 -> 0.00021400984 | O173: =IF(M173>0,M173,0) -> 770.43541 | P173: =IF(N173>0,N173,0) -> 0.00021400984 | Q173: =SUM($P$3:P173) -> 0.025378746 | R173: =IF(M173<0,M173*-1,0) -> 0 | S173: =IF(M173<0,M173/1000/3600*-1,0) -> 0 | T173: =SUM($S$3:S173) -> 0.0073252908 | V173: =R173*0.91*0.95*0.91 -> 0 | W173: =IF(M173<0,SUM($V$3:V173),0) -> 0 | Y173: 0 | Z173: =Y173/1000 -> 0 | AA173: =Z173/3600 -> 0 | AB173: =SUM($AA$3:AA173) -> 0.0035280601
A174: Low | B174: 171 | C174: 171 | D174: 37.4 | E174: =($D175-$D173)/2/3.6 -> -0.40277778 | F174: =($D175-$D173)/2 -> -1.45 | H174: =$D174/3.6 -> 10.388889 | I174: ='Panigale V4s 21 Data'!$B$8*'Panigale V4s 21 Data'!$B$5*'Panigale V4s 21 Data'!$B$7*0.5*(Calculations!$H174*Calculations!$H174) -> 12.122539 | J174: =$E174*'Panigale V4s 21 Data'!$B$3 -> -108.75 | K174: ='Panigale V4s 21 Data'!$B$12 -> 52.974 | L174: =I174+J174+K174 -> -43.653461 | M174: =L174*H174 -> -453.51095 | N174: =M174/1000/3600 -> -0.00012597527 | O174: =IF(M174>0,M174,0) -> 0 | P174: =IF(N174>0,N174,0) -> 0 | Q174: =SUM($P$3:P174) -> 0.025378746 | R174: =IF(M174<0,M174*-1,0) -> 453.51095 | S174: =IF(M174<0,M174/1000/3600*-1,0) -> 0.00012597527 | T174: =SUM($S$3:S174) -> 0.0074512661 | V174: =R174*0.91*0.95*0.91 -> 356.7748 | W174: =IF(M174<0,SUM($V$174:V174),0) -> 356.7748 | Y174: 0 | Z174: =Y174/1000 -> 0 | AA174: =Z174/3600 -> 0 | AB174: =SUM($AA$3:AA174) -> 0.0035280601
A175: Low | B175: 172 | C175: 172 | D175: 35.1 | E175: =($D176-$D174)/2/3.6 -> -0.88888889 | F175: =($D176-$D174)/2 -> -3.2 | H175: =$D175/3.6 -> 9.75 | I175: ='Panigale V4s 21 Data'!$B$8*'Panigale V4s 21 Data'!$B$5*'Panigale V4s 21 Data'!$B$7*0.5*(Calculations!$H175*Calculations!$H175) -> 10.677378 | J175: =$E175*'Panigale V4s 21 Data'!$B$3 -> -240 | K175: ='Panigale V4s 21 Data'!$B$12 -> 52.974 | L175: =I175+J175+K175 -> -176.34862 | M175: =L175*H175 -> -1719.3991 | N175: =M175/1000/3600 -> -0.00047761085 | O175: =IF(M175>0,M175,0) -> 0 | P175: =IF(N175>0,N175,0) -> 0 | Q175: =SUM($P$3:P175) -> 0.025378746 | R175: =IF(M175<0,M175*-1,0) -> 1719.3991 | S175: =IF(M175<0,M175/1000/3600*-1,0) -> 0.00047761085 | T175: =SUM($S$3:S175) -> 0.007928877 | V175: =R175*0.91*0.95*0.91 -> 1352.6426 | W175: =IF(M175<0,SUM($V$174:V175),0) -> 1709.4174 | Y175: 0 | Z175: =Y175/1000 -> 0 | AA175: =Z175/3600 -> 0 | AB175: =SUM($AA$3:AA175) -> 0.0035280601
A176: Low | B176: 173 | C176: 173 | D176: 31 | E176: =($D177-$D175)/2/3.6 -> -1.1111111 | F176: =($D177-$D175)/2 -> -4 | H176: =$D176/3.6 -> 8.6111111 | I176: ='Panigale V4s 21 Data'!$B$8*'Panigale V4s 21 Data'!$B$5*'Panigale V4s 21 Data'!$B$7*0.5*(Calculations!$H176*Calculations!$H176) -> 8.328634 | J176: =$E176*'Panigale V4s 21 Data'!$B$3 -> -300 | K176: ='Panigale V4s 21 Data'!$B$12 -> 52.974 | L176: =I176+J176+K176 -> -238.69737 | M176: =L176*H176 -> -2055.4495 | N176: =M176/1000/3600 -> -0.00057095821 | O176: =IF(M176>0,M176,0) -> 0 | P176: =IF(N176>0,N176,0) -> 0 | Q176: =SUM($P$3:P176) -> 0.025378746 | R176: =IF(M176<0,M176*-1,0) -> 2055.4495 | S176: =IF(M176<0,M176/1000/3600*-1,0) -> 0.00057095821 | T176: =SUM($S$3:S176) -> 0.0084998352 | V176: =R176*0.91*0.95*0.91 -> 1617.0119 | W176: =IF(M176<0,SUM($V$174:V176),0) -> 3326.4293 | Y176: 0 | Z176: =Y176/1000 -> 0 | AA176: =Z176/3600 -> 0 | AB176: =SUM($AA$3:AA176) -> 0.0035280601
A177: Low | B177: 174 | C177: 174 | D177: 27.1 | E177: =($D178-$D176)/2/3.6 -> -0.79166667 | F177: =($D178-$D176)/2 -> -2.85 | H177: =$D177/3.6 -> 7.5277778 | I177: ='Panigale V4s 21 Data'!$B$8*'Panigale V4s 21 Data'!$B$5*'Panigale V4s 21 Data'!$B$7*0.5*(Calculations!$H177*Calculations!$H177) -> 6.3648617 | J177: =$E177*'Panigale V4s 21 Data'!$B$3 -> -213.75 | K177: ='Panigale V4s 21 Data'!$B$12 -> 52.974 | L177: =I177+J177+K177 -> -154.41114 | M177: =L177*H177 -> -1162.3727 | N177: =M177/1000/3600 -> -0.00032288132 | O177: =IF(M177>0,M177,0) -> 0 | P177: =IF(N177>0,N177,0) -> 0 | Q177: =SUM($P$3:P177) -> 0.025378746 | R177: =IF(M177<0,M177*-1,0) -> 1162.3727 | S177: =IF(M177<0,M177/1000/3600*-1,0) -> 0.00032288132 | T177: =SUM($S$3:S177) -> 0.0088227165 | V177: =R177*0.91*0.95*0.91 -> 914.43282 | W177: =IF(M177<0,SUM($V$174:V177),0) -> 4240.8621 | Y177: 0 | Z177: =Y177/1000 -> 0 | AA177: =Z177/3600 -> 0 | AB177: =SUM($AA$3:AA177) -> 0.0035280601
A178: Low | B178: 175 | C178: 175 | D178: 25.3 | E178: =($D179-$D177)/2/3.6 -> -0.27777778 | F178: =($D179-$D177)/2 -> -1 | H178: =$D178/3.6 -> 7.0277778 | I178: ='Panigale V4s 21 Data'!$B$8*'Panigale V4s 21 Data'!$B$5*'Panigale V4s 21 Data'!$B$7*0.5*(Calculations!$H178*Calculations!$H178) -> 5.5474249 | J178: =$E178*'Panigale V4s 21 Data'!$B$3 -> -75 | K178: ='Panigale V4s 21 Data'!$B$12 -> 52.974 | L178: =I178+J178+K178 -> -16.478575 | M178: =L178*H178 -> -115.80776 | N178: =M178/1000/3600 -> -3.2168823e-05 | O178: =IF(M178>0,M178,0) -> 0 | P178: =IF(N178>0,N178,0) -> 0 | Q178: =SUM($P$3:P178) -> 0.025378746 | R178: =IF(M178<0,M178*-1,0) -> 115.80776 | S178: =IF(M178<0,M178/1000/3600*-1,0) -> 3.2168823e-05 | T178: =SUM($S$3:S178) -> 0.0088548853 | V178: =R178*0.91*0.95*0.91 -> 91.105389 | W178: =IF(M178<0,SUM($V$174:V178),0) -> 4331.9675 | Y178: 0 | Z178: =Y178/1000 -> 0 | AA178: =Z178/3600 -> 0 | AB178: =SUM($AA$3:AA178) -> 0.0035280601
A179: Low | B179: 176 | C179: 176 | D179: 25.1 | E179: =($D180-$D178)/2/3.6 -> 0.083333333 | F179: =($D180-$D178)/2 -> 0.3 | H179: =$D179/3.6 -> 6.9722222 | I179: ='Panigale V4s 21 Data'!$B$8*'Panigale V4s 21 Data'!$B$5*'Panigale V4s 21 Data'!$B$7*0.5*(Calculations!$H179*Calculations!$H179) -> 5.4600653 | J179: =$E179*'Panigale V4s 21 Data'!$B$3 -> 22.5 | K179: ='Panigale V4s 21 Data'!$B$12 -> 52.974 | L179: =I179+J179+K179 -> 80.934065 | M179: =L179*H179 -> 564.29029 | N179: =M179/1000/3600 -> 0.0001567473 | O179: =IF(M179>0,M179,0) -> 564.29029 | P179: =IF(N179>0,N179,0) -> 0.0001567473 | Q179: =SUM($P$3:P179) -> 0.025535493 | R179: =IF(M179<0,M179*-1,0) -> 0 | S179: =IF(M179<0,M179/1000/3600*-1,0) -> 0 | T179: =SUM($S$3:S179) -> 0.0088548853 | V179: =R179*0.91*0.95*0.91 -> 0 | W179: =IF(M179<0,SUM($V$3:V179),0) -> 0 | Y179: =O179 -> 564.29029 | Z179: =Y179/1000 -> 0.56429029 | AA179: =Z179/3600 -> 0.0001567473 | AB179: =SUM($AA$3:AA179) -> 0.0036848074
A180: Low | B180: 177 | C180: 177 | D180: 25.9 | E180: =($D181-$D179)/2/3.6 -> 0.375 | F180: =($D181-$D179)/2 -> 1.35 | H180: =$D180/3.6 -> 7.1944444 | I180: ='Panigale V4s 21 Data'!$B$8*'Panigale V4s 21 Data'!$B$5*'Panigale V4s 21 Data'!$B$7*0.5*(Calculations!$H180*Calculations!$H180) -> 5.8136639 | J180: =$E180*'Panigale V4s 21 Data'!$B$3 -> 101.25 | K180: ='Panigale V4s 21 Data'!$B$12 -> 52.974 | L180: =I180+J180+K180 -> 160.03766 | M180: =L180*H180 -> 1151.3821 | N180: =M180/1000/3600 -> 0.00031982836 | O180: =IF(M180>0,M180,0) -> 1151.3821 | P180: =IF(N180>0,N180,0) -> 0.00031982836 | Q180: =SUM($P$3:P180) -> 0.025855321 | R180: =IF(M180<0,M180*-1,0) -> 0 | S180: =IF(M180<0,M180/1000/3600*-1,0) -> 0 | T180: =SUM($S$3:S180) -> 0.0088548853 | V180: =R180*0.91*0.95*0.91 -> 0 | W180: =IF(M180<0,SUM($V$3:V180),0) -> 0 | Y180: =O180 -> 1151.3821 | Z180: =Y180/1000 -> 1.1513821 | AA180: =Z180/3600 -> 0.00031982836 | AB180: =SUM($AA$3:AA180) -> 0.0040046357
...

Sheet Graphs
