Workbook

Sheet Panigale V4s 21 Data
A1: Rider Mass (kg) | B1: 75
A2: Test Mass (kg) | B2: 195
A3: Total Mass (kg) | B3: 270
A4: Frontal Area (m2) | B4: 0.37752083
A5: Frontal Area with rider (m2) | B5: 0.42776182
A6: Rolling Resistance Coefficient | B6: 0.02
A7: Drag Coefficient | B7: 0.45
A8: Air Density | B8: 1.167
A9: Power (BHP) | B9: 211
A10: Power (KW) | B10: =B9/1.341 -> 157.34526
A11: Rolling Resistance (N) | B11: =B6*9.81*B2 -> 38.259
A12: Rolling Resistance with Rider (N) | B12: =B6*9.81*(B2+B1) -> 52.974
A13: W/kg | B13: =B10*1000/B2 -> 806.89879 | C13: =IF(B13>34,"Class 3","Class 2 or 1") -> Class 3

Sheet Calculations
A1: Phase | B1: Total elapsed time | C1: Phase elapsed time | D1: WLTC class 3, version 5, vehicle speed | E1: WLTC class 3, version 5, acceleration | F1: WLTC class 3, version 5, acceleration | H1: WLTC class 3, version 5, vehicle speed | I1: Aero Drag with Rider | J1: Acceleration Resistance | K1: Rolling Resistance | L1: Total Resistive/ Tractive Forces | M1: Power | N1: Energy | O1: Tractive Power | P1: Tractive Energy | Q1: Cumulative Tractive Energy | R1: Braking Power | S1: Braking Energy | T1: Cumulative Braking Energy | U1: Max Power Input | V1: Power Stored | W1: Cumulative Power Stored for each period | X1: Max Energy Storage Required | Y1: Power Back to the Wheel | Z1: Power Back to the Wheel | AA1: Kinetic Energy Back to the Wheel | AB1: Cumulative Kinetic Energy Back to the Wheel | AC1: Percentage of Regenerated Energy Used | AD1: Pecentage of Braking Energy used for KERs
A2: Phase | B2: s | C2: s | D2: km/h | E2: m/s² | F2: km/h/s | H2: m/s | I2: (N) | J2: (N) | K2: (N) | L2: (N) | M2: (W) | N2: (kWh) | O2: (W) | P2: (kWh) | Q2: (kWh) | R2: (W) | S2: (kWh) | T2: (kWh) | U2: (W) | V2: (W) | W2: (W) | X2: (kWh) | Y2: (W) | Z2: (kW) | AA2: (kWh) | AB2: (kWh) | AC2: (%) | AD2: (%)
A3: Low | B3: 0 | C3: 0 | D3: 0 | E3: =($D4-0)/2/3.6 -> 0 | F3: =($D4-0)/2 -> 0 | H3: =$D3/3.6 -> 0 | I3: ='Panigale V4s 21 Data'!$B$8*'Panigale V4s 21 Data'!$B$5*'Panigale V4s 21 Data'!$B$7*0.5*(Calculations!$H3^2) -> 0 | J3: =$E3*'Panigale V4s 21 Data'!$B$3 -> 0 | K3: ='Panigale V4s 21 Data'!$B$12 -> 52.974 | L3: =I3+J3+K3 -> 52.974 | M3: =L3*H3 -> 0 | N3: =M3/1000/3600 -> 0 | O3: =IF(M3>0,M3,0) -> 0 | P3: =IF(N3>0,N3,0) -> 0 | Q3: =SUM($P$3:P3) -> 0 | R3: =IF(M3<0,M3*-1,0) -> 0 | S3: =IF(M3<0,M3/1000/3600*-1,0) -> 0 | T3: =SUM($S$3:S3) -> 0 | U3: =MAX(R3:R1803) -> 4719.7056 | V3: =R3*0.91*0.95*0.91 -> 0 | W3: =IF(M3<0,SUM($V$3:V3),0) -> 0 | X3: =MAX(W3:W1803)/1000/3600 -> 0.0086090665 | Y3: 0 | Z3: =Y3/1000 -> 0 | AA3: =Z3/3600 -> 0 | AB3: =SUM($AA$3:AA3) -> 0 | AC3: =(AB1803/Q1803) -> 0.080018405 | AD3: =AB1803/T1803 -> 0.59253689
A4: Low | B4: 1 | C4: 1 | D4: 0 | E4: =($D5-$D3)/2/3.6 -> 0 | F4: =($D5-$D3)/2 -> 0 | H4: =$D4/3.6 -> 0 | I4: ='Panigale V4s 21 Data'!$B$8*'Panigale V4s 21 Data'!$B$5*'Panigale V4s 21 Data'!$B$7*0.5*(Calculations!$H4*Calculations!$H4) -> 0 | J4: =$E4*'Panigale V4s 21 Data'!$B$3 -> 0 | K4: ='Panigale V4s 21 Data'!$B$12 -> 52.974 | L4: =I4+J4+K4 -> 52.974 | M4: =L4*H4 -> 0 | N4: =M4/1000/3600 -> 0 | O4: =IF(M4>0,M4,0) -> 0 | P4: =IF(N4>0,N4,0) -> 0 | Q4: =SUM($P$3:P4) -> 0 | R4: =IF(M4<0,M4*-1,0) -> 0 | S4: =IF(M4<0,M4/1000/3600*-1,0) -> 0 | T4: =SUM($S$3:S4) -> 0 | V4: =R4*0.91*0.95*0.91 -> 0 | W4: =IF(M4<0,SUM($V$3:V4),0) -> 0 | X4: (Wh) | Y4: 0 | Z4: =Y4/1000 -> 0 | AA4: =Z4/3600 -> 0 | AB4: =SUM($AA$3:AA4) -> 0 | AC4: =AC3 -> 0.080018405 | AD4: =AD3 -> 0.59253689
A5: Low | B5: 2 | C5: 2 | D5: 0 | E5: =($D6-$D4)/2/3.6 -> 0 | F5: =($D6-$D4)/2 -> 0 | H5: =$D5/3.6 -> 0 | I5: ='Panigale V4s 21 Data'!$B$8*'Panigale V4s 21 Data'!$B$5*'Panigale V4s 21 Data'!$B$7*0.5*(Calculations!$H5*Calculations!$H5) -> 0 | J5: =$E5*'Panigale V4s 21 Data'!$B$3 -> 0 | K5: ='Panigale V4s 21 Data'!$B$12 -> 52.974 | L5: =I5+J5+K5 -> 52.974 | M5: =L5*H5 -> 0 | N5: =M5/1000/3600 -> 0 | O5: =IF(M5>0,M5,0) -> 0 | P5: =IF(N5>0,N5,0) -> 0 | Q5: =SUM($P$3:P5) -> 0 | R5: =IF(M5<0,M5*-1,0) -> 0 | S5: =IF(M5<0,M5/1000/3600*-1,0) -> 0 | T5: =SUM($S$3:S5) -> 0 | V5: =R5*0.91*0.95*0.91 -> 0 | W5: =IF(M5<0,SUM($V$3:V5),0) -> 0 | X5: =X3*1000 -> 8.6090665 | Y5: 0 | Z5: =Y5/1000 -> 0 | AA5: =Z5/3600 -> 0 | AB5: =SUM($AA$3:AA5) -> 0
A6: Low | B6: 3 | C6: 3 | D6: 0 | E6: =($D7-$D5)/2/3.6 -> 0 | F6: =($D7-$D5)/2 -> 0 | H6: =$D6/3.6 -> 0 | I6: ='Panigale V4s 21 Data'!$B$8*'Panigale V4s 21 Data'!$B$5*'Panigale V4s 21 Data'!$B$7*0.5*(Calculations!$H6*Calculations!$H6) -> 0 | J6: =$E6*'Panigale V4s 21 Data'!$B$3 -> 0 | K6: ='Panigale V4s 21 Data'!$B$12 -> 52.974 | L6: =I6+J6+K6 -> 52.974 | M6: =L6*H6 -> 0 | N6: =M6/1000/3600 -> 0 | O6: =IF(M6>0,M6,0) -> 0 | P6: =IF(N6>0,N6,0) -> 0 | Q6: =SUM($P$3:P6) -> 0 | R6: =IF(M6<0,M6*-1,0) -> 0 | S6: =IF(M6<0,M6/1000/3600*-1,0) -> 0 | T6: =SUM($S$3:S6) -> 0 | V6: =R6*0.91*0.95*0.91 -> 0 | W6: =IF(M6<0,SUM($V$3:V6),0) -> 0 | Y6: 0 | Z6: =Y6/1000 -> 0 | AA6: =Z6/3600 -> 0 | AB6: =SUM($AA$3:AA6) -> 0
A7: Low | B7: 4 | C7: 4 | D7: 0 | E7: =($D8-$D6)/2/3.6 -> 0 | F7: =($D8-$D6)/2 -> 0 | H7: =$D7/3.6 -> 0 | I7: ='Panigale V4s 21 Data'!$B$8*'Panigale V4s 21 Data'!$B$5*'Panigale V4s 21 Data'!$B$7*0.5*(Calculations!$H7*Calculations!$H7) -> 0 | J7: =$E7*'Panigale V4s 21 Data'!$B$3 -> 0 | K7: ='Panigale V4s 21 Data'!$B$12 -> 52.974 | L7: =I7+J7+K7 -> 52.974 | M7: =L7*H7 -> 0 | N7: =M7/1000/3600 -> 0 | O7: =IF(M7>0,M7,0) -> 0 | P7: =IF(N7>0,N7,0) -> 0 | Q7: =SUM($P$3:P7) -> 0 | R7: =IF(M7<0,M7*-1,0) -> 0 | S7: =IF(M7<0,M7/1000/3600*-1,0) -> 0 | T7: =SUM($S$3:S7) -> 0 | V7: =R7*0.91*0.95*0.91 -> 0 | W7: =IF(M7<0,SUM($V$3:V7),0) -> 0 | Y7: 0 | Z7: =Y7/1000 -> 0 | AA7: =Z7/3600 -> 0 | AB7: =SUM($AA$3:AA7) -> 0
A8: Low | B8: 5 | C8: 5 | D8: 0 | E8: =($D9-$D7)/2/3.6 -> 0 | F8: =($D9-$D7)/2 -> 0 | H8: =$D8/3.6 -> 0 | I8: ='Panigale V4s 21 Data'!$B$8*'Panigale V4s 21 Data'!$B$5*'Panigale V4s 21 Data'!$B$7*0.5*(Calculations!$H8*Calculations!$H8) -> 0 | J8: =$E8*'Panigale V4s 21 Data'!$B$3 -> 0 | K8: ='Panigale V4s 21 Data'!$B$12 -> 52.974 | L8: =I8+J8+K8 -> 52.974 | M8: =L8*H8 -> 0 | N8: =M8/1000/3600 -> 0 | O8: =IF(M8>0,M8,0) -> 0 | P8: =IF(N8>0,N8,0) -> 0 | Q8: =SUM($P$3:P8) -> 0 | R8: =IF(M8<0,M8*-1,0) -> 0 | S8: =IF(M8<0,M8/1000/3600*-1,0) -> 0 | T8: =SUM($S$3:S8) -> 0 | V8: =R8*0.91*0.95*0.91 -> 0 | W8: =IF(M8<0,SUM($V$3:V8),0) -> 0 | Y8: 0 | Z8: =Y8/1000 -> 0 | AA8: =Z8/3600 -> 0 | AB8: =SUM($AA$3:AA8) -> 0
A9: Low | B9: 6 | C9: 6 | D9: 0 | E9: =($D10-$D8)/2/3.6 -> 0 | F9: =($D10-$D8)/2 -> 0 | H9: =$D9/3.6 -> 0 | I9: ='Panigale V4s 21 Data'!$B$8*'Panigale V4s 21 Data'!$B$5*'Panigale V4s 21 Data'!$B$7*0.5*(Calculations!$H9*Calculations!$H9) -> 0 | J9: =$E9*'Panigale V4s 21 Data'!$B$3 -> 0 | K9: ='Panigale V4s 21 Data'!$B$12 -> 52.974 | L9: =I9+J9+K9 -> 52.974 | M9: =L9*H9 -> 0 | N9: =M9/1000/3600 -> 0 | O9: =IF(M9>0,M9,0) -> 0 | P9: =IF(N9>0,N9,0) -> 0 | Q9: =SUM($P$3:P9) -> 0 | R9: =IF(M9<0,M9*-1,0) -> 0 | S9: =IF(M9<0,M9/1000/3600*-1,0) -> 0 | T9: =SUM($S$3:S9) -> 0 | V9: =R9*0.91*0.95*0.91 -> 0 | W9: =IF(M9<0,SUM($V$3:V9),0) -> 0 | Y9: 0 | Z9: =Y9/1000 -> 0 | AA9: =Z9/3600 -> 0 | AB9: =SUM($AA$3:AA9) -> 0
A10: Low | B10: 7 | C10: 7 | D10: 0 | E10: =($D11-$D9)/2/3.6 -> 0 | F10: =($D11-$D9)/2 -> 0 | H10: =$D10/3.6 -> 0 | I10: ='Panigale V4s 21 Data'!$B$8*'Panigale V4s 21 Data'!$B$5*'Panigale V4s 21 Data'!$B$7*0.5*(Calculations!$H10*Calculations!$H10) -> 0 | J10: =$E10*'Panigale V4s 21 Data'!$B$3 -> 0 | K10: ='Panigale V4s 21 Data'!$B$12 -> 52.974 | L10: =I10+J10+K10 -> 52.974 | M10: =L10*H10 -> 0 | N10: =M10/1000/3600 -> 0 | O10: =IF(M10>0,M10,0) -> 0 | P10: =IF(N10>0,N10,0) -> 0 | Q10: =SUM($P$3:P10) -> 0 | R10: =IF(M10<0,M10*-1,0) -> 0 | S10: =IF(M10<0,M10/1000/3600*-1,0) -> 0 | T10: =SUM($S$3:S10) -> 0 | V10: =R10*0.91*0.95*0.91 -> 0 | W10: =IF(M10<0,SUM($V$3:V10),0) -> 0 | Y10: 0 | Z10: =Y10/1000 -> 0 | AA10: =Z10/3600 -> 0 | AB10: =SUM($AA$3:AA10) -> 0
A11: Low | B11: 8 | C11: 8 | D11: 0 | E11: =($D12-$D10)/2/3.6 -> 0 | F11: =($D12-$D10)/2 -> 0 | H11: =$D11/3.6 -> 0 | I11: ='Panigale V4s 21 Data'!$B$8*'Panigale V4s 21 Data'!$B$5*'Panigale V4s 21 Data'!$B$7*0.5*(Calculations!$H11*Calculations!$H11) -> 0 | J11: =$E11*'Panigale V4s 21 Data'!$B$3 -> 0 | K11: ='Panigale V4s 21 Data'!$B$12 -> 52.974 | L11: =I11+J11+K11 -> 52.974 | M11: =L11*H11 -> 0 | N11: =M11/1000/3600 -> 0 | O11: =IF(M11>0,M11,0) -> 0 | P11: =IF(N11>0,N11,0) -> 0 | Q11: =SUM($P$3:P11) -> 0 | R11: =IF(M11<0,M11*-1,0) -> 0 | S11: =IF(M11<0,M11/1000/3600*-1,0) -> 0 | T11: =SUM($S$3:S11) -> 0 | V11: =R11*0.91*0.95*0.91 -> 0 | W11: =IF(M11<0,SUM($V$3:V11),0) -> 0 | Y11: 0 | Z11: =Y11/1000 -> 0 | AA11: =Z11/3600 -> 0 | AB11: =SUM($AA$3:AA11) -> 0
A12: Low | B12: 9 | C12: 9 | D12: 0 | E12: =($D13-$D11)/2/3.6 -> 0 | F12: =($D13-$D11)/2 -> 0 | H12: =$D12/3.6 -> 0 | I12: ='Panigale V4s 21 Data'!$B$8*'Panigale V4s 21 Data'!$B$5*'Panigale V4s 21 Data'!$B$7*0.5*(Calculations!$H12*Calculations!$H12) -> 0 | J12: =$E12*'Panigale V4s 21 Data'!$B$3 -> 0 | K12: ='Panigale V4s 21 Data'!$B$12 -> 52.974 | L12: =I12+J12+K12 -> 52.974 | M12: =L12*H12 -> 0 | N12: =M12/1000/3600 -> 0 | O12: =IF(M12>0,M12,0) -> 0 | P12: =IF(N12>0,N12,0) -> 0 | Q12: =SUM($P$3:P12) -> 0 | R12: =IF(M12<0,M12*-1,0) -> 0 | S12: =IF(M12<0,M12/1000/3600*-1,0) -> 0 | T12: =SUM($S$3:S12) -> 0 | V12: =R12*0.91*0.95*0.91 -> 0 | W12: =IF(M12<0,SUM($V$3:V12),0) -> 0 | Y12: 0 | Z12: =Y12/1000 -> 0 | AA12: =Z12/3600 -> 0 | AB12: =SUM($AA$3:AA12) -> 0
A13: Low | B13: 10 | C13: 10 | D13: 0 | E13: =($D14-$D12)/2/3.6 -> 0 | F13: =($D14-$D12)/2 -> 0 | H13: =$D13/3.6 -> 0 | I13: ='Panigale V4s 21 Data'!$B$8*'Panigale V4s 21 Data'!$B$5*'Panigale V4s 21 Data'!$B$7*0.5*(Calculations!$H13*Calculations!$H13) -> 0 | J13: =$E13*'Panigale V4s 21 Data'!$B$3 -> 0 | K13: ='Panigale V4s 21 Data'!$B$12 -> 52.974 | L13: =I13+J13+K13 -> 52.974 | M13: =L13*H13 -> 0 | N13: =M13/1000/3600 -> 0 | O13: =IF(M13>0,M13,0) -> 0 | P13: =IF(N13>0,N13,0) -> 0 | Q13: =SUM($P$3:P13) -> 0 | R13: =IF(M13<0,M13*-1,0) -> 0 | S13: =IF(M13<0,M13/1000/3600*-1,0) -> 0 | T13: =SUM($S$3:S13) -> 0 | V13: =R13*0.91*0.95*0.91 -> 0 | W13: =IF(M13<0,SUM($V$3:V13),0) -> 0 | Y13: 0 | Z13: =Y13/1000 -> 0 | AA13: =Z13/3600 -> 0 | AB13: =SUM($AA$3:AA13) -> 0
A14: Low | B14: 11 | C14: 11 | D14: 0 | E14: =($D15-$D13)/2/3.6 -> 0.027777778 | F14: =($D15-$D13)/2 -> 0.1 | H14: =$D14/3.6 -> 0 | I14: ='Panigale V4s 21 Data'!$B$8*'Panigale V4s 21 Data'!$B$5*'Panigale V4s 21 Data'!$B$7*0.5*(Calculations!$H14*Calculations!$H14) -> 0 | J14: =$E14*'Panigale V4s 21 Data'!$B$3 -> 7.5 | K14: ='Panigale V4s 21 Data'!$B$12 -> 52.974 | L14: =I14+J14+K14 -> 60.474 | M14: =L14*H14 -> 0 | N14: =M14/1000/3600 -> 0 | O14: =IF(M14>0,M14,0) -> 0 | P14: =IF(N14>0,N14,0) -> 0 | Q14: =SUM($P$3:P14) -> 0 | R14: =IF(M14<0,M14*-1,0) -> 0 | S14: =IF(M14<0,M14/1000/3600*-1,0) -> 0 | T14: =SUM($S$3:S14) -> 0 | V14: =R14*0.91*0.95*0.91 -> 0 | W14: =IF(M14<0,SUM($V$3:V14),0) -> 0 | Y14: 0 | Z14: =Y14/1000 -> 0 | AA14: =Z14/3600 -> 0 | AB14: =SUM($AA$3:AA14) -> 0
A15: Low | B15: 12 | C15: 12 | D15: 0.2 | E15: =($D16-$D14)/2/3.6 -> 0.23611111 | F15: =($D16-$D14)/2 -> 0.85 | H15: =$D15/3.6 -> 0.055555556 | I15: ='Panigale V4s 21 Data'!$B$8*'Panigale V4s 21 Data'!$B$5*'Panigale V4s 21 Data'!$B$7*0.5*(Calculations!$H15*Calculations!$H15) -> 0.00034666531 | J15: =$E15*'Panigale V4s 21 Data'!$B$3 -> 63.75 | K15: ='Panigale V4s 21 Data'!$B$12 -> 52.974 | L15: =I15+J15+K15 -> 116.72435 | M15: =L15*H15 -> 6.4846859 | N15: =M15/1000/3600 -> 1.8013016e-06 | O15: =IF(M15>0,M15,0) -> 6.4846859 | P15: =IF(N15>0,N15,0) -> 1.8013016e-06 | Q15: =SUM($P$3:P15) -> 1.8013016e-06 | R15: =IF(M15<0,M15*-1,0) -> 0 | S15: =IF(M15<0,M15/1000/3600*-1,0) -> 0 | T15: =SUM($S$3:S15) -> 0 | V15: =R15*0.91*0.95*0.91 -> 0 | W15: =IF(M15<0,SUM($V$3:V15),0) -> 0 | Y15: 0 | Z15: =Y15/1000 -> 0 | AA15: =Z15/3600 -> 0 | AB15: =SUM($AA$3:AA15) -> 0
A16: Low | B16: 13 | C16: 13 | D16: 1.7 | E16: =($D17-$D15)/2/3.6 -> 0.72222222 | F16: =($D17-$D15)/2 -> 2.6 | H16: =$D16/3.6 -> 0.47222222 | I16: ='Panigale V4s 21 Data'!$B$8*'Panigale V4s 21 Data'!$B$5*'Panigale V4s 21 Data'!$B$7*0.5*(Calculations!$H16*Calculations!$H16) -> 0.025046569 | J16: =$E16*'Panigale V4s 21 Data'!$B$3 -> 195 | K16: ='Panigale V4s 21 Data'!$B$12 -> 52.974 | L16: =I16+J16+K16 -> 247.99905 | M16: =L16*H16 -> 117.11066 | N16: =M16/1000/3600 -> 3.2530739e-05 | O16: =IF(M16>0,M16,0) -> 117.11066 | P16: =IF(N16>0,N16,0) -> 3.2530739e-05 | Q16: =SUM($P$3:P16) -> 3.4332041e-05 | R16: =IF(M16<0,M16*-1,0) -> 0 | S16: =IF(M16<0,M16/1000/3600*-1,0) -> 0 | T16: =SUM($S$3:S16) -> 0 | V16: =R16*0.91*0.95*0.91 -> 0 | W16: =IF(M16<0,SUM($V$3:V16),0) -> 0 | Y16: 0 | Z16: =Y16/1000 -> 0 | AA16: =Z16/3600 -> 0 | AB16: =SUM($AA$3:AA16) -> 0
A17: Low | B17: 14 | C17: 14 | D17: 5.4 | E17: =($D18-$D16)/2/3.6 -> 1.1388889 | F17: =($D18-$D16)/2 -> 4.1 | H17: =$D17/3.6 -> 1.5 | I17: ='Panigale V4s 21 Data'!$B$8*'Panigale V4s 21 Data'!$B$5*'Panigale V4s 21 Data'!$B$7*0.5*(Calculations!$H17*Calculations!$H17) -> 0.25271901 | J17: =$E17*'Panigale V4s 21 Data'!$B$3 -> 307.5 | K17: ='Panigale V4s 21 Data'!$B$12 -> 52.974 | L17: =I17+J17+K17 -> 360.72672 | M17: =L17*H17 -> 541.09008 | N17: =M17/1000/3600 -> 0.0001503028 | O17: =IF(M17>0,M17,0) -> 541.09008 | P17: =IF(N17>0,N17,0) -> 0.0001503028 | Q17: =SUM($P$3:P17) -> 0.00018463484 | R17: =IF(M17<0,M17*-1,0) -> 0 | S17: =IF(M17<0,M17/1000/3600*-1,0) -> 0 | T17: =SUM($S$3:S17) -> 0 | V17: =R17*0.91*0.95*0.91 -> 0 | W17: =IF(M17<0,SUM($V$3:V17),0) -> 0 | Y17: 0 | Z17: =Y17/1000 -> 0 | AA17: =Z17/3600 -> 0 | AB17: =SUM($AA$3:AA17) -> 0
... A48: Low | B48: 45 | C48: 45 | D48: 20.9 | E48: =($D49-$D47)/2/3.6 -> -0.25 | F48: =($D49-$D47)/2 -> -0.9 | H48: =$D48/3.6 -> 5.8055556 | I48: ='Panigale V4s 21 Data'!$B$8*'Panigale V4s 21 Data'!$B$5*'Panigale V4s 21 Data'!$B$7*0.5*(Calculations!$H48*Calculations!$H48) -> 3.7856718 | J48: =$E48*'Panigale V4s 21 Data'!$B$3 -> -67.5 | K48: ='Panigale V4s 21 Data'!$B$12 -> 52.974 | L48: =I48+J48+K48 -> -10.740328 | M48: =L48*H48 -> -62.353572 | N48: =M48/1000/3600 -> -1.7320437e-05 | O48: =IF(M48>0,M48,0) -> 0 | P48: =IF(N48>0,N48,0) -> 0 | Q48: =SUM($P$3:P48) -> 0.0090021333 | R48: =IF(M48<0,M48*-1,0) -> 62.353572 | S48: =IF(M48<0,M48/1000/3600*-1,0) -> 1.7320437e-05 | T48: =SUM($S$3:S48) -> 0.0028487952 | V48: =R48*0.91*0.95*0.91 -> 49.053243 | W48: =IF(M48<0,SUM($V$3:V48),0) -> 8068.0786 | Y48: 0 | Z48: =Y48/1000 -> 0 | AA48: =Z48/3600 -> 0 | AB48: =SUM($AA$3:AA48) -> 0
A49: Low | B49: 46 | C49: 46 | D49: 20.4 | E49: =($D50-$D48)/2/3.6 -> -0.19444444 | F49: =($D50-$D48)/2 -> -0.7 | H49: =$D49/3.6 -> 5.6666667 | I49: ='Panigale V4s 21 Data'!$B$8*'Panigale V4s 21 Data'!$B$5*'Panigale V4s 21 Data'!$B$7*0.5*(Calculations!$H49*Calculations!$H49) -> 3.6067059 | J49: =$E49*'Panigale V4s 21 Data'!$B$3 -> -52.5 | K49: ='Panigale V4s 21 Data'!$B$12 -> 52.974 | L49: =I49+J49+K49 -> 4.0807059 | M49: =L49*H49 -> 23.124 | N49: =M49/1000/3600 -> 6.4233333e-06 | O49: =IF(M49>0,M49,0) -> 23.124 | P49: =IF(N49>0,N49,0) -> 6.4233333e-06 | Q49: =SUM($P$3:P49) -> 0.0090085566 | R49: =IF(M49<0,M49*-1,0) -> 0 | S49: =IF(M49<0,M49/1000/3600*-1,0) -> 0 | T49: =SUM($S$3:S49) -> 0.0028487952 | V49: =R49*0.91*0.95*0.91 -> 0 | W49: =IF(M49<0,SUM($V$3:V49),0) -> 0 | Y49: =O49 -> 23.124 | Z49: =Y49/1000 -> 0.023124 | AA49: =Z49/3600 -> 6.4233333e-06 | AB49: =SUM($AA$3:AA49) -> 6.4233333e-06
A50: Low | B50: 47 | C50: 47 | D50: 19.5 | E50: =($D51-$D49)/2/3.6 -> -0.27777778 | F50: =($D51-$D49)/2 -> -1 | H50: =$D50/3.6 -> 5.4166667 | I50: ='Panigale V4s 21 Data'!$B$8*'Panigale V4s 21 Data'!$B$5*'Panigale V4s 21 Data'!$B$7*0.5*(Calculations!$H50*Calculations!$H50) -> 3.2954871 | J50: =$E50*'Panigale V4s 21 Data'!$B$3 -> -75 | K50: ='Panigale V4s 21 Data'!$B$12 -> 52.974 | L50: =I50+J50+K50 -> -18.730513 | M50: =L50*H50 -> -101.45694 | N50: =M50/1000/3600 -> -2.8182485e-05 | O50: =IF(M50>0,M50,0) -> 0 | P50: =IF(N50>0,N50,0) -> 0 | Q50: =SUM($P$3:P50) -> 0.0090085566 | R50: =IF(M50<0,M50*-1,0) -> 101.45694 | S50: =IF(M50<0,M50/1000/3600*-1,0) -> 2.8182485e-05 | T50: =SUM($S$3:S50) -> 0.0028769777 | V50: =R50*0.91*0.95*0.91 -> 79.815671 | W50: =IF(M50<0,SUM($V$50:V50),0) -> 79.815671 | Y50: 0 | Z50: =Y50/1000 -> 0 | AA50: =Z50/3600 -> 0 | AB50: =SUM($AA$3:AA50) -> 6.4233333e-06
A51: Low | B51: 48 | C51: 48 | D51: 18.4 | E51: =($D52-$D50)/2/3.6 -> -0.23611111 | F51: =($D52-$D50)/2 -> -0.85 | H51: =$D51/3.6 -> 5.1111111 | I51: ='Panigale V4s 21 Data'!$B$8*'Panigale V4s 21 Data'!$B$5*'Panigale V4s 21 Data'!$B$7*0.5*(Calculations!$H51*Calculations!$H51) -> 2.9341752 | J51: =$E51*'Panigale V4s 21 Data'!$B$3 -> -63.75 | K51: ='Panigale V4s 21 Data'!$B$12 -> 52.974 | L51: =I51+J51+K51 -> -7.8418248 | M51: =L51*H51 -> -40.080438 | N51: =M51/1000/3600 -> -1.1133455e-05 | O51: =IF(M51>0,M51,0) -> 0 | P51: =IF(N51>0,N51,0) -> 0 | Q51: =SUM($P$3:P51) -> 0.0090085566 | R51: =IF(M51<0,M51*-1,0) -> 40.080438 | S51: =IF(M51<0,M51/1000/3600*-1,0) -> 1.1133455e-05 | T51: =SUM($S$3:S51) -> 0.0028881112 | V51: =R51*0.91*0.95*0.91 -> 31.53108 | W51: =IF(M51<0,SUM($V$50:V51),0) -> 111.34675 | Y51: 0 | Z51: =Y51/1000 -> 0 | AA51: =Z51/3600 -> 0 | AB51: =SUM($AA$3:AA51) -> 6.4233333e-06
A52: Low | B52: 49 | C52: 49 | D52: 17.8 | E52: =($D53-$D51)/2/3.6 -> -0.083333333 | F52: =($D53-$D51)/2 -> -0.3 | H52: =$D52/3.6 -> 4.9444444 | I52: ='Panigale V4s 21 Data'!$B$8*'Panigale V4s 21 Data'!$B$5*'Panigale V4s 21 Data'!$B$7*0.5*(Calculations!$H52*Calculations!$H52) -> 2.7459359 | J52: =$E52*'Panigale V4s 21 Data'!$B$3 -> -22.5 | K52: ='Panigale V4s 21 Data'!$B$12 -> 52.974 | L52: =I52+J52+K52 -> 33.219936 | M52: =L52*H52 -> 164.25413 | N52: =M52/1000/3600 -> 4.5626147e-05 | O52: =IF(M52>0,M52,0) -> 164.25413 | P52: =IF(N52>0,N52,0) -> 4.5626147e-05 | Q52: =SUM($P$3:P52) -> 0.0090541828 | R52: =IF(M52<0,M52*-1,0) -> 0 | S52: =IF(M52<0,M52/1000/3600*-1,0) -> 0 | T52: =SUM($S$3:S52) -> 0.0028881112 | V52: =R52*0.91*0.95*0.91 -> 0 | W52: =IF(M52<0,SUM($V$3:V52),0) -> 0 | Y52: =W51 -> 111.34675 | Z52: =Y52/1000 -> 0.11134675 | AA52: =Z52/3600 -> 3.0929653e-05 | AB52: =SUM($AA$3:AA52) -> 3.7352987e-05
A53: Low | B53: 50 | C53: 50 | D53: 17.8 | E53: =($D54-$D52)/2/3.6 -> -0.055555556 | F53: =($D54-$D52)/2 -> -0.2 | H53: =$D53/3.6 -> 4.9444444 | I53: ='Panigale V4s 21 Data'!$B$8*'Panigale V4s 21 Data'!$B$5*'Panigale V4s 21 Data'!$B$7*0.5*(Calculations!$H53*Calculations!$H53) -> 2.7459359 | J53: =$E53*'Panigale V4s 21 Data'!$B$3 -> -15 | K53: ='Panigale V4s 21 Data'!$B$12 -> 52.974 | L53: =I53+J53+K53 -> 40.719936 | M53: =L53*H53 -> 201.33746 | N53: =M53/1000/3600 -> 5.5927072e-05 | O53: =IF(M53>0,M53,0) -> 201.33746 | P53: =IF(N53>0,N53,0) -> 5.5927072e-05 | Q53: =SUM($P$3:P53) -> 0.0091101099 | R53: =IF(M53<0,M53*-1,0) -> 0 | S53: =IF(M53<0,M53/1000/3600*-1,0) -> 0 | T53: =SUM($S$3:S53) -> 0.0028881112 | V53: =R53*0.91*0.95*0.91 -> 0 | W53: =IF(M53<0,SUM($V$3:V53),0) -> 0 | Y53: 0 | Z53: =Y53/1000 -> 0 | AA53: =Z53/3600 -> 0 | AB53: =SUM($AA$3:AA53) -> 3.7352987e-05
A54: Low | B54: 51 | C54: 51 | D54: 17.4 | E54: =($D55-$D53)/2/3.6 -> -0.29166667 | F54: =($D55-$D53)/2 -> -1.05 | H54: =$D54/3.6 -> 4.8333333 | I54: ='Panigale V4s 21 Data'!$B$8*'Panigale V4s 21 Data'!$B$5*'Panigale V4s 21 Data'!$B$7*0.5*(Calculations!$H54*Calculations!$H54) -> 2.6239097 | J54: =$E54*'Panigale V4s 21 Data'!$B$3 -> -78.75 | K54: ='Panigale V4s 21 Data'!$B$12 -> 52.974 | L54: =I54+J54+K54 -> -23.15209 | M54: =L54*H54 -> -111.90177 | N54: =M54/1000/3600 -> -3.1083825e-05 | O54: =IF(M54>0,M54,0) -> 0 | P54: =IF(N54>0,N54,0) -> 0 | Q54: =SUM($P$3:P54) -> 0.0091101099 | R54: =IF(M54<0,M54*-1,0) -> 111.90177 | S54: =IF(M54<0,M54/1000/3600*-1,0) -> 3.1083825e-05 | T54: =SUM($S$3:S54) -> 0.002919195 | V54: =R54*0.91*0.95*0.91 -> 88.032563 | W54: =IF(M54<0,SUM($V$54:V54),0) -> 88.032563 | Y54: 0 | Z54: =Y54/1000 -> 0 | AA54: =Z54/3600 -> 0 | AB54: =SUM($AA$3:AA54) -> 3.7352987e-05
A55: Low | B55: 52 | C55: 52 | D55: 15.7 | E55: =($D56-$D54)/2/3.6 -> -0.59722222 | F55: =($D56-$D54)/2 -> -2.15 | H55: =$D55/3.6 -> 4.3611111 | I55: ='Panigale V4s 21 Data'!$B$8*'Panigale V4s 21 Data'!$B$5*'Panigale V4s 21 Data'!$B$7*0.5*(Calculations!$H55*Calculations!$H55) -> 2.1362383 | J55: =$E55*'Panigale V4s 21 Data'!$B$3 -> -161.25 | K55: ='Panigale V4s 21 Data'!$B$12 -> 52.974 | L55: =I55+J55+K55 -> -106.13976 | M55: =L55*H55 -> -462.88729 | N55: =M55/1000/3600 -> -0.0001285798 | O55: =IF(M55>0,M55,0) -> 0 | P55: =IF(N55>0,N55,0) -> 0 | Q55: =SUM($P$3:P55) -> 0.0091101099 | R55: =IF(M55<0,M55*-1,0) -> 462.88729 | S55: =IF(M55<0,M55/1000/3600*-1,0) -> 0.0001285798 | T55: =SUM($S$3:S55) -> 0.0030477748 | V55: =R55*0.91*0.95*0.91 -> 364.15112 | W55: =IF(M55<0,SUM($V$54:V55),0) -> 452.18368 | Y55: 0 | Z55: =Y55/1000 -> 0 | AA55: =Z55/3600 -> 0 | AB55: =SUM($AA$3:AA55) -> 3.7352987e-05
A56: Low | B56: 53 | C56: 53 | D56: 13.1 | E56: =($D57-$D55)/2/3.6 -> -0.5 | F56: =($D57-$D55)/2 -> -1.8 | H56: =$D56/3.6 -> 3.6388889 | I56: ='Panigale V4s 21 Data'!$B$8*'Panigale V4s 21 Data'!$B$5*'Panigale V4s 21 Data'!$B$7*0.5*(Calculations!$H56*Calculations!$H56) -> 1.4872808 | J56: =$E56*'Panigale V4s 21 Data'!$B$3 -> -135 | K56: ='Panigale V4s 21 Data'!$B$12 -> 52.974 | L56: =I56+J56+K56 -> -80.538719 | M56: =L56*H56 -> -293.07145 | N56: =M56/1000/3600 -> -8.1408736e-05 | O56: =IF(M56>0,M56,0) -> 0 | P56: =IF(N56>0,N56,0) -> 0 | Q56: =SUM($P$3:P56) -> 0.0091101099 | R56: =IF(M56<0,M56*-1,0) -> 293.07145 | S56: =IF(M56<0,M56/1000/3600*-1,0) -> 8.1408736e-05 | T56: =SUM($S$3:S56) -> 0.0031291835 | V56: =R56*0.91*0.95*0.91 -> 230.55784 | W56: =IF(M56<0,SUM($V$54:V56),0) -> 682.74153 | Y56: 0 | Z56: =Y56/1000 -> 0 | AA56: =Z56/3600 -> 0 | AB56: =SUM($AA$3:AA56) -> 3.7352987e-05
A57: Low | B57: 54 | C57: 54 | D57: 12.1 | E57: =($D58-$D56)/2/3.6 -> -0.15277778 | F57: =($D58-$D56)/2 -> -0.55 | H57: =$D57/3.6 -> 3.3611111 | I57: ='Panigale V4s 21 Data'!$B$8*'Panigale V4s 21 Data'!$B$5*'Panigale V4s 21 Data'!$B$7*0.5*(Calculations!$H57*Calculations!$H57) -> 1.2688817 | J57: =$E57*'Panigale V4s 21 Data'!$B$3 -> -41.25 | K57: ='Panigale V4s 21 Data'!$B$12 -> 52.974 | L57: =I57+J57+K57 -> 12.992882 | M57: =L57*H57 -> 43.670519 | N57: =M57/1000/3600 -> 1.21307e-05 | O57: =IF(M57>0,M57,0) -> 43.670519 | P57: =IF(N57>0,N57,0) -> 1.21307e-05 | Q57: =SUM($P$3:P57) -> 0.0091222406 | R57: =IF(M57<0,M57*-1,0) -> 0 | S57: =IF(M57<0,M57/1000/3600*-1,0) -> 0 | T57: =SUM($S$3:S57) -> 0.0031291835 | V57: =R57*0.91*0.95*0.91 -> 0 | W57: =IF(M57<0,SUM($V$3:V57),0) -> 0 | Y57: =O57 -> 43.670519 | Z57: =Y57/1000 -> 0.043670519 | AA57: =Z57/3600 -> 1.21307e-05 | AB57: =SUM($AA$3:AA57) -> 4.9483686e-05
A58: Low | B58: 55 | C58: 55 | D58: 12 | E58: =($D59-$D57)/2/3.6 -> -0.013888889 | F58: =($D59-$D57)/2 -> -0.05 | H58: =$D58/3.6 -> 3.3333333 | I58: ='Panigale V4s 21 Data'!$B$8*'Panigale V4s 21 Data'!$B$5*'Panigale V4s 21 Data'!$B$7*0.5*(Calculations!$H58*Calculations!$H58) -> 1.2479951 | J58: =$E58*'Panigale V4s 21 Data'!$B$3 -> -3.75 | K58: ='Panigale V4s 21 Data'!$B$12 -> 52.974 | L58: =I58+J58+K58 -> 50.471995 | M58: =L58*H58 -> 168.23998 | N58: =M58/1000/3600 -> 4.6733329e-05 | O58: =IF(M58>0,M58,0) -> 168.23998 | P58: =IF(N58>0,N58,0) -> 4.6733329e-05 | Q58: =SUM($P$3:P58) -> 0.0091689739 | R58: =IF(M58<0,M58*-1,0) -> 0 | S58: =IF(M58<0,M58/1000/3600*-1,0) -> 0 | T58: =SUM($S$3:S58) -> 0.0031291835 | V58: =R58*0.91*0.95*0.91 -> 0 | W58: =IF(M58<0,SUM($V$3:V58),0) -> 0 | Y58: =O58 -> 168.23998 | Z58: =Y58/1000 -> 0.16823998 | AA58: =Z58/3600 -> 4.6733329e-05 | AB58: =SUM($AA$3:AA58) -> 9.6217015e-05
A59: Low | B59: 56 | C59: 56 | D59: 12 | E59: =($D60-$D58)/2/3.6 -> 0 | F59: =($D60-$D58)/2 -> 0 | H59: =$D59/3.6 -> 3.3333333 | I59: ='Panigale V4s 21 Data'!$B$8*'Panigale V4s 21 Data'!$B$5*'Panigale V4s 21 Data'!$B$7*0.5*(Calculations!$H59*Calculations!$H59) -> 1.2479951 | J59: =$E59*'Panigale V4s 21 Data'!$B$3 -> 0 | K59: ='Panigale V4s 21 Data'!$B$12 -> 52.974 | L59: =I59+J59+K59 -> 54.221995 | M59: =L59*H59 -> 180.73998 | N59: =M59/1000/3600 -> 5.0205551e-05 | O59: =IF(M59>0,M59,0) -> 180.73998 | P59: =IF(N59>0,N59,0) -> 5.0205551e-05 | Q59: =SUM($P$3:P59) -> 0.0092191794 | R59: =IF(M59<0,M59*-1,0) -> 0 | S59: =IF(M59<0,M59/1000/3600*-1,0) -> 0 | T59: =SUM($S$3:S59) -> 0.0031291835 | V59: =R59*0.91*0.95*0.91 -> 0 | W59: =IF(M59<0,SUM($V$3:V59),0) -> 0 | Y59: =O59 -> 180.73998 | Z59: =Y59/1000 -> 0.18073998 | AA59: =Z59/3600 -> 5.0205551e-05 | AB59: =SUM($AA$3:AA59) -> 0.00014642257
A60: Low | B60: 57 | C60: 57 | D60: 12 | E60: =($D61-$D59)/2/3.6 -> 0.041666667 | F60: =($D61-$D59)/2 -> 0.15 | H60: =$D60/3.6 -> 3.3333333 | I60: ='Panigale V4s 21 Data'!$B$8*'Panigale V4s 21 Data'!$B$5*'Panigale V4s 21 Data'!$B$7*0.5*(Calculations!$H60*Calculations!$H60) -> 1.2479951 | J60: =$E60*'Panigale V4s 21 Data'!$B$3 -> 11.25 | K60: ='Panigale V4s 21 Data'!$B$12 -> 52.974 | L60: =I60+J60+K60 -> 65.471995 | M60: =L60*H60 -> 218.23998 | N60: =M60/1000/3600 -> 6.0622218e-05 | O60: =IF(M60>0,M60,0) -> 218.23998 | P60: =IF(N60>0,N60,0) -> 6.0622218e-05 | Q60: =SUM($P$3:P60) -> 0.0092798017 | R60: =IF(M60<0,M60*-1,0) -> 0 | S60: =IF(M60<0,M60/1000/3600*-1,0) -> 0 | T60: =SUM($S$3:S60) -> 0.0031291835 | V60: =R60*0.91*0.95*0.91 -> 0 | W60: =IF(M60<0,SUM($V$3:V60),0) -> 0 | Y60: =O60 -> 218.23998 | Z60: =Y60/1000 -> 0.21823998 | AA60: =Z60/3600 -> 6.0622218e-05 | AB60: =SUM($AA$3:AA60) -> 0.00020704478
A61: Low | B61: 58 | C61: 58 | D61: 12.3 | E61: =($D62-$D60)/2/3.6 -> 0.083333333 | F61: =($D62-$D60)/2 -> 0.3 | H61: =$D61/3.6 -> 3.4166667 | I61: ='Panigale V4s 21 Data'!$B$8*'Panigale V4s 21 Data'!$B$5*'Panigale V4s 21 Data'!$B$7*0.5*(Calculations!$H61*Calculations!$H61) -> 1.3111749 | J61: =$E61*'Panigale V4s 21 Data'!$B$3 -> 22.5 | K61: ='Panigale V4s 21 Data'!$B$12 -> 52.974 | L61: =I61+J61+K61 -> 76.785175 | M61: =L61*H61 -> 262.34935 | N61: =M61/1000/3600 -> 7.2874819e-05 | O61: =IF(M61>0,M61,0) -> 262.34935 | P61: =IF(N61>0,N61,0) -> 7.2874819e-05 | Q61: =SUM($P$3:P61) -> 0.0093526765 | R61: =IF(M61<0,M61*-1,0) -> 0 | S61: =IF(M61<0,M61/1000/3600*-1,0) -> 0 | T61: =SUM($S$3:S61) -> 0.0031291835 | V61: =R61*0.91*0.95*0.91 -> 0 | W61: =IF(M61<0,SUM($V$3:V61),0) -> 0 | Y61: =W56-SUM(Y57:Y60) -> 71.851057 | Z61: =Y61/1000 -> 0.071851057 | AA61: =Z61/3600 -> 1.9958627e-05 | AB61: =SUM($AA$3:AA61) -> 0.00022700341
A62: Low | B62: 59 | C62: 59 | D62: 12.6 | E62: =($D63-$D61)/2/3.6 -> 0.33333333 | F62: =($D63-$D61)/2 -> 1.2 | H62: =$D62/3.6 -> 3.5 | I62: ='Panigale V4s 21 Data'!$B$8*'Panigale V4s 21 Data'!$B$5*'Panigale V4s 21 Data'!$B$7*0.5*(Calculations!$H62*Calculations!$H62) -> 1.3759146 | J62: =$E62*'Panigale V4s 21 Data'!$B$3 -> 90 | K62: ='Panigale V4s 21 Data'!$B$12 -> 52.974 | L62: =I62+J62+K62 -> 144.34991 | M62: =L62*H62 -> 505.2247 | N62: =M62/1000/3600 -> 0.00014034019 | O62: =IF(M62>0,M62,0) -> 505.2247 | P62: =IF(N62>0,N62,0) -> 0.00014034019 | Q62: =SUM($P$3:P62) -> 0.0094930167 | R62: =IF(M62<0,M62*-1,0) -> 0 | S62: =IF(M62<0,M62/1000/3600*-1,0) -> 0 | T62: =SUM($S$3:S62) -> 0.0031291835 | V62: =R62*0.91*0.95*0.91 -> 0 | W62: =IF(M62<0,SUM($V$3:V62),0) -> 0 | Y62: 0 | Z62: =Y62/1000 -> 0 | AA62: =Z62/3600 -> 0 | AB62: =SUM($AA$3:AA62) -> 0.00022700341
A63: Low | B63: 60 | C63: 60 | D63: 14.7 | E63: =($D64-$D62)/2/3.6 -> 0.375 | F63: =($D64-$D62)/2 -> 1.35 | H63: =$D63/3.6 -> 4.0833333 | I63: ='Panigale V4s 21 Data'!$B$8*'Panigale V4s 21 Data'!$B$5*'Panigale V4s 21 Data'!$B$7*0.5*(Calculations!$H63*Calculations!$H63) -> 1.8727727 | J63: =$E63*'Panigale V4s 21 Data'!$B$3 -> 101.25 | K63: ='Panigale V4s 21 Data'!$B$12 -> 52.974 | L63: =I63+J63+K63 -> 156.09677 | M63: =L63*H63 -> 637.39516 | N63: =M63/1000/3600 -> 0.00017705421 | O63: =IF(M63>0,M63,0) -> 637.39516 | P63: =IF(N63>0,N63,0) -> 0.00017705421 | Q63: =SUM($P$3:P63) -> 0.0096700709 | R63: =IF(M63<0,M63*-1,0) -> 0 | S63: =IF(M63<0,M63/1000/3600*-1,0) -> 0 | T63: =SUM($S$3:S63) -> 0.0031291835 | V63: =R63*0.91*0.95*0.91 -> 0 | W63: =IF(M63<0,SUM($V$3:V63),0) -> 0 | Y63: 0 | Z63: =Y63/1000 -> 0 | AA63: =Z63/3600 -> 0 | AB63: =SUM($AA$3:AA63) -> 0.00022700341
A64: Low | B64: 61 | C64: 61 | D64: 15.3 | E64: =($D65-$D63)/2/3.6 -> 0.16666667 | F64: =($D65-$D63)/2 -> 0.6 | H64: =$D64/3.6 -> 4.25 | I64: ='Panigale V4s 21 Data'!$B$8*'Panigale V4s 21 Data'!$B$5*'Panigale V4s 21 Data'!$B$7*0.5*(Calculations!$H64*Calculations!$H64) -> 2.0287721 | J64: =$E64*'Panigale V4s 21 Data'!$B$3 -> 45 | K64: ='Panigale V4s 21 Data'!$B$12 -> 52.974 | L64: =I64+J64+K64 -> 100.00277 | M64: =L64*H64 -> 425.01178 | N64: =M64/1000/3600 -> 0.00011805883 | O64: =IF(M64>0,M64,0) -> 425.01178 | P64: =IF(N64>0,N64,0) -> 0.00011805883 | Q64: =SUM($P$3:P64) -> 0.0097881297 | R64: =IF(M64<0,M64*-1,0) -> 0 | S64: =IF(M64<0,M64/1000/3600*-1,0) -> 0 | T64: =SUM($S$3:S64) -> 0.0031291835 | V64: =R64*0.91*0.95*0.91 -> 0 | W64: =IF(M64<0,SUM($V$3:V64),0) -> 0 | Y64: 0 | Z64: =Y64/1000 -> 0 | AA64: =Z64/3600 -> 0 | AB64: =SUM($AA$3:AA64) -> 0.00022700341
A65: Low | B65: 62 | C65: 62 | D65: 15.9 | E65: =($D66-$D64)/2/3.6 -> 0.125 | F65: =($D66-$D64)/2 -> 0.45 | H65: =$D65/3.6 -> 4.4166667 | I65: ='Panigale V4s 21 Data'!$B$8*'Panigale V4s 21 Data'!$B$5*'Panigale V4s 21 Data'!$B$7*0.5*(Calculations!$H65*Calculations!$H65) -> 2.1910114 | J65: =$E65*'Panigale V4s 21 Data'!$B$3 -> 33.75 | K65: ='Panigale V4s 21 Data'!$B$12 -> 52.974 | L65: =I65+J65+K65 -> 88.915011 | M65: =L65*H65 -> 392.70797 | N65: =M65/1000/3600 -> 0.00010908555 | O65: =IF(M65>0,M65,0) -> 392.70797 | P65: =IF(N65>0,N65,0) -> 0.00010908555 | Q65: =SUM($P$3:P65) -> 0.0098972153 | R65: =IF(M65<0,M65*-1,0) -> 0 | S65: =IF(M65<0,M65/1000/3600*-1,0) -> 0 | T65: =SUM($S$3:S65) -> 0.0031291835 | V65: =R65*0.91*0.95*0.91 -> 0 | W65: =IF(M65<0,SUM($V$3:V65),0) -> 0 | Y65: 0 | Z65: =Y65/1000 -> 0 | AA65: =Z65/3600 -> 0 | AB65: =SUM($AA$3:AA65) -> 0.00022700341
A66: Low | B66: 63 | C66: 63 | D66: 16.2 | E66: =($D67-$D65)/2/3.6 -> 0.16666667 | F66: =($D67-$D65)/2 -> 0.6 | H66: =$D66/3.6 -> 4.5 | I66: ='Panigale V4s 21 Data'!$B$8*'Panigale V4s 21 Data'!$B$5*'Panigale V4s 21 Data'!$B$7*0.5*(Calculations!$H66*Calculations!$H66) -> 2.2744711 | J66: =$E66*'Panigale V4s 21 Data'!$B$3 -> 45 | K66: ='Panigale V4s 21 Data'!$B$12 -> 52.974 | L66: =I66+J66+K66 -> 100.24847 | M66: =L66*H66 -> 451.11812 | N66: =M66/1000/3600 -> 0.00012531059 | O66: =IF(M66>0,M66,0) -> 451.11812 | P66: =IF(N66>0,N66,0) -> 0.00012531059 | Q66: =SUM($P$3:P66) -> 0.010022526 | R66: =IF(M66<0,M66*-1,0) -> 0 | S66: =IF(M66<0,M66/1000/3600*-1,0) -> 0 | T66: =SUM($S$3:S66) -> 0.0031291835 | V66: =R66*0.91*0.95*0.91 -> 0 | W66: =IF(M66<0,SUM($V$3:V66),0) -> 0 | Y66: 0 | Z66: =Y66/1000 -> 0 | AA66: =Z66/3600 -> 0 | AB66: =SUM($AA$3:AA66) -> 0.00022700341
A67: Low | B67: 64 | C67: 64 | D67: 17.1 | E67: =($D68-$D66)/2/3.6 -> 0.22222222 | F67: =($D68-$D66)/2 -> 0.8 | H67: =$D67/3.6 -> 4.75 | I67: ='Panigale V4s 21 Data'!$B$8*'Panigale V4s 21 Data'!$B$5*'Panigale V4s 21 Data'!$B$7*0.5*(Calculations!$H67*Calculations!$H67) -> 2.5342101 | J67: =$E67*'Panigale V4s 21 Data'!$B$3 -> 60 | K67: ='Panigale V4s 21 Data'!$B$12 -> 52.974 | L67: =I67+J67+K67 -> 115.50821 | M67: =L67*H67 -> 548.664 | N67: =M67/1000/3600 -> 0.00015240667 | O67: =IF(M67>0,M67,0) -> 548.664 | P67: =IF(N67>0,N67,0) -> 0.00015240667 | Q67: =SUM($P$3:P67) -> 0.010174933 | R67: =IF(M67<0,M67*-1,0) -> 0 | S67: =IF(M67<0,M67/1000/3600*-1,0) -> 0 | T67: =SUM($S$3:S67) -> 0.0031291835 | V67: =R67*0.91*0.95*0.91 -> 0 | W67: =IF(M67<0,SUM($V$3:V67),0) -> 0 | Y67: 0 | Z67: =Y67/1000 -> 0 | AA67: =Z67/3600 -> 0 | AB67: =SUM($AA$3:AA67) -> 0.00022700341
A68: Low | B68: 65 | C68: 65 | D68: 17.8 | E68: =($D69-$D67)/2/3.6 -> 0.13888889 | F68: =($D69-$D67)/2 -> 0.5 | H68: =$D68/3.6 -> 4.9444444 | I68: ='Panigale V4s 21 Data'!$B$8*'Panigale V4s 21 Data'!$B$5*'Panigale V4s 21 Data'!$B$7*0.5*(Calculations!$H68*Calculations!$H68) -> 2.7459359 | J68: =$E68*'Panigale V4s 21 Data'!$B$3 -> 37.5 | K68: ='Panigale V4s 21 Data'!$B$12 -> 52.974 | L68: =I68+J68+K68 -> 93.219936 | M68: =L68*H68 -> 460.92079 | N68: =M68/1000/3600 -> 0.00012803355 | O68: =IF(M68>0,M68,0) -> 460.92079 | P68: =IF(N68>0,N68,0) -> 0.00012803355 | Q68: =SUM($P$3:P68) -> 0.010302966 | R68: =IF(M68<0,M68*-1,0) -> 0 | S68: =IF(M68<0,M68/1000/3600*-1,0) -> 0 | T68: =SUM($S$3:S68) -> 0.0031291835 | V68: =R68*0.91*0.95*0.91 -> 0 | W68: =IF(M68<0,SUM($V$3:V68),0) -> 0 | Y68: 0 | Z68: =Y68/1000 -> 0 | AA68: =Z68/3600 -> 0 | AB68: =SUM($AA$3:AA68) -> 0.00022700341
A69: Low | B69: 66 | C69: 66 | D69: 18.1 | E69: =($D70-$D68)/2/3.6 -> 0.083333333 | F69: =($D70-$D68)/2 -> 0.3 | H69: =$D69/3.6 -> 5.0277778 | I69: ='Panigale V4s 21 Data'!$B$8*'Panigale V4s 21 Data'!$B$5*'Panigale V4s 21 Data'!$B$7*0.5*(Calculations!$H69*Calculations!$H69) -> 2.8392755 | J69: =$E69*'Panigale V4s 21 Data'!$B$3 -> 22.5 | K69: ='Panigale V4s 21 Data'!$B$12 -> 52.974 | L69: =I69+J69+K69 -> 78.313276 | M69: =L69*H69 -> 393.74175 | N69: =M69/1000/3600 -> 0.00010937271 | O69: =IF(M69>0,M69,0) -> 393.74175 | P69: =IF(N69>0,N69,0) -> 0.00010937271 | Q69: =SUM($P$3:P69) -> 0.010412339 | R69: =IF(M69<0,M69*-1,0) -> 0 | S69: =IF(M69<0,M69/1000/3600*-1,0) -> 0 | T69: =SUM($S$3:S69) -> 0.0031291835 | V69: =R69*0.91*0.95*0.91 -> 0 | W69: =IF(M69<0,SUM($V$3:V69),0) -> 0 | Y69: 0 | Z69: =Y69/1000 -> 0 | AA69: =Z69/3600 -> 0 | AB69: =SUM($AA$3:AA69) -> 0.00022700341
A70: Low | B70: 67 | C70: 67 | D70: 18.4 | E70: =($D71-$D69)/2/3.6 -> 0.30555556 | F70: =($D71-$D69)/2 -> 1.1 | H70: =$D70/3.6 -> 5.1111111 | I70: ='Panigale V4s 21 Data'!$B$8*'Panigale V4s 21 Data'!$B$5*'Panigale V4s 21 Data'!$B$7*0.5*(Calculations!$H70*Calculations!$H70) -> 2.9341752 | J70: =$E70*'Panigale V4s 21 Data'!$B$3 -> 82.5 | K70: ='Panigale V4s 21 Data'!$B$12 -> 52.974 | L70: =I70+J70+K70 -> 138.40818 | M70: =L70*H70 -> 707.41956 | N70: =M70/1000/3600 -> 0.00019650543 | O70: =IF(M70>0,M70,0) -> 707.41956 | P70: =IF(N70>0,N70,0) -> 0.00019650543 | Q70: =SUM($P$3:P70) -> 0.010608844 | R70: =IF(M70<0,M70*-1,0) -> 0 | S70: =IF(M70<0,M70/1000/3600*-1,0) -> 0 | T70: =SUM($S$3:S70) -> 0.0031291835 | V70: =R70*0.91*0.95*0.91 -> 0 | W70: =IF(M70<0,SUM($V$3:V70),0) -> 0 | Y70: 0 | Z70: =Y70/1000 -> 0 | AA70: =Z70/3600 -> 0 | AB70: =SUM($AA$3:AA70) -> 0.00022700341
...

Sheet Graphs
