Workbook

Sheet 1-Specification & Data
A1: ACEA7007-Hybrid Powertrain and Control
A2: Series Hybrid Vehicle(CW1)
A4: Technical Data
A6: Maximum Engine Speed (RPM) | B6: 6500 | D6: Gear | E6: Input | F6: Output | G6: Gear Ratio | H6: Overall Ratio
A7: Maximum Engine Torque (Nm) | B7: 22 | D7: 1st | E7: 11 | F7: 32 | G7: =F7/E7 -> 2.9090909 | H7: =G11*G10*G7 -> 17.703896
A8: Maximum Power Develop by Engine (W) | B8: =B7*2*3.14*B6/60 -> 14967.333 | D8: 2nd | E8: 15 | F8: 31 | G8: =F8/E8 -> 2.0666667 | H8: =G11*G10*G8 -> 12.577143
A9: Maximum Power Developed by Engine (HP) | B9: =B8/746 -> 20.06345 | D9: 3rd | E9: 22 | F9: 30 | G9: =F9/E9 -> 1.3636364 | H9: =G11*G10*G9 -> 8.2987013
A10: Effective Frontal Area (m2) | B10: 1.151 | D10: Final Drive | E10: 15 | F10: 36 | G10: =Table7[[#This Row],[Column3]]/Table7[[#This Row],[Column2]] -> 2.4
A11: Front Wheel Radius (mm) | B11: 304.8 | D11: Primary Drive | E11: 28 | F11: 71 | G11: =F11/E11 -> 2.5357143
A12: Rear Wheel Radius (mm) | B12: 254
A13: Front tyre Radius (24*8-12) (m) | B13: =24/(39*2) -> 0.30769231 | E13: Inertia (kgm2) | F13: Transmission Ratio | G13: Velocity Ratio | H13: Crankshaft Velocity Ratio | I13: Gearbox Velocity Ratio | K13: Sinθ1 (slop 1 uphill) | L13: 0.13864
A14: Rear tyre Radius (23*10.5-12) (m) | B14: =23/(39*2) -> 0.29487179 | D14: Front Wheel | E14: =B49 -> 1.2491743 | G14: =1/B13 -> 3.25 | K14: Sinθ2 (slop 1 downhill) | L14: 0.20372
A15: Driver + Passenger Weight (kg) | B15: 144 | D15: Rear Wheel | E15: =B50 -> 0.86748214 | G15: =1/B14 -> 3.3913043 | K15: Sinθ3 (slop 2 uphill) | L15: 0.11803
A16: Fuel + Oil Weight (kg) | B16: 16.11 | D16: Crankshaft | E16: 0.06 | F16: 2.536 | K16: Sinθ4 (slop 2 downhill) | L16: 0.16229
A17: Kerb Weight (kg) | B17: 345 | D17: GearBox Output Shaft | E17: 0.02 | F17: 3.4 | G17: =G15*Table14[[#This Row],[Column3]] -> 11.530435
A18: Total Weight (kg) | B18: =B17+B16+B15+B46+'2- Specification Data'!C13+'2- Specification Data'!D13+'2- Specification Data'!E13+'2- Specification Data'!F13 -> 656.6106 | D18: Gearbox Input Shaft(Gear1) | E18: 0.05 | F18: 2.636 | G18: =G15*F17*Table14[[#This Row],[Column3]] -> 30.394226 | H18: =Table14[[#This Row],[Column3]]*F17*F16*G15 -> 77.079757 | I18: =F17*G7*G15 -> 33.543083
D19: Gearbox Input Shaft(Gear2) | E19: 0.05 | F19: 1.933 | G19: =G15*Table14[[#This Row],[Column3]]*F17 -> 22.28833 | H19: =Table14[[#This Row],[Column3]]*F17*F16*G15 -> 56.523206 | I19: =G8*F17*G15 -> 23.829565
A20: Drag Coefficient | B20: 0.7 | D20: Gearbox Input Shaft(Gear3) | E20: 0.05 | F20: 1.476 | G20: =Table14[[#This Row],[Column3]]*F17*G15 -> 17.018922 | H20: =Table14[[#This Row],[Column3]]*F17*F16*G15 -> 43.159986 | I20: =G9*F17*G15 -> 15.72332
A21: Wind Speed (m/s) | B21: 2.23
A22: Air Density (kg/m3) | B22: 1.167
A23: Rolling Coefficient (μR) Asphalt | B23: 0.013
A24: Rolling Coefficient (μR) Gravel | B24: 0.02
A25: Rolling Coefficient (μR) Standing water | B25: 0.155
A26: Rolling Coefficient (μR) Field | B26: 0.1
A27: Traction Coefficient ( Asphalt) | B27: 0.85
A28: Traction Coefficient ( Geavel) | B28: 0.7
A29: Traction Coefficient ( Field) | B29: 0.6
A30: Traction Coefficient ( Water splash) | B30: 0.3
A32: Wheelbase (mm) | B32: 1940
A33: Height of COG from Ground (mm) | B33: 488
... A40: Load on Rear Wheel while Lifted (kg) | B40: 193
A41: YCOG | B41: =B39*B32/B18 -> 611.59537
A42: XCOG | B42: =((B39-B40)*B32)/(B17*B38)+279.4 -> 521.69675
A44: Tires Mass (kg) | B44: 10.2
A45: Wheels Mass (kg) | B45: 6.4
A46: Total Assembly Mass (kg) | B46: =B44+B45 -> 16.6
A47: Radius of Gyration Front Wheel (Kfront) | B47: =B11*0.9/1000 -> 0.27432
A48: Radius of Gyration Rear Wheel at 6500rpm 1st Gear | B48: =B12*0.9/1000 -> 0.2286
A49: Inertia of Front Wheel | B49: =B46*B47^2 -> 1.2491743
A50: Inertia of Rear Wheel | B50: =B46*B48^2 -> 0.86748214
A51: Inertia of Engine | B51: 0.17
A52: Equivealant Mass in Gear 1 | B52: =B$18+(4*(B$50/B$14^2))+(B$51*(G7^2/B$14^2)) -> 713.06421
A53: Equivealant Mass in Gear 2 | B53: =B$18+(4*(B$50/B$14^2))+(B$51*(G8^2/B$14^2)) -> 704.86877
A54: Equivealant Mass in Gear 3 | B54: =B$18+(4*(B$50/B$14^2))+(B$51*(G9^2/B$14^2)) -> 700.15369

Sheet 1-Simulation
C1: Time (s) | D1: Velocity (mph) | E1: Velocity (km/h) | F1: Velocity (m/s) | G1: Distance (m) | H1: Displacement (m) | I1: Acceleration (m/s | J1: Gear | K1: Gradient Resistance Force (N) | L1: Aero Drag Force (N) | M1: Inertia Resistance Force (N) | N1: Rolling Resistance Force (N) | O1: Total Resistance Force (N) | P1: Traction Force (N) | Q1: Equivelent Mass (kg) | R1: Kinetic Energy (kJ) | S1: Potential Energy (kJ) | T1: Height (m) | U1: Torque @ Wheel (Nm)
A2: ASPHALT START | C2: 0 | D2: 0 | E2: =F2*3.6 -> 0 | F2: =D2/2.23694 -> 0 | G2: 0 | H2: 0 | I2: 0 | J2: 0 | K2: 0 | L2: 0 | M2: 0 | N2: 0 | O2: =K2+L2+M2+N2 -> 0 | P2: =IF(O2>=0,O2,IF(O2<0,-O2)) -> 0 | Q2: 521.71 | R2: =(0.5*'1-Specification & Data'!B$18*'1-Simulation'!F2^2)/1000 -> 0 | S2: =(Q2*9.81*T2)/1000 -> 0 | T2: 0 | U2: 0
C3: =C2+1 -> 1 | D3: 5.7 | E3: =F3*3.6 -> 9.1732456 | F3: =D3/2.23694 -> 2.5481238 | G3: =G2+((F3+F2)/2) -> 1.2740619 | H3: =(F3+F2)/2 -> 1.2740619 | I3: =(H3-F2)*2 -> 2.5481238 | J3: =IF(D3<=10,1,IF(AND(D3>10,D3<=20),2,IF(D3>20,3))) -> 1 | K3: 0 | L3: =('1-Specification & Data'!B$22*'1-Specification & Data'!B$10*'1-Specification & Data'!B$20*('1-Simulation'!F3^2-'1-Specification & Data'!B$21^2))/2 -> 0.71460779 | M3: =Q3*I3 -> 1816.9759 | N3: ='1-Specification & Data'!B$23*'1-Specification & Data'!B$18*8.91 -> 76.055206 | O3: =K3+L3+M3+N3 -> 1893.7457 | P3: =IF(O3>=0,O3,IF(O3<0,-O3)) -> 1893.7457 | Q3: =IF(J3=1,'1-Specification & Data'!B$52,IF('1-Simulation'!J3=2,'1-Specification & Data'!B$53,IF('1-Simulation'!J3=3,'1-Specification & Data'!B$54))) -> 713.06421 | R3: =(0.5*'1-Specification & Data'!B$18*'1-Simulation'!F3^2)/1000 -> 2.1316649 | S3: =(Q3*9.81*T3)/1000 -> 0 | T3: 0 | U3: =O3*'1-Specification & Data'!B$14*0.9 -> 502.57097
C4: =C3+1 -> 2 | D4: 6.9 | E4: =F4*3.6 -> 11.104455 | F4: =D4/2.23694 -> 3.0845709 | G4: =G3+((F4+F3)/2) -> 4.0904092 | H4: =(F4+F3)/2 -> 2.8163473 | I4: =(H4-F3)*2 -> 0.53644711 | J4: =IF(D4<=10,1,IF(AND(D4>10,D4<=20),2,IF(D4>20,3))) -> 1 | K4: 0 | L4: =('1-Specification & Data'!B$22*'1-Specification & Data'!B$10*'1-Specification & Data'!B$20*('1-Simulation'!F4^2-'1-Specification & Data'!B$21^2))/2 -> 2.1351605 | M4: =Q4*I4 -> 382.52124 | N4: ='1-Specification & Data'!B$23*'1-Specification & Data'!B$18*8.91 -> 76.055206 | O4: =K4+L4+M4+N4 -> 460.7116 | P4: =IF(O4>=0,O4,IF(O4<0,-O4)) -> 460.7116 | Q4: =IF(J4=1,'1-Specification & Data'!B$52,IF('1-Simulation'!J4=2,'1-Specification & Data'!B$53,IF('1-Simulation'!J4=3,'1-Specification & Data'!B$54))) -> 713.06421 | R4: =(0.5*'1-Specification & Data'!B$18*'1-Simulation'!F4^2)/1000 -> 3.1236862 | S4: =(Q4*9.81*T4)/1000 -> 0 | T4: 0 | U4: =O4*'1-Specification & Data'!B$14*0.9 -> 122.26577
C5: =C4+1 -> 3 | D5: 8 | E5: =F5*3.6 -> 12.874731 | F5: =D5/2.23694 -> 3.5763141 | G5: =G4+((F5+F4)/2) -> 7.4208517 | H5: =(F5+F4)/2 -> 3.3304425 | I5: =(H5-F4)*2 -> 0.49174318 | J5: =IF(D5<=10,1,IF(AND(D5>10,D5<=20),2,IF(D5>20,3))) -> 1 | K5: 0 | L5: =('1-Specification & Data'!B$22*'1-Specification & Data'!B$10*'1-Specification & Data'!B$20*('1-Simulation'!F5^2-'1-Specification & Data'!B$21^2))/2 -> 3.6750321 | M5: =Q5*I5 -> 350.64447 | N5: ='1-Specification & Data'!B$23*'1-Specification & Data'!B$18*8.91 -> 76.055206 | O5: =K5+L5+M5+N5 -> 430.3747 | P5: =IF(O5>=0,O5,IF(O5<0,-O5)) -> 430.3747 | Q5: =IF(J5=1,'1-Specification & Data'!B$52,IF('1-Simulation'!J5=2,'1-Specification & Data'!B$53,IF('1-Simulation'!J5=3,'1-Specification & Data'!B$54))) -> 713.06421 | R5: =(0.5*'1-Specification & Data'!B$18*'1-Simulation'!F5^2)/1000 -> 4.1990321 | S5: =(Q5*9.81*T5)/1000 -> 0 | T5: 0 | U5: =O5*'1-Specification & Data'!B$14*0.9 -> 114.21483
C6: =C5+1 -> 4 | D6: 10 | E6: =F6*3.6 -> 16.093413 | F6: =D6/2.23694 -> 4.4703926 | G6: =G5+((F6+F5)/2) -> 11.444205 | H6: =(F6+F5)/2 -> 4.0233533 | I6: =(H6-F5)*2 -> 0.89407852 | J6: =IF(D6<=10,1,IF(AND(D6>10,D6<=20),2,IF(D6>20,3))) -> 1 | K6: 0 | L6: =('1-Specification & Data'!B$22*'1-Specification & Data'!B$10*'1-Specification & Data'!B$20*('1-Simulation'!F6^2-'1-Specification & Data'!B$21^2))/2 -> 7.0573004 | M6: =Q6*I6 -> 637.53539 | N6: ='1-Specification & Data'!B$23*'1-Specification & Data'!B$18*8.91 -> 76.055206 | O6: =K6+L6+M6+N6 -> 720.6479 | P6: =IF(O6>=0,O6,IF(O6<0,-O6)) -> 720.6479 | Q6: =IF(J6=1,'1-Specification & Data'!B$52,IF('1-Simulation'!J6=2,'1-Specification & Data'!B$53,IF('1-Simulation'!J6=3,'1-Specification & Data'!B$54))) -> 713.06421 | R6: =(0.5*'1-Specification & Data'!B$18*'1-Simulation'!F6^2)/1000 -> 6.5609877 | S6: =(Q6*9.81*T6)/1000 -> 0 | T6: 0 | U6: =O6*'1-Specification & Data'!B$14*0.9 -> 191.24887
C7: =C6+1 -> 5 | D7: 10.1 | E7: =F7*3.6 -> 16.254347 | F7: =D7/2.23694 -> 4.5150965 | G7: =G6+((F7+F6)/2) -> 15.93695 | H7: =(F7+F6)/2 -> 4.4927446 | I7: =(H7-F6)*2 -> 0.044703926 | J7: =IF(D7<=10,1,IF(AND(D7>10,D7<=20),2,IF(D7>20,3))) -> 2 | K7: 0 | L7: =('1-Specification & Data'!B$22*'1-Specification & Data'!B$10*'1-Specification & Data'!B$20*('1-Simulation'!F7^2-'1-Specification & Data'!B$21^2))/2 -> 7.2461437 | M7: =Q7*I7 -> 31.510401 | N7: ='1-Specification & Data'!B$23*'1-Specification & Data'!B$18*8.91 -> 76.055206 | O7: =K7+L7+M7+N7 -> 114.81175 | P7: =IF(O7>=0,O7,IF(O7<0,-O7)) -> 114.81175 | Q7: =IF(J7=1,'1-Specification & Data'!B$52,IF('1-Simulation'!J7=2,'1-Specification & Data'!B$53,IF('1-Simulation'!J7=3,'1-Specification & Data'!B$54))) -> 704.86877 | R7: =(0.5*'1-Specification & Data'!B$18*'1-Simulation'!F7^2)/1000 -> 6.6928635 | S7: =(Q7*9.81*T7)/1000 -> 0 | T7: 0 | U7: =O7*'1-Specification & Data'!B$14*0.9 -> 30.469272
C8: =C7+1 -> 6 | D8: 11 | E8: =F8*3.6 -> 17.702755 | F8: =D8/2.23694 -> 4.9174318 | G8: =G7+((F8+F7)/2) -> 20.653214 | H8: =(F8+F7)/2 -> 4.7162642 | I8: =(H8-F7)*2 -> 0.40233533 | J8: =IF(D8<=10,1,IF(AND(D8>10,D8<=20),2,IF(D8>20,3))) -> 2 | K8: 0 | L8: =('1-Specification & Data'!B$22*'1-Specification & Data'!B$10*'1-Specification & Data'!B$20*('1-Simulation'!F8^2-'1-Specification & Data'!B$21^2))/2 -> 9.0302902 | M8: =Q8*I8 -> 283.59361 | N8: ='1-Specification & Data'!B$23*'1-Specification & Data'!B$18*8.91 -> 76.055206 | O8: =K8+L8+M8+N8 -> 368.67911 | P8: =IF(O8>=0,O8,IF(O8<0,-O8)) -> 368.67911 | Q8: =IF(J8=1,'1-Specification & Data'!B$52,IF('1-Simulation'!J8=2,'1-Specification & Data'!B$53,IF('1-Simulation'!J8=3,'1-Specification & Data'!B$54))) -> 704.86877 | R8: =(0.5*'1-Specification & Data'!B$18*'1-Simulation'!F8^2)/1000 -> 7.9387951 | S8: =(Q8*9.81*T8)/1000 -> 0 | T8: 0 | U8: =O8*'1-Specification & Data'!B$14*0.9 -> 97.841763
C9: =C8+1 -> 7 | D9: 12 | E9: =F9*3.6 -> 19.312096 | F9: =D9/2.23694 -> 5.3644711 | G9: =G8+((F9+F8)/2) -> 25.794165 | H9: =(F9+F8)/2 -> 5.1409515 | I9: =(H9-F8)*2 -> 0.44703926 | J9: =IF(D9<=10,1,IF(AND(D9>10,D9<=20),2,IF(D9>20,3))) -> 2 | K9: 0 | L9: =('1-Specification & Data'!B$22*'1-Specification & Data'!B$10*'1-Specification & Data'!B$20*('1-Simulation'!F9^2-'1-Specification & Data'!B$21^2))/2 -> 11.191184 | M9: =Q9*I9 -> 315.10401 | N9: ='1-Specification & Data'!B$23*'1-Specification & Data'!B$18*8.91 -> 76.055206 | O9: =K9+L9+M9+N9 -> 402.3504 | P9: =IF(O9>=0,O9,IF(O9<0,-O9)) -> 402.3504 | Q9: =IF(J9=1,'1-Specification & Data'!B$52,IF('1-Simulation'!J9=2,'1-Specification & Data'!B$53,IF('1-Simulation'!J9=3,'1-Specification & Data'!B$54))) -> 704.86877 | R9: =(0.5*'1-Specification & Data'!B$18*'1-Simulation'!F9^2)/1000 -> 9.4478223 | S9: =(Q9*9.81*T9)/1000 -> 0 | T9: 0 | U9: =O9*'1-Specification & Data'!B$14*0.9 -> 106.77761
C10: =C9+1 -> 8 | D10: 14 | E10: =F10*3.6 -> 22.530779 | F10: =D10/2.23694 -> 6.2585496 | G10: =G9+((F10+F9)/2) -> 31.605676 | H10: =(F10+F9)/2 -> 5.8115104 | I10: =(H10-F9)*2 -> 0.89407852 | J10: =IF(D10<=10,1,IF(AND(D10>10,D10<=20),2,IF(D10>20,3))) -> 2 | K10: 0 | L10: =('1-Specification & Data'!B$22*'1-Specification & Data'!B$10*'1-Specification & Data'!B$20*('1-Simulation'!F10^2-'1-Specification & Data'!B$21^2))/2 -> 16.076682 | M10: =Q10*I10 -> 630.20802 | N10: ='1-Specification & Data'!B$23*'1-Specification & Data'!B$18*8.91 -> 76.055206 | O10: =K10+L10+M10+N10 -> 722.33991 | P10: =IF(O10>=0,O10,IF(O10<0,-O10)) -> 722.33991 | Q10: =IF(J10=1,'1-Specification & Data'!B$52,IF('1-Simulation'!J10=2,'1-Specification & Data'!B$53,IF('1-Simulation'!J10=3,'1-Specification & Data'!B$54))) -> 704.86877 | R10: =(0.5*'1-Specification & Data'!B$18*'1-Simulation'!F10^2)/1000 -> 12.859536 | S10: =(Q10*9.81*T10)/1000 -> 0 | T10: 0 | U10: =O10*'1-Specification & Data'!B$14*0.9 -> 191.6979
C11: =C10+1 -> 9 | D11: 16 | E11: =F11*3.6 -> 25.749461 | F11: =D11/2.23694 -> 7.1526281 | G11: =G10+((F11+F10)/2) -> 38.311264 | H11: =(F11+F10)/2 -> 6.7055889 | I11: =(H11-F10)*2 -> 0.89407852 | J11: =IF(D11<=10,1,IF(AND(D11>10,D11<=20),2,IF(D11>20,3))) -> 2 | K11: 0 | L11: =('1-Specification & Data'!B$22*'1-Specification & Data'!B$10*'1-Specification & Data'!B$20*('1-Simulation'!F11^2-'1-Specification & Data'!B$21^2))/2 -> 21.713796 | M11: =Q11*I11 -> 630.20802 | N11: ='1-Specification & Data'!B$23*'1-Specification & Data'!B$18*8.91 -> 76.055206 | O11: =K11+L11+M11+N11 -> 727.97702 | P11: =IF(O11>=0,O11,IF(O11<0,-O11)) -> 727.97702 | Q11: =IF(J11=1,'1-Specification & Data'!B$52,IF('1-Simulation'!J11=2,'1-Specification & Data'!B$53,IF('1-Simulation'!J11=3,'1-Specification & Data'!B$54))) -> 704.86877 | R11: =(0.5*'1-Specification & Data'!B$18*'1-Simulation'!F11^2)/1000 -> 16.796128 | S11: =(Q11*9.81*T11)/1000 -> 0 | T11: 0 | U11: =O11*'1-Specification & Data'!B$14*0.9 -> 193.1939
C12: =C11+1 -> 10 | D12: 18 | E12: =F12*3.6 -> 28.968144 | F12: =D12/2.23694 -> 8.0467067 | G12: =G11+((F12+F11)/2) -> 45.910932 | H12: =(F12+F11)/2 -> 7.5996674 | I12: =(H12-F11)*2 -> 0.89407852 | J12: =IF(D12<=10,1,IF(AND(D12>10,D12<=20),2,IF(D12>20,3))) -> 2 | K12: 0 | L12: =('1-Specification & Data'!B$22*'1-Specification & Data'!B$10*'1-Specification & Data'!B$20*('1-Simulation'!F12^2-'1-Specification & Data'!B$21^2))/2 -> 28.102525 | M12: =Q12*I12 -> 630.20802 | N12: ='1-Specification & Data'!B$23*'1-Specification & Data'!B$18*8.91 -> 76.055206 | O12: =K12+L12+M12+N12 -> 734.36575 | P12: =IF(O12>=0,O12,IF(O12<0,-O12)) -> 734.36575 | Q12: =IF(J12=1,'1-Specification & Data'!B$52,IF('1-Simulation'!J12=2,'1-Specification & Data'!B$53,IF('1-Simulation'!J12=3,'1-Specification & Data'!B$54))) -> 704.86877 | R12: =(0.5*'1-Specification & Data'!B$18*'1-Simulation'!F12^2)/1000 -> 21.2576 | S12: =(Q12*9.81*T12)/1000 -> 0 | T12: 0 | U12: =O12*'1-Specification & Data'!B$14*0.9 -> 194.88937
C13: =C12+1 -> 11 | D13: 20 | E13: =F13*3.6 -> 32.186827 | F13: =D13/2.23694 -> 8.9407852 | G13: =G12+((F13+F12)/2) -> 54.404678 | H13: =(F13+F12)/2 -> 8.4937459 | I13: =(H13-F12)*2 -> 0.89407852 | J13: =IF(D13<=10,1,IF(AND(D13>10,D13<=20),2,IF(D13>20,3))) -> 2 | K13: 0 | L13: =('1-Specification & Data'!B$22*'1-Specification & Data'!B$10*'1-Specification & Data'!B$20*('1-Simulation'!F13^2-'1-Specification & Data'!B$21^2))/2 -> 35.242869 | M13: =Q13*I13 -> 630.20802 | N13: ='1-Specification & Data'!B$23*'1-Specification & Data'!B$18*8.91 -> 76.055206 | O13: =K13+L13+M13+N13 -> 741.5061 | P13: =IF(O13>=0,O13,IF(O13<0,-O13)) -> 741.5061 | Q13: =IF(J13=1,'1-Specification & Data'!B$52,IF('1-Simulation'!J13=2,'1-Specification & Data'!B$53,IF('1-Simulation'!J13=3,'1-Specification & Data'!B$54))) -> 704.86877 | R13: =(0.5*'1-Specification & Data'!B$18*'1-Simulation'!F13^2)/1000 -> 26.243951 | S13: =(Q13*9.81*T13)/1000 -> 0 | T13: 0 | U13: =O13*'1-Specification & Data'!B$14*0.9 -> 196.78431
C14: =C13+1 -> 12 | D14: 20.2 | E14: =F14*3.6 -> 32.508695 | F14: =D14/2.23694 -> 9.030193 | G14: =G13+((F14+F13)/2) -> 63.390167 | H14: =(F14+F13)/2 -> 8.9854891 | I14: =(H14-F13)*2 -> 0.089407852 | J14: =IF(D14<=10,1,IF(AND(D14>10,D14<=20),2,IF(D14>20,3))) -> 3 | K14: 0 | L14: =('1-Specification & Data'!B$22*'1-Specification & Data'!B$10*'1-Specification & Data'!B$20*('1-Simulation'!F14^2-'1-Specification & Data'!B$21^2))/2 -> 35.998243 | M14: =Q14*I14 -> 62.599237 | N14: ='1-Specification & Data'!B$23*'1-Specification & Data'!B$18*8.91 -> 76.055206 | O14: =K14+L14+M14+N14 -> 174.65269 | P14: =IF(O14>=0,O14,IF(O14<0,-O14)) -> 174.65269 | Q14: =IF(J14=1,'1-Specification & Data'!B$52,IF('1-Simulation'!J14=2,'1-Specification & Data'!B$53,IF('1-Simulation'!J14=3,'1-Specification & Data'!B$54))) -> 700.15369 | R14: =(0.5*'1-Specification & Data'!B$18*'1-Simulation'!F14^2)/1000 -> 26.771454 | S14: =(Q14*9.81*T14)/1000 -> 0 | T14: 0 | U14: =O14*'1-Specification & Data'!B$14*0.9 -> 46.350136
... C31: =C30+1 -> 29 | D31: 15 | E31: =F31*3.6 -> 24.14012 | F31: =D31/2.23694 -> 6.7055889 | G31: =G30+((F31+F30)/2) -> 238.13781 | H31: =(F31+F30)/2 -> 6.9291085 | I31: =(H31-F30)*2 -> -0.44703926 | J31: =IF(D31<=10,1,IF(AND(D31>10,D31<=20),2,IF(D31>20,3))) -> 2 | K31: 0 | L31: =('1-Specification & Data'!B$22*'1-Specification & Data'!B$10*'1-Specification & Data'!B$20*('1-Simulation'!F31^2-'1-Specification & Data'!B$21^2))/2 -> 18.801287 | M31: =Q31*I31 -> -315.10401 | N31: ='1-Specification & Data'!B$23*'1-Specification & Data'!B$18*8.91 -> 76.055206 | O31: =K31+L31+M31+N31 -> -220.24752 | P31: =IF(O31>=0,O31,IF(O31<0,-O31)) -> 220.24752 | Q31: =IF(J31=1,'1-Specification & Data'!B$52,IF('1-Simulation'!J31=2,'1-Specification & Data'!B$53,IF('1-Simulation'!J31=3,'1-Specification & Data'!B$54))) -> 704.86877 | R31: =(0.5*'1-Specification & Data'!B$18*'1-Simulation'!F31^2)/1000 -> 14.762222 | S31: =(Q31*9.81*T31)/1000 -> 0 | T31: 0 | U31: =O31*'1-Specification & Data'!B$14*0.9 -> -58.450303
B32: T1 start | C32: =C31+1 -> 30 | D32: 14 | E32: =F32*3.6 -> 22.530779 | F32: =D32/2.23694 -> 6.2585496 | G32: =G31+((F32+F31)/2) -> 244.61988 | H32: =(F32+F31)/2 -> 6.4820693 | I32: =(H32-F31)*2 -> -0.44703926 | J32: =IF(D32<=10,1,IF(AND(D32>10,D32<=20),2,IF(D32>20,3))) -> 2 | K32: 0 | L32: =('1-Specification & Data'!B$22*'1-Specification & Data'!B$10*'1-Specification & Data'!B$20*('1-Simulation'!F32^2-'1-Specification & Data'!B$21^2))/2 -> 16.076682 | M32: =Q32*I32 -> -315.10401 | N32: ='1-Specification & Data'!B$23*'1-Specification & Data'!B$18*8.91 -> 76.055206 | O32: =K32+L32+M32+N32 -> -222.97212 | P32: =IF(O32>=0,O32,IF(O32<0,-O32)) -> 222.97212 | Q32: =IF(J32=1,'1-Specification & Data'!B$52,IF('1-Simulation'!J32=2,'1-Specification & Data'!B$53,IF('1-Simulation'!J32=3,'1-Specification & Data'!B$54))) -> 704.86877 | R32: =(0.5*'1-Specification & Data'!B$18*'1-Simulation'!F32^2)/1000 -> 12.859536 | S32: =(Q32*9.81*T32)/1000 -> 0 | T32: 0 | U32: =O32*'1-Specification & Data'!B$14*0.9 -> -59.173371
C33: =C32+1 -> 31 | D33: 14 | E33: =F33*3.6 -> 22.530779 | F33: =D33/2.23694 -> 6.2585496 | G33: =G32+((F33+F32)/2) -> 250.87843 | H33: =(F33+F32)/2 -> 6.2585496 | I33: =(H33-F32)*2 -> 0 | J33: =IF(D33<=10,1,IF(AND(D33>10,D33<=20),2,IF(D33>20,3))) -> 2 | K33: 0 | L33: =('1-Specification & Data'!B$22*'1-Specification & Data'!B$10*'1-Specification & Data'!B$20*('1-Simulation'!F33^2-'1-Specification & Data'!B$21^2))/2 -> 16.076682 | M33: =Q33*I33 -> 0 | N33: ='1-Specification & Data'!B$23*'1-Specification & Data'!B$18*8.91 -> 76.055206 | O33: =K33+L33+M33+N33 -> 92.131888 | P33: =IF(O33>=0,O33,IF(O33<0,-O33)) -> 92.131888 | Q33: =IF(J33=1,'1-Specification & Data'!B$52,IF('1-Simulation'!J33=2,'1-Specification & Data'!B$53,IF('1-Simulation'!J33=3,'1-Specification & Data'!B$54))) -> 704.86877 | R33: =(0.5*'1-Specification & Data'!B$18*'1-Simulation'!F33^2)/1000 -> 12.859536 | S33: =(Q33*9.81*T33)/1000 -> 0 | T33: 0 | U33: =O33*'1-Specification & Data'!B$14*0.9 -> 24.450386
C34: =C33+1 -> 32 | D34: 14 | E34: =F34*3.6 -> 22.530779 | F34: =D34/2.23694 -> 6.2585496 | G34: =G33+((F34+F33)/2) -> 257.13698 | H34: =(F34+F33)/2 -> 6.2585496 | I34: =(H34-F33)*2 -> 0 | J34: =IF(D34<=10,1,IF(AND(D34>10,D34<=20),2,IF(D34>20,3))) -> 2 | K34: 0 | L34: =('1-Specification & Data'!B$22*'1-Specification & Data'!B$10*'1-Specification & Data'!B$20*('1-Simulation'!F34^2-'1-Specification & Data'!B$21^2))/2 -> 16.076682 | M34: =Q34*I34 -> 0 | N34: ='1-Specification & Data'!B$23*'1-Specification & Data'!B$18*8.91 -> 76.055206 | O34: =K34+L34+M34+N34 -> 92.131888 | P34: =IF(O34>=0,O34,IF(O34<0,-O34)) -> 92.131888 | Q34: =IF(J34=1,'1-Specification & Data'!B$52,IF('1-Simulation'!J34=2,'1-Specification & Data'!B$53,IF('1-Simulation'!J34=3,'1-Specification & Data'!B$54))) -> 704.86877 | R34: =(0.5*'1-Specification & Data'!B$18*'1-Simulation'!F34^2)/1000 -> 12.859536 | S34: =(Q34*9.81*T34)/1000 -> 0 | T34: 0 | U34: =O34*'1-Specification & Data'!B$14*0.9 -> 24.450386
C35: =C34+1 -> 33 | D35: 14 | E35: =F35*3.6 -> 22.530779 | F35: =D35/2.23694 -> 6.2585496 | G35: =G34+((F35+F34)/2) -> 263.39553 | H35: =(F35+F34)/2 -> 6.2585496 | I35: =(H35-F34)*2 -> 0 | J35: =IF(D35<=10,1,IF(AND(D35>10,D35<=20),2,IF(D35>20,3))) -> 2 | K35: 0 | L35: =('1-Specification & Data'!B$22*'1-Specification & Data'!B$10*'1-Specification & Data'!B$20*('1-Simulation'!F35^2-'1-Specification & Data'!B$21^2))/2 -> 16.076682 | M35: =Q35*I35 -> 0 | N35: ='1-Specification & Data'!B$23*'1-Specification & Data'!B$18*8.91 -> 76.055206 | O35: =K35+L35+M35+N35 -> 92.131888 | P35: =IF(O35>=0,O35,IF(O35<0,-O35)) -> 92.131888 | Q35: =IF(J35=1,'1-Specification & Data'!B$52,IF('1-Simulation'!J35=2,'1-Specification & Data'!B$53,IF('1-Simulation'!J35=3,'1-Specification & Data'!B$54))) -> 704.86877 | R35: =(0.5*'1-Specification & Data'!B$18*'1-Simulation'!F35^2)/1000 -> 12.859536 | S35: =(Q35*9.81*T35)/1000 -> 0 | T35: 0 | U35: =O35*'1-Specification & Data'!B$14*0.9 -> 24.450386
C36: =C35+1 -> 34 | D36: 14 | E36: =F36*3.6 -> 22.530779 | F36: =D36/2.23694 -> 6.2585496 | G36: =G35+((F36+F35)/2) -> 269.65408 | H36: =(F36+F35)/2 -> 6.2585496 | I36: =(H36-F35)*2 -> 0 | J36: =IF(D36<=10,1,IF(AND(D36>10,D36<=20),2,IF(D36>20,3))) -> 2 | K36: 0 | L36: =('1-Specification & Data'!B$22*'1-Specification & Data'!B$10*'1-Specification & Data'!B$20*('1-Simulation'!F36^2-'1-Specification & Data'!B$21^2))/2 -> 16.076682 | M36: =Q36*I36 -> 0 | N36: ='1-Specification & Data'!B$23*'1-Specification & Data'!B$18*8.91 -> 76.055206 | O36: =K36+L36+M36+N36 -> 92.131888 | P36: =IF(O36>=0,O36,IF(O36<0,-O36)) -> 92.131888 | Q36: =IF(J36=1,'1-Specification & Data'!B$52,IF('1-Simulation'!J36=2,'1-Specification & Data'!B$53,IF('1-Simulation'!J36=3,'1-Specification & Data'!B$54))) -> 704.86877 | R36: =(0.5*'1-Specification & Data'!B$18*'1-Simulation'!F36^2)/1000 -> 12.859536 | S36: =(Q36*9.81*T36)/1000 -> 0 | T36: 0 | U36: =O36*'1-Specification & Data'!B$14*0.9 -> 24.450386
C37: =C36+1 -> 35 | D37: 14 | E37: =F37*3.6 -> 22.530779 | F37: =D37/2.23694 -> 6.2585496 | G37: =G36+((F37+F36)/2) -> 275.91263 | H37: =(F37+F36)/2 -> 6.2585496 | I37: =(H37-F36)*2 -> 0 | J37: =IF(D37<=10,1,IF(AND(D37>10,D37<=20),2,IF(D37>20,3))) -> 2 | K37: 0 | L37: =('1-Specification & Data'!B$22*'1-Specification & Data'!B$10*'1-Specification & Data'!B$20*('1-Simulation'!F37^2-'1-Specification & Data'!B$21^2))/2 -> 16.076682 | M37: =Q37*I37 -> 0 | N37: ='1-Specification & Data'!B$23*'1-Specification & Data'!B$18*8.91 -> 76.055206 | O37: =K37+L37+M37+N37 -> 92.131888 | P37: =IF(O37>=0,O37,IF(O37<0,-O37)) -> 92.131888 | Q37: =IF(J37=1,'1-Specification & Data'!B$52,IF('1-Simulation'!J37=2,'1-Specification & Data'!B$53,IF('1-Simulation'!J37=3,'1-Specification & Data'!B$54))) -> 704.86877 | R37: =(0.5*'1-Specification & Data'!B$18*'1-Simulation'!F37^2)/1000 -> 12.859536 | S37: =(Q37*9.81*T37)/1000 -> 0 | T37: 0 | U37: =O37*'1-Specification & Data'!B$14*0.9 -> 24.450386
C38: =C37+1 -> 36 | D38: 14 | E38: =F38*3.6 -> 22.530779 | F38: =D38/2.23694 -> 6.2585496 | G38: =G37+((F38+F37)/2) -> 282.17118 | H38: =(F38+F37)/2 -> 6.2585496 | I38: =(H38-F37)*2 -> 0 | J38: =IF(D38<=10,1,IF(AND(D38>10,D38<=20),2,IF(D38>20,3))) -> 2 | K38: 0 | L38: =('1-Specification & Data'!B$22*'1-Specification & Data'!B$10*'1-Specification & Data'!B$20*('1-Simulation'!F38^2-'1-Specification & Data'!B$21^2))/2 -> 16.076682 | M38: =Q38*I38 -> 0 | N38: ='1-Specification & Data'!B$23*'1-Specification & Data'!B$18*8.91 -> 76.055206 | O38: =K38+L38+M38+N38 -> 92.131888 | P38: =IF(O38>=0,O38,IF(O38<0,-O38)) -> 92.131888 | Q38: =IF(J38=1,'1-Specification & Data'!B$52,IF('1-Simulation'!J38=2,'1-Specification & Data'!B$53,IF('1-Simulation'!J38=3,'1-Specification & Data'!B$54))) -> 704.86877 | R38: =(0.5*'1-Specification & Data'!B$18*'1-Simulation'!F38^2)/1000 -> 12.859536 | S38: =(Q38*9.81*T38)/1000 -> 0 | T38: 0 | U38: =O38*'1-Specification & Data'!B$14*0.9 -> 24.450386
C39: =C38+1 -> 37 | D39: 14 | E39: =F39*3.6 -> 22.530779 | F39: =D39/2.23694 -> 6.2585496 | G39: =G38+((F39+F38)/2) -> 288.42973 | H39: =(F39+F38)/2 -> 6.2585496 | I39: =(H39-F38)*2 -> 0 | J39: =IF(D39<=10,1,IF(AND(D39>10,D39<=20),2,IF(D39>20,3))) -> 2 | K39: 0 | L39: =('1-Specification & Data'!B$22*'1-Specification & Data'!B$10*'1-Specification & Data'!B$20*('1-Simulation'!F39^2-'1-Specification & Data'!B$21^2))/2 -> 16.076682 | M39: =Q39*I39 -> 0 | N39: ='1-Specification & Data'!B$23*'1-Specification & Data'!B$18*8.91 -> 76.055206 | O39: =K39+L39+M39+N39 -> 92.131888 | P39: =IF(O39>=0,O39,IF(O39<0,-O39)) -> 92.131888 | Q39: =IF(J39=1,'1-Specification & Data'!B$52,IF('1-Simulation'!J39=2,'1-Specification & Data'!B$53,IF('1-Simulation'!J39=3,'1-Specification & Data'!B$54))) -> 704.86877 | R39: =(0.5*'1-Specification & Data'!B$18*'1-Simulation'!F39^2)/1000 -> 12.859536 | S39: =(Q39*9.81*T39)/1000 -> 0 | T39: 0 | U39: =O39*'1-Specification & Data'!B$14*0.9 -> 24.450386
C40: =C39+1 -> 38 | D40: 14 | E40: =F40*3.6 -> 22.530779 | F40: =D40/2.23694 -> 6.2585496 | G40: =G39+((F40+F39)/2) -> 294.68828 | H40: =(F40+F39)/2 -> 6.2585496 | I40: =(H40-F39)*2 -> 0 | J40: =IF(D40<=10,1,IF(AND(D40>10,D40<=20),2,IF(D40>20,3))) -> 2 | K40: 0 | L40: =('1-Specification & Data'!B$22*'1-Specification & Data'!B$10*'1-Specification & Data'!B$20*('1-Simulation'!F40^2-'1-Specification & Data'!B$21^2))/2 -> 16.076682 | M40: =Q40*I40 -> 0 | N40: ='1-Specification & Data'!B$23*'1-Specification & Data'!B$18*8.91 -> 76.055206 | O40: =K40+L40+M40+N40 -> 92.131888 | P40: =IF(O40>=0,O40,IF(O40<0,-O40)) -> 92.131888 | Q40: =IF(J40=1,'1-Specification & Data'!B$52,IF('1-Simulation'!J40=2,'1-Specification & Data'!B$53,IF('1-Simulation'!J40=3,'1-Specification & Data'!B$54))) -> 704.86877 | R40: =(0.5*'1-Specification & Data'!B$18*'1-Simulation'!F40^2)/1000 -> 12.859536 | S40: =(Q40*9.81*T40)/1000 -> 0 | T40: 0 | U40: =O40*'1-Specification & Data'!B$14*0.9 -> 24.450386
C41: =C40+1 -> 39 | D41: 14 | E41: =F41*3.6 -> 22.530779 | F41: =D41/2.23694 -> 6.2585496 | G41: =G40+((F41+F40)/2) -> 300.94683 | H41: =(F41+F40)/2 -> 6.2585496 | I41: =(H41-F40)*2 -> 0 | J41: =IF(D41<=10,1,IF(AND(D41>10,D41<=20),2,IF(D41>20,3))) -> 2 | K41: 0 | L41: =('1-Specification & Data'!B$22*'1-Specification & Data'!B$10*'1-Specification & Data'!B$20*('1-Simulation'!F41^2-'1-Specification & Data'!B$21^2))/2 -> 16.076682 | M41: =Q41*I41 -> 0 | N41: ='1-Specification & Data'!B$23*'1-Specification & Data'!B$18*8.91 -> 76.055206 | O41: =K41+L41+M41+N41 -> 92.131888 | P41: =IF(O41>=0,O41,IF(O41<0,-O41)) -> 92.131888 | Q41: =IF(J41=1,'1-Specification & Data'!B$52,IF('1-Simulation'!J41=2,'1-Specification & Data'!B$53,IF('1-Simulation'!J41=3,'1-Specification & Data'!B$54))) -> 704.86877 | R41: =(0.5*'1-Specification & Data'!B$18*'1-Simulation'!F41^2)/1000 -> 12.859536 | S41: =(Q41*9.81*T41)/1000 -> 0 | T41: 0 | U41: =O41*'1-Specification & Data'!B$14*0.9 -> 24.450386
C42: =C41+1 -> 40 | D42: 14 | E42: =F42*3.6 -> 22.530779 | F42: =D42/2.23694 -> 6.2585496 | G42: =G41+((F42+F41)/2) -> 307.20538 | H42: =(F42+F41)/2 -> 6.2585496 | I42: =(H42-F41)*2 -> 0 | J42: =IF(D42<=10,1,IF(AND(D42>10,D42<=20),2,IF(D42>20,3))) -> 2 | K42: 0 | L42: =('1-Specification & Data'!B$22*'1-Specification & Data'!B$10*'1-Specification & Data'!B$20*('1-Simulation'!F42^2-'1-Specification & Data'!B$21^2))/2 -> 16.076682 | M42: =Q42*I42 -> 0 | N42: ='1-Specification & Data'!B$23*'1-Specification & Data'!B$18*8.91 -> 76.055206 | O42: =K42+L42+M42+N42 -> 92.131888 | P42: =IF(O42>=0,O42,IF(O42<0,-O42)) -> 92.131888 | Q42: =IF(J42=1,'1-Specification & Data'!B$52,IF('1-Simulation'!J42=2,'1-Specification & Data'!B$53,IF('1-Simulation'!J42=3,'1-Specification & Data'!B$54))) -> 704.86877 | R42: =(0.5*'1-Specification & Data'!B$18*'1-Simulation'!F42^2)/1000 -> 12.859536 | S42: =(Q42*9.81*T42)/1000 -> 0 | T42: 0 | U42: =O42*'1-Specification & Data'!B$14*0.9 -> 24.450386
C43: =C42+1 -> 41 | D43: 14 | E43: =F43*3.6 -> 22.530779 | F43: =D43/2.23694 -> 6.2585496 | G43: =G42+((F43+F42)/2) -> 313.46393 | H43: =(F43+F42)/2 -> 6.2585496 | I43: =(H43-F42)*2 -> 0 | J43: =IF(D43<=10,1,IF(AND(D43>10,D43<=20),2,IF(D43>20,3))) -> 2 | K43: 0 | L43: =('1-Specification & Data'!B$22*'1-Specification & Data'!B$10*'1-Specification & Data'!B$20*('1-Simulation'!F43^2-'1-Specification & Data'!B$21^2))/2 -> 16.076682 | M43: =Q43*I43 -> 0 | N43: ='1-Specification & Data'!B$23*'1-Specification & Data'!B$18*8.91 -> 76.055206 | O43: =K43+L43+M43+N43 -> 92.131888 | P43: =IF(O43>=0,O43,IF(O43<0,-O43)) -> 92.131888 | Q43: =IF(J43=1,'1-Specification & Data'!B$52,IF('1-Simulation'!J43=2,'1-Specification & Data'!B$53,IF('1-Simulation'!J43=3,'1-Specification & Data'!B$54))) -> 704.86877 | R43: =(0.5*'1-Specification & Data'!B$18*'1-Simulation'!F43^2)/1000 -> 12.859536 | S43: =(Q43*9.81*T43)/1000 -> 0 | T43: 0 | U43: =O43*'1-Specification & Data'!B$14*0.9 -> 24.450386
C44: =C43+1 -> 42 | D44: 14 | E44: =F44*3.6 -> 22.530779 | F44: =D44/2.23694 -> 6.2585496 | G44: =G43+((F44+F43)/2) -> 319.72248 | H44: =(F44+F43)/2 -> 6.2585496 | I44: =(H44-F43)*2 -> 0 | J44: =IF(D44<=10,1,IF(AND(D44>10,D44<=20),2,IF(D44>20,3))) -> 2 | K44: 0 | L44: =('1-Specification & Data'!B$22*'1-Specification & Data'!B$10*'1-Specification & Data'!B$20*('1-Simulation'!F44^2-'1-Specification & Data'!B$21^2))/2 -> 16.076682 | M44: =Q44*I44 -> 0 | N44: ='1-Specification & Data'!B$23*'1-Specification & Data'!B$18*8.91 -> 76.055206 | O44: =K44+L44+M44+N44 -> 92.131888 | P44: =IF(O44>=0,O44,IF(O44<0,-O44)) -> 92.131888 | Q44: =IF(J44=1,'1-Specification & Data'!B$52,IF('1-Simulation'!J44=2,'1-Specification & Data'!B$53,IF('1-Simulation'!J44=3,'1-Specification & Data'!B$54))) -> 704.86877 | R44: =(0.5*'1-Specification & Data'!B$18*'1-Simulation'!F44^2)/1000 -> 12.859536 | S44: =(Q44*9.81*T44)/1000 -> 0 | T44: 0 | U44: =O44*'1-Specification & Data'!B$14*0.9 -> 24.450386
C45: =C44+1 -> 43 | D45: 14 | E45: =F45*3.6 -> 22.530779 | F45: =D45/2.23694 -> 6.2585496 | G45: =G44+((F45+F44)/2) -> 325.98103 | H45: =(F45+F44)/2 -> 6.2585496 | I45: =(H45-F44)*2 -> 0 | J45: =IF(D45<=10,1,IF(AND(D45>10,D45<=20),2,IF(D45>20,3))) -> 2 | K45: 0 | L45: =('1-Specification & Data'!B$22*'1-Specification & Data'!B$10*'1-Specification & Data'!B$20*('1-Simulation'!F45^2-'1-Specification & Data'!B$21^2))/2 -> 16.076682 | M45: =Q45*I45 -> 0 | N45: ='1-Specification & Data'!B$23*'1-Specification & Data'!B$18*8.91 -> 76.055206 | O45: =K45+L45+M45+N45 -> 92.131888 | P45: =IF(O45>=0,O45,IF(O45<0,-O45)) -> 92.131888 | Q45: =IF(J45=1,'1-Specification & Data'!B$52,IF('1-Simulation'!J45=2,'1-Specification & Data'!B$53,IF('1-Simulation'!J45=3,'1-Specification & Data'!B$54))) -> 704.86877 | R45: =(0.5*'1-Specification & Data'!B$18*'1-Simulation'!F45^2)/1000 -> 12.859536 | S45: =(Q45*9.81*T45)/1000 -> 0 | T45: 0 | U45: =O45*'1-Specification & Data'!B$14*0.9 -> 24.450386
B46: T1 finish | C46: =C45+1 -> 44 | D46: 14 | E46: =F46*3.6 -> 22.530779 | F46: =D46/2.23694 -> 6.2585496 | G46: =G45+((F46+F45)/2) -> 332.23958 | H46: =(F46+F45)/2 -> 6.2585496 | I46: =(H46-F45)*2 -> 0 | J46: =IF(D46<=10,1,IF(AND(D46>10,D46<=20),2,IF(D46>20,3))) -> 2 | K46: 0 | L46: =('1-Specification & Data'!B$22*'1-Specification & Data'!B$10*'1-Specification & Data'!B$20*('1-Simulation'!F46^2-'1-Specification & Data'!B$21^2))/2 -> 16.076682 | M46: =Q46*I46 -> 0 | N46: ='1-Specification & Data'!B$23*'1-Specification & Data'!B$18*8.91 -> 76.055206 | O46: =K46+L46+M46+N46 -> 92.131888 | P46: =IF(O46>=0,O46,IF(O46<0,-O46)) -> 92.131888 | Q46: =IF(J46=1,'1-Specification & Data'!B$52,IF('1-Simulation'!J46=2,'1-Specification & Data'!B$53,IF('1-Simulation'!J46=3,'1-Specification & Data'!B$54))) -> 704.86877 | R46: =(0.5*'1-Specification & Data'!B$18*'1-Simulation'!F46^2)/1000 -> 12.859536 | S46: =(Q46*9.81*T46)/1000 -> 0 | T46: 0 | U46: =O46*'1-Specification & Data'!B$14*0.9 -> 24.450386
C47: =C46+1 -> 45 | D47: 15 | E47: =F47*3.6 -> 24.14012 | F47: =D47/2.23694 -> 6.7055889 | G47: =G46+((F47+F46)/2) -> 338.72165 | H47: =(F47+F46)/2 -> 6.4820693 | I47: =(H47-F46)*2 -> 0.44703926 | J47: =IF(D47<=10,1,IF(AND(D47>10,D47<=20),2,IF(D47>20,3))) -> 2 | K47: 0 | L47: =('1-Specification & Data'!B$22*'1-Specification & Data'!B$10*'1-Specification & Data'!B$20*('1-Simulation'!F47^2-'1-Specification & Data'!B$21^2))/2 -> 18.801287 | M47: =Q47*I47 -> 315.10401 | N47: ='1-Specification & Data'!B$23*'1-Specification & Data'!B$18*8.91 -> 76.055206 | O47: =K47+L47+M47+N47 -> 409.9605 | P47: =IF(O47>=0,O47,IF(O47<0,-O47)) -> 409.9605 | Q47: =IF(J47=1,'1-Specification & Data'!B$52,IF('1-Simulation'!J47=2,'1-Specification & Data'!B$53,IF('1-Simulation'!J47=3,'1-Specification & Data'!B$54))) -> 704.86877 | R47: =(0.5*'1-Specification & Data'!B$18*'1-Simulation'!F47^2)/1000 -> 14.762222 | S47: =(Q47*9.81*T47)/1000 -> 0 | T47: 0 | U47: =O47*'1-Specification & Data'!B$14*0.9 -> 108.79721
C48: =C47+1 -> 46 | D48: 16.5 | E48: =F48*3.6 -> 26.554132 | F48: =D48/2.23694 -> 7.3761478 | G48: =G47+((F48+F47)/2) -> 345.76251 | H48: =(F48+F47)/2 -> 7.0408683 | I48: =(H48-F47)*2 -> 0.67055889 | J48: =IF(D48<=10,1,IF(AND(D48>10,D48<=20),2,IF(D48>20,3))) -> 2 | K48: 0 | L48: =('1-Specification & Data'!B$22*'1-Specification & Data'!B$10*'1-Specification & Data'!B$20*('1-Simulation'!F48^2-'1-Specification & Data'!B$21^2))/2 -> 23.240515 | M48: =Q48*I48 -> 472.65602 | N48: ='1-Specification & Data'!B$23*'1-Specification & Data'!B$18*8.91 -> 76.055206 | O48: =K48+L48+M48+N48 -> 571.95174 | P48: =IF(O48>=0,O48,IF(O48<0,-O48)) -> 571.95174 | Q48: =IF(J48=1,'1-Specification & Data'!B$52,IF('1-Simulation'!J48=2,'1-Specification & Data'!B$53,IF('1-Simulation'!J48=3,'1-Specification & Data'!B$54))) -> 704.86877 | R48: =(0.5*'1-Specification & Data'!B$18*'1-Simulation'!F48^2)/1000 -> 17.862289 | S48: =(Q48*9.81*T48)/1000 -> 0 | T48: 0 | U48: =O48*'1-Specification & Data'!B$14*0.9 -> 151.78719
C49: =C48+1 -> 47 | D49: 18 | E49: =F49*3.6 -> 28.968144 | F49: =D49/2.23694 -> 8.0467067 | G49: =G48+((F49+F48)/2) -> 353.47394 | H49: =(F49+F48)/2 -> 7.7114272 | I49: =(H49-F48)*2 -> 0.67055889 | J49: =IF(D49<=10,1,IF(AND(D49>10,D49<=20),2,IF(D49>20,3))) -> 2 | K49: 0 | L49: =('1-Specification & Data'!B$22*'1-Specification & Data'!B$10*'1-Specification & Data'!B$20*('1-Simulation'!F49^2-'1-Specification & Data'!B$21^2))/2 -> 28.102525 | M49: =Q49*I49 -> 472.65602 | N49: ='1-Specification & Data'!B$23*'1-Specification & Data'!B$18*8.91 -> 76.055206 | O49: =K49+L49+M49+N49 -> 576.81375 | P49: =IF(O49>=0,O49,IF(O49<0,-O49)) -> 576.81375 | Q49: =IF(J49=1,'1-Specification & Data'!B$52,IF('1-Simulation'!J49=2,'1-Specification & Data'!B$53,IF('1-Simulation'!J49=3,'1-Specification & Data'!B$54))) -> 704.86877 | R49: =(0.5*'1-Specification & Data'!B$18*'1-Simulation'!F49^2)/1000 -> 21.2576 | S49: =(Q49*9.81*T49)/1000 -> 0 | T49: 0 | U49: =O49*'1-Specification & Data'!B$14*0.9 -> 153.07749
C50: =C49+1 -> 48 | D50: 20 | E50: =F50*3.6 -> 32.186827 | F50: =D50/2.23694 -> 8.9407852 | G50: =G49+((F50+F49)/2) -> 361.96769 | H50: =(F50+F49)/2 -> 8.4937459 | I50: =(H50-F49)*2 -> 0.89407852 | J50: =IF(D50<=10,1,IF(AND(D50>10,D50<=20),2,IF(D50>20,3))) -> 2 | K50: 0 | L50: =('1-Specification & Data'!B$22*'1-Specification & Data'!B$10*'1-Specification & Data'!B$20*('1-Simulation'!F50^2-'1-Specification & Data'!B$21^2))/2 -> 35.242869 | M50: =Q50*I50 -> 630.20802 | N50: ='1-Specification & Data'!B$23*'1-Specification & Data'!B$18*8.91 -> 76.055206 | O50: =K50+L50+M50+N50 -> 741.5061 | P50: =IF(O50>=0,O50,IF(O50<0,-O50)) -> 741.5061 | Q50: =IF(J50=1,'1-Specification & Data'!B$52,IF('1-Simulation'!J50=2,'1-Specification & Data'!B$53,IF('1-Simulation'!J50=3,'1-Specification & Data'!B$54))) -> 704.86877 | R50: =(0.5*'1-Specification & Data'!B$18*'1-Simulation'!F50^2)/1000 -> 26.243951 | S50: =(Q50*9.81*T50)/1000 -> 0 | T50: 0 | U50: =O50*'1-Specification & Data'!B$14*0.9 -> 196.78431
C51: =C50+1 -> 49 | D51: 20.2 | E51: =F51*3.6 -> 32.508695 | F51: =D51/2.23694 -> 9.030193 | G51: =G50+((F51+F50)/2) -> 370.95318 | H51: =(F51+F50)/2 -> 8.9854891 | I51: =(H51-F50)*2 -> 0.089407852 | J51: =IF(D51<=10,1,IF(AND(D51>10,D51<=20),2,IF(D51>20,3))) -> 3 | K51: 0 | L51: =('1-Specification & Data'!B$22*'1-Specification & Data'!B$10*'1-Specification & Data'!B$20*('1-Simulation'!F51^2-'1-Specification & Data'!B$21^2))/2 -> 35.998243 | M51: =Q51*I51 -> 62.599237 | N51: ='1-Specification & Data'!B$23*'1-Specification & Data'!B$18*8.91 -> 76.055206 | O51: =K51+L51+M51+N51 -> 174.65269 | P51: =IF(O51>=0,O51,IF(O51<0,-O51)) -> 174.65269 | Q51: =IF(J51=1,'1-Specification & Data'!B$52,IF('1-Simulation'!J51=2,'1-Specification & Data'!B$53,IF('1-Simulation'!J51=3,'1-Specification & Data'!B$54))) -> 700.15369 | R51: =(0.5*'1-Specification & Data'!B$18*'1-Simulation'!F51^2)/1000 -> 26.771454 | S51: =(Q51*9.81*T51)/1000 -> 0 | T51: 0 | U51: =O51*'1-Specification & Data'!B$14*0.9 -> 46.350136
C52: =C51+1 -> 50 | D52: 21.5 | E52: =F52*3.6 -> 34.600839 | F52: =D52/2.23694 -> 9.6113441 | G52: =G51+((F52+F51)/2) -> 380.27395 | H52: =(F52+F51)/2 -> 9.3207685 | I52: =(H52-F51)*2 -> 0.58115104 | J52: =IF(D52<=10,1,IF(AND(D52>10,D52<=20),2,IF(D52>20,3))) -> 3 | K52: 0 | L52: =('1-Specification & Data'!B$22*'1-Specification & Data'!B$10*'1-Specification & Data'!B$20*('1-Simulation'!F52^2-'1-Specification & Data'!B$21^2))/2 -> 41.091375 | M52: =Q52*I52 -> 406.89504 | N52: ='1-Specification & Data'!B$23*'1-Specification & Data'!B$18*8.91 -> 76.055206 | O52: =K52+L52+M52+N52 -> 524.04162 | P52: =IF(O52>=0,O52,IF(O52<0,-O52)) -> 524.04162 | Q52: =IF(J52=1,'1-Specification & Data'!B$52,IF('1-Simulation'!J52=2,'1-Specification & Data'!B$53,IF('1-Simulation'!J52=3,'1-Specification & Data'!B$54))) -> 700.15369 | R52: =(0.5*'1-Specification & Data'!B$18*'1-Simulation'!F52^2)/1000 -> 30.328166 | S52: =(Q52*9.81*T52)/1000 -> 0 | T52: 0 | U52: =O52*'1-Specification & Data'!B$14*0.9 -> 139.07258
C53: =C52+1 -> 51 | D53: 22.5 | E53: =F53*3.6 -> 36.21018 | F53: =D53/2.23694 -> 10.058383 | G53: =G52+((F53+F52)/2) -> 390.10881 | H53: =(F53+F52)/2 -> 9.8348637 | I53: =(H53-F52)*2 -> 0.44703926 | J53: =IF(D53<=10,1,IF(AND(D53>10,D53<=20),2,IF(D53>20,3))) -> 3 | K53: 0 | L53: =('1-Specification & Data'!B$22*'1-Specification & Data'!B$10*'1-Specification & Data'!B$20*('1-Simulation'!F53^2-'1-Specification & Data'!B$21^2))/2 -> 45.225258 | M53: =Q53*I53 -> 312.99619 | N53: ='1-Specification & Data'!B$23*'1-Specification & Data'!B$18*8.91 -> 76.055206 | O53: =K53+L53+M53+N53 -> 434.27665 | P53: =IF(O53>=0,O53,IF(O53<0,-O53)) -> 434.27665 | Q53: =IF(J53=1,'1-Specification & Data'!B$52,IF('1-Simulation'!J53=2,'1-Specification & Data'!B$53,IF('1-Simulation'!J53=3,'1-Specification & Data'!B$54))) -> 700.15369 | R53: =(0.5*'1-Specification & Data'!B$18*'1-Simulation'!F53^2)/1000 -> 33.215 | S53: =(Q53*9.81*T53)/1000 -> 0 | T53: 0 | U53: =O53*'1-Specification & Data'!B$14*0.9 -> 115.25034
C54: =C53+1 -> 52 | D54: 24 | E54: =F54*3.6 -> 38.624192 | F54: =D54/2.23694 -> 10.728942 | G54: =G53+((F54+F53)/2) -> 400.50247 | H54: =(F54+F53)/2 -> 10.393663 | I54: =(H54-F53)*2 -> 0.67055889 | J54: =IF(D54<=10,1,IF(AND(D54>10,D54<=20),2,IF(D54>20,3))) -> 3 | K54: 0 | L54: =('1-Specification & Data'!B$22*'1-Specification & Data'!B$10*'1-Specification & Data'!B$20*('1-Simulation'!F54^2-'1-Specification & Data'!B$21^2))/2 -> 51.778403 | M54: =Q54*I54 -> 469.49428 | N54: ='1-Specification & Data'!B$23*'1-Specification & Data'!B$18*8.91 -> 76.055206 | O54: =K54+L54+M54+N54 -> 597.32789 | P54: =IF(O54>=0,O54,IF(O54<0,-O54)) -> 597.32789 | Q54: =IF(J54=1,'1-Specification & Data'!B$52,IF('1-Simulation'!J54=2,'1-Specification & Data'!B$53,IF('1-Simulation'!J54=3,'1-Specification & Data'!B$54))) -> 700.15369 | R54: =(0.5*'1-Specification & Data'!B$18*'1-Simulation'!F54^2)/1000 -> 37.791289 | S54: =(Q54*9.81*T54)/1000 -> 0 | T54: 0 | U54: =O54*'1-Specification & Data'!B$14*0.9 -> 158.52163
C55: =C54+1 -> 53 | D55: 26 | E55: =F55*3.6 -> 41.842875 | F55: =D55/2.23694 -> 11.623021 | G55: =G54+((F55+F54)/2) -> 411.67845 | H55: =(F55+F54)/2 -> 11.175981 | I55: =(H55-F54)*2 -> 0.89407852 | J55: =IF(D55<=10,1,IF(AND(D55>10,D55<=20),2,IF(D55>20,3))) -> 3 | K55: 0 | L55: =('1-Specification & Data'!B$22*'1-Specification & Data'!B$10*'1-Specification & Data'!B$20*('1-Simulation'!F55^2-'1-Specification & Data'!B$21^2))/2 -> 61.173593 | M55: =Q55*I55 -> 625.99237 | N55: ='1-Specification & Data'!B$23*'1-Specification & Data'!B$18*8.91 -> 76.055206 | O55: =K55+L55+M55+N55 -> 763.22117 | P55: =IF(O55>=0,O55,IF(O55<0,-O55)) -> 763.22117 | Q55: =IF(J55=1,'1-Specification & Data'!B$52,IF('1-Simulation'!J55=2,'1-Specification & Data'!B$53,IF('1-Simulation'!J55=3,'1-Specification & Data'!B$54))) -> 700.15369 | R55: =(0.5*'1-Specification & Data'!B$18*'1-Simulation'!F55^2)/1000 -> 44.352277 | S55: =(Q55*9.81*T55)/1000 -> 0 | T55: 0 | U55: =O55*'1-Specification & Data'!B$14*0.9 -> 202.54716
C56: =C55+1 -> 54 | D56: 26.5 | E56: =F56*3.6 -> 42.647545 | F56: =D56/2.23694 -> 11.84654 | G56: =G55+((F56+F55)/2) -> 423.41323 | H56: =(F56+F55)/2 -> 11.734781 | I56: =(H56-F55)*2 -> 0.22351963 | J56: =IF(D56<=10,1,IF(AND(D56>10,D56<=20),2,IF(D56>20,3))) -> 3 | K56: 0 | L56: =('1-Specification & Data'!B$22*'1-Specification & Data'!B$10*'1-Specification & Data'!B$20*('1-Simulation'!F56^2-'1-Specification & Data'!B$21^2))/2 -> 63.63983 | M56: =Q56*I56 -> 156.49809 | N56: ='1-Specification & Data'!B$23*'1-Specification & Data'!B$18*8.91 -> 76.055206 | O56: =K56+L56+M56+N56 -> 296.19313 | P56: =IF(O56>=0,O56,IF(O56<0,-O56)) -> 296.19313 | Q56: =IF(J56=1,'1-Specification & Data'!B$52,IF('1-Simulation'!J56=2,'1-Specification & Data'!B$53,IF('1-Simulation'!J56=3,'1-Specification & Data'!B$54))) -> 700.15369 | R56: =(0.5*'1-Specification & Data'!B$18*'1-Simulation'!F56^2)/1000 -> 46.074536 | S56: =(Q56*9.81*T56)/1000 -> 0 | T56: 0 | U56: =O56*'1-Specification & Data'!B$14*0.9 -> 78.6051
B57: Water splash start | C57: =C56+1 -> 55 | D57: 25.3 | E57: =F57*3.6 -> 40.716336 | F57: =D57/2.23694 -> 11.310093 | G57: =G56+((F57+F56)/2) -> 434.99155 | H57: =(F57+F56)/2 -> 11.578317 | I57: =(H57-F56)*2 -> -0.53644711 | J57: =IF(D57<=10,1,IF(AND(D57>10,D57<=20),2,IF(D57>20,3))) -> 3 | K57: 0 | L57: =('1-Specification & Data'!B$22*'1-Specification & Data'!B$10*'1-Specification & Data'!B$20*('1-Simulation'!F57^2-'1-Specification & Data'!B$21^2))/2 -> 57.79978 | M57: =Q57*I57 -> -375.59542 | N57: ='1-Specification & Data'!B$25*'1-Specification & Data'!B$18*8.91 -> 906.81207 | O57: =K57+L57+M57+N57 -> 589.01643 | P57: =IF(O57>=0,O57,IF(O57<0,-O57)) -> 589.01643 | Q57: =IF(J57=1,'1-Specification & Data'!B$52,IF('1-Simulation'!J57=2,'1-Specification & Data'!B$53,IF('1-Simulation'!J57=3,'1-Specification & Data'!B$54))) -> 700.15369 | R57: =(0.5*'1-Specification & Data'!B$18*'1-Simulation'!F57^2)/1000 -> 41.996226 | S57: =(Q57*9.81*T57)/1000 -> 0 | T57: 0 | U57: =O57*'1-Specification & Data'!B$14*0.9 -> 156.3159
C58: =C57+1 -> 56 | D58: 23 | E58: =F58*3.6 -> 37.014851 | F58: =D58/2.23694 -> 10.281903 | G58: =G57+((F58+F57)/2) -> 445.78755 | H58: =(F58+F57)/2 -> 10.795998 | I58: =(H58-F57)*2 -> -1.0281903 | J58: =IF(D58<=10,1,IF(AND(D58>10,D58<=20),2,IF(D58>20,3))) -> 3 | K58: 0 | L58: =('1-Specification & Data'!B$22*'1-Specification & Data'!B$10*'1-Specification & Data'!B$20*('1-Simulation'!F58^2-'1-Specification & Data'!B$21^2))/2 -> 47.362664 | M58: =Q58*I58 -> -719.89123 | N58: ='1-Specification & Data'!B$25*'1-Specification & Data'!B$18*8.91 -> 906.81207 | O58: =K58+L58+M58+N58 -> 234.28351 | P58: =IF(O58>=0,O58,IF(O58<0,-O58)) -> 234.28351 | Q58: =IF(J58=1,'1-Specification & Data'!B$52,IF('1-Simulation'!J58=2,'1-Specification & Data'!B$53,IF('1-Simulation'!J58=3,'1-Specification & Data'!B$54))) -> 700.15369 | R58: =(0.5*'1-Specification & Data'!B$18*'1-Simulation'!F58^2)/1000 -> 34.707625 | S58: =(Q58*9.81*T58)/1000 -> 0 | T58: 0 | U58: =O58*'1-Specification & Data'!B$14*0.9 -> 62.175238
C59: =C58+1 -> 57 | D59: 21.5 | E59: =F59*3.6 -> 34.600839 | F59: =D59/2.23694 -> 9.6113441 | G59: =G58+((F59+F58)/2) -> 455.73417 | H59: =(F59+F58)/2 -> 9.9466235 | I59: =(H59-F58)*2 -> -0.67055889 | J59: =IF(D59<=10,1,IF(AND(D59>10,D59<=20),2,IF(D59>20,3))) -> 3 | K59: 0 | L59: =('1-Specification & Data'!B$22*'1-Specification & Data'!B$10*'1-Specification & Data'!B$20*('1-Simulation'!F59^2-'1-Specification & Data'!B$21^2))/2 -> 41.091375 | M59: =Q59*I59 -> -469.49428 | N59: ='1-Specification & Data'!B$25*'1-Specification & Data'!B$18*8.91 -> 906.81207 | O59: =K59+L59+M59+N59 -> 478.40917 | P59: =IF(O59>=0,O59,IF(O59<0,-O59)) -> 478.40917 | Q59: =IF(J59=1,'1-Specification & Data'!B$52,IF('1-Simulation'!J59=2,'1-Specification & Data'!B$53,IF('1-Simulation'!J59=3,'1-Specification & Data'!B$54))) -> 700.15369 | R59: =(0.5*'1-Specification & Data'!B$18*'1-Simulation'!F59^2)/1000 -> 30.328166 | S59: =(Q59*9.81*T59)/1000 -> 0 | T59: 0 | U59: =O59*'1-Specification & Data'!B$14*0.9 -> 126.96243
C60: =C59+1 -> 58 | D60: 20 | E60: =F60*3.6 -> 32.186827 | F60: =D60/2.23694 -> 8.9407852 | G60: =G59+((F60+F59)/2) -> 465.01024 | H60: =(F60+F59)/2 -> 9.2760646 | I60: =(H60-F59)*2 -> -0.67055889 | J60: =IF(D60<=10,1,IF(AND(D60>10,D60<=20),2,IF(D60>20,3))) -> 2 | K60: 0 | L60: =('1-Specification & Data'!B$22*'1-Specification & Data'!B$10*'1-Specification & Data'!B$20*('1-Simulation'!F60^2-'1-Specification & Data'!B$21^2))/2 -> 35.242869 | M60: =Q60*I60 -> -472.65602 | N60: ='1-Specification & Data'!B$25*'1-Specification & Data'!B$18*8.91 -> 906.81207 | O60: =K60+L60+M60+N60 -> 469.39892 | P60: =IF(O60>=0,O60,IF(O60<0,-O60)) -> 469.39892 | Q60: =IF(J60=1,'1-Specification & Data'!B$52,IF('1-Simulation'!J60=2,'1-Specification & Data'!B$53,IF('1-Simulation'!J60=3,'1-Specification & Data'!B$54))) -> 704.86877 | R60: =(0.5*'1-Specification & Data'!B$18*'1-Simulation'!F60^2)/1000 -> 26.243951 | S60: =(Q60*9.81*T60)/1000 -> 0 | T60: 0 | U60: =O60*'1-Specification & Data'!B$14*0.9 -> 124.57125
C61: =C60+1 -> 59 | D61: 19.8 | E61: =F61*3.6 -> 31.864958 | F61: =D61/2.23694 -> 8.8513773 | G61: =G60+((F61+F60)/2) -> 473.90632 | H61: =(F61+F60)/2 -> 8.8960813 | I61: =(H61-F60)*2 -> -0.089407852 | J61: =IF(D61<=10,1,IF(AND(D61>10,D61<=20),2,IF(D61>20,3))) -> 2 | K61: 0 | L61: =('1-Specification & Data'!B$22*'1-Specification & Data'!B$10*'1-Specification & Data'!B$20*('1-Simulation'!F61^2-'1-Specification & Data'!B$21^2))/2 -> 34.495012 | M61: =Q61*I61 -> -63.020802 | N61: ='1-Specification & Data'!B$25*'1-Specification & Data'!B$18*8.91 -> 906.81207 | O61: =K61+L61+M61+N61 -> 878.28628 | P61: =IF(O61>=0,O61,IF(O61<0,-O61)) -> 878.28628 | Q61: =IF(J61=1,'1-Specification & Data'!B$52,IF('1-Simulation'!J61=2,'1-Specification & Data'!B$53,IF('1-Simulation'!J61=3,'1-Specification & Data'!B$54))) -> 704.86877 | R61: =(0.5*'1-Specification & Data'!B$18*'1-Simulation'!F61^2)/1000 -> 25.721696 | S61: =(Q61*9.81*T61)/1000 -> 0 | T61: 0 | U61: =O61*'1-Specification & Data'!B$14*0.9 -> 233.08367
C62: =C61+1 -> 60 | D62: 19 | E62: =F62*3.6 -> 30.577485 | F62: =D62/2.23694 -> 8.4937459 | G62: =G61+((F62+F61)/2) -> 482.57888 | H62: =(F62+F61)/2 -> 8.6725616 | I62: =(H62-F61)*2 -> -0.35763141 | J62: =IF(D62<=10,1,IF(AND(D62>10,D62<=20),2,IF(D62>20,3))) -> 2 | K62: 0 | L62: =('1-Specification & Data'!B$22*'1-Specification & Data'!B$10*'1-Specification & Data'!B$20*('1-Simulation'!F62^2-'1-Specification & Data'!B$21^2))/2 -> 31.578745 | M62: =Q62*I62 -> -252.08321 | N62: ='1-Specification & Data'!B$25*'1-Specification & Data'!B$18*8.91 -> 906.81207 | O62: =K62+L62+M62+N62 -> 686.30761 | P62: =IF(O62>=0,O62,IF(O62<0,-O62)) -> 686.30761 | Q62: =IF(J62=1,'1-Specification & Data'!B$52,IF('1-Simulation'!J62=2,'1-Specification & Data'!B$53,IF('1-Simulation'!J62=3,'1-Specification & Data'!B$54))) -> 704.86877 | R62: =(0.5*'1-Specification & Data'!B$18*'1-Simulation'!F62^2)/1000 -> 23.685166 | S62: =(Q62*9.81*T62)/1000 -> 0 | T62: 0 | U62: =O62*'1-Specification & Data'!B$14*0.9 -> 182.13548
C63: =C62+1 -> 61 | D63: 18 | E63: =F63*3.6 -> 28.968144 | F63: =D63/2.23694 -> 8.0467067 | G63: =G62+((F63+F62)/2) -> 490.84911 | H63: =(F63+F62)/2 -> 8.2702263 | I63: =(H63-F62)*2 -> -0.44703926 | J63: =IF(D63<=10,1,IF(AND(D63>10,D63<=20),2,IF(D63>20,3))) -> 2 | K63: 0 | L63: =('1-Specification & Data'!B$22*'1-Specification & Data'!B$10*'1-Specification & Data'!B$20*('1-Simulation'!F63^2-'1-Specification & Data'!B$21^2))/2 -> 28.102525 | M63: =Q63*I63 -> -315.10401 | N63: ='1-Specification & Data'!B$25*'1-Specification & Data'!B$18*8.91 -> 906.81207 | O63: =K63+L63+M63+N63 -> 619.81058 | P63: =IF(O63>=0,O63,IF(O63<0,-O63)) -> 619.81058 | Q63: =IF(J63=1,'1-Specification & Data'!B$52,IF('1-Simulation'!J63=2,'1-Specification & Data'!B$53,IF('1-Simulation'!J63=3,'1-Specification & Data'!B$54))) -> 704.86877 | R63: =(0.5*'1-Specification & Data'!B$18*'1-Simulation'!F63^2)/1000 -> 21.2576 | S63: =(Q63*9.81*T63)/1000 -> 0 | T63: 0 | U63: =O63*'1-Specification & Data'!B$14*0.9 -> 164.48819
B64: Water splash finish | C64: =C63+1 -> 62 | D64: 16.5 | E64: =F64*3.6 -> 26.554132 | F64: =D64/2.23694 -> 7.3761478 | G64: =G63+((F64+F63)/2) -> 498.56053 | H64: =(F64+F63)/2 -> 7.7114272 | I64: =(H64-F63)*2 -> -0.67055889 | J64: =IF(D64<=10,1,IF(AND(D64>10,D64<=20),2,IF(D64>20,3))) -> 2 | K64: 0 | L64: =('1-Specification & Data'!B$22*'1-Specification & Data'!B$10*'1-Specification & Data'!B$20*('1-Simulation'!F64^2-'1-Specification & Data'!B$21^2))/2 -> 23.240515 | M64: =Q64*I64 -> -472.65602 | N64: ='1-Specification & Data'!B$25*'1-Specification & Data'!B$18*8.91 -> 906.81207 | O64: =K64+L64+M64+N64 -> 457.39657 | P64: =IF(O64>=0,O64,IF(O64<0,-O64)) -> 457.39657 | Q64: =IF(J64=1,'1-Specification & Data'!B$52,IF('1-Simulation'!J64=2,'1-Specification & Data'!B$53,IF('1-Simulation'!J64=3,'1-Specification & Data'!B$54))) -> 704.86877 | R64: =(0.5*'1-Specification & Data'!B$18*'1-Simulation'!F64^2)/1000 -> 17.862289 | S64: =(Q64*9.81*T64)/1000 -> 0 | T64: 0 | U64: =O64*'1-Specification & Data'!B$14*0.9 -> 121.38601
C65: =C64+1 -> 63 | D65: 16 | E65: =F65*3.6 -> 25.749461 | F65: =D65/2.23694 -> 7.1526281 | G65: =G64+((F65+F64)/2) -> 505.82492 | H65: =(F65+F64)/2 -> 7.264388 | I65: =(H65-F64)*2 -> -0.22351963 | J65: =IF(D65<=10,1,IF(AND(D65>10,D65<=20),2,IF(D65>20,3))) -> 2 | K65: 0 | L65: =('1-Specification & Data'!B$22*'1-Specification & Data'!B$10*'1-Specification & Data'!B$20*('1-Simulation'!F65^2-'1-Specification & Data'!B$21^2))/2 -> 21.713796 | M65: =Q65*I65 -> -157.55201 | N65: ='1-Specification & Data'!B$23*'1-Specification & Data'!B$18*8.91 -> 76.055206 | O65: =K65+L65+M65+N65 -> -59.783003 | P65: =IF(O65>=0,O65,IF(O65<0,-O65)) -> 59.783003 | Q65: =IF(J65=1,'1-Specification & Data'!B$52,IF('1-Simulation'!J65=2,'1-Specification & Data'!B$53,IF('1-Simulation'!J65=3,'1-Specification & Data'!B$54))) -> 704.86877 | R65: =(0.5*'1-Specification & Data'!B$18*'1-Simulation'!F65^2)/1000 -> 16.796128 | S65: =(Q65*9.81*T65)/1000 -> 0 | T65: 0 | U65: =O65*'1-Specification & Data'!B$14*0.9 -> -15.865489
C66: =C65+1 -> 64 | D66: 15.5 | E66: =F66*3.6 -> 24.944791 | F66: =D66/2.23694 -> 6.9291085 | G66: =G65+((F66+F65)/2) -> 512.86579 | H66: =(F66+F65)/2 -> 7.0408683 | I66: =(H66-F65)*2 -> -0.22351963 | J66: =IF(D66<=10,1,IF(AND(D66>10,D66<=20),2,IF(D66>20,3))) -> 2 | K66: 0 | L66: =('1-Specification & Data'!B$22*'1-Specification & Data'!B$10*'1-Specification & Data'!B$20*('1-Simulation'!F66^2-'1-Specification & Data'!B$21^2))/2 -> 20.234054 | M66: =Q66*I66 -> -157.55201 | N66: ='1-Specification & Data'!B$23*'1-Specification & Data'!B$18*8.91 -> 76.055206 | O66: =K66+L66+M66+N66 -> -61.262746 | P66: =IF(O66>=0,O66,IF(O66<0,-O66)) -> 61.262746 | Q66: =IF(J66=1,'1-Specification & Data'!B$52,IF('1-Simulation'!J66=2,'1-Specification & Data'!B$53,IF('1-Simulation'!J66=3,'1-Specification & Data'!B$54))) -> 704.86877 | R66: =(0.5*'1-Specification & Data'!B$18*'1-Simulation'!F66^2)/1000 -> 15.762773 | S66: =(Q66*9.81*T66)/1000 -> 0 | T66: 0 | U66: =O66*'1-Specification & Data'!B$14*0.9 -> -16.25819
B67: T2 start | C67: =C66+1 -> 65 | D67: 15 | E67: =F67*3.6 -> 24.14012 | F67: =D67/2.23694 -> 6.7055889 | G67: =G66+((F67+F66)/2) -> 519.68314 | H67: =(F67+F66)/2 -> 6.8173487 | I67: =(H67-F66)*2 -> -0.22351963 | J67: =IF(D67<=10,1,IF(AND(D67>10,D67<=20),2,IF(D67>20,3))) -> 2 | K67: 0 | L67: =('1-Specification & Data'!B$22*'1-Specification & Data'!B$10*'1-Specification & Data'!B$20*('1-Simulation'!F67^2-'1-Specification & Data'!B$21^2))/2 -> 18.801287 | M67: =Q67*I67 -> -157.55201 | N67: ='1-Specification & Data'!B$23*'1-Specification & Data'!B$18*8.91 -> 76.055206 | O67: =K67+L67+M67+N67 -> -62.695512 | P67: =IF(O67>=0,O67,IF(O67<0,-O67)) -> 62.695512 | Q67: =IF(J67=1,'1-Specification & Data'!B$52,IF('1-Simulation'!J67=2,'1-Specification & Data'!B$53,IF('1-Simulation'!J67=3,'1-Specification & Data'!B$54))) -> 704.86877 | R67: =(0.5*'1-Specification & Data'!B$18*'1-Simulation'!F67^2)/1000 -> 14.762222 | S67: =(Q67*9.81*T67)/1000 -> 0 | T67: 0 | U67: =O67*'1-Specification & Data'!B$14*0.9 -> -16.638424
C68: =C67+1 -> 66 | D68: 15 | E68: =F68*3.6 -> 24.14012 | F68: =D68/2.23694 -> 6.7055889 | G68: =G67+((F68+F67)/2) -> 526.38873 | H68: =(F68+F67)/2 -> 6.7055889 | I68: =(H68-F67)*2 -> 0 | J68: =IF(D68<=10,1,IF(AND(D68>10,D68<=20),2,IF(D68>20,3))) -> 2 | K68: 0 | L68: =('1-Specification & Data'!B$22*'1-Specification & Data'!B$10*'1-Specification & Data'!B$20*('1-Simulation'!F68^2-'1-Specification & Data'!B$21^2))/2 -> 18.801287 | M68: =Q68*I68 -> 0 | N68: ='1-Specification & Data'!B$23*'1-Specification & Data'!B$18*8.91 -> 76.055206 | O68: =K68+L68+M68+N68 -> 94.856493 | P68: =IF(O68>=0,O68,IF(O68<0,-O68)) -> 94.856493 | Q68: =IF(J68=1,'1-Specification & Data'!B$52,IF('1-Simulation'!J68=2,'1-Specification & Data'!B$53,IF('1-Simulation'!J68=3,'1-Specification & Data'!B$54))) -> 704.86877 | R68: =(0.5*'1-Specification & Data'!B$18*'1-Simulation'!F68^2)/1000 -> 14.762222 | S68: =(Q68*9.81*T68)/1000 -> 0 | T68: 0 | U68: =O68*'1-Specification & Data'!B$14*0.9 -> 25.173454
C69: =C68+1 -> 67 | D69: 15 | E69: =F69*3.6 -> 24.14012 | F69: =D69/2.23694 -> 6.7055889 | G69: =G68+((F69+F68)/2) -> 533.09432 | H69: =(F69+F68)/2 -> 6.7055889 | I69: =(H69-F68)*2 -> 0 | J69: =IF(D69<=10,1,IF(AND(D69>10,D69<=20),2,IF(D69>20,3))) -> 2 | K69: 0 | L69: =('1-Specification & Data'!B$22*'1-Specification & Data'!B$10*'1-Specification & Data'!B$20*('1-Simulation'!F69^2-'1-Specification & Data'!B$21^2))/2 -> 18.801287 | M69: =Q69*I69 -> 0 | N69: ='1-Specification & Data'!B$23*'1-Specification & Data'!B$18*8.91 -> 76.055206 | O69: =K69+L69+M69+N69 -> 94.856493 | P69: =IF(O69>=0,O69,IF(O69<0,-O69)) -> 94.856493 | Q69: =IF(J69=1,'1-Specification & Data'!B$52,IF('1-Simulation'!J69=2,'1-Specification & Data'!B$53,IF('1-Simulation'!J69=3,'1-Specification & Data'!B$54))) -> 704.86877 | R69: =(0.5*'1-Specification & Data'!B$18*'1-Simulation'!F69^2)/1000 -> 14.762222 | S69: =(Q69*9.81*T69)/1000 -> 0 | T69: 0 | U69: =O69*'1-Specification & Data'!B$14*0.9 -> 25.173454
C70: =C69+1 -> 68 | D70: 15 | E70: =F70*3.6 -> 24.14012 | F70: =D70/2.23694 -> 6.7055889 | G70: =G69+((F70+F69)/2) -> 539.79991 | H70: =(F70+F69)/2 -> 6.7055889 | I70: =(H70-F69)*2 -> 0 | J70: =IF(D70<=10,1,IF(AND(D70>10,D70<=20),2,IF(D70>20,3))) -> 2 | K70: 0 | L70: =('1-Specification & Data'!B$22*'1-Specification & Data'!B$10*'1-Specification & Data'!B$20*('1-Simulation'!F70^2-'1-Specification & Data'!B$21^2))/2 -> 18.801287 | M70: =Q70*I70 -> 0 | N70: ='1-Specification & Data'!B$23*'1-Specification & Data'!B$18*8.91 -> 76.055206 | O70: =K70+L70+M70+N70 -> 94.856493 | P70: =IF(O70>=0,O70,IF(O70<0,-O70)) -> 94.856493 | Q70: =IF(J70=1,'1-Specification & Data'!B$52,IF('1-Simulation'!J70=2,'1-Specification & Data'!B$53,IF('1-Simulation'!J70=3,'1-Specification & Data'!B$54))) -> 704.86877 | R70: =(0.5*'1-Specification & Data'!B$18*'1-Simulation'!F70^2)/1000 -> 14.762222 | S70: =(Q70*9.81*T70)/1000 -> 0 | T70: 0 | U70: =O70*'1-Specification & Data'!B$14*0.9 -> 25.173454
C71: =C70+1 -> 69 | D71: 15 | E71: =F71*3.6 -> 24.14012 | F71: =D71/2.23694 -> 6.7055889 | G71: =G70+((F71+F70)/2) -> 546.50549 | H71: =(F71+F70)/2 -> 6.7055889 | I71: =(H71-F70)*2 -> 0 | J71: =IF(D71<=10,1,IF(AND(D71>10,D71<=20),2,IF(D71>20,3))) -> 2 | K71: 0 | L71: =('1-Specification & Data'!B$22*'1-Specification & Data'!B$10*'1-Specification & Data'!B$20*('1-Simulation'!F71^2-'1-Specification & Data'!B$21^2))/2 -> 18.801287 | M71: =Q71*I71 -> 0 | N71: ='1-Specification & Data'!B$23*'1-Specification & Data'!B$18*8.91 -> 76.055206 | O71: =K71+L71+M71+N71 -> 94.856493 | P71: =IF(O71>=0,O71,IF(O71<0,-O71)) -> 94.856493 | Q71: =IF(J71=1,'1-Specification & Data'!B$52,IF('1-Simulation'!J71=2,'1-Specification & Data'!B$53,IF('1-Simulation'!J71=3,'1-Specification & Data'!B$54))) -> 704.86877 | R71: =(0.5*'1-Specification & Data'!B$18*'1-Simulation'!F71^2)/1000 -> 14.762222 | S71: =(Q71*9.81*T71)/1000 -> 0 | T71: 0 | U71: =O71*'1-Specification & Data'!B$14*0.9 -> 25.173454
C72: =C71+1 -> 70 | D72: 15 | E72: =F72*3.6 -> 24.14012 | F72: =D72/2.23694 -> 6.7055889 | G72: =G71+((F72+F71)/2) -> 553.21108 | H72: =(F72+F71)/2 -> 6.7055889 | I72: =(H72-F71)*2 -> 0 | J72: =IF(D72<=10,1,IF(AND(D72>10,D72<=20),2,IF(D72>20,3))) -> 2 | K72: 0 | L72: =('1-Specification & Data'!B$22*'1-Specification & Data'!B$10*'1-Specification & Data'!B$20*('1-Simulation'!F72^2-'1-Specification & Data'!B$21^2))/2 -> 18.801287 | M72: =Q72*I72 -> 0 | N72: ='1-Specification & Data'!B$23*'1-Specification & Data'!B$18*8.91 -> 76.055206 | O72: =K72+L72+M72+N72 -> 94.856493 | P72: =IF(O72>=0,O72,IF(O72<0,-O72)) -> 94.856493 | Q72: =IF(J72=1,'1-Specification & Data'!B$52,IF('1-Simulation'!J72=2,'1-Specification & Data'!B$53,IF('1-Simulation'!J72=3,'1-Specification & Data'!B$54))) -> 704.86877 | R72: =(0.5*'1-Specification & Data'!B$18*'1-Simulation'!F72^2)/1000 -> 14.762222 | S72: =(Q72*9.81*T72)/1000 -> 0 | T72: 0 | U72: =O72*'1-Specification & Data'!B$14*0.9 -> 25.173454
C73: =C72+1 -> 71 | D73: 15 | E73: =F73*3.6 -> 24.14012 | F73: =D73/2.23694 -> 6.7055889 | G73: =G72+((F73+F72)/2) -> 559.91667 | H73: =(F73+F72)/2 -> 6.7055889 | I73: =(H73-F72)*2 -> 0 | J73: =IF(D73<=10,1,IF(AND(D73>10,D73<=20),2,IF(D73>20,3))) -> 2 | K73: 0 | L73: =('1-Specification & Data'!B$22*'1-Specification & Data'!B$10*'1-Specification & Data'!B$20*('1-Simulation'!F73^2-'1-Specification & Data'!B$21^2))/2 -> 18.801287 | M73: =Q73*I73 -> 0 | N73: ='1-Specification & Data'!B$23*'1-Specification & Data'!B$18*8.91 -> 76.055206 | O73: =K73+L73+M73+N73 -> 94.856493 | P73: =IF(O73>=0,O73,IF(O73<0,-O73)) -> 94.856493 | Q73: =IF(J73=1,'1-Specification & Data'!B$52,IF('1-Simulation'!J73=2,'1-Specification & Data'!B$53,IF('1-Simulation'!J73=3,'1-Specification & Data'!B$54))) -> 704.86877 | R73: =(0.5*'1-Specification & Data'!B$18*'1-Simulation'!F73^2)/1000 -> 14.762222 | S73: =(Q73*9.81*T73)/1000 -> 0 | T73: 0 | U73: =O73*'1-Specification & Data'!B$14*0.9 -> 25.173454
C74: =C73+1 -> 72 | D74: 15 | E74: =F74*3.6 -> 24.14012 | F74: =D74/2.23694 -> 6.7055889 | G74: =G73+((F74+F73)/2) -> 566.62226 | H74: =(F74+F73)/2 -> 6.7055889 | I74: =(H74-F73)*2 -> 0 | J74: =IF(D74<=10,1,IF(AND(D74>10,D74<=20),2,IF(D74>20,3))) -> 2 | K74: 0 | L74: =('1-Specification & Data'!B$22*'1-Specification & Data'!B$10*'1-Specification & Data'!B$20*('1-Simulation'!F74^2-'1-Specification & Data'!B$21^2))/2 -> 18.801287 | M74: =Q74*I74 -> 0 | N74: ='1-Specification & Data'!B$23*'1-Specification & Data'!B$18*8.91 -> 76.055206 | O74: =K74+L74+M74+N74 -> 94.856493 | P74: =IF(O74>=0,O74,IF(O74<0,-O74)) -> 94.856493 | Q74: =IF(J74=1,'1-Specification & Data'!B$52,IF('1-Simulation'!J74=2,'1-Specification & Data'!B$53,IF('1-Simulation'!J74=3,'1-Specification & Data'!B$54))) -> 704.86877 | R74: =(0.5*'1-Specification & Data'!B$18*'1-Simulation'!F74^2)/1000 -> 14.762222 | S74: =(Q74*9.81*T74)/1000 -> 0 | T74: 0 | U74: =O74*'1-Specification & Data'!B$14*0.9 -> 25.173454
C75: =C74+1 -> 73 | D75: 15 | E75: =F75*3.6 -> 24.14012 | F75: =D75/2.23694 -> 6.7055889 | G75: =G74+((F75+F74)/2) -> 573.32785 | H75: =(F75+F74)/2 -> 6.7055889 | I75: =(H75-F74)*2 -> 0 | J75: =IF(D75<=10,1,IF(AND(D75>10,D75<=20),2,IF(D75>20,3))) -> 2 | K75: 0 | L75: =('1-Specification & Data'!B$22*'1-Specification & Data'!B$10*'1-Specification & Data'!B$20*('1-Simulation'!F75^2-'1-Specification & Data'!B$21^2))/2 -> 18.801287 | M75: =Q75*I75 -> 0 | N75: ='1-Specification & Data'!B$23*'1-Specification & Data'!B$18*8.91 -> 76.055206 | O75: =K75+L75+M75+N75 -> 94.856493 | P75: =IF(O75>=0,O75,IF(O75<0,-O75)) -> 94.856493 | Q75: =IF(J75=1,'1-Specification & Data'!B$52,IF('1-Simulation'!J75=2,'1-Specification & Data'!B$53,IF('1-Simulation'!J75=3,'1-Specification & Data'!B$54))) -> 704.86877 | R75: =(0.5*'1-Specification & Data'!B$18*'1-Simulation'!F75^2)/1000 -> 14.762222 | S75: =(Q75*9.81*T75)/1000 -> 0 | T75: 0 | U75: =O75*'1-Specification & Data'!B$14*0.9 -> 25.173454
C76: =C75+1 -> 74 | D76: 15 | E76: =F76*3.6 -> 24.14012 | F76: =D76/2.23694 -> 6.7055889 | G76: =G75+((F76+F75)/2) -> 580.03344 | H76: =(F76+F75)/2 -> 6.7055889 | I76: =(H76-F75)*2 -> 0 | J76: =IF(D76<=10,1,IF(AND(D76>10,D76<=20),2,IF(D76>20,3))) -> 2 | K76: 0 | L76: =('1-Specification & Data'!B$22*'1-Specification & Data'!B$10*'1-Specification & Data'!B$20*('1-Simulation'!F76^2-'1-Specification & Data'!B$21^2))/2 -> 18.801287 | M76: =Q76*I76 -> 0 | N76: ='1-Specification & Data'!B$23*'1-Specification & Data'!B$18*8.91 -> 76.055206 | O76: =K76+L76+M76+N76 -> 94.856493 | P76: =IF(O76>=0,O76,IF(O76<0,-O76)) -> 94.856493 | Q76: =IF(J76=1,'1-Specification & Data'!B$52,IF('1-Simulation'!J76=2,'1-Specification & Data'!B$53,IF('1-Simulation'!J76=3,'1-Specification & Data'!B$54))) -> 704.86877 | R76: =(0.5*'1-Specification & Data'!B$18*'1-Simulation'!F76^2)/1000 -> 14.762222 | S76: =(Q76*9.81*T76)/1000 -> 0 | T76: 0 | U76: =O76*'1-Specification & Data'!B$14*0.9 -> 25.173454
C77: =C76+1 -> 75 | D77: 15 | E77: =F77*3.6 -> 24.14012 | F77: =D77/2.23694 -> 6.7055889 | G77: =G76+((F77+F76)/2) -> 586.73903 | H77: =(F77+F76)/2 -> 6.7055889 | I77: =(H77-F76)*2 -> 0 | J77: =IF(D77<=10,1,IF(AND(D77>10,D77<=20),2,IF(D77>20,3))) -> 2 | K77: 0 | L77: =('1-Specification & Data'!B$22*'1-Specification & Data'!B$10*'1-Specification & Data'!B$20*('1-Simulation'!F77^2-'1-Specification & Data'!B$21^2))/2 -> 18.801287 | M77: =Q77*I77 -> 0 | N77: ='1-Specification & Data'!B$23*'1-Specification & Data'!B$18*8.91 -> 76.055206 | O77: =K77+L77+M77+N77 -> 94.856493 | P77: =IF(O77>=0,O77,IF(O77<0,-O77)) -> 94.856493 | Q77: =IF(J77=1,'1-Specification & Data'!B$52,IF('1-Simulation'!J77=2,'1-Specification & Data'!B$53,IF('1-Simulation'!J77=3,'1-Specification & Data'!B$54))) -> 704.86877 | R77: =(0.5*'1-Specification & Data'!B$18*'1-Simulation'!F77^2)/1000 -> 14.762222 | S77: =(Q77*9.81*T77)/1000 -> 0 | T77: 0 | U77: =O77*'1-Specification & Data'!B$14*0.9 -> 25.173454
C78: =C77+1 -> 76 | D78: 15 | E78: =F78*3.6 -> 24.14012 | F78: =D78/2.23694 -> 6.7055889 | G78: =G77+((F78+F77)/2) -> 593.44462 | H78: =(F78+F77)/2 -> 6.7055889 | I78: =(H78-F77)*2 -> 0 | J78: =IF(D78<=10,1,IF(AND(D78>10,D78<=20),2,IF(D78>20,3))) -> 2 | K78: 0 | L78: =('1-Specification & Data'!B$22*'1-Specification & Data'!B$10*'1-Specification & Data'!B$20*('1-Simulation'!F78^2-'1-Specification & Data'!B$21^2))/2 -> 18.801287 | M78: =Q78*I78 -> 0 | N78: ='1-Specification & Data'!B$23*'1-Specification & Data'!B$18*8.91 -> 76.055206 | O78: =K78+L78+M78+N78 -> 94.856493 | P78: =IF(O78>=0,O78,IF(O78<0,-O78)) -> 94.856493 | Q78: =IF(J78=1,'1-Specification & Data'!B$52,IF('1-Simulation'!J78=2,'1-Specification & Data'!B$53,IF('1-Simulation'!J78=3,'1-Specification & Data'!B$54))) -> 704.86877 | R78: =(0.5*'1-Specification & Data'!B$18*'1-Simulation'!F78^2)/1000 -> 14.762222 | S78: =(Q78*9.81*T78)/1000 -> 0 | T78: 0 | U78: =O78*'1-Specification & Data'!B$14*0.9 -> 25.173454
C79: =C78+1 -> 77 | D79: 15 | E79: =F79*3.6 -> 24.14012 | F79: =D79/2.23694 -> 6.7055889 | G79: =G78+((F79+F78)/2) -> 600.15021 | H79: =(F79+F78)/2 -> 6.7055889 | I79: =(H79-F78)*2 -> 0 | J79: =IF(D79<=10,1,IF(AND(D79>10,D79<=20),2,IF(D79>20,3))) -> 2 | K79: 0 | L79: =('1-Specification & Data'!B$22*'1-Specification & Data'!B$10*'1-Specification & Data'!B$20*('1-Simulation'!F79^2-'1-Specification & Data'!B$21^2))/2 -> 18.801287 | M79: =Q79*I79 -> 0 | N79: ='1-Specification & Data'!B$23*'1-Specification & Data'!B$18*8.91 -> 76.055206 | O79: =K79+L79+M79+N79 -> 94.856493 | P79: =IF(O79>=0,O79,IF(O79<0,-O79)) -> 94.856493 | Q79: =IF(J79=1,'1-Specification & Data'!B$52,IF('1-Simulation'!J79=2,'1-Specification & Data'!B$53,IF('1-Simulation'!J79=3,'1-Specification & Data'!B$54))) -> 704.86877 | R79: =(0.5*'1-Specification & Data'!B$18*'1-Simulation'!F79^2)/1000 -> 14.762222 | S79: =(Q79*9.81*T79)/1000 -> 0 | T79: 0 | U79: =O79*'1-Specification & Data'!B$14*0.9 -> 25.173454
... C81: =C80+1 -> 79 | D81: 15 | E81: =F81*3.6 -> 24.14012 | F81: =D81/2.23694 -> 6.7055889 | G81: =G80+((F81+F80)/2) -> 613.56138 | H81: =(F81+F80)/2 -> 6.7055889 | I81: =(H81-F80)*2 -> 0 | J81: =IF(D81<=10,1,IF(AND(D81>10,D81<=20),2,IF(D81>20,3))) -> 2 | K81: 0 | L81: =('1-Specification & Data'!B$22*'1-Specification & Data'!B$10*'1-Specification & Data'!B$20*('1-Simulation'!F81^2-'1-Specification & Data'!B$21^2))/2 -> 18.801287 | M81: =Q81*I81 -> 0 | N81: ='1-Specification & Data'!B$23*'1-Specification & Data'!B$18*8.91 -> 76.055206 | O81: =K81+L81+M81+N81 -> 94.856493 | P81: =IF(O81>=0,O81,IF(O81<0,-O81)) -> 94.856493 | Q81: =IF(J81=1,'1-Specification & Data'!B$52,IF('1-Simulation'!J81=2,'1-Specification & Data'!B$53,IF('1-Simulation'!J81=3,'1-Specification & Data'!B$54))) -> 704.86877 | R81: =(0.5*'1-Specification & Data'!B$18*'1-Simulation'!F81^2)/1000 -> 14.762222 | S81: =(Q81*9.81*T81)/1000 -> 0 | T81: 0 | U81: =O81*'1-Specification & Data'!B$14*0.9 -> 25.173454
B82: T2 finish | C82: =C81+1 -> 80 | D82: 15 | E82: =F82*3.6 -> 24.14012 | F82: =D82/2.23694 -> 6.7055889 | G82: =G81+((F82+F81)/2) -> 620.26697 | H82: =(F82+F81)/2 -> 6.7055889 | I82: =(H82-F81)*2 -> 0 | J82: =IF(D82<=10,1,IF(AND(D82>10,D82<=20),2,IF(D82>20,3))) -> 2 | K82: 0 | L82: =('1-Specification & Data'!B$22*'1-Specification & Data'!B$10*'1-Specification & Data'!B$20*('1-Simulation'!F82^2-'1-Specification & Data'!B$21^2))/2 -> 18.801287 | M82: =Q82*I82 -> 0 | N82: ='1-Specification & Data'!B$23*'1-Specification & Data'!B$18*8.91 -> 76.055206 | O82: =K82+L82+M82+N82 -> 94.856493 | P82: =IF(O82>=0,O82,IF(O82<0,-O82)) -> 94.856493 | Q82: =IF(J82=1,'1-Specification & Data'!B$52,IF('1-Simulation'!J82=2,'1-Specification & Data'!B$53,IF('1-Simulation'!J82=3,'1-Specification & Data'!B$54))) -> 704.86877 | R82: =(0.5*'1-Specification & Data'!B$18*'1-Simulation'!F82^2)/1000 -> 14.762222 | S82: =(Q82*9.81*T82)/1000 -> 0 | T82: 0 | U82: =O82*'1-Specification & Data'!B$14*0.9 -> 25.173454
C83: =C82+1 -> 81 | D83: 17 | E83: =F83*3.6 -> 27.358803 | F83: =D83/2.23694 -> 7.5996674 | G83: =G82+((F83+F82)/2) -> 627.4196 | H83: =(F83+F82)/2 -> 7.1526281 | I83: =(H83-F82)*2 -> 0.89407852 | J83: =IF(D83<=10,1,IF(AND(D83>10,D83<=20),2,IF(D83>20,3))) -> 2 | K83: 0 | L83: =('1-Specification & Data'!B$22*'1-Specification & Data'!B$10*'1-Specification & Data'!B$20*('1-Simulation'!F83^2-'1-Specification & Data'!B$21^2))/2 -> 24.814209 | M83: =Q83*I83 -> 630.20802 | N83: ='1-Specification & Data'!B$23*'1-Specification & Data'!B$18*8.91 -> 76.055206 | O83: =K83+L83+M83+N83 -> 731.07744 | P83: =IF(O83>=0,O83,IF(O83<0,-O83)) -> 731.07744 | Q83: =IF(J83=1,'1-Specification & Data'!B$52,IF('1-Simulation'!J83=2,'1-Specification & Data'!B$53,IF('1-Simulation'!J83=3,'1-Specification & Data'!B$54))) -> 704.86877 | R83: =(0.5*'1-Specification & Data'!B$18*'1-Simulation'!F83^2)/1000 -> 18.961254 | S83: =(Q83*9.81*T83)/1000 -> 0 | T83: 0 | U83: =O83*'1-Specification & Data'!B$14*0.9 -> 194.0167
C84: =C83+1 -> 82 | D84: 18.5 | E84: =F84*3.6 -> 29.772815 | F84: =D84/2.23694 -> 8.2702263 | G84: =G83+((F84+F83)/2) -> 635.35455 | H84: =(F84+F83)/2 -> 7.9349468 | I84: =(H84-F83)*2 -> 0.67055889 | J84: =IF(D84<=10,1,IF(AND(D84>10,D84<=20),2,IF(D84>20,3))) -> 2 | K84: 0 | L84: =('1-Specification & Data'!B$22*'1-Specification & Data'!B$10*'1-Specification & Data'!B$20*('1-Simulation'!F84^2-'1-Specification & Data'!B$21^2))/2 -> 29.817147 | M84: =Q84*I84 -> 472.65602 | N84: ='1-Specification & Data'!B$23*'1-Specification & Data'!B$18*8.91 -> 76.055206 | O84: =K84+L84+M84+N84 -> 578.52837 | P84: =IF(O84>=0,O84,IF(O84<0,-O84)) -> 578.52837 | Q84: =IF(J84=1,'1-Specification & Data'!B$52,IF('1-Simulation'!J84=2,'1-Specification & Data'!B$53,IF('1-Simulation'!J84=3,'1-Specification & Data'!B$54))) -> 704.86877 | R84: =(0.5*'1-Specification & Data'!B$18*'1-Simulation'!F84^2)/1000 -> 22.45498 | S84: =(Q84*9.81*T84)/1000 -> 0 | T84: 0 | U84: =O84*'1-Specification & Data'!B$14*0.9 -> 153.53253
C85: =C84+1 -> 83 | D85: 20 | E85: =F85*3.6 -> 32.186827 | F85: =D85/2.23694 -> 8.9407852 | G85: =G84+((F85+F84)/2) -> 643.96005 | H85: =(F85+F84)/2 -> 8.6055057 | I85: =(H85-F84)*2 -> 0.67055889 | J85: =IF(D85<=10,1,IF(AND(D85>10,D85<=20),2,IF(D85>20,3))) -> 2 | K85: 0 | L85: =('1-Specification & Data'!B$22*'1-Specification & Data'!B$10*'1-Specification & Data'!B$20*('1-Simulation'!F85^2-'1-Specification & Data'!B$21^2))/2 -> 35.242869 | M85: =Q85*I85 -> 472.65602 | N85: ='1-Specification & Data'!B$23*'1-Specification & Data'!B$18*8.91 -> 76.055206 | O85: =K85+L85+M85+N85 -> 583.95409 | P85: =IF(O85>=0,O85,IF(O85<0,-O85)) -> 583.95409 | Q85: =IF(J85=1,'1-Specification & Data'!B$52,IF('1-Simulation'!J85=2,'1-Specification & Data'!B$53,IF('1-Simulation'!J85=3,'1-Specification & Data'!B$54))) -> 704.86877 | R85: =(0.5*'1-Specification & Data'!B$18*'1-Simulation'!F85^2)/1000 -> 26.243951 | S85: =(Q85*9.81*T85)/1000 -> 0 | T85: 0 | U85: =O85*'1-Specification & Data'!B$14*0.9 -> 154.97243
C86: =C85+1 -> 84 | D86: 20.2 | E86: =F86*3.6 -> 32.508695 | F86: =D86/2.23694 -> 9.030193 | G86: =G85+((F86+F85)/2) -> 652.94554 | H86: =(F86+F85)/2 -> 8.9854891 | I86: =(H86-F85)*2 -> 0.089407852 | J86: =IF(D86<=10,1,IF(AND(D86>10,D86<=20),2,IF(D86>20,3))) -> 3 | K86: 0 | L86: =('1-Specification & Data'!B$22*'1-Specification & Data'!B$10*'1-Specification & Data'!B$20*('1-Simulation'!F86^2-'1-Specification & Data'!B$21^2))/2 -> 35.998243 | M86: =Q86*I86 -> 62.599237 | N86: ='1-Specification & Data'!B$23*'1-Specification & Data'!B$18*8.91 -> 76.055206 | O86: =K86+L86+M86+N86 -> 174.65269 | P86: =IF(O86>=0,O86,IF(O86<0,-O86)) -> 174.65269 | Q86: =IF(J86=1,'1-Specification & Data'!B$52,IF('1-Simulation'!J86=2,'1-Specification & Data'!B$53,IF('1-Simulation'!J86=3,'1-Specification & Data'!B$54))) -> 700.15369 | R86: =(0.5*'1-Specification & Data'!B$18*'1-Simulation'!F86^2)/1000 -> 26.771454 | S86: =(Q86*9.81*T86)/1000 -> 0 | T86: 0 | U86: =O86*'1-Specification & Data'!B$14*0.9 -> 46.350136
C87: =C86+1 -> 85 | D87: 21 | E87: =F87*3.6 -> 33.796168 | F87: =D87/2.23694 -> 9.3878244 | G87: =G86+((F87+F86)/2) -> 662.15455 | H87: =(F87+F86)/2 -> 9.2090087 | I87: =(H87-F86)*2 -> 0.35763141 | J87: =IF(D87<=10,1,IF(AND(D87>10,D87<=20),2,IF(D87>20,3))) -> 3 | K87: 0 | L87: =('1-Specification & Data'!B$22*'1-Specification & Data'!B$10*'1-Specification & Data'!B$20*('1-Simulation'!F87^2-'1-Specification & Data'!B$21^2))/2 -> 39.094897 | M87: =Q87*I87 -> 250.39695 | N87: ='1-Specification & Data'!B$23*'1-Specification & Data'!B$18*8.91 -> 76.055206 | O87: =K87+L87+M87+N87 -> 365.54705 | P87: =IF(O87>=0,O87,IF(O87<0,-O87)) -> 365.54705 | Q87: =IF(J87=1,'1-Specification & Data'!B$52,IF('1-Simulation'!J87=2,'1-Specification & Data'!B$53,IF('1-Simulation'!J87=3,'1-Specification & Data'!B$54))) -> 700.15369 | R87: =(0.5*'1-Specification & Data'!B$18*'1-Simulation'!F87^2)/1000 -> 28.933956 | S87: =(Q87*9.81*T87)/1000 -> 0 | T87: 0 | U87: =O87*'1-Specification & Data'!B$14*0.9 -> 97.010564
C88: =C87+1 -> 86 | D88: 22 | E88: =F88*3.6 -> 35.405509 | F88: =D88/2.23694 -> 9.8348637 | G88: =G87+((F88+F87)/2) -> 671.76589 | H88: =(F88+F87)/2 -> 9.6113441 | I88: =(H88-F87)*2 -> 0.44703926 | J88: =IF(D88<=10,1,IF(AND(D88>10,D88<=20),2,IF(D88>20,3))) -> 3 | K88: 0 | L88: =('1-Specification & Data'!B$22*'1-Specification & Data'!B$10*'1-Specification & Data'!B$20*('1-Simulation'!F88^2-'1-Specification & Data'!B$21^2))/2 -> 43.134829 | M88: =Q88*I88 -> 312.99619 | N88: ='1-Specification & Data'!B$23*'1-Specification & Data'!B$18*8.91 -> 76.055206 | O88: =K88+L88+M88+N88 -> 432.18622 | P88: =IF(O88>=0,O88,IF(O88<0,-O88)) -> 432.18622 | Q88: =IF(J88=1,'1-Specification & Data'!B$52,IF('1-Simulation'!J88=2,'1-Specification & Data'!B$53,IF('1-Simulation'!J88=3,'1-Specification & Data'!B$54))) -> 700.15369 | R88: =(0.5*'1-Specification & Data'!B$18*'1-Simulation'!F88^2)/1000 -> 31.75518 | S88: =(Q88*9.81*T88)/1000 -> 0 | T88: 0 | U88: =O88*'1-Specification & Data'!B$14*0.9 -> 114.69557
C89: =C88+1 -> 87 | D89: 23 | E89: =F89*3.6 -> 37.014851 | F89: =D89/2.23694 -> 10.281903 | G89: =G88+((F89+F88)/2) -> 681.82428 | H89: =(F89+F88)/2 -> 10.058383 | I89: =(H89-F88)*2 -> 0.44703926 | J89: =IF(D89<=10,1,IF(AND(D89>10,D89<=20),2,IF(D89>20,3))) -> 3 | K89: 0 | L89: =('1-Specification & Data'!B$22*'1-Specification & Data'!B$10*'1-Specification & Data'!B$20*('1-Simulation'!F89^2-'1-Specification & Data'!B$21^2))/2 -> 47.362664 | M89: =Q89*I89 -> 312.99619 | N89: ='1-Specification & Data'!B$23*'1-Specification & Data'!B$18*8.91 -> 76.055206 | O89: =K89+L89+M89+N89 -> 436.41406 | P89: =IF(O89>=0,O89,IF(O89<0,-O89)) -> 436.41406 | Q89: =IF(J89=1,'1-Specification & Data'!B$52,IF('1-Simulation'!J89=2,'1-Specification & Data'!B$53,IF('1-Simulation'!J89=3,'1-Specification & Data'!B$54))) -> 700.15369 | R89: =(0.5*'1-Specification & Data'!B$18*'1-Simulation'!F89^2)/1000 -> 34.707625 | S89: =(Q89*9.81*T89)/1000 -> 0 | T89: 0 | U89: =O89*'1-Specification & Data'!B$14*0.9 -> 115.81758
B90: slop 1 up | C90: =C89+1 -> 88 | D90: 23 | E90: =F90*3.6 -> 37.014851 | F90: =D90/2.23694 -> 10.281903 | G90: =G89+((F90+F89)/2) -> 692.10618 | H90: =(F90+F89)/2 -> 10.281903 | I90: =(H90-F89)*2 -> 0 | J90: =IF(D90<=10,1,IF(AND(D90>10,D90<=20),2,IF(D90>20,3))) -> 3 | K90: ='1-Specification & Data'!B$18*9.81*'1-Specification & Data'!L$13 -> 893.02876 | L90: =('1-Specification & Data'!B$22*'1-Specification & Data'!B$10*'1-Specification & Data'!B$20*('1-Simulation'!F90^2-'1-Specification & Data'!B$21^2))/2 -> 47.362664 | M90: =Q90*I90 -> 0 | N90: ='1-Specification & Data'!B$23*'1-Specification & Data'!B$18*8.91 -> 76.055206 | O90: =K90+L90+M90+N90 -> 1016.4466 | P90: =IF(O90>=0,O90,IF(O90<0,-O90)) -> 1016.4466 | Q90: =IF(J90=1,'1-Specification & Data'!B$52,IF('1-Simulation'!J90=2,'1-Specification & Data'!B$53,IF('1-Simulation'!J90=3,'1-Specification & Data'!B$54))) -> 700.15369 | R90: =(0.5*'1-Specification & Data'!B$18*'1-Simulation'!F90^2)/1000 -> 34.707625 | S90: =(Q90*9.81*T90)/1000 -> 0 | T90: 0 | U90: =O90*'1-Specification & Data'!B$14*0.9 -> 269.7493
B91: slop 1 up | C91: =C90+1 -> 89 | D91: 23 | E91: =F91*3.6 -> 37.014851 | F91: =D91/2.23694 -> 10.281903 | G91: =G90+((F91+F90)/2) -> 702.38808 | H91: =(F91+F90)/2 -> 10.281903 | I91: =(H91-F90)*2 -> 0 | J91: =IF(D91<=10,1,IF(AND(D91>10,D91<=20),2,IF(D91>20,3))) -> 3 | K91: ='1-Specification & Data'!B$18*9.81*'1-Specification & Data'!L$13 -> 893.02876 | L91: =('1-Specification & Data'!B$22*'1-Specification & Data'!B$10*'1-Specification & Data'!B$20*('1-Simulation'!F91^2-'1-Specification & Data'!B$21^2))/2 -> 47.362664 | M91: =Q91*I91 -> 0 | N91: ='1-Specification & Data'!B$23*'1-Specification & Data'!B$18*8.91 -> 76.055206 | O91: =K91+L91+M91+N91 -> 1016.4466 | P91: =IF(O91>=0,O91,IF(O91<0,-O91)) -> 1016.4466 | Q91: =IF(J91=1,'1-Specification & Data'!B$52,IF('1-Simulation'!J91=2,'1-Specification & Data'!B$53,IF('1-Simulation'!J91=3,'1-Specification & Data'!B$54))) -> 700.15369 | R91: =(0.5*'1-Specification & Data'!B$18*'1-Simulation'!F91^2)/1000 -> 34.707625 | S91: =(Q91*9.81*T91)/1000 -> 7.0264833 | T91: 1.023 | U91: =O91*'1-Specification & Data'!B$14*0.9 -> 269.7493
B92: slop 1 up | C92: =C91+1 -> 90 | D92: 23 | E92: =F92*3.6 -> 37.014851 | F92: =D92/2.23694 -> 10.281903 | G92: =G91+((F92+F91)/2) -> 712.66999 | H92: =(F92+F91)/2 -> 10.281903 | I92: =(H92-F91)*2 -> 0 | J92: =IF(D92<=10,1,IF(AND(D92>10,D92<=20),2,IF(D92>20,3))) -> 3 | K92: ='1-Specification & Data'!B$18*9.81*'1-Specification & Data'!L$13 -> 893.02876 | L92: =('1-Specification & Data'!B$22*'1-Specification & Data'!B$10*'1-Specification & Data'!B$20*('1-Simulation'!F92^2-'1-Specification & Data'!B$21^2))/2 -> 47.362664 | M92: =Q92*I92 -> 0 | N92: ='1-Specification & Data'!B$23*'1-Specification & Data'!B$18*8.91 -> 76.055206 | O92: =K92+L92+M92+N92 -> 1016.4466 | P92: =IF(O92>=0,O92,IF(O92<0,-O92)) -> 1016.4466 | Q92: =IF(J92=1,'1-Specification & Data'!B$52,IF('1-Simulation'!J92=2,'1-Specification & Data'!B$53,IF('1-Simulation'!J92=3,'1-Specification & Data'!B$54))) -> 700.15369 | R92: =(0.5*'1-Specification & Data'!B$18*'1-Simulation'!F92^2)/1000 -> 34.707625 | S92: =(Q92*9.81*T92)/1000 -> 14.052967 | T92: =T91*2 -> 2.046 | U92: =O92*'1-Specification & Data'!B$14*0.9 -> 269.7493
B93: slop 1 up | C93: =C92+1 -> 91 | D93: 23 | E93: =F93*3.6 -> 37.014851 | F93: =D93/2.23694 -> 10.281903 | G93: =G92+((F93+F92)/2) -> 722.95189 | H93: =(F93+F92)/2 -> 10.281903 | I93: =(H93-F92)*2 -> 0 | J93: =IF(D93<=10,1,IF(AND(D93>10,D93<=20),2,IF(D93>20,3))) -> 3 | K93: ='1-Specification & Data'!B$18*9.81*'1-Specification & Data'!L$13 -> 893.02876 | L93: =('1-Specification & Data'!B$22*'1-Specification & Data'!B$10*'1-Specification & Data'!B$20*('1-Simulation'!F93^2-'1-Specification & Data'!B$21^2))/2 -> 47.362664 | M93: =Q93*I93 -> 0 | N93: ='1-Specification & Data'!B$23*'1-Specification & Data'!B$18*8.91 -> 76.055206 | O93: =K93+L93+M93+N93 -> 1016.4466 | P93: =IF(O93>=0,O93,IF(O93<0,-O93)) -> 1016.4466 | Q93: =IF(J93=1,'1-Specification & Data'!B$52,IF('1-Simulation'!J93=2,'1-Specification & Data'!B$53,IF('1-Simulation'!J93=3,'1-Specification & Data'!B$54))) -> 700.15369 | R93: =(0.5*'1-Specification & Data'!B$18*'1-Simulation'!F93^2)/1000 -> 34.707625 | S93: =(Q93*9.81*T93)/1000 -> 21.07945 | T93: =T91*3 -> 3.069 | U93: =O93*'1-Specification & Data'!B$14*0.9 -> 269.7493
B94: slop 1 up | C94: =C93+1 -> 92 | D94: 23 | E94: =F94*3.6 -> 37.014851 | F94: =D94/2.23694 -> 10.281903 | G94: =G93+((F94+F93)/2) -> 733.23379 | H94: =(F94+F93)/2 -> 10.281903 | I94: =(H94-F93)*2 -> 0 | J94: =IF(D94<=10,1,IF(AND(D94>10,D94<=20),2,IF(D94>20,3))) -> 3 | K94: ='1-Specification & Data'!B$18*9.81*'1-Specification & Data'!L$13 -> 893.02876 | L94: =('1-Specification & Data'!B$22*'1-Specification & Data'!B$10*'1-Specification & Data'!B$20*('1-Simulation'!F94^2-'1-Specification & Data'!B$21^2))/2 -> 47.362664 | M94: =Q94*I94 -> 0 | N94: ='1-Specification & Data'!B$23*'1-Specification & Data'!B$18*8.91 -> 76.055206 | O94: =K94+L94+M94+N94 -> 1016.4466 | P94: =IF(O94>=0,O94,IF(O94<0,-O94)) -> 1016.4466 | Q94: =IF(J94=1,'1-Specification & Data'!B$52,IF('1-Simulation'!J94=2,'1-Specification & Data'!B$53,IF('1-Simulation'!J94=3,'1-Specification & Data'!B$54))) -> 700.15369 | R94: =(0.5*'1-Specification & Data'!B$18*'1-Simulation'!F94^2)/1000 -> 34.707625 | S94: =(Q94*9.81*T94)/1000 -> 28.105933 | T94: =T91*4 -> 4.092 | U94: =O94*'1-Specification & Data'!B$14*0.9 -> 269.7493
C95: =C94+1 -> 93 | D95: 22 | E95: =F95*3.6 -> 35.405509 | F95: =D95/2.23694 -> 9.8348637 | G95: =G94+((F95+F94)/2) -> 743.29218 | H95: =(F95+F94)/2 -> 10.058383 | I95: =(H95-F94)*2 -> -0.44703926 | J95: =IF(D95<=10,1,IF(AND(D95>10,D95<=20),2,IF(D95>20,3))) -> 3 | K95: 0 | L95: =('1-Specification & Data'!B$22*'1-Specification & Data'!B$10*'1-Specification & Data'!B$20*('1-Simulation'!F95^2-'1-Specification & Data'!B$21^2))/2 -> 43.134829 | M95: =Q95*I95 -> -312.99619 | N95: ='1-Specification & Data'!B$23*'1-Specification & Data'!B$18*8.91 -> 76.055206 | O95: =K95+L95+M95+N95 -> -193.80615 | P95: =IF(O95>=0,O95,IF(O95<0,-O95)) -> 193.80615 | Q95: =IF(J95=1,'1-Specification & Data'!B$52,IF('1-Simulation'!J95=2,'1-Specification & Data'!B$53,IF('1-Simulation'!J95=3,'1-Specification & Data'!B$54))) -> 700.15369 | R95: =(0.5*'1-Specification & Data'!B$18*'1-Simulation'!F95^2)/1000 -> 31.75518 | S95: =(Q95*9.81*T95)/1000 -> 28.105933 | T95: 4.092 | U95: =O95*'1-Specification & Data'!B$14*0.9 -> -51.433171
C96: =C95+1 -> 94 | D96: 21 | E96: =F96*3.6 -> 33.796168 | F96: =D96/2.23694 -> 9.3878244 | G96: =G95+((F96+F95)/2) -> 752.90352 | H96: =(F96+F95)/2 -> 9.6113441 | I96: =(H96-F95)*2 -> -0.44703926 | J96: =IF(D96<=10,1,IF(AND(D96>10,D96<=20),2,IF(D96>20,3))) -> 3 | K96: 0 | L96: =('1-Specification & Data'!B$22*'1-Specification & Data'!B$10*'1-Specification & Data'!B$20*('1-Simulation'!F96^2-'1-Specification & Data'!B$21^2))/2 -> 39.094897 | M96: =Q96*I96 -> -312.99619 | N96: ='1-Specification & Data'!B$23*'1-Specification & Data'!B$18*8.91 -> 76.055206 | O96: =K96+L96+M96+N96 -> -197.84608 | P96: =IF(O96>=0,O96,IF(O96<0,-O96)) -> 197.84608 | Q96: =IF(J96=1,'1-Specification & Data'!B$52,IF('1-Simulation'!J96=2,'1-Specification & Data'!B$53,IF('1-Simulation'!J96=3,'1-Specification & Data'!B$54))) -> 700.15369 | R96: =(0.5*'1-Specification & Data'!B$18*'1-Simulation'!F96^2)/1000 -> 28.933956 | S96: =(Q96*9.81*T96)/1000 -> 28.105933 | T96: 4.092 | U96: =O96*'1-Specification & Data'!B$14*0.9 -> -52.505307
C97: =C96+1 -> 95 | D97: 20 | E97: =F97*3.6 -> 32.186827 | F97: =D97/2.23694 -> 8.9407852 | G97: =G96+((F97+F96)/2) -> 762.06782 | H97: =(F97+F96)/2 -> 9.1643048 | I97: =(H97-F96)*2 -> -0.44703926 | J97: =IF(D97<=10,1,IF(AND(D97>10,D97<=20),2,IF(D97>20,3))) -> 2 | K97: 0 | L97: =('1-Specification & Data'!B$22*'1-Specification & Data'!B$10*'1-Specification & Data'!B$20*('1-Simulation'!F97^2-'1-Specification & Data'!B$21^2))/2 -> 35.242869 | M97: =Q97*I97 -> -315.10401 | N97: ='1-Specification & Data'!B$23*'1-Specification & Data'!B$18*8.91 -> 76.055206 | O97: =K97+L97+M97+N97 -> -203.80594 | P97: =IF(O97>=0,O97,IF(O97<0,-O97)) -> 203.80594 | Q97: =IF(J97=1,'1-Specification & Data'!B$52,IF('1-Simulation'!J97=2,'1-Specification & Data'!B$53,IF('1-Simulation'!J97=3,'1-Specification & Data'!B$54))) -> 704.86877 | R97: =(0.5*'1-Specification & Data'!B$18*'1-Simulation'!F97^2)/1000 -> 26.243951 | S97: =(Q97*9.81*T97)/1000 -> 28.295209 | T97: 4.092 | U97: =O97*'1-Specification & Data'!B$14*0.9 -> -54.08696
C98: =C97+1 -> 96 | D98: 19.8 | E98: =F98*3.6 -> 31.864958 | F98: =D98/2.23694 -> 8.8513773 | G98: =G97+((F98+F97)/2) -> 770.96391 | H98: =(F98+F97)/2 -> 8.8960813 | I98: =(H98-F97)*2 -> -0.089407852 | J98: =IF(D98<=10,1,IF(AND(D98>10,D98<=20),2,IF(D98>20,3))) -> 2 | K98: 0 | L98: =('1-Specification & Data'!B$22*'1-Specification & Data'!B$10*'1-Specification & Data'!B$20*('1-Simulation'!F98^2-'1-Specification & Data'!B$21^2))/2 -> 34.495012 | M98: =Q98*I98 -> -63.020802 | N98: ='1-Specification & Data'!B$23*'1-Specification & Data'!B$18*8.91 -> 76.055206 | O98: =K98+L98+M98+N98 -> 47.529416 | P98: =IF(O98>=0,O98,IF(O98<0,-O98)) -> 47.529416 | Q98: =IF(J98=1,'1-Specification & Data'!B$52,IF('1-Simulation'!J98=2,'1-Specification & Data'!B$53,IF('1-Simulation'!J98=3,'1-Specification & Data'!B$54))) -> 704.86877 | R98: =(0.5*'1-Specification & Data'!B$18*'1-Simulation'!F98^2)/1000 -> 25.721696 | S98: =(Q98*9.81*T98)/1000 -> 28.295209 | T98: 4.092 | U98: =O98*'1-Specification & Data'!B$14*0.9 -> 12.613576
C99: =C98+1 -> 97 | D99: 19 | E99: =F99*3.6 -> 30.577485 | F99: =D99/2.23694 -> 8.4937459 | G99: =G98+((F99+F98)/2) -> 779.63647 | H99: =(F99+F98)/2 -> 8.6725616 | I99: =(H99-F98)*2 -> -0.35763141 | J99: =IF(D99<=10,1,IF(AND(D99>10,D99<=20),2,IF(D99>20,3))) -> 2 | K99: 0 | L99: =('1-Specification & Data'!B$22*'1-Specification & Data'!B$10*'1-Specification & Data'!B$20*('1-Simulation'!F99^2-'1-Specification & Data'!B$21^2))/2 -> 31.578745 | M99: =Q99*I99 -> -252.08321 | N99: ='1-Specification & Data'!B$23*'1-Specification & Data'!B$18*8.91 -> 76.055206 | O99: =K99+L99+M99+N99 -> -144.44926 | P99: =IF(O99>=0,O99,IF(O99<0,-O99)) -> 144.44926 | Q99: =IF(J99=1,'1-Specification & Data'!B$52,IF('1-Simulation'!J99=2,'1-Specification & Data'!B$53,IF('1-Simulation'!J99=3,'1-Specification & Data'!B$54))) -> 704.86877 | R99: =(0.5*'1-Specification & Data'!B$18*'1-Simulation'!F99^2)/1000 -> 23.685166 | S99: =(Q99*9.81*T99)/1000 -> 28.295209 | T99: 4.092 | U99: =O99*'1-Specification & Data'!B$14*0.9 -> -38.334611
C100: =C99+1 -> 98 | D100: 18 | E100: =F100*3.6 -> 28.968144 | F100: =D100/2.23694 -> 8.0467067 | G100: =G99+((F100+F99)/2) -> 787.90669 | H100: =(F100+F99)/2 -> 8.2702263 | I100: =(H100-F99)*2 -> -0.44703926 | J100: =IF(D100<=10,1,IF(AND(D100>10,D100<=20),2,IF(D100>20,3))) -> 2 | K100: 0 | L100: =('1-Specification & Data'!B$22*'1-Specification & Data'!B$10*'1-Specification & Data'!B$20*('1-Simulation'!F100^2-'1-Specification & Data'!B$21^2))/2 -> 28.102525 | M100: =Q100*I100 -> -315.10401 | N100: ='1-Specification & Data'!B$23*'1-Specification & Data'!B$18*8.91 -> 76.055206 | O100: =K100+L100+M100+N100 -> -210.94628 | P100: =IF(O100>=0,O100,IF(O100<0,-O100)) -> 210.94628 | Q100: =IF(J100=1,'1-Specification & Data'!B$52,IF('1-Simulation'!J100=2,'1-Specification & Data'!B$53,IF('1-Simulation'!J100=3,'1-Specification & Data'!B$54))) -> 704.86877 | R100: =(0.5*'1-Specification & Data'!B$18*'1-Simulation'!F100^2)/1000 -> 21.2576 | S100: =(Q100*9.81*T100)/1000 -> 28.295209 | T100: 4.092 | U100: =O100*'1-Specification & Data'!B$14*0.9 -> -55.981897
C101: =C100+1 -> 99 | D101: 16.5 | E101: =F101*3.6 -> 26.554132 | F101: =D101/2.23694 -> 7.3761478 | G101: =G100+((F101+F100)/2) -> 795.61812 | H101: =(F101+F100)/2 -> 7.7114272 | I101: =(H101-F100)*2 -> -0.67055889 | J101: =IF(D101<=10,1,IF(AND(D101>10,D101<=20),2,IF(D101>20,3))) -> 2 | K101: 0 | L101: =('1-Specification & Data'!B$22*'1-Specification & Data'!B$10*'1-Specification & Data'!B$20*('1-Simulation'!F101^2-'1-Specification & Data'!B$21^2))/2 -> 23.240515 | M101: =Q101*I101 -> -472.65602 | N101: ='1-Specification & Data'!B$23*'1-Specification & Data'!B$18*8.91 -> 76.055206 | O101: =K101+L101+M101+N101 -> -373.3603 | P101: =IF(O101>=0,O101,IF(O101<0,-O101)) -> 373.3603 | Q101: =IF(J101=1,'1-Specification & Data'!B$52,IF('1-Simulation'!J101=2,'1-Specification & Data'!B$53,IF('1-Simulation'!J101=3,'1-Specification & Data'!B$54))) -> 704.86877 | R101: =(0.5*'1-Specification & Data'!B$18*'1-Simulation'!F101^2)/1000 -> 17.862289 | S101: =(Q101*9.81*T101)/1000 -> 28.295209 | T101: 4.092 | U101: =O101*'1-Specification & Data'!B$14*0.9 -> -99.084079
C102: =C101+1 -> 100 | D102: 15 | E102: =F102*3.6 -> 24.14012 | F102: =D102/2.23694 -> 6.7055889 | G102: =G101+((F102+F101)/2) -> 802.65899 | H102: =(F102+F101)/2 -> 7.0408683 | I102: =(H102-F101)*2 -> -0.67055889 | J102: =IF(D102<=10,1,IF(AND(D102>10,D102<=20),2,IF(D102>20,3))) -> 2 | K102: 0 | L102: =('1-Specification & Data'!B$22*'1-Specification & Data'!B$10*'1-Specification & Data'!B$20*('1-Simulation'!F102^2-'1-Specification & Data'!B$21^2))/2 -> 18.801287 | M102: =Q102*I102 -> -472.65602 | N102: ='1-Specification & Data'!B$23*'1-Specification & Data'!B$18*8.91 -> 76.055206 | O102: =K102+L102+M102+N102 -> -377.79952 | P102: =IF(O102>=0,O102,IF(O102<0,-O102)) -> 377.79952 | Q102: =IF(J102=1,'1-Specification & Data'!B$52,IF('1-Simulation'!J102=2,'1-Specification & Data'!B$53,IF('1-Simulation'!J102=3,'1-Specification & Data'!B$54))) -> 704.86877 | R102: =(0.5*'1-Specification & Data'!B$18*'1-Simulation'!F102^2)/1000 -> 14.762222 | S102: =(Q102*9.81*T102)/1000 -> 28.295209 | T102: 4.092 | U102: =O102*'1-Specification & Data'!B$14*0.9 -> -100.26218
B103: T3 start | C103: =C102+1 -> 101 | D103: 14.5 | E103: =F103*3.6 -> 23.335449 | F103: =D103/2.23694 -> 6.4820693 | G103: =G102+((F103+F102)/2) -> 809.25282 | H103: =(F103+F102)/2 -> 6.5938291 | I103: =(H103-F102)*2 -> -0.22351963 | J103: =IF(D103<=10,1,IF(AND(D103>10,D103<=20),2,IF(D103>20,3))) -> 2 | K103: 0 | L103: =('1-Specification & Data'!B$22*'1-Specification & Data'!B$10*'1-Specification & Data'!B$20*('1-Simulation'!F103^2-'1-Specification & Data'!B$21^2))/2 -> 17.415497 | M103: =Q103*I103 -> -157.55201 | N103: ='1-Specification & Data'!B$23*'1-Specification & Data'!B$18*8.91 -> 76.055206 | O103: =K103+L103+M103+N103 -> -64.081303 | P103: =IF(O103>=0,O103,IF(O103<0,-O103)) -> 64.081303 | Q103: =IF(J103=1,'1-Specification & Data'!B$52,IF('1-Simulation'!J103=2,'1-Specification & Data'!B$53,IF('1-Simulation'!J103=3,'1-Specification & Data'!B$54))) -> 704.86877 | R103: =(0.5*'1-Specification & Data'!B$18*'1-Simulation'!F103^2)/1000 -> 13.794477 | S103: =(Q103*9.81*T103)/1000 -> 28.295209 | T103: 4.092 | U103: =O103*'1-Specification & Data'!B$14*0.9 -> -17.006192
C104: =C103+1 -> 102 | D104: 14.5 | E104: =F104*3.6 -> 23.335449 | F104: =D104/2.23694 -> 6.4820693 | G104: =G103+((F104+F103)/2) -> 815.73489 | H104: =(F104+F103)/2 -> 6.4820693 | I104: =(H104-F103)*2 -> 0 | J104: =IF(D104<=10,1,IF(AND(D104>10,D104<=20),2,IF(D104>20,3))) -> 2 | K104: 0 | L104: =('1-Specification & Data'!B$22*'1-Specification & Data'!B$10*'1-Specification & Data'!B$20*('1-Simulation'!F104^2-'1-Specification & Data'!B$21^2))/2 -> 17.415497 | M104: =Q104*I104 -> 0 | N104: ='1-Specification & Data'!B$23*'1-Specification & Data'!B$18*8.91 -> 76.055206 | O104: =K104+L104+M104+N104 -> 93.470703 | P104: =IF(O104>=0,O104,IF(O104<0,-O104)) -> 93.470703 | Q104: =IF(J104=1,'1-Specification & Data'!B$52,IF('1-Simulation'!J104=2,'1-Specification & Data'!B$53,IF('1-Simulation'!J104=3,'1-Specification & Data'!B$54))) -> 704.86877 | R104: =(0.5*'1-Specification & Data'!B$18*'1-Simulation'!F104^2)/1000 -> 13.794477 | S104: =(Q104*9.81*T104)/1000 -> 28.295209 | T104: 4.092 | U104: =O104*'1-Specification & Data'!B$14*0.9 -> 24.805687
C105: =C104+1 -> 103 | D105: 14.5 | E105: =F105*3.6 -> 23.335449 | F105: =D105/2.23694 -> 6.4820693 | G105: =G104+((F105+F104)/2) -> 822.21696 | H105: =(F105+F104)/2 -> 6.4820693 | I105: =(H105-F104)*2 -> 0 | J105: =IF(D105<=10,1,IF(AND(D105>10,D105<=20),2,IF(D105>20,3))) -> 2 | K105: 0 | L105: =('1-Specification & Data'!B$22*'1-Specification & Data'!B$10*'1-Specification & Data'!B$20*('1-Simulation'!F105^2-'1-Specification & Data'!B$21^2))/2 -> 17.415497 | M105: =Q105*I105 -> 0 | N105: ='1-Specification & Data'!B$23*'1-Specification & Data'!B$18*8.91 -> 76.055206 | O105: =K105+L105+M105+N105 -> 93.470703 | P105: =IF(O105>=0,O105,IF(O105<0,-O105)) -> 93.470703 | Q105: =IF(J105=1,'1-Specification & Data'!B$52,IF('1-Simulation'!J105=2,'1-Specification & Data'!B$53,IF('1-Simulation'!J105=3,'1-Specification & Data'!B$54))) -> 704.86877 | R105: =(0.5*'1-Specification & Data'!B$18*'1-Simulation'!F105^2)/1000 -> 13.794477 | S105: =(Q105*9.81*T105)/1000 -> 28.295209 | T105: 4.092 | U105: =O105*'1-Specification & Data'!B$14*0.9 -> 24.805687
C106: =C105+1 -> 104 | D106: 14.5 | E106: =F106*3.6 -> 23.335449 | F106: =D106/2.23694 -> 6.4820693 | G106: =G105+((F106+F105)/2) -> 828.69903 | H106: =(F106+F105)/2 -> 6.4820693 | I106: =(H106-F105)*2 -> 0 | J106: =IF(D106<=10,1,IF(AND(D106>10,D106<=20),2,IF(D106>20,3))) -> 2 | K106: 0 | L106: =('1-Specification & Data'!B$22*'1-Specification & Data'!B$10*'1-Specification & Data'!B$20*('1-Simulation'!F106^2-'1-Specification & Data'!B$21^2))/2 -> 17.415497 | M106: =Q106*I106 -> 0 | N106: ='1-Specification & Data'!B$23*'1-Specification & Data'!B$18*8.91 -> 76.055206 | O106: =K106+L106+M106+N106 -> 93.470703 | P106: =IF(O106>=0,O106,IF(O106<0,-O106)) -> 93.470703 | Q106: =IF(J106=1,'1-Specification & Data'!B$52,IF('1-Simulation'!J106=2,'1-Specification & Data'!B$53,IF('1-Simulation'!J106=3,'1-Specification & Data'!B$54))) -> 704.86877 | R106: =(0.5*'1-Specification & Data'!B$18*'1-Simulation'!F106^2)/1000 -> 13.794477 | S106: =(Q106*9.81*T106)/1000 -> 28.295209 | T106: 4.092 | U106: =O106*'1-Specification & Data'!B$14*0.9 -> 24.805687
C107: =C106+1 -> 105 | D107: 14.5 | E107: =F107*3.6 -> 23.335449 | F107: =D107/2.23694 -> 6.4820693 | G107: =G106+((F107+F106)/2) -> 835.1811 | H107: =(F107+F106)/2 -> 6.4820693 | I107: =(H107-F106)*2 -> 0 | J107: =IF(D107<=10,1,IF(AND(D107>10,D107<=20),2,IF(D107>20,3))) -> 2 | K107: 0 | L107: =('1-Specification & Data'!B$22*'1-Specification & Data'!B$10*'1-Specification & Data'!B$20*('1-Simulation'!F107^2-'1-Specification & Data'!B$21^2))/2 -> 17.415497 | M107: =Q107*I107 -> 0 | N107: ='1-Specification & Data'!B$23*'1-Specification & Data'!B$18*8.91 -> 76.055206 | O107: =K107+L107+M107+N107 -> 93.470703 | P107: =IF(O107>=0,O107,IF(O107<0,-O107)) -> 93.470703 | Q107: =IF(J107=1,'1-Specification & Data'!B$52,IF('1-Simulation'!J107=2,'1-Specification & Data'!B$53,IF('1-Simulation'!J107=3,'1-Specification & Data'!B$54))) -> 704.86877 | R107: =(0.5*'1-Specification & Data'!B$18*'1-Simulation'!F107^2)/1000 -> 13.794477 | S107: =(Q107*9.81*T107)/1000 -> 28.295209 | T107: 4.092 | U107: =O107*'1-Specification & Data'!B$14*0.9 -> 24.805687
C108: =C107+1 -> 106 | D108: 14.5 | E108: =F108*3.6 -> 23.335449 | F108: =D108/2.23694 -> 6.4820693 | G108: =G107+((F108+F107)/2) -> 841.66316 | H108: =(F108+F107)/2 -> 6.4820693 | I108: =(H108-F107)*2 -> 0 | J108: =IF(D108<=10,1,IF(AND(D108>10,D108<=20),2,IF(D108>20,3))) -> 2 | K108: 0 | L108: =('1-Specification & Data'!B$22*'1-Specification & Data'!B$10*'1-Specification & Data'!B$20*('1-Simulation'!F108^2-'1-Specification & Data'!B$21^2))/2 -> 17.415497 | M108: =Q108*I108 -> 0 | N108: ='1-Specification & Data'!B$23*'1-Specification & Data'!B$18*8.91 -> 76.055206 | O108: =K108+L108+M108+N108 -> 93.470703 | P108: =IF(O108>=0,O108,IF(O108<0,-O108)) -> 93.470703 | Q108: =IF(J108=1,'1-Specification & Data'!B$52,IF('1-Simulation'!J108=2,'1-Specification & Data'!B$53,IF('1-Simulation'!J108=3,'1-Specification & Data'!B$54))) -> 704.86877 | R108: =(0.5*'1-Specification & Data'!B$18*'1-Simulation'!F108^2)/1000 -> 13.794477 | S108: =(Q108*9.81*T108)/1000 -> 28.295209 | T108: 4.092 | U108: =O108*'1-Specification & Data'!B$14*0.9 -> 24.805687
C109: =C108+1 -> 107 | D109: 14.5 | E109: =F109*3.6 -> 23.335449 | F109: =D109/2.23694 -> 6.4820693 | G109: =G108+((F109+F108)/2) -> 848.14523 | H109: =(F109+F108)/2 -> 6.4820693 | I109: =(H109-F108)*2 -> 0 | J109: =IF(D109<=10,1,IF(AND(D109>10,D109<=20),2,IF(D109>20,3))) -> 2 | K109: 0 | L109: =('1-Specification & Data'!B$22*'1-Specification & Data'!B$10*'1-Specification & Data'!B$20*('1-Simulation'!F109^2-'1-Specification & Data'!B$21^2))/2 -> 17.415497 | M109: =Q109*I109 -> 0 | N109: ='1-Specification & Data'!B$23*'1-Specification & Data'!B$18*8.91 -> 76.055206 | O109: =K109+L109+M109+N109 -> 93.470703 | P109: =IF(O109>=0,O109,IF(O109<0,-O109)) -> 93.470703 | Q109: =IF(J109=1,'1-Specification & Data'!B$52,IF('1-Simulation'!J109=2,'1-Specification & Data'!B$53,IF('1-Simulation'!J109=3,'1-Specification & Data'!B$54))) -> 704.86877 | R109: =(0.5*'1-Specification & Data'!B$18*'1-Simulation'!F109^2)/1000 -> 13.794477 | S109: =(Q109*9.81*T109)/1000 -> 28.295209 | T109: 4.092 | U109: =O109*'1-Specification & Data'!B$14*0.9 -> 24.805687
C110: =C109+1 -> 108 | D110: 14.5 | E110: =F110*3.6 -> 23.335449 | F110: =D110/2.23694 -> 6.4820693 | G110: =G109+((F110+F109)/2) -> 854.6273 | H110: =(F110+F109)/2 -> 6.4820693 | I110: =(H110-F109)*2 -> 0 | J110: =IF(D110<=10,1,IF(AND(D110>10,D110<=20),2,IF(D110>20,3))) -> 2 | K110: 0 | L110: =('1-Specification & Data'!B$22*'1-Specification & Data'!B$10*'1-Specification & Data'!B$20*('1-Simulation'!F110^2-'1-Specification & Data'!B$21^2))/2 -> 17.415497 | M110: =Q110*I110 -> 0 | N110: ='1-Specification & Data'!B$23*'1-Specification & Data'!B$18*8.91 -> 76.055206 | O110: =K110+L110+M110+N110 -> 93.470703 | P110: =IF(O110>=0,O110,IF(O110<0,-O110)) -> 93.470703 | Q110: =IF(J110=1,'1-Specification & Data'!B$52,IF('1-Simulation'!J110=2,'1-Specification & Data'!B$53,IF('1-Simulation'!J110=3,'1-Specification & Data'!B$54))) -> 704.86877 | R110: =(0.5*'1-Specification & Data'!B$18*'1-Simulation'!F110^2)/1000 -> 13.794477 | S110: =(Q110*9.81*T110)/1000 -> 28.295209 | T110: 4.092 | U110: =O110*'1-Specification & Data'!B$14*0.9 -> 24.805687
C111: =C110+1 -> 109 | D111: 14.5 | E111: =F111*3.6 -> 23.335449 | F111: =D111/2.23694 -> 6.4820693 | G111: =G110+((F111+F110)/2) -> 861.10937 | H111: =(F111+F110)/2 -> 6.4820693 | I111: =(H111-F110)*2 -> 0 | J111: =IF(D111<=10,1,IF(AND(D111>10,D111<=20),2,IF(D111>20,3))) -> 2 | K111: 0 | L111: =('1-Specification & Data'!B$22*'1-Specification & Data'!B$10*'1-Specification & Data'!B$20*('1-Simulation'!F111^2-'1-Specification & Data'!B$21^2))/2 -> 17.415497 | M111: =Q111*I111 -> 0 | N111: ='1-Specification & Data'!B$23*'1-Specification & Data'!B$18*8.91 -> 76.055206 | O111: =K111+L111+M111+N111 -> 93.470703 | P111: =IF(O111>=0,O111,IF(O111<0,-O111)) -> 93.470703 | Q111: =IF(J111=1,'1-Specification & Data'!B$52,IF('1-Simulation'!J111=2,'1-Specification & Data'!B$53,IF('1-Simulation'!J111=3,'1-Specification & Data'!B$54))) -> 704.86877 | R111: =(0.5*'1-Specification & Data'!B$18*'1-Simulation'!F111^2)/1000 -> 13.794477 | S111: =(Q111*9.81*T111)/1000 -> 28.295209 | T111: 4.092 | U111: =O111*'1-Specification & Data'!B$14*0.9 -> 24.805687
B112: T3 finish | C112: =C111+1 -> 110 | D112: 14.5 | E112: =F112*3.6 -> 23.335449 | F112: =D112/2.23694 -> 6.4820693 | G112: =G111+((F112+F111)/2) -> 867.59144 | H112: =(F112+F111)/2 -> 6.4820693 | I112: =(H112-F111)*2 -> 0 | J112: =IF(D112<=10,1,IF(AND(D112>10,D112<=20),2,IF(D112>20,3))) -> 2 | K112: 0 | L112: =('1-Specification & Data'!B$22*'1-Specification & Data'!B$10*'1-Specification & Data'!B$20*('1-Simulation'!F112^2-'1-Specification & Data'!B$21^2))/2 -> 17.415497 | M112: =Q112*I112 -> 0 | N112: ='1-Specification & Data'!B$23*'1-Specification & Data'!B$18*8.91 -> 76.055206 | O112: =K112+L112+M112+N112 -> 93.470703 | P112: =IF(O112>=0,O112,IF(O112<0,-O112)) -> 93.470703 | Q112: =IF(J112=1,'1-Specification & Data'!B$52,IF('1-Simulation'!J112=2,'1-Specification & Data'!B$53,IF('1-Simulation'!J112=3,'1-Specification & Data'!B$54))) -> 704.86877 | R112: =(0.5*'1-Specification & Data'!B$18*'1-Simulation'!F112^2)/1000 -> 13.794477 | S112: =(Q112*9.81*T112)/1000 -> 28.295209 | T112: 4.092 | U112: =O112*'1-Specification & Data'!B$14*0.9 -> 24.805687
C113: =C112+1 -> 111 | D113: 15.5 | E113: =F113*3.6 -> 24.944791 | F113: =D113/2.23694 -> 6.9291085 | G113: =G112+((F113+F112)/2) -> 874.29703 | H113: =(F113+F112)/2 -> 6.7055889 | I113: =(H113-F112)*2 -> 0.44703926 | J113: =IF(D113<=10,1,IF(AND(D113>10,D113<=20),2,IF(D113>20,3))) -> 2 | K113: 0 | L113: =('1-Specification & Data'!B$22*'1-Specification & Data'!B$10*'1-Specification & Data'!B$20*('1-Simulation'!F113^2-'1-Specification & Data'!B$21^2))/2 -> 20.234054 | M113: =Q113*I113 -> 315.10401 | N113: ='1-Specification & Data'!B$23*'1-Specification & Data'!B$18*8.91 -> 76.055206 | O113: =K113+L113+M113+N113 -> 411.39327 | P113: =IF(O113>=0,O113,IF(O113<0,-O113)) -> 411.39327 | Q113: =IF(J113=1,'1-Specification & Data'!B$52,IF('1-Simulation'!J113=2,'1-Specification & Data'!B$53,IF('1-Simulation'!J113=3,'1-Specification & Data'!B$54))) -> 704.86877 | R113: =(0.5*'1-Specification & Data'!B$18*'1-Simulation'!F113^2)/1000 -> 15.762773 | S113: =(Q113*9.81*T113)/1000 -> 28.295209 | T113: 4.092 | U113: =O113*'1-Specification & Data'!B$14*0.9 -> 109.17744
C114: =C113+1 -> 112 | D114: 17 | E114: =F114*3.6 -> 27.358803 | F114: =D114/2.23694 -> 7.5996674 | G114: =G113+((F114+F113)/2) -> 881.56142 | H114: =(F114+F113)/2 -> 7.264388 | I114: =(H114-F113)*2 -> 0.67055889 | J114: =IF(D114<=10,1,IF(AND(D114>10,D114<=20),2,IF(D114>20,3))) -> 2 | K114: 0 | L114: =('1-Specification & Data'!B$22*'1-Specification & Data'!B$10*'1-Specification & Data'!B$20*('1-Simulation'!F114^2-'1-Specification & Data'!B$21^2))/2 -> 24.814209 | M114: =Q114*I114 -> 472.65602 | N114: ='1-Specification & Data'!B$23*'1-Specification & Data'!B$18*8.91 -> 76.055206 | O114: =K114+L114+M114+N114 -> 573.52543 | P114: =IF(O114>=0,O114,IF(O114<0,-O114)) -> 573.52543 | Q114: =IF(J114=1,'1-Specification & Data'!B$52,IF('1-Simulation'!J114=2,'1-Specification & Data'!B$53,IF('1-Simulation'!J114=3,'1-Specification & Data'!B$54))) -> 704.86877 | R114: =(0.5*'1-Specification & Data'!B$18*'1-Simulation'!F114^2)/1000 -> 18.961254 | S114: =(Q114*9.81*T114)/1000 -> 28.295209 | T114: 4.092 | U114: =O114*'1-Specification & Data'!B$14*0.9 -> 152.20483
C115: =C114+1 -> 113 | D115: 17.5 | E115: =F115*3.6 -> 28.163473 | F115: =D115/2.23694 -> 7.823187 | G115: =G114+((F115+F114)/2) -> 889.27285 | H115: =(F115+F114)/2 -> 7.7114272 | I115: =(H115-F114)*2 -> 0.22351963 | J115: =IF(D115<=10,1,IF(AND(D115>10,D115<=20),2,IF(D115>20,3))) -> 2 | K115: 0 | L115: =('1-Specification & Data'!B$22*'1-Specification & Data'!B$10*'1-Specification & Data'!B$20*('1-Simulation'!F115^2-'1-Specification & Data'!B$21^2))/2 -> 26.434879 | M115: =Q115*I115 -> 157.55201 | N115: ='1-Specification & Data'!B$23*'1-Specification & Data'!B$18*8.91 -> 76.055206 | O115: =K115+L115+M115+N115 -> 260.04209 | P115: =IF(O115>=0,O115,IF(O115<0,-O115)) -> 260.04209 | Q115: =IF(J115=1,'1-Specification & Data'!B$52,IF('1-Simulation'!J115=2,'1-Specification & Data'!B$53,IF('1-Simulation'!J115=3,'1-Specification & Data'!B$54))) -> 704.86877 | R115: =(0.5*'1-Specification & Data'!B$18*'1-Simulation'!F115^2)/1000 -> 20.093025 | S115: =(Q115*9.81*T115)/1000 -> 28.295209 | T115: 4.092 | U115: =O115*'1-Specification & Data'!B$14*0.9 -> 69.01117
B116: T4 start | C116: =C115+1 -> 114 | D116: 17.5 | E116: =F116*3.6 -> 28.163473 | F116: =D116/2.23694 -> 7.823187 | G116: =G115+((F116+F115)/2) -> 897.09603 | H116: =(F116+F115)/2 -> 7.823187 | I116: =(H116-F115)*2 -> 0 | J116: =IF(D116<=10,1,IF(AND(D116>10,D116<=20),2,IF(D116>20,3))) -> 2 | K116: 0 | L116: =('1-Specification & Data'!B$22*'1-Specification & Data'!B$10*'1-Specification & Data'!B$20*('1-Simulation'!F116^2-'1-Specification & Data'!B$21^2))/2 -> 26.434879 | M116: =Q116*I116 -> 0 | N116: ='1-Specification & Data'!B$23*'1-Specification & Data'!B$18*8.91 -> 76.055206 | O116: =K116+L116+M116+N116 -> 102.49008 | P116: =IF(O116>=0,O116,IF(O116<0,-O116)) -> 102.49008 | Q116: =IF(J116=1,'1-Specification & Data'!B$52,IF('1-Simulation'!J116=2,'1-Specification & Data'!B$53,IF('1-Simulation'!J116=3,'1-Specification & Data'!B$54))) -> 704.86877 | R116: =(0.5*'1-Specification & Data'!B$18*'1-Simulation'!F116^2)/1000 -> 20.093025 | S116: =(Q116*9.81*T116)/1000 -> 28.295209 | T116: 4.092 | U116: =O116*'1-Specification & Data'!B$14*0.9 -> 27.199292
C117: =C116+1 -> 115 | D117: 17.5 | E117: =F117*3.6 -> 28.163473 | F117: =D117/2.23694 -> 7.823187 | G117: =G116+((F117+F116)/2) -> 904.91922 | H117: =(F117+F116)/2 -> 7.823187 | I117: =(H117-F116)*2 -> 0 | J117: =IF(D117<=10,1,IF(AND(D117>10,D117<=20),2,IF(D117>20,3))) -> 2 | K117: 0 | L117: =('1-Specification & Data'!B$22*'1-Specification & Data'!B$10*'1-Specification & Data'!B$20*('1-Simulation'!F117^2-'1-Specification & Data'!B$21^2))/2 -> 26.434879 | M117: =Q117*I117 -> 0 | N117: ='1-Specification & Data'!B$23*'1-Specification & Data'!B$18*8.91 -> 76.055206 | O117: =K117+L117+M117+N117 -> 102.49008 | P117: =IF(O117>=0,O117,IF(O117<0,-O117)) -> 102.49008 | Q117: =IF(J117=1,'1-Specification & Data'!B$52,IF('1-Simulation'!J117=2,'1-Specification & Data'!B$53,IF('1-Simulation'!J117=3,'1-Specification & Data'!B$54))) -> 704.86877 | R117: =(0.5*'1-Specification & Data'!B$18*'1-Simulation'!F117^2)/1000 -> 20.093025 | S117: =(Q117*9.81*T117)/1000 -> 28.295209 | T117: 4.092 | U117: =O117*'1-Specification & Data'!B$14*0.9 -> 27.199292
...

Sheet 2- Specification Data
B2: Efficiencies | C2: η (%)
B3: Transmission Efficiency (ηT) | C3: 80
B4: Motor efficiency (ηMo) | C4: 85
B5: Controller efficiency (ηCnt) | C5: 95
B6: Battery efficiency (ηBt) | C6: 98
B7: Generator efficiency (ηGen) | C7: 90
B8: Regenerative braking efficiency (ηRB) | C8: 60
B11: Componenets Selection | C11: Motor | D11: Generator | E11: Controller | F11: Battery (*4)
B12: Rated Values | C12: 48V, 8.5kW-14kW | D12: 12V-48V, 2kW-3kW | F12: 12.8V- 216Ah
B13: Weight (kg) | C13: 12.7006 | D13: 9 | E13: 0.8 | F13: =4*28.1 -> 112.4
B14: Dimension (mm) | F14: 250*150*70

Sheet 2-Simulaation
A1: Time (s) | B1: Engine RPM | C1: Engine Torque (Nm) | D1: Power generated by Generator (kW) | E1: Wheel RPM | F1: Motor RPM | G1: Power @ Wheel (kW) | H1: Power need from motor (kW) | I1: Current @ Motor (Amp) | J1: Motor Torque (Nm) | K1: Power needed from Controller (kW) | L1: Power needed from Generator (kW) | M1: Power generated by Regenerative Braking (kW) | N1: Power supply to the battery by generator (kW) | O1: Power goes in the Battery (kW) | P1: Charging Current (Amp) | Q1: Power needed from the Battery (kW) | R1: Discharge Current (Amp) | S1: Energy goes and drawn in battery (kWh) | T1: SOC %
A2: 0 | B2: 5500 | C2: 14 | D2: 2.5 | E2: ='1-Simulation'!F2*60/(2*PI()*'1-Specification & Data'!B$14) -> 0 | F2: 0 | G2: =2*PI()*E2*'1-Simulation'!U2/(1000*60) -> 0 | H2: =IF(G2>0,G2/0.85,0) -> 0 | I2: =(H2*1000)/48 -> 0 | J2: 0 | K2: =H2/0.853 -> 0 | L2: =K2/0.95 -> 0 | M2: =IF(G2<0,-G2*0.6*0.8*0.85*0.95*0.98,0) -> 0 | N2: =IF(L2<D2,D2-L2,0) -> 2.5 | O2: =M2+(IF(L2<D2,D2-K2,0)) -> 2.5 | P2: =(O2*1000)/56.8 -> 44.014085 | Q2: =IF(L2>D2,K2-D2,0) -> 0 | R2: =(Q2*1000)/48 -> 0 | S2: =IF(O2>0,O2/3600,-Q2/3600)+0.6 -> 0.60069444 | T2: =(100*S2)/1.2 -> 50.05787
A3: =1+A2 -> 1 | B3: 5500 | C3: 14 | D3: 2.5 | E3: ='1-Simulation'!F3*60/(2*PI()*'1-Specification & Data'!B$14) -> 82.519895 | F3: =E3*(IF('1-Simulation'!J3=1,'1-Specification & Data'!H$7,IF('1-Simulation'!J3=2,'1-Specification & Data'!H$8,IF('1-Simulation'!J3=3,'1-Specification & Data'!H$9)))) -> 1460.9237 | G3: =2*PI()*E3*'1-Simulation'!U3/(1000*60) -> 4.3429486 | H3: =IF(G3>0,G3/0.85,0) -> 5.1093513 | I3: =(H3*1000)/48 -> 106.44482 | J3: ='1-Simulation'!U3/(IF('1-Simulation'!J3=1,'1-Specification & Data'!H$7,IF('1-Simulation'!J3=2,'1-Specification & Data'!H$8,IF('1-Simulation'!J3=3,'1-Specification & Data'!H$9)))*0.8) -> 35.484489 | K3: =H3/0.853 -> 5.9898608 | L3: =K3/0.95 -> 6.3051166 | M3: =IF(G3<0,-G3*0.6*0.8*0.85*0.95*0.98,0) -> 0 | N3: =IF(L3<D3,D3-L3,0) -> 0 | O3: =M3+(IF(L3<D3,D3-K3,0)) -> 0 | P3: =(O3*1000)/56.8 -> 0 | Q3: =IF(L3>D3,K3-D3,0) -> 3.4898608 | R3: =(Q3*1000)/48 -> 72.705433 | S3: =S2+IF(O3>0,O3/3600,-Q3/3600) -> 0.59972504 | T3: =(100*S3)/1.2 -> 49.977087
A4: =1+A3 -> 2 | B4: 5500 | C4: 14 | D4: 2.5 | E4: ='1-Simulation'!F4*60/(2*PI()*'1-Specification & Data'!B$14) -> 99.892505 | F4: =E4*(IF('1-Simulation'!J4=1,'1-Specification & Data'!H$7,IF('1-Simulation'!J4=2,'1-Specification & Data'!H$8,IF('1-Simulation'!J4=3,'1-Specification & Data'!H$9)))) -> 1768.4865 | G4: =2*PI()*E4*'1-Simulation'!U4/(1000*60) -> 1.2789878 | H4: =IF(G4>0,G4/0.85,0) -> 1.5046916 | I4: =(H4*1000)/48 -> 31.347741 | J4: ='1-Simulation'!U4/(IF('1-Simulation'!J4=1,'1-Specification & Data'!H$7,IF('1-Simulation'!J4=2,'1-Specification & Data'!H$8,IF('1-Simulation'!J4=3,'1-Specification & Data'!H$9)))*0.8) -> 8.6326882 | K4: =H4/0.853 -> 1.7639995 | L4: =K4/0.95 -> 1.8568416 | M4: =IF(G4<0,-G4*0.6*0.8*0.85*0.95*0.98,0) -> 0 | N4: =IF(L4<D4,D4-L4,0) -> 0.64315842 | O4: =M4+(IF(L4<D4,D4-K4,0)) -> 0.7360005 | P4: =(O4*1000)/56.8 -> 12.957755 | Q4: =IF(L4>D4,K4-D4,0) -> 0 | R4: =(Q4*1000)/48 -> 0 | S4: =S3+IF(O4>0,O4/3600,-Q4/3600) -> 0.59992948 | T4: =(100*S4)/1.2 -> 49.994124
A5: =1+A4 -> 3 | B5: 5500 | C5: 14 | D5: 2.5 | E5: ='1-Simulation'!F5*60/(2*PI()*'1-Specification & Data'!B$14) -> 115.8174 | F5: =E5*(IF('1-Simulation'!J5=1,'1-Specification & Data'!H$7,IF('1-Simulation'!J5=2,'1-Specification & Data'!H$8,IF('1-Simulation'!J5=3,'1-Specification & Data'!H$9)))) -> 2050.4192 | G5: =2*PI()*E5*'1-Simulation'!U5/(1000*60) -> 1.3852396 | H5: =IF(G5>0,G5/0.85,0) -> 1.6296936 | I5: =(H5*1000)/48 -> 33.951951 | J5: ='1-Simulation'!U5/(IF('1-Simulation'!J5=1,'1-Specification & Data'!H$7,IF('1-Simulation'!J5=2,'1-Specification & Data'!H$8,IF('1-Simulation'!J5=3,'1-Specification & Data'!H$9)))*0.8) -> 8.0642436 | K5: =H5/0.853 -> 1.9105435 | L5: =K5/0.95 -> 2.0110985 | M5: =IF(G5<0,-G5*0.6*0.8*0.85*0.95*0.98,0) -> 0 | N5: =IF(L5<D5,D5-L5,0) -> 0.48890153 | O5: =M5+(IF(L5<D5,D5-K5,0)) -> 0.58945645 | P5: =(O5*1000)/56.8 -> 10.377754 | Q5: =IF(L5>D5,K5-D5,0) -> 0 | R5: =(Q5*1000)/48 -> 0 | S5: =S4+IF(O5>0,O5/3600,-Q5/3600) -> 0.60009322 | T5: =(100*S5)/1.2 -> 50.007768
A6: =1+A5 -> 4 | B6: 5500 | C6: 14 | D6: 2.5 | E6: ='1-Simulation'!F6*60/(2*PI()*'1-Specification & Data'!B$14) -> 144.77175 | F6: =E6*(IF('1-Simulation'!J6=1,'1-Specification & Data'!H$7,IF('1-Simulation'!J6=2,'1-Specification & Data'!H$8,IF('1-Simulation'!J6=3,'1-Specification & Data'!H$9)))) -> 2563.024 | G6: =2*PI()*E6*'1-Simulation'!U6/(1000*60) -> 2.8994211 | H6: =IF(G6>0,G6/0.85,0) -> 3.4110837 | I6: =(H6*1000)/48 -> 71.064243 | J6: ='1-Simulation'!U6/(IF('1-Simulation'!J6=1,'1-Specification & Data'!H$7,IF('1-Simulation'!J6=2,'1-Specification & Data'!H$8,IF('1-Simulation'!J6=3,'1-Specification & Data'!H$9)))*0.8) -> 13.503303 | K6: =H6/0.853 -> 3.9989258 | L6: =K6/0.95 -> 4.2093955 | M6: =IF(G6<0,-G6*0.6*0.8*0.85*0.95*0.98,0) -> 0 | N6: =IF(L6<D6,D6-L6,0) -> 0 | O6: =M6+(IF(L6<D6,D6-K6,0)) -> 0 | P6: =(O6*1000)/56.8 -> 0 | Q6: =IF(L6>D6,K6-D6,0) -> 1.4989258 | R6: =(Q6*1000)/48 -> 31.22762 | S6: =S5+IF(O6>0,O6/3600,-Q6/3600) -> 0.59967685 | T6: =(100*S6)/1.2 -> 49.973071
A7: =1+A6 -> 5 | B7: 5500 | C7: 14 | D7: 2.5 | E7: ='1-Simulation'!F7*60/(2*PI()*'1-Specification & Data'!B$14) -> 146.21946 | F7: =E7*(IF('1-Simulation'!J7=1,'1-Specification & Data'!H$7,IF('1-Simulation'!J7=2,'1-Specification & Data'!H$8,IF('1-Simulation'!J7=3,'1-Specification & Data'!H$9)))) -> 1839.0231 | G7: =2*PI()*E7*'1-Simulation'!U7/(1000*60) -> 0.46654752 | H7: =IF(G7>0,G7/0.85,0) -> 0.54887944 | I7: =(H7*1000)/48 -> 11.434988 | J7: ='1-Simulation'!U7/(IF('1-Simulation'!J7=1,'1-Specification & Data'!H$7,IF('1-Simulation'!J7=2,'1-Specification & Data'!H$8,IF('1-Simulation'!J7=3,'1-Specification & Data'!H$9)))*0.8) -> 3.0282387 | K7: =H7/0.853 -> 0.64346945 | L7: =K7/0.95 -> 0.67733626 | M7: =IF(G7<0,-G7*0.6*0.8*0.85*0.95*0.98,0) -> 0 | N7: =IF(L7<D7,D7-L7,0) -> 1.8226637 | O7: =M7+(IF(L7<D7,D7-K7,0)) -> 1.8565306 | P7: =(O7*1000)/56.8 -> 32.685397 | Q7: =IF(L7>D7,K7-D7,0) -> 0 | R7: =(Q7*1000)/48 -> 0 | S7: =S6+IF(O7>0,O7/3600,-Q7/3600) -> 0.60019256 | T7: =(100*S7)/1.2 -> 50.016046
A8: =1+A7 -> 6 | B8: 5500 | C8: 14 | D8: 2.5 | E8: ='1-Simulation'!F8*60/(2*PI()*'1-Specification & Data'!B$14) -> 159.24892 | F8: =E8*(IF('1-Simulation'!J8=1,'1-Specification & Data'!H$7,IF('1-Simulation'!J8=2,'1-Specification & Data'!H$8,IF('1-Simulation'!J8=3,'1-Specification & Data'!H$9)))) -> 2002.8964 | G8: =2*PI()*E8*'1-Simulation'!U8/(1000*60) -> 1.6316589 | H8: =IF(G8>0,G8/0.85,0) -> 1.9195988 | I8: =(H8*1000)/48 -> 39.991641 | J8: ='1-Simulation'!U8/(IF('1-Simulation'!J8=1,'1-Specification & Data'!H$7,IF('1-Simulation'!J8=2,'1-Specification & Data'!H$8,IF('1-Simulation'!J8=3,'1-Specification & Data'!H$9)))*0.8) -> 9.7241643 | K8: =H8/0.853 -> 2.2504089 | L8: =K8/0.95 -> 2.3688514 | M8: =IF(G8<0,-G8*0.6*0.8*0.85*0.95*0.98,0) -> 0 | N8: =IF(L8<D8,D8-L8,0) -> 0.13114857 | O8: =M8+(IF(L8<D8,D8-K8,0)) -> 0.24959115 | P8: =(O8*1000)/56.8 -> 4.3942103 | Q8: =IF(L8>D8,K8-D8,0) -> 0 | R8: =(Q8*1000)/48 -> 0 | S8: =S7+IF(O8>0,O8/3600,-Q8/3600) -> 0.60026189 | T8: =(100*S8)/1.2 -> 50.021824
A9: =1+A8 -> 7 | B9: 5500 | C9: 14 | D9: 2.5 | E9: ='1-Simulation'!F9*60/(2*PI()*'1-Specification & Data'!B$14) -> 173.7261 | F9: =E9*(IF('1-Simulation'!J9=1,'1-Specification & Data'!H$7,IF('1-Simulation'!J9=2,'1-Specification & Data'!H$8,IF('1-Simulation'!J9=3,'1-Specification & Data'!H$9)))) -> 2184.9779 | G9: =2*PI()*E9*'1-Simulation'!U9/(1000*60) -> 1.9425574 | H9: =IF(G9>0,G9/0.85,0) -> 2.2853616 | I9: =(H9*1000)/48 -> 47.611701 | J9: ='1-Simulation'!U9/(IF('1-Simulation'!J9=1,'1-Specification & Data'!H$7,IF('1-Simulation'!J9=2,'1-Specification & Data'!H$8,IF('1-Simulation'!J9=3,'1-Specification & Data'!H$9)))*0.8) -> 10.612268 | K9: =H9/0.853 -> 2.6792047 | L9: =K9/0.95 -> 2.8202155 | M9: =IF(G9<0,-G9*0.6*0.8*0.85*0.95*0.98,0) -> 0 | N9: =IF(L9<D9,D9-L9,0) -> 0 | O9: =M9+(IF(L9<D9,D9-K9,0)) -> 0 | P9: =(O9*1000)/56.8 -> 0 | Q9: =IF(L9>D9,K9-D9,0) -> 0.17920473 | R9: =(Q9*1000)/48 -> 3.7334319 | S9: =S8+IF(O9>0,O9/3600,-Q9/3600) -> 0.60021211 | T9: =(100*S9)/1.2 -> 50.017676
A10: =1+A9 -> 8 | B10: 5500 | C10: 14 | D10: 2.5 | E10: ='1-Simulation'!F10*60/(2*PI()*'1-Specification & Data'!B$14) -> 202.68044 | F10: =E10*(IF('1-Simulation'!J10=1,'1-Specification & Data'!H$7,IF('1-Simulation'!J10=2,'1-Specification & Data'!H$8,IF('1-Simulation'!J10=3,'1-Specification & Data'!H$9)))) -> 2549.1409 | G10: =2*PI()*E10*'1-Simulation'!U10/(1000*60) -> 4.0687202 | H10: =IF(G10>0,G10/0.85,0) -> 4.7867296 | I10: =(H10*1000)/48 -> 99.723533 | J10: ='1-Simulation'!U10/(IF('1-Simulation'!J10=1,'1-Specification & Data'!H$7,IF('1-Simulation'!J10=2,'1-Specification & Data'!H$8,IF('1-Simulation'!J10=3,'1-Specification & Data'!H$9)))*0.8) -> 19.052211 | K10: =H10/0.853 -> 5.6116408 | L10: =K10/0.95 -> 5.9069903 | M10: =IF(G10<0,-G10*0.6*0.8*0.85*0.95*0.98,0) -> 0 | N10: =IF(L10<D10,D10-L10,0) -> 0 | O10: =M10+(IF(L10<D10,D10-K10,0)) -> 0 | P10: =(O10*1000)/56.8 -> 0 | Q10: =IF(L10>D10,K10-D10,0) -> 3.1116408 | R10: =(Q10*1000)/48 -> 64.82585 | S10: =S9+IF(O10>0,O10/3600,-Q10/3600) -> 0.59934776 | T10: =(100*S10)/1.2 -> 49.945647
A11: =1+A10 -> 9 | B11: 5500 | C11: 14 | D11: 2.5 | E11: ='1-Simulation'!F11*60/(2*PI()*'1-Specification & Data'!B$14) -> 231.63479 | F11: =E11*(IF('1-Simulation'!J11=1,'1-Specification & Data'!H$7,IF('1-Simulation'!J11=2,'1-Specification & Data'!H$8,IF('1-Simulation'!J11=3,'1-Specification & Data'!H$9)))) -> 2913.3039 | G11: =2*PI()*E11*'1-Simulation'!U11/(1000*60) -> 4.6862541 | H11: =IF(G11>0,G11/0.85,0) -> 5.5132401 | I11: =(H11*1000)/48 -> 114.85917 | J11: ='1-Simulation'!U11/(IF('1-Simulation'!J11=1,'1-Specification & Data'!H$7,IF('1-Simulation'!J11=2,'1-Specification & Data'!H$8,IF('1-Simulation'!J11=3,'1-Specification & Data'!H$9)))*0.8) -> 19.200893 | K11: =H11/0.853 -> 6.4633529 | L11: =K11/0.95 -> 6.8035294 | M11: =IF(G11<0,-G11*0.6*0.8*0.85*0.95*0.98,0) -> 0 | N11: =IF(L11<D11,D11-L11,0) -> 0 | O11: =M11+(IF(L11<D11,D11-K11,0)) -> 0 | P11: =(O11*1000)/56.8 -> 0 | Q11: =IF(L11>D11,K11-D11,0) -> 3.9633529 | R11: =(Q11*1000)/48 -> 82.569853 | S11: =S10+IF(O11>0,O11/3600,-Q11/3600) -> 0.59824683 | T11: =(100*S11)/1.2 -> 49.853903
A12: =1+A11 -> 10 | B12: 5500 | C12: 14 | D12: 2.5 | E12: ='1-Simulation'!F12*60/(2*PI()*'1-Specification & Data'!B$14) -> 260.58914 | F12: =E12*(IF('1-Simulation'!J12=1,'1-Specification & Data'!H$7,IF('1-Simulation'!J12=2,'1-Specification & Data'!H$8,IF('1-Simulation'!J12=3,'1-Specification & Data'!H$9)))) -> 3277.4669 | G12: =2*PI()*E12*'1-Simulation'!U12/(1000*60) -> 5.3183032 | H12: =IF(G12>0,G12/0.85,0) -> 6.2568273 | I12: =(H12*1000)/48 -> 130.35057 | J12: ='1-Simulation'!U12/(IF('1-Simulation'!J12=1,'1-Specification & Data'!H$7,IF('1-Simulation'!J12=2,'1-Specification & Data'!H$8,IF('1-Simulation'!J12=3,'1-Specification & Data'!H$9)))*0.8) -> 19.3694 | K12: =H12/0.853 -> 7.3350848 | L12: =K12/0.95 -> 7.7211419 | M12: =IF(G12<0,-G12*0.6*0.8*0.85*0.95*0.98,0) -> 0 | N12: =IF(L12<D12,D12-L12,0) -> 0 | O12: =M12+(IF(L12<D12,D12-K12,0)) -> 0 | P12: =(O12*1000)/56.8 -> 0 | Q12: =IF(L12>D12,K12-D12,0) -> 4.8350848 | R12: =(Q12*1000)/48 -> 100.73093 | S12: =S11+IF(O12>0,O12/3600,-Q12/3600) -> 0.59690375 | T12: =(100*S12)/1.2 -> 49.741979
A13: =1+A12 -> 11 | B13: 5500 | C13: 14 | D13: 2.5 | E13: ='1-Simulation'!F13*60/(2*PI()*'1-Specification & Data'!B$14) -> 289.54349 | F13: =E13*(IF('1-Simulation'!J13=1,'1-Specification & Data'!H$7,IF('1-Simulation'!J13=2,'1-Specification & Data'!H$8,IF('1-Simulation'!J13=3,'1-Specification & Data'!H$9)))) -> 3641.6299 | G13: =2*PI()*E13*'1-Simulation'!U13/(1000*60) -> 5.9666821 | H13: =IF(G13>0,G13/0.85,0) -> 7.0196259 | I13: =(H13*1000)/48 -> 146.24221 | J13: ='1-Simulation'!U13/(IF('1-Simulation'!J13=1,'1-Specification & Data'!H$7,IF('1-Simulation'!J13=2,'1-Specification & Data'!H$8,IF('1-Simulation'!J13=3,'1-Specification & Data'!H$9)))*0.8) -> 19.557732 | K13: =H13/0.853 -> 8.2293387 | L13: =K13/0.95 -> 8.6624618 | M13: =IF(G13<0,-G13*0.6*0.8*0.85*0.95*0.98,0) -> 0 | N13: =IF(L13<D13,D13-L13,0) -> 0 | O13: =M13+(IF(L13<D13,D13-K13,0)) -> 0 | P13: =(O13*1000)/56.8 -> 0 | Q13: =IF(L13>D13,K13-D13,0) -> 5.7293387 | R13: =(Q13*1000)/48 -> 119.36122 | S13: =S12+IF(O13>0,O13/3600,-Q13/3600) -> 0.59531227 | T13: =(100*S13)/1.2 -> 49.609356
A14: =1+A13 -> 12 | B14: 5500 | C14: 14 | D14: 2.5 | E14: ='1-Simulation'!F14*60/(2*PI()*'1-Specification & Data'!B$14) -> 292.43893 | F14: =E14*(IF('1-Simulation'!J14=1,'1-Specification & Data'!H$7,IF('1-Simulation'!J14=2,'1-Specification & Data'!H$8,IF('1-Simulation'!J14=3,'1-Specification & Data'!H$9)))) -> 2426.8633 | G14: =2*PI()*E14*'1-Simulation'!U14/(1000*60) -> 1.4194327 | H14: =IF(G14>0,G14/0.85,0) -> 1.6699208 | I14: =(H14*1000)/48 -> 34.790018 | J14: ='1-Simulation'!U14/(IF('1-Simulation'!J14=1,'1-Specification & Data'!H$7,IF('1-Simulation'!J14=2,'1-Specification & Data'!H$8,IF('1-Simulation'!J14=3,'1-Specification & Data'!H$9)))*0.8) -> 6.9815345 | K14: =H14/0.853 -> 1.9577032 | L14: =K14/0.95 -> 2.0607402 | M14: =IF(G14<0,-G14*0.6*0.8*0.85*0.95*0.98,0) -> 0 | N14: =IF(L14<D14,D14-L14,0) -> 0.43925977 | O14: =M14+(IF(L14<D14,D14-K14,0)) -> 0.54229678 | P14: =(O14*1000)/56.8 -> 9.5474786 | Q14: =IF(L14>D14,K14-D14,0) -> 0 | R14: =(Q14*1000)/48 -> 0 | S14: =S13+IF(O14>0,O14/3600,-Q14/3600) -> 0.59546291 | T14: =(100*S14)/1.2 -> 49.621909
... A277: =1+A276 -> 275 | B277: 5500 | C277: 14 | D277: 2.5 | E277: ='1-Simulation'!F277*60/(2*PI()*'1-Specification & Data'!B$14) -> 141.87631 | F277: =E277*(IF('1-Simulation'!J277=1,'1-Specification & Data'!H$7,IF('1-Simulation'!J277=2,'1-Specification & Data'!H$8,IF('1-Simulation'!J277=3,'1-Specification & Data'!H$9)))) -> 2511.7635 | G277: =2*PI()*E277*'1-Simulation'!U277/(1000*60) -> 0.2363355 | H277: =IF(G277>0,G277/0.85,0) -> 0.27804177 | I277: =(H277*1000)/48 -> 5.7925368 | J277: ='1-Simulation'!U277/(IF('1-Simulation'!J277=1,'1-Specification & Data'!H$7,IF('1-Simulation'!J277=2,'1-Specification & Data'!H$8,IF('1-Simulation'!J277=3,'1-Specification & Data'!H$9)))*0.8) -> 1.1231341 | K277: =H277/0.853 -> 0.32595752 | L277: =K277/0.95 -> 0.34311318 | M277: =IF(G277<0,-G277*0.6*0.8*0.85*0.95*0.98,0) -> 0 | N277: =IF(L277<D277,D277-L277,0) -> 2.1568868 | O277: =M277+(IF(L277<D277,D277-K277,0)) -> 2.1740425 | P277: =(O277*1000)/56.8 -> 38.275396 | Q277: =IF(L277>D277,K277-D277,0) -> 0 | R277: =(Q277*1000)/48 -> 0 | S277: =S276+IF(O277>0,O277/3600,-Q277/3600) -> 0.57866428 | T277: =(100*S277)/1.2 -> 48.222023
F279: =MAX(F2:F277) -> 3641.6299 | H279: =MAX(H2:H277) -> 11.697407 | I279: =MAX(I2:I277) -> 243.69598 | P279: =MAX(P2:P277) -> 118.13578 | Q279: =MAX(Q2:Q277) -> 11.213255 | R279: =MAX(R2:R277) -> 233.60949
H280: =SUM(H2:H277) -> 691.22721

Sheet 2-Result
A4: Engine running power (kW) | B4: 2.5 | D4: Battery charged in 1 lap (%) | E4: 7.8
A5: Total engine power in one lap (kW) | B5: =276*B4 -> 690 | D5: Lap to fully charge (number of lap) | E5: =100/E4 -> 12.820513
A6: Energy of engine in 1 lap (kWh) | B6: =B5/3600 -> 0.19166667 | D6: Distance travelled for fully cahrged (km) | E6: =E5*1.97 -> 25.25641
A7: Total fuel consumption in 1 lap (g) | B7: =B6*297.2 -> 56.963333 | D7: Life of battery (cycle) | E7: 3500
A8: Total fuel mass saving in one lap (g) | B8: =89.7568-B7 -> 32.793467
A9: Fuel saving in 1 lap (lit) | B9: =B8/(1000*0.748) -> 0.043841533
A10: Fuel saving during life if battery (lit) | B10: =(B9*B21)/1.97 -> 7767.2548
D12: Costing | E12: £
D13: Battery | E13: =4*1400 -> 5600
D14: Tracton Motor | E14: 550
D15: Generator | E15: 550
A16: Energy of full cahrge battery (kWh) | B16: =(48*216)/1000 -> 10.368 | D16: Controller | E16: 500
A17: Energy required for 1 lap (kWh) | B17: =SUM('2-Simulaation'!H2:H277)/3600 -> 0.19200756 | D17: DC/DC converter | E17: 250
A18: Number of lap travelled by full battery | B18: =(B16*0.7)/B17 -> 37.798512 | D18: Regenrative Braking | E18: 200
A19: Distance travelled by full charged battery (km) | B19: =B18*1.97 -> 74.463069 | D19: Total costing | E19: =SUM(E13:E18) -> 7650
A20: Distance needed for 1 cycle of cahrging-discharging (km) | B20: =B19+E6 -> 99.719479 | D20: Total saving by fuel | E20: =B10*1.5 -> 11650.882
A21: Total distance can be travelled during life of battery (km) | B21: =B20*E7 -> 349018.18 | D21: Gross saving | E21: =E20-E19 -> 4000.8822
