Workbook

Sheet 1-Specification & Data
A1: ACEA7007-Hybrid Powertrain and Control
A2: Series Hybrid Vehicle(CW1)
A4: Technical Data
A6: Maximum Engine Speed (RPM) | B6: 6500 | D6: Gear | E6: Input | F6: Output | G6: Gear Ratio | H6: Overall Ratio
A7: Maximum Engine Torque (Nm) | B7: 22 | D7: 1st | E7: 11 | F7: 32 | G7: =F7/E7 -> 2.9090909 | H7: =G11*G10*G7 -> 17.703896
A8: Maximum Power Develop by Engine (W) | B8: =B7*2*3.14*B6/60 -> 14967.333 | D8: 2nd | E8: 15 | F8: 31 | G8: =F8/E8 -> 2.0666667 | H8: =G11*G10*G8 -> 12.577143
A9: Maximum Power Developed by Engine (HP) | B9: =B8/746 -> 20.06345 | D9: 3rd | E9: 22 | F9: 30 | G9: =F9/E9 -> 1.3636364 | H9: =G11*G10*G9 -> 8.2987013
A10: Effective Frontal Area (m2) | B10: 1.151 | D10: Final Drive | E10: 15 | F10: 36 | G10: =Table7[[#This Row],[Column3]]/Table7[[#This Row],[Column2]] -> 2.4
A11: Front Wheel Radius (mm) | B11: 304.8 | D11: Primary Drive | E11: 28 | F11: 71 | G11: =F11/E11 -> 2.5357143
A12: Rear Wheel Radius (mm) | B12: 254
A13: Front tyre Radius (24*8-12) (m) | B13: =24/(39*2) -> 0.30769231 | E13: Inertia (kgm2) | F13: Transmission Ratio | G13: Velocity Ratio | H13: Crankshaft Velocity Ratio | I13: Gearbox Velocity Ratio | K13: Sinθ1 (slop 1 uphill) | L13: 0.13864
A14: Rear tyre Radius (23*10.5-12) (m) | B14: =23/(39*2) -> 0.29487179 | D14: Front Wheel | E14: =B49 -> 1.2491743 | G14: =1/B13 -> 3.25 | K14: Sinθ2 (slop 1 downhill) | L14: 0.20372
A15: Driver + Passenger Weight (kg) | B15: 144 | D15: Rear Wheel | E15: =B50 -> 0.86748214 | G15: =1/B14 -> 3.3913043 | K15: Sinθ3 (slop 2 uphill) | L15: 0.11803
A16: Fuel + Oil Weight (kg) | B16: 16.11 | D16: Crankshaft | E16: 0.06 | F16: 2.536 | K16: Sinθ4 (slop 2 downhill) | L16: 0.16229
A17: Kerb Weight (kg) | B17: 345 | D17: GearBox Output Shaft | E17: 0.02 | F17: 3.4 | G17: =G15*Table14[[#This Row],[Column3]] -> 11.530435
A18: Total Weight (kg) | B18: =B17+B16+B15+B46+'2- Specification Data'!C13+'2- Specification Data'!D13+'2- Specification Data'!E13+'2- Specification Data'!F13 -> 656.6106 | D18: Gearbox Input Shaft(Gear1) | E18: 0.05 | F18: 2.636 | G18: =G15*F17*Table14[[#This Row],[Column3]] -> 30.394226 | H18: =Table14[[#This Row],[Column3]]*F17*F16*G15 -> 77.079757 | I18: =F17*G7*G15 -> 33.543083
D19: Gearbox Input Shaft(Gear2) | E19: 0.05 | F19: 1.933 | G19: =G15*Table14[[#This Row],[Column3]]*F17 -> 22.28833 | H19: =Table14[[#This Row],[Column3]]*F17*F16*G15 -> 56.523206 | I19: =G8*F17*G15 -> 23.829565
A20: Drag Coefficient | B20: 0.7 | D20: Gearbox Input Shaft(Gear3) | E20: 0.05 | F20: 1.476 | G20: =Table14[[#This Row],[Column3]]*F17*G15 -> 17.018922 | H20: =Table14[[#This Row],[Column3]]*F17*F16*G15 -> 43.159986 | I20: =G9*F17*G15 -> 15.72332
A21: Wind Speed (m/s) | B21: 2.23
A22: Air Density (kg/m3) | B22: 1.167
A23: Rolling Coefficient (μR) Asphalt | B23: 0.013
A24: Rolling Coefficient (μR) Gravel | B24: 0.02
A25: Rolling Coefficient (μR) Standing water | B25: 0.155
A26: Rolling Coefficient (μR) Field | B26: 0.1
A27: Traction Coefficient ( Asphalt) | B27: 0.85
A28: Traction Coefficient ( Geavel) | B28: 0.7
A29: Traction Coefficient ( Field) | B29: 0.6
A30: Traction Coefficient ( Water splash) | B30: 0.3
A32: Wheelbase (mm) | B32: 1940
A33: Height of COG from Ground (mm) | B33: 488
... A40: Load on Rear Wheel while Lifted (kg) | B40: 193
A41: YCOG | B41: =B39*B32/B18 -> 611.59537
A42: XCOG | B42: =((B39-B40)*B32)/(B17*B38)+279.4 -> 521.69675
A44: Tires Mass (kg) | B44: 10.2
A45: Wheels Mass (kg) | B45: 6.4
A46: Total Assembly Mass (kg) | B46: =B44+B45 -> 16.6
A47: Radius of Gyration Front Wheel (Kfront) | B47: =B11*0.9/1000 -> 0.27432
A48: Radius of Gyration Rear Wheel at 6500rpm 1st Gear | B48: =B12*0.9/1000 -> 0.2286
A49: Inertia of Front Wheel | B49: =B46*B47^2 -> 1.2491743
A50: Inertia of Rear Wheel | B50: =B46*B48^2 -> 0.86748214
...

Sheet 1-Simulation
C1: Time (s) | D1: Velocity (mph) | E1: Velocity (km/h) | F1: Velocity (m/s) | G1: Distance (m) | H1: Displacement (m) | I1: Acceleration (m/s | J1: Gear | K1: Gradient Resistance Force (N) | L1: Aero Drag Force (N) | M1: Inertia Resistance Force (N) | N1: Rolling Resistance Force (N) | O1: Total Resistance Force (N) | P1: Traction Force (N) | Q1: Equivelent Mass (kg) | R1: Kinetic Energy (kJ) | S1: Potential Energy (kJ) | T1: Height (m) | U1: Torque @ Wheel (Nm)
A2: ASPHALT START | C2: 0 | D2: 0 | E2: =F2*3.6 -> 0 | F2: =D2/2.23694 -> 0 | G2: 0 | H2: 0 | I2: 0 | J2: 0 | K2: 0 | L2: 0 | M2: 0 | N2: 0 | O2: =K2+L2+M2+N2 -> 0 | P2: =IF(O2>=0,O2,IF(O2<0,-O2)) -> 0 | Q2: 521.71 | R2: =(0.5*'1-Specification & Data'!B$18*'1-Simulation'!F2^2)/1000 -> 0 | S2: =(Q2*9.81*T2)/1000 -> 0 | T2: 0 | U2: 0
C3: =C2+1 -> 1 | D3: 5.7 | E3: =F3*3.6 -> 9.1732456 | F3: =D3/2.23694 -> 2.5481238 | G3: =G2+((F3+F2)/2) -> 1.2740619 | H3: =(F3+F2)/2 -> 1.2740619 | I3: =(H3-F2)*2 -> 2.5481238 | J3: =IF(D3<=10,1,IF(AND(D3>10,D3<=20),2,IF(D3>20,3))) -> 1 | K3: 0 | L3: =('1-Specification & Data'!B$22*'1-Specification & Data'!B$10*'1-Specification & Data'!B$20*('1-Simulation'!F3^2-'1-Specification & Data'!B$21^2))/2 -> 0.71460779 | M3: =Q3*I3 -> 1816.9759 | N3: ='1-Specification & Data'!B$23*'1-Specification & Data'!B$18*8.91 -> 76.055206 | O3: =K3+L3+M3+N3 -> 1893.7457 | P3: =IF(O3>=0,O3,IF(O3<0,-O3)) -> 1893.7457 | Q3: =IF(J3=1,'1-Specification & Data'!B$52,IF('1-Simulation'!J3=2,'1-Specification & Data'!B$53,IF('1-Simulation'!J3=3,'1-Specification & Data'!B$54))) -> 713.06421 | R3: =(0.5*'1-Specification & Data'!B$18*'1-Simulation'!F3^2)/1000 -> 2.1316649 | S3: =(Q3*9.81*T3)/1000 -> 0 | T3: 0 | U3: =O3*'1-Specification & Data'!B$14*0.9 -> 502.57097
C4: =C3+1 -> 2 | D4: 6.9 | E4: =F4*3.6 -> 11.104455 | F4: =D4/2.23694 -> 3.0845709 | G4: =G3+((F4+F3)/2) -> 4.0904092 | H4: =(F4+F3)/2 -> 2.8163473 | I4: =(H4-F3)*2 -> 0.53644711 | J4: =IF(D4<=10,1,IF(AND(D4>10,D4<=20),2,IF(D4>20,3))) -> 1 | K4: 0 | L4: =('1-Specification & Data'!B$22*'1-Specification & Data'!B$10*'1-Specification & Data'!B$20*('1-Simulation'!F4^2-'1-Specification & Data'!B$21^2))/2 -> 2.1351605 | M4: =Q4*I4 -> 382.52124 | N4: ='1-Specification & Data'!B$23*'1-Specification & Data'!B$18*8.91 -> 76.055206 | O4: =K4+L4+M4+N4 -> 460.7116 | P4: =IF(O4>=0,O4,IF(O4<0,-O4)) -> 460.7116 | Q4: =IF(J4=1,'1-Specification & Data'!B$52,IF('1-Simulation'!J4=2,'1-Specification & Data'!B$53,IF('1-Simulation'!J4=3,'1-Specification & Data'!B$54))) -> 713.06421 | R4: =(0.5*'1-Specification & Data'!B$18*'1-Simulation'!F4^2)/1000 -> 3.1236862 | S4: =(Q4*9.81*T4)/1000 -> 0 | T4: 0 | U4: =O4*'1-Specification & Data'!B$14*0.9 -> 122.26577
C5: =C4+1 -> 3 | D5: 8 | E5: =F5*3.6 -> 12.874731 | F5: =D5/2.23694 -> 3.5763141 | G5: =G4+((F5+F4)/2) -> 7.4208517 | H5: =(F5+F4)/2 -> 3.3304425 | I5: =(H5-F4)*2 -> 0.49174318 | J5: =IF(D5<=10,1,IF(AND(D5>10,D5<=20),2,IF(D5>20,3))) -> 1 | K5: 0 | L5: =('1-Specification & Data'!B$22*'1-Specification & Data'!B$10*'1-Specification & Data'!B$20*('1-Simulation'!F5^2-'1-Specification & Data'!B$21^2))/2 -> 3.6750321 | M5: =Q5*I5 -> 350.64447 | N5: ='1-Specification & Data'!B$23*'1-Specification & Data'!B$18*8.91 -> 76.055206 | O5: =K5+L5+M5+N5 -> 430.3747 | P5: =IF(O5>=0,O5,IF(O5<0,-O5)) -> 430.3747 | Q5: =IF(J5=1,'1-Specification & Data'!B$52,IF('1-Simulation'!J5=2,'1-Specification & Data'!B$53,IF('1-Simulation'!J5=3,'1-Specification & Data'!B$54))) -> 713.06421 | R5: =(0.5*'1-Specification & Data'!B$18*'1-Simulation'!F5^2)/1000 -> 4.1990321 | S5: =(Q5*9.81*T5)/1000 -> 0 | T5: 0 | U5: =O5*'1-Specification & Data'!B$14*0.9 -> 114.21483
C6: =C5+1 -> 4 | D6: 10 | E6: =F6*3.6 -> 16.093413 | F6: =D6/2.23694 -> 4.4703926 | G6: =G5+((F6+F5)/2) -> 11.444205 | H6: =(F6+F5)/2 -> 4.0233533 | I6: =(H6-F5)*2 -> 0.89407852 | J6: =IF(D6<=10,1,IF(AND(D6>10,D6<=20),2,IF(D6>20,3))) -> 1 | K6: 0 | L6: =('1-Specification & Data'!B$22*'1-Specification & Data'!B$10*'1-Specification & Data'!B$20*('1-Simulation'!F6^2-'1-Specification & Data'!B$21^2))/2 -> 7.0573004 | M6: =Q6*I6 -> 637.53539 | N6: ='1-Specification & Data'!B$23*'1-Specification & Data'!B$18*8.91 -> 76.055206 | O6: =K6+L6+M6+N6 -> 720.6479 | P6: =IF(O6>=0,O6,IF(O6<0,-O6)) -> 720.6479 | Q6: =IF(J6=1,'1-Specification & Data'!B$52,IF('1-Simulation'!J6=2,'1-Specification & Data'!B$53,IF('1-Simulation'!J6=3,'1-Specification & Data'!B$54))) -> 713.06421 | R6: =(0.5*'1-Specification & Data'!B$18*'1-Simulation'!F6^2)/1000 -> 6.5609877 | S6: =(Q6*9.81*T6)/1000 -> 0 | T6: 0 | U6: =O6*'1-Specification & Data'!B$14*0.9 -> 191.24887
C7: =C6+1 -> 5 | D7: 10.1 | E7: =F7*3.6 -> 16.254347 | F7: =D7/2.23694 -> 4.5150965 | G7: =G6+((F7+F6)/2) -> 15.93695 | H7: =(F7+F6)/2 -> 4.4927446 | I7: =(H7-F6)*2 -> 0.044703926 | J7: =IF(D7<=10,1,IF(AND(D7>10,D7<=20),2,IF(D7>20,3))) -> 2 | K7: 0 | L7: =('1-Specification & Data'!B$22*'1-Specification & Data'!B$10*'1-Specification & Data'!B$20*('1-Simulation'!F7^2-'1-Specification & Data'!B$21^2))/2 -> 7.2461437 | M7: =Q7*I7 -> 31.510401 | N7: ='1-Specification & Data'!B$23*'1-Specification & Data'!B$18*8.91 -> 76.055206 | O7: =K7+L7+M7+N7 -> 114.81175 | P7: =IF(O7>=0,O7,IF(O7<0,-O7)) -> 114.81175 | Q7: =IF(J7=1,'1-Specification & Data'!B$52,IF('1-Simulation'!J7=2,'1-Specification & Data'!B$53,IF('1-Simulation'!J7=3,'1-Specification & Data'!B$54))) -> 704.86877 | R7: =(0.5*'1-Specification & Data'!B$18*'1-Simulation'!F7^2)/1000 -> 6.6928635 | S7: =(Q7*9.81*T7)/1000 -> 0 | T7: 0 | U7: =O7*'1-Specification & Data'!B$14*0.9 -> 30.469272
C8: =C7+1 -> 6 | D8: 11 | E8: =F8*3.6 -> 17.702755 | F8: =D8/2.23694 -> 4.9174318 | G8: =G7+((F8+F7)/2) -> 20.653214 | H8: =(F8+F7)/2 -> 4.7162642 | I8: =(H8-F7)*2 -> 0.40233533 | J8: =IF(D8<=10,1,IF(AND(D8>10,D8<=20),2,IF(D8>20,3))) -> 2 | K8: 0 | L8: =('1-Specification & Data'!B$22*'1-Specification & Data'!B$10*'1-Specification & Data'!B$20*('1-Simulation'!F8^2-'1-Specification & Data'!B$21^2))/2 -> 9.0302902 | M8: =Q8*I8 -> 283.59361 | N8: ='1-Specification & Data'!B$23*'1-Specification & Data'!B$18*8.91 -> 76.055206 | O8: =K8+L8+M8+N8 -> 368.67911 | P8: =IF(O8>=0,O8,IF(O8<0,-O8)) -> 368.67911 | Q8: =IF(J8=1,'1-Specification & Data'!B$52,IF('1-Simulation'!J8=2,'1-Specification & Data'!B$53,IF('1-Simulation'!J8=3,'1-Specification & Data'!B$54))) -> 704.86877 | R8: =(0.5*'1-Specification & Data'!B$18*'1-Simulation'!F8^2)/1000 -> 7.9387951 | S8: =(Q8*9.81*T8)/1000 -> 0 | T8: 0 | U8: =O8*'1-Specification & Data'!B$14*0.9 -> 97.841763
C9: =C8+1 -> 7 | D9: 12 | E9: =F9*3.6 -> 19.312096 | F9: =D9/2.23694 -> 5.3644711 | G9: =G8+((F9+F8)/2) -> 25.794165 | H9: =(F9+F8)/2 -> 5.1409515 | I9: =(H9-F8)*2 -> 0.44703926 | J9: =IF(D9<=10,1,IF(AND(D9>10,D9<=20),2,IF(D9>20,3))) -> 2 | K9: 0 | L9: =('1-Specification & Data'!B$22*'1-Specification & Data'!B$10*'1-Specification & Data'!B$20*('1-Simulation'!F9^2-'1-Specification & Data'!B$21^2))/2 -> 11.191184 | M9: =Q9*I9 -> 315.10401 | N9: ='1-Specification & Data'!B$23*'1-Specification & Data'!B$18*8.91 -> 76.055206 | O9: =K9+L9+M9+N9 -> 402.3504 | P9: =IF(O9>=0,O9,IF(O9<0,-O9)) -> 402.3504 | Q9: =IF(J9=1,'1-Specification & Data'!B$52,IF('1-Simulation'!J9=2,'1-Specification & Data'!B$53,IF('1-Simulation'!J9=3,'1-Specification & Data'!B$54))) -> 704.86877 | R9: =(0.5*'1-Specification & Data'!B$18*'1-Simulation'!F9^2)/1000 -> 9.4478223 | S9: =(Q9*9.81*T9)/1000 -> 0 | T9: 0 | U9: =O9*'1-Specification & Data'!B$14*0.9 -> 106.77761
C10: =C9+1 -> 8 | D10: 14 | E10: =F10*3.6 -> 22.530779 | F10: =D10/2.23694 -> 6.2585496 | G10: =G9+((F10+F9)/2) -> 31.605676 | H10: =(F10+F9)/2 -> 5.8115104 | I10: =(H10-F9)*2 -> 0.89407852 | J10: =IF(D10<=10,1,IF(AND(D10>10,D10<=20),2,IF(D10>20,3))) -> 2 | K10: 0 | L10: =('1-Specification & Data'!B$22*'1-Specification & Data'!B$10*'1-Specification & Data'!B$20*('1-Simulation'!F10^2-'1-Specification & Data'!B$21^2))/2 -> 16.076682 | M10: =Q10*I10 -> 630.20802 | N10: ='1-Specification & Data'!B$23*'1-Specification & Data'!B$18*8.91 -> 76.055206 | O10: =K10+L10+M10+N10 -> 722.33991 | P10: =IF(O10>=0,O10,IF(O10<0,-O10)) -> 722.33991 | Q10: =IF(J10=1,'1-Specification & Data'!B$52,IF('1-Simulation'!J10=2,'1-Specification & Data'!B$53,IF('1-Simulation'!J10=3,'1-Specification & Data'!B$54))) -> 704.86877 | R10: =(0.5*'1-Specification & Data'!B$18*'1-Simulation'!F10^2)/1000 -> 12.859536 | S10: =(Q10*9.81*T10)/1000 -> 0 | T10: 0 | U10: =O10*'1-Specification & Data'!B$14*0.9 -> 191.6979
C11: =C10+1 -> 9 | D11: 16 | E11: =F11*3.6 -> 25.749461 | F11: =D11/2.23694 -> 7.1526281 | G11: =G10+((F11+F10)/2) -> 38.311264 | H11: =(F11+F10)/2 -> 6.7055889 | I11: =(H11-F10)*2 -> 0.89407852 | J11: =IF(D11<=10,1,IF(AND(D11>10,D11<=20),2,IF(D11>20,3))) -> 2 | K11: 0 | L11: =('1-Specification & Data'!B$22*'1-Specification & Data'!B$10*'1-Specification & Data'!B$20*('1-Simulation'!F11^2-'1-Specification & Data'!B$21^2))/2 -> 21.713796 | M11: =Q11*I11 -> 630.20802 | N11: ='1-Specification & Data'!B$23*'1-Specification & Data'!B$18*8.91 -> 76.055206 | O11: =K11+L11+M11+N11 -> 727.97702 | P11: =IF(O11>=0,O11,IF(O11<0,-O11)) -> 727.97702 | Q11: =IF(J11=1,'1-Specification & Data'!B$52,IF('1-Simulation'!J11=2,'1-Specification & Data'!B$53,IF('1-Simulation'!J11=3,'1-Specification & Data'!B$54))) -> 704.86877 | R11: =(0.5*'1-Specification & Data'!B$18*'1-Simulation'!F11^2)/1000 -> 16.796128 | S11: =(Q11*9.81*T11)/1000 -> 0 | T11: 0 | U11: =O11*'1-Specification & Data'!B$14*0.9 -> 193.1939
C12: =C11+1 -> 10 | D12: 18 | E12: =F12*3.6 -> 28.968144 | F12: =D12/2.23694 -> 8.0467067 | G12: =G11+((F12+F11)/2) -> 45.910932 | H12: =(F12+F11)/2 -> 7.5996674 | I12: =(H12-F11)*2 -> 0.89407852 | J12: =IF(D12<=10,1,IF(AND(D12>10,D12<=20),2,IF(D12>20,3))) -> 2 | K12: 0 | L12: =('1-Specification & Data'!B$22*'1-Specification & Data'!B$10*'1-Specification & Data'!B$20*('1-Simulation'!F12^2-'1-Specification & Data'!B$21^2))/2 -> 28.102525 | M12: =Q12*I12 -> 630.20802 | N12: ='1-Specification & Data'!B$23*'1-Specification & Data'!B$18*8.91 -> 76.055206 | O12: =K12+L12+M12+N12 -> 734.36575 | P12: =IF(O12>=0,O12,IF(O12<0,-O12)) -> 734.36575 | Q12: =IF(J12=1,'1-Specification & Data'!B$52,IF('1-Simulation'!J12=2,'1-Specification & Data'!B$53,IF('1-Simulation'!J12=3,'1-Specification & Data'!B$54))) -> 704.86877 | R12: =(0.5*'1-Specification & Data'!B$18*'1-Simulation'!F12^2)/1000 -> 21.2576 | S12: =(Q12*9.81*T12)/1000 -> 0 | T12: 0 | U12: =O12*'1-Specification & Data'!B$14*0.9 -> 194.88937
C13: =C12+1 -> 11 | D13: 20 | E13: =F13*3.6 -> 32.186827 | F13: =D13/2.23694 -> 8.9407852 | G13: =G12+((F13+F12)/2) -> 54.404678 | H13: =(F13+F12)/2 -> 8.4937459 | I13: =(H13-F12)*2 -> 0.89407852 | J13: =IF(D13<=10,1,IF(AND(D13>10,D13<=20),2,IF(D13>20,3))) -> 2 | K13: 0 | L13: =('1-Specification & Data'!B$22*'1-Specification & Data'!B$10*'1-Specification & Data'!B$20*('1-Simulation'!F13^2-'1-Specification & Data'!B$21^2))/2 -> 35.242869 | M13: =Q13*I13 -> 630.20802 | N13: ='1-Specification & Data'!B$23*'1-Specification & Data'!B$18*8.91 -> 76.055206 | O13: =K13+L13+M13+N13 -> 741.5061 | P13: =IF(O13>=0,O13,IF(O13<0,-O13)) -> 741.5061 | Q13: =IF(J13=1,'1-Specification & Data'!B$52,IF('1-Simulation'!J13=2,'1-Specification & Data'!B$53,IF('1-Simulation'!J13=3,'1-Specification & Data'!B$54))) -> 704.86877 | R13: =(0.5*'1-Specification & Data'!B$18*'1-Simulation'!F13^2)/1000 -> 26.243951 | S13: =(Q13*9.81*T13)/1000 -> 0 | T13: 0 | U13: =O13*'1-Specification & Data'!B$14*0.9 -> 196.78431
C14: =C13+1 -> 12 | D14: 20.2 | E14: =F14*3.6 -> 32.508695 | F14: =D14/2.23694 -> 9.030193 | G14: =G13+((F14+F13)/2) -> 63.390167 | H14: =(F14+F13)/2 -> 8.9854891 | I14: =(H14-F13)*2 -> 0.089407852 | J14: =IF(D14<=10,1,IF(AND(D14>10,D14<=20),2,IF(D14>20,3))) -> 3 | K14: 0 | L14: =('1-Specification & Data'!B$22*'1-Specification & Data'!B$10*'1-Specification & Data'!B$20*('1-Simulation'!F14^2-'1-Specification & Data'!B$21^2))/2 -> 35.998243 | M14: =Q14*I14 -> 62.599237 | N14: ='1-Specification & Data'!B$23*'1-Specification & Data'!B$18*8.91 -> 76.055206 | O14: =K14+L14+M14+N14 -> 174.65269 | P14: =IF(O14>=0,O14,IF(O14<0,-O14)) -> 174.65269 | Q14: =IF(J14=1,'1-Specification & Data'!B$52,IF('1-Simulation'!J14=2,'1-Specification & Data'!B$53,IF('1-Simulation'!J14=3,'1-Specification & Data'!B$54))) -> 700.15369 | R14: =(0.5*'1-Specification & Data'!B$18*'1-Simulation'!F14^2)/1000 -> 26.771454 | S14: =(Q14*9.81*T14)/1000 -> 0 | T14: 0 | U14: =O14*'1-Specification & Data'!B$14*0.9 -> 46.350136
... C31: =C30+1 -> 29 | D31: 15 | E31: =F31*3.6 -> 24.14012 | F31: =D31/2.23694 -> 6.7055889 | G31: =G30+((F31+F30)/2) -> 238.13781 | H31: =(F31+F30)/2 -> 6.9291085 | I31: =(H31-F30)*2 -> -0.44703926 | J31: =IF(D31<=10,1,IF(AND(D31>10,D31<=20),2,IF(D31>20,3))) -> 2 | K31: 0 | L31: =('1-Specification & Data'!B$22*'1-Specification & Data'!B$10*'1-Specification & Data'!B$20*('1-Simulation'!F31^2-'1-Specification & Data'!B$21^2))/2 -> 18.801287 | M31: =Q31*I31 -> -315.10401 | N31: ='1-Specification & Data'!B$23*'1-Specification & Data'!B$18*8.91 -> 76.055206 | O31: =K31+L31+M31+N31 -> -220.24752 | P31: =IF(O31>=0,O31,IF(O31<0,-O31)) -> 220.24752 | Q31: =IF(J31=1,'1-Specification & Data'!B$52,IF('1-Simulation'!J31=2,'1-Specification & Data'!B$53,IF('1-Simulation'!J31=3,'1-Specification & Data'!B$54))) -> 704.86877 | R31: =(0.5*'1-Specification & Data'!B$18*'1-Simulation'!F31^2)/1000 -> 14.762222 | S31: =(Q31*9.81*T31)/1000 -> 0 | T31: 0 | U31: =O31*'1-Specification & Data'!B$14*0.9 -> -58.450303
B32: T1 start | C32: =C31+1 -> 30 | D32: 14 | E32: =F32*3.6 -> 22.530779 | F32: =D32/2.23694 -> 6.2585496 | G32: =G31+((F32+F31)/2) -> 244.61988 | H32: =(F32+F31)/2 -> 6.4820693 | I32: =(H32-F31)*2 -> -0.44703926 | J32: =IF(D32<=10,1,IF(AND(D32>10,D32<=20),2,IF(D32>20,3))) -> 2 | K32: 0 | L32: =('1-Specification & Data'!B$22*'1-Specification & Data'!B$10*'1-Specification & Data'!B$20*('1-Simulation'!F32^2-'1-Specification & Data'!B$21^2))/2 -> 16.076682 | M32: =Q32*I32 -> -315.10401 | N32: ='1-Specification & Data'!B$23*'1-Specification & Data'!B$18*8.91 -> 76.055206 | O32: =K32+L32+M32+N32 -> -222.97212 | P32: =IF(O32>=0,O32,IF(O32<0,-O32)) -> 222.97212 | Q32: =IF(J32=1,'1-Specification & Data'!B$52,IF('1-Simulation'!J32=2,'1-Specification & Data'!B$53,IF('1-Simulation'!J32=3,'1-Specification & Data'!B$54))) -> 704.86877 | R32: =(0.5*'1-Specification & Data'!B$18*'1-Simulation'!F32^2)/1000 -> 12.859536 | S32: =(Q32*9.81*T32)/1000 -> 0 | T32: 0 | U32: =O32*'1-Specification & Data'!B$14*0.9 -> -59.173371
C33: =C32+1 -> 31 | D33: 14 | E33: =F33*3.6 -> 22.530779 | F33: =D33/2.23694 -> 6.2585496 | G33: =G32+((F33+F32)/2) -> 250.87843 | H33: =(F33+F32)/2 -> 6.2585496 | I33: =(H33-F32)*2 -> 0 | J33: =IF(D33<=10,1,IF(AND(D33>10,D33<=20),2,IF(D33>20,3))) -> 2 | K33: 0 | L33: =('1-Specification & Data'!B$22*'1-Specification & Data'!B$10*'1-Specification & Data'!B$20*('1-Simulation'!F33^2-'1-Specification & Data'!B$21^2))/2 -> 16.076682 | M33: =Q33*I33 -> 0 | N33: ='1-Specification & Data'!B$23*'1-Specification & Data'!B$18*8.91 -> 76.055206 | O33: =K33+L33+M33+N33 -> 92.131888 | P33: =IF(O33>=0,O33,IF(O33<0,-O33)) -> 92.131888 | Q33: =IF(J33=1,'1-Specification & Data'!B$52,IF('1-Simulation'!J33=2,'1-Specification & Data'!B$53,IF('1-Simulation'!J33=3,'1-Specification & Data'!B$54))) -> 704.86877 | R33: =(0.5*'1-Specification & Data'!B$18*'1-Simulation'!F33^2)/1000 -> 12.859536 | S33: =(Q33*9.81*T33)/1000 -> 0 | T33: 0 | U33: =O33*'1-Specification & Data'!B$14*0.9 -> 24.450386
C34: =C33+1 -> 32 | D34: 14 | E34: =F34*3.6 -> 22.530779 | F34: =D34/2.23694 -> 6.2585496 | G34: =G33+((F34+F33)/2) -> 257.13698 | H34: =(F34+F33)/2 -> 6.2585496 | I34: =(H34-F33)*2 -> 0 | J34: =IF(D34<=10,1,IF(AND(D34>10,D34<=20),2,IF(D34>20,3))) -> 2 | K34: 0 | L34: =('1-Specification & Data'!B$22*'1-Specification & Data'!B$10*'1-Specification & Data'!B$20*('1-Simulation'!F34^2-'1-Specification & Data'!B$21^2))/2 -> 16.076682 | M34: =Q34*I34 -> 0 | N34: ='1-Specification & Data'!B$23*'1-Specification & Data'!B$18*8.91 -> 76.055206 | O34: =K34+L34+M34+N34 -> 92.131888 | P34: =IF(O34>=0,O34,IF(O34<0,-O34)) -> 92.131888 | Q34: =IF(J34=1,'1-Specification & Data'!B$52,IF('1-Simulation'!J34=2,'1-Specification & Data'!B$53,IF('1-Simulation'!J34=3,'1-Specification & Data'!B$54))) -> 704.86877 | R34: =(0.5*'1-Specification & Data'!B$18*'1-Simulation'!F34^2)/1000 -> 12.859536 | S34: =(Q34*9.81*T34)/1000 -> 0 | T34: 0 | U34: =O34*'1-Specification & Data'!B$14*0.9 -> 24.450386
C35: =C34+1 -> 33 | D35: 14 | E35: =F35*3.6 -> 22.530779 | F35: =D35/2.23694 -> 6.2585496 | G35: =G34+((F35+F34)/2) -> 263.39553 | H35: =(F35+F34)/2 -> 6.2585496 | I35: =(H35-F34)*2 -> 0 | J35: =IF(D35<=10,1,IF(AND(D35>10,D35<=20),2,IF(D35>20,3))) -> 2 | K35: 0 | L35: =('1-Specification & Data'!B$22*'1-Specification & Data'!B$10*'1-Specification & Data'!B$20*('1-Simulation'!F35^2-'1-Specification & Data'!B$21^2))/2 -> 16.076682 | M35: =Q35*I35 -> 0 | N35: ='1-Specification & Data'!B$23*'1-Specification & Data'!B$18*8.91 -> 76.055206 | O35: =K35+L35+M35+N35 -> 92.131888 | P35: =IF(O35>=0,O35,IF(O35<0,-O35)) -> 92.131888 | Q35: =IF(J35=1,'1-Specification & Data'!B$52,IF('1-Simulation'!J35=2,'1-Specification & Data'!B$53,IF('1-Simulation'!J35=3,'1-Specification & Data'!B$54))) -> 704.86877 | R35: =(0.5*'1-Specification & Data'!B$18*'1-Simulation'!F35^2)/1000 -> 12.859536 | S35: =(Q35*9.81*T35)/1000 -> 0 | T35: 0 | U35: =O35*'1-Specification & Data'!B$14*0.9 -> 24.450386
C36: =C35+1 -> 34 | D36: 14 | E36: =F36*3.6 -> 22.530779 | F36: =D36/2.23694 -> 6.2585496 | G36: =G35+((F36+F35)/2) -> 269.65408 | H36: =(F36+F35)/2 -> 6.2585496 | I36: =(H36-F35)*2 -> 0 | J36: =IF(D36<=10,1,IF(AND(D36>10,D36<=20),2,IF(D36>20,3))) -> 2 | K36: 0 | L36: =('1-Specification & Data'!B$22*'1-Specification & Data'!B$10*'1-Specification & Data'!B$20*('1-Simulation'!F36^2-'1-Specification & Data'!B$21^2))/2 -> 16.076682 | M36: =Q36*I36 -> 0 | N36: ='1-Specification & Data'!B$23*'1-Specification & Data'!B$18*8.91 -> 76.055206 | O36: =K36+L36+M36+N36 -> 92.131888 | P36: =IF(O36>=0,O36,IF(O36<0,-O36)) -> 92.131888 | Q36: =IF(J36=1,'1-Specification & Data'!B$52,IF('1-Simulation'!J36=2,'1-Specification & Data'!B$53,IF('1-Simulation'!J36=3,'1-Specification & Data'!B$54))) -> 704.86877 | R36: =(0.5*'1-Specification & Data'!B$18*'1-Simulation'!F36^2)/1000 -> 12.859536 | S36: =(Q36*9.81*T36)/1000 -> 0 | T36: 0 | U36: =O36*'1-Specification & Data'!B$14*0.9 -> 24.450386
C37: =C36+1 -> 35 | D37: 14 | E37: =F37*3.6 -> 22.530779 | F37: =D37/2.23694 -> 6.2585496 | G37: =G36+((F37+F36)/2) -> 275.91263 | H37: =(F37+F36)/2 -> 6.2585496 | I37: =(H37-F36)*2 -> 0 | J37: =IF(D37<=10,1,IF(AND(D37>10,D37<=20),2,IF(D37>20,3))) -> 2 | K37: 0 | L37: =('1-Specification & Data'!B$22*'1-Specification & Data'!B$10*'1-Specification & Data'!B$20*('1-Simulation'!F37^2-'1-Specification & Data'!B$21^2))/2 -> 16.076682 | M37: =Q37*I37 -> 0 | N37: ='1-Specification & Data'!B$23*'1-Specification & Data'!B$18*8.91 -> 76.055206 | O37: =K37+L37+M37+N37 -> 92.131888 | P37: =IF(O37>=0,O37,IF(O37<0,-O37)) -> 92.131888 | Q37: =IF(J37=1,'1-Specification & Data'!B$52,IF('1-Simulation'!J37=2,'1-Specification & Data'!B$53,IF('1-Simulation'!J37=3,'1-Specification & Data'!B$54))) -> 704.86877 | R37: =(0.5*'1-Specification & Data'!B$18*'1-Simulation'!F37^2)/1000 -> 12.859536 | S37: =(Q37*9.81*T37)/1000 -> 0 | T37: 0 | U37: =O37*'1-Specification & Data'!B$14*0.9 -> 24.450386
C38: =C37+1 -> 36 | D38: 14 | E38: =F38*3.6 -> 22.530779 | F38: =D38/2.23694 -> 6.2585496 | G38: =G37+((F38+F37)/2) -> 282.17118 | H38: =(F38+F37)/2 -> 6.2585496 | I38: =(H38-F37)*2 -> 0 | J38: =IF(D38<=10,1,IF(AND(D38>10,D38<=20),2,IF(D38>20,3))) -> 2 | K38: 0 | L38: =('1-Specification & Data'!B$22*'1-Specification & Data'!B$10*'1-Specification & Data'!B$20*('1-Simulation'!F38^2-'1-Specification & Data'!B$21^2))/2 -> 16.076682 | M38: =Q38*I38 -> 0 | N38: ='1-Specification & Data'!B$23*'1-Specification & Data'!B$18*8.91 -> 76.055206 | O38: =K38+L38+M38+N38 -> 92.131888 | P38: =IF(O38>=0,O38,IF(O38<0,-O38)) -> 92.131888 | Q38: =IF(J38=1,'1-Specification & Data'!B$52,IF('1-Simulation'!J38=2,'1-Specification & Data'!B$53,IF('1-Simulation'!J38=3,'1-Specification & Data'!B$54))) -> 704.86877 | R38: =(0.5*'1-Specification & Data'!B$18*'1-Simulation'!F38^2)/1000 -> 12.859536 | S38: =(Q38*9.81*T38)/1000 -> 0 | T38: 0 | U38: =O38*'1-Specification & Data'!B$14*0.9 -> 24.450386
C39: =C38+1 -> 37 | D39: 14 | E39: =F39*3.6 -> 22.530779 | F39: =D39/2.23694 -> 6.2585496 | G39: =G38+((F39+F38)/2) -> 288.42973 | H39: =(F39+F38)/2 -> 6.2585496 | I39: =(H39-F38)*2 -> 0 | J39: =IF(D39<=10,1,IF(AND(D39>10,D39<=20),2,IF(D39>20,3))) -> 2 | K39: 0 | L39: =('1-Specification & Data'!B$22*'1-Specification & Data'!B$10*'1-Specification & Data'!B$20*('1-Simulation'!F39^2-'1-Specification & Data'!B$21^2))/2 -> 16.076682 | M39: =Q39*I39 -> 0 | N39: ='1-Specification & Data'!B$23*'1-Specification & Data'!B$18*8.91 -> 76.055206 | O39: =K39+L39+M39+N39 -> 92.131888 | P39: =IF(O39>=0,O39,IF(O39<0,-O39)) -> 92.131888 | Q39: =IF(J39=1,'1-Specification & Data'!B$52,IF('1-Simulation'!J39=2,'1-Specification & Data'!B$53,IF('1-Simulation'!J39=3,'1-Specification & Data'!B$54))) -> 704.86877 | R39: =(0.5*'1-Specification & Data'!B$18*'1-Simulation'!F39^2)/1000 -> 12.859536 | S39: =(Q39*9.81*T39)/1000 -> 0 | T39: 0 | U39: =O39*'1-Specification & Data'!B$14*0.9 -> 24.450386
C40: =C39+1 -> 38 | D40: 14 | E40: =F40*3.6 -> 22.530779 | F40: =D40/2.23694 -> 6.2585496 | G40: =G39+((F40+F39)/2) -> 294.68828 | H40: =(F40+F39)/2 -> 6.2585496 | I40: =(H40-F39)*2 -> 0 | J40: =IF(D40<=10,1,IF(AND(D40>10,D40<=20),2,IF(D40>20,3))) -> 2 | K40: 0 | L40: =('1-Specification & Data'!B$22*'1-Specification & Data'!B$10*'1-Specification & Data'!B$20*('1-Simulation'!F40^2-'1-Specification & Data'!B$21^2))/2 -> 16.076682 | M40: =Q40*I40 -> 0 | N40: ='1-Specification & Data'!B$23*'1-Specification & Data'!B$18*8.91 -> 76.055206 | O40: =K40+L40+M40+N40 -> 92.131888 | P40: =IF(O40>=0,O40,IF(O40<0,-O40)) -> 92.131888 | Q40: =IF(J40=1,'1-Specification & Data'!B$52,IF('1-Simulation'!J40=2,'1-Specification & Data'!B$53,IF('1-Simulation'!J40=3,'1-Specification & Data'!B$54))) -> 704.86877 | R40: =(0.5*'1-Specification & Data'!B$18*'1-Simulation'!F40^2)/1000 -> 12.859536 | S40: =(Q40*9.81*T40)/1000 -> 0 | T40: 0 | U40: =O40*'1-Specification & Data'!B$14*0.9 -> 24.450386
C41: =C40+1 -> 39 | D41: 14 | E41: =F41*3.6 -> 22.530779 | F41: =D41/2.23694 -> 6.2585496 | G41: =G40+((F41+F40)/2) -> 300.94683 | H41: =(F41+F40)/2 -> 6.2585496 | I41: =(H41-F40)*2 -> 0 | J41: =IF(D41<=10,1,IF(AND(D41>10,D41<=20),2,IF(D41>20,3))) -> 2 | K41: 0 | L41: =('1-Specification & Data'!B$22*'1-Specification & Data'!B$10*'1-Specification & Data'!B$20*('1-Simulation'!F41^2-'1-Specification & Data'!B$21^2))/2 -> 16.076682 | M41: =Q41*I41 -> 0 | N41: ='1-Specification & Data'!B$23*'1-Specification & Data'!B$18*8.91 -> 76.055206 | O41: =K41+L41+M41+N41 -> 92.131888 | P41: =IF(O41>=0,O41,IF(O41<0,-O41)) -> 92.131888 | Q41: =IF(J41=1,'1-Specification & Data'!B$52,IF('1-Simulation'!J41=2,'1-Specification & Data'!B$53,IF('1-Simulation'!J41=3,'1-Specification & Data'!B$54))) -> 704.86877 | R41: =(0.5*'1-Specification & Data'!B$18*'1-Simulation'!F41^2)/1000 -> 12.859536 | S41: =(Q41*9.81*T41)/1000 -> 0 | T41: 0 | U41: =O41*'1-Specification & Data'!B$14*0.9 -> 24.450386
C42: =C41+1 -> 40 | D42: 14 | E42: =F42*3.6 -> 22.530779 | F42: =D42/2.23694 -> 6.2585496 | G42: =G41+((F42+F41)/2) -> 307.20538 | H42: =(F42+F41)/2 -> 6.2585496 | I42: =(H42-F41)*2 -> 0 | J42: =IF(D42<=10,1,IF(AND(D42>10,D42<=20),2,IF(D42>20,3))) -> 2 | K42: 0 | L42: =('1-Specification & Data'!B$22*'1-Specification & Data'!B$10*'1-Specification & Data'!B$20*('1-Simulation'!F42^2-'1-Specification & Data'!B$21^2))/2 -> 16.076682 | M42: =Q42*I42 -> 0 | N42: ='1-Specification & Data'!B$23*'1-Specification & Data'!B$18*8.91 -> 76.055206 | O42: =K42+L42+M42+N42 -> 92.131888 | P42: =IF(O42>=0,O42,IF(O42<0,-O42)) -> 92.131888 | Q42: =IF(J42=1,'1-Specification & Data'!B$52,IF('1-Simulation'!J42=2,'1-Specification & Data'!B$53,IF('1-Simulation'!J42=3,'1-Specification & Data'!B$54))) -> 704.86877 | R42: =(0.5*'1-Specification & Data'!B$18*'1-Simulation'!F42^2)/1000 -> 12.859536 | S42: =(Q42*9.81*T42)/1000 -> 0 | T42: 0 | U42: =O42*'1-Specification & Data'!B$14*0.9 -> 24.450386
C43: =C42+1 -> 41 | D43: 14 | E43: =F43*3.6 -> 22.530779 | F43: =D43/2.23694 -> 6.2585496 | G43: =G42+((F43+F42)/2) -> 313.46393 | H43: =(F43+F42)/2 -> 6.2585496 | I43: =(H43-F42)*2 -> 0 | J43: =IF(D43<=10,1,IF(AND(D43>10,D43<=20),2,IF(D43>20,3))) -> 2 | K43: 0 | L43: =('1-Specification & Data'!B$22*'1-Specification & Data'!B$10*'1-Specification & Data'!B$20*('1-Simulation'!F43^2-'1-Specification & Data'!B$21^2))/2 -> 16.076682 | M43: =Q43*I43 -> 0 | N43: ='1-Specification & Data'!B$23*'1-Specification & Data'!B$18*8.91 -> 76.055206 | O43: =K43+L43+M43+N43 -> 92.131888 | P43: =IF(O43>=0,O43,IF(O43<0,-O43)) -> 92.131888 | Q43: =IF(J43=1,'1-Specification & Data'!B$52,IF('1-Simulation'!J43=2,'1-Specification & Data'!B$53,IF('1-Simulation'!J43=3,'1-Specification & Data'!B$54))) -> 704.86877 | R43: =(0.5*'1-Specification & Data'!B$18*'1-Simulation'!F43^2)/1000 -> 12.859536 | S43: =(Q43*9.81*T43)/1000 -> 0 | T43: 0 | U43: =O43*'1-Specification & Data'!B$14*0.9 -> 24.450386
C44: =C43+1 -> 42 | D44: 14 | E44: =F44*3.6 -> 22.530779 | F44: =D44/2.23694 -> 6.2585496 | G44: =G43+((F44+F43)/2) -> 319.72248 | H44: =(F44+F43)/2 -> 6.2585496 | I44: =(H44-F43)*2 -> 0 | J44: =IF(D44<=10,1,IF(AND(D44>10,D44<=20),2,IF(D44>20,3))) -> 2 | K44: 0 | L44: =('1-Specification & Data'!B$22*'1-Specification & Data'!B$10*'1-Specification & Data'!B$20*('1-Simulation'!F44^2-'1-Specification & Data'!B$21^2))/2 -> 16.076682 | M44: =Q44*I44 -> 0 | N44: ='1-Specification & Data'!B$23*'1-Specification & Data'!B$18*8.91 -> 76.055206 | O44: =K44+L44+M44+N44 -> 92.131888 | P44: =IF(O44>=0,O44,IF(O44<0,-O44)) -> 92.131888 | Q44: =IF(J44=1,'1-Specification & Data'!B$52,IF('1-Simulation'!J44=2,'1-Specification & Data'!B$53,IF('1-Simulation'!J44=3,'1-Specification & Data'!B$54))) -> 704.86877 | R44: =(0.5*'1-Specification & Data'!B$18*'1-Simulation'!F44^2)/1000 -> 12.859536 | S44: =(Q44*9.81*T44)/1000 -> 0 | T44: 0 | U44: =O44*'1-Specification & Data'!B$14*0.9 -> 24.450386
C45: =C44+1 -> 43 | D45: 14 | E45: =F45*3.6 -> 22.530779 | F45: =D45/2.23694 -> 6.2585496 | G45: =G44+((F45+F44)/2) -> 325.98103 | H45: =(F45+F44)/2 -> 6.2585496 | I45: =(H45-F44)*2 -> 0 | J45: =IF(D45<=10,1,IF(AND(D45>10,D45<=20),2,IF(D45>20,3))) -> 2 | K45: 0 | L45: =('1-Specification & Data'!B$22*'1-Specification & Data'!B$10*'1-Specification & Data'!B$20*('1-Simulation'!F45^2-'1-Specification & Data'!B$21^2))/2 -> 16.076682 | M45: =Q45*I45 -> 0 | N45: ='1-Specification & Data'!B$23*'1-Specification & Data'!B$18*8.91 -> 76.055206 | O45: =K45+L45+M45+N45 -> 92.131888 | P45: =IF(O45>=0,O45,IF(O45<0,-O45)) -> 92.131888 | Q45: =IF(J45=1,'1-Specification & Data'!B$52,IF('1-Simulation'!J45=2,'1-Specification & Data'!B$53,IF('1-Simulation'!J45=3,'1-Specification & Data'!B$54))) -> 704.86877 | R45: =(0.5*'1-Specification & Data'!B$18*'1-Simulation'!F45^2)/1000 -> 12.859536 | S45: =(Q45*9.81*T45)/1000 -> 0 | T45: 0 | U45: =O45*'1-Specification & Data'!B$14*0.9 -> 24.450386
B46: T1 finish | C46: =C45+1 -> 44 | D46: 14 | E46: =F46*3.6 -> 22.530779 | F46: =D46/2.23694 -> 6.2585496 | G46: =G45+((F46+F45)/2) -> 332.23958 | H46: =(F46+F45)/2 -> 6.2585496 | I46: =(H46-F45)*2 -> 0 | J46: =IF(D46<=10,1,IF(AND(D46>10,D46<=20),2,IF(D46>20,3))) -> 2 | K46: 0 | L46: =('1-Specification & Data'!B$22*'1-Specification & Data'!B$10*'1-Specification & Data'!B$20*('1-Simulation'!F46^2-'1-Specification & Data'!B$21^2))/2 -> 16.076682 | M46: =Q46*I46 -> 0 | N46: ='1-Specification & Data'!B$23*'1-Specification & Data'!B$18*8.91 -> 76.055206 | O46: =K46+L46+M46+N46 -> 92.131888 | P46: =IF(O46>=0,O46,IF(O46<0,-O46)) -> 92.131888 | Q46: =IF(J46=1,'1-Specification & Data'!B$52,IF('1-Simulation'!J46=2,'1-Specification & Data'!B$53,IF('1-Simulation'!J46=3,'1-Specification & Data'!B$54))) -> 704.86877 | R46: =(0.5*'1-Specification & Data'!B$18*'1-Simulation'!F46^2)/1000 -> 12.859536 | S46: =(Q46*9.81*T46)/1000 -> 0 | T46: 0 | U46: =O46*'1-Specification & Data'!B$14*0.9 -> 24.450386
C47: =C46+1 -> 45 | D47: 15 | E47: =F47*3.6 -> 24.14012 | F47: =D47/2.23694 -> 6.7055889 | G47: =G46+((F47+F46)/2) -> 338.72165 | H47: =(F47+F46)/2 -> 6.4820693 | I47: =(H47-F46)*2 -> 0.44703926 | J47: =IF(D47<=10,1,IF(AND(D47>10,D47<=20),2,IF(D47>20,3))) -> 2 | K47: 0 | L47: =('1-Specification & Data'!B$22*'1-Specification & Data'!B$10*'1-Specification & Data'!B$20*('1-Simulation'!F47^2-'1-Specification & Data'!B$21^2))/2 -> 18.801287 | M47: =Q47*I47 -> 315.10401 | N47: ='1-Specification & Data'!B$23*'1-Specification & Data'!B$18*8.91 -> 76.055206 | O47: =K47+L47+M47+N47 -> 409.9605 | P47: =IF(O47>=0,O47,IF(O47<0,-O47)) -> 409.9605 | Q47: =IF(J47=1,'1-Specification & Data'!B$52,IF('1-Simulation'!J47=2,'1-Specification & Data'!B$53,IF('1-Simulation'!J47=3,'1-Specification & Data'!B$54))) -> 704.86877 | R47: =(0.5*'1-Specification & Data'!B$18*'1-Simulation'!F47^2)/1000 -> 14.762222 | S47: =(Q47*9.81*T47)/1000 -> 0 | T47: 0 | U47: =O47*'1-Specification & Data'!B$14*0.9 -> 108.79721
C48: =C47+1 -> 46 | D48: 16.5 | E48: =F48*3.6 -> 26.554132 | F48: =D48/2.23694 -> 7.3761478 | G48: =G47+((F48+F47)/2) -> 345.76251 | H48: =(F48+F47)/2 -> 7.0408683 | I48: =(H48-F47)*2 -> 0.67055889 | J48: =IF(D48<=10,1,IF(AND(D48>10,D48<=20),2,IF(D48>20,3))) -> 2 | K48: 0 | L48: =('1-Specification & Data'!B$22*'1-Specification & Data'!B$10*'1-Specification & Data'!B$20*('1-Simulation'!F48^2-'1-Specification & Data'!B$21^2))/2 -> 23.240515 | M48: =Q48*I48 -> 472.65602 | N48: ='1-Specification & Data'!B$23*'1-Specification & Data'!B$18*8.91 -> 76.055206 | O48: =K48+L48+M48+N48 -> 571.95174 | P48: =IF(O48>=0,O48,IF(O48<0,-O48)) -> 571.95174 | Q48: =IF(J48=1,'1-Specification & Data'!B$52,IF('1-Simulation'!J48=2,'1-Specification & Data'!B$53,IF('1-Simulation'!J48=3,'1-Specification & Data'!B$54))) -> 704.86877 | R48: =(0.5*'1-Specification & Data'!B$18*'1-Simulation'!F48^2)/1000 -> 17.862289 | S48: =(Q48*9.81*T48)/1000 -> 0 | T48: 0 | U48: =O48*'1-Specification & Data'!B$14*0.9 -> 151.78719
C49: =C48+1 -> 47 | D49: 18 | E49: =F49*3.6 -> 28.968144 | F49: =D49/2.23694 -> 8.0467067 | G49: =G48+((F49+F48)/2) -> 353.47394 | H49: =(F49+F48)/2 -> 7.7114272 | I49: =(H49-F48)*2 -> 0.67055889 | J49: =IF(D49<=10,1,IF(AND(D49>10,D49<=20),2,IF(D49>20,3))) -> 2 | K49: 0 | L49: =('1-Specification & Data'!B$22*'1-Specification & Data'!B$10*'1-Specification & Data'!B$20*('1-Simulation'!F49^2-'1-Specification & Data'!B$21^2))/2 -> 28.102525 | M49: =Q49*I49 -> 472.65602 | N49: ='1-Specification & Data'!B$23*'1-Specification & Data'!B$18*8.91 -> 76.055206 | O49: =K49+L49+M49+N49 -> 576.81375 | P49: =IF(O49>=0,O49,IF(O49<0,-O49)) -> 576.81375 | Q49: =IF(J49=1,'1-Specification & Data'!B$52,IF('1-Simulation'!J49=2,'1-Specification & Data'!B$53,IF('1-Simulation'!J49=3,'1-Specification & Data'!B$54))) -> 704.86877 | R49: =(0.5*'1-Specification & Data'!B$18*'1-Simulation'!F49^2)/1000 -> 21.2576 | S49: =(Q49*9.81*T49)/1000 -> 0 | T49: 0 | U49: =O49*'1-Specification & Data'!B$14*0.9 -> 153.07749
C50: =C49+1 -> 48 | D50: 20 | E50: =F50*3.6 -> 32.186827 | F50: =D50/2.23694 -> 8.9407852 | G50: =G49+((F50+F49)/2) -> 361.96769 | H50: =(F50+F49)/2 -> 8.4937459 | I50: =(H50-F49)*2 -> 0.89407852 | J50: =IF(D50<=10,1,IF(AND(D50>10,D50<=20),2,IF(D50>20,3))) -> 2 | K50: 0 | L50: =('1-Specification & Data'!B$22*'1-Specification & Data'!B$10*'1-Specification & Data'!B$20*('1-Simulation'!F50^2-'1-Specification & Data'!B$21^2))/2 -> 35.242869 | M50: =Q50*I50 -> 630.20802 | N50: ='1-Specification & Data'!B$23*'1-Specification & Data'!B$18*8.91 -> 76.055206 | O50: =K50+L50+M50+N50 -> 741.5061 | P50: =IF(O50>=0,O50,IF(O50<0,-O50)) -> 741.5061 | Q50: =IF(J50=1,'1-Specification & Data'!B$52,IF('1-Simulation'!J50=2,'1-Specification & Data'!B$53,IF('1-Simulation'!J50=3,'1-Specification & Data'!B$54))) -> 704.86877 | R50: =(0.5*'1-Specification & Data'!B$18*'1-Simulation'!F50^2)/1000 -> 26.243951 | S50: =(Q50*9.81*T50)/1000 -> 0 | T50: 0 | U50: =O50*'1-Specification & Data'!B$14*0.9 -> 196.78431
C51: =C50+1 -> 49 | D51: 20.2 | E51: =F51*3.6 -> 32.508695 | F51: =D51/2.23694 -> 9.030193 | G51: =G50+((F51+F50)/2) -> 370.95318 | H51: =(F51+F50)/2 -> 8.9854891 | I51: =(H51-F50)*2 -> 0.089407852 | J51: =IF(D51<=10,1,IF(AND(D51>10,D51<=20),2,IF(D51>20,3))) -> 3 | K51: 0 | L51: =('1-Specification & Data'!B$22*'1-Specification & Data'!B$10*'1-Specification & Data'!B$20*('1-Simulation'!F51^2-'1-Specification & Data'!B$21^2))/2 -> 35.998243 | M51: =Q51*I51 -> 62.599237 | N51: ='1-Specification & Data'!B$23*'1-Specification & Data'!B$18*8.91 -> 76.055206 | O51: =K51+L51+M51+N51 -> 174.65269 | P51: =IF(O51>=0,O51,IF(O51<0,-O51)) -> 174.65269 | Q51: =IF(J51=1,'1-Specification & Data'!B$52,IF('1-Simulation'!J51=2,'1-Specification & Data'!B$53,IF('1-Simulation'!J51=3,'1-Specification & Data'!B$54))) -> 700.15369 | R51: =(0.5*'1-Specification & Data'!B$18*'1-Simulation'!F51^2)/1000 -> 26.771454 | S51: =(Q51*9.81*T51)/1000 -> 0 | T51: 0 | U51: =O51*'1-Specification & Data'!B$14*0.9 -> 46.350136
C52: =C51+1 -> 50 | D52: 21.5 | E52: =F52*3.6 -> 34.600839 | F52: =D52/2.23694 -> 9.6113441 | G52: =G51+((F52+F51)/2) -> 380.27395 | H52: =(F52+F51)/2 -> 9.3207685 | I52: =(H52-F51)*2 -> 0.58115104 | J52: =IF(D52<=10,1,IF(AND(D52>10,D52<=20),2,IF(D52>20,3))) -> 3 | K52: 0 | L52: =('1-Specification & Data'!B$22*'1-Specification & Data'!B$10*'1-Specification & Data'!B$20*('1-Simulation'!F52^2-'1-Specification & Data'!B$21^2))/2 -> 41.091375 | M52: =Q52*I52 -> 406.89504 | N52: ='1-Specification & Data'!B$23*'1-Specification & Data'!B$18*8.91 -> 76.055206 | O52: =K52+L52+M52+N52 -> 524.04162 | P52: =IF(O52>=0,O52,IF(O52<0,-O52)) -> 524.04162 | Q52: =IF(J52=1,'1-Specification & Data'!B$52,IF('1-Simulation'!J52=2,'1-Specification & Data'!B$53,IF('1-Simulation'!J52=3,'1-Specification & Data'!B$54))) -> 700.15369 | R52: =(0.5*'1-Specification & Data'!B$18*'1-Simulation'!F52^2)/1000 -> 30.328166 | S52: =(Q52*9.81*T52)/1000 -> 0 | T52: 0 | U52: =O52*'1-Specification & Data'!B$14*0.9 -> 139.07258
C53: =C52+1 -> 51 | D53: 22.5 | E53: =F53*3.6 -> 36.21018 | F53: =D53/2.23694 -> 10.058383 | G53: =G52+((F53+F52)/2) -> 390.10881 | H53: =(F53+F52)/2 -> 9.8348637 | I53: =(H53-F52)*2 -> 0.44703926 | J53: =IF(D53<=10,1,IF(AND(D53>10,D53<=20),2,IF(D53>20,3))) -> 3 | K53: 0 | L53: =('1-Specification & Data'!B$22*'1-Specification & Data'!B$10*'1-Specification & Data'!B$20*('1-Simulation'!F53^2-'1-Specification & Data'!B$21^2))/2 -> 45.225258 | M53: =Q53*I53 -> 312.99619 | N53: ='1-Specification & Data'!B$23*'1-Specification & Data'!B$18*8.91 -> 76.055206 | O53: =K53+L53+M53+N53 -> 434.27665 | P53: =IF(O53>=0,O53,IF(O53<0,-O53)) -> 434.27665 | Q53: =IF(J53=1,'1-Specification & Data'!B$52,IF('1-Simulation'!J53=2,'1-Specification & Data'!B$53,IF('1-Simulation'!J53=3,'1-Specification & Data'!B$54))) -> 700.15369 | R53: =(0.5*'1-Specification & Data'!B$18*'1-Simulation'!F53^2)/1000 -> 33.215 | S53: =(Q53*9.81*T53)/1000 -> 0 | T53: 0 | U53: =O53*'1-Specification & Data'!B$14*0.9 -> 115.25034
C54: =C53+1 -> 52 | D54: 24 | E54: =F54*3.6 -> 38.624192 | F54: =D54/2.23694 -> 10.728942 | G54: =G53+((F54+F53)/2) -> 400.50247 | H54: =(F54+F53)/2 -> 10.393663 | I54: =(H54-F53)*2 -> 0.67055889 | J54: =IF(D54<=10,1,IF(AND(D54>10,D54<=20),2,IF(D54>20,3))) -> 3 | K54: 0 | L54: =('1-Specification & Data'!B$22*'1-Specification & Data'!B$10*'1-Specification & Data'!B$20*('1-Simulation'!F54^2-'1-Specification & Data'!B$21^2))/2 -> 51.778403 | M54: =Q54*I54 -> 469.49428 | N54: ='1-Specification & Data'!B$23*'1-Specification & Data'!B$18*8.91 -> 76.055206 | O54: =K54+L54+M54+N54 -> 597.32789 | P54: =IF(O54>=0,O54,IF(O54<0,-O54)) -> 597.32789 | Q54: =IF(J54=1,'1-Specification & Data'!B$52,IF('1-Simulation'!J54=2,'1-Specification & Data'!B$53,IF('1-Simulation'!J54=3,'1-Specification & Data'!B$54))) -> 700.15369 | R54: =(0.5*'1-Specification & Data'!B$18*'1-Simulation'!F54^2)/1000 -> 37.791289 | S54: =(Q54*9.81*T54)/1000 -> 0 | T54: 0 | U54: =O54*'1-Specification & Data'!B$14*0.9 -> 158.52163
C55: =C54+1 -> 53 | D55: 26 | E55: =F55*3.6 -> 41.842875 | F55: =D55/2.23694 -> 11.623021 | G55: =G54+((F55+F54)/2) -> 411.67845 | H55: =(F55+F54)/2 -> 11.175981 | I55: =(H55-F54)*2 -> 0.89407852 | J55: =IF(D55<=10,1,IF(AND(D55>10,D55<=20),2,IF(D55>20,3))) -> 3 | K55: 0 | L55: =('1-Specification & Data'!B$22*'1-Specification & Data'!B$10*'1-Specification & Data'!B$20*('1-Simulation'!F55^2-'1-Specification & Data'!B$21^2))/2 -> 61.173593 | M55: =Q55*I55 -> 625.99237 | N55: ='1-Specification & Data'!B$23*'1-Specification & Data'!B$18*8.91 -> 76.055206 | O55: =K55+L55+M55+N55 -> 763.22117 | P55: =IF(O55>=0,O55,IF(O55<0,-O55)) -> 763.22117 | Q55: =IF(J55=1,'1-Specification & Data'!B$52,IF('1-Simulation'!J55=2,'1-Specification & Data'!B$53,IF('1-Simulation'!J55=3,'1-Specification & Data'!B$54))) -> 700.15369 | R55: =(0.5*'1-Specification & Data'!B$18*'1-Simulation'!F55^2)/1000 -> 44.352277 | S55: =(Q55*9.81*T55)/1000 -> 0 | T55: 0 | U55: =O55*'1-Specification & Data'!B$14*0.9 -> 202.54716
C56: =C55+1 -> 54 | D56: 26.5 | E56: =F56*3.6 -> 42.647545 | F56: =D56/2.23694 -> 11.84654 | G56: =G55+((F56+F55)/2) -> 423.41323 | H56: =(F56+F55)/2 -> 11.734781 | I56: =(H56-F55)*2 -> 0.22351963 | J56: =IF(D56<=10,1,IF(AND(D56>10,D56<=20),2,IF(D56>20,3))) -> 3 | K56: 0 | L56: =('1-Specification & Data'!B$22*'1-Specification & Data'!B$10*'1-Specification & Data'!B$20*('1-Simulation'!F56^2-'1-Specification & Data'!B$21^2))/2 -> 63.63983 | M56: =Q56*I56 -> 156.49809 | N56: ='1-Specification & Data'!B$23*'1-Specification & Data'!B$18*8.91 -> 76.055206 | O56: =K56+L56+M56+N56 -> 296.19313 | P56: =IF(O56>=0,O56,IF(O56<0,-O56)) -> 296.19313 | Q56: =IF(J56=1,'1-Specification & Data'!B$52,IF('1-Simulation'!J56=2,'1-Specification & Data'!B$53,IF('1-Simulation'!J56=3,'1-Specification & Data'!B$54))) -> 700.15369 | R56: =(0.5*'1-Specification & Data'!B$18*'1-Simulation'!F56^2)/1000 -> 46.074536 | S56: =(Q56*9.81*T56)/1000 -> 0 | T56: 0 | U56: =O56*'1-Specification & Data'!B$14*0.9 -> 78.6051
...

Sheet 2- Specification Data
B2: Efficiencies | C2: η (%)
B3: Transmission Efficiency (ηT) | C3: 80
B4: Motor efficiency (ηMo) | C4: 85
B5: Controller efficiency (ηCnt) | C5: 95
B6: Battery efficiency (ηBt) | C6: 98
B7: Generator efficiency (ηGen) | C7: 90
B8: Regenerative braking efficiency (ηRB) | C8: 60
B11: Componenets Selection | C11: Motor | D11: Generator | E11: Controller | F11: Battery (*4)
B12: Rated Values | C12: 48V, 8.5kW-14kW | D12: 12V-48V, 2kW-3kW | F12: 12.8V- 216Ah
B13: Weight (kg) | C13: 12.7006 | D13: 9 | E13: 0.8 | F13: =4*28.1 -> 112.4
B14: Dimension (mm) | F14: 250*150*70

Sheet 2-Simulaation
A1: Time (s) | B1: Engine RPM | C1: Engine Torque (Nm) | D1: Power generated by Generator (kW) | E1: Wheel RPM | F1: Motor RPM | G1: Power @ Wheel (kW) | H1: Power need from motor (kW) | I1: Current @ Motor (Amp) | J1: Motor Torque (Nm) | K1: Power needed from Controller (kW) | L1: Power needed from Generator (kW) | M1: Power generated by Regenerative Braking (kW) | N1: Power supply to the battery by generator (kW) | O1: Power goes in the Battery (kW) | P1: Charging Current (Amp) | Q1: Power needed from the Battery (kW) | R1: Discharge Current (Amp) | S1: Energy goes and drawn in battery (kWh) | T1: SOC %
A2: 0 | B2: 5500 | C2: 14 | D2: 2.5 | E2: ='1-Simulation'!F2*60/(2*PI()*'1-Specification & Data'!B$14) -> 0 | F2: 0 | G2: =2*PI()*E2*'1-Simulation'!U2/(1000*60) -> 0 | H2: =IF(G2>0,G2/0.85,0) -> 0 | I2: =(H2*1000)/48 -> 0 | J2: 0 | K2: =H2/0.853 -> 0 | L2: =K2/0.95 -> 0 | M2: =IF(G2<0,-G2*0.6*0.8*0.85*0.95*0.98,0) -> 0 | N2: =IF(L2<D2,D2-L2,0) -> 2.5 | O2: =M2+(IF(L2<D2,D2-K2,0)) -> 2.5 | P2: =(O2*1000)/56.8 -> 44.014085 | Q2: =IF(L2>D2,K2-D2,0) -> 0 | R2: =(Q2*1000)/48 -> 0 | S2: =IF(O2>0,O2/3600,-Q2/3600)+0.6 -> 0.60069444 | T2: =(100*S2)/1.2 -> 50.05787
A3: =1+A2 -> 1 | B3: 5500 | C3: 14 | D3: 2.5 | E3: ='1-Simulation'!F3*60/(2*PI()*'1-Specification & Data'!B$14) -> 82.519895 | F3: =E3*(IF('1-Simulation'!J3=1,'1-Specification & Data'!H$7,IF('1-Simulation'!J3=2,'1-Specification & Data'!H$8,IF('1-Simulation'!J3=3,'1-Specification & Data'!H$9)))) -> 1460.9237 | G3: =2*PI()*E3*'1-Simulation'!U3/(1000*60) -> 4.3429486 | H3: =IF(G3>0,G3/0.85,0) -> 5.1093513 | I3: =(H3*1000)/48 -> 106.44482 | J3: ='1-Simulation'!U3/(IF('1-Simulation'!J3=1,'1-Specification & Data'!H$7,IF('1-Simulation'!J3=2,'1-Specification & Data'!H$8,IF('1-Simulation'!J3=3,'1-Specification & Data'!H$9)))*0.8) -> 35.484489 | K3: =H3/0.853 -> 5.9898608 | L3: =K3/0.95 -> 6.3051166 | M3: =IF(G3<0,-G3*0.6*0.8*0.85*0.95*0.98,0) -> 0 | N3: =IF(L3<D3,D3-L3,0) -> 0 | O3: =M3+(IF(L3<D3,D3-K3,0)) -> 0 | P3: =(O3*1000)/56.8 -> 0 | Q3: =IF(L3>D3,K3-D3,0) -> 3.4898608 | R3: =(Q3*1000)/48 -> 72.705433 | S3: =S2+IF(O3>0,O3/3600,-Q3/3600) -> 0.59972504 | T3: =(100*S3)/1.2 -> 49.977087
A4: =1+A3 -> 2 | B4: 5500 | C4: 14 | D4: 2.5 | E4: ='1-Simulation'!F4*60/(2*PI()*'1-Specification & Data'!B$14) -> 99.892505 | F4: =E4*(IF('1-Simulation'!J4=1,'1-Specification & Data'!H$7,IF('1-Simulation'!J4=2,'1-Specification & Data'!H$8,IF('1-Simulation'!J4=3,'1-Specification & Data'!H$9)))) -> 1768.4865 | G4: =2*PI()*E4*'1-Simulation'!U4/(1000*60) -> 1.2789878 | H4: =IF(G4>0,G4/0.85,0) -> 1.5046916 | I4: =(H4*1000)/48 -> 31.347741 | J4: ='1-Simulation'!U4/(IF('1-Simulation'!J4=1,'1-Specification & Data'!H$7,IF('1-Simulation'!J4=2,'1-Specification & Data'!H$8,IF('1-Simulation'!J4=3,'1-Specification & Data'!H$9)))*0.8) -> 8.6326882 | K4: =H4/0.853 -> 1.7639995 | L4: =K4/0.95 -> 1.8568416 | M4: =IF(G4<0,-G4*0.6*0.8*0.85*0.95*0.98,0) -> 0 | N4: =IF(L4<D4,D4-L4,0) -> 0.64315842 | O4: =M4+(IF(L4<D4,D4-K4,0)) -> 0.7360005 | P4: =(O4*1000)/56.8 -> 12.957755 | Q4: =IF(L4>D4,K4-D4,0) -> 0 | R4: =(Q4*1000)/48 -> 0 | S4: =S3+IF(O4>0,O4/3600,-Q4/3600) -> 0.59992948 | T4: =(100*S4)/1.2 -> 49.994124
A5: =1+A4 -> 3 | B5: 5500 | C5: 14 | D5: 2.5 | E5: ='1-Simulation'!F5*60/(2*PI()*'1-Specification & Data'!B$14) -> 115.8174 | F5: =E5*(IF('1-Simulation'!J5=1,'1-Specification & Data'!H$7,IF('1-Simulation'!J5=2,'1-Specification & Data'!H$8,IF('1-Simulation'!J5=3,'1-Specification & Data'!H$9)))) -> 2050.4192 | G5: =2*PI()*E5*'1-Simulation'!U5/(1000*60) -> 1.3852396 | H5: =IF(G5>0,G5/0.85,0) -> 1.6296936 | I5: =(H5*1000)/48 -> 33.951951 | J5: ='1-Simulation'!U5/(IF('1-Simulation'!J5=1,'1-Specification & Data'!H$7,IF('1-Simulation'!J5=2,'1-Specification & Data'!H$8,IF('1-Simulation'!J5=3,'1-Specification & Data'!H$9)))*0.8) -> 8.0642436 | K5: =H5/0.853 -> 1.9105435 | L5: =K5/0.95 -> 2.0110985 | M5: =IF(G5<0,-G5*0.6*0.8*0.85*0.95*0.98,0) -> 0 | N5: =IF(L5<D5,D5-L5,0) -> 0.48890153 | O5: =M5+(IF(L5<D5,D5-K5,0)) -> 0.58945645 | P5: =(O5*1000)/56.8 -> 10.377754 | Q5: =IF(L5>D5,K5-D5,0) -> 0 | R5: =(Q5*1000)/48 -> 0 | S5: =S4+IF(O5>0,O5/3600,-Q5/3600) -> 0.60009322 | T5: =(100*S5)/1.2 -> 50.007768
A6: =1+A5 -> 4 | B6: 5500 | C6: 14 | D6: 2.5 | E6: ='1-Simulation'!F6*60/(2*PI()*'1-Specification & Data'!B$14) -> 144.77175 | F6: =E6*(IF('1-Simulation'!J6=1,'1-Specification & Data'!H$7,IF('1-Simulation'!J6=2,'1-Specification & Data'!H$8,IF('1-Simulation'!J6=3,'1-Specification & Data'!H$9)))) -> 2563.024 | G6: =2*PI()*E6*'1-Simulation'!U6/(1000*60) -> 2.8994211 | H6: =IF(G6>0,G6/0.85,0) -> 3.4110837 | I6: =(H6*1000)/48 -> 71.064243 | J6: ='1-Simulation'!U6/(IF('1-Simulation'!J6=1,'1-Specification & Data'!H$7,IF('1-Simulation'!J6=2,'1-Specification & Data'!H$8,IF('1-Simulation'!J6=3,'1-Specification & Data'!H$9)))*0.8) -> 13.503303 | K6: =H6/0.853 -> 3.9989258 | L6: =K6/0.95 -> 4.2093955 | M6: =IF(G6<0,-G6*0.6*0.8*0.85*0.95*0.98,0) -> 0 | N6: =IF(L6<D6,D6-L6,0) -> 0 | O6: =M6+(IF(L6<D6,D6-K6,0)) -> 0 | P6: =(O6*1000)/56.8 -> 0 | Q6: =IF(L6>D6,K6-D6,0) -> 1.4989258 | R6: =(Q6*1000)/48 -> 31.22762 | S6: =S5+IF(O6>0,O6/3600,-Q6/3600) -> 0.59967685 | T6: =(100*S6)/1.2 -> 49.973071
A7: =1+A6 -> 5 | B7: 5500 | C7: 14 | D7: 2.5 | E7: ='1-Simulation'!F7*60/(2*PI()*'1-Specification & Data'!B$14) -> 146.21946 | F7: =E7*(IF('1-Simulation'!J7=1,'1-Specification & Data'!H$7,IF('1-Simulation'!J7=2,'1-Specification & Data'!H$8,IF('1-Simulation'!J7=3,'1-Specification & Data'!H$9)))) -> 1839.0231 | G7: =2*PI()*E7*'1-Simulation'!U7/(1000*60) -> 0.46654752 | H7: =IF(G7>0,G7/0.85,0) -> 0.54887944 | I7: =(H7*1000)/48 -> 11.434988 | J7: ='1-Simulation'!U7/(IF('1-Simulation'!J7=1,'1-Specification & Data'!H$7,IF('1-Simulation'!J7=2,'1-Specification & Data'!H$8,IF('1-Simulation'!J7=3,'1-Specification & Data'!H$9)))*0.8) -> 3.0282387 | K7: =H7/0.853 -> 0.64346945 | L7: =K7/0.95 -> 0.67733626 | M7: =IF(G7<0,-G7*0.6*0.8*0.85*0.95*0.98,0) -> 0 | N7: =IF(L7<D7,D7-L7,0) -> 1.8226637 | O7: =M7+(IF(L7<D7,D7-K7,0)) -> 1.8565306 | P7: =(O7*1000)/56.8 -> 32.685397 | Q7: =IF(L7>D7,K7-D7,0) -> 0 | R7: =(Q7*1000)/48 -> 0 | S7: =S6+IF(O7>0,O7/3600,-Q7/3600) -> 0.60019256 | T7: =(100*S7)/1.2 -> 50.016046
A8: =1+A7 -> 6 | B8: 5500 | C8: 14 | D8: 2.5 | E8: ='1-Simulation'!F8*60/(2*PI()*'1-Specification & Data'!B$14) -> 159.24892 | F8: =E8*(IF('1-Simulation'!J8=1,'1-Specification & Data'!H$7,IF('1-Simulation'!J8=2,'1-Specification & Data'!H$8,IF('1-Simulation'!J8=3,'1-Specification & Data'!H$9)))) -> 2002.8964 | G8: =2*PI()*E8*'1-Simulation'!U8/(1000*60) -> 1.6316589 | H8: =IF(G8>0,G8/0.85,0) -> 1.9195988 | I8: =(H8*1000)/48 -> 39.991641 | J8: ='1-Simulation'!U8/(IF('1-Simulation'!J8=1,'1-Specification & Data'!H$7,IF('1-Simulation'!J8=2,'1-Specification & Data'!H$8,IF('1-Simulation'!J8=3,'1-Specification & Data'!H$9)))*0.8) -> 9.7241643 | K8: =H8/0.853 -> 2.2504089 | L8: =K8/0.95 -> 2.3688514 | M8: =IF(G8<0,-G8*0.6*0.8*0.85*0.95*0.98,0) -> 0 | N8: =IF(L8<D8,D8-L8,0) -> 0.13114857 | O8: =M8+(IF(L8<D8,D8-K8,0)) -> 0.24959115 | P8: =(O8*1000)/56.8 -> 4.3942103 | Q8: =IF(L8>D8,K8-D8,0) -> 0 | R8: =(Q8*1000)/48 -> 0 | S8: =S7+IF(O8>0,O8/3600,-Q8/3600) -> 0.60026189 | T8: =(100*S8)/1.2 -> 50.021824
A9: =1+A8 -> 7 | B9: 5500 | C9: 14 | D9: 2.5 | E9: ='1-Simulation'!F9*60/(2*PI()*'1-Specification & Data'!B$14) -> 173.7261 | F9: =E9*(IF('1-Simulation'!J9=1,'1-Specification & Data'!H$7,IF('1-Simulation'!J9=2,'1-Specification & Data'!H$8,IF('1-Simulation'!J9=3,'1-Specification & Data'!H$9)))) -> 2184.9779 | G9: =2*PI()*E9*'1-Simulation'!U9/(1000*60) -> 1.9425574 | H9: =IF(G9>0,G9/0.85,0) -> 2.2853616 | I9: =(H9*1000)/48 -> 47.611701 | J9: ='1-Simulation'!U9/(IF('1-Simulation'!J9=1,'1-Specification & Data'!H$7,IF('1-Simulation'!J9=2,'1-Specification & Data'!H$8,IF('1-Simulation'!J9=3,'1-Specification & Data'!H$9)))*0.8) -> 10.612268 | K9: =H9/0.853 -> 2.6792047 | L9: =K9/0.95 -> 2.8202155 | M9: =IF(G9<0,-G9*0.6*0.8*0.85*0.95*0.98,0) -> 0 | N9: =IF(L9<D9,D9-L9,0) -> 0 | O9: =M9+(IF(L9<D9,D9-K9,0)) -> 0 | P9: =(O9*1000)/56.8 -> 0 | Q9: =IF(L9>D9,K9-D9,0) -> 0.17920473 | R9: =(Q9*1000)/48 -> 3.7334319 | S9: =S8+IF(O9>0,O9/3600,-Q9/3600) -> 0.60021211 | T9: =(100*S9)/1.2 -> 50.017676
A10: =1+A9 -> 8 | B10: 5500 | C10: 14 | D10: 2.5 | E10: ='1-Simulation'!F10*60/(2*PI()*'1-Specification & Data'!B$14) -> 202.68044 | F10: =E10*(IF('1-Simulation'!J10=1,'1-Specification & Data'!H$7,IF('1-Simulation'!J10=2,'1-Specification & Data'!H$8,IF('1-Simulation'!J10=3,'1-Specification & Data'!H$9)))) -> 2549.1409 | G10: =2*PI()*E10*'1-Simulation'!U10/(1000*60) -> 4.0687202 | H10: =IF(G10>0,G10/0.85,0) -> 4.7867296 | I10: =(H10*1000)/48 -> 99.723533 | J10: ='1-Simulation'!U10/(IF('1-Simulation'!J10=1,'1-Specification & Data'!H$7,IF('1-Simulation'!J10=2,'1-Specification & Data'!H$8,IF('1-Simulation'!J10=3,'1-Specification & Data'!H$9)))*0.8) -> 19.052211 | K10: =H10/0.853 -> 5.6116408 | L10: =K10/0.95 -> 5.9069903 | M10: =IF(G10<0,-G10*0.6*0.8*0.85*0.95*0.98,0) -> 0 | N10: =IF(L10<D10,D10-L10,0) -> 0 | O10: =M10+(IF(L10<D10,D10-K10,0)) -> 0 | P10: =(O10*1000)/56.8 -> 0 | Q10: =IF(L10>D10,K10-D10,0) -> 3.1116408 | R10: =(Q10*1000)/48 -> 64.82585 | S10: =S9+IF(O10>0,O10/3600,-Q10/3600) -> 0.59934776 | T10: =(100*S10)/1.2 -> 49.945647
A11: =1+A10 -> 9 | B11: 5500 | C11: 14 | D11: 2.5 | E11: ='1-Simulation'!F11*60/(2*PI()*'1-Specification & Data'!B$14) -> 231.63479 | F11: =E11*(IF('1-Simulation'!J11=1,'1-Specification & Data'!H$7,IF('1-Simulation'!J11=2,'1-Specification & Data'!H$8,IF('1-Simulation'!J11=3,'1-Specification & Data'!H$9)))) -> 2913.3039 | G11: =2*PI()*E11*'1-Simulation'!U11/(1000*60) -> 4.6862541 | H11: =IF(G11>0,G11/0.85,0) -> 5.5132401 | I11: =(H11*1000)/48 -> 114.85917 | J11: ='1-Simulation'!U11/(IF('1-Simulation'!J11=1,'1-Specification & Data'!H$7,IF('1-Simulation'!J11=2,'1-Specification & Data'!H$8,IF('1-Simulation'!J11=3,'1-Specification & Data'!H$9)))*0.8) -> 19.200893 | K11: =H11/0.853 -> 6.4633529 | L11: =K11/0.95 -> 6.8035294 | M11: =IF(G11<0,-G11*0.6*0.8*0.85*0.95*0.98,0) -> 0 | N11: =IF(L11<D11,D11-L11,0) -> 0 | O11: =M11+(IF(L11<D11,D11-K11,0)) -> 0 | P11: =(O11*1000)/56.8 -> 0 | Q11: =IF(L11>D11,K11-D11,0) -> 3.9633529 | R11: =(Q11*1000)/48 -> 82.569853 | S11: =S10+IF(O11>0,O11/3600,-Q11/3600) -> 0.59824683 | T11: =(100*S11)/1.2 -> 49.853903
A12: =1+A11 -> 10 | B12: 5500 | C12: 14 | D12: 2.5 | E12: ='1-Simulation'!F12*60/(2*PI()*'1-Specification & Data'!B$14) -> 260.58914 | F12: =E12*(IF('1-Simulation'!J12=1,'1-Specification & Data'!H$7,IF('1-Simulation'!J12=2,'1-Specification & Data'!H$8,IF('1-Simulation'!J12=3,'1-Specification & Data'!H$9)))) -> 3277.4669 | G12: =2*PI()*E12*'1-Simulation'!U12/(1000*60) -> 5.3183032 | H12: =IF(G12>0,G12/0.85,0) -> 6.2568273 | I12: =(H12*1000)/48 -> 130.35057 | J12: ='1-Simulation'!U12/(IF('1-Simulation'!J12=1,'1-Specification & Data'!H$7,IF('1-Simulation'!J12=2,'1-Specification & Data'!H$8,IF('1-Simulation'!J12=3,'1-Specification & Data'!H$9)))*0.8) -> 19.3694 | K12: =H12/0.853 -> 7.3350848 | L12: =K12/0.95 -> 7.7211419 | M12: =IF(G12<0,-G12*0.6*0.8*0.85*0.95*0.98,0) -> 0 | N12: =IF(L12<D12,D12-L12,0) -> 0 | O12: =M12+(IF(L12<D12,D12-K12,0)) -> 0 | P12: =(O12*1000)/56.8 -> 0 | Q12: =IF(L12>D12,K12-D12,0) -> 4.8350848 | R12: =(Q12*1000)/48 -> 100.73093 | S12: =S11+IF(O12>0,O12/3600,-Q12/3600) -> 0.59690375 | T12: =(100*S12)/1.2 -> 49.741979
A13: =1+A12 -> 11 | B13: 5500 | C13: 14 | D13: 2.5 | E13: ='1-Simulation'!F13*60/(2*PI()*'1-Specification & Data'!B$14) -> 289.54349 | F13: =E13*(IF('1-Simulation'!J13=1,'1-Specification & Data'!H$7,IF('1-Simulation'!J13=2,'1-Specification & Data'!H$8,IF('1-Simulation'!J13=3,'1-Specification & Data'!H$9)))) -> 3641.6299 | G13: =2*PI()*E13*'1-Simulation'!U13/(1000*60) -> 5.9666821 | H13: =IF(G13>0,G13/0.85,0) -> 7.0196259 | I13: =(H13*1000)/48 -> 146.24221 | J13: ='1-Simulation'!U13/(IF('1-Simulation'!J13=1,'1-Specification & Data'!H$7,IF('1-Simulation'!J13=2,'1-Specification & Data'!H$8,IF('1-Simulation'!J13=3,'1-Specification & Data'!H$9)))*0.8) -> 19.557732 | K13: =H13/0.853 -> 8.2293387 | L13: =K13/0.95 -> 8.6624618 | M13: =IF(G13<0,-G13*0.6*0.8*0.85*0.95*0.98,0) -> 0 | N13: =IF(L13<D13,D13-L13,0) -> 0 | O13: =M13+(IF(L13<D13,D13-K13,0)) -> 0 | P13: =(O13*1000)/56.8 -> 0 | Q13: =IF(L13>D13,K13-D13,0) -> 5.7293387 | R13: =(Q13*1000)/48 -> 119.36122 | S13: =S12+IF(O13>0,O13/3600,-Q13/3600) -> 0.59531227 | T13: =(100*S13)/1.2 -> 49.609356
A14: =1+A13 -> 12 | B14: 5500 | C14: 14 | D14: 2.5 | E14: ='1-Simulation'!F14*60/(2*PI()*'1-Specification & Data'!B$14) -> 292.43893 | F14: =E14*(IF('1-Simulation'!J14=1,'1-Specification & Data'!H$7,IF('1-Simulation'!J14=2,'1-Specification & Data'!H$8,IF('1-Simulation'!J14=3,'1-Specification & Data'!H$9)))) -> 2426.8633 | G14: =2*PI()*E14*'1-Simulation'!U14/(1000*60) -> 1.4194327 | H14: =IF(G14>0,G14/0.85,0) -> 1.6699208 | I14: =(H14*1000)/48 -> 34.790018 | J14: ='1-Simulation'!U14/(IF('1-Simulation'!J14=1,'1-Specification & Data'!H$7,IF('1-Simulation'!J14=2,'1-Specification & Data'!H$8,IF('1-Simulation'!J14=3,'1-Specification & Data'!H$9)))*0.8) -> 6.9815345 | K14: =H14/0.853 -> 1.9577032 | L14: =K14/0.95 -> 2.0607402 | M14: =IF(G14<0,-G14*0.6*0.8*0.85*0.95*0.98,0) -> 0 | N14: =IF(L14<D14,D14-L14,0) -> 0.43925977 | O14: =M14+(IF(L14<D14,D14-K14,0)) -> 0.54229678 | P14: =(O14*1000)/56.8 -> 9.5474786 | Q14: =IF(L14>D14,K14-D14,0) -> 0 | R14: =(Q14*1000)/48 -> 0 | S14: =S13+IF(O14>0,O14/3600,-Q14/3600) -> 0.59546291 | T14: =(100*S14)/1.2 -> 49.621909
... A277: =1+A276 -> 275 | B277: 5500 | C277: 14 | D277: 2.5 | E277: ='1-Simulation'!F277*60/(2*PI()*'1-Specification & Data'!B$14) -> 141.87631 | F277: =E277*(IF('1-Simulation'!J277=1,'1-Specification & Data'!H$7,IF('1-Simulation'!J277=2,'1-Specification & Data'!H$8,IF('1-Simulation'!J277=3,'1-Specification & Data'!H$9)))) -> 2511.7635 | G277: =2*PI()*E277*'1-Simulation'!U277/(1000*60) -> 0.2363355 | H277: =IF(G277>0,G277/0.85,0) -> 0.27804177 | I277: =(H277*1000)/48 -> 5.7925368 | J277: ='1-Simulation'!U277/(IF('1-Simulation'!J277=1,'1-Specification & Data'!H$7,IF('1-Simulation'!J277=2,'1-Specification & Data'!H$8,IF('1-Simulation'!J277=3,'1-Specification & Data'!H$9)))*0.8) -> 1.1231341 | K277: =H277/0.853 -> 0.32595752 | L277: =K277/0.95 -> 0.34311318 | M277: =IF(G277<0,-G277*0.6*0.8*0.85*0.95*0.98,0) -> 0 | N277: =IF(L277<D277,D277-L277,0) -> 2.1568868 | O277: =M277+(IF(L277<D277,D277-K277,0)) -> 2.1740425 | P277: =(O277*1000)/56.8 -> 38.275396 | Q277: =IF(L277>D277,K277-D277,0) -> 0 | R277: =(Q277*1000)/48 -> 0 | S277: =S276+IF(O277>0,O277/3600,-Q277/3600) -> 0.57866428 | T277: =(100*S277)/1.2 -> 48.222023
F279: =MAX(F2:F277) -> 3641.6299 | H279: =MAX(H2:H277) -> 11.697407 | I279: =MAX(I2:I277) -> 243.69598 | P279: =MAX(P2:P277) -> 118.13578 | Q279: =MAX(Q2:Q277) -> 11.213255 | R279: =MAX(R2:R277) -> 233.60949
H280: =SUM(H2:H277) -> 691.22721

Sheet 2-Result
A4: Engine running power (kW) | B4: 2.5 | D4: Battery charged in 1 lap (%) | E4: 7.8
A5: Total engine power in one lap (kW) | B5: =276*B4 -> 690 | D5: Lap to fully charge (number of lap) | E5: =100/E4 -> 12.820513
A6: Energy of engine in 1 lap (kWh) | B6: =B5/3600 -> 0.19166667 | D6: Distance travelled for fully cahrged (km) | E6: =E5*1.97 -> 25.25641
A7: Total fuel consumption in 1 lap (g) | B7: =B6*297.2 -> 56.963333 | D7: Life of battery (cycle) | E7: 3500
A8: Total fuel mass saving in one lap (g) | B8: =89.7568-B7 -> 32.793467
A9: Fuel saving in 1 lap (lit) | B9: =B8/(1000*0.748) -> 0.043841533
A10: Fuel saving during life if battery (lit) | B10: =(B9*B21)/1.97 -> 7767.2548
D12: Costing | E12: £
D13: Battery | E13: =4*1400 -> 5600
D14: Tracton Motor | E14: 550
D15: Generator | E15: 550
A16: Energy of full cahrge battery (kWh) | B16: =(48*216)/1000 -> 10.368 | D16: Controller | E16: 500
A17: Energy required for 1 lap (kWh) | B17: =SUM('2-Simulaation'!H2:H277)/3600 -> 0.19200756 | D17: DC/DC converter | E17: 250
A18: Number of lap travelled by full battery | B18: =(B16*0.7)/B17 -> 37.798512 | D18: Regenrative Braking | E18: 200
A19: Distance travelled by full charged battery (km) | B19: =B18*1.97 -> 74.463069 | D19: Total costing | E19: =SUM(E13:E18) -> 7650
A20: Distance needed for 1 cycle of cahrging-discharging (km) | B20: =B19+E6 -> 99.719479 | D20: Total saving by fuel | E20: =B10*1.5 -> 11650.882
A21: Total distance can be travelled during life of battery (km) | B21: =B20*E7 -> 349018.18 | D21: Gross saving | E21: =E20-E19 -> 4000.8822
