Workbook

Sheet Sheet1
A1: Ford Focus 1.0 EcoBoost — Vehicle Inputs
A2: Parameter | B2: Symbol | C2: Value | D2: Unit
A3: Test mass | B3: m | C3: 1296 | D3: kg
A4: Rolling resistance coefficient | B4: Crr | C4: 0.011 | D4: –
A5: Gravity | B5: g | C5: 9.81 | D5: m/s²
A6: Air density | B6: ρ | C6: 1.225 | D6: kg/m³
A7: Drag coefficient | B7: Cd | C7: 0.321 | D7: –
A8: Frontal area | B8: A | C8: 2.2 | D8: m²
A9: Time step | B9: Δt | C9: 1 | D9: s
A11: Assumption | B11: Value
A12: Road gradient | B12: 0% (level road)

Sheet WLTP Calculations
B1: Phase | C1: Speed (km/h) | D1: Speed (m/s) | E1: Acceleration (m/s²) | F1: Acceleration force (N) | G1: Rolling resistance (N) | H1: Aerodynamic drag (N) | I1: Total tractive force (N) | J1: Wheel power (kW) | K1: Positive tractive power (kW) | L1: Braking power (kW) | M1: Tractive energy step (kWh) | N1: Cumulative tractive energy (kWh) | O1: Braking energy step (kWh) | P1: Cumulative braking energy (kWh)
A2: 0 | B2: Low | C2: 0 | D2: =C2/3.6 -> 0 | E2: 0 | F2: =Sheet1!$C$3*E2 -> 0 | G2: =IF(D2>0,Sheet1!$C$4*Sheet1!$C$3*Sheet1!$C$5,0) -> 0 | H2: =0.5*Sheet1!$C$6*Sheet1!$C$7*Sheet1!$C$8*D2^2 -> 0 | I2: =F2+G2+H2 -> 0 | J2: =I2*D2/1000 -> 0 | K2: =MAX(J2,0) -> 0 | L2: =MAX(-J2,0) -> 0 | M2: =0 -> 0 | N2: =M2 -> 0 | O2: =0 -> 0 | P2: =O2 -> 0
A3: 1 | B3: Low | C3: 0 | D3: =C3/3.6 -> 0 | E3: 0 | F3: =Sheet1!$C$3*E3 -> 0 | G3: =IF(D3>0,Sheet1!$C$4*Sheet1!$C$3*Sheet1!$C$5,0) -> 0 | H3: =0.5*Sheet1!$C$6*Sheet1!$C$7*Sheet1!$C$8*D3^2 -> 0 | I3: =F3+G3+H3 -> 0 | J3: =I3*D3/1000 -> 0 | K3: =MAX(J3,0) -> 0 | L3: =MAX(-J3,0) -> 0 | M3: =K3*(A3-A2)/3600 -> 0 | N3: =N2+M3 -> 0 | O3: =L3*(A3-A2)/3600 -> 0 | P3: =P2+O3 -> 0
A4: 2 | B4: Low | C4: 0 | D4: =C4/3.6 -> 0 | E4: 0 | F4: =Sheet1!$C$3*E4 -> 0 | G4: =IF(D4>0,Sheet1!$C$4*Sheet1!$C$3*Sheet1!$C$5,0) -> 0 | H4: =0.5*Sheet1!$C$6*Sheet1!$C$7*Sheet1!$C$8*D4^2 -> 0 | I4: =F4+G4+H4 -> 0 | J4: =I4*D4/1000 -> 0 | K4: =MAX(J4,0) -> 0 | L4: =MAX(-J4,0) -> 0 | M4: =K4*(A4-A3)/3600 -> 0 | N4: =N3+M4 -> 0 | O4: =L4*(A4-A3)/3600 -> 0 | P4: =P3+O4 -> 0
A5: 3 | B5: Low | C5: 0 | D5: =C5/3.6 -> 0 | E5: 0 | F5: =Sheet1!$C$3*E5 -> 0 | G5: =IF(D5>0,Sheet1!$C$4*Sheet1!$C$3*Sheet1!$C$5,0) -> 0 | H5: =0.5*Sheet1!$C$6*Sheet1!$C$7*Sheet1!$C$8*D5^2 -> 0 | I5: =F5+G5+H5 -> 0 | J5: =I5*D5/1000 -> 0 | K5: =MAX(J5,0) -> 0 | L5: =MAX(-J5,0) -> 0 | M5: =K5*(A5-A4)/3600 -> 0 | N5: =N4+M5 -> 0 | O5: =L5*(A5-A4)/3600 -> 0 | P5: =P4+O5 -> 0
A6: 4 | B6: Low | C6: 0 | D6: =C6/3.6 -> 0 | E6: 0 | F6: =Sheet1!$C$3*E6 -> 0 | G6: =IF(D6>0,Sheet1!$C$4*Sheet1!$C$3*Sheet1!$C$5,0) -> 0 | H6: =0.5*Sheet1!$C$6*Sheet1!$C$7*Sheet1!$C$8*D6^2 -> 0 | I6: =F6+G6+H6 -> 0 | J6: =I6*D6/1000 -> 0 | K6: =MAX(J6,0) -> 0 | L6: =MAX(-J6,0) -> 0 | M6: =K6*(A6-A5)/3600 -> 0 | N6: =N5+M6 -> 0 | O6: =L6*(A6-A5)/3600 -> 0 | P6: =P5+O6 -> 0
A7: 5 | B7: Low | C7: 0 | D7: =C7/3.6 -> 0 | E7: 0 | F7: =Sheet1!$C$3*E7 -> 0 | G7: =IF(D7>0,Sheet1!$C$4*Sheet1!$C$3*Sheet1!$C$5,0) -> 0 | H7: =0.5*Sheet1!$C$6*Sheet1!$C$7*Sheet1!$C$8*D7^2 -> 0 | I7: =F7+G7+H7 -> 0 | J7: =I7*D7/1000 -> 0 | K7: =MAX(J7,0) -> 0 | L7: =MAX(-J7,0) -> 0 | M7: =K7*(A7-A6)/3600 -> 0 | N7: =N6+M7 -> 0 | O7: =L7*(A7-A6)/3600 -> 0 | P7: =P6+O7 -> 0
A8: 6 | B8: Low | C8: 0 | D8: =C8/3.6 -> 0 | E8: 0 | F8: =Sheet1!$C$3*E8 -> 0 | G8: =IF(D8>0,Sheet1!$C$4*Sheet1!$C$3*Sheet1!$C$5,0) -> 0 | H8: =0.5*Sheet1!$C$6*Sheet1!$C$7*Sheet1!$C$8*D8^2 -> 0 | I8: =F8+G8+H8 -> 0 | J8: =I8*D8/1000 -> 0 | K8: =MAX(J8,0) -> 0 | L8: =MAX(-J8,0) -> 0 | M8: =K8*(A8-A7)/3600 -> 0 | N8: =N7+M8 -> 0 | O8: =L8*(A8-A7)/3600 -> 0 | P8: =P7+O8 -> 0
A9: 7 | B9: Low | C9: 0 | D9: =C9/3.6 -> 0 | E9: 0 | F9: =Sheet1!$C$3*E9 -> 0 | G9: =IF(D9>0,Sheet1!$C$4*Sheet1!$C$3*Sheet1!$C$5,0) -> 0 | H9: =0.5*Sheet1!$C$6*Sheet1!$C$7*Sheet1!$C$8*D9^2 -> 0 | I9: =F9+G9+H9 -> 0 | J9: =I9*D9/1000 -> 0 | K9: =MAX(J9,0) -> 0 | L9: =MAX(-J9,0) -> 0 | M9: =K9*(A9-A8)/3600 -> 0 | N9: =N8+M9 -> 0 | O9: =L9*(A9-A8)/3600 -> 0 | P9: =P8+O9 -> 0
A10: 8 | B10: Low | C10: 0 | D10: =C10/3.6 -> 0 | E10: 0 | F10: =Sheet1!$C$3*E10 -> 0 | G10: =IF(D10>0,Sheet1!$C$4*Sheet1!$C$3*Sheet1!$C$5,0) -> 0 | H10: =0.5*Sheet1!$C$6*Sheet1!$C$7*Sheet1!$C$8*D10^2 -> 0 | I10: =F10+G10+H10 -> 0 | J10: =I10*D10/1000 -> 0 | K10: =MAX(J10,0) -> 0 | L10: =MAX(-J10,0) -> 0 | M10: =K10*(A10-A9)/3600 -> 0 | N10: =N9+M10 -> 0 | O10: =L10*(A10-A9)/3600 -> 0 | P10: =P9+O10 -> 0
A11: 9 | B11: Low | C11: 0 | D11: =C11/3.6 -> 0 | E11: 0 | F11: =Sheet1!$C$3*E11 -> 0 | G11: =IF(D11>0,Sheet1!$C$4*Sheet1!$C$3*Sheet1!$C$5,0) -> 0 | H11: =0.5*Sheet1!$C$6*Sheet1!$C$7*Sheet1!$C$8*D11^2 -> 0 | I11: =F11+G11+H11 -> 0 | J11: =I11*D11/1000 -> 0 | K11: =MAX(J11,0) -> 0 | L11: =MAX(-J11,0) -> 0 | M11: =K11*(A11-A10)/3600 -> 0 | N11: =N10+M11 -> 0 | O11: =L11*(A11-A10)/3600 -> 0 | P11: =P10+O11 -> 0
A12: 10 | B12: Low | C12: 0 | D12: =C12/3.6 -> 0 | E12: 0 | F12: =Sheet1!$C$3*E12 -> 0 | G12: =IF(D12>0,Sheet1!$C$4*Sheet1!$C$3*Sheet1!$C$5,0) -> 0 | H12: =0.5*Sheet1!$C$6*Sheet1!$C$7*Sheet1!$C$8*D12^2 -> 0 | I12: =F12+G12+H12 -> 0 | J12: =I12*D12/1000 -> 0 | K12: =MAX(J12,0) -> 0 | L12: =MAX(-J12,0) -> 0 | M12: =K12*(A12-A11)/3600 -> 0 | N12: =N11+M12 -> 0 | O12: =L12*(A12-A11)/3600 -> 0 | P12: =P11+O12 -> 0
A13: 11 | B13: Low | C13: 0 | D13: =C13/3.6 -> 0 | E13: 0.027777778 | F13: =Sheet1!$C$3*E13 -> 36 | G13: =IF(D13>0,Sheet1!$C$4*Sheet1!$C$3*Sheet1!$C$5,0) -> 0 | H13: =0.5*Sheet1!$C$6*Sheet1!$C$7*Sheet1!$C$8*D13^2 -> 0 | I13: =F13+G13+H13 -> 36 | J13: =I13*D13/1000 -> 0 | K13: =MAX(J13,0) -> 0 | L13: =MAX(-J13,0) -> 0 | M13: =K13*(A13-A12)/3600 -> 0 | N13: =N12+M13 -> 0 | O13: =L13*(A13-A12)/3600 -> 0 | P13: =P12+O13 -> 0
A14: 12 | B14: Low | C14: 0.2 | D14: =C14/3.6 -> 0.055555556 | E14: 0.23611111 | F14: =Sheet1!$C$3*E14 -> 306 | G14: =IF(D14>0,Sheet1!$C$4*Sheet1!$C$3*Sheet1!$C$5,0) -> 139.85136 | H14: =0.5*Sheet1!$C$6*Sheet1!$C$7*Sheet1!$C$8*D14^2 -> 0.0013350231 | I14: =F14+G14+H14 -> 445.8527 | J14: =I14*D14/1000 -> 0.024769594 | K14: =MAX(J14,0) -> 0.024769594 | L14: =MAX(-J14,0) -> 0 | M14: =K14*(A14-A13)/3600 -> 6.8804428e-06 | N14: =N13+M14 -> 6.8804428e-06 | O14: =L14*(A14-A13)/3600 -> 0 | P14: =P13+O14 -> 0
... A1802: 1800 | B1802: Extra-high | C1802: 0 | D1802: =C1802/3.6 -> 0 | E1802: 0 | F1802: =Sheet1!$C$3*E1802 -> 0 | G1802: =IF(D1802>0,Sheet1!$C$4*Sheet1!$C$3*Sheet1!$C$5,0) -> 0 | H1802: =0.5*Sheet1!$C$6*Sheet1!$C$7*Sheet1!$C$8*D1802^2 -> 0 | I1802: =F1802+G1802+H1802 -> 0 | J1802: =I1802*D1802/1000 -> 0 | K1802: =MAX(J1802,0) -> 0 | L1802: =MAX(-J1802,0) -> 0 | M1802: =K1802*(A1802-A1801)/3600 -> 0 | N1802: =N1801+M1802 -> 3.0311911 | O1802: =L1802*(A1802-A1801)/3600 -> 0 | P1802: =P1801+O1802 -> 0.6944064

Sheet Phase 1 Summary
A1: Phase 1 — WLTP Vehicle Dynamics Summary
A3: Metric | B3: Result
A4: WLTP duration (s) | B4: =MAX('WLTP Calculations'!A2:A1802) -> 1800
A5: Maximum speed (km/h) | B5: =MAX('WLTP Calculations'!C2:C1802) -> 131.3
A6: Peak positive wheel power (kW) | B6: =MAX('WLTP Calculations'!K2:K1802) -> 37.373206
A7: Peak braking power (kW) | B7: =MAX('WLTP Calculations'!L2:L1802) -> 24.761869
A8: Total tractive energy (kWh) | B8: ='WLTP Calculations'!N1802 -> 3.0311911
A9: Total braking energy (kWh) | B9: ='WLTP Calculations'!P1802 -> 0.6944064
A11: Calculation | B11: Equation
A12: Acceleration force | B12: Fₐ = m·a
A13: Rolling resistance | B13: Fᵣᵣ = Cᵣᵣ·m·g
A14: Aerodynamic drag | B14: F_d = ½ρC_dAv²
A15: Wheel power | B15: P = F_total·v
