Workbook

Sheet Design Book Title
A1: GU-DD-001
A2: Issue 1
C5: Design Book
C10: The COS, Gorilla and Neanderthal's coffee machine
C15: Teamcentre Document Number | M15: Issue | P15: Date
C16: Insert TC document number here | P16: date issued

Sheet Requirements Set
A1: ACTIVITY SUMMARY
B4: Level 1 | C4: Originator | D4: Level 2 | E4: Level 3
C6: Operator | D6: The Operator requires that the machine shall detect when milk is on the turn
D7: The Operator requires that the machine shall have a reliable means of getting rid of waste water
C8: COS | D8: The Chief of Staff requires a delicious cup of Cappuccino prepared promptly at her request
D9: The Chief of Staff requires that the kitchen shall be maintained in a clean and orderly fashion
C10: Gorilla | D10: The Gorilla requires that the machine shall deliver a cup of strong black coffee commensurate with his requirements
D11: The Gorilla requires delivery of coffee with minimum button presses
D12: The Gorilla does not want to do the washing up (Inference that machine shall be self cleaning.)
C13: Neanderthal | D13: The Neanderthal requires that the machine shall communicate with him in a timely fashion
D14: The Neanderthal requires that the bean type shall be selectable

Sheet Rationalised Req PW
C2: 1 | D2: 2 | E2: 3 | F2: 4 | G2: 5 | H2: 6 | I2: 7 | J2: 8 | K2: 9 | L2: Calc | N2: Calc
B3: Pairwise comparison of requirements 1 = No Preference, Reciprocal = 1 2 = Slight Preference, Reciprocal = 0.5 5 = Preference, Reciprocal = 0.2 9 = Strong preference = 0.11 | C3: The Operator requires that the machine shall detect when milk is on the turn | D3: The Operator requires that the machine shall have a reliable means of getting rid of waste water | E3: The Chief of Staff requires a delicious cup of Cappuccino prepared promptly at her request | F3: The Chief of Staff requires that the kitchen shall be maintained in a clean and orderly fashion | G3: The Gorilla requires that the machine shall deliver a cup of strong black coffee commensurate with his requirements | H3: The Gorilla requires delivery of coffee with minimum button presses | I3: The Gorilla does not want to do the washing up (Inference that machine shall be self cleaning.) | J3: The Neanderthal requires that the machine shall communicate with him in a timely fashion | K3: The Neanderthal requires that the bean type shall be selectable | L3: Row Product | M3: nth root of row product | N3: Total Normalised
A4: 1 | B4: The Operator requires that the machine shall detect when milk is on the turn | C4: 1 | D4: 0.2 | E4: 0.2 | F4: 0.1 | G4: 0.2 | H4: 5 | I4: 1 | J4: 5 | K4: 5 | L4: =+C4*D4*E4*F4*G4*H4*I4*J4*K4 -> 0.1 | M4: =POWER(L4,1/9) -> 0.77426368 | N4: =+M4/M13*$N$13 -> 6.5317875
A5: 2 | B5: The Operator requires that the machine shall have a reliable means of getting rid of waste water | C5: 5 | D5: 1 | E5: 1 | F5: 1 | G5: 5 | H5: 5 | I5: 1 | J5: 9 | K5: 5 | L5: =+C5*D5*E5*F5*G5*H5*I5*J5*K5 -> 5625 | M5: =POWER(L5,1/9) -> 2.610239 | N5: =+M5/M13*$N$13 -> 22.020311
A6: 3 | B6: The Chief of Staff requires a delicious cup of Cappuccino prepared promptly at her request | C6: 5 | D6: 1 | E6: 1 | F6: 1 | G6: 5 | H6: 2 | I6: 5 | J6: 2 | K6: 2 | L6: =+C6*D6*E6*F6*G6*H6*I6*J6*K6 -> 1000 | M6: =POWER(L6,1/9) -> 2.1544347 | N6: =+M6/$M$13*$N$13 -> 18.175087
A7: 4 | B7: The Chief of Staff requires that the kitchen shall be maintained in a clean and orderly fashion | C7: 9 | D7: 1 | E7: 1 | F7: 1 | G7: 5 | H7: 5 | I7: 5 | J7: 5 | K7: 5 | L7: =+C7*D7*E7*F7*G7*H7*I7*J7*K7 -> 28125 | M7: =POWER(L7,1/9) -> 3.1213582 | N7: =+M7/$M$13*$N$13 -> 26.332177
A8: 5 | B8: The Gorilla requires that the machine shall deliver a cup of strong black coffee commensurate with his requirements | C8: 5 | D8: 0.2 | E8: 0.2 | F8: 0.2 | G8: 1 | H8: 5 | I8: 5 | J8: 5 | K8: 1 | L8: =+C8*D8*E8*F8*G8*H8*I8*J8*K8 -> 5 | M8: =POWER(L8,1/9) -> 1.1958132 | N8: =+M8/$M$13*$N$13 -> 10.088033
A9: 6 | B9: The Gorilla requires delivery of coffee with minimum button presses | C9: 0.2 | D9: 0.2 | E9: 0.5 | F9: 0.2 | G9: 0.2 | H9: 1 | I9: 1 | J9: 2 | K9: 1 | L9: =+C9*D9*E9*F9*G9*H9*I9*J9*K9 -> 0.0016 | M9: =POWER(L9,1/9) -> 0.48904257 | N9: =+M9/$M$13*$N$13 -> 4.1256257
A10: 7 | B10: The Gorilla does not want to do the washing up (Inference that machine shall be self cleaning.) | C10: 1 | D10: 1 | E10: 0.2 | F10: 0.2 | G10: 0.2 | H10: 1 | I10: 1 | J10: 5 | K10: 2 | L10: =+C10*D10*E10*F10*G10*H10*I10*J10*K10 -> 0.08 | M10: =POWER(L10,1/9) -> 0.75530283 | N10: =+M10/$M$13*$N$13 -> 6.3718313
A11: 8 | B11: The Neanderthal requires that the machine shall communicate with him in a timely fashion | C11: 0.2 | D11: 0.1 | E11: 0.5 | F11: 0.2 | G11: 0.2 | H11: 0.5 | I11: 0.1 | J11: 1 | K11: 1 | L11: =+C11*D11*E11*F11*G11*H11*I11*J11*K11 -> 2e-05 | M11: =POWER(L11,1/9) -> 0.30053304 | N11: =+M11/$M$13*$N$13 -> 2.5353352
A12: 9 | B12: The Neanderthal requires that the bean type shall be selectable | C12: 0.2 | D12: 0.2 | E12: 0.5 | F12: 0.2 | G12: 1 | H12: 1 | I12: 0.2 | J12: 1 | K12: 1 | L12: =+C12*D12*E12*F12*G12*H12*I12*J12*K12 -> 0.0008 | M12: =POWER(L12,1/9) -> 0.45279215 | N12: =+M12/$M$13*$N$13 -> 3.8198125
M13: =SUM(M4:M12) -> 11.853779 | N13: 100

Sheet Sheet4

Sheet Required Functionality
A1: ACTIVITY SUMMARY
B2: Developed from Generic Munition Use Case
B4: Level 1 | C4: How Much | D4: Level 2
B6: Fill Tank | C6: From Use case
B7: Check Milk
B8: Select bean type
B9: Select coffee type
B10: Heat Water
B11: Rinse Machine
B12: Place mug
B13: Grind beans
B14: Compress Grinds
B15: Steam Milk
B16: Pump Milk
B17: Pump water through compact
B18: Eject compact
B19: Remove mug
B20: Clean Milk Delivery system | C20: Revised After Functional Analysis
B21: Dump Waste Water
B22: Remove Puck

Sheet Design QFD 1 (2)
B2: How | C2: Importance
B3: Requirements | AD3: Add requirements detail and definition in here.
D24: =SUMPRODUCT($C$3:$C$23,D3:D23) -> 0 | E24: =SUMPRODUCT($C$3:$C$23,E3:E23) -> 0 | F24: =SUMPRODUCT($C$3:$C$23,F3:F23) -> 0 | G24: =SUMPRODUCT($C$3:$C$23,G3:G23) -> 0 | H24: =SUMPRODUCT($C$3:$C$23,H3:H23) -> 0 | I24: =SUMPRODUCT($C$3:$C$23,I3:I23) -> 0 | J24: =SUMPRODUCT($C$3:$C$23,J3:J23) -> 0 | K24: =SUMPRODUCT($C$3:$C$23,K3:K23) -> 0 | ... AC24: =SUMPRODUCT($C$3:$C$23,AC3:AC23) -> 0
B26: Target
B27: Benchmark
B28: Ideal Value
B29: How Much??? Derive target values for each function. This will determine how well the existing design performs and how well our modified version will perform

Sheet Concept
A1: ACTIVITY SUMMARY

Sheet Sheet1

Sheet Design QFD 1
S1: Manage
B2: How | C2: Importance | D2: Fill Tank | E2: Check Milk | F2: Select bean type | G2: Select coffee type | H2: Heat Water | I2: Rinse Machine | J2: Place mug | K2: Start Machine | L2: Grind beans | M2: Compress Grinds | N2: Steam Milk | O2: Pump Milk | P2: Pump water through compact | Q2: Eject compact | R2: Remove mug | S2: Clean Milk Delivery system | T2: Dump Waste water | U2: Remove Puck
B3: Requirements | X3: Add requirements detail and definition in here.
B4: The Operator requires that the machine shall detect when milk is on the turn | C4: =VALUE('Rationalised Req PW'!N4) -> 6.5317875 | E4: 9 | K4: 9 | N4: 9 | O4: 9 | S4: 9
B5: The Operator requires that the machine shall have a reliable means of getting rid of waste water | C5: =VALUE('Rationalised Req PW'!N5) -> 22.020311 | H5: 1 | I5: 9 | N5: 9 | O5: 9 | P5: 9 | S5: 9 | T5: 9
B6: The Chief of Staff requires a delicious cup of Cappuccino prepared promptly at her request | C6: =VALUE('Rationalised Req PW'!N6) -> 18.175087 | D6: 9 | E6: 9 | F6: 3 | G6: 9 | H6: 9 | I6: 1 | J6: 9 | K6: 9 | L6: 9 | M6: 9 | N6: 9 | O6: 9 | P6: 9 | Q6: 1 | R6: 9
B7: The Chief of Staff requires that the kitchen shall be maintained in a clean and orderly fashion | C7: =VALUE('Rationalised Req PW'!N7) -> 26.332177 | D7: 3 | E7: 3 | I7: 9 | L7: 9 | O7: 9 | P7: 9 | Q7: 9 | S7: 9 | T7: 9 | U7: 9
B8: The Gorilla requires that the machine shall deliver a cup of strong black coffee commensurate with his requirements | C8: =VALUE('Rationalised Req PW'!N8) -> 10.088033 | D8: 9 | F8: 9 | G8: 9 | H8: 9 | J8: 9 | K8: 9 | L8: 9 | M8: 9 | P8: 9 | Q8: 3 | R8: 9
B9: The Gorilla requires delivery of coffee with minimum button presses | C9: =VALUE('Rationalised Req PW'!N9) -> 4.1256257 | F9: 9 | G9: 9 | K9: 9
B10: The Gorilla does not want to do the washing up (Inference that machine shall be self cleaning.) | C10: =VALUE('Rationalised Req PW'!N10) -> 6.3718313 | I10: 9 | Q10: 9 | S10: 9 | T10: 9 | U10: 9
B11: The Neanderthal requires that the machine shall communicate with him in a timely fashion | C11: =VALUE('Rationalised Req PW'!N11) -> 2.5353352 | F11: 9 | G11: 9 | K11: 9
B12: The Neanderthal requires that the bean type shall be selectable | C12: =VALUE('Rationalised Req PW'!N12) -> 3.8198125 | F12: 9
D15: =SUMPRODUCT($C$3:$C$14,D3:D14) -> 333.36461 | E15: =SUMPRODUCT($C$3:$C$14,E3:E14) -> 301.3584 | F15: =SUMPRODUCT($C$3:$C$14,F3:F14) -> 239.64452 | G15: =SUMPRODUCT($C$3:$C$14,G3:G14) -> 314.31673 | H15: =SUMPRODUCT($C$3:$C$14,H3:H14) -> 276.38839 | I15: =SUMPRODUCT($C$3:$C$14,I3:I14) -> 510.69396 | J15: =SUMPRODUCT($C$3:$C$14,J3:J14) -> 254.36808 | K15: =SUMPRODUCT($C$3:$C$14,K3:K14) -> 373.10281 | ... U15: =SUMPRODUCT($C$3:$C$14,U3:U14) -> 294.33608 | W15: =SUMPRODUCT($C$3:$C$14,W3:W14) -> 0
B17: Target
B18: Benchmark
B19: Ideal Value
B20: How Much??? Derive target values for each function. This will determine how well the existing design performs and how well our modified version will perform | P20: GO TO Functional Metrics

Sheet Funtional Metrics
F1: Test / Experiment / Metrics
B2: Function:- (Insert Specific function here) Test method and relationship to requirements | C2: Importance | D2: Relationship | F2: Flow test | G2: Coffe Colour test | H2: Aroma test | I2: Taste test | J2: Brew timer
B3: Requirements | AF3: Add requirements detail and definition in here.
B4: The Operator requires that the machine shall detect when milk is on the turn | C4: =VALUE('Rationalised Req PW'!N4) -> 6.5317875
B5: The Operator requires that the machine shall have a reliable means of getting rid of waste water | C5: =VALUE('Rationalised Req PW'!N5) -> 22.020311 | D5: 9 | F5: 9
B6: The Chief of Staff requires a delicious cup of Cappuccino prepared promptly at her request | C6: =VALUE('Rationalised Req PW'!N6) -> 18.175087 | D6: 9 | F6: 9 | G6: 9 | H6: 9 | I6: 9 | J6: 9
B7: The Chief of Staff requires that the kitchen shall be maintained in a clean and orderly fashion | C7: =VALUE('Rationalised Req PW'!N7) -> 26.332177 | D7: 9 | F7: 9
B8: The Gorilla requires that the machine shall deliver a cup of strong black coffee commensurate with his requirements | C8: =VALUE('Rationalised Req PW'!N8) -> 10.088033 | D8: 9 | F8: 9 | G8: 9 | H8: 9 | I8: 9 | J8: 9
B9: The Gorilla requires delivery of coffee with minimum button presses | C9: =VALUE('Rationalised Req PW'!N9) -> 4.1256257
B10: The Gorilla does not want to do the washing up (Inference that machine shall be self cleaning.) | C10: =VALUE('Rationalised Req PW'!N10) -> 6.3718313
B11: The Neanderthal requires that the machine shall communicate with him in a timely fashion | C11: =VALUE('Rationalised Req PW'!N11) -> 2.5353352
B12: The Neanderthal requires that the bean type shall be selectable | C12: =VALUE('Rationalised Req PW'!N12) -> 3.8198125
C15: 5
C16: 5
D17: =SUMPRODUCT($C$3:$C$16,D3:D16) -> 689.54047 | E17: =SUMPRODUCT($C$3:$C$16,E3:E16) -> 0 | F17: =SUMPRODUCT($C$3:$C$16,F3:F16) -> 689.54047 | G17: =SUMPRODUCT($C$3:$C$16,G3:G16) -> 254.36808 | H17: =SUMPRODUCT($C$3:$C$16,H3:H16) -> 254.36808 | I17: =SUMPRODUCT($C$3:$C$16,I3:I16) -> 254.36808 | J17: =SUMPRODUCT($C$3:$C$16,J3:J16) -> 254.36808 | K17: =SUMPRODUCT($C$3:$C$16,K3:K16) -> 0 | ... Z17: =SUMPRODUCT($C$3:$C$16,Z3:Z16) -> 0 | AD17: =SUMPRODUCT($C$3:$C$16,AD3:AD16) -> 0 | AE17: =SUMPRODUCT($C$3:$C$16,AE3:AE16) -> 0
B19: Target
B20: Benchmark
B21: Ideal Value
B22: How Much??? Derive target values for each function. This will determine how well the existing design performs and how well our modified version will perform

Sheet Sheet2

Sheet Sheet3

Sheet Function Means Analysis
A1: ACTIVITY SUMMARY
B2: Function | C2: Means
A3: From Functional Decomposition | C3: How it's dome now
B4: Fill Tank | C4: Detach and fill from tap | D4: Direct from mains
B5: Check Milk | C5: Smell it | D5: pH Meter | E5: Indicator strip
B6: Select bean type | C6: One bean type only | D6: Two Hopper and Switch | E6: Pods
B7: Select coffee type | C7: LED Menu | D7: indexed Switch | E7: Load pod | F7: Pods in Magazine | G7: Barcode on pod
B8: Heat Water | C8: Electric heater | D8: Steam heater
B9: Rinse Machine | C9: 20ml on start and turn off | D9: Risne after pod | E9: dump to drip tray | F9: Dump to sink drain
B10: Place mug | C10: Manual | D10: Automatic | E10: Locator | U10: both green and blue
B11: Grind beans | C11: Electric mill coarse adjust | D11: Don’t | U11: both blue and orange
B12: Compress Grinds | C12: Electric press | D12: Don’t | U12: both green and orange
B13: Steam Milk | C13: Electric pump through reservoir | U13: green, blue and orange
B14: Pump Milk | C14: Electric pump
B15: Pump water through compact/pod | C15: Electric pump | D15: Peristaltic pump | E15: gravity
B16: Eject compact | C16: Electric driven mechanism | D16: Don’t
B17: Remove mug | C17: Manual | D17: flip out
B18: Clean Milk Delivery system | C18: manual switched after delivery | D18: Automatic
B19: Dump Waste water | C19: Drip tray | D19: Dump to drain
B20: Remove Puck | C20: manual to bin | D20: Automatic to compost heap | E20: Chuck pod in recycle

Sheet  System Pugh
A1: ACTIVITY SUMMARY
B4: ="Project Name: "&'[1]Design Book Title'!C10 -> Project Name: HESH Example for course
D6: Relative Importance Equal | E6: Relative importance Weighted | F6: Current Machine | G6: Plumbed in version | H6: Plumbed in Multi bean | I6: Plumbed in Pod
B7: WHATs - Customer Requirements | C7: How much:- From QFD 1
B8: The Operator requires that the machine shall detect when milk is on the turn | D8: 5 | E8: =VALUE('Design QFD 1'!C4) -> 6.5317875 | F8: 0 | G8: 1 | H8: 1 | I8: 1
B9: The Operator requires that the machine shall have a reliable means of getting rid of waste water | D9: 5 | E9: =VALUE('Design QFD 1'!C5) -> 22.020311 | F9: 0 | G9: 2 | H9: 2 | I9: 2
B10: The Chief of Staff requires a delicious cup of Cappuccino prepared promptly at her request | D10: 5 | E10: =VALUE('Design QFD 1'!C6) -> 18.175087 | F10: 0 | G10: 0 | H10: 0 | I10: 0
B11: The Chief of Staff requires that the kitchen shall be maintained in a clean and orderly fashion | D11: 5 | E11: =VALUE('Design QFD 1'!C7) -> 26.332177 | F11: 0 | G11: 1 | H11: 1 | I11: 1
B12: The Gorilla requires that the machine shall deliver a cup of strong black coffee commensurate with his requirements | D12: 5 | E12: =VALUE('Design QFD 1'!C8) -> 10.088033 | F12: 0 | G12: 0 | H12: 0 | I12: 1
B13: The Gorilla requires delivery of coffee with minimum button presses | D13: 5 | E13: =VALUE('Design QFD 1'!C9) -> 4.1256257 | F13: 0 | G13: 0 | H13: 0 | I13: 0
B14: The Gorilla does not want to do the washing up (Inference that machine shall be self cleaning.) | D14: 5 | E14: =VALUE('Design QFD 1'!C10) -> 6.3718313 | F14: 0 | G14: 1 | H14: 1 | I14: 1
B15: The Neanderthal requires that the machine shall communicate with him in a timely fashion | D15: 5 | E15: =VALUE('Design QFD 1'!C11) -> 2.5353352 | F15: 0 | G15: 0 | H15: 0 | I15: 1
B16: The Neanderthal requires that the bean type shall be selectable | D16: 5 | E16: =VALUE('Design QFD 1'!C12) -> 3.8198125 | F16: 0 | G16: 0 | H16: 1 | I16: 1
B18: Development Cost | D18: 5 | E18: 10 | F18: 0 | G18: -1 | H18: -1 | I18: -1
B19: Purchase Cost | D19: 5 | E19: 10 | F19: 0 | G19: -1 | H19: -2 | I19: -1
B20: Avaialbility | D20: 5 | E20: 10 | F20: 0 | G20: -1 | H20: -2 | I20: -1
F22: =SUMPRODUCT($D$8:$D$21,F8:F21) -> 0 | G22: =SUMPRODUCT($D$8:$D$21,G8:G21) -> 10 | H22: =SUMPRODUCT($D$8:$D$21,H8:H21) -> 5 | I22: =SUMPRODUCT($D$8:$D$21,I8:I21) -> 25
F23: =SUMPRODUCT($E$8:$E$21,F8:F21) -> 0 | G23: =SUMPRODUCT($E$8:$E$21,G8:G21) -> 53.276417 | H23: =SUMPRODUCT($E$8:$E$21,H8:H21) -> 37.09623 | I23: =SUMPRODUCT($E$8:$E$21,I8:I21) -> 69.719598
B24: Ranking | D24: 100 | F24: =+F22-F23 -> 0 | G24: =+G22-G23 -> -43.276417 | H24: =+H22-H23 -> -32.09623 | I24: =+I22-I23 -> -44.719598
BC39: 0 | BG39: 0 | BK39: 0 | BO39: 0 | BS39: 0
BC43: 0 | BG43: 0 | BK43: 0 | BO43: 0 | BS43: 0

Sheet Design QFD 2
A1: ACTIVITY SUMMARY
B2: Design feature | C2: Importance | E2: Importance | F2: Fil from mains | G2: indicator strip | H2: Pods | I2: Pods in magazine | J2: Barcode on Pods | K2: Electric Heater | L2: Electric Pump | M2: Dump to kitchen drain | N2: Locator for mug | O2: Milk reservoir | P2: Steam pump | Q2: Peristaltic pump | R2: Automatic clean on required cycle | S2: Electric lift pod | T2: Chuck pod in recycle bin
B3: Functionality | AB3: Functionality Detail
B4: Fill Tank | C4: =VALUE('Design QFD 1'!D15) -> 333.36461 | D4: 10 | E4: =+C4/D4 -> 33.336461 | F4: 9 | L4: 3
B5: Check Milk | C5: =VALUE('Design QFD 1'!E15) -> 301.3584 | D5: 10 | E5: =+C5/D5 -> 30.13584 | G5: 9 | O5: 9
B6: Select bean type | C6: =VALUE('Design QFD 1'!F15) -> 239.64452 | D6: 10 | E6: =+C6/D6 -> 23.964452 | H6: 9 | I6: 9 | J6: 9
B7: Select coffee type | C7: =VALUE('Design QFD 1'!G15) -> 314.31673 | D7: 10 | E7: =+C7/D7 -> 31.431673 | H7: 9 | I7: 9 | J7: 9
B8: Heat Water | C8: =VALUE('Design QFD 1'!H15) -> 276.38839 | D8: 10 | E8: =+C8/D8 -> 27.638839 | F8: 3 | K8: 9
B9: Rinse Machine | C9: =VALUE('Design QFD 1'!I15) -> 510.69396 | D9: 10 | E9: =+C9/D9 -> 51.069396 | K9: 9 | L9: 9 | M9: 9
B10: Place mug | C10: =VALUE('Design QFD 1'!J15) -> 254.36808 | D10: 10 | E10: =+C10/D10 -> 25.436808 | N10: 9
B11: Grind beans | C11: =VALUE('Design QFD 1'!L15) -> 491.35768 | D11: 10 | E11: =+C11/D11 -> 49.135768
B12: Compress Grinds | C12: =VALUE('Design QFD 1'!M15) -> 254.36808 | D12: 10 | E12: =+C12/D12 -> 25.436808
B13: Steam Milk | C13: =VALUE('Design QFD 1'!N15) -> 420.54466 | D13: 10 | E13: =+C13/D13 -> 42.054466 | L13: 9 | O13: 9 | P13: 9
B14: Pump Milk | C14: =VALUE('Design QFD 1'!O15) -> 657.53426 | D14: 10 | E14: =+C14/D14 -> 65.753426 | O14: 9 | P14: 9 | Q14: 9
B15: Pump water through compact | C15: =VALUE('Design QFD 1'!P15) -> 689.54047 | D15: 10 | E15: =+C15/D15 -> 68.954047 | L15: 9 | Q15: 9 | AB15: GO TO Functional Metrics
B16: Eject compact | C16: =VALUE('Design QFD 1'!Q15) -> 342.77526 | D16: 10 | E16: =+C16/D16 -> 34.277526
B17: Remove mug | C17: =VALUE('Design QFD 1'!R15) -> 254.36808 | D17: 10 | E17: =+C17/D17 -> 25.436808 | N17: 9
B18: Clean Milk Delivery system | C18: =VALUE('Design QFD 1'!S15) -> 551.30496 | D18: 10 | E18: =+C18/D18 -> 55.130496 | O18: 3 | P18: 9 | Q18: 9 | R18: 9
B19: Dumnp Waste Water | C19: =VALUE('Design QFD 1'!T15) -> 492.51887 | D19: 10 | E19: =+C19/D19 -> 49.251887 | L19: 9 | M19: 9 | R19: 9
B20: Remove Puck | C20: =VALUE('Design QFD 1'!U15) -> 294.33608 | D20: 10 | E20: =+C20/D20 -> 29.433608 | S20: 9 | T20: 9
C21: =VALUE('Design QFD 1 (2)'!$T$24) -> 0 | D21: 10 | E21: =+C21/D21 -> 0
C22: =VALUE('Design QFD 1'!D32) -> 0 | D22: 10 | E22: =+C22/D22 -> 0
F23: =SUMPRODUCT($E$3:$E$22,F3:F22) -> 382.94467 | G23: =SUMPRODUCT($E$3:$E$22,G3:G22) -> 271.22256 | H23: =SUMPRODUCT($E$3:$E$22,H3:H22) -> 498.56512 | I23: =SUMPRODUCT($E$3:$E$22,I3:I22) -> 498.56512 | J23: =SUMPRODUCT($E$3:$E$22,J3:J22) -> 498.56512 | K23: =SUMPRODUCT($E$3:$E$22,K3:K22) -> 708.37411 | L23: =SUMPRODUCT($E$3:$E$22,L3:L22) -> 2001.9776 | M23: =SUMPRODUCT($E$3:$E$22,M3:M22) -> 902.89155 | ... AA23: =SUMPRODUCT($E$3:$E$22,AA3:AA22) -> 0
B25: Target
B26: Benchmark
B27: Ideal Value
B28: How Much???

Sheet Prime P Diagram (Given)
A1: ACTIVITY SUMMARY
A2: P-Diagram
A3: Author: | E3: Noise Factors | G3: External | L3: Noise Factors | N3: Unit to unit | P3: Noise Factor | R3: Deterioration
A4: Date: | E4: Mains Pressure | L4: Variation in Water temperature | P4: Seals
A5: Issue: 1 | E5: Water temperature | L5: Variation in Quantity of Coffee | P5: Pump bearings
A6: System: | E6: Milk temperature | L6: Variation in Quantity of Water in tank | P6: Tubes
E7: Operator competence | L7: Variation in Quantity of water in coffee | P7: Switch gear (Control)
E8: Operator fatigue | L8: Variation in Strength of coffee | P8: Switch gear (Mains)
E9: Power failure | L9: Variation in Quantity of milk | P9: Moving Mechanical Parts
L10: Variation in Temperature of Milk
L11: Variation in Degree of faoming
L12: Varoiation in Quantity of rinse water
L13: Variation in Water delivery rate.
B22: Signal factors:- Select Coffee Press go! | I22: Coffee Machine | Q22: Outputs Coffee of desired recipe
L31: Control Factors
L32: Water temperature
L33: Quantity of Coffee
L34: Quantity of Water in tank
L35: Quantity of water in coffee
L36: Strength of coffee
L37: Quantity of milk
L38: Temperature of Milk
L39: Degree of faoming
L40: Quantity of rinse water
L41: Water delivery rate.

Sheet Prime "What Why"
A1: ACTIVITY SUMMARY
G2: =VALUE('Design QFD 2'!#REF!) -> #REF!
A3: If insert rows/columns, copy formulae in purple cells.
N4: NOISE FACTORS | AC4: Relative Importance of noise in meeting performance via control factor
A5: Performance Characteristics | B5: Design control parameters | C5: Weighting | D5: Unit to Unit Variation | N5: Deterioration | U5: External
C6: of design | D6: Control | E6: Supply | F6: Control | G6: Control | H6: Control | I6: Control | J6: Control | K6: Control | L6: Control | M6: Control | N6: Mfg | O6: Mfg | P6: Mfg | Q6: Mfg | R6: Mfg | S6: Mfg | U6: External | V6: Environment | W6: Environment | X6: Human | Y6: Human | Z6: External | AB6: Total
C7: control parameter
D8: Variation in Water temperature | E8: Variation in Quantity of Coffee | F8: Variation in Quantity of Water in tank | G8: Variation in Quantity of water in coffee | H8: Variation in Strength of coffee | I8: Variation in Quantity of milk | J8: Variation in Temperature of Milk | K8: Variation in Degree of foaming | L8: Variation in Quantity of rinse water | M8: Variation in Water delivery rate. | N8: Seals | O8: Pump bearings | P8: Tubes | Q8: Switch gear (Control) | R8: Switch gear (Mains) | S8: Moving Mechanical Parts | U8: Mains Pressure | V8: Water temperature | W8: Milk temperature | X8: Operator competence | Y8: Operator fatigue | Z8: Power failure
B9: Water temperature | C9: 9 | D9: 9 | H9: 9 | K9: 9 | R9: 9 | V9: 3 | Z9: 9 | AB9: =SUM(D9:AA9) -> 48 | AC9: =+AB9*C9 -> 432
B10: Quantity of Coffee | C10: 3 | E10: 9 | N10: 3 | Q10: 9 | R10: 9 | S10: 9 | X10: 9 | Z10: 9 | AB10: =SUM(D10:AA10) -> 57 | AC10: =+AB10*C10 -> 171
B11: Quantity of Water in tank | C11: 1 | F11: 9 | L11: 3 | N11: 3 | R11: 9 | X11: 9 | Y11: 9 | Z11: 9 | AB11: =SUM(D11:AA11) -> 51 | AC11: =+AB11*C11 -> 51
B12: Quantity of water in coffee | C12: 9 | F12: 1 | G12: 9 | H12: 9 | N12: 3 | O12: 9 | P12: 9 | R12: 9 | U12: 9 | X12: 9 | Y12: 3 | Z12: 9 | AB12: =SUM(D12:AA12) -> 79 | AC12: =+AB12*C12 -> 711
B13: Strength of coffee | C13: 9 | D13: 9 | E13: 3 | G13: 9 | H13: 9 | Q13: 9 | R13: 9 | S13: 9 | U13: 9 | V13: 3 | X13: 9 | Y13: 3 | Z13: 9 | AB13: =SUM(D13:AA13) -> 90 | AC13: =+AB13*C13 -> 810
B14: Quantity of milk | C14: 3 | E14: 1 | G14: 3 | H14: 3 | I14: 9 | P14: 3 | Q14: 9 | R14: 9 | S14: 9 | U14: 1 | X14: 9 | Z14: 9 | AB14: =SUM(D14:AA14) -> 65 | AC14: =+AB14*C14 -> 195
B15: Temperature of Milk | C15: 3 | D15: 9 | G15: 3 | I15: 1 | J15: 9 | K15: 9 | Q15: 9 | R15: 9 | S15: 9 | U15: 9 | V15: 3 | W15: 3 | X15: 9 | Z15: 9 | AB15: =SUM(D15:AA15) -> 91 | AC15: =+AB15*C15 -> 273
B16: Degree of foaming | C16: 9 | D16: 3 | G16: 3 | I16: 3 | J16: 9 | K16: 9 | N16: 9 | P16: 9 | Q16: 9 | R16: 9 | S16: 9 | V16: 3 | W16: 3 | X16: 9 | Z16: 9 | AB16: =SUM(D16:AA16) -> 96 | AC16: =+AB16*C16 -> 864
B17: Quantity of rinse water | C17: 3 | F17: 1 | L17: 9 | O17: 9 | P17: 3 | R17: 9 | U17: 3 | V17: 1 | Z17: 9 | AB17: =SUM(D17:AA17) -> 44 | AC17: =+AB17*C17 -> 132
B18: Water delivery rate. | C18: 9 | D18: 1 | E18: 9 | F18: 1 | G18: 9 | J18: 9 | K18: 9 | L18: 9 | M18: 9 | N18: 3 | O18: 9 | P18: 9 | R18: 9 | U18: 9 | V18: 1 | Z18: 9 | AB18: =SUM(D18:AA18) -> 105 | AC18: =+AB18*C18 -> 945
B19: Relative importance of noise factor: | D19: =SUMPRODUCT($C9:$C18,D9:D18) -> 225 | E19: =SUMPRODUCT($C9:$C18,E9:E18) -> 138 | F19: =SUMPRODUCT($C9:$C18,F9:F18) -> 30 | G19: =SUMPRODUCT($C9:$C18,G9:G18) -> 288 | H19: =SUMPRODUCT($C9:$C18,H9:H18) -> 252 | I19: =SUMPRODUCT($C9:$C18,I9:I18) -> 57 | J19: =SUMPRODUCT($C9:$C18,J9:J18) -> 189 | K19: =SUMPRODUCT($C9:$C18,K9:K18) -> 270 | ... AA19: =SUMPRODUCT($C9:$C18,AA9:AA18) -> 0
B21: Team:
B22: Date completed:
C23: 100

Sheet P-Diagram 2 (Derived)
A1: ACTIVITY SUMMARY
A2: P-Diagram
A3: Author: | E3: Noise Factors | G3: External | L3: Noise Factors | N3: Unit to unit | P3: Noise Factor | R3: Deterioration
A4: Date:
A5: Issue: 1
A6: System:
B22: Signal factors | I22: Hesh Munition | Q22: Outputs
L31: Control Factors

Sheet What Why 2
A1: ACTIVITY SUMMARY
G2: =VALUE('Design QFD 2'!#REF!) -> #REF!
A3: If insert rows/columns, copy formulae in purple cells.
M4: NOISE FACTORS | AC4: Relative Importance of noise in meeting performance via control factor
A5: Performance Characteristics | B5: Design control parameters | C5: Weighting | D5: Unit to Unit Variation | M5: Deterioration | T5: External
C6: of design | D6: Mfg | M6: Raw Mat'l | T6: Environment | Z6: Human | AB6: Total
C7: control parameter
AB9: =SUM(D9:AA9) -> 0 | AC9: =+AB9*C9 -> 0
AB10: =SUM(D10:AA10) -> 0 | AC10: =+AB10*C10 -> 0
AB11: =SUM(D11:AA11) -> 0 | AC11: =+AB11*C11 -> 0
AB12: =SUM(D12:AA12) -> 0 | AC12: =+AB12*C12 -> 0
AB13: =SUM(D13:AA13) -> 0 | AC13: =+AB13*C13 -> 0
AB14: =SUM(D14:AA14) -> 0 | AC14: =+AB14*C14 -> 0
AB15: =SUM(D15:AA15) -> 0 | AC15: =+AB15*C15 -> 0
AB16: =SUM(D16:AA16) -> 0 | AC16: =+AB16*C16 -> 0
AB17: =SUM(D17:AA17) -> 0 | AC17: =+AB17*C17 -> 0
AB18: =SUM(D18:AA18) -> 0 | AC18: =+AB18*C18 -> 0
B19: Relative importance of noise factor: | D19: =SUMPRODUCT($C9:$C18,D9:D18) -> 0 | E19: =SUMPRODUCT($C9:$C18,E9:E18) -> 0 | F19: =SUMPRODUCT($C9:$C18,F9:F18) -> 0 | G19: =SUMPRODUCT($C9:$C18,G9:G18) -> 0 | H19: =SUMPRODUCT($C9:$C18,H9:H18) -> 0 | I19: =SUMPRODUCT($C9:$C18,I9:I18) -> 0 | J19: =SUMPRODUCT($C9:$C18,J9:J18) -> 0 | K19: =SUMPRODUCT($C9:$C18,K9:K18) -> 0 | ... AA19: =SUMPRODUCT($C9:$C18,AA9:AA18) -> 0
B21: Team:
B22: Date completed:
C23: 100

Sheet P-Diagram 3 (Target Defeat)
A1: ACTIVITY SUMMARY
A2: P-Diagram
A3: Author: | E3: Noise Factors | G3: External | L3: Noise Factors | N3: Unit to unit | P3: Noise Factor | R3: Deterioration
A4: Date:
A5: Issue: 1
A6: System:
B22: Signal factors Prox PD Delay | I22: Hesh Munition | Q22: Defeat Target
L31: Control Factors

Sheet what why 3 (Target Defeat)
A1: ACTIVITY SUMMARY
I2: =VALUE('Design QFD 2'!#REF!) -> #REF!
A3: If insert rows/columns, copy formulae in purple cells.
O4: NOISE FACTORS | AE4: Relative Importance of noise in meeting performance via control factor
A5: Performance Characteristics | B5: Design control parameters | E5: Weighting | F5: Unit to Unit Variation | O5: Deterioration | V5: External
E6: of design | F6: Mfg | O6: Raw Mat'l | V6: Environment | AB6: Human | AD6: Total
E7: control parameter
C8: Soft and Squidgy | D8: Soft Skin Vehicles | E8: Buildings | F8: Shell Mtl
F9: 3 | AD9: =SUM(F9:AC9) -> 3 | AE9: =+AD9*E9 -> 0
F10: 9 | AD10: =SUM(F10:AC10) -> 9 | AE10: =+AD10*E10 -> 0
F11: 1 | AD11: =SUM(F11:AC11) -> 1 | AE11: =+AD11*E11 -> 0
AD12: =SUM(F12:AC12) -> 0 | AE12: =+AD12*E12 -> 0
AD13: =SUM(F13:AC13) -> 0 | AE13: =+AD13*E13 -> 0
AD14: =SUM(F14:AC14) -> 0 | AE14: =+AD14*E14 -> 0
AD15: =SUM(F15:AC15) -> 0 | AE15: =+AD15*E15 -> 0
AD16: =SUM(F16:AC16) -> 0 | AE16: =+AD16*E16 -> 0
AD17: =SUM(F17:AC17) -> 0 | AE17: =+AD17*E17 -> 0
AD18: =SUM(F18:AC18) -> 0 | AE18: =+AD18*E18 -> 0
B19: Relative importance of noise factor: | F19: =SUMPRODUCT($E9:$E18,F9:F18) -> 0 | G19: =SUMPRODUCT($E9:$E18,G9:G18) -> 0 | H19: =SUMPRODUCT($E9:$E18,H9:H18) -> 0 | I19: =SUMPRODUCT($E9:$E18,I9:I18) -> 0 | J19: =SUMPRODUCT($E9:$E18,J9:J18) -> 0 | K19: =SUMPRODUCT($E9:$E18,K9:K18) -> 0 | L19: =SUMPRODUCT($E9:$E18,L9:L18) -> 0 | M19: =SUMPRODUCT($E9:$E18,M9:M18) -> 0 | ... AC19: =SUMPRODUCT($E9:$E18,AC9:AC18) -> 0
B21: Team:
B22: Date completed:
E23: 100

Sheet What Why 3.1 (Building)
A1: ACTIVITY SUMMARY
G2: =VALUE('Design QFD 2'!#REF!) -> #REF!
A3: If insert rows/columns, copy formulae in purple cells.
M4: NOISE FACTORS | AC4: Relative Importance of noise in meeting performance via control factor
A5: Performance Characteristics | B5: Design control parameters | C5: Weighting | D5: Unit to Unit Variation | M5: Deterioration | T5: External
C6: of design | D6: Mfg | M6: Raw Mat'l | T6: Environment | Z6: Human | AB6: Total
C7: control parameter
AB9: =SUM(D9:AA9) -> 0 | AC9: =+AB9*C9 -> 0
AB10: =SUM(D10:AA10) -> 0 | AC10: =+AB10*C10 -> 0
AB11: =SUM(D11:AA11) -> 0 | AC11: =+AB11*C11 -> 0
AB12: =SUM(D12:AA12) -> 0 | AC12: =+AB12*C12 -> 0
AB13: =SUM(D13:AA13) -> 0 | AC13: =+AB13*C13 -> 0
AB14: =SUM(D14:AA14) -> 0 | AC14: =+AB14*C14 -> 0
AB15: =SUM(D15:AA15) -> 0 | AC15: =+AB15*C15 -> 0
AB16: =SUM(D16:AA16) -> 0 | AC16: =+AB16*C16 -> 0
AB17: =SUM(D17:AA17) -> 0 | AC17: =+AB17*C17 -> 0
AB18: =SUM(D18:AA18) -> 0 | AC18: =+AB18*C18 -> 0
B19: Relative importance of noise factor: | D19: =SUMPRODUCT($C9:$C18,D9:D18) -> 0 | E19: =SUMPRODUCT($C9:$C18,E9:E18) -> 0 | F19: =SUMPRODUCT($C9:$C18,F9:F18) -> 0 | G19: =SUMPRODUCT($C9:$C18,G9:G18) -> 0 | H19: =SUMPRODUCT($C9:$C18,H9:H18) -> 0 | I19: =SUMPRODUCT($C9:$C18,I9:I18) -> 0 | J19: =SUMPRODUCT($C9:$C18,J9:J18) -> 0 | K19: =SUMPRODUCT($C9:$C18,K9:K18) -> 0 | ... AA19: =SUMPRODUCT($C9:$C18,AA9:AA18) -> 0
B21: Team:
B22: Date completed:
C23: 100

Sheet What Why 3.2 (Human)
A1: ACTIVITY SUMMARY
G2: =VALUE('Design QFD 2'!#REF!) -> #REF!
A3: If insert rows/columns, copy formulae in purple cells.
M4: NOISE FACTORS | AC4: Relative Importance of noise in meeting performance via control factor
A5: Performance Characteristics | B5: Design control parameters | C5: Weighting | D5: Unit to Unit Variation | M5: Deterioration | T5: External
C6: of design | D6: Mfg | M6: Raw Mat'l | T6: Environment | Z6: Human | AB6: Total
C7: control parameter
AB9: =SUM(D9:AA9) -> 0 | AC9: =+AB9*C9 -> 0
AB10: =SUM(D10:AA10) -> 0 | AC10: =+AB10*C10 -> 0
AB11: =SUM(D11:AA11) -> 0 | AC11: =+AB11*C11 -> 0
AB12: =SUM(D12:AA12) -> 0 | AC12: =+AB12*C12 -> 0
AB13: =SUM(D13:AA13) -> 0 | AC13: =+AB13*C13 -> 0
AB14: =SUM(D14:AA14) -> 0 | AC14: =+AB14*C14 -> 0
AB15: =SUM(D15:AA15) -> 0 | AC15: =+AB15*C15 -> 0
AB16: =SUM(D16:AA16) -> 0 | AC16: =+AB16*C16 -> 0
AB17: =SUM(D17:AA17) -> 0 | AC17: =+AB17*C17 -> 0
AB18: =SUM(D18:AA18) -> 0 | AC18: =+AB18*C18 -> 0
B19: Relative importance of noise factor: | D19: =SUMPRODUCT($C9:$C18,D9:D18) -> 0 | E19: =SUMPRODUCT($C9:$C18,E9:E18) -> 0 | F19: =SUMPRODUCT($C9:$C18,F9:F18) -> 0 | G19: =SUMPRODUCT($C9:$C18,G9:G18) -> 0 | H19: =SUMPRODUCT($C9:$C18,H9:H18) -> 0 | I19: =SUMPRODUCT($C9:$C18,I9:I18) -> 0 | J19: =SUMPRODUCT($C9:$C18,J9:J18) -> 0 | K19: =SUMPRODUCT($C9:$C18,K9:K18) -> 0 | ... AA19: =SUMPRODUCT($C9:$C18,AA9:AA18) -> 0
B21: Team:
B22: Date completed:
C23: 100

Sheet QFD2 Most Important Bit
A1: ACTIVITY SUMMARY
B2: Design feature | C2: Importance | E2: Importance
B3: Functionality | AA3: Functionality Detail
C4: 100 | D4: 10 | E4: =+C4/D4 -> 10
C5: 100 | D5: 10 | E5: =+C5/D5 -> 10
C6: 100 | D6: 10 | E6: =+C6/D6 -> 10
C7: 100 | D7: 10 | E7: =+C7/D7 -> 10
C8: 100 | D8: 10 | E8: =+C8/D8 -> 10
C9: 100 | D9: 10 | E9: =+C9/D9 -> 10
C10: 100 | D10: 10 | E10: =+C10/D10 -> 10
C11: 100 | D11: 10 | E11: =+C11/D11 -> 10
C12: 100 | D12: 10 | E12: =+C12/D12 -> 10
C13: 100 | D13: 10 | E13: =+C13/D13 -> 10
C14: 100 | D14: 10 | E14: =+C14/D14 -> 10
C15: 100 | D15: 10 | E15: =+C15/D15 -> 10
... C26: 100 | D26: 10 | E26: =+C26/D26 -> 10
F27: =SUMPRODUCT($E$3:$E$26,F3:F26) -> 0 | G27: =SUMPRODUCT($E$3:$E$26,G3:G26) -> 0 | H27: =SUMPRODUCT($E$3:$E$26,H3:H26) -> 0 | I27: =SUMPRODUCT($E$3:$E$26,I3:I26) -> 0 | J27: =SUMPRODUCT($E$3:$E$26,J3:J26) -> 0 | K27: =SUMPRODUCT($E$3:$E$26,K3:K26) -> 0 | L27: =SUMPRODUCT($E$3:$E$26,L3:L26) -> 0 | M27: =SUMPRODUCT($E$3:$E$26,M3:M26) -> 0 | ... Z27: =SUMPRODUCT($E$3:$E$26,Z3:Z26) -> 0
B29: Target
B30: Benchmark
B31: Ideal Value | F31: Yellow to Std XYD, Font, Paint type, Compatibility | P31: Green to Std XYD, Paint type, compatibility
B32: How Much???

Sheet P Diagram Component
A1: ACTIVITY SUMMARY
A2: P-Diagram
A3: Author: | E3: Noise Factors | G3: External | L3: Noise Factors | N3: Unit to unit | P3: Noise Factor | R3: Deterioration
A4: Date:
A5: Issue: 1
A6: System:
B22: Signal factors | I22: Shell Body Base component | Q22: System compatibility
L31: Control Factors

Sheet What Why Component
A1: ACTIVITY SUMMARY
G2: =VALUE('Design QFD 2'!#REF!) -> #REF!
A3: If insert rows/columns, copy formulae in purple cells.
M4: NOISE FACTORS | Y4: Relative Importance of noise in meeting performance via control factor
A5: Performance Characteristics | B5: Design control parameters | C5: Weighting | D5: Unit to Unit Variation | M5: Deterioration
C6: of design | D6: Mfg | M6: Raw Mat'l | V6: Human | X6: Total
C7: control parameter
Z8: Highlight important factors
X9: =SUM(D9:W9) -> 0 | Y9: =+X9*C9 -> 0
X10: =SUM(D10:W10) -> 0 | Y10: =+X10*C10 -> 0
X11: =SUM(D11:W11) -> 0 | Y11: =+X11*C11 -> 0
X12: =SUM(D12:W12) -> 0 | Y12: =+X12*C12 -> 0
X13: =SUM(D13:W13) -> 0 | Y13: =+X13*C13 -> 0
X14: =SUM(D14:W14) -> 0 | Y14: =+X14*C14 -> 0
X15: =SUM(D15:W15) -> 0 | Y15: =+X15*C15 -> 0
X16: =SUM(D16:W16) -> 0 | Y16: =+X16*C16 -> 0
X17: =SUM(D17:W17) -> 0 | Y17: =+X17*C17 -> 0
X18: =SUM(D18:W18) -> 0 | Y18: =+X18*C18 -> 0
X19: =SUM(D19:W19) -> 0 | Y19: =+X19*C19 -> 0
X20: =SUM(D20:W20) -> 0 | Y20: =+X20*C20 -> 0
... X35: =SUM(D35:W35) -> 0 | Y35: =+X35*C35 -> 0
B36: Relative importance of noise factor: | D36: =SUMPRODUCT($C9:$C35,D9:D35) -> 0 | E36: =SUMPRODUCT($C9:$C35,E9:E35) -> 0 | F36: =SUMPRODUCT($C9:$C35,F9:F35) -> 0 | G36: =SUMPRODUCT($C9:$C35,G9:G35) -> 0 | H36: =SUMPRODUCT($C9:$C35,H9:H35) -> 0 | I36: =SUMPRODUCT($C9:$C35,I9:I35) -> 0 | J36: =SUMPRODUCT($C9:$C35,J9:J35) -> 0 | K36: =SUMPRODUCT($C9:$C35,K9:K35) -> 0 | ... W36: =SUMPRODUCT($C9:$C35,W9:W35) -> 0
B38: Team:
B39: Date completed:
C40: 100

Sheet Control Importances (Base)

Sheet Noise importances (Base)

Sheet Manufacturing Requirements
A6: ACTIVITY SUMMARY

Sheet Process Map 
A1: ACTIVITY SUMMARY

Sheet Manufacturing QFD 1
A1: ACTIVITY SUMMARY
B2: Manufacturing Functionality | C2: Importance
B3: Manufacturing Requirements | U3: Manufacturing Requirements detail
B4: Manufacturing Costs
B5: Labour | C5: 5
B6: Equipment capital cost | C6: 5
B7: Service / Operating Cost | C7: 5
B8: Set up cost | C8: 5
B9: Material Cost - Metal Bits | C9: 5
B10: Material Cost - Energetic Bits | C10: 5
B11: Material Cost - other | C11: 5
B12: Maintenance Cost
B13: Manufacturing Capacity | C13: 5
B14: Target production rate XX per month | C14: 5
B15: Reliable Manufacture | C15: 5
B16: Repeatable performance | C16: 5
B17: Effective Maintenance | C17: 5
B18: Low system outage | C18: 5
B19: Quality | C19: 5
B20: Defect Free | C20: 5
B21: Effective test and inspection | C21: 5
B22: Safety | C22: 5
B23: Explosive | C23: 5
B24: Non-Explosive | C24: 5
C25: 5
C26: 5
C27: 5
C28: 5
D29: =SUMPRODUCT($C$3:$C$28,D3:D28) -> 0 | E29: =SUMPRODUCT($C$3:$C$28,E3:E28) -> 0 | F29: =SUMPRODUCT($C$3:$C$28,F3:F28) -> 0 | G29: =SUMPRODUCT($C$3:$C$28,G3:G28) -> 0 | H29: =SUMPRODUCT($C$3:$C$28,H3:H28) -> 0 | I29: =SUMPRODUCT($C$3:$C$28,I3:I28) -> 0 | J29: =SUMPRODUCT($C$3:$C$28,J3:J28) -> 0 | K29: =SUMPRODUCT($C$3:$C$28,K3:K28) -> 0 | ... T29: =SUMPRODUCT($C$3:$C$28,T3:T28) -> 0
B32: Target
B33: Benchmark
B34: Ideal Value
B35: Functionality Detail/ insert specifications for each operation

Sheet QFD 2 Manufacturing
A1: ACTIVITY SUMMARY
B2: Design feature | C2: Importance | E2: Importance
B3: Functionality | AB3: Functionality Detail
C4: =VALUE('Manufacturing QFD 1'!D29) -> 0 | D4: 10 | E4: =+C4/D4 -> 0
C5: =VALUE('Manufacturing QFD 1'!E29) -> 0 | D5: 10 | E5: =+C5/D5 -> 0
C6: =VALUE('Manufacturing QFD 1'!F29) -> 0 | D6: 10 | E6: =+C6/D6 -> 0
C7: =VALUE('Manufacturing QFD 1'!G29) -> 0 | D7: 10 | E7: =+C7/D7 -> 0
C8: =VALUE('Manufacturing QFD 1'!H29) -> 0 | D8: 10 | E8: =+C8/D8 -> 0
C9: =VALUE('Manufacturing QFD 1'!I29) -> 0 | D9: 10 | E9: =+C9/D9 -> 0
C10: =VALUE('Manufacturing QFD 1'!J29) -> 0 | D10: 10 | E10: =+C10/D10 -> 0
C11: =VALUE('Manufacturing QFD 1'!K29) -> 0 | D11: 10 | E11: =+C11/D11 -> 0
C12: =VALUE('Manufacturing QFD 1'!L29) -> 0 | D12: 10 | E12: =+C12/D12 -> 0
C13: =VALUE('Manufacturing QFD 1'!M29) -> 0 | D13: 10 | E13: =+C13/D13 -> 0
D14: 10 | E14: =+C14/D14 -> 0
F15: =SUMPRODUCT($E$3:$E$14,F3:F14) -> 0 | G15: =SUMPRODUCT($E$3:$E$14,G3:G14) -> 0 | H15: =SUMPRODUCT($E$3:$E$14,H3:H14) -> 0 | I15: =SUMPRODUCT($E$3:$E$14,I3:I14) -> 0 | J15: =SUMPRODUCT($E$3:$E$14,J3:J14) -> 0 | K15: =SUMPRODUCT($E$3:$E$14,K3:K14) -> 0 | L15: =SUMPRODUCT($E$3:$E$14,L3:L14) -> 0 | M15: =SUMPRODUCT($E$3:$E$14,M3:M14) -> 0 | ... AA15: =SUMPRODUCT($E$3:$E$14,AA3:AA14) -> 0
B17: Target
B18: Benchmark
B19: Ideal Value
B20: How Much???

Sheet Means importance

Sheet Process FMA
A1: ACTIVITY SUMMARY
B2: Function | C2: Means
B3: Forge Shell | C3: Forge from Cast Billet | D3: Forge from machined billet
B4: Form Cavity | C4: Hot Forging | D4: Drill | E4: ALM | F4: Two Piece
B5: Head Shell | C5: Swage | D5: Press | E5: ALM
B6: Coarse M/C | C6: Hand lathe | D6: CNC | E6: Robot | F6: Hand set
B7: Fine M/C | C7: Hand lathe | D7: CNC | E7: Robot | F7: Hand set
B8: Clean Shell | C8: Ultrasonic | D8: Brush and Blow | E8: Bath clean | F8: Vacuum
B9: Form Wire | C9: Hot form | D9: Cold form | E9: ALM | F9: Don't
B10: Coil Wire | C10: Hot form | D10: Cold form | E10: ALM | F10: Don't
B11: Harden Wire | C11: Hot form | D11: Cold form | E11: ALM | F11: Don't
B12: Insert Wire | C12: manual | D12: robot | E12: form in situ | F12: ALM
B13: Surface Finish | C13: Oxsilan | D13: Varnish | E13: Bitumen | F13: Hylamar | G13: rextac/epilene
B14: Paint | C14: Water based | D14: Powder coat | E14: Brush | F14: Don't
B15: Cure paint | C15: Oven | D15: Hot air blow | E15: Air dry
B16: Make Fins | C16: Hand M/C | D16: CNC | E16: Robot | F16: ALM
B17: Coarse MC | C17: Hand M/C | D17: CNC | E17: Robot | F17: ALM
B18: Fine M/C | C18: Hand M/C | D18: CNC | E18: Robot | F18: ALM
B19: Anodise | C19: Sulphuric Acid | D19: Black anodise | E19: Chromic acid | F19: ALM
B20: Clean Shell | C20: Hand M/C | D20: CNC | E20: Robot | F20: ALM
B21: Obtain tracer
B22: Cap Holder | C22: Manual | D22: Robot | E22: Buy in capped holder | F22: Fortress
B23: Load Primer | C23: Manual | D23: Weigh | E23: Volumetric | F23: Robot | G23: Fortress
B24: Load Pre-mag | C24: Manual | D24: Weigh | E24: Volumetric | F24: Robot | G24: Fortress
B25: Seal Primer | C25: Manual | D25: Brush | E25: Adhesive | F25: Varnish | G25: Ultrasound
B26: Assemble primer | C26: Manual | D26: Robot | E26: Buy in filled primer | F26: Fortress
B27: Pack | C27: Manual | D27: Robot | E27: Air Handler | F27: Semi Auto
B28: Roll Liner | C28: Manual | D28: Auto | E28: Buy in rolled liner
B29: Seal Liner | C29: Manual | D29: Auto | E29: Buy in Sealed Liner
B30: Line Primer body | C30: Manual | D30: Auto
B31: Fill Body | C31: Cast Cure | D31: Press Fill | E31: Melt Cast IM | F31: Melt cast RTA | G31: Melt Cast Cream TNT
B32: Liquefy Contents | C32: Cast cure | D32: Melt cast | E32: Powder press
B33: Mix | C33: Incorporator | D33: Hand | E33: High Shear | F33: RAM | G33: Ram in case
B34: Fill Shell | C34: Pour | D34: Pump | E34: Press | F34: Inject
B35: Fit Filling Aid | C35: Hand | D35: robot | E35: Don't
B36: Warm Shell | C36: Oven | D36: Warm air | E36: Condition in shop | F36: Don't
B37: Move in | C37: hover pallet | D37: Conveyer | E37: heated box | F37: Manual | G37: Robot | H37: Powered conveyer
B38: Move out | C38: hover pallet | D38: Conveyer | E38: heated box | F38: Manual | G38: Robot | H38: Powered conveyer
B39: Solidify Contents | C39: Cure in oven | D39: Cure at RT | E39: Cool | F39: Cool and Probe | G39: Don't (press)
B40: Remove Filling Aid | C40: Hand | D40: Robot | E40: Don't
...

Sheet Process Pugh
A1: ACTIVITY SUMMARY
C4: ="Project Name: "&'Design Book Title'!C10 -> Project Name: The COS, Gorilla and Neanderthal's coffee machine
D6: Relative Importance Equal | E6: Relative importance Weighted | F6: Benchmark design Melt Cast Manual | G6: Alternative manufacturing method 1. Melt Cast IM Automatic | H6: Alternative manufacturing method 2 Cast Cure IM Automatic
B7: WHATs - Customer Requirements | C7: How much:- From QFD 1
D8: 5
D9: 5
D10: 5
D11: 5
D12: 5
D13: 5
D14: 5
D15: 5
D16: 5
D17: 5
D18: 5
D19: 5
... D22: 5
D23: Un Weighted | F23: =SUMPRODUCT($D$8:$D$22,F8:F22) -> 0 | G23: =SUMPRODUCT($D$8:$D$22,G8:G22) -> 0 | H23: =SUMPRODUCT($D$8:$D$22,H8:H22) -> 0
D24: Weighted | F24: =SUMPRODUCT($E$8:$E$22,F8:F22) -> 0 | G24: =SUMPRODUCT($E$8:$E$22,G8:G22) -> 0 | H24: =SUMPRODUCT($E$8:$E$22,H8:H22) -> 0
B25: Ranking | D25: 100 | F25: =+F23-F24 -> 0 | G25: =+G23-G24 -> 0 | H25: =+H23-H24 -> 0
BB40: 0 | BF40: 0 | BJ40: 0 | BN40: 0 | BR40: 0
BB44: 0 | BF44: 0 | BJ44: 0 | BN44: 0 | BR44: 0

Sheet QFD 3
A1: ACTIVITY SUMMARY
B2: Process Features | E2: Importance
B4: Important design features | AJ4: Functionality Details
C5: 50 | D5: 10 | E5: 3
C6: 50 | D6: 10 | E6: 2
C7: 50 | D7: 10 | E7: 3
C8: 50 | D8: 10 | E8: 3
C9: 50 | D9: 10 | E9: 3
C10: 50 | D10: 10 | E10: 3
C11: 50 | D11: 10 | E11: 3
C12: 50 | D12: 10 | E12: 3
C13: 50 | D13: 10 | E13: 3
C14: 50 | D14: 10 | E14: 5
C15: 50 | D15: 10 | E15: 3
C16: 50 | D16: 10 | E16: 5
C19: 50 | D19: 10
F20: =SUMPRODUCT($E$5:$E$19,F5:F19) -> 0 | G20: =SUMPRODUCT($E$5:$E$19,G5:G19) -> 0 | H20: =SUMPRODUCT($E$5:$E$19,H5:H19) -> 0 | I20: =SUMPRODUCT($E$5:$E$19,I5:I19) -> 0 | J20: =SUMPRODUCT($E$5:$E$19,J5:J19) -> 0 | K20: =SUMPRODUCT($E$5:$E$19,K5:K19) -> 0 | L20: =SUMPRODUCT($E$5:$E$19,L5:L19) -> 0 | M20: =SUMPRODUCT($E$5:$E$19,M5:M19) -> 0 | ... AI20: =SUMPRODUCT($E$5:$E$19,AI5:AI19) -> 0
B22: Target
B23: Benchmark
B24: Ideal Value
B25: Process Features Details

Sheet 1st Key P Diagram
A1: ACTIVITY SUMMARY
A5: P-Diagram
A6: Author: | E6: Noise Factors | G6: External | L6: Noise Factors | N6: Unit to unit | P6: Noise Factor | R6: Deterioration
A7: Date:
A8: Issue: 1
A9: System:
L38: Control Factors

Sheet 1st Key  "What Why"
A1: ACTIVITY SUMMARY
A3: If insert rows/columns, copy formulae in purple cells.
V4: Relative Importance of noise in meeting performance via control factor
A5: Performance Characteristics Ys: | B5: Design control parameters | C5: Weighting of design control parameter. | D5: Unit to Unit Variation | L5: Deterioration | Q5: External
D6: Mfg | Q6: Environment | S6: Human | U6: Total
U9: =SUM(D9:T9) -> 0 | V9: =+U9*C9 -> 0
U10: =SUM(D10:T10) -> 0 | V10: =+U10*C10 -> 0
U11: =SUM(D11:T11) -> 0 | V11: =+U11*C11 -> 0
U12: =SUM(D12:T12) -> 0 | V12: =+U12*C12 -> 0
U13: =SUM(D13:T13) -> 0 | V13: =+U13*C13 -> 0
U14: =SUM(D14:T14) -> 0 | V14: =+U14*C14 -> 0
U15: =SUM(D15:T15) -> 0 | V15: =+U15*C15 -> 0
U16: =SUM(D16:T16) -> 0 | V16: =+U16*C16 -> 0
U17: =SUM(D17:T17) -> 0 | V17: =+U17*C17 -> 0
U18: =SUM(D18:T18) -> 0 | V18: =+U18*C18 -> 0
U19: =SUM(D19:T19) -> 0 | V19: =+U19*C19 -> 0
U20: =SUM(D20:T20) -> 0 | V20: =+U20*C20 -> 0
B21: Relative importance of noise factor: | D21: =SUMPRODUCT($C9:$C20,D9:D20) -> 0 | E21: =SUMPRODUCT($C9:$C20,E9:E20) -> 0 | F21: =SUMPRODUCT($C9:$C20,F9:F20) -> 0 | G21: =SUMPRODUCT($C9:$C20,G9:G20) -> 0 | H21: =SUMPRODUCT($C9:$C20,H9:H20) -> 0 | I21: =SUMPRODUCT($C9:$C20,I9:I20) -> 0 | J21: =SUMPRODUCT($C9:$C20,J9:J20) -> 0 | K21: =SUMPRODUCT($C9:$C20,K9:K20) -> 0 | ... T21: =SUMPRODUCT($C9:$C20,T9:T20) -> 0
B23: Team:
B24: Date completed:

Sheet 1st QFD4
A1: ACTIVITY SUMMARY
E3: Operational assessment | L3: Process Controls
E4: manufacturing controlas and Aids | F4: Difficulty | G4: Frequency | H4: Severity | I4: Detectability | J4: RPN
B5: Process parameters | C5: Target Values
J6: =+F6*G6*H6*I6 -> 0
J7: =+F7*G7*H7*I7 -> 0
J8: =+F8*G8*H8*I8 -> 0
J9: =+F9*G9*H9*I9 -> 0
J10: =+F10*G10*H10*I10 -> 0
J11: =+F11*G11*H11*I11 -> 0
J12: =+F12*G12*H12*I12 -> 0
L13: =SUMPRODUCT($J$6:$J$12,L6:L12) -> 0 | M13: =SUMPRODUCT($J$6:$J$12,M6:M12) -> 0 | N13: =SUMPRODUCT($J$6:$J$12,N6:N12) -> 0 | O13: =SUMPRODUCT($J$6:$J$12,O6:O12) -> 0 | P13: =SUMPRODUCT($J$6:$J$12,P6:P12) -> 0 | Q13: =SUMPRODUCT($J$6:$J$12,Q6:Q12) -> 0 | R13: =SUMPRODUCT($J$6:$J$12,R6:R12) -> 0 | S13: =SUMPRODUCT($J$6:$J$12,S6:S12) -> 0 | ... AB13: =SUMPRODUCT($J$6:$J$12,AB6:AB12) -> 0

Sheet 2nd Key P Diag
A5: P-Diagram
A6: Author: | E6: Noise Factors | G6: External | L6: Noise Factors | N6: Unit to unit | P6: Noise Factor | R6: Deterioration
A7: Date:
A8: Issue: 1
A9: System:
L38: Control Factors

Sheet 2nd Key What Why
A3: If insert rows/columns, copy formulae in purple cells.
X4: Relative Importance of noise in meeting performance via control factor
A5: Performance Characteristics Ys: | B5: Design control parameters | C5: Weighting | D5: External | I5: Unit to Unit | R5: Deterioration
C6: of design | D6: Mfg | S6: Environment | U6: Human | W6: Total
C7: control parameter
A9: Produce Pellets | W9: =SUM(D9:V9) -> 0 | X9: =+W9*C9 -> 0
W10: =SUM(D10:V10) -> 0 | X10: =+W10*C10 -> 0
W11: =SUM(D11:V11) -> 0 | X11: =+W11*C11 -> 0
W12: =SUM(D12:V12) -> 0 | X12: =+W12*C12 -> 0
W13: =SUM(D13:V13) -> 0 | X13: =+W13*C13 -> 0
W14: =SUM(D14:V14) -> 0 | X14: =+W14*C14 -> 0
W15: =SUM(D15:V15) -> 0 | X15: =+W15*C15 -> 0
W16: =SUM(D16:V16) -> 0 | X16: =+W16*C16 -> 0
W17: =SUM(D17:V17) -> 0 | X17: =+W17*C17 -> 0
W18: =SUM(D18:V18) -> 0 | X18: =+W18*C18 -> 0
B19: Relative importance of noise factor: | D19: =SUMPRODUCT($C9:$C18,D9:D18) -> 0 | E19: =SUMPRODUCT($C9:$C18,E9:E18) -> 0 | F19: =SUMPRODUCT($C9:$C18,F9:F18) -> 0 | G19: =SUMPRODUCT($C9:$C18,G9:G18) -> 0 | H19: =SUMPRODUCT($C9:$C18,H9:H18) -> 0 | I19: =SUMPRODUCT($C9:$C18,I9:I18) -> 0 | J19: =SUMPRODUCT($C9:$C18,J9:J18) -> 0 | K19: =SUMPRODUCT($C9:$C18,K9:K18) -> 0 | ... V19: =SUMPRODUCT($C9:$C18,V9:V18) -> 0
B20: Direct factor severity assessment
B21: Team:
B22: Date completed:

Sheet 2nd QFD 4 
E3: Operational assessment | L3: Process Controls
E4: manufacturing controls and Aids | F4: Difficulty | G4: Frequency | H4: Severity | I4: Detectability | J4: RPN
B5: Process parameters | C5: Target Values
J6: =+F6*G6*H6*I6 -> 0
J7: =+F7*G7*H7*I7 -> 0
J8: =+F8*G8*H8*I8 -> 0
J9: =+F9*G9*H9*I9 -> 0
J10: =+F10*G10*H10*I10 -> 0
J11: =+F11*G11*H11*I11 -> 0
J12: =+F12*G12*H12*I12 -> 0
J13: =+F13*G13*H13*I13 -> 0
J14: =+F14*G14*H14*I14 -> 0
J15: =+F15*G15*H15*I15 -> 0
L16: =SUMPRODUCT($J$6:$J$15,L6:L15) -> 0 | M16: =SUMPRODUCT($J$6:$J$15,M6:M15) -> 0 | N16: =SUMPRODUCT($J$6:$J$15,N6:N15) -> 0 | O16: =SUMPRODUCT($J$6:$J$15,O6:O15) -> 0 | P16: =SUMPRODUCT($J$6:$J$15,P6:P15) -> 0 | Q16: =SUMPRODUCT($J$6:$J$15,Q6:Q15) -> 0 | R16: =SUMPRODUCT($J$6:$J$15,R6:R15) -> 0 | S16: =SUMPRODUCT($J$6:$J$15,S6:S15) -> 0 | ... AJ16: =SUMPRODUCT($J$6:$J$15,AJ6:AJ15) -> 0
