Workbook

Sheet Trail Calc 
C1: RS250 | F1: RMZ250
C2: Wheel Radius | D2: 285 | F2: Wheel Radius | G2: =693/2 -> 346.5
C3: Rake angle | D3: 23 | F3: Rake angle | G3: 28.7
C4: Tripple clamp offset | D4: 36 | F4: Tripple clamp offset | G4: 50
G5: 60
C6: Trail | D6: =(D2*SIN(RADIANS(D3))-D4)/COS(RADIANS(D3)) -> 81.866349 | F6: Trail | G6: =(G2*SIN(RADIANS(G3))-G4)/COS(RADIANS(G3)) -> 132.70017

Sheet COG Calc
E4: Aprilia RS250 | K4: 2022 RMZ 250
D5: Level | E5: Level w/rider | F5: Lifted | G5: Lifted w/rider | K5: Level | L5: Level w/rider | M5: Lifted | N5: Lifted w/rider
C6: Front Wheel (kg) | D6: 71.5 | E6: 99.1 | F6: 79.35 | G6: 119.7 | J6: Front Wheel (kg) | K6: 56.65 | L6: 97.19 | M6: 62.16 | N6: 115.99
C7: Rear wheel (kg) | D7: 66.95 | E7: 115.45 | F7: 59.05 | G7: 94.84 | J7: Rear wheel (kg) | K7: 48.45 | L7: 85.91 | M7: 42.94 | N7: 67.11
C9: Wheelbase | D9: 1.35 | F9: weight of bike | G9: =SUM(D6+D7) -> 138.45 | J9: Wheelbase | K9: 1.485 | M9: weight of bike | N9: =K6+K7 -> 105.1
C10: Rw RAD | D10: 0.285 | F10: Rider weight | G10: 76.6 | J10: Rw RAD | K10: =0.662/2 -> 0.331 | M10: Rider weight | N10: 78
C11: Fw RAD | D11: 0.305 | F11: Total weight | G11: =SUM(G9+G10) -> 215.05 | J11: Fw RAD | K11: =0.693/2 -> 0.3465 | M11: Total weight | N11: =N9+N10 -> 183.1
C12: RAV | D12: =SUM((D11+D10)/2) -> 0.295 | J12: RAV | K12: =SUM((K10+K11)/2) -> 0.33875
C13: Stool height | D13: 0.4 | F13: Stool weight | G13: 0 | J13: Stool height | K13: 0.4 | M13: Stool weight | N13: 0
C14: Lifted angle (deg) | D14: =DEGREES(ASIN(D13/D9)) -> 17.235285 | J14: Lifted angle (deg) | K14: =DEGREES(ASIN(K13/K9)) -> 15.626203
C16: XcoG | D16: =(D7*D9)/G9 -> 0.6528169 | F16: %Front | G16: =(D6/G9)*100 -> 51.643192 | J16: XcoG | K16: =(K7*K9)/N9 -> 0.68456946 | M16: %Front | N16: =(K6/N9)*100 -> 53.901047
C17: YcoG | D17: =(D9*(D7-F7))/(G9*TAN(RADIANS(D14)))+D12 -> 0.54330687 | F17: %Rear | G17: =(D7/G9)*100 -> 48.356808 | J17: YcoG | K17: =(K9*(K7-M7))/(N9*TAN(RADIANS(K14)))+K12 -> 0.61709658 | M17: %Rear | N17: =(K7/N9)*100 -> 46.098953
C18: XcoG W/rider | D18: =(E7*D9)/G11 -> 0.72475006 | F18: %Front W/rider | G18: =((D9-D18)/D9)*100 -> 46.314811 | J18: XcoG W/rider | K18: =(L7*K9)/N11 -> 0.69675778 | M18: %Front W/rider | N18: =((K9-K18)/K9)*100 -> 53.080284
C19: YcoG W/rider | D19: =(D9*(E7-G7))/(G11*TAN(RADIANS(D14)))+D12 -> 0.71205482 | F19: %Rear W/rider | G19: =(D18/D9)*100 -> 53.685189 | J19: YcoG W/rider | K19: =(K9*(L7-N7))/(N11*TAN(RADIANS(K14)))+K12 -> 0.88388807 | M19: %Rear W/rider | N19: =(K18/K9)*100 -> 46.919716

Sheet Drag Calc Graph
A1: Mass (m) | B1: 215 | C1: kg
A2: Frontal Area (A) | B2: 0.2418 | C2: m^2
A3: Drag Coefficeint Cd | B3: 0.756
A4: CdA | B4: 0.305 | C4: m^2
A5: Velocity (V) | B5: 207 | C5: Km/h | Q5: Velocty | R5: Drag
A6: Velocity (V) | B6: =B5*(1000/3600) -> 57.5 | C6: M/S | Q6: 0 | R6: =(0.5*$B$9*$B$4*(Q6*1000/3600)^2) -> 0
A7: Gradient of slope | B7: 0 | C7: % | Q7: 1 | R7: =(0.5*$B$9*$B$4*(Q7*1000/3600)^2) -> 0.01373206
A8: Slope Angle | B8: =DEGREES(ATAN(B7/100)) -> 0 | C8: DEG | Q8: 2 | R8: =(0.5*$B$9*$B$4*(Q8*1000/3600)^2) -> 0.054928241
A9: Density of air | B9: 1.167 | C9: kg/m^3 | Q9: 3 | R9: =(0.5*$B$9*$B$4*(Q9*1000/3600)^2) -> 0.12358854
Q10: 4 | R10: =(0.5*$B$9*$B$4*(Q10*1000/3600)^2) -> 0.21971296
A11: Aero Drag force (Fd) | B11: =(0.5*B9*B2*B4*B6^2) -> 142.27634 | C11: N | Q11: 5 | R11: =(0.5*$B$9*$B$4*(Q11*1000/3600)^2) -> 0.3433015
A12: Rolling resistance | B12: =(0.02*B1*9.81) -> 42.183 | C12: N | Q12: 6 | R12: =(0.5*$B$9*$B$4*(Q12*1000/3600)^2) -> 0.49435417
A13: Rolling resistance due to gradient | B13: =B1*9.81*(ATAN(B7/100)) -> 0 | C13: N | Q13: 7 | R13: =(0.5*$B$9*$B$4*(Q13*1000/3600)^2) -> 0.67287095
Q14: 8 | R14: =(0.5*$B$9*$B$4*(Q14*1000/3600)^2) -> 0.87885185
A15: Total resistive force | B15: =B13+B12+B11 -> 184.45934 | C15: N | Q15: 9 | R15: =(0.5*$B$9*$B$4*(Q15*1000/3600)^2) -> 1.1122969
A16: Power Needed | B16: =B15*B6 -> 10606.412 | C16: W | Q16: 10 | R16: =(0.5*$B$9*$B$4*(Q16*1000/3600)^2) -> 1.373206
Q17: 11 | R17: =(0.5*$B$9*$B$4*(Q17*1000/3600)^2) -> 1.6615793
Q18: 12 | R18: =(0.5*$B$9*$B$4*(Q18*1000/3600)^2) -> 1.9774167
Q19: 13 | R19: =(0.5*$B$9*$B$4*(Q19*1000/3600)^2) -> 2.3207182
Q20: 14 | R20: =(0.5*$B$9*$B$4*(Q20*1000/3600)^2) -> 2.6914838
Q21: 15 | R21: =(0.5*$B$9*$B$4*(Q21*1000/3600)^2) -> 3.0897135
Q22: 16 | R22: =(0.5*$B$9*$B$4*(Q22*1000/3600)^2) -> 3.5154074
Q23: 17 | R23: =(0.5*$B$9*$B$4*(Q23*1000/3600)^2) -> 3.9685654
Q24: 18 | R24: =(0.5*$B$9*$B$4*(Q24*1000/3600)^2) -> 4.4491875
Q25: 19 | R25: =(0.5*$B$9*$B$4*(Q25*1000/3600)^2) -> 4.9572737
Q26: 20 | R26: =(0.5*$B$9*$B$4*(Q26*1000/3600)^2) -> 5.4928241
Q27: 21 | R27: =(0.5*$B$9*$B$4*(Q27*1000/3600)^2) -> 6.0558385
Q28: 22 | R28: =(0.5*$B$9*$B$4*(Q28*1000/3600)^2) -> 6.6463171
... Q230: 224 | R230: =(0.5*$B$9*$B$4*(Q230*1000/3600)^2) -> 689.01985
Q231: 225

Sheet Gear Ratio Calc
T1: Ri
B2: Primary | C2: 23 | D2: 59 | J2: Chain size | K2: Front Sprocket | L2: Rear Sprocket | M2: Chain | N2: Distance between front sprocket and pivot | O2: Swing arm Length | R2: Chain Size
B3: Final | C3: 14 | D3: 42 | J3: 0.625 | K3: 14 | L3: 42 | M3: 110 | N3: 112 | O3: =0.5*(M3-0.5*(K3+L3))*25.4*J3-N3 -> 538.875 | R3: 0.5
B4: Tyre Diam | C4: Goldspeed dry | D4: 0.57 | R4: 0.625
B5: RPM | C5: 12500 | R5: 0.75
B7: Ratios | F7: Speeds | G7: Revs | H7: Falls
B8: 1st | C8: 11 | D8: 27 | F8: =(($C$5*60*(C8/D8)*($C$2/$D$2)*$D$4*PI())/1000)*$C$3/$D$3 -> 71.099981 | G8: 12500
G9: =$C$5*($C$8/$D$8)*($D$10/$C$10) -> 8275.463 | H9: =$G$8-$G$9 -> 4224.537
B10: 2nd | C10: 16 | D10: 26 | F10: =(($C$5*60*(C10/D10)*($C$2/$D$2)*$D$4*PI())/1000)*$C$3/$D$3 -> 107.39577 | G10: 12500 | Q10: Rear Tyre | R10: Tyre width | S10: aspect ratio | T10: Rim diametere | U10: Diameter
G11: =$C$5*($C$10/$D$10)*($D$12/$C$12) -> 9502.2624 | H11: =$G$10-$G$11 -> 2997.7376 | Q11: Goldspeed dry | R11: 165 | S11: 56 | T11: 17 | U11: =(((R11/25.4*S11/100+T11/2)*2)*25.4/1000) -> 0.6166
B12: 3rd | C12: 17 | D12: 21 | F12: =(($C$5*60*(C12/D12)*($C$2/$D$2)*$D$4*PI())/1000)*$C$3/$D$3 -> 141.27658 | G12: 12500 | Q12: Small | R12: 190 | S12: 55 | T12: 17 | U12: =(((R12/25.4*S12/100+T12/2)*2)*25.4/1000) -> 0.6408
G13: =$C$5*($C$12/$D$12)*($D$14/$C$14) -> 10579.004 | H13: =$G$12-$G$13 -> 1920.9957 | Q13: Inter | R13: 150 | S13: 60 | T13: 17 | U13: =(((R13/25.4*S13/100+T13/2)*2)*25.4/1000) -> 0.6118
B14: 4th | C14: 22 | D14: 23 | F14: =(($C$5*60*(C14/D14)*($C$2/$D$2)*$D$4*PI())/1000)*$C$3/$D$3 -> 166.93039 | G14: 12500 | Q14: michellin rain | R14: 160 | S14: 63 | T14: 17 | U14: =(((R14/25.4*S14/100+T14/2)*2)*25.4/1000) -> 0.6334
G15: =$C$5*($C$14/$D$14)*($D$16/$C$16) -> 10960.145 | H15: =$G$14-$G$15 -> 1539.8551
B16: 5th | C16: 24 | D16: 22 | F16: =(($C$5*60*(C16/D16)*($C$2/$D$2)*$D$4*PI())/1000)*$C$3/$D$3 -> 190.38342 | G16: 12500
G17: =$C$5*($C$16/$D$16)*($D$18/$C$18) -> 11454.545 | H17: =$G$16-$G$17 -> 1045.4545
B18: 6th | C18: 25 | D18: 21 | F18: =(($C$5*60*(C18/D18)*($C$2/$D$2)*$D$4*PI())/1000)*$C$3/$D$3 -> 207.75968

Sheet Driving Force
A1: RPM | B1: Power (hp) | D1: Power (kw) | H1: Road speed 1st (km/h) | I1: Road speed 2nd | J1: Road speed 3rd | K1: Road speed 4th | L1: Road speed 5th | M1: Road speed 6th | O1: Driving Force 1st | P1: Driving Force 2nd | Q1: Driving Force 3rd | R1: Driving Force 4th | S1: Driving Force 5th | T1: Driving Force 6th
A2: 5500 | B2: 16.497 | C2: =B2*5252/A2 -> 15.753135 | D2: =B2*0.74569987 -> 12.301811 | H2: =(($A2*60*('Gear Ratio Calc'!$C$8/'Gear Ratio Calc'!$D$8)*('Gear Ratio Calc'!$C$2)/'Gear Ratio Calc'!$D$2)*'Gear Ratio Calc'!$D$4*PI())/1000*('Gear Ratio Calc'!$C$3/'Gear Ratio Calc'!$D$3) -> 31.283991 | I2: =(($A2*60*('Gear Ratio Calc'!$C$10/'Gear Ratio Calc'!$D$10)*('Gear Ratio Calc'!$C$2)/'Gear Ratio Calc'!$D$2)*'Gear Ratio Calc'!$D$4*PI())/1000*('Gear Ratio Calc'!$C$3/'Gear Ratio Calc'!$D$3) -> 47.254141 | J2: =(($A2*60*('Gear Ratio Calc'!$C$12/'Gear Ratio Calc'!$D$12)*('Gear Ratio Calc'!$C$2)/'Gear Ratio Calc'!$D$2)*'Gear Ratio Calc'!$D$4*PI())/1000*('Gear Ratio Calc'!$C$3/'Gear Ratio Calc'!$D$3) -> 62.161697 | K2: =(($A2*60*('Gear Ratio Calc'!$C$14/'Gear Ratio Calc'!$D$14)*('Gear Ratio Calc'!$C$2)/'Gear Ratio Calc'!$D$2)*'Gear Ratio Calc'!$D$4*PI())/1000*('Gear Ratio Calc'!$C$3/'Gear Ratio Calc'!$D$3) -> 73.449371 | L2: =(($A2*60*('Gear Ratio Calc'!$C$16/'Gear Ratio Calc'!$D$16)*('Gear Ratio Calc'!$C$2)/'Gear Ratio Calc'!$D$2)*'Gear Ratio Calc'!$D$4*PI())/1000*('Gear Ratio Calc'!$C$3/'Gear Ratio Calc'!$D$3) -> 83.768704 | M2: =(($A2*60*('Gear Ratio Calc'!$C$18/'Gear Ratio Calc'!$D$18)*('Gear Ratio Calc'!$C$2)/'Gear Ratio Calc'!$D$2)*'Gear Ratio Calc'!$D$4*PI())/1000*('Gear Ratio Calc'!$C$3/'Gear Ratio Calc'!$D$3) -> 91.414261 | O2: =(D2*1000)/(H2*1000/3600) -> 1415.6288 | P2: =(D2*1000)/(I2*1000/3600) -> 937.19868 | Q2: =(D2*1000)/(J2*1000/3600) -> 712.44063 | R2: =(D2*1000)/(K2*1000/3600) -> 602.953 | S2: =(D2*1000)/(L2*1000/3600) -> 528.67618 | T2: =(D2*1000)/(M2*1000/3600) -> 484.45963
A3: 6000 | B3: 21.625 | C3: =B3*5252/A3 -> 18.929083 | D3: =B3*0.74569987 -> 16.12576 | H3: =(($A3*60*('Gear Ratio Calc'!$C$8/'Gear Ratio Calc'!$D$8)*('Gear Ratio Calc'!$C$2)/'Gear Ratio Calc'!$D$2)*'Gear Ratio Calc'!$D$4*PI())/1000*('Gear Ratio Calc'!$C$3/'Gear Ratio Calc'!$D$3) -> 34.127991 | I3: =(($A3*60*('Gear Ratio Calc'!$C$10/'Gear Ratio Calc'!$D$10)*('Gear Ratio Calc'!$C$2)/'Gear Ratio Calc'!$D$2)*'Gear Ratio Calc'!$D$4*PI())/1000*('Gear Ratio Calc'!$C$3/'Gear Ratio Calc'!$D$3) -> 51.549972 | J3: =(($A3*60*('Gear Ratio Calc'!$C$12/'Gear Ratio Calc'!$D$12)*('Gear Ratio Calc'!$C$2)/'Gear Ratio Calc'!$D$2)*'Gear Ratio Calc'!$D$4*PI())/1000*('Gear Ratio Calc'!$C$3/'Gear Ratio Calc'!$D$3) -> 67.812761 | K3: =(($A3*60*('Gear Ratio Calc'!$C$14/'Gear Ratio Calc'!$D$14)*('Gear Ratio Calc'!$C$2)/'Gear Ratio Calc'!$D$2)*'Gear Ratio Calc'!$D$4*PI())/1000*('Gear Ratio Calc'!$C$3/'Gear Ratio Calc'!$D$3) -> 80.126587 | L3: =(($A3*60*('Gear Ratio Calc'!$C$16/'Gear Ratio Calc'!$D$16)*('Gear Ratio Calc'!$C$2)/'Gear Ratio Calc'!$D$2)*'Gear Ratio Calc'!$D$4*PI())/1000*('Gear Ratio Calc'!$C$3/'Gear Ratio Calc'!$D$3) -> 91.384041 | M3: =(($A3*60*('Gear Ratio Calc'!$C$18/'Gear Ratio Calc'!$D$18)*('Gear Ratio Calc'!$C$2)/'Gear Ratio Calc'!$D$2)*'Gear Ratio Calc'!$D$4*PI())/1000*('Gear Ratio Calc'!$C$3/'Gear Ratio Calc'!$D$3) -> 99.724648 | O3: =(D3*1000)/(H3*1000/3600) -> 1701.03 | P3: =(D3*1000)/(I3*1000/3600) -> 1126.1448 | Q3: =(D3*1000)/(J3*1000/3600) -> 856.0739 | R3: =(D3*1000)/(K3*1000/3600) -> 724.51276 | S3: =(D3*1000)/(L3*1000/3600) -> 635.26119 | T3: =(D3*1000)/(M3*1000/3600) -> 582.13026
A4: 6500 | B4: 24.01 | C4: =B4*5252/A4 -> 19.40008 | D4: =B4*0.74569987 -> 17.904254 | H4: =(($A4*60*('Gear Ratio Calc'!$C$8/'Gear Ratio Calc'!$D$8)*('Gear Ratio Calc'!$C$2)/'Gear Ratio Calc'!$D$2)*'Gear Ratio Calc'!$D$4*PI())/1000*('Gear Ratio Calc'!$C$3/'Gear Ratio Calc'!$D$3) -> 36.97199 | I4: =(($A4*60*('Gear Ratio Calc'!$C$10/'Gear Ratio Calc'!$D$10)*('Gear Ratio Calc'!$C$2)/'Gear Ratio Calc'!$D$2)*'Gear Ratio Calc'!$D$4*PI())/1000*('Gear Ratio Calc'!$C$3/'Gear Ratio Calc'!$D$3) -> 55.845803 | J4: =(($A4*60*('Gear Ratio Calc'!$C$12/'Gear Ratio Calc'!$D$12)*('Gear Ratio Calc'!$C$2)/'Gear Ratio Calc'!$D$2)*'Gear Ratio Calc'!$D$4*PI())/1000*('Gear Ratio Calc'!$C$3/'Gear Ratio Calc'!$D$3) -> 73.463824 | K4: =(($A4*60*('Gear Ratio Calc'!$C$14/'Gear Ratio Calc'!$D$14)*('Gear Ratio Calc'!$C$2)/'Gear Ratio Calc'!$D$2)*'Gear Ratio Calc'!$D$4*PI())/1000*('Gear Ratio Calc'!$C$3/'Gear Ratio Calc'!$D$3) -> 86.803802 | L4: =(($A4*60*('Gear Ratio Calc'!$C$16/'Gear Ratio Calc'!$D$16)*('Gear Ratio Calc'!$C$2)/'Gear Ratio Calc'!$D$2)*'Gear Ratio Calc'!$D$4*PI())/1000*('Gear Ratio Calc'!$C$3/'Gear Ratio Calc'!$D$3) -> 98.999378 | M4: =(($A4*60*('Gear Ratio Calc'!$C$18/'Gear Ratio Calc'!$D$18)*('Gear Ratio Calc'!$C$2)/'Gear Ratio Calc'!$D$2)*'Gear Ratio Calc'!$D$4*PI())/1000*('Gear Ratio Calc'!$C$3/'Gear Ratio Calc'!$D$3) -> 108.03504 | O4: =(D4*1000)/(H4*1000/3600) -> 1743.3553 | P4: =(D4*1000)/(I4*1000/3600) -> 1154.1658 | Q4: =(D4*1000)/(J4*1000/3600) -> 877.37488 | R4: =(D4*1000)/(K4*1000/3600) -> 742.54021 | S4: =(D4*1000)/(L4*1000/3600) -> 651.06787 | T4: =(D4*1000)/(M4*1000/3600) -> 596.61492
A5: 7000 | B5: 26.674 | C5: =B5*5252/A5 -> 20.013121 | D5: =B5*0.74569987 -> 19.890798 | H5: =(($A5*60*('Gear Ratio Calc'!$C$8/'Gear Ratio Calc'!$D$8)*('Gear Ratio Calc'!$C$2)/'Gear Ratio Calc'!$D$2)*'Gear Ratio Calc'!$D$4*PI())/1000*('Gear Ratio Calc'!$C$3/'Gear Ratio Calc'!$D$3) -> 39.815989 | I5: =(($A5*60*('Gear Ratio Calc'!$C$10/'Gear Ratio Calc'!$D$10)*('Gear Ratio Calc'!$C$2)/'Gear Ratio Calc'!$D$2)*'Gear Ratio Calc'!$D$4*PI())/1000*('Gear Ratio Calc'!$C$3/'Gear Ratio Calc'!$D$3) -> 60.141634 | J5: =(($A5*60*('Gear Ratio Calc'!$C$12/'Gear Ratio Calc'!$D$12)*('Gear Ratio Calc'!$C$2)/'Gear Ratio Calc'!$D$2)*'Gear Ratio Calc'!$D$4*PI())/1000*('Gear Ratio Calc'!$C$3/'Gear Ratio Calc'!$D$3) -> 79.114888 | K5: =(($A5*60*('Gear Ratio Calc'!$C$14/'Gear Ratio Calc'!$D$14)*('Gear Ratio Calc'!$C$2)/'Gear Ratio Calc'!$D$2)*'Gear Ratio Calc'!$D$4*PI())/1000*('Gear Ratio Calc'!$C$3/'Gear Ratio Calc'!$D$3) -> 93.481018 | L5: =(($A5*60*('Gear Ratio Calc'!$C$16/'Gear Ratio Calc'!$D$16)*('Gear Ratio Calc'!$C$2)/'Gear Ratio Calc'!$D$2)*'Gear Ratio Calc'!$D$4*PI())/1000*('Gear Ratio Calc'!$C$3/'Gear Ratio Calc'!$D$3) -> 106.61471 | M5: =(($A5*60*('Gear Ratio Calc'!$C$18/'Gear Ratio Calc'!$D$18)*('Gear Ratio Calc'!$C$2)/'Gear Ratio Calc'!$D$2)*'Gear Ratio Calc'!$D$4*PI())/1000*('Gear Ratio Calc'!$C$3/'Gear Ratio Calc'!$D$3) -> 116.34542 | O5: =(D5*1000)/(H5*1000/3600) -> 1798.4452 | P5: =(D5*1000)/(I5*1000/3600) -> 1190.6373 | Q5: =(D5*1000)/(J5*1000/3600) -> 905.09986 | R5: =(D5*1000)/(K5*1000/3600) -> 766.00443 | S5: =(D5*1000)/(L5*1000/3600) -> 671.64157 | T5: =(D5*1000)/(M5*1000/3600) -> 615.46791
A6: 7500 | B6: 30.46 | C6: =B6*5252/A6 -> 21.330123 | D6: =B6*0.74569987 -> 22.714018 | H6: =(($A6*60*('Gear Ratio Calc'!$C$8/'Gear Ratio Calc'!$D$8)*('Gear Ratio Calc'!$C$2)/'Gear Ratio Calc'!$D$2)*'Gear Ratio Calc'!$D$4*PI())/1000*('Gear Ratio Calc'!$C$3/'Gear Ratio Calc'!$D$3) -> 42.659988 | I6: =(($A6*60*('Gear Ratio Calc'!$C$10/'Gear Ratio Calc'!$D$10)*('Gear Ratio Calc'!$C$2)/'Gear Ratio Calc'!$D$2)*'Gear Ratio Calc'!$D$4*PI())/1000*('Gear Ratio Calc'!$C$3/'Gear Ratio Calc'!$D$3) -> 64.437465 | J6: =(($A6*60*('Gear Ratio Calc'!$C$12/'Gear Ratio Calc'!$D$12)*('Gear Ratio Calc'!$C$2)/'Gear Ratio Calc'!$D$2)*'Gear Ratio Calc'!$D$4*PI())/1000*('Gear Ratio Calc'!$C$3/'Gear Ratio Calc'!$D$3) -> 84.765951 | K6: =(($A6*60*('Gear Ratio Calc'!$C$14/'Gear Ratio Calc'!$D$14)*('Gear Ratio Calc'!$C$2)/'Gear Ratio Calc'!$D$2)*'Gear Ratio Calc'!$D$4*PI())/1000*('Gear Ratio Calc'!$C$3/'Gear Ratio Calc'!$D$3) -> 100.15823 | L6: =(($A6*60*('Gear Ratio Calc'!$C$16/'Gear Ratio Calc'!$D$16)*('Gear Ratio Calc'!$C$2)/'Gear Ratio Calc'!$D$2)*'Gear Ratio Calc'!$D$4*PI())/1000*('Gear Ratio Calc'!$C$3/'Gear Ratio Calc'!$D$3) -> 114.23005 | M6: =(($A6*60*('Gear Ratio Calc'!$C$18/'Gear Ratio Calc'!$D$18)*('Gear Ratio Calc'!$C$2)/'Gear Ratio Calc'!$D$2)*'Gear Ratio Calc'!$D$4*PI())/1000*('Gear Ratio Calc'!$C$3/'Gear Ratio Calc'!$D$3) -> 124.65581 | O6: =(D6*1000)/(H6*1000/3600) -> 1916.7953 | P6: =(D6*1000)/(I6*1000/3600) -> 1268.9895 | Q6: =(D6*1000)/(J6*1000/3600) -> 964.66168 | R6: =(D6*1000)/(K6*1000/3600) -> 816.41281 | S6: =(D6*1000)/(L6*1000/3600) -> 715.84022 | T6: =(D6*1000)/(M6*1000/3600) -> 655.96994
A7: 8000 | B7: 32.44 | C7: =B7*5252/A7 -> 21.29686 | D7: =B7*0.74569987 -> 24.190504 | H7: =(($A7*60*('Gear Ratio Calc'!$C$8/'Gear Ratio Calc'!$D$8)*('Gear Ratio Calc'!$C$2)/'Gear Ratio Calc'!$D$2)*'Gear Ratio Calc'!$D$4*PI())/1000*('Gear Ratio Calc'!$C$3/'Gear Ratio Calc'!$D$3) -> 45.503988 | I7: =(($A7*60*('Gear Ratio Calc'!$C$10/'Gear Ratio Calc'!$D$10)*('Gear Ratio Calc'!$C$2)/'Gear Ratio Calc'!$D$2)*'Gear Ratio Calc'!$D$4*PI())/1000*('Gear Ratio Calc'!$C$3/'Gear Ratio Calc'!$D$3) -> 68.733296 | J7: =(($A7*60*('Gear Ratio Calc'!$C$12/'Gear Ratio Calc'!$D$12)*('Gear Ratio Calc'!$C$2)/'Gear Ratio Calc'!$D$2)*'Gear Ratio Calc'!$D$4*PI())/1000*('Gear Ratio Calc'!$C$3/'Gear Ratio Calc'!$D$3) -> 90.417014 | K7: =(($A7*60*('Gear Ratio Calc'!$C$14/'Gear Ratio Calc'!$D$14)*('Gear Ratio Calc'!$C$2)/'Gear Ratio Calc'!$D$2)*'Gear Ratio Calc'!$D$4*PI())/1000*('Gear Ratio Calc'!$C$3/'Gear Ratio Calc'!$D$3) -> 106.83545 | L7: =(($A7*60*('Gear Ratio Calc'!$C$16/'Gear Ratio Calc'!$D$16)*('Gear Ratio Calc'!$C$2)/'Gear Ratio Calc'!$D$2)*'Gear Ratio Calc'!$D$4*PI())/1000*('Gear Ratio Calc'!$C$3/'Gear Ratio Calc'!$D$3) -> 121.84539 | M7: =(($A7*60*('Gear Ratio Calc'!$C$18/'Gear Ratio Calc'!$D$18)*('Gear Ratio Calc'!$C$2)/'Gear Ratio Calc'!$D$2)*'Gear Ratio Calc'!$D$4*PI())/1000*('Gear Ratio Calc'!$C$3/'Gear Ratio Calc'!$D$3) -> 132.9662 | O7: =(D7*1000)/(H7*1000/3600) -> 1913.8062 | P7: =(D7*1000)/(I7*1000/3600) -> 1267.0106 | Q7: =(D7*1000)/(J7*1000/3600) -> 963.15737 | R7: =(D7*1000)/(K7*1000/3600) -> 815.13968 | S7: =(D7*1000)/(L7*1000/3600) -> 714.72392 | T7: =(D7*1000)/(M7*1000/3600) -> 654.94701
A8: 8500 | B8: 37.86 | C8: =B8*5252/A8 -> 23.393026 | D8: =B8*0.74569987 -> 28.232197 | H8: =(($A8*60*('Gear Ratio Calc'!$C$8/'Gear Ratio Calc'!$D$8)*('Gear Ratio Calc'!$C$2)/'Gear Ratio Calc'!$D$2)*'Gear Ratio Calc'!$D$4*PI())/1000*('Gear Ratio Calc'!$C$3/'Gear Ratio Calc'!$D$3) -> 48.347987 | I8: =(($A8*60*('Gear Ratio Calc'!$C$10/'Gear Ratio Calc'!$D$10)*('Gear Ratio Calc'!$C$2)/'Gear Ratio Calc'!$D$2)*'Gear Ratio Calc'!$D$4*PI())/1000*('Gear Ratio Calc'!$C$3/'Gear Ratio Calc'!$D$3) -> 73.029127 | J8: =(($A8*60*('Gear Ratio Calc'!$C$12/'Gear Ratio Calc'!$D$12)*('Gear Ratio Calc'!$C$2)/'Gear Ratio Calc'!$D$2)*'Gear Ratio Calc'!$D$4*PI())/1000*('Gear Ratio Calc'!$C$3/'Gear Ratio Calc'!$D$3) -> 96.068078 | K8: =(($A8*60*('Gear Ratio Calc'!$C$14/'Gear Ratio Calc'!$D$14)*('Gear Ratio Calc'!$C$2)/'Gear Ratio Calc'!$D$2)*'Gear Ratio Calc'!$D$4*PI())/1000*('Gear Ratio Calc'!$C$3/'Gear Ratio Calc'!$D$3) -> 113.51266 | L8: =(($A8*60*('Gear Ratio Calc'!$C$16/'Gear Ratio Calc'!$D$16)*('Gear Ratio Calc'!$C$2)/'Gear Ratio Calc'!$D$2)*'Gear Ratio Calc'!$D$4*PI())/1000*('Gear Ratio Calc'!$C$3/'Gear Ratio Calc'!$D$3) -> 129.46073 | M8: =(($A8*60*('Gear Ratio Calc'!$C$18/'Gear Ratio Calc'!$D$18)*('Gear Ratio Calc'!$C$2)/'Gear Ratio Calc'!$D$2)*'Gear Ratio Calc'!$D$4*PI())/1000*('Gear Ratio Calc'!$C$3/'Gear Ratio Calc'!$D$3) -> 141.27658 | O8: =(D8*1000)/(H8*1000/3600) -> 2102.1746 | P8: =(D8*1000)/(I8*1000/3600) -> 1391.7174 | Q8: =(D8*1000)/(J8*1000/3600) -> 1057.9571 | R8: =(D8*1000)/(K8*1000/3600) -> 895.37066 | S8: =(D8*1000)/(L8*1000/3600) -> 785.07138 | T8: =(D8*1000)/(M8*1000/3600) -> 719.41086
A9: 9000 | B9: 46.83 | C9: =B9*5252/A9 -> 27.327907 | D9: =B9*0.74569987 -> 34.921125 | H9: =(($A9*60*('Gear Ratio Calc'!$C$8/'Gear Ratio Calc'!$D$8)*('Gear Ratio Calc'!$C$2)/'Gear Ratio Calc'!$D$2)*'Gear Ratio Calc'!$D$4*PI())/1000*('Gear Ratio Calc'!$C$3/'Gear Ratio Calc'!$D$3) -> 51.191986 | I9: =(($A9*60*('Gear Ratio Calc'!$C$10/'Gear Ratio Calc'!$D$10)*('Gear Ratio Calc'!$C$2)/'Gear Ratio Calc'!$D$2)*'Gear Ratio Calc'!$D$4*PI())/1000*('Gear Ratio Calc'!$C$3/'Gear Ratio Calc'!$D$3) -> 77.324958 | J9: =(($A9*60*('Gear Ratio Calc'!$C$12/'Gear Ratio Calc'!$D$12)*('Gear Ratio Calc'!$C$2)/'Gear Ratio Calc'!$D$2)*'Gear Ratio Calc'!$D$4*PI())/1000*('Gear Ratio Calc'!$C$3/'Gear Ratio Calc'!$D$3) -> 101.71914 | K9: =(($A9*60*('Gear Ratio Calc'!$C$14/'Gear Ratio Calc'!$D$14)*('Gear Ratio Calc'!$C$2)/'Gear Ratio Calc'!$D$2)*'Gear Ratio Calc'!$D$4*PI())/1000*('Gear Ratio Calc'!$C$3/'Gear Ratio Calc'!$D$3) -> 120.18988 | L9: =(($A9*60*('Gear Ratio Calc'!$C$16/'Gear Ratio Calc'!$D$16)*('Gear Ratio Calc'!$C$2)/'Gear Ratio Calc'!$D$2)*'Gear Ratio Calc'!$D$4*PI())/1000*('Gear Ratio Calc'!$C$3/'Gear Ratio Calc'!$D$3) -> 137.07606 | M9: =(($A9*60*('Gear Ratio Calc'!$C$18/'Gear Ratio Calc'!$D$18)*('Gear Ratio Calc'!$C$2)/'Gear Ratio Calc'!$D$2)*'Gear Ratio Calc'!$D$4*PI())/1000*('Gear Ratio Calc'!$C$3/'Gear Ratio Calc'!$D$3) -> 149.58697 | O9: =(D9*1000)/(H9*1000/3600) -> 2455.776 | P9: =(D9*1000)/(I9*1000/3600) -> 1625.8147 | Q9: =(D9*1000)/(J9*1000/3600) -> 1235.9134 | R9: =(D9*1000)/(K9*1000/3600) -> 1045.9787 | S9: =(D9*1000)/(L9*1000/3600) -> 917.12621 | T9: =(D9*1000)/(M9*1000/3600) -> 840.42111
A10: 9500 | B10: 53.555 | C10: =B10*5252/A10 -> 29.607459 | D10: =B10*0.74569987 -> 39.935957 | H10: =(($A10*60*('Gear Ratio Calc'!$C$8/'Gear Ratio Calc'!$D$8)*('Gear Ratio Calc'!$C$2)/'Gear Ratio Calc'!$D$2)*'Gear Ratio Calc'!$D$4*PI())/1000*('Gear Ratio Calc'!$C$3/'Gear Ratio Calc'!$D$3) -> 54.035985 | I10: =(($A10*60*('Gear Ratio Calc'!$C$10/'Gear Ratio Calc'!$D$10)*('Gear Ratio Calc'!$C$2)/'Gear Ratio Calc'!$D$2)*'Gear Ratio Calc'!$D$4*PI())/1000*('Gear Ratio Calc'!$C$3/'Gear Ratio Calc'!$D$3) -> 81.620789 | J10: =(($A10*60*('Gear Ratio Calc'!$C$12/'Gear Ratio Calc'!$D$12)*('Gear Ratio Calc'!$C$2)/'Gear Ratio Calc'!$D$2)*'Gear Ratio Calc'!$D$4*PI())/1000*('Gear Ratio Calc'!$C$3/'Gear Ratio Calc'!$D$3) -> 107.3702 | K10: =(($A10*60*('Gear Ratio Calc'!$C$14/'Gear Ratio Calc'!$D$14)*('Gear Ratio Calc'!$C$2)/'Gear Ratio Calc'!$D$2)*'Gear Ratio Calc'!$D$4*PI())/1000*('Gear Ratio Calc'!$C$3/'Gear Ratio Calc'!$D$3) -> 126.8671 | L10: =(($A10*60*('Gear Ratio Calc'!$C$16/'Gear Ratio Calc'!$D$16)*('Gear Ratio Calc'!$C$2)/'Gear Ratio Calc'!$D$2)*'Gear Ratio Calc'!$D$4*PI())/1000*('Gear Ratio Calc'!$C$3/'Gear Ratio Calc'!$D$3) -> 144.6914 | M10: =(($A10*60*('Gear Ratio Calc'!$C$18/'Gear Ratio Calc'!$D$18)*('Gear Ratio Calc'!$C$2)/'Gear Ratio Calc'!$D$2)*'Gear Ratio Calc'!$D$4*PI())/1000*('Gear Ratio Calc'!$C$3/'Gear Ratio Calc'!$D$3) -> 157.89736 | O10: =(D10*1000)/(H10*1000/3600) -> 2660.6241 | P10: =(D10*1000)/(I10*1000/3600) -> 1761.4317 | Q10: =(D10*1000)/(J10*1000/3600) -> 1339.0069 | R10: =(D10*1000)/(K10*1000/3600) -> 1133.2288 | S10: =(D10*1000)/(L10*1000/3600) -> 993.62813 | T10: =(D10*1000)/(M10*1000/3600) -> 910.52468
A11: 10000 | B11: 56.569 | C11: =B11*5252/A11 -> 29.710039 | D11: =B11*0.74569987 -> 42.183496 | H11: =(($A11*60*('Gear Ratio Calc'!$C$8/'Gear Ratio Calc'!$D$8)*('Gear Ratio Calc'!$C$2)/'Gear Ratio Calc'!$D$2)*'Gear Ratio Calc'!$D$4*PI())/1000*('Gear Ratio Calc'!$C$3/'Gear Ratio Calc'!$D$3) -> 56.879985 | I11: =(($A11*60*('Gear Ratio Calc'!$C$10/'Gear Ratio Calc'!$D$10)*('Gear Ratio Calc'!$C$2)/'Gear Ratio Calc'!$D$2)*'Gear Ratio Calc'!$D$4*PI())/1000*('Gear Ratio Calc'!$C$3/'Gear Ratio Calc'!$D$3) -> 85.91662 | J11: =(($A11*60*('Gear Ratio Calc'!$C$12/'Gear Ratio Calc'!$D$12)*('Gear Ratio Calc'!$C$2)/'Gear Ratio Calc'!$D$2)*'Gear Ratio Calc'!$D$4*PI())/1000*('Gear Ratio Calc'!$C$3/'Gear Ratio Calc'!$D$3) -> 113.02127 | K11: =(($A11*60*('Gear Ratio Calc'!$C$14/'Gear Ratio Calc'!$D$14)*('Gear Ratio Calc'!$C$2)/'Gear Ratio Calc'!$D$2)*'Gear Ratio Calc'!$D$4*PI())/1000*('Gear Ratio Calc'!$C$3/'Gear Ratio Calc'!$D$3) -> 133.54431 | L11: =(($A11*60*('Gear Ratio Calc'!$C$16/'Gear Ratio Calc'!$D$16)*('Gear Ratio Calc'!$C$2)/'Gear Ratio Calc'!$D$2)*'Gear Ratio Calc'!$D$4*PI())/1000*('Gear Ratio Calc'!$C$3/'Gear Ratio Calc'!$D$3) -> 152.30674 | M11: =(($A11*60*('Gear Ratio Calc'!$C$18/'Gear Ratio Calc'!$D$18)*('Gear Ratio Calc'!$C$2)/'Gear Ratio Calc'!$D$2)*'Gear Ratio Calc'!$D$4*PI())/1000*('Gear Ratio Calc'!$C$3/'Gear Ratio Calc'!$D$3) -> 166.20775 | O11: =(D11*1000)/(H11*1000/3600) -> 2669.8422 | P11: =(D11*1000)/(I11*1000/3600) -> 1767.5344 | Q11: =(D11*1000)/(J11*1000/3600) -> 1343.6461 | R11: =(D11*1000)/(K11*1000/3600) -> 1137.155 | S11: =(D11*1000)/(L11*1000/3600) -> 997.07071 | T11: =(D11*1000)/(M11*1000/3600) -> 913.67935
A12: 10500 | B12: 60.771 | C12: =B12*5252/A12 -> 30.397075 | D12: =B12*0.74569987 -> 45.316927 | H12: =(($A12*60*('Gear Ratio Calc'!$C$8/'Gear Ratio Calc'!$D$8)*('Gear Ratio Calc'!$C$2)/'Gear Ratio Calc'!$D$2)*'Gear Ratio Calc'!$D$4*PI())/1000*('Gear Ratio Calc'!$C$3/'Gear Ratio Calc'!$D$3) -> 59.723984 | I12: =(($A12*60*('Gear Ratio Calc'!$C$10/'Gear Ratio Calc'!$D$10)*('Gear Ratio Calc'!$C$2)/'Gear Ratio Calc'!$D$2)*'Gear Ratio Calc'!$D$4*PI())/1000*('Gear Ratio Calc'!$C$3/'Gear Ratio Calc'!$D$3) -> 90.212451 | J12: =(($A12*60*('Gear Ratio Calc'!$C$12/'Gear Ratio Calc'!$D$12)*('Gear Ratio Calc'!$C$2)/'Gear Ratio Calc'!$D$2)*'Gear Ratio Calc'!$D$4*PI())/1000*('Gear Ratio Calc'!$C$3/'Gear Ratio Calc'!$D$3) -> 118.67233 | K12: =(($A12*60*('Gear Ratio Calc'!$C$14/'Gear Ratio Calc'!$D$14)*('Gear Ratio Calc'!$C$2)/'Gear Ratio Calc'!$D$2)*'Gear Ratio Calc'!$D$4*PI())/1000*('Gear Ratio Calc'!$C$3/'Gear Ratio Calc'!$D$3) -> 140.22153 | L12: =(($A12*60*('Gear Ratio Calc'!$C$16/'Gear Ratio Calc'!$D$16)*('Gear Ratio Calc'!$C$2)/'Gear Ratio Calc'!$D$2)*'Gear Ratio Calc'!$D$4*PI())/1000*('Gear Ratio Calc'!$C$3/'Gear Ratio Calc'!$D$3) -> 159.92207 | M12: =(($A12*60*('Gear Ratio Calc'!$C$18/'Gear Ratio Calc'!$D$18)*('Gear Ratio Calc'!$C$2)/'Gear Ratio Calc'!$D$2)*'Gear Ratio Calc'!$D$4*PI())/1000*('Gear Ratio Calc'!$C$3/'Gear Ratio Calc'!$D$3) -> 174.51813 | O12: =(D12*1000)/(H12*1000/3600) -> 2731.5816 | P12: =(D12*1000)/(I12*1000/3600) -> 1808.4082 | Q12: =(D12*1000)/(J12*1000/3600) -> 1374.7175 | R12: =(D12*1000)/(K12*1000/3600) -> 1163.4514 | S12: =(D12*1000)/(L12*1000/3600) -> 1020.1277 | T12: =(D12*1000)/(M12*1000/3600) -> 934.80793
A13: 11000 | B13: 64.553 | C13: =B13*5252/A13 -> 30.821123 | D13: =B13*0.74569987 -> 48.137164 | H13: =(($A13*60*('Gear Ratio Calc'!$C$8/'Gear Ratio Calc'!$D$8)*('Gear Ratio Calc'!$C$2)/'Gear Ratio Calc'!$D$2)*'Gear Ratio Calc'!$D$4*PI())/1000*('Gear Ratio Calc'!$C$3/'Gear Ratio Calc'!$D$3) -> 62.567983 | I13: =(($A13*60*('Gear Ratio Calc'!$C$10/'Gear Ratio Calc'!$D$10)*('Gear Ratio Calc'!$C$2)/'Gear Ratio Calc'!$D$2)*'Gear Ratio Calc'!$D$4*PI())/1000*('Gear Ratio Calc'!$C$3/'Gear Ratio Calc'!$D$3) -> 94.508282 | J13: =(($A13*60*('Gear Ratio Calc'!$C$12/'Gear Ratio Calc'!$D$12)*('Gear Ratio Calc'!$C$2)/'Gear Ratio Calc'!$D$2)*'Gear Ratio Calc'!$D$4*PI())/1000*('Gear Ratio Calc'!$C$3/'Gear Ratio Calc'!$D$3) -> 124.32339 | K13: =(($A13*60*('Gear Ratio Calc'!$C$14/'Gear Ratio Calc'!$D$14)*('Gear Ratio Calc'!$C$2)/'Gear Ratio Calc'!$D$2)*'Gear Ratio Calc'!$D$4*PI())/1000*('Gear Ratio Calc'!$C$3/'Gear Ratio Calc'!$D$3) -> 146.89874 | L13: =(($A13*60*('Gear Ratio Calc'!$C$16/'Gear Ratio Calc'!$D$16)*('Gear Ratio Calc'!$C$2)/'Gear Ratio Calc'!$D$2)*'Gear Ratio Calc'!$D$4*PI())/1000*('Gear Ratio Calc'!$C$3/'Gear Ratio Calc'!$D$3) -> 167.53741 | M13: =(($A13*60*('Gear Ratio Calc'!$C$18/'Gear Ratio Calc'!$D$18)*('Gear Ratio Calc'!$C$2)/'Gear Ratio Calc'!$D$2)*'Gear Ratio Calc'!$D$4*PI())/1000*('Gear Ratio Calc'!$C$3/'Gear Ratio Calc'!$D$3) -> 182.82852 | O13: =(D13*1000)/(H13*1000/3600) -> 2769.688 | P13: =(D13*1000)/(I13*1000/3600) -> 1833.636 | Q13: =(D13*1000)/(J13*1000/3600) -> 1393.8953 | R13: =(D13*1000)/(K13*1000/3600) -> 1179.6819 | S13: =(D13*1000)/(L13*1000/3600) -> 1034.3588 | T13: =(D13*1000)/(M13*1000/3600) -> 947.84877
... A16: 12500 | B16: 58.083 | C16: =B16*5252/A16 -> 24.404153 | D16: =B16*0.74569987 -> 43.312486 | H16: =(($A16*60*('Gear Ratio Calc'!$C$8/'Gear Ratio Calc'!$D$8)*('Gear Ratio Calc'!$C$2)/'Gear Ratio Calc'!$D$2)*'Gear Ratio Calc'!$D$4*PI())/1000*('Gear Ratio Calc'!$C$3/'Gear Ratio Calc'!$D$3) -> 71.099981 | I16: =(($A16*60*('Gear Ratio Calc'!$C$10/'Gear Ratio Calc'!$D$10)*('Gear Ratio Calc'!$C$2)/'Gear Ratio Calc'!$D$2)*'Gear Ratio Calc'!$D$4*PI())/1000*('Gear Ratio Calc'!$C$3/'Gear Ratio Calc'!$D$3) -> 107.39577 | J16: =(($A16*60*('Gear Ratio Calc'!$C$12/'Gear Ratio Calc'!$D$12)*('Gear Ratio Calc'!$C$2)/'Gear Ratio Calc'!$D$2)*'Gear Ratio Calc'!$D$4*PI())/1000*('Gear Ratio Calc'!$C$3/'Gear Ratio Calc'!$D$3) -> 141.27658 | K16: =(($A16*60*('Gear Ratio Calc'!$C$14/'Gear Ratio Calc'!$D$14)*('Gear Ratio Calc'!$C$2)/'Gear Ratio Calc'!$D$2)*'Gear Ratio Calc'!$D$4*PI())/1000*('Gear Ratio Calc'!$C$3/'Gear Ratio Calc'!$D$3) -> 166.93039 | L16: =(($A16*60*('Gear Ratio Calc'!$C$16/'Gear Ratio Calc'!$D$16)*('Gear Ratio Calc'!$C$2)/'Gear Ratio Calc'!$D$2)*'Gear Ratio Calc'!$D$4*PI())/1000*('Gear Ratio Calc'!$C$3/'Gear Ratio Calc'!$D$3) -> 190.38342 | M16: =(($A16*60*('Gear Ratio Calc'!$C$18/'Gear Ratio Calc'!$D$18)*('Gear Ratio Calc'!$C$2)/'Gear Ratio Calc'!$D$2)*'Gear Ratio Calc'!$D$4*PI())/1000*('Gear Ratio Calc'!$C$3/'Gear Ratio Calc'!$D$3) -> 207.75968 | O16: =(D16*1000)/(H16*1000/3600) -> 2193.0378 | P16: =(D16*1000)/(I16*1000/3600) -> 1451.8723 | Q16: =(D16*1000)/(J16*1000/3600) -> 1103.6857 | R16: =(D16*1000)/(K16*1000/3600) -> 934.07167 | S16: =(D16*1000)/(L16*1000/3600) -> 819.00487 | T16: =(D16*1000)/(M16*1000/3600) -> 750.50628
B23: Velocty | C23: Drag
B24: 0 | C24: =(0.5*$B$9*$B$4*(B24*1000/3600)^2) -> 0
B25: 1 | C25: =(0.5*$B$9*$B$4*(B25*1000/3600)^2) -> 43.379178
B26: 2 | C26: =(0.5*$B$9*$B$4*(B26*1000/3600)^2) -> 173.51671
B27: 3 | C27: =(0.5*$B$9*$B$4*(B27*1000/3600)^2) -> 390.4126
B28: 4 | C28: =(0.5*$B$9*$B$4*(B28*1000/3600)^2) -> 694.06685
B29: 5 | C29: =(0.5*$B$9*$B$4*(B29*1000/3600)^2) -> 1084.4795
B30: 6 | C30: =(0.5*$B$9*$B$4*(B30*1000/3600)^2) -> 1561.6504
B31: 7 | C31: =(0.5*$B$9*$B$4*(B31*1000/3600)^2) -> 2125.5797
B32: 8 | C32: =(0.5*$B$9*$B$4*(B32*1000/3600)^2) -> 2776.2674
B33: 9 | C33: =(0.5*$B$9*$B$4*(B33*1000/3600)^2) -> 3513.7134
B34: 10 | C34: =(0.5*$B$9*$B$4*(B34*1000/3600)^2) -> 4337.9178
B35: 11 | C35: =(0.5*$B$9*$B$4*(B35*1000/3600)^2) -> 5248.8806
... B248: 224 | C248: =(0.5*$B$9*$B$4*(B248*1000/3600)^2) -> 2176593.6

Sheet RS250 
E3: =B7-(B12+B17) -> 0.699 | O3: RADS | P3: X | Q3: Y | T3: RADS | U3: x | V3: y
A4: FW RAD | B4: 0.285 | E4: =B7-B17 -> 0.811 | N4: 1 | O4: =RADIANS(N4) -> 0.017453293 | P4: =SIN(O4)*$B$4 -> 0.0049739358 | Q4: =COS(O4)*$B$4+$B$4 -> 0.56995659 | S4: 1 | T4: =RADIANS(S4) -> 0.017453293 | U4: =SIN(T4)*$B$5+$B$7 -> 1.355323 | V4: =COS(T4)*$B$5+$B$5 -> 0.60995355 | X4: 1 | Y4: =RADIANS(X4) -> 0.017453293 | Z4: =SIN(Y4)*$B$9+$B$7 -> 1.352007 | AA4: =COS(Y4)*$B$9+$B$5 -> 0.41998248 | AD4: 0 | AE4: =B4 -> 0.285 | AI4: RADS | AJ4: x | AK4: y | AN4: RADS | AO4: x | AP4: y
A5: RW RAD | B5: 0.305 | N5: 2 | O5: =RADIANS(N5) -> 0.034906585 | P5: =SIN(O5)*$B$4 -> 0.0099463566 | Q5: =COS(O5)*$B$4+$B$4 -> 0.56982639 | S5: 2 | T5: =RADIANS(S5) -> 0.034906585 | U5: =SIN(T5)*$B$5+$B$7 -> 1.3606443 | V5: =COS(T5)*$B$5+$B$5 -> 0.6098142 | X5: 2 | Y5: =RADIANS(X5) -> 0.034906585 | Z5: =SIN(Y5)*$B$9+$B$7 -> 1.3540134 | AA5: =COS(Y5)*$B$9+$B$5 -> 0.41992995 | AD5: =B18*SIN(RADIANS('Trail Calc '!D3)) -> 0.26960448 | AE5: =B18*COS(RADIANS('Trail Calc '!D3))+'RS250 '!B4 -> 0.92014835 | AH5: 1 | AI5: =RADIANS(AH5) -> 0.017453293 | AJ5: =SIN(AI5)*0.015+$B$62 -> 0.65307869 | AK5: =COS(AI5)*0.015+$B$63 -> 0.55830459 | AM5: 1 | AN5: =RADIANS(AM5) -> 0.017453293 | AO5: =SIN(AN5)*0.015+$B$64 -> 0.72501184 | AP5: =COS(AN5)*0.015+$B$65 -> 0.72705254
N6: 3 | O6: =RADIANS(N6) -> 0.052359878 | P6: =SIN(O6)*$B$4 -> 0.014915748 | Q6: =COS(O6)*$B$4+$B$4 -> 0.56960942 | S6: 3 | T6: =RADIANS(S6) -> 0.052359878 | U6: =SIN(T6)*$B$5+$B$7 -> 1.3659625 | V6: =COS(T6)*$B$5+$B$5 -> 0.60958201 | X6: 3 | Y6: =RADIANS(X6) -> 0.052359878 | Z6: =SIN(Y6)*$B$9+$B$7 -> 1.3560186 | AA6: =COS(Y6)*$B$9+$B$5 -> 0.4198424 | AH6: 2 | AI6: =RADIANS(AH6) -> 0.034906585 | AJ6: =SIN(AI6)*0.015+$B$62 -> 0.65334039 | AK6: =COS(AI6)*0.015+$B$63 -> 0.55829773 | AM6: 2 | AN6: =RADIANS(AM6) -> 0.034906585 | AO6: =SIN(AN6)*0.015+$B$64 -> 0.72527355 | AP6: =COS(AN6)*0.015+$B$65 -> 0.72704569
A7: Wheelbase | B7: 1.35 | N7: 4 | O7: =RADIANS(N7) -> 0.06981317 | P7: =SIN(O7)*$B$4 -> 0.019880595 | Q7: =COS(O7)*$B$4+$B$4 -> 0.56930575 | S7: 4 | T7: =RADIANS(S7) -> 0.06981317 | U7: =SIN(T7)*$B$5+$B$7 -> 1.3712757 | V7: =COS(T7)*$B$5+$B$5 -> 0.60925704 | X7: 4 | Y7: =RADIANS(X7) -> 0.06981317 | Z7: =SIN(Y7)*$B$9+$B$7 -> 1.358022 | AA7: =COS(Y7)*$B$9+$B$5 -> 0.41971987 | AD7: =E4 -> 0.811 | AE7: =B13 -> 0.41 | AH7: 3 | AI7: =RADIANS(AH7) -> 0.052359878 | AJ7: =SIN(AI7)*0.015+$B$62 -> 0.65360194 | AK7: =COS(AI7)*0.015+$B$63 -> 0.55828631 | AM7: 3 | AN7: =RADIANS(AM7) -> 0.052359878 | AO7: =SIN(AN7)*0.015+$B$64 -> 0.7255351 | AP7: =COS(AN7)*0.015+$B$65 -> 0.72703427
N8: 6 | O8: =RADIANS(N8) -> 0.10471976 | P8: =SIN(O8)*$B$4 -> 0.029790612 | Q8: =COS(O8)*$B$4+$B$4 -> 0.56843874 | S8: 6 | T8: =RADIANS(S8) -> 0.10471976 | U8: =SIN(T8)*$B$5+$B$7 -> 1.3818812 | V8: =COS(T8)*$B$5+$B$5 -> 0.60832918 | X8: 6 | Y8: =RADIANS(X8) -> 0.10471976 | Z8: =SIN(Y8)*$B$9+$B$7 -> 1.3620208 | AA8: =COS(Y8)*$B$9+$B$5 -> 0.41937002 | AD8: =B7 -> 1.35 | AE8: =B5 -> 0.305 | AH8: 4 | AI8: =RADIANS(AH8) -> 0.06981317 | AJ8: =SIN(AI8)*0.015+$B$62 -> 0.65386325 | AK8: =COS(AI8)*0.015+$B$63 -> 0.55827033 | AM8: 4 | AN8: =RADIANS(AM8) -> 0.06981317 | AO8: =SIN(AN8)*0.015+$B$64 -> 0.72579641 | AP8: =COS(AN8)*0.015+$B$65 -> 0.72701828
A9: Rear Sproket Radius | B9: 0.115 | N9: 7 | O9: =RADIANS(N9) -> 0.12217305 | P9: =SIN(O9)*$B$4 -> 0.034732763 | Q9: =COS(O9)*$B$4+$B$4 -> 0.56787565 | S9: 7 | T9: =RADIANS(S9) -> 0.12217305 | U9: =SIN(T9)*$B$5+$B$7 -> 1.3871701 | V9: =COS(T9)*$B$5+$B$5 -> 0.60772658 | X9: 7 | Y9: =RADIANS(X9) -> 0.12217305 | Z9: =SIN(Y9)*$B$9+$B$7 -> 1.364015 | AA9: =COS(Y9)*$B$9+$B$5 -> 0.41914281 | AH9: 6 | AI9: =RADIANS(AH9) -> 0.10471976 | AJ9: =SIN(AI9)*0.015+$B$62 -> 0.65438483 | AK9: =COS(AI9)*0.015+$B$63 -> 0.5582247 | AM9: 6 | AN9: =RADIANS(AM9) -> 0.10471976 | AO9: =SIN(AN9)*0.015+$B$64 -> 0.72631799 | AP9: =COS(AN9)*0.015+$B$65 -> 0.72697265
A10: Front Sproket Radius | B10: 0.036 | N10: 8 | O10: =RADIANS(N10) -> 0.13962634 | P10: =SIN(O10)*$B$4 -> 0.039664334 | Q10: =COS(O10)*$B$4+$B$4 -> 0.5672264 | S10: 8 | T10: =RADIANS(S10) -> 0.13962634 | U10: =SIN(T10)*$B$5+$B$7 -> 1.3924478 | V10: =COS(T10)*$B$5+$B$5 -> 0.60703176 | X10: 8 | Y10: =RADIANS(X10) -> 0.13962634 | Z10: =SIN(Y10)*$B$9+$B$7 -> 1.3660049 | AA10: =COS(Y10)*$B$9+$B$5 -> 0.41888083 | AH10: 7 | AI10: =RADIANS(AH10) -> 0.12217305 | AJ10: =SIN(AI10)*0.015+$B$62 -> 0.65464494 | AK10: =COS(AI10)*0.015+$B$63 -> 0.55819506 | AM10: 7 | AN10: =RADIANS(AM10) -> 0.12217305 | AO10: =SIN(AN10)*0.015+$B$64 -> 0.7265781 | AP10: =COS(AN10)*0.015+$B$65 -> 0.72694302
N11: 9 | O11: =RADIANS(N11) -> 0.15707963 | P11: =SIN(O11)*$B$4 -> 0.044583823 | Q11: =COS(O11)*$B$4+$B$4 -> 0.56649118 | S11: 9 | T11: =RADIANS(S11) -> 0.15707963 | U11: =SIN(T11)*$B$5+$B$7 -> 1.3977125 | V11: =COS(T11)*$B$5+$B$5 -> 0.60624494 | X11: 9 | Y11: =RADIANS(X11) -> 0.15707963 | Z11: =SIN(Y11)*$B$9+$B$7 -> 1.36799 | AA11: =COS(Y11)*$B$9+$B$5 -> 0.41858416 | AD11: RADS | AE11: x | AF11: y | AH11: 8 | AI11: =RADIANS(AH11) -> 0.13962634 | AJ11: =SIN(AI11)*0.015+$B$62 -> 0.6549045 | AK11: =COS(AI11)*0.015+$B$63 -> 0.55816089 | AM11: 8 | AN11: =RADIANS(AM11) -> 0.13962634 | AO11: =SIN(AN11)*0.015+$B$64 -> 0.72683765 | AP11: =COS(AN11)*0.015+$B$65 -> 0.72690885
A12: Distance FS-SP | B12: 0.112 | N12: 10 | O12: =RADIANS(N12) -> 0.17453293 | P12: =SIN(O12)*$B$4 -> 0.049489731 | Q12: =COS(O12)*$B$4+$B$4 -> 0.56567021 | S12: 10 | T12: =RADIANS(S12) -> 0.17453293 | U12: =SIN(T12)*$B$5+$B$7 -> 1.4029627 | V12: =COS(T12)*$B$5+$B$5 -> 0.60536636 | X12: 10 | Y12: =RADIANS(X12) -> 0.17453293 | Z12: =SIN(Y12)*$B$9+$B$7 -> 1.3699695 | AA12: =COS(Y12)*$B$9+$B$5 -> 0.41825289 | AC12: 1 | AD12: =RADIANS(AC12) -> 0.017453293 | AE12: =SIN(AD12)*$B$10+$E$3 -> 0.69962829 | AF12: =COS(AD12)*$B$10+$B$14 -> 0.44099452 | AH12: 9 | AI12: =RADIANS(AH12) -> 0.15707963 | AJ12: =SIN(AI12)*0.015+$B$62 -> 0.65516342 | AK12: =COS(AI12)*0.015+$B$63 -> 0.5581222 | AM12: 9 | AN12: =RADIANS(AM12) -> 0.15707963 | AO12: =SIN(AN12)*0.015+$B$64 -> 0.72709658 | AP12: =COS(AN12)*0.015+$B$65 -> 0.72687015
A13: Distance SP-GRND | B13: 0.41 | N13: 11 | O13: =RADIANS(N13) -> 0.19198622 | P13: =SIN(O13)*$B$4 -> 0.054380564 | Q13: =COS(O13)*$B$4+$B$4 -> 0.56476375 | S13: 11 | T13: =RADIANS(S13) -> 0.19198622 | U13: =SIN(T13)*$B$5+$B$7 -> 1.4081967 | V13: =COS(T13)*$B$5+$B$5 -> 0.60439629 | X13: 11 | Y13: =RADIANS(X13) -> 0.19198622 | Z13: =SIN(Y13)*$B$9+$B$7 -> 1.371943 | AA13: =COS(Y13)*$B$9+$B$5 -> 0.41788713 | AC13: 2 | AD13: =RADIANS(AC13) -> 0.034906585 | AE13: =SIN(AD13)*$B$10+$E$3 -> 0.70025638 | AF13: =COS(AD13)*$B$10+$B$14 -> 0.44097807 | AH13: 10 | AI13: =RADIANS(AH13) -> 0.17453293 | AJ13: =SIN(AI13)*0.015+$B$62 -> 0.65542162 | AK13: =COS(AI13)*0.015+$B$63 -> 0.55807899 | AM13: 10 | AN13: =RADIANS(AM13) -> 0.17453293 | AO13: =SIN(AN13)*0.015+$B$64 -> 0.72735478 | AP13: =COS(AN13)*0.015+$B$65 -> 0.72682694
A14: Distance FS- GRND | B14: 0.405 | N14: 12 | O14: =RADIANS(N14) -> 0.20943951 | P14: =SIN(O14)*$B$4 -> 0.059254832 | Q14: =COS(O14)*$B$4+$B$4 -> 0.56377207 | S14: 12 | T14: =RADIANS(S14) -> 0.20943951 | U14: =SIN(T14)*$B$5+$B$7 -> 1.4134131 | V14: =COS(T14)*$B$5+$B$5 -> 0.60333502 | X14: 12 | Y14: =RADIANS(X14) -> 0.20943951 | Z14: =SIN(Y14)*$B$9+$B$7 -> 1.3739098 | AA14: =COS(Y14)*$B$9+$B$5 -> 0.41748697 | AC14: 3 | AD14: =RADIANS(AC14) -> 0.052359878 | AE14: =SIN(AD14)*$B$10+$E$3 -> 0.70088409 | AF14: =COS(AD14)*$B$10+$B$14 -> 0.44095066 | AH14: 11 | AI14: =RADIANS(AH14) -> 0.19198622 | AJ14: =SIN(AI14)*0.015+$B$62 -> 0.65567904 | AK14: =COS(AI14)*0.015+$B$63 -> 0.55803128 | AM14: 11 | AN14: =RADIANS(AM14) -> 0.19198622 | AO14: =SIN(AN14)*0.015+$B$64 -> 0.72761219 | AP14: =COS(AN14)*0.015+$B$65 -> 0.72677923
N15: 13 | O15: =RADIANS(N15) -> 0.2268928 | P15: =SIN(O15)*$B$4 -> 0.06411105 | Q15: =COS(O15)*$B$4+$B$4 -> 0.56269547 | S15: 13 | T15: =RADIANS(S15) -> 0.2268928 | U15: =SIN(T15)*$B$5+$B$7 -> 1.4186101 | V15: =COS(T15)*$B$5+$B$5 -> 0.60218287 | X15: 13 | Y15: =RADIANS(X15) -> 0.2268928 | Z15: =SIN(Y15)*$B$9+$B$7 -> 1.3758694 | AA15: =COS(Y15)*$B$9+$B$5 -> 0.41705256 | AC15: 4 | AD15: =RADIANS(AC15) -> 0.06981317 | AE15: =SIN(AD15)*$B$10+$E$3 -> 0.70151123 | AF15: =COS(AD15)*$B$10+$B$14 -> 0.44091231 | AH15: 12 | AI15: =RADIANS(AH15) -> 0.20943951 | AJ15: =SIN(AI15)*0.015+$B$62 -> 0.65593558 | AK15: =COS(AI15)*0.015+$B$63 -> 0.55797908 | AM15: 12 | AN15: =RADIANS(AM15) -> 0.20943951 | AO15: =SIN(AN15)*0.015+$B$64 -> 0.72786873 | AP15: =COS(AN15)*0.015+$B$65 -> 0.72672704
A16: Swingarm Length measured | B16: N/A | N16: 14 | O16: =RADIANS(N16) -> 0.2443461 | P16: =SIN(O16)*$B$4 -> 0.06894774 | Q16: =COS(O16)*$B$4+$B$4 -> 0.56153428 | S16: 14 | T16: =RADIANS(S16) -> 0.2443461 | U16: =SIN(T16)*$B$5+$B$7 -> 1.4237862 | V16: =COS(T16)*$B$5+$B$5 -> 0.6009402 | X16: 14 | Y16: =RADIANS(X16) -> 0.2443461 | Z16: =SIN(Y16)*$B$9+$B$7 -> 1.377821 | AA16: =COS(Y16)*$B$9+$B$5 -> 0.41658401 | AC16: 6 | AD16: =RADIANS(AC16) -> 0.10471976 | AE16: =SIN(AD16)*$B$10+$E$3 -> 0.70276302 | AF16: =COS(AD16)*$B$10+$B$14 -> 0.44080279 | AH16: 13 | AI16: =RADIANS(AH16) -> 0.2268928 | AJ16: =SIN(AI16)*0.015+$B$62 -> 0.65619117 | AK16: =COS(AI16)*0.015+$B$63 -> 0.55792242 | AM16: 13 | AN16: =RADIANS(AM16) -> 0.2268928 | AO16: =SIN(AN16)*0.015+$B$64 -> 0.72812432 | AP16: =COS(AN16)*0.015+$B$65 -> 0.72667038
A17: Swingarm Length Calcualted | B17: 0.539 | N17: 15 | O17: =RADIANS(N17) -> 0.26179939 | P17: =SIN(O17)*$B$4 -> 0.073763428 | Q17: =COS(O17)*$B$4+$B$4 -> 0.56028886 | S17: 15 | T17: =RADIANS(S17) -> 0.26179939 | U17: =SIN(T17)*$B$5+$B$7 -> 1.4289398 | V17: =COS(T17)*$B$5+$B$5 -> 0.59960738 | X17: 15 | Y17: =RADIANS(X17) -> 0.26179939 | Z17: =SIN(Y17)*$B$9+$B$7 -> 1.3797642 | AA17: =COS(Y17)*$B$9+$B$5 -> 0.41608147 | AC17: 7 | AD17: =RADIANS(AC17) -> 0.12217305 | AE17: =SIN(AD17)*$B$10+$E$3 -> 0.7033873 | AF17: =COS(AD17)*$B$10+$B$14 -> 0.44073166 | AH17: 14 | AI17: =RADIANS(AH17) -> 0.2443461 | AJ17: =SIN(AI17)*0.015+$B$62 -> 0.65644573 | AK17: =COS(AI17)*0.015+$B$63 -> 0.55786131 | AM17: 14 | AN17: =RADIANS(AM17) -> 0.2443461 | AO17: =SIN(AN17)*0.015+$B$64 -> 0.72837889 | AP17: =COS(AN17)*0.015+$B$65 -> 0.72660926
A18: Fork Lenth | B18: 0.69 | N18: 16 | O18: =RADIANS(N18) -> 0.27925268 | P18: =SIN(O18)*$B$4 -> 0.078556646 | Q18: =COS(O18)*$B$4+$B$4 -> 0.55895958 | S18: 16 | T18: =RADIANS(S18) -> 0.27925268 | U18: =SIN(T18)*$B$5+$B$7 -> 1.4340694 | V18: =COS(T18)*$B$5+$B$5 -> 0.59818482 | X18: 16 | Y18: =RADIANS(X18) -> 0.27925268 | Z18: =SIN(Y18)*$B$9+$B$7 -> 1.3816983 | AA18: =COS(Y18)*$B$9+$B$5 -> 0.4155451 | AC18: 8 | AD18: =RADIANS(AC18) -> 0.13962634 | AE18: =SIN(AD18)*$B$10+$E$3 -> 0.70401023 | AF18: =COS(AD18)*$B$10+$B$14 -> 0.44064965 | AH18: 15 | AI18: =RADIANS(AH18) -> 0.26179939 | AJ18: =SIN(AI18)*0.015+$B$62 -> 0.65669919 | AK18: =COS(AI18)*0.015+$B$63 -> 0.55779576 | AM18: 15 | AN18: =RADIANS(AM18) -> 0.26179939 | AO18: =SIN(AN18)*0.015+$B$64 -> 0.72863234 | AP18: =COS(AN18)*0.015+$B$65 -> 0.72654371
N19: 17 | O19: =RADIANS(N19) -> 0.29670597 | P19: =SIN(O19)*$B$4 -> 0.083325936 | Q19: =COS(O19)*$B$4+$B$4 -> 0.55754686 | S19: 17 | T19: =RADIANS(S19) -> 0.29670597 | U19: =SIN(T19)*$B$5+$B$7 -> 1.4391734 | V19: =COS(T19)*$B$5+$B$5 -> 0.59667295 | X19: 17 | Y19: =RADIANS(X19) -> 0.29670597 | Z19: =SIN(Y19)*$B$9+$B$7 -> 1.3836227 | AA19: =COS(Y19)*$B$9+$B$5 -> 0.41497505 | AC19: 9 | AD19: =RADIANS(AC19) -> 0.15707963 | AE19: =SIN(AD19)*$B$10+$E$3 -> 0.70463164 | AF19: =COS(AD19)*$B$10+$B$14 -> 0.44055678 | AH19: 16 | AI19: =RADIANS(AH19) -> 0.27925268 | AJ19: =SIN(AI19)*0.015+$B$62 -> 0.65695146 | AK19: =COS(AI19)*0.015+$B$63 -> 0.5577258 | AM19: 16 | AN19: =RADIANS(AM19) -> 0.27925268 | AO19: =SIN(AN19)*0.015+$B$64 -> 0.72888462 | AP19: =COS(AN19)*0.015+$B$65 -> 0.72647375
N20: 18 | O20: =RADIANS(N20) -> 0.31415927 | P20: =SIN(O20)*$B$4 -> 0.088069843 | Q20: =COS(O20)*$B$4+$B$4 -> 0.55605111 | S20: 18 | T20: =RADIANS(S20) -> 0.31415927 | U20: =SIN(T20)*$B$5+$B$7 -> 1.4442502 | V20: =COS(T20)*$B$5+$B$5 -> 0.59507224 | X20: 18 | Y20: =RADIANS(X20) -> 0.31415927 | Z20: =SIN(Y20)*$B$9+$B$7 -> 1.385537 | AA20: =COS(Y20)*$B$9+$B$5 -> 0.4143715 | AC20: 10 | AD20: =RADIANS(AC20) -> 0.17453293 | AE20: =SIN(AD20)*$B$10+$E$3 -> 0.70525133 | AF20: =COS(AD20)*$B$10+$B$14 -> 0.44045308 | AH20: 17 | AI20: =RADIANS(AH20) -> 0.29670597 | AJ20: =SIN(AI20)*0.015+$B$62 -> 0.65720248 | AK20: =COS(AI20)*0.015+$B$63 -> 0.55765144 | AM20: 17 | AN20: =RADIANS(AM20) -> 0.29670597 | AO20: =SIN(AN20)*0.015+$B$64 -> 0.72913563 | AP20: =COS(AN20)*0.015+$B$65 -> 0.7263994
N21: 19 | O21: =RADIANS(N21) -> 0.33161256 | P21: =SIN(O21)*$B$4 -> 0.092786924 | Q21: =COS(O21)*$B$4+$B$4 -> 0.55447279 | S21: 19 | T21: =RADIANS(S21) -> 0.33161256 | U21: =SIN(T21)*$B$5+$B$7 -> 1.4492983 | V21: =COS(T21)*$B$5+$B$5 -> 0.59338317 | X21: 19 | Y21: =RADIANS(X21) -> 0.33161256 | Z21: =SIN(Y21)*$B$9+$B$7 -> 1.3874403 | AA21: =COS(Y21)*$B$9+$B$5 -> 0.41373464 | AC21: 11 | AD21: =RADIANS(AC21) -> 0.19198622 | AE21: =SIN(AD21)*$B$10+$E$3 -> 0.70586912 | AF21: =COS(AD21)*$B$10+$B$14 -> 0.44033858 | AH21: 18 | AI21: =RADIANS(AH21) -> 0.31415927 | AJ21: =SIN(AI21)*0.015+$B$62 -> 0.65745216 | AK21: =COS(AI21)*0.015+$B$63 -> 0.55757272 | AM21: 18 | AN21: =RADIANS(AM21) -> 0.31415927 | AO21: =SIN(AN21)*0.015+$B$64 -> 0.72938531 | AP21: =COS(AN21)*0.015+$B$65 -> 0.72632067
N22: 20 | O22: =RADIANS(N22) -> 0.34906585 | P22: =SIN(O22)*$B$4 -> 0.097475741 | Q22: =COS(O22)*$B$4+$B$4 -> 0.5528124 | S22: 20 | T22: =RADIANS(S22) -> 0.34906585 | U22: =SIN(T22)*$B$5+$B$7 -> 1.4543161 | V22: =COS(T22)*$B$5+$B$5 -> 0.59160625 | X22: 20 | Y22: =RADIANS(X22) -> 0.34906585 | Z22: =SIN(Y22)*$B$9+$B$7 -> 1.3893323 | AA22: =COS(Y22)*$B$9+$B$5 -> 0.41306465 | AC22: 12 | AD22: =RADIANS(AC22) -> 0.20943951 | AE22: =SIN(AD22)*$B$10+$E$3 -> 0.70648482 | AF22: =COS(AD22)*$B$10+$B$14 -> 0.44021331 | AH22: 19 | AI22: =RADIANS(AH22) -> 0.33161256 | AJ22: =SIN(AI22)*0.015+$B$62 -> 0.65770042 | AK22: =COS(AI22)*0.015+$B$63 -> 0.55748965 | AM22: 19 | AN22: =RADIANS(AM22) -> 0.33161256 | AO22: =SIN(AN22)*0.015+$B$64 -> 0.72963358 | AP22: =COS(AN22)*0.015+$B$65 -> 0.7262376
N23: 21 | O23: =RADIANS(N23) -> 0.36651914 | P23: =SIN(O23)*$B$4 -> 0.10213487 | Q23: =COS(O23)*$B$4+$B$4 -> 0.55107042 | S23: 21 | T23: =RADIANS(S23) -> 0.36651914 | U23: =SIN(T23)*$B$5+$B$7 -> 1.4593022 | V23: =COS(T23)*$B$5+$B$5 -> 0.58974203 | X23: 21 | Y23: =RADIANS(X23) -> 0.36651914 | Z23: =SIN(Y23)*$B$9+$B$7 -> 1.3912123 | AA23: =COS(Y23)*$B$9+$B$5 -> 0.41236175 | AC23: 13 | AD23: =RADIANS(AC23) -> 0.2268928 | AE23: =SIN(AD23)*$B$10+$E$3 -> 0.70709824 | AF23: =COS(AD23)*$B$10+$B$14 -> 0.44007732 | AH23: 20 | AI23: =RADIANS(AH23) -> 0.34906585 | AJ23: =SIN(AI23)*0.015+$B$62 -> 0.6579472 | AK23: =COS(AI23)*0.015+$B$63 -> 0.55740226 | AM23: 20 | AN23: =RADIANS(AM23) -> 0.34906585 | AO23: =SIN(AN23)*0.015+$B$64 -> 0.72988036 | AP23: =COS(AN23)*0.015+$B$65 -> 0.72615021
N24: 22 | O24: =RADIANS(N24) -> 0.38397244 | P24: =SIN(O24)*$B$4 -> 0.10676288 | Q24: =COS(O24)*$B$4+$B$4 -> 0.5492474 | S24: 22 | T24: =RADIANS(S24) -> 0.38397244 | U24: =SIN(T24)*$B$5+$B$7 -> 1.464255 | V24: =COS(T24)*$B$5+$B$5 -> 0.58779108 | X24: 22 | Y24: =RADIANS(X24) -> 0.38397244 | Z24: =SIN(Y24)*$B$9+$B$7 -> 1.3930798 | AA24: =COS(Y24)*$B$9+$B$5 -> 0.41162614 | AC24: 14 | AD24: =RADIANS(AC24) -> 0.2443461 | AE24: =SIN(AD24)*$B$10+$E$3 -> 0.70770919 | AF24: =COS(AD24)*$B$10+$B$14 -> 0.43993065 | AH24: 21 | AI24: =RADIANS(AH24) -> 0.36651914 | AJ24: =SIN(AI24)*0.015+$B$62 -> 0.65819242 | AK24: =COS(AI24)*0.015+$B$63 -> 0.55731058 | AM24: 21 | AN24: =RADIANS(AM24) -> 0.36651914 | AO24: =SIN(AN24)*0.015+$B$64 -> 0.73012558 | AP24: =COS(AN24)*0.015+$B$65 -> 0.72605853
N25: 23 | O25: =RADIANS(N25) -> 0.40142573 | P25: =SIN(O25)*$B$4 -> 0.11135837 | Q25: =COS(O25)*$B$4+$B$4 -> 0.54734388 | S25: 23 | T25: =RADIANS(S25) -> 0.40142573 | U25: =SIN(T25)*$B$5+$B$7 -> 1.469173 | V25: =COS(T25)*$B$5+$B$5 -> 0.58575398 | X25: 23 | Y25: =RADIANS(X25) -> 0.40142573 | Z25: =SIN(Y25)*$B$9+$B$7 -> 1.3949341 | AA25: =COS(Y25)*$B$9+$B$5 -> 0.41085806 | AC25: 15 | AD25: =RADIANS(AC25) -> 0.26179939 | AE25: =SIN(AD25)*$B$10+$E$3 -> 0.70831749 | AF25: =COS(AD25)*$B$10+$B$14 -> 0.43977333 | AH25: 22 | AI25: =RADIANS(AH25) -> 0.38397244 | AJ25: =SIN(AI25)*0.015+$B$62 -> 0.658436 | AK25: =COS(AI25)*0.015+$B$63 -> 0.55721463 | AM25: 22 | AN25: =RADIANS(AM25) -> 0.38397244 | AO25: =SIN(AN25)*0.015+$B$64 -> 0.73036916 | AP25: =COS(AN25)*0.015+$B$65 -> 0.72596258
N26: 24 | O26: =RADIANS(N26) -> 0.41887902 | P26: =SIN(O26)*$B$4 -> 0.11591994 | Q26: =COS(O26)*$B$4+$B$4 -> 0.54536046 | S26: 24 | T26: =RADIANS(S26) -> 0.41887902 | U26: =SIN(T26)*$B$5+$B$7 -> 1.4740547 | V26: =COS(T26)*$B$5+$B$5 -> 0.58363136 | X26: 24 | Y26: =RADIANS(X26) -> 0.41887902 | Z26: =SIN(Y26)*$B$9+$B$7 -> 1.3967747 | AA26: =COS(Y26)*$B$9+$B$5 -> 0.41005773 | AC26: 16 | AD26: =RADIANS(AC26) -> 0.27925268 | AE26: =SIN(AD26)*$B$10+$E$3 -> 0.70892294 | AF26: =COS(AD26)*$B$10+$B$14 -> 0.43960542 | AH26: 23 | AI26: =RADIANS(AH26) -> 0.40142573 | AJ26: =SIN(AI26)*0.015+$B$62 -> 0.65867787 | AK26: =COS(AI26)*0.015+$B$63 -> 0.55711444 | AM26: 23 | AN26: =RADIANS(AM26) -> 0.40142573 | AO26: =SIN(AN26)*0.015+$B$64 -> 0.73061103 | AP26: =COS(AN26)*0.015+$B$65 -> 0.7258624
N27: 25 | O27: =RADIANS(N27) -> 0.43633231 | P27: =SIN(O27)*$B$4 -> 0.1204462 | Q27: =COS(O27)*$B$4+$B$4 -> 0.54329772 | S27: 25 | T27: =RADIANS(S27) -> 0.43633231 | U27: =SIN(T27)*$B$5+$B$7 -> 1.4788986 | V27: =COS(T27)*$B$5+$B$5 -> 0.58142388 | X27: 25 | Y27: =RADIANS(X27) -> 0.43633231 | Z27: =SIN(Y27)*$B$9+$B$7 -> 1.3986011 | AA27: =COS(Y27)*$B$9+$B$5 -> 0.4092254 | AC27: 17 | AD27: =RADIANS(AC27) -> 0.29670597 | AE27: =SIN(AD27)*$B$10+$E$3 -> 0.70952538 | AF27: =COS(AD27)*$B$10+$B$14 -> 0.43942697 | AH27: 24 | AI27: =RADIANS(AH27) -> 0.41887902 | AJ27: =SIN(AI27)*0.015+$B$62 -> 0.65891795 | AK27: =COS(AI27)*0.015+$B$63 -> 0.55701005 | AM27: 24 | AN27: =RADIANS(AM27) -> 0.41887902 | AO27: =SIN(AN27)*0.015+$B$64 -> 0.73085111 | AP27: =COS(AN27)*0.015+$B$65 -> 0.72575801
N28: 26 | O28: =RADIANS(N28) -> 0.45378561 | P28: =SIN(O28)*$B$4 -> 0.12493578 | Q28: =COS(O28)*$B$4+$B$4 -> 0.5411563 | S28: 26 | T28: =RADIANS(S28) -> 0.45378561 | U28: =SIN(T28)*$B$5+$B$7 -> 1.4837032 | V28: =COS(T28)*$B$5+$B$5 -> 0.57913218 | X28: 26 | Y28: =RADIANS(X28) -> 0.45378561 | Z28: =SIN(Y28)*$B$9+$B$7 -> 1.4004127 | AA28: =COS(Y28)*$B$9+$B$5 -> 0.40836132 | AC28: 18 | AD28: =RADIANS(AC28) -> 0.31415927 | AE28: =SIN(AD28)*$B$10+$E$3 -> 0.71012461 | AF28: =COS(AD28)*$B$10+$B$14 -> 0.43923803 | AH28: 25 | AI28: =RADIANS(AH28) -> 0.43633231 | AJ28: =SIN(AI28)*0.015+$B$62 -> 0.65915618 | AK28: =COS(AI28)*0.015+$B$63 -> 0.55690149 | AM28: 25 | AN28: =RADIANS(AM28) -> 0.43633231 | AO28: =SIN(AN28)*0.015+$B$64 -> 0.73108933 | AP28: =COS(AN28)*0.015+$B$65 -> 0.72564944
N29: 27 | O29: =RADIANS(N29) -> 0.4712389 | P29: =SIN(O29)*$B$4 -> 0.12938729 | Q29: =COS(O29)*$B$4+$B$4 -> 0.53893686 | S29: 27 | T29: =RADIANS(S29) -> 0.4712389 | U29: =SIN(T29)*$B$5+$B$7 -> 1.4884671 | V29: =COS(T29)*$B$5+$B$5 -> 0.57675699 | X29: 27 | Y29: =RADIANS(X29) -> 0.4712389 | Z29: =SIN(Y29)*$B$9+$B$7 -> 1.4022089 | AA29: =COS(Y29)*$B$9+$B$5 -> 0.40746575 | AC29: 19 | AD29: =RADIANS(AC29) -> 0.33161256 | AE29: =SIN(AD29)*$B$10+$E$3 -> 0.71072045 | AF29: =COS(AD29)*$B$10+$B$14 -> 0.43903867 | AH29: 26 | AI29: =RADIANS(AH29) -> 0.45378561 | AJ29: =SIN(AI29)*0.015+$B$62 -> 0.65939247 | AK29: =COS(AI29)*0.015+$B$63 -> 0.55678878 | AM29: 26 | AN29: =RADIANS(AM29) -> 0.45378561 | AO29: =SIN(AN29)*0.015+$B$64 -> 0.73132563 | AP29: =COS(AN29)*0.015+$B$65 -> 0.72553673
N30: 28 | O30: =RADIANS(N30) -> 0.48869219 | P30: =SIN(O30)*$B$4 -> 0.1337994 | Q30: =COS(O30)*$B$4+$B$4 -> 0.53664006 | S30: 28 | T30: =RADIANS(S30) -> 0.48869219 | U30: =SIN(T30)*$B$5+$B$7 -> 1.4931888 | V30: =COS(T30)*$B$5+$B$5 -> 0.57429902 | X30: 28 | Y30: =RADIANS(X30) -> 0.48869219 | Z30: =SIN(Y30)*$B$9+$B$7 -> 1.4039892 | AA30: =COS(Y30)*$B$9+$B$5 -> 0.40653897 | AC30: 20 | AD30: =RADIANS(AC30) -> 0.34906585 | AE30: =SIN(AD30)*$B$10+$E$3 -> 0.71131273 | AF30: =COS(AD30)*$B$10+$B$14 -> 0.43882893 | AH30: 27 | AI30: =RADIANS(AH30) -> 0.4712389 | AJ30: =SIN(AI30)*0.015+$B$62 -> 0.65962676 | AK30: =COS(AI30)*0.015+$B$63 -> 0.55667197 | AM30: 27 | AN30: =RADIANS(AM30) -> 0.4712389 | AO30: =SIN(AN30)*0.015+$B$64 -> 0.73155992 | AP30: =COS(AN30)*0.015+$B$65 -> 0.72541992
... N50: 48 | O50: =RADIANS(N50) -> 0.83775804 | P50: =SIN(O50)*$B$4 -> 0.21179628 | Q50: =COS(O50)*$B$4+$B$4 -> 0.47570222 | S50: 48 | T50: =RADIANS(S50) -> 0.83775804 | U50: =SIN(T50)*$B$5+$B$7 -> 1.5766592 | V50: =COS(T50)*$B$5+$B$5 -> 0.50908483 | X50: 48 | Y50: =RADIANS(X50) -> 0.83775804 | Z50: =SIN(Y50)*$B$9+$B$7 -> 1.4354617 | AA50: =COS(Y50)*$B$9+$B$5 -> 0.38195002 | AC50: 40 | AD50: =RADIANS(AC50) -> 0.6981317 | AE50: =SIN(AD50)*$B$10+$E$3 -> 0.72214035 | AF50: =COS(AD50)*$B$10+$B$14 -> 0.4325776 | AH50: 47 | AI50: =RADIANS(AH50) -> 0.82030475 | AJ50: =SIN(AI50)*0.015+$B$62 -> 0.66378721 | AK50: =COS(AI50)*0.015+$B$63 -> 0.55353685 | AM50: 47 | AN50: =RADIANS(AM50) -> 0.82030475 | AO50: =SIN(AN50)*0.015+$B$64 -> 0.73572036 | AP50: =COS(AN50)*0.015+$B$65 -> 0.7222848
B51: Level | C51: Level w/rider | D51: Lifted | E51: Lifted w/rider | N51: 49 | O51: =RADIANS(N51) -> 0.85521133 | P51: =SIN(O51)*$B$4 -> 0.21509223 | Q51: =COS(O51)*$B$4+$B$4 -> 0.47197682 | S51: 49 | T51: =RADIANS(S51) -> 0.85521133 | U51: =SIN(T51)*$B$5+$B$7 -> 1.5801864 | V51: =COS(T51)*$B$5+$B$5 -> 0.505098 | X51: 49 | Y51: =RADIANS(X51) -> 0.85521133 | Z51: =SIN(Y51)*$B$9+$B$7 -> 1.4367916 | AA51: =COS(Y51)*$B$9+$B$5 -> 0.38044679 | AC51: 41 | AD51: =RADIANS(AC51) -> 0.71558499 | AE51: =SIN(AD51)*$B$10+$E$3 -> 0.72261813 | AF51: =COS(AD51)*$B$10+$B$14 -> 0.43216954 | AH51: 48 | AI51: =RADIANS(AH51) -> 0.83775804 | AJ51: =SIN(AI51)*0.015+$B$62 -> 0.66396407 | AK51: =COS(AI51)*0.015+$B$63 -> 0.55334383 | AM51: 48 | AN51: =RADIANS(AM51) -> 0.83775804 | AO51: =SIN(AN51)*0.015+$B$64 -> 0.73589723 | AP51: =COS(AN51)*0.015+$B$65 -> 0.72209178
A52: Front Wheel (kg) | B52: 71.5 | C52: 99.1 | D52: 79.35 | E52: 119.7 | N52: 50 | O52: =RADIANS(N52) -> 0.87266463 | P52: =SIN(O52)*$B$4 -> 0.21832267 | Q52: =COS(O52)*$B$4+$B$4 -> 0.46819447 | S52: 50 | T52: =RADIANS(S52) -> 0.87266463 | U52: =SIN(T52)*$B$5+$B$7 -> 1.5836436 | V52: =COS(T52)*$B$5+$B$5 -> 0.50105022 | X52: 50 | Y52: =RADIANS(X52) -> 0.87266463 | Z52: =SIN(Y52)*$B$9+$B$7 -> 1.4380951 | AA52: =COS(Y52)*$B$9+$B$5 -> 0.37892058 | AC52: 42 | AD52: =RADIANS(AC52) -> 0.73303829 | AE52: =SIN(AD52)*$B$10+$E$3 -> 0.7230887 | AF52: =COS(AD52)*$B$10+$B$14 -> 0.43175321 | AH52: 49 | AI52: =RADIANS(AH52) -> 0.85521133 | AJ52: =SIN(AI52)*0.015+$B$62 -> 0.66413755 | AK52: =COS(AI52)*0.015+$B$63 -> 0.55314776 | AM52: 49 | AN52: =RADIANS(AM52) -> 0.85521133 | AO52: =SIN(AN52)*0.015+$B$64 -> 0.7360707 | AP52: =COS(AN52)*0.015+$B$65 -> 0.72189571
A53: Rear wheel (kg) | B53: 66.95 | C53: 115.45 | D53: 59.05 | E53: 94.84 | N53: 51 | O53: =RADIANS(N53) -> 0.89011792 | P53: =SIN(O53)*$B$4 -> 0.2214866 | Q53: =COS(O53)*$B$4+$B$4 -> 0.46435631 | S53: 51 | T53: =RADIANS(S53) -> 0.89011792 | U53: =SIN(T53)*$B$5+$B$7 -> 1.5870295 | V53: =COS(T53)*$B$5+$B$5 -> 0.49694272 | X53: 51 | Y53: =RADIANS(X53) -> 0.89011792 | Z53: =SIN(Y53)*$B$9+$B$7 -> 1.4393718 | AA53: =COS(Y53)*$B$9+$B$5 -> 0.37737184 | AC53: 43 | AD53: =RADIANS(AC53) -> 0.75049158 | AE53: =SIN(AD53)*$B$10+$E$3 -> 0.72355194 | AF53: =COS(AD53)*$B$10+$B$14 -> 0.43132873 | AH53: 50 | AI53: =RADIANS(AH53) -> 0.87266463 | AJ53: =SIN(AI53)*0.015+$B$62 -> 0.66430757 | AK53: =COS(AI53)*0.015+$B$63 -> 0.55294868 | AM53: 50 | AN53: =RADIANS(AM53) -> 0.87266463 | AO53: =SIN(AN53)*0.015+$B$64 -> 0.73624072 | AP53: =COS(AN53)*0.015+$B$65 -> 0.72169664
N54: 52 | O54: =RADIANS(N54) -> 0.90757121 | P54: =SIN(O54)*$B$4 -> 0.22458306 | Q54: =COS(O54)*$B$4+$B$4 -> 0.46046352 | S54: 52 | T54: =RADIANS(S54) -> 0.90757121 | U54: =SIN(T54)*$B$5+$B$7 -> 1.5903433 | V54: =COS(T54)*$B$5+$B$5 -> 0.49277675 | X54: 52 | Y54: =RADIANS(X54) -> 0.90757121 | Z54: =SIN(Y54)*$B$9+$B$7 -> 1.4406212 | AA54: =COS(Y54)*$B$9+$B$5 -> 0.37580107 | AC54: 44 | AD54: =RADIANS(AC54) -> 0.76794487 | AE54: =SIN(AD54)*$B$10+$E$3 -> 0.7240077 | AF54: =COS(AD54)*$B$10+$B$14 -> 0.43089623 | AH54: 51 | AI54: =RADIANS(AH54) -> 0.89011792 | AJ54: =SIN(AI54)*0.015+$B$62 -> 0.66447409 | AK54: =COS(AI54)*0.015+$B$63 -> 0.55274668 | AM54: 51 | AN54: =RADIANS(AM54) -> 0.89011792 | AO54: =SIN(AN54)*0.015+$B$64 -> 0.73640725 | AP54: =COS(AN54)*0.015+$B$65 -> 0.72149463
A55: Wheelbase | B55: 1.35 | D55: weight of bike | E55: =SUM(B52+B53) -> 138.45 | N55: 53 | O55: =RADIANS(N55) -> 0.9250245 | P55: =SIN(O55)*$B$4 -> 0.22761112 | Q55: =COS(O55)*$B$4+$B$4 -> 0.45651728 | S55: 53 | T55: =RADIANS(S55) -> 0.9250245 | U55: =SIN(T55)*$B$5+$B$7 -> 1.5935838 | V55: =COS(T55)*$B$5+$B$5 -> 0.48855358 | X55: 53 | Y55: =RADIANS(X55) -> 0.9250245 | Z55: =SIN(Y55)*$B$9+$B$7 -> 1.4418431 | AA55: =COS(Y55)*$B$9+$B$5 -> 0.37420873 | AC55: 45 | AD55: =RADIANS(AC55) -> 0.78539816 | AE55: =SIN(AD55)*$B$10+$E$3 -> 0.72445584 | AF55: =COS(AD55)*$B$10+$B$14 -> 0.43045584 | AH55: 52 | AI55: =RADIANS(AH55) -> 0.90757121 | AJ55: =SIN(AI55)*0.015+$B$62 -> 0.66463706 | AK55: =COS(AI55)*0.015+$B$63 -> 0.55254179 | AM55: 52 | AN55: =RADIANS(AM55) -> 0.90757121 | AO55: =SIN(AN55)*0.015+$B$64 -> 0.73657022 | AP55: =COS(AN55)*0.015+$B$65 -> 0.72128975
A56: Rw RAD | B56: 0.305 | D56: Rider weight | E56: 76.6 | N56: 54 | O56: =RADIANS(N56) -> 0.9424778 | P56: =SIN(O56)*$B$4 -> 0.23056984 | Q56: =COS(O56)*$B$4+$B$4 -> 0.4525188 | S56: 54 | T56: =RADIANS(S56) -> 0.9424778 | U56: =SIN(T56)*$B$5+$B$7 -> 1.5967502 | V56: =COS(T56)*$B$5+$B$5 -> 0.4842745 | X56: 54 | Y56: =RADIANS(X56) -> 0.9424778 | Z56: =SIN(Y56)*$B$9+$B$7 -> 1.443037 | AA56: =COS(Y56)*$B$9+$B$5 -> 0.3725953 | AC56: 46 | AD56: =RADIANS(AC56) -> 0.80285146 | AE56: =SIN(AD56)*$B$10+$E$3 -> 0.72489623 | AF56: =COS(AD56)*$B$10+$B$14 -> 0.4300077 | AH56: 53 | AI56: =RADIANS(AH56) -> 0.9250245 | AJ56: =SIN(AI56)*0.015+$B$62 -> 0.66479643 | AK56: =COS(AI56)*0.015+$B$63 -> 0.5523341 | AM56: 53 | AN56: =RADIANS(AM56) -> 0.9250245 | AO56: =SIN(AN56)*0.015+$B$64 -> 0.73672959 | AP56: =COS(AN56)*0.015+$B$65 -> 0.72108205
A57: Fw RAD | B57: 0.285 | D57: Total weight | E57: =SUM(E55+E56) -> 215.05 | N57: 55 | O57: =RADIANS(N57) -> 0.95993109 | P57: =SIN(O57)*$B$4 -> 0.23345833 | Q57: =COS(O57)*$B$4+$B$4 -> 0.44846928 | S57: 55 | T57: =RADIANS(S57) -> 0.95993109 | U57: =SIN(T57)*$B$5+$B$7 -> 1.5998414 | V57: =COS(T57)*$B$5+$B$5 -> 0.47994081 | X57: 55 | Y57: =RADIANS(X57) -> 0.95993109 | Z57: =SIN(Y57)*$B$9+$B$7 -> 1.4442025 | AA57: =COS(Y57)*$B$9+$B$5 -> 0.37096129 | AC57: 47 | AD57: =RADIANS(AC57) -> 0.82030475 | AE57: =SIN(AD57)*$B$10+$E$3 -> 0.72532873 | AF57: =COS(AD57)*$B$10+$B$14 -> 0.42955194 | AH57: 54 | AI57: =RADIANS(AH57) -> 0.9424778 | AJ57: =SIN(AI57)*0.015+$B$62 -> 0.66495216 | AK57: =COS(AI57)*0.015+$B$63 -> 0.55212365 | AM57: 54 | AN57: =RADIANS(AM57) -> 0.9424778 | AO57: =SIN(AN57)*0.015+$B$64 -> 0.73688531 | AP57: =COS(AN57)*0.015+$B$65 -> 0.7208716
A58: RAV | B58: =SUM((B57+B56)/2) -> 0.295 | N58: 56 | O58: =RADIANS(N58) -> 0.97738438 | P58: =SIN(O58)*$B$4 -> 0.23627571 | Q58: =COS(O58)*$B$4+$B$4 -> 0.44436998 | S58: 56 | T58: =RADIANS(S58) -> 0.97738438 | U58: =SIN(T58)*$B$5+$B$7 -> 1.6028565 | V58: =COS(T58)*$B$5+$B$5 -> 0.47555384 | X58: 56 | Y58: =RADIANS(X58) -> 0.97738438 | Z58: =SIN(Y58)*$B$9+$B$7 -> 1.4453393 | AA58: =COS(Y58)*$B$9+$B$5 -> 0.36930718 | AC58: 48 | AD58: =RADIANS(AC58) -> 0.83775804 | AE58: =SIN(AD58)*$B$10+$E$3 -> 0.72575321 | AF58: =COS(AD58)*$B$10+$B$14 -> 0.4290887 | AH58: 55 | AI58: =RADIANS(AH58) -> 0.95993109 | AJ58: =SIN(AI58)*0.015+$B$62 -> 0.66510418 | AK58: =COS(AI58)*0.015+$B$63 -> 0.55191052 | AM58: 55 | AN58: =RADIANS(AM58) -> 0.95993109 | AO58: =SIN(AN58)*0.015+$B$64 -> 0.73703734 | AP58: =COS(AN58)*0.015+$B$65 -> 0.72065847
A59: Stool height | B59: 0.4 | D59: Stool weight | E59: 0 | N59: 57 | O59: =RADIANS(N59) -> 0.99483767 | P59: =SIN(O59)*$B$4 -> 0.23902111 | Q59: =COS(O59)*$B$4+$B$4 -> 0.44022212 | S59: 57 | T59: =RADIANS(S59) -> 0.99483767 | U59: =SIN(T59)*$B$5+$B$7 -> 1.6057945 | V59: =COS(T59)*$B$5+$B$5 -> 0.47111491 | X59: 57 | Y59: =RADIANS(X59) -> 0.99483767 | Z59: =SIN(Y59)*$B$9+$B$7 -> 1.4464471 | AA59: =COS(Y59)*$B$9+$B$5 -> 0.36763349 | AC59: 49 | AD59: =RADIANS(AC59) -> 0.85521133 | AE59: =SIN(AD59)*$B$10+$E$3 -> 0.72616954 | AF59: =COS(AD59)*$B$10+$B$14 -> 0.42861813 | AH59: 56 | AI59: =RADIANS(AH59) -> 0.97738438 | AJ59: =SIN(AI59)*0.015+$B$62 -> 0.66525246 | AK59: =COS(AI59)*0.015+$B$63 -> 0.55169476 | AM59: 56 | AN59: =RADIANS(AM59) -> 0.97738438 | AO59: =SIN(AN59)*0.015+$B$64 -> 0.73718562 | AP59: =COS(AN59)*0.015+$B$65 -> 0.72044272
A60: Lifted angle (deg) | B60: =DEGREES(ASIN(B59/B55)) -> 17.235285 | N60: 58 | O60: =RADIANS(N60) -> 1.012291 | P60: =SIN(O60)*$B$4 -> 0.24169371 | Q60: =COS(O60)*$B$4+$B$4 -> 0.43602699 | S60: 58 | T60: =RADIANS(S60) -> 1.012291 | U60: =SIN(T60)*$B$5+$B$7 -> 1.6086547 | V60: =COS(T60)*$B$5+$B$5 -> 0.46662538 | X60: 58 | Y60: =RADIANS(X60) -> 1.012291 | Z60: =SIN(Y60)*$B$9+$B$7 -> 1.4475255 | AA60: =COS(Y60)*$B$9+$B$5 -> 0.36594072 | AC60: 50 | AD60: =RADIANS(AC60) -> 0.87266463 | AE60: =SIN(AD60)*$B$10+$E$3 -> 0.7265776 | AF60: =COS(AD60)*$B$10+$B$14 -> 0.42814035 | AH60: 57 | AI60: =RADIANS(AH60) -> 0.99483767 | AJ60: =SIN(AI60)*0.015+$B$62 -> 0.66539696 | AK60: =COS(AI60)*0.015+$B$63 -> 0.55147646 | AM60: 57 | AN60: =RADIANS(AM60) -> 0.99483767 | AO60: =SIN(AN60)*0.015+$B$64 -> 0.73733012 | AP60: =COS(AN60)*0.015+$B$65 -> 0.72022441
N61: 59 | O61: =RADIANS(N61) -> 1.0297443 | P61: =SIN(O61)*$B$4 -> 0.24429268 | Q61: =COS(O61)*$B$4+$B$4 -> 0.43178585 | S61: 59 | T61: =RADIANS(S61) -> 1.0297443 | U61: =SIN(T61)*$B$5+$B$7 -> 1.611436 | V61: =COS(T61)*$B$5+$B$5 -> 0.46208661 | X61: 59 | Y61: =RADIANS(X61) -> 1.0297443 | Z61: =SIN(Y61)*$B$9+$B$7 -> 1.4485742 | AA61: =COS(Y61)*$B$9+$B$5 -> 0.36422938 | AC61: 51 | AD61: =RADIANS(AC61) -> 0.89011792 | AE61: =SIN(AD61)*$B$10+$E$3 -> 0.72697725 | AF61: =COS(AD61)*$B$10+$B$14 -> 0.42765553 | AH61: 58 | AI61: =RADIANS(AH61) -> 1.012291 | AJ61: =SIN(AI61)*0.015+$B$62 -> 0.66553762 | AK61: =COS(AI61)*0.015+$B$63 -> 0.55125566 | AM61: 58 | AN61: =RADIANS(AM61) -> 1.012291 | AO61: =SIN(AN61)*0.015+$B$64 -> 0.73747078 | AP61: =COS(AN61)*0.015+$B$65 -> 0.72000361
...

Sheet RMZ250
Q2: RADS | R2: X | S2: Y | V2: RADS | W2: x | X2: y | AA2: RADS | AB2: X | AC2: Y | AK2: RADS | AL2: x | AM2: y | AP2: RADS | AQ2: x | AR2: y
