Workbook

Sheet Trail Calc 
C1: RS250 | F1: RMZ250
C2: Wheel Radius | D2: 285 | F2: Wheel Radius | G2: =693/2 -> 346.5
C3: Rake angle | D3: 23 | F3: Rake angle | G3: 28.7
C4: Tripple clamp offset | D4: 36 | F4: Tripple clamp offset | G4: 50
G5: 60
C6: Trail | D6: =(D2*SIN(RADIANS(D3))-D4)/COS(RADIANS(D3)) -> 81.866349 | F6: Trail | G6: =(G2*SIN(RADIANS(G3))-G4)/COS(RADIANS(G3)) -> 132.70017

Sheet COG Calc
E4: Aprilia RS250 | K4: 2022 RMZ 250
D5: Level | E5: Level w/rider | F5: Lifted | G5: Lifted w/rider | K5: Level | L5: Level w/rider | M5: Lifted | N5: Lifted w/rider
C6: Front Wheel (kg) | D6: 71.5 | E6: 99.1 | F6: 79.35 | G6: 119.7 | J6: Front Wheel (kg) | K6: 56.65 | L6: 97.19 | M6: 62.16 | N6: 115.99
C7: Rear wheel (kg) | D7: 66.95 | E7: 115.45 | F7: 59.05 | G7: 94.84 | J7: Rear wheel (kg) | K7: 48.45 | L7: 85.91 | M7: 42.94 | N7: 67.11
C9: Wheelbase | D9: 1.35 | F9: weight of bike | G9: =SUM(D6+D7) -> 138.45 | J9: Wheelbase | K9: 1.485 | M9: weight of bike | N9: =K6+K7 -> 105.1
C10: Rw RAD | D10: 0.285 | F10: Rider weight | G10: 76.6 | J10: Rw RAD | K10: =0.662/2 -> 0.331 | M10: Rider weight | N10: 78
C11: Fw RAD | D11: 0.305 | F11: Total weight | G11: =SUM(G9+G10) -> 215.05 | J11: Fw RAD | K11: =0.693/2 -> 0.3465 | M11: Total weight | N11: =N9+N10 -> 183.1
C12: RAV | D12: =SUM((D11+D10)/2) -> 0.295 | J12: RAV | K12: =SUM((K10+K11)/2) -> 0.33875
C13: Stool height | D13: 0.4 | F13: Stool weight | G13: 0 | J13: Stool height | K13: 0.4 | M13: Stool weight | N13: 0
C14: Lifted angle (deg) | D14: =DEGREES(ASIN(D13/D9)) -> 17.235285 | J14: Lifted angle (deg) | K14: =DEGREES(ASIN(K13/K9)) -> 15.626203
C16: XcoG | D16: =(D7*D9)/G9 -> 0.6528169 | F16: %Front | G16: =(D6/G9)*100 -> 51.643192 | J16: XcoG | K16: =(K7*K9)/N9 -> 0.68456946 | M16: %Front | N16: =(K6/N9)*100 -> 53.901047
C17: YcoG | D17: =(D9*(D7-F7))/(G9*TAN(RADIANS(D14)))+D12 -> 0.54330687 | F17: %Rear | G17: =(D7/G9)*100 -> 48.356808 | J17: YcoG | K17: =(K9*(K7-M7))/(N9*TAN(RADIANS(K14)))+K12 -> 0.61709658 | M17: %Rear | N17: =(K7/N9)*100 -> 46.098953
C18: XcoG W/rider | D18: =(E7*D9)/G11 -> 0.72475006 | F18: %Front W/rider | G18: =((D9-D18)/D9)*100 -> 46.314811 | J18: XcoG W/rider | K18: =(L7*K9)/N11 -> 0.69675778 | M18: %Front W/rider | N18: =((K9-K18)/K9)*100 -> 53.080284
C19: YcoG W/rider | D19: =(D9*(E7-G7))/(G11*TAN(RADIANS(D14)))+D12 -> 0.71205482 | F19: %Rear W/rider | G19: =(D18/D9)*100 -> 53.685189 | J19: YcoG W/rider | K19: =(K9*(L7-N7))/(N11*TAN(RADIANS(K14)))+K12 -> 0.88388807 | M19: %Rear W/rider | N19: =(K18/K9)*100 -> 46.919716

Sheet Drag Calc Graph
A1: Mass (m) | B1: 215 | C1: kg
A2: Frontal Area (A) | B2: 0.2418 | C2: m^2
A3: Drag Coefficeint Cd | B3: 0.756
A4: CdA | B4: 0.305 | C4: m^2
A5: Velocity (V) | B5: 207 | C5: Km/h | Q5: Velocty | R5: Drag
A6: Velocity (V) | B6: =B5*(1000/3600) -> 57.5 | C6: M/S | Q6: 0 | R6: =(0.5*$B$9*$B$4*(Q6*1000/3600)^2) -> 0
A7: Gradient of slope | B7: 0 | C7: % | Q7: 1 | R7: =(0.5*$B$9*$B$4*(Q7*1000/3600)^2) -> 0.01373206
A8: Slope Angle | B8: =DEGREES(ATAN(B7/100)) -> 0 | C8: DEG | Q8: 2 | R8: =(0.5*$B$9*$B$4*(Q8*1000/3600)^2) -> 0.054928241
A9: Density of air | B9: 1.167 | C9: kg/m^3 | Q9: 3 | R9: =(0.5*$B$9*$B$4*(Q9*1000/3600)^2) -> 0.12358854
Q10: 4 | R10: =(0.5*$B$9*$B$4*(Q10*1000/3600)^2) -> 0.21971296
A11: Aero Drag force (Fd) | B11: =(0.5*B9*B2*B4*B6^2) -> 142.27634 | C11: N | Q11: 5 | R11: =(0.5*$B$9*$B$4*(Q11*1000/3600)^2) -> 0.3433015
A12: Rolling resistance | B12: =(0.02*B1*9.81) -> 42.183 | C12: N | Q12: 6 | R12: =(0.5*$B$9*$B$4*(Q12*1000/3600)^2) -> 0.49435417
A13: Rolling resistance due to gradient | B13: =B1*9.81*(ATAN(B7/100)) -> 0 | C13: N | Q13: 7 | R13: =(0.5*$B$9*$B$4*(Q13*1000/3600)^2) -> 0.67287095
Q14: 8 | R14: =(0.5*$B$9*$B$4*(Q14*1000/3600)^2) -> 0.87885185
A15: Total resistive force | B15: =B13+B12+B11 -> 184.45934 | C15: N | Q15: 9 | R15: =(0.5*$B$9*$B$4*(Q15*1000/3600)^2) -> 1.1122969
A16: Power Needed | B16: =B15*B6 -> 10606.412 | C16: W | Q16: 10 | R16: =(0.5*$B$9*$B$4*(Q16*1000/3600)^2) -> 1.373206
Q17: 11 | R17: =(0.5*$B$9*$B$4*(Q17*1000/3600)^2) -> 1.6615793
Q18: 12 | R18: =(0.5*$B$9*$B$4*(Q18*1000/3600)^2) -> 1.9774167
Q19: 13 | R19: =(0.5*$B$9*$B$4*(Q19*1000/3600)^2) -> 2.3207182
Q20: 14 | R20: =(0.5*$B$9*$B$4*(Q20*1000/3600)^2) -> 2.6914838
Q21: 15 | R21: =(0.5*$B$9*$B$4*(Q21*1000/3600)^2) -> 3.0897135
Q22: 16 | R22: =(0.5*$B$9*$B$4*(Q22*1000/3600)^2) -> 3.5154074
Q23: 17 | R23: =(0.5*$B$9*$B$4*(Q23*1000/3600)^2) -> 3.9685654
Q24: 18 | R24: =(0.5*$B$9*$B$4*(Q24*1000/3600)^2) -> 4.4491875
Q25: 19 | R25: =(0.5*$B$9*$B$4*(Q25*1000/3600)^2) -> 4.9572737
Q26: 20 | R26: =(0.5*$B$9*$B$4*(Q26*1000/3600)^2) -> 5.4928241
Q27: 21 | R27: =(0.5*$B$9*$B$4*(Q27*1000/3600)^2) -> 6.0558385
Q28: 22 | R28: =(0.5*$B$9*$B$4*(Q28*1000/3600)^2) -> 6.6463171
... Q230: 224 | R230: =(0.5*$B$9*$B$4*(Q230*1000/3600)^2) -> 689.01985
Q231: 225

Sheet Gear Ratio Calc
T1: Ri
B2: Primary | C2: 23 | D2: 59 | J2: Chain size | K2: Front Sprocket | L2: Rear Sprocket | M2: Chain | N2: Distance between front sprocket and pivot | O2: Swing arm Length | R2: Chain Size
B3: Final | C3: 14 | D3: 42 | J3: 0.625 | K3: 14 | L3: 42 | M3: 110 | N3: 112 | O3: =0.5*(M3-0.5*(K3+L3))*25.4*J3-N3 -> 538.875 | R3: 0.5
B4: Tyre Diam | C4: Goldspeed dry | D4: 0.57 | R4: 0.625
B5: RPM | C5: 12500 | R5: 0.75
B7: Ratios | F7: Speeds | G7: Revs | H7: Falls
B8: 1st | C8: 11 | D8: 27 | F8: =(($C$5*60*(C8/D8)*($C$2/$D$2)*$D$4*PI())/1000)*$C$3/$D$3 -> 71.099981 | G8: 12500
G9: =$C$5*($C$8/$D$8)*($D$10/$C$10) -> 8275.463 | H9: =$G$8-$G$9 -> 4224.537
B10: 2nd | C10: 16 | D10: 26 | F10: =(($C$5*60*(C10/D10)*($C$2/$D$2)*$D$4*PI())/1000)*$C$3/$D$3 -> 107.39577 | G10: 12500 | Q10: Rear Tyre | R10: Tyre width | S10: aspect ratio | T10: Rim diametere | U10: Diameter
G11: =$C$5*($C$10/$D$10)*($D$12/$C$12) -> 9502.2624 | H11: =$G$10-$G$11 -> 2997.7376 | Q11: Goldspeed dry | R11: 165 | S11: 56 | T11: 17 | U11: =(((R11/25.4*S11/100+T11/2)*2)*25.4/1000) -> 0.6166
B12: 3rd | C12: 17 | D12: 21 | F12: =(($C$5*60*(C12/D12)*($C$2/$D$2)*$D$4*PI())/1000)*$C$3/$D$3 -> 141.27658 | G12: 12500 | Q12: Small | R12: 190 | S12: 55 | T12: 17 | U12: =(((R12/25.4*S12/100+T12/2)*2)*25.4/1000) -> 0.6408
G13: =$C$5*($C$12/$D$12)*($D$14/$C$14) -> 10579.004 | H13: =$G$12-$G$13 -> 1920.9957 | Q13: Inter | R13: 150 | S13: 60 | T13: 17 | U13: =(((R13/25.4*S13/100+T13/2)*2)*25.4/1000) -> 0.6118
B14: 4th | C14: 22 | D14: 23 | F14: =(($C$5*60*(C14/D14)*($C$2/$D$2)*$D$4*PI())/1000)*$C$3/$D$3 -> 166.93039 | G14: 12500 | Q14: michellin rain | R14: 160 | S14: 63 | T14: 17 | U14: =(((R14/25.4*S14/100+T14/2)*2)*25.4/1000) -> 0.6334
G15: =$C$5*($C$14/$D$14)*($D$16/$C$16) -> 10960.145 | H15: =$G$14-$G$15 -> 1539.8551
B16: 5th | C16: 24 | D16: 22 | F16: =(($C$5*60*(C16/D16)*($C$2/$D$2)*$D$4*PI())/1000)*$C$3/$D$3 -> 190.38342 | G16: 12500
G17: =$C$5*($C$16/$D$16)*($D$18/$C$18) -> 11454.545 | H17: =$G$16-$G$17 -> 1045.4545
B18: 6th | C18: 25 | D18: 21 | F18: =(($C$5*60*(C18/D18)*($C$2/$D$2)*$D$4*PI())/1000)*$C$3/$D$3 -> 207.75968

Sheet Driving Force
A1: RPM | B1: Power (hp) | D1: Power (kw) | H1: Road speed 1st (km/h) | I1: Road speed 2nd | J1: Road speed 3rd | K1: Road speed 4th | L1: Road speed 5th | M1: Road speed 6th | O1: Driving Force 1st | P1: Driving Force 2nd | Q1: Driving Force 3rd | R1: Driving Force 4th | S1: Driving Force 5th | T1: Driving Force 6th
A2: 5500 | B2: 16.497 | C2: =B2*5252/A2 -> 15.753135 | D2: =B2*0.74569987 -> 12.301811 | H2: =(($A2*60*('Gear Ratio Calc'!$C$8/'Gear Ratio Calc'!$D$8)*('Gear Ratio Calc'!$C$2)/'Gear Ratio Calc'!$D$2)*'Gear Ratio Calc'!$D$4*PI())/1000*('Gear Ratio Calc'!$C$3/'Gear Ratio Calc'!$D$3) -> 31.283991 | I2: =(($A2*60*('Gear Ratio Calc'!$C$10/'Gear Ratio Calc'!$D$10)*('Gear Ratio Calc'!$C$2)/'Gear Ratio Calc'!$D$2)*'Gear Ratio Calc'!$D$4*PI())/1000*('Gear Ratio Calc'!$C$3/'Gear Ratio Calc'!$D$3) -> 47.254141 | J2: =(($A2*60*('Gear Ratio Calc'!$C$12/'Gear Ratio Calc'!$D$12)*('Gear Ratio Calc'!$C$2)/'Gear Ratio Calc'!$D$2)*'Gear Ratio Calc'!$D$4*PI())/1000*('Gear Ratio Calc'!$C$3/'Gear Ratio Calc'!$D$3) -> 62.161697 | K2: =(($A2*60*('Gear Ratio Calc'!$C$14/'Gear Ratio Calc'!$D$14)*('Gear Ratio Calc'!$C$2)/'Gear Ratio Calc'!$D$2)*'Gear Ratio Calc'!$D$4*PI())/1000*('Gear Ratio Calc'!$C$3/'Gear Ratio Calc'!$D$3) -> 73.449371 | L2: =(($A2*60*('Gear Ratio Calc'!$C$16/'Gear Ratio Calc'!$D$16)*('Gear Ratio Calc'!$C$2)/'Gear Ratio Calc'!$D$2)*'Gear Ratio Calc'!$D$4*PI())/1000*('Gear Ratio Calc'!$C$3/'Gear Ratio Calc'!$D$3) -> 83.768704 | M2: =(($A2*60*('Gear Ratio Calc'!$C$18/'Gear Ratio Calc'!$D$18)*('Gear Ratio Calc'!$C$2)/'Gear Ratio Calc'!$D$2)*'Gear Ratio Calc'!$D$4*PI())/1000*('Gear Ratio Calc'!$C$3/'Gear Ratio Calc'!$D$3) -> 91.414261 | O2: =(D2*1000)/(H2*1000/3600) -> 1415.6288 | P2: =(D2*1000)/(I2*1000/3600) -> 937.19868 | Q2: =(D2*1000)/(J2*1000/3600) -> 712.44063 | R2: =(D2*1000)/(K2*1000/3600) -> 602.953 | S2: =(D2*1000)/(L2*1000/3600) -> 528.67618 | T2: =(D2*1000)/(M2*1000/3600) -> 484.45963
A3: 6000 | B3: 21.625 | C3: =B3*5252/A3 -> 18.929083 | D3: =B3*0.74569987 -> 16.12576 | H3: =(($A3*60*('Gear Ratio Calc'!$C$8/'Gear Ratio Calc'!$D$8)*('Gear Ratio Calc'!$C$2)/'Gear Ratio Calc'!$D$2)*'Gear Ratio Calc'!$D$4*PI())/1000*('Gear Ratio Calc'!$C$3/'Gear Ratio Calc'!$D$3) -> 34.127991 | I3: =(($A3*60*('Gear Ratio Calc'!$C$10/'Gear Ratio Calc'!$D$10)*('Gear Ratio Calc'!$C$2)/'Gear Ratio Calc'!$D$2)*'Gear Ratio Calc'!$D$4*PI())/1000*('Gear Ratio Calc'!$C$3/'Gear Ratio Calc'!$D$3) -> 51.549972 | J3: =(($A3*60*('Gear Ratio Calc'!$C$12/'Gear Ratio Calc'!$D$12)*('Gear Ratio Calc'!$C$2)/'Gear Ratio Calc'!$D$2)*'Gear Ratio Calc'!$D$4*PI())/1000*('Gear Ratio Calc'!$C$3/'Gear Ratio Calc'!$D$3) -> 67.812761 | K3: =(($A3*60*('Gear Ratio Calc'!$C$14/'Gear Ratio Calc'!$D$14)*('Gear Ratio Calc'!$C$2)/'Gear Ratio Calc'!$D$2)*'Gear Ratio Calc'!$D$4*PI())/1000*('Gear Ratio Calc'!$C$3/'Gear Ratio Calc'!$D$3) -> 80.126587 | L3: =(($A3*60*('Gear Ratio Calc'!$C$16/'Gear Ratio Calc'!$D$16)*('Gear Ratio Calc'!$C$2)/'Gear Ratio Calc'!$D$2)*'Gear Ratio Calc'!$D$4*PI())/1000*('Gear Ratio Calc'!$C$3/'Gear Ratio Calc'!$D$3) -> 91.384041 | M3: =(($A3*60*('Gear Ratio Calc'!$C$18/'Gear Ratio Calc'!$D$18)*('Gear Ratio Calc'!$C$2)/'Gear Ratio Calc'!$D$2)*'Gear Ratio Calc'!$D$4*PI())/1000*('Gear Ratio Calc'!$C$3/'Gear Ratio Calc'!$D$3) -> 99.724648 | O3: =(D3*1000)/(H3*1000/3600) -> 1701.03 | P3: =(D3*1000)/(I3*1000/3600) -> 1126.1448 | Q3: =(D3*1000)/(J3*1000/3600) -> 856.0739 | R3: =(D3*1000)/(K3*1000/3600) -> 724.51276 | S3: =(D3*1000)/(L3*1000/3600) -> 635.26119 | T3: =(D3*1000)/(M3*1000/3600) -> 582.13026
A4: 6500 | B4: 24.01 | C4: =B4*5252/A4 -> 19.40008 | D4: =B4*0.74569987 -> 17.904254 | H4: =(($A4*60*('Gear Ratio Calc'!$C$8/'Gear Ratio Calc'!$D$8)*('Gear Ratio Calc'!$C$2)/'Gear Ratio Calc'!$D$2)*'Gear Ratio Calc'!$D$4*PI())/1000*('Gear Ratio Calc'!$C$3/'Gear Ratio Calc'!$D$3) -> 36.97199 | I4: =(($A4*60*('Gear Ratio Calc'!$C$10/'Gear Ratio Calc'!$D$10)*('Gear Ratio Calc'!$C$2)/'Gear Ratio Calc'!$D$2)*'Gear Ratio Calc'!$D$4*PI())/1000*('Gear Ratio Calc'!$C$3/'Gear Ratio Calc'!$D$3) -> 55.845803 | J4: =(($A4*60*('Gear Ratio Calc'!$C$12/'Gear Ratio Calc'!$D$12)*('Gear Ratio Calc'!$C$2)/'Gear Ratio Calc'!$D$2)*'Gear Ratio Calc'!$D$4*PI())/1000*('Gear Ratio Calc'!$C$3/'Gear Ratio Calc'!$D$3) -> 73.463824 | K4: =(($A4*60*('Gear Ratio Calc'!$C$14/'Gear Ratio Calc'!$D$14)*('Gear Ratio Calc'!$C$2)/'Gear Ratio Calc'!$D$2)*'Gear Ratio Calc'!$D$4*PI())/1000*('Gear Ratio Calc'!$C$3/'Gear Ratio Calc'!$D$3) -> 86.803802 | L4: =(($A4*60*('Gear Ratio Calc'!$C$16/'Gear Ratio Calc'!$D$16)*('Gear Ratio Calc'!$C$2)/'Gear Ratio Calc'!$D$2)*'Gear Ratio Calc'!$D$4*PI())/1000*('Gear Ratio Calc'!$C$3/'Gear Ratio Calc'!$D$3) -> 98.999378 | M4: =(($A4*60*('Gear Ratio Calc'!$C$18/'Gear Ratio Calc'!$D$18)*('Gear Ratio Calc'!$C$2)/'Gear Ratio Calc'!$D$2)*'Gear Ratio Calc'!$D$4*PI())/1000*('Gear Ratio Calc'!$C$3/'Gear Ratio Calc'!$D$3) -> 108.03504 | O4: =(D4*1000)/(H4*1000/3600) -> 1743.3553 | P4: =(D4*1000)/(I4*1000/3600) -> 1154.1658 | Q4: =(D4*1000)/(J4*1000/3600) -> 877.37488 | R4: =(D4*1000)/(K4*1000/3600) -> 742.54021 | S4: =(D4*1000)/(L4*1000/3600) -> 651.06787 | T4: =(D4*1000)/(M4*1000/3600) -> 596.61492
A5: 7000 | B5: 26.674 | C5: =B5*5252/A5 -> 20.013121 | D5: =B5*0.74569987 -> 19.890798 | H5: =(($A5*60*('Gear Ratio Calc'!$C$8/'Gear Ratio Calc'!$D$8)*('Gear Ratio Calc'!$C$2)/'Gear Ratio Calc'!$D$2)*'Gear Ratio Calc'!$D$4*PI())/1000*('Gear Ratio Calc'!$C$3/'Gear Ratio Calc'!$D$3) -> 39.815989 | I5: =(($A5*60*('Gear Ratio Calc'!$C$10/'Gear Ratio Calc'!$D$10)*('Gear Ratio Calc'!$C$2)/'Gear Ratio Calc'!$D$2)*'Gear Ratio Calc'!$D$4*PI())/1000*('Gear Ratio Calc'!$C$3/'Gear Ratio Calc'!$D$3) -> 60.141634 | J5: =(($A5*60*('Gear Ratio Calc'!$C$12/'Gear Ratio Calc'!$D$12)*('Gear Ratio Calc'!$C$2)/'Gear Ratio Calc'!$D$2)*'Gear Ratio Calc'!$D$4*PI())/1000*('Gear Ratio Calc'!$C$3/'Gear Ratio Calc'!$D$3) -> 79.114888 | K5: =(($A5*60*('Gear Ratio Calc'!$C$14/'Gear Ratio Calc'!$D$14)*('Gear Ratio Calc'!$C$2)/'Gear Ratio Calc'!$D$2)*'Gear Ratio Calc'!$D$4*PI())/1000*('Gear Ratio Calc'!$C$3/'Gear Ratio Calc'!$D$3) -> 93.481018 | L5: =(($A5*60*('Gear Ratio Calc'!$C$16/'Gear Ratio Calc'!$D$16)*('Gear Ratio Calc'!$C$2)/'Gear Ratio Calc'!$D$2)*'Gear Ratio Calc'!$D$4*PI())/1000*('Gear Ratio Calc'!$C$3/'Gear Ratio Calc'!$D$3) -> 106.61471 | M5: =(($A5*60*('Gear Ratio Calc'!$C$18/'Gear Ratio Calc'!$D$18)*('Gear Ratio Calc'!$C$2)/'Gear Ratio Calc'!$D$2)*'Gear Ratio Calc'!$D$4*PI())/1000*('Gear Ratio Calc'!$C$3/'Gear Ratio Calc'!$D$3) -> 116.34542 | O5: =(D5*1000)/(H5*1000/3600) -> 1798.4452 | P5: =(D5*1000)/(I5*1000/3600) -> 1190.6373 | Q5: =(D5*1000)/(J5*1000/3600) -> 905.09986 | R5: =(D5*1000)/(K5*1000/3600) -> 766.00443 | S5: =(D5*1000)/(L5*1000/3600) -> 671.64157 | T5: =(D5*1000)/(M5*1000/3600) -> 615.46791
A6: 7500 | B6: 30.46 | C6: =B6*5252/A6 -> 21.330123 | D6: =B6*0.74569987 -> 22.714018 | H6: =(($A6*60*('Gear Ratio Calc'!$C$8/'Gear Ratio Calc'!$D$8)*('Gear Ratio Calc'!$C$2)/'Gear Ratio Calc'!$D$2)*'Gear Ratio Calc'!$D$4*PI())/1000*('Gear Ratio Calc'!$C$3/'Gear Ratio Calc'!$D$3) -> 42.659988 | I6: =(($A6*60*('Gear Ratio Calc'!$C$10/'Gear Ratio Calc'!$D$10)*('Gear Ratio Calc'!$C$2)/'Gear Ratio Calc'!$D$2)*'Gear Ratio Calc'!$D$4*PI())/1000*('Gear Ratio Calc'!$C$3/'Gear Ratio Calc'!$D$3) -> 64.437465 | J6: =(($A6*60*('Gear Ratio Calc'!$C$12/'Gear Ratio Calc'!$D$12)*('Gear Ratio Calc'!$C$2)/'Gear Ratio Calc'!$D$2)*'Gear Ratio Calc'!$D$4*PI())/1000*('Gear Ratio Calc'!$C$3/'Gear Ratio Calc'!$D$3) -> 84.765951 | K6: =(($A6*60*('Gear Ratio Calc'!$C$14/'Gear Ratio Calc'!$D$14)*('Gear Ratio Calc'!$C$2)/'Gear Ratio Calc'!$D$2)*'Gear Ratio Calc'!$D$4*PI())/1000*('Gear Ratio Calc'!$C$3/'Gear Ratio Calc'!$D$3) -> 100.15823 | L6: =(($A6*60*('Gear Ratio Calc'!$C$16/'Gear Ratio Calc'!$D$16)*('Gear Ratio Calc'!$C$2)/'Gear Ratio Calc'!$D$2)*'Gear Ratio Calc'!$D$4*PI())/1000*('Gear Ratio Calc'!$C$3/'Gear Ratio Calc'!$D$3) -> 114.23005 | M6: =(($A6*60*('Gear Ratio Calc'!$C$18/'Gear Ratio Calc'!$D$18)*('Gear Ratio Calc'!$C$2)/'Gear Ratio Calc'!$D$2)*'Gear Ratio Calc'!$D$4*PI())/1000*('Gear Ratio Calc'!$C$3/'Gear Ratio Calc'!$D$3) -> 124.65581 | O6: =(D6*1000)/(H6*1000/3600) -> 1916.7953 | P6: =(D6*1000)/(I6*1000/3600) -> 1268.9895 | Q6: =(D6*1000)/(J6*1000/3600) -> 964.66168 | R6: =(D6*1000)/(K6*1000/3600) -> 816.41281 | S6: =(D6*1000)/(L6*1000/3600) -> 715.84022 | T6: =(D6*1000)/(M6*1000/3600) -> 655.96994
A7: 8000 | B7: 32.44 | C7: =B7*5252/A7 -> 21.29686 | D7: =B7*0.74569987 -> 24.190504 | H7: =(($A7*60*('Gear Ratio Calc'!$C$8/'Gear Ratio Calc'!$D$8)*('Gear Ratio Calc'!$C$2)/'Gear Ratio Calc'!$D$2)*'Gear Ratio Calc'!$D$4*PI())/1000*('Gear Ratio Calc'!$C$3/'Gear Ratio Calc'!$D$3) -> 45.503988 | I7: =(($A7*60*('Gear Ratio Calc'!$C$10/'Gear Ratio Calc'!$D$10)*('Gear Ratio Calc'!$C$2)/'Gear Ratio Calc'!$D$2)*'Gear Ratio Calc'!$D$4*PI())/1000*('Gear Ratio Calc'!$C$3/'Gear Ratio Calc'!$D$3) -> 68.733296 | J7: =(($A7*60*('Gear Ratio Calc'!$C$12/'Gear Ratio Calc'!$D$12)*('Gear Ratio Calc'!$C$2)/'Gear Ratio Calc'!$D$2)*'Gear Ratio Calc'!$D$4*PI())/1000*('Gear Ratio Calc'!$C$3/'Gear Ratio Calc'!$D$3) -> 90.417014 | K7: =(($A7*60*('Gear Ratio Calc'!$C$14/'Gear Ratio Calc'!$D$14)*('Gear Ratio Calc'!$C$2)/'Gear Ratio Calc'!$D$2)*'Gear Ratio Calc'!$D$4*PI())/1000*('Gear Ratio Calc'!$C$3/'Gear Ratio Calc'!$D$3) -> 106.83545 | L7: =(($A7*60*('Gear Ratio Calc'!$C$16/'Gear Ratio Calc'!$D$16)*('Gear Ratio Calc'!$C$2)/'Gear Ratio Calc'!$D$2)*'Gear Ratio Calc'!$D$4*PI())/1000*('Gear Ratio Calc'!$C$3/'Gear Ratio Calc'!$D$3) -> 121.84539 | M7: =(($A7*60*('Gear Ratio Calc'!$C$18/'Gear Ratio Calc'!$D$18)*('Gear Ratio Calc'!$C$2)/'Gear Ratio Calc'!$D$2)*'Gear Ratio Calc'!$D$4*PI())/1000*('Gear Ratio Calc'!$C$3/'Gear Ratio Calc'!$D$3) -> 132.9662 | O7: =(D7*1000)/(H7*1000/3600) -> 1913.8062 | P7: =(D7*1000)/(I7*1000/3600) -> 1267.0106 | Q7: =(D7*1000)/(J7*1000/3600) -> 963.15737 | R7: =(D7*1000)/(K7*1000/3600) -> 815.13968 | S7: =(D7*1000)/(L7*1000/3600) -> 714.72392 | T7: =(D7*1000)/(M7*1000/3600) -> 654.94701
A8: 8500 | B8: 37.86 | C8: =B8*5252/A8 -> 23.393026 | D8: =B8*0.74569987 -> 28.232197 | H8: =(($A8*60*('Gear Ratio Calc'!$C$8/'Gear Ratio Calc'!$D$8)*('Gear Ratio Calc'!$C$2)/'Gear Ratio Calc'!$D$2)*'Gear Ratio Calc'!$D$4*PI())/1000*('Gear Ratio Calc'!$C$3/'Gear Ratio Calc'!$D$3) -> 48.347987 | I8: =(($A8*60*('Gear Ratio Calc'!$C$10/'Gear Ratio Calc'!$D$10)*('Gear Ratio Calc'!$C$2)/'Gear Ratio Calc'!$D$2)*'Gear Ratio Calc'!$D$4*PI())/1000*('Gear Ratio Calc'!$C$3/'Gear Ratio Calc'!$D$3) -> 73.029127 | J8: =(($A8*60*('Gear Ratio Calc'!$C$12/'Gear Ratio Calc'!$D$12)*('Gear Ratio Calc'!$C$2)/'Gear Ratio Calc'!$D$2)*'Gear Ratio Calc'!$D$4*PI())/1000*('Gear Ratio Calc'!$C$3/'Gear Ratio Calc'!$D$3) -> 96.068078 | K8: =(($A8*60*('Gear Ratio Calc'!$C$14/'Gear Ratio Calc'!$D$14)*('Gear Ratio Calc'!$C$2)/'Gear Ratio Calc'!$D$2)*'Gear Ratio Calc'!$D$4*PI())/1000*('Gear Ratio Calc'!$C$3/'Gear Ratio Calc'!$D$3) -> 113.51266 | L8: =(($A8*60*('Gear Ratio Calc'!$C$16/'Gear Ratio Calc'!$D$16)*('Gear Ratio Calc'!$C$2)/'Gear Ratio Calc'!$D$2)*'Gear Ratio Calc'!$D$4*PI())/1000*('Gear Ratio Calc'!$C$3/'Gear Ratio Calc'!$D$3) -> 129.46073 | M8: =(($A8*60*('Gear Ratio Calc'!$C$18/'Gear Ratio Calc'!$D$18)*('Gear Ratio Calc'!$C$2)/'Gear Ratio Calc'!$D$2)*'Gear Ratio Calc'!$D$4*PI())/1000*('Gear Ratio Calc'!$C$3/'Gear Ratio Calc'!$D$3) -> 141.27658 | O8: =(D8*1000)/(H8*1000/3600) -> 2102.1746 | P8: =(D8*1000)/(I8*1000/3600) -> 1391.7174 | Q8: =(D8*1000)/(J8*1000/3600) -> 1057.9571 | R8: =(D8*1000)/(K8*1000/3600) -> 895.37066 | S8: =(D8*1000)/(L8*1000/3600) -> 785.07138 | T8: =(D8*1000)/(M8*1000/3600) -> 719.41086
A9: 9000 | B9: 46.83 | C9: =B9*5252/A9 -> 27.327907 | D9: =B9*0.74569987 -> 34.921125 | H9: =(($A9*60*('Gear Ratio Calc'!$C$8/'Gear Ratio Calc'!$D$8)*('Gear Ratio Calc'!$C$2)/'Gear Ratio Calc'!$D$2)*'Gear Ratio Calc'!$D$4*PI())/1000*('Gear Ratio Calc'!$C$3/'Gear Ratio Calc'!$D$3) -> 51.191986 | I9: =(($A9*60*('Gear Ratio Calc'!$C$10/'Gear Ratio Calc'!$D$10)*('Gear Ratio Calc'!$C$2)/'Gear Ratio Calc'!$D$2)*'Gear Ratio Calc'!$D$4*PI())/1000*('Gear Ratio Calc'!$C$3/'Gear Ratio Calc'!$D$3) -> 77.324958 | J9: =(($A9*60*('Gear Ratio Calc'!$C$12/'Gear Ratio Calc'!$D$12)*('Gear Ratio Calc'!$C$2)/'Gear Ratio Calc'!$D$2)*'Gear Ratio Calc'!$D$4*PI())/1000*('Gear Ratio Calc'!$C$3/'Gear Ratio Calc'!$D$3) -> 101.71914 | K9: =(($A9*60*('Gear Ratio Calc'!$C$14/'Gear Ratio Calc'!$D$14)*('Gear Ratio Calc'!$C$2)/'Gear Ratio Calc'!$D$2)*'Gear Ratio Calc'!$D$4*PI())/1000*('Gear Ratio Calc'!$C$3/'Gear Ratio Calc'!$D$3) -> 120.18988 | L9: =(($A9*60*('Gear Ratio Calc'!$C$16/'Gear Ratio Calc'!$D$16)*('Gear Ratio Calc'!$C$2)/'Gear Ratio Calc'!$D$2)*'Gear Ratio Calc'!$D$4*PI())/1000*('Gear Ratio Calc'!$C$3/'Gear Ratio Calc'!$D$3) -> 137.07606 | M9: =(($A9*60*('Gear Ratio Calc'!$C$18/'Gear Ratio Calc'!$D$18)*('Gear Ratio Calc'!$C$2)/'Gear Ratio Calc'!$D$2)*'Gear Ratio Calc'!$D$4*PI())/1000*('Gear Ratio Calc'!$C$3/'Gear Ratio Calc'!$D$3) -> 149.58697 | O9: =(D9*1000)/(H9*1000/3600) -> 2455.776 | P9: =(D9*1000)/(I9*1000/3600) -> 1625.8147 | Q9: =(D9*1000)/(J9*1000/3600) -> 1235.9134 | R9: =(D9*1000)/(K9*1000/3600) -> 1045.9787 | S9: =(D9*1000)/(L9*1000/3600) -> 917.12621 | T9: =(D9*1000)/(M9*1000/3600) -> 840.42111
A10: 9500 | B10: 53.555 | C10: =B10*5252/A10 -> 29.607459 | D10: =B10*0.74569987 -> 39.935957 | H10: =(($A10*60*('Gear Ratio Calc'!$C$8/'Gear Ratio Calc'!$D$8)*('Gear Ratio Calc'!$C$2)/'Gear Ratio Calc'!$D$2)*'Gear Ratio Calc'!$D$4*PI())/1000*('Gear Ratio Calc'!$C$3/'Gear Ratio Calc'!$D$3) -> 54.035985 | I10: =(($A10*60*('Gear Ratio Calc'!$C$10/'Gear Ratio Calc'!$D$10)*('Gear Ratio Calc'!$C$2)/'Gear Ratio Calc'!$D$2)*'Gear Ratio Calc'!$D$4*PI())/1000*('Gear Ratio Calc'!$C$3/'Gear Ratio Calc'!$D$3) -> 81.620789 | J10: =(($A10*60*('Gear Ratio Calc'!$C$12/'Gear Ratio Calc'!$D$12)*('Gear Ratio Calc'!$C$2)/'Gear Ratio Calc'!$D$2)*'Gear Ratio Calc'!$D$4*PI())/1000*('Gear Ratio Calc'!$C$3/'Gear Ratio Calc'!$D$3) -> 107.3702 | K10: =(($A10*60*('Gear Ratio Calc'!$C$14/'Gear Ratio Calc'!$D$14)*('Gear Ratio Calc'!$C$2)/'Gear Ratio Calc'!$D$2)*'Gear Ratio Calc'!$D$4*PI())/1000*('Gear Ratio Calc'!$C$3/'Gear Ratio Calc'!$D$3) -> 126.8671 | L10: =(($A10*60*('Gear Ratio Calc'!$C$16/'Gear Ratio Calc'!$D$16)*('Gear Ratio Calc'!$C$2)/'Gear Ratio Calc'!$D$2)*'Gear Ratio Calc'!$D$4*PI())/1000*('Gear Ratio Calc'!$C$3/'Gear Ratio Calc'!$D$3) -> 144.6914 | M10: =(($A10*60*('Gear Ratio Calc'!$C$18/'Gear Ratio Calc'!$D$18)*('Gear Ratio Calc'!$C$2)/'Gear Ratio Calc'!$D$2)*'Gear Ratio Calc'!$D$4*PI())/1000*('Gear Ratio Calc'!$C$3/'Gear Ratio Calc'!$D$3) -> 157.89736 | O10: =(D10*1000)/(H10*1000/3600) -> 2660.6241 | P10: =(D10*1000)/(I10*1000/3600) -> 1761.4317 | Q10: =(D10*1000)/(J10*1000/3600) -> 1339.0069 | R10: =(D10*1000)/(K10*1000/3600) -> 1133.2288 | S10: =(D10*1000)/(L10*1000/3600) -> 993.62813 | T10: =(D10*1000)/(M10*1000/3600) -> 910.52468
A11: 10000 | B11: 56.569 | C11: =B11*5252/A11 -> 29.710039 | D11: =B11*0.74569987 -> 42.183496 | H11: =(($A11*60*('Gear Ratio Calc'!$C$8/'Gear Ratio Calc'!$D$8)*('Gear Ratio Calc'!$C$2)/'Gear Ratio Calc'!$D$2)*'Gear Ratio Calc'!$D$4*PI())/1000*('Gear Ratio Calc'!$C$3/'Gear Ratio Calc'!$D$3) -> 56.879985 | I11: =(($A11*60*('Gear Ratio Calc'!$C$10/'Gear Ratio Calc'!$D$10)*('Gear Ratio Calc'!$C$2)/'Gear Ratio Calc'!$D$2)*'Gear Ratio Calc'!$D$4*PI())/1000*('Gear Ratio Calc'!$C$3/'Gear Ratio Calc'!$D$3) -> 85.91662 | J11: =(($A11*60*('Gear Ratio Calc'!$C$12/'Gear Ratio Calc'!$D$12)*('Gear Ratio Calc'!$C$2)/'Gear Ratio Calc'!$D$2)*'Gear Ratio Calc'!$D$4*PI())/1000*('Gear Ratio Calc'!$C$3/'Gear Ratio Calc'!$D$3) -> 113.02127 | K11: =(($A11*60*('Gear Ratio Calc'!$C$14/'Gear Ratio Calc'!$D$14)*('Gear Ratio Calc'!$C$2)/'Gear Ratio Calc'!$D$2)*'Gear Ratio Calc'!$D$4*PI())/1000*('Gear Ratio Calc'!$C$3/'Gear Ratio Calc'!$D$3) -> 133.54431 | L11: =(($A11*60*('Gear Ratio Calc'!$C$16/'Gear Ratio Calc'!$D$16)*('Gear Ratio Calc'!$C$2)/'Gear Ratio Calc'!$D$2)*'Gear Ratio Calc'!$D$4*PI())/1000*('Gear Ratio Calc'!$C$3/'Gear Ratio Calc'!$D$3) -> 152.30674 | M11: =(($A11*60*('Gear Ratio Calc'!$C$18/'Gear Ratio Calc'!$D$18)*('Gear Ratio Calc'!$C$2)/'Gear Ratio Calc'!$D$2)*'Gear Ratio Calc'!$D$4*PI())/1000*('Gear Ratio Calc'!$C$3/'Gear Ratio Calc'!$D$3) -> 166.20775 | O11: =(D11*1000)/(H11*1000/3600) -> 2669.8422 | P11: =(D11*1000)/(I11*1000/3600) -> 1767.5344 | Q11: =(D11*1000)/(J11*1000/3600) -> 1343.6461 | R11: =(D11*1000)/(K11*1000/3600) -> 1137.155 | S11: =(D11*1000)/(L11*1000/3600) -> 997.07071 | T11: =(D11*1000)/(M11*1000/3600) -> 913.67935
A12: 10500 | B12: 60.771 | C12: =B12*5252/A12 -> 30.397075 | D12: =B12*0.74569987 -> 45.316927 | H12: =(($A12*60*('Gear Ratio Calc'!$C$8/'Gear Ratio Calc'!$D$8)*('Gear Ratio Calc'!$C$2)/'Gear Ratio Calc'!$D$2)*'Gear Ratio Calc'!$D$4*PI())/1000*('Gear Ratio Calc'!$C$3/'Gear Ratio Calc'!$D$3) -> 59.723984 | I12: =(($A12*60*('Gear Ratio Calc'!$C$10/'Gear Ratio Calc'!$D$10)*('Gear Ratio Calc'!$C$2)/'Gear Ratio Calc'!$D$2)*'Gear Ratio Calc'!$D$4*PI())/1000*('Gear Ratio Calc'!$C$3/'Gear Ratio Calc'!$D$3) -> 90.212451 | J12: =(($A12*60*('Gear Ratio Calc'!$C$12/'Gear Ratio Calc'!$D$12)*('Gear Ratio Calc'!$C$2)/'Gear Ratio Calc'!$D$2)*'Gear Ratio Calc'!$D$4*PI())/1000*('Gear Ratio Calc'!$C$3/'Gear Ratio Calc'!$D$3) -> 118.67233 | K12: =(($A12*60*('Gear Ratio Calc'!$C$14/'Gear Ratio Calc'!$D$14)*('Gear Ratio Calc'!$C$2)/'Gear Ratio Calc'!$D$2)*'Gear Ratio Calc'!$D$4*PI())/1000*('Gear Ratio Calc'!$C$3/'Gear Ratio Calc'!$D$3) -> 140.22153 | L12: =(($A12*60*('Gear Ratio Calc'!$C$16/'Gear Ratio Calc'!$D$16)*('Gear Ratio Calc'!$C$2)/'Gear Ratio Calc'!$D$2)*'Gear Ratio Calc'!$D$4*PI())/1000*('Gear Ratio Calc'!$C$3/'Gear Ratio Calc'!$D$3) -> 159.92207 | M12: =(($A12*60*('Gear Ratio Calc'!$C$18/'Gear Ratio Calc'!$D$18)*('Gear Ratio Calc'!$C$2)/'Gear Ratio Calc'!$D$2)*'Gear Ratio Calc'!$D$4*PI())/1000*('Gear Ratio Calc'!$C$3/'Gear Ratio Calc'!$D$3) -> 174.51813 | O12: =(D12*1000)/(H12*1000/3600) -> 2731.5816 | P12: =(D12*1000)/(I12*1000/3600) -> 1808.4082 | Q12: =(D12*1000)/(J12*1000/3600) -> 1374.7175 | R12: =(D12*1000)/(K12*1000/3600) -> 1163.4514 | S12: =(D12*1000)/(L12*1000/3600) -> 1020.1277 | T12: =(D12*1000)/(M12*1000/3600) -> 934.80793
A13: 11000 | B13: 64.553 | C13: =B13*5252/A13 -> 30.821123 | D13: =B13*0.74569987 -> 48.137164 | H13: =(($A13*60*('Gear Ratio Calc'!$C$8/'Gear Ratio Calc'!$D$8)*('Gear Ratio Calc'!$C$2)/'Gear Ratio Calc'!$D$2)*'Gear Ratio Calc'!$D$4*PI())/1000*('Gear Ratio Calc'!$C$3/'Gear Ratio Calc'!$D$3) -> 62.567983 | I13: =(($A13*60*('Gear Ratio Calc'!$C$10/'Gear Ratio Calc'!$D$10)*('Gear Ratio Calc'!$C$2)/'Gear Ratio Calc'!$D$2)*'Gear Ratio Calc'!$D$4*PI())/1000*('Gear Ratio Calc'!$C$3/'Gear Ratio Calc'!$D$3) -> 94.508282 | J13: =(($A13*60*('Gear Ratio Calc'!$C$12/'Gear Ratio Calc'!$D$12)*('Gear Ratio Calc'!$C$2)/'Gear Ratio Calc'!$D$2)*'Gear Ratio Calc'!$D$4*PI())/1000*('Gear Ratio Calc'!$C$3/'Gear Ratio Calc'!$D$3) -> 124.32339 | K13: =(($A13*60*('Gear Ratio Calc'!$C$14/'Gear Ratio Calc'!$D$14)*('Gear Ratio Calc'!$C$2)/'Gear Ratio Calc'!$D$2)*'Gear Ratio Calc'!$D$4*PI())/1000*('Gear Ratio Calc'!$C$3/'Gear Ratio Calc'!$D$3) -> 146.89874 | L13: =(($A13*60*('Gear Ratio Calc'!$C$16/'Gear Ratio Calc'!$D$16)*('Gear Ratio Calc'!$C$2)/'Gear Ratio Calc'!$D$2)*'Gear Ratio Calc'!$D$4*PI())/1000*('Gear Ratio Calc'!$C$3/'Gear Ratio Calc'!$D$3) -> 167.53741 | M13: =(($A13*60*('Gear Ratio Calc'!$C$18/'Gear Ratio Calc'!$D$18)*('Gear Ratio Calc'!$C$2)/'Gear Ratio Calc'!$D$2)*'Gear Ratio Calc'!$D$4*PI())/1000*('Gear Ratio Calc'!$C$3/'Gear Ratio Calc'!$D$3) -> 182.82852 | O13: =(D13*1000)/(H13*1000/3600) -> 2769.688 | P13: =(D13*1000)/(I13*1000/3600) -> 1833.636 | Q13: =(D13*1000)/(J13*1000/3600) -> 1393.8953 | R13: =(D13*1000)/(K13*1000/3600) -> 1179.6819 | S13: =(D13*1000)/(L13*1000/3600) -> 1034.3588 | T13: =(D13*1000)/(M13*1000/3600) -> 947.84877
... A16: 12500 | B16: 58.083 | C16: =B16*5252/A16 -> 24.404153 | D16: =B16*0.74569987 -> 43.312486 | H16: =(($A16*60*('Gear Ratio Calc'!$C$8/'Gear Ratio Calc'!$D$8)*('Gear Ratio Calc'!$C$2)/'Gear Ratio Calc'!$D$2)*'Gear Ratio Calc'!$D$4*PI())/1000*('Gear Ratio Calc'!$C$3/'Gear Ratio Calc'!$D$3) -> 71.099981 | I16: =(($A16*60*('Gear Ratio Calc'!$C$10/'Gear Ratio Calc'!$D$10)*('Gear Ratio Calc'!$C$2)/'Gear Ratio Calc'!$D$2)*'Gear Ratio Calc'!$D$4*PI())/1000*('Gear Ratio Calc'!$C$3/'Gear Ratio Calc'!$D$3) -> 107.39577 | J16: =(($A16*60*('Gear Ratio Calc'!$C$12/'Gear Ratio Calc'!$D$12)*('Gear Ratio Calc'!$C$2)/'Gear Ratio Calc'!$D$2)*'Gear Ratio Calc'!$D$4*PI())/1000*('Gear Ratio Calc'!$C$3/'Gear Ratio Calc'!$D$3) -> 141.27658 | K16: =(($A16*60*('Gear Ratio Calc'!$C$14/'Gear Ratio Calc'!$D$14)*('Gear Ratio Calc'!$C$2)/'Gear Ratio Calc'!$D$2)*'Gear Ratio Calc'!$D$4*PI())/1000*('Gear Ratio Calc'!$C$3/'Gear Ratio Calc'!$D$3) -> 166.93039 | L16: =(($A16*60*('Gear Ratio Calc'!$C$16/'Gear Ratio Calc'!$D$16)*('Gear Ratio Calc'!$C$2)/'Gear Ratio Calc'!$D$2)*'Gear Ratio Calc'!$D$4*PI())/1000*('Gear Ratio Calc'!$C$3/'Gear Ratio Calc'!$D$3) -> 190.38342 | M16: =(($A16*60*('Gear Ratio Calc'!$C$18/'Gear Ratio Calc'!$D$18)*('Gear Ratio Calc'!$C$2)/'Gear Ratio Calc'!$D$2)*'Gear Ratio Calc'!$D$4*PI())/1000*('Gear Ratio Calc'!$C$3/'Gear Ratio Calc'!$D$3) -> 207.75968 | O16: =(D16*1000)/(H16*1000/3600) -> 2193.0378 | P16: =(D16*1000)/(I16*1000/3600) -> 1451.8723 | Q16: =(D16*1000)/(J16*1000/3600) -> 1103.6857 | R16: =(D16*1000)/(K16*1000/3600) -> 934.07167 | S16: =(D16*1000)/(L16*1000/3600) -> 819.00487 | T16: =(D16*1000)/(M16*1000/3600) -> 750.50628
B23: Velocty | C23: Drag
B24: 0 | C24: =(0.5*$B$9*$B$4*(B24*1000/3600)^2) -> 0
B25: 1 | C25: =(0.5*$B$9*$B$4*(B25*1000/3600)^2) -> 43.379178
B26: 2 | C26: =(0.5*$B$9*$B$4*(B26*1000/3600)^2) -> 173.51671
B27: 3 | C27: =(0.5*$B$9*$B$4*(B27*1000/3600)^2) -> 390.4126
B28: 4 | C28: =(0.5*$B$9*$B$4*(B28*1000/3600)^2) -> 694.06685
B29: 5 | C29: =(0.5*$B$9*$B$4*(B29*1000/3600)^2) -> 1084.4795
B30: 6 | C30: =(0.5*$B$9*$B$4*(B30*1000/3600)^2) -> 1561.6504
B31: 7 | C31: =(0.5*$B$9*$B$4*(B31*1000/3600)^2) -> 2125.5797
B32: 8 | C32: =(0.5*$B$9*$B$4*(B32*1000/3600)^2) -> 2776.2674
B33: 9 | C33: =(0.5*$B$9*$B$4*(B33*1000/3600)^2) -> 3513.7134
B34: 10 | C34: =(0.5*$B$9*$B$4*(B34*1000/3600)^2) -> 4337.9178
B35: 11 | C35: =(0.5*$B$9*$B$4*(B35*1000/3600)^2) -> 5248.8806
... B248: 224 | C248: =(0.5*$B$9*$B$4*(B248*1000/3600)^2) -> 2176593.6

Sheet RS250 
E3: =B7-(B12+B17) -> 0.699 | O3: RADS | P3: X | Q3: Y | T3: RADS | U3: x | V3: y
A4: FW RAD | B4: 0.285 | E4: =B7-B17 -> 0.811 | N4: 1 | O4: =RADIANS(N4) -> 0.017453293 | P4: =SIN(O4)*$B$4 -> 0.0049739358 | Q4: =COS(O4)*$B$4+$B$4 -> 0.56995659 | S4: 1 | T4: =RADIANS(S4) -> 0.017453293 | U4: =SIN(T4)*$B$5+$B$7 -> 1.355323 | V4: =COS(T4)*$B$5+$B$5 -> 0.60995355 | X4: 1 | Y4: =RADIANS(X4) -> 0.017453293 | Z4: =SIN(Y4)*$B$9+$B$7 -> 1.352007 | AA4: =COS(Y4)*$B$9+$B$5 -> 0.41998248 | AD4: 0 | AE4: =B4 -> 0.285 | AI4: RADS | AJ4: x | AK4: y | AN4: RADS | AO4: x | AP4: y
A5: RW RAD | B5: 0.305 | N5: 2 | O5: =RADIANS(N5) -> 0.034906585 | P5: =SIN(O5)*$B$4 -> 0.0099463566 | Q5: =COS(O5)*$B$4+$B$4 -> 0.56982639 | S5: 2 | T5: =RADIANS(S5) -> 0.034906585 | U5: =SIN(T5)*$B$5+$B$7 -> 1.3606443 | V5: =COS(T5)*$B$5+$B$5 -> 0.6098142 | X5: 2 | Y5: =RADIANS(X5) -> 0.034906585 | Z5: =SIN(Y5)*$B$9+$B$7 -> 1.3540134 | AA5: =COS(Y5)*$B$9+$B$5 -> 0.41992995 | AD5: =B18*SIN(RADIANS('Trail Calc '!D3)) -> 0.26960448 | AE5: =B18*COS(RADIANS('Trail Calc '!D3))+'RS250 '!B4 -> 0.92014835 | AH5: 1 | AI5: =RADIANS(AH5) -> 0.017453293 | AJ5: =SIN(AI5)*0.015+$B$62 -> 0.65307869 | AK5: =COS(AI5)*0.015+$B$63 -> 0.55830459 | AM5: 1 | AN5: =RADIANS(AM5) -> 0.017453293 | AO5: =SIN(AN5)*0.015+$B$64 -> 0.72501184 | AP5: =COS(AN5)*0.015+$B$65 -> 0.72705254
N6: 3 | O6: =RADIANS(N6) -> 0.052359878 | P6: =SIN(O6)*$B$4 -> 0.014915748 | Q6: =COS(O6)*$B$4+$B$4 -> 0.56960942 | S6: 3 | T6: =RADIANS(S6) -> 0.052359878 | U6: =SIN(T6)*$B$5+$B$7 -> 1.3659625 | V6: =COS(T6)*$B$5+$B$5 -> 0.60958201 | X6: 3 | Y6: =RADIANS(X6) -> 0.052359878 | Z6: =SIN(Y6)*$B$9+$B$7 -> 1.3560186 | AA6: =COS(Y6)*$B$9+$B$5 -> 0.4198424 | AH6: 2 | AI6: =RADIANS(AH6) -> 0.034906585 | AJ6: =SIN(AI6)*0.015+$B$62 -> 0.65334039 | AK6: =COS(AI6)*0.015+$B$63 -> 0.55829773 | AM6: 2 | AN6: =RADIANS(AM6) -> 0.034906585 | AO6: =SIN(AN6)*0.015+$B$64 -> 0.72527355 | AP6: =COS(AN6)*0.015+$B$65 -> 0.72704569
A7: Wheelbase | B7: 1.35 | N7: 4 | O7: =RADIANS(N7) -> 0.06981317 | P7: =SIN(O7)*$B$4 -> 0.019880595 | Q7: =COS(O7)*$B$4+$B$4 -> 0.56930575 | S7: 4 | T7: =RADIANS(S7) -> 0.06981317 | U7: =SIN(T7)*$B$5+$B$7 -> 1.3712757 | V7: =COS(T7)*$B$5+$B$5 -> 0.60925704 | X7: 4 | Y7: =RADIANS(X7) -> 0.06981317 | Z7: =SIN(Y7)*$B$9+$B$7 -> 1.358022 | AA7: =COS(Y7)*$B$9+$B$5 -> 0.41971987 | AD7: =E4 -> 0.811 | AE7: =B13 -> 0.41 | AH7: 3 | AI7: =RADIANS(AH7) -> 0.052359878 | AJ7: =SIN(AI7)*0.015+$B$62 -> 0.65360194 | AK7: =COS(AI7)*0.015+$B$63 -> 0.55828631 | AM7: 3 | AN7: =RADIANS(AM7) -> 0.052359878 | AO7: =SIN(AN7)*0.015+$B$64 -> 0.7255351 | AP7: =COS(AN7)*0.015+$B$65 -> 0.72703427
N8: 6 | O8: =RADIANS(N8) -> 0.10471976 | P8: =SIN(O8)*$B$4 -> 0.029790612 | Q8: =COS(O8)*$B$4+$B$4 -> 0.56843874 | S8: 6 | T8: =RADIANS(S8) -> 0.10471976 | U8: =SIN(T8)*$B$5+$B$7 -> 1.3818812 | V8: =COS(T8)*$B$5+$B$5 -> 0.60832918 | X8: 6 | Y8: =RADIANS(X8) -> 0.10471976 | Z8: =SIN(Y8)*$B$9+$B$7 -> 1.3620208 | AA8: =COS(Y8)*$B$9+$B$5 -> 0.41937002 | AD8: =B7 -> 1.35 | AE8: =B5 -> 0.305 | AH8: 4 | AI8: =RADIANS(AH8) -> 0.06981317 | AJ8: =SIN(AI8)*0.015+$B$62 -> 0.65386325 | AK8: =COS(AI8)*0.015+$B$63 -> 0.55827033 | AM8: 4 | AN8: =RADIANS(AM8) -> 0.06981317 | AO8: =SIN(AN8)*0.015+$B$64 -> 0.72579641 | AP8: =COS(AN8)*0.015+$B$65 -> 0.72701828
A9: Rear Sproket Radius | B9: 0.115 | N9: 7 | O9: =RADIANS(N9) -> 0.12217305 | P9: =SIN(O9)*$B$4 -> 0.034732763 | Q9: =COS(O9)*$B$4+$B$4 -> 0.56787565 | S9: 7 | T9: =RADIANS(S9) -> 0.12217305 | U9: =SIN(T9)*$B$5+$B$7 -> 1.3871701 | V9: =COS(T9)*$B$5+$B$5 -> 0.60772658 | X9: 7 | Y9: =RADIANS(X9) -> 0.12217305 | Z9: =SIN(Y9)*$B$9+$B$7 -> 1.364015 | AA9: =COS(Y9)*$B$9+$B$5 -> 0.41914281 | AH9: 6 | AI9: =RADIANS(AH9) -> 0.10471976 | AJ9: =SIN(AI9)*0.015+$B$62 -> 0.65438483 | AK9: =COS(AI9)*0.015+$B$63 -> 0.5582247 | AM9: 6 | AN9: =RADIANS(AM9) -> 0.10471976 | AO9: =SIN(AN9)*0.015+$B$64 -> 0.72631799 | AP9: =COS(AN9)*0.015+$B$65 -> 0.72697265
A10: Front Sproket Radius | B10: 0.036 | N10: 8 | O10: =RADIANS(N10) -> 0.13962634 | P10: =SIN(O10)*$B$4 -> 0.039664334 | Q10: =COS(O10)*$B$4+$B$4 -> 0.5672264 | S10: 8 | T10: =RADIANS(S10) -> 0.13962634 | U10: =SIN(T10)*$B$5+$B$7 -> 1.3924478 | V10: =COS(T10)*$B$5+$B$5 -> 0.60703176 | X10: 8 | Y10: =RADIANS(X10) -> 0.13962634 | Z10: =SIN(Y10)*$B$9+$B$7 -> 1.3660049 | AA10: =COS(Y10)*$B$9+$B$5 -> 0.41888083 | AH10: 7 | AI10: =RADIANS(AH10) -> 0.12217305 | AJ10: =SIN(AI10)*0.015+$B$62 -> 0.65464494 | AK10: =COS(AI10)*0.015+$B$63 -> 0.55819506 | AM10: 7 | AN10: =RADIANS(AM10) -> 0.12217305 | AO10: =SIN(AN10)*0.015+$B$64 -> 0.7265781 | AP10: =COS(AN10)*0.015+$B$65 -> 0.72694302
N11: 9 | O11: =RADIANS(N11) -> 0.15707963 | P11: =SIN(O11)*$B$4 -> 0.044583823 | Q11: =COS(O11)*$B$4+$B$4 -> 0.56649118 | S11: 9 | T11: =RADIANS(S11) -> 0.15707963 | U11: =SIN(T11)*$B$5+$B$7 -> 1.3977125 | V11: =COS(T11)*$B$5+$B$5 -> 0.60624494 | X11: 9 | Y11: =RADIANS(X11) -> 0.15707963 | Z11: =SIN(Y11)*$B$9+$B$7 -> 1.36799 | AA11: =COS(Y11)*$B$9+$B$5 -> 0.41858416 | AD11: RADS | AE11: x | AF11: y | AH11: 8 | AI11: =RADIANS(AH11) -> 0.13962634 | AJ11: =SIN(AI11)*0.015+$B$62 -> 0.6549045 | AK11: =COS(AI11)*0.015+$B$63 -> 0.55816089 | AM11: 8 | AN11: =RADIANS(AM11) -> 0.13962634 | AO11: =SIN(AN11)*0.015+$B$64 -> 0.72683765 | AP11: =COS(AN11)*0.015+$B$65 -> 0.72690885
A12: Distance FS-SP | B12: 0.112 | N12: 10 | O12: =RADIANS(N12) -> 0.17453293 | P12: =SIN(O12)*$B$4 -> 0.049489731 | Q12: =COS(O12)*$B$4+$B$4 -> 0.56567021 | S12: 10 | T12: =RADIANS(S12) -> 0.17453293 | U12: =SIN(T12)*$B$5+$B$7 -> 1.4029627 | V12: =COS(T12)*$B$5+$B$5 -> 0.60536636 | X12: 10 | Y12: =RADIANS(X12) -> 0.17453293 | Z12: =SIN(Y12)*$B$9+$B$7 -> 1.3699695 | AA12: =COS(Y12)*$B$9+$B$5 -> 0.41825289 | AC12: 1 | AD12: =RADIANS(AC12) -> 0.017453293 | AE12: =SIN(AD12)*$B$10+$E$3 -> 0.69962829 | AF12: =COS(AD12)*$B$10+$B$14 -> 0.44099452 | AH12: 9 | AI12: =RADIANS(AH12) -> 0.15707963 | AJ12: =SIN(AI12)*0.015+$B$62 -> 0.65516342 | AK12: =COS(AI12)*0.015+$B$63 -> 0.5581222 | AM12: 9 | AN12: =RADIANS(AM12) -> 0.15707963 | AO12: =SIN(AN12)*0.015+$B$64 -> 0.72709658 | AP12: =COS(AN12)*0.015+$B$65 -> 0.72687015
A13: Distance SP-GRND | B13: 0.41 | N13: 11 | O13: =RADIANS(N13) -> 0.19198622 | P13: =SIN(O13)*$B$4 -> 0.054380564 | Q13: =COS(O13)*$B$4+$B$4 -> 0.56476375 | S13: 11 | T13: =RADIANS(S13) -> 0.19198622 | U13: =SIN(T13)*$B$5+$B$7 -> 1.4081967 | V13: =COS(T13)*$B$5+$B$5 -> 0.60439629 | X13: 11 | Y13: =RADIANS(X13) -> 0.19198622 | Z13: =SIN(Y13)*$B$9+$B$7 -> 1.371943 | AA13: =COS(Y13)*$B$9+$B$5 -> 0.41788713 | AC13: 2 | AD13: =RADIANS(AC13) -> 0.034906585 | AE13: =SIN(AD13)*$B$10+$E$3 -> 0.70025638 | AF13: =COS(AD13)*$B$10+$B$14 -> 0.44097807 | AH13: 10 | AI13: =RADIANS(AH13) -> 0.17453293 | AJ13: =SIN(AI13)*0.015+$B$62 -> 0.65542162 | AK13: =COS(AI13)*0.015+$B$63 -> 0.55807899 | AM13: 10 | AN13: =RADIANS(AM13) -> 0.17453293 | AO13: =SIN(AN13)*0.015+$B$64 -> 0.72735478 | AP13: =COS(AN13)*0.015+$B$65 -> 0.72682694
A14: Distance FS- GRND | B14: 0.405 | N14: 12 | O14: =RADIANS(N14) -> 0.20943951 | P14: =SIN(O14)*$B$4 -> 0.059254832 | Q14: =COS(O14)*$B$4+$B$4 -> 0.56377207 | S14: 12 | T14: =RADIANS(S14) -> 0.20943951 | U14: =SIN(T14)*$B$5+$B$7 -> 1.4134131 | V14: =COS(T14)*$B$5+$B$5 -> 0.60333502 | X14: 12 | Y14: =RADIANS(X14) -> 0.20943951 | Z14: =SIN(Y14)*$B$9+$B$7 -> 1.3739098 | AA14: =COS(Y14)*$B$9+$B$5 -> 0.41748697 | AC14: 3 | AD14: =RADIANS(AC14) -> 0.052359878 | AE14: =SIN(AD14)*$B$10+$E$3 -> 0.70088409 | AF14: =COS(AD14)*$B$10+$B$14 -> 0.44095066 | AH14: 11 | AI14: =RADIANS(AH14) -> 0.19198622 | AJ14: =SIN(AI14)*0.015+$B$62 -> 0.65567904 | AK14: =COS(AI14)*0.015+$B$63 -> 0.55803128 | AM14: 11 | AN14: =RADIANS(AM14) -> 0.19198622 | AO14: =SIN(AN14)*0.015+$B$64 -> 0.72761219 | AP14: =COS(AN14)*0.015+$B$65 -> 0.72677923
N15: 13 | O15: =RADIANS(N15) -> 0.2268928 | P15: =SIN(O15)*$B$4 -> 0.06411105 | Q15: =COS(O15)*$B$4+$B$4 -> 0.56269547 | S15: 13 | T15: =RADIANS(S15) -> 0.2268928 | U15: =SIN(T15)*$B$5+$B$7 -> 1.4186101 | V15: =COS(T15)*$B$5+$B$5 -> 0.60218287 | X15: 13 | Y15: =RADIANS(X15) -> 0.2268928 | Z15: =SIN(Y15)*$B$9+$B$7 -> 1.3758694 | AA15: =COS(Y15)*$B$9+$B$5 -> 0.41705256 | AC15: 4 | AD15: =RADIANS(AC15) -> 0.06981317 | AE15: =SIN(AD15)*$B$10+$E$3 -> 0.70151123 | AF15: =COS(AD15)*$B$10+$B$14 -> 0.44091231 | AH15: 12 | AI15: =RADIANS(AH15) -> 0.20943951 | AJ15: =SIN(AI15)*0.015+$B$62 -> 0.65593558 | AK15: =COS(AI15)*0.015+$B$63 -> 0.55797908 | AM15: 12 | AN15: =RADIANS(AM15) -> 0.20943951 | AO15: =SIN(AN15)*0.015+$B$64 -> 0.72786873 | AP15: =COS(AN15)*0.015+$B$65 -> 0.72672704
A16: Swingarm Length measured | B16: N/A | N16: 14 | O16: =RADIANS(N16) -> 0.2443461 | P16: =SIN(O16)*$B$4 -> 0.06894774 | Q16: =COS(O16)*$B$4+$B$4 -> 0.56153428 | S16: 14 | T16: =RADIANS(S16) -> 0.2443461 | U16: =SIN(T16)*$B$5+$B$7 -> 1.4237862 | V16: =COS(T16)*$B$5+$B$5 -> 0.6009402 | X16: 14 | Y16: =RADIANS(X16) -> 0.2443461 | Z16: =SIN(Y16)*$B$9+$B$7 -> 1.377821 | AA16: =COS(Y16)*$B$9+$B$5 -> 0.41658401 | AC16: 6 | AD16: =RADIANS(AC16) -> 0.10471976 | AE16: =SIN(AD16)*$B$10+$E$3 -> 0.70276302 | AF16: =COS(AD16)*$B$10+$B$14 -> 0.44080279 | AH16: 13 | AI16: =RADIANS(AH16) -> 0.2268928 | AJ16: =SIN(AI16)*0.015+$B$62 -> 0.65619117 | AK16: =COS(AI16)*0.015+$B$63 -> 0.55792242 | AM16: 13 | AN16: =RADIANS(AM16) -> 0.2268928 | AO16: =SIN(AN16)*0.015+$B$64 -> 0.72812432 | AP16: =COS(AN16)*0.015+$B$65 -> 0.72667038
A17: Swingarm Length Calcualted | B17: 0.539 | N17: 15 | O17: =RADIANS(N17) -> 0.26179939 | P17: =SIN(O17)*$B$4 -> 0.073763428 | Q17: =COS(O17)*$B$4+$B$4 -> 0.56028886 | S17: 15 | T17: =RADIANS(S17) -> 0.26179939 | U17: =SIN(T17)*$B$5+$B$7 -> 1.4289398 | V17: =COS(T17)*$B$5+$B$5 -> 0.59960738 | X17: 15 | Y17: =RADIANS(X17) -> 0.26179939 | Z17: =SIN(Y17)*$B$9+$B$7 -> 1.3797642 | AA17: =COS(Y17)*$B$9+$B$5 -> 0.41608147 | AC17: 7 | AD17: =RADIANS(AC17) -> 0.12217305 | AE17: =SIN(AD17)*$B$10+$E$3 -> 0.7033873 | AF17: =COS(AD17)*$B$10+$B$14 -> 0.44073166 | AH17: 14 | AI17: =RADIANS(AH17) -> 0.2443461 | AJ17: =SIN(AI17)*0.015+$B$62 -> 0.65644573 | AK17: =COS(AI17)*0.015+$B$63 -> 0.55786131 | AM17: 14 | AN17: =RADIANS(AM17) -> 0.2443461 | AO17: =SIN(AN17)*0.015+$B$64 -> 0.72837889 | AP17: =COS(AN17)*0.015+$B$65 -> 0.72660926
A18: Fork Lenth | B18: 0.69 | N18: 16 | O18: =RADIANS(N18) -> 0.27925268 | P18: =SIN(O18)*$B$4 -> 0.078556646 | Q18: =COS(O18)*$B$4+$B$4 -> 0.55895958 | S18: 16 | T18: =RADIANS(S18) -> 0.27925268 | U18: =SIN(T18)*$B$5+$B$7 -> 1.4340694 | V18: =COS(T18)*$B$5+$B$5 -> 0.59818482 | X18: 16 | Y18: =RADIANS(X18) -> 0.27925268 | Z18: =SIN(Y18)*$B$9+$B$7 -> 1.3816983 | AA18: =COS(Y18)*$B$9+$B$5 -> 0.4155451 | AC18: 8 | AD18: =RADIANS(AC18) -> 0.13962634 | AE18: =SIN(AD18)*$B$10+$E$3 -> 0.70401023 | AF18: =COS(AD18)*$B$10+$B$14 -> 0.44064965 | AH18: 15 | AI18: =RADIANS(AH18) -> 0.26179939 | AJ18: =SIN(AI18)*0.015+$B$62 -> 0.65669919 | AK18: =COS(AI18)*0.015+$B$63 -> 0.55779576 | AM18: 15 | AN18: =RADIANS(AM18) -> 0.26179939 | AO18: =SIN(AN18)*0.015+$B$64 -> 0.72863234 | AP18: =COS(AN18)*0.015+$B$65 -> 0.72654371
N19: 17 | O19: =RADIANS(N19) -> 0.29670597 | P19: =SIN(O19)*$B$4 -> 0.083325936 | Q19: =COS(O19)*$B$4+$B$4 -> 0.55754686 | S19: 17 | T19: =RADIANS(S19) -> 0.29670597 | U19: =SIN(T19)*$B$5+$B$7 -> 1.4391734 | V19: =COS(T19)*$B$5+$B$5 -> 0.59667295 | X19: 17 | Y19: =RADIANS(X19) -> 0.29670597 | Z19: =SIN(Y19)*$B$9+$B$7 -> 1.3836227 | AA19: =COS(Y19)*$B$9+$B$5 -> 0.41497505 | AC19: 9 | AD19: =RADIANS(AC19) -> 0.15707963 | AE19: =SIN(AD19)*$B$10+$E$3 -> 0.70463164 | AF19: =COS(AD19)*$B$10+$B$14 -> 0.44055678 | AH19: 16 | AI19: =RADIANS(AH19) -> 0.27925268 | AJ19: =SIN(AI19)*0.015+$B$62 -> 0.65695146 | AK19: =COS(AI19)*0.015+$B$63 -> 0.5577258 | AM19: 16 | AN19: =RADIANS(AM19) -> 0.27925268 | AO19: =SIN(AN19)*0.015+$B$64 -> 0.72888462 | AP19: =COS(AN19)*0.015+$B$65 -> 0.72647375
N20: 18 | O20: =RADIANS(N20) -> 0.31415927 | P20: =SIN(O20)*$B$4 -> 0.088069843 | Q20: =COS(O20)*$B$4+$B$4 -> 0.55605111 | S20: 18 | T20: =RADIANS(S20) -> 0.31415927 | U20: =SIN(T20)*$B$5+$B$7 -> 1.4442502 | V20: =COS(T20)*$B$5+$B$5 -> 0.59507224 | X20: 18 | Y20: =RADIANS(X20) -> 0.31415927 | Z20: =SIN(Y20)*$B$9+$B$7 -> 1.385537 | AA20: =COS(Y20)*$B$9+$B$5 -> 0.4143715 | AC20: 10 | AD20: =RADIANS(AC20) -> 0.17453293 | AE20: =SIN(AD20)*$B$10+$E$3 -> 0.70525133 | AF20: =COS(AD20)*$B$10+$B$14 -> 0.44045308 | AH20: 17 | AI20: =RADIANS(AH20) -> 0.29670597 | AJ20: =SIN(AI20)*0.015+$B$62 -> 0.65720248 | AK20: =COS(AI20)*0.015+$B$63 -> 0.55765144 | AM20: 17 | AN20: =RADIANS(AM20) -> 0.29670597 | AO20: =SIN(AN20)*0.015+$B$64 -> 0.72913563 | AP20: =COS(AN20)*0.015+$B$65 -> 0.7263994
N21: 19 | O21: =RADIANS(N21) -> 0.33161256 | P21: =SIN(O21)*$B$4 -> 0.092786924 | Q21: =COS(O21)*$B$4+$B$4 -> 0.55447279 | S21: 19 | T21: =RADIANS(S21) -> 0.33161256 | U21: =SIN(T21)*$B$5+$B$7 -> 1.4492983 | V21: =COS(T21)*$B$5+$B$5 -> 0.59338317 | X21: 19 | Y21: =RADIANS(X21) -> 0.33161256 | Z21: =SIN(Y21)*$B$9+$B$7 -> 1.3874403 | AA21: =COS(Y21)*$B$9+$B$5 -> 0.41373464 | AC21: 11 | AD21: =RADIANS(AC21) -> 0.19198622 | AE21: =SIN(AD21)*$B$10+$E$3 -> 0.70586912 | AF21: =COS(AD21)*$B$10+$B$14 -> 0.44033858 | AH21: 18 | AI21: =RADIANS(AH21) -> 0.31415927 | AJ21: =SIN(AI21)*0.015+$B$62 -> 0.65745216 | AK21: =COS(AI21)*0.015+$B$63 -> 0.55757272 | AM21: 18 | AN21: =RADIANS(AM21) -> 0.31415927 | AO21: =SIN(AN21)*0.015+$B$64 -> 0.72938531 | AP21: =COS(AN21)*0.015+$B$65 -> 0.72632067
N22: 20 | O22: =RADIANS(N22) -> 0.34906585 | P22: =SIN(O22)*$B$4 -> 0.097475741 | Q22: =COS(O22)*$B$4+$B$4 -> 0.5528124 | S22: 20 | T22: =RADIANS(S22) -> 0.34906585 | U22: =SIN(T22)*$B$5+$B$7 -> 1.4543161 | V22: =COS(T22)*$B$5+$B$5 -> 0.59160625 | X22: 20 | Y22: =RADIANS(X22) -> 0.34906585 | Z22: =SIN(Y22)*$B$9+$B$7 -> 1.3893323 | AA22: =COS(Y22)*$B$9+$B$5 -> 0.41306465 | AC22: 12 | AD22: =RADIANS(AC22) -> 0.20943951 | AE22: =SIN(AD22)*$B$10+$E$3 -> 0.70648482 | AF22: =COS(AD22)*$B$10+$B$14 -> 0.44021331 | AH22: 19 | AI22: =RADIANS(AH22) -> 0.33161256 | AJ22: =SIN(AI22)*0.015+$B$62 -> 0.65770042 | AK22: =COS(AI22)*0.015+$B$63 -> 0.55748965 | AM22: 19 | AN22: =RADIANS(AM22) -> 0.33161256 | AO22: =SIN(AN22)*0.015+$B$64 -> 0.72963358 | AP22: =COS(AN22)*0.015+$B$65 -> 0.7262376
N23: 21 | O23: =RADIANS(N23) -> 0.36651914 | P23: =SIN(O23)*$B$4 -> 0.10213487 | Q23: =COS(O23)*$B$4+$B$4 -> 0.55107042 | S23: 21 | T23: =RADIANS(S23) -> 0.36651914 | U23: =SIN(T23)*$B$5+$B$7 -> 1.4593022 | V23: =COS(T23)*$B$5+$B$5 -> 0.58974203 | X23: 21 | Y23: =RADIANS(X23) -> 0.36651914 | Z23: =SIN(Y23)*$B$9+$B$7 -> 1.3912123 | AA23: =COS(Y23)*$B$9+$B$5 -> 0.41236175 | AC23: 13 | AD23: =RADIANS(AC23) -> 0.2268928 | AE23: =SIN(AD23)*$B$10+$E$3 -> 0.70709824 | AF23: =COS(AD23)*$B$10+$B$14 -> 0.44007732 | AH23: 20 | AI23: =RADIANS(AH23) -> 0.34906585 | AJ23: =SIN(AI23)*0.015+$B$62 -> 0.6579472 | AK23: =COS(AI23)*0.015+$B$63 -> 0.55740226 | AM23: 20 | AN23: =RADIANS(AM23) -> 0.34906585 | AO23: =SIN(AN23)*0.015+$B$64 -> 0.72988036 | AP23: =COS(AN23)*0.015+$B$65 -> 0.72615021
N24: 22 | O24: =RADIANS(N24) -> 0.38397244 | P24: =SIN(O24)*$B$4 -> 0.10676288 | Q24: =COS(O24)*$B$4+$B$4 -> 0.5492474 | S24: 22 | T24: =RADIANS(S24) -> 0.38397244 | U24: =SIN(T24)*$B$5+$B$7 -> 1.464255 | V24: =COS(T24)*$B$5+$B$5 -> 0.58779108 | X24: 22 | Y24: =RADIANS(X24) -> 0.38397244 | Z24: =SIN(Y24)*$B$9+$B$7 -> 1.3930798 | AA24: =COS(Y24)*$B$9+$B$5 -> 0.41162614 | AC24: 14 | AD24: =RADIANS(AC24) -> 0.2443461 | AE24: =SIN(AD24)*$B$10+$E$3 -> 0.70770919 | AF24: =COS(AD24)*$B$10+$B$14 -> 0.43993065 | AH24: 21 | AI24: =RADIANS(AH24) -> 0.36651914 | AJ24: =SIN(AI24)*0.015+$B$62 -> 0.65819242 | AK24: =COS(AI24)*0.015+$B$63 -> 0.55731058 | AM24: 21 | AN24: =RADIANS(AM24) -> 0.36651914 | AO24: =SIN(AN24)*0.015+$B$64 -> 0.73012558 | AP24: =COS(AN24)*0.015+$B$65 -> 0.72605853
N25: 23 | O25: =RADIANS(N25) -> 0.40142573 | P25: =SIN(O25)*$B$4 -> 0.11135837 | Q25: =COS(O25)*$B$4+$B$4 -> 0.54734388 | S25: 23 | T25: =RADIANS(S25) -> 0.40142573 | U25: =SIN(T25)*$B$5+$B$7 -> 1.469173 | V25: =COS(T25)*$B$5+$B$5 -> 0.58575398 | X25: 23 | Y25: =RADIANS(X25) -> 0.40142573 | Z25: =SIN(Y25)*$B$9+$B$7 -> 1.3949341 | AA25: =COS(Y25)*$B$9+$B$5 -> 0.41085806 | AC25: 15 | AD25: =RADIANS(AC25) -> 0.26179939 | AE25: =SIN(AD25)*$B$10+$E$3 -> 0.70831749 | AF25: =COS(AD25)*$B$10+$B$14 -> 0.43977333 | AH25: 22 | AI25: =RADIANS(AH25) -> 0.38397244 | AJ25: =SIN(AI25)*0.015+$B$62 -> 0.658436 | AK25: =COS(AI25)*0.015+$B$63 -> 0.55721463 | AM25: 22 | AN25: =RADIANS(AM25) -> 0.38397244 | AO25: =SIN(AN25)*0.015+$B$64 -> 0.73036916 | AP25: =COS(AN25)*0.015+$B$65 -> 0.72596258
N26: 24 | O26: =RADIANS(N26) -> 0.41887902 | P26: =SIN(O26)*$B$4 -> 0.11591994 | Q26: =COS(O26)*$B$4+$B$4 -> 0.54536046 | S26: 24 | T26: =RADIANS(S26) -> 0.41887902 | U26: =SIN(T26)*$B$5+$B$7 -> 1.4740547 | V26: =COS(T26)*$B$5+$B$5 -> 0.58363136 | X26: 24 | Y26: =RADIANS(X26) -> 0.41887902 | Z26: =SIN(Y26)*$B$9+$B$7 -> 1.3967747 | AA26: =COS(Y26)*$B$9+$B$5 -> 0.41005773 | AC26: 16 | AD26: =RADIANS(AC26) -> 0.27925268 | AE26: =SIN(AD26)*$B$10+$E$3 -> 0.70892294 | AF26: =COS(AD26)*$B$10+$B$14 -> 0.43960542 | AH26: 23 | AI26: =RADIANS(AH26) -> 0.40142573 | AJ26: =SIN(AI26)*0.015+$B$62 -> 0.65867787 | AK26: =COS(AI26)*0.015+$B$63 -> 0.55711444 | AM26: 23 | AN26: =RADIANS(AM26) -> 0.40142573 | AO26: =SIN(AN26)*0.015+$B$64 -> 0.73061103 | AP26: =COS(AN26)*0.015+$B$65 -> 0.7258624
N27: 25 | O27: =RADIANS(N27) -> 0.43633231 | P27: =SIN(O27)*$B$4 -> 0.1204462 | Q27: =COS(O27)*$B$4+$B$4 -> 0.54329772 | S27: 25 | T27: =RADIANS(S27) -> 0.43633231 | U27: =SIN(T27)*$B$5+$B$7 -> 1.4788986 | V27: =COS(T27)*$B$5+$B$5 -> 0.58142388 | X27: 25 | Y27: =RADIANS(X27) -> 0.43633231 | Z27: =SIN(Y27)*$B$9+$B$7 -> 1.3986011 | AA27: =COS(Y27)*$B$9+$B$5 -> 0.4092254 | AC27: 17 | AD27: =RADIANS(AC27) -> 0.29670597 | AE27: =SIN(AD27)*$B$10+$E$3 -> 0.70952538 | AF27: =COS(AD27)*$B$10+$B$14 -> 0.43942697 | AH27: 24 | AI27: =RADIANS(AH27) -> 0.41887902 | AJ27: =SIN(AI27)*0.015+$B$62 -> 0.65891795 | AK27: =COS(AI27)*0.015+$B$63 -> 0.55701005 | AM27: 24 | AN27: =RADIANS(AM27) -> 0.41887902 | AO27: =SIN(AN27)*0.015+$B$64 -> 0.73085111 | AP27: =COS(AN27)*0.015+$B$65 -> 0.72575801
N28: 26 | O28: =RADIANS(N28) -> 0.45378561 | P28: =SIN(O28)*$B$4 -> 0.12493578 | Q28: =COS(O28)*$B$4+$B$4 -> 0.5411563 | S28: 26 | T28: =RADIANS(S28) -> 0.45378561 | U28: =SIN(T28)*$B$5+$B$7 -> 1.4837032 | V28: =COS(T28)*$B$5+$B$5 -> 0.57913218 | X28: 26 | Y28: =RADIANS(X28) -> 0.45378561 | Z28: =SIN(Y28)*$B$9+$B$7 -> 1.4004127 | AA28: =COS(Y28)*$B$9+$B$5 -> 0.40836132 | AC28: 18 | AD28: =RADIANS(AC28) -> 0.31415927 | AE28: =SIN(AD28)*$B$10+$E$3 -> 0.71012461 | AF28: =COS(AD28)*$B$10+$B$14 -> 0.43923803 | AH28: 25 | AI28: =RADIANS(AH28) -> 0.43633231 | AJ28: =SIN(AI28)*0.015+$B$62 -> 0.65915618 | AK28: =COS(AI28)*0.015+$B$63 -> 0.55690149 | AM28: 25 | AN28: =RADIANS(AM28) -> 0.43633231 | AO28: =SIN(AN28)*0.015+$B$64 -> 0.73108933 | AP28: =COS(AN28)*0.015+$B$65 -> 0.72564944
N29: 27 | O29: =RADIANS(N29) -> 0.4712389 | P29: =SIN(O29)*$B$4 -> 0.12938729 | Q29: =COS(O29)*$B$4+$B$4 -> 0.53893686 | S29: 27 | T29: =RADIANS(S29) -> 0.4712389 | U29: =SIN(T29)*$B$5+$B$7 -> 1.4884671 | V29: =COS(T29)*$B$5+$B$5 -> 0.57675699 | X29: 27 | Y29: =RADIANS(X29) -> 0.4712389 | Z29: =SIN(Y29)*$B$9+$B$7 -> 1.4022089 | AA29: =COS(Y29)*$B$9+$B$5 -> 0.40746575 | AC29: 19 | AD29: =RADIANS(AC29) -> 0.33161256 | AE29: =SIN(AD29)*$B$10+$E$3 -> 0.71072045 | AF29: =COS(AD29)*$B$10+$B$14 -> 0.43903867 | AH29: 26 | AI29: =RADIANS(AH29) -> 0.45378561 | AJ29: =SIN(AI29)*0.015+$B$62 -> 0.65939247 | AK29: =COS(AI29)*0.015+$B$63 -> 0.55678878 | AM29: 26 | AN29: =RADIANS(AM29) -> 0.45378561 | AO29: =SIN(AN29)*0.015+$B$64 -> 0.73132563 | AP29: =COS(AN29)*0.015+$B$65 -> 0.72553673
N30: 28 | O30: =RADIANS(N30) -> 0.48869219 | P30: =SIN(O30)*$B$4 -> 0.1337994 | Q30: =COS(O30)*$B$4+$B$4 -> 0.53664006 | S30: 28 | T30: =RADIANS(S30) -> 0.48869219 | U30: =SIN(T30)*$B$5+$B$7 -> 1.4931888 | V30: =COS(T30)*$B$5+$B$5 -> 0.57429902 | X30: 28 | Y30: =RADIANS(X30) -> 0.48869219 | Z30: =SIN(Y30)*$B$9+$B$7 -> 1.4039892 | AA30: =COS(Y30)*$B$9+$B$5 -> 0.40653897 | AC30: 20 | AD30: =RADIANS(AC30) -> 0.34906585 | AE30: =SIN(AD30)*$B$10+$E$3 -> 0.71131273 | AF30: =COS(AD30)*$B$10+$B$14 -> 0.43882893 | AH30: 27 | AI30: =RADIANS(AH30) -> 0.4712389 | AJ30: =SIN(AI30)*0.015+$B$62 -> 0.65962676 | AK30: =COS(AI30)*0.015+$B$63 -> 0.55667197 | AM30: 27 | AN30: =RADIANS(AM30) -> 0.4712389 | AO30: =SIN(AN30)*0.015+$B$64 -> 0.73155992 | AP30: =COS(AN30)*0.015+$B$65 -> 0.72541992
... N50: 48 | O50: =RADIANS(N50) -> 0.83775804 | P50: =SIN(O50)*$B$4 -> 0.21179628 | Q50: =COS(O50)*$B$4+$B$4 -> 0.47570222 | S50: 48 | T50: =RADIANS(S50) -> 0.83775804 | U50: =SIN(T50)*$B$5+$B$7 -> 1.5766592 | V50: =COS(T50)*$B$5+$B$5 -> 0.50908483 | X50: 48 | Y50: =RADIANS(X50) -> 0.83775804 | Z50: =SIN(Y50)*$B$9+$B$7 -> 1.4354617 | AA50: =COS(Y50)*$B$9+$B$5 -> 0.38195002 | AC50: 40 | AD50: =RADIANS(AC50) -> 0.6981317 | AE50: =SIN(AD50)*$B$10+$E$3 -> 0.72214035 | AF50: =COS(AD50)*$B$10+$B$14 -> 0.4325776 | AH50: 47 | AI50: =RADIANS(AH50) -> 0.82030475 | AJ50: =SIN(AI50)*0.015+$B$62 -> 0.66378721 | AK50: =COS(AI50)*0.015+$B$63 -> 0.55353685 | AM50: 47 | AN50: =RADIANS(AM50) -> 0.82030475 | AO50: =SIN(AN50)*0.015+$B$64 -> 0.73572036 | AP50: =COS(AN50)*0.015+$B$65 -> 0.7222848
B51: Level | C51: Level w/rider | D51: Lifted | E51: Lifted w/rider | N51: 49 | O51: =RADIANS(N51) -> 0.85521133 | P51: =SIN(O51)*$B$4 -> 0.21509223 | Q51: =COS(O51)*$B$4+$B$4 -> 0.47197682 | S51: 49 | T51: =RADIANS(S51) -> 0.85521133 | U51: =SIN(T51)*$B$5+$B$7 -> 1.5801864 | V51: =COS(T51)*$B$5+$B$5 -> 0.505098 | X51: 49 | Y51: =RADIANS(X51) -> 0.85521133 | Z51: =SIN(Y51)*$B$9+$B$7 -> 1.4367916 | AA51: =COS(Y51)*$B$9+$B$5 -> 0.38044679 | AC51: 41 | AD51: =RADIANS(AC51) -> 0.71558499 | AE51: =SIN(AD51)*$B$10+$E$3 -> 0.72261813 | AF51: =COS(AD51)*$B$10+$B$14 -> 0.43216954 | AH51: 48 | AI51: =RADIANS(AH51) -> 0.83775804 | AJ51: =SIN(AI51)*0.015+$B$62 -> 0.66396407 | AK51: =COS(AI51)*0.015+$B$63 -> 0.55334383 | AM51: 48 | AN51: =RADIANS(AM51) -> 0.83775804 | AO51: =SIN(AN51)*0.015+$B$64 -> 0.73589723 | AP51: =COS(AN51)*0.015+$B$65 -> 0.72209178
A52: Front Wheel (kg) | B52: 71.5 | C52: 99.1 | D52: 79.35 | E52: 119.7 | N52: 50 | O52: =RADIANS(N52) -> 0.87266463 | P52: =SIN(O52)*$B$4 -> 0.21832267 | Q52: =COS(O52)*$B$4+$B$4 -> 0.46819447 | S52: 50 | T52: =RADIANS(S52) -> 0.87266463 | U52: =SIN(T52)*$B$5+$B$7 -> 1.5836436 | V52: =COS(T52)*$B$5+$B$5 -> 0.50105022 | X52: 50 | Y52: =RADIANS(X52) -> 0.87266463 | Z52: =SIN(Y52)*$B$9+$B$7 -> 1.4380951 | AA52: =COS(Y52)*$B$9+$B$5 -> 0.37892058 | AC52: 42 | AD52: =RADIANS(AC52) -> 0.73303829 | AE52: =SIN(AD52)*$B$10+$E$3 -> 0.7230887 | AF52: =COS(AD52)*$B$10+$B$14 -> 0.43175321 | AH52: 49 | AI52: =RADIANS(AH52) -> 0.85521133 | AJ52: =SIN(AI52)*0.015+$B$62 -> 0.66413755 | AK52: =COS(AI52)*0.015+$B$63 -> 0.55314776 | AM52: 49 | AN52: =RADIANS(AM52) -> 0.85521133 | AO52: =SIN(AN52)*0.015+$B$64 -> 0.7360707 | AP52: =COS(AN52)*0.015+$B$65 -> 0.72189571
A53: Rear wheel (kg) | B53: 66.95 | C53: 115.45 | D53: 59.05 | E53: 94.84 | N53: 51 | O53: =RADIANS(N53) -> 0.89011792 | P53: =SIN(O53)*$B$4 -> 0.2214866 | Q53: =COS(O53)*$B$4+$B$4 -> 0.46435631 | S53: 51 | T53: =RADIANS(S53) -> 0.89011792 | U53: =SIN(T53)*$B$5+$B$7 -> 1.5870295 | V53: =COS(T53)*$B$5+$B$5 -> 0.49694272 | X53: 51 | Y53: =RADIANS(X53) -> 0.89011792 | Z53: =SIN(Y53)*$B$9+$B$7 -> 1.4393718 | AA53: =COS(Y53)*$B$9+$B$5 -> 0.37737184 | AC53: 43 | AD53: =RADIANS(AC53) -> 0.75049158 | AE53: =SIN(AD53)*$B$10+$E$3 -> 0.72355194 | AF53: =COS(AD53)*$B$10+$B$14 -> 0.43132873 | AH53: 50 | AI53: =RADIANS(AH53) -> 0.87266463 | AJ53: =SIN(AI53)*0.015+$B$62 -> 0.66430757 | AK53: =COS(AI53)*0.015+$B$63 -> 0.55294868 | AM53: 50 | AN53: =RADIANS(AM53) -> 0.87266463 | AO53: =SIN(AN53)*0.015+$B$64 -> 0.73624072 | AP53: =COS(AN53)*0.015+$B$65 -> 0.72169664
N54: 52 | O54: =RADIANS(N54) -> 0.90757121 | P54: =SIN(O54)*$B$4 -> 0.22458306 | Q54: =COS(O54)*$B$4+$B$4 -> 0.46046352 | S54: 52 | T54: =RADIANS(S54) -> 0.90757121 | U54: =SIN(T54)*$B$5+$B$7 -> 1.5903433 | V54: =COS(T54)*$B$5+$B$5 -> 0.49277675 | X54: 52 | Y54: =RADIANS(X54) -> 0.90757121 | Z54: =SIN(Y54)*$B$9+$B$7 -> 1.4406212 | AA54: =COS(Y54)*$B$9+$B$5 -> 0.37580107 | AC54: 44 | AD54: =RADIANS(AC54) -> 0.76794487 | AE54: =SIN(AD54)*$B$10+$E$3 -> 0.7240077 | AF54: =COS(AD54)*$B$10+$B$14 -> 0.43089623 | AH54: 51 | AI54: =RADIANS(AH54) -> 0.89011792 | AJ54: =SIN(AI54)*0.015+$B$62 -> 0.66447409 | AK54: =COS(AI54)*0.015+$B$63 -> 0.55274668 | AM54: 51 | AN54: =RADIANS(AM54) -> 0.89011792 | AO54: =SIN(AN54)*0.015+$B$64 -> 0.73640725 | AP54: =COS(AN54)*0.015+$B$65 -> 0.72149463
A55: Wheelbase | B55: 1.35 | D55: weight of bike | E55: =SUM(B52+B53) -> 138.45 | N55: 53 | O55: =RADIANS(N55) -> 0.9250245 | P55: =SIN(O55)*$B$4 -> 0.22761112 | Q55: =COS(O55)*$B$4+$B$4 -> 0.45651728 | S55: 53 | T55: =RADIANS(S55) -> 0.9250245 | U55: =SIN(T55)*$B$5+$B$7 -> 1.5935838 | V55: =COS(T55)*$B$5+$B$5 -> 0.48855358 | X55: 53 | Y55: =RADIANS(X55) -> 0.9250245 | Z55: =SIN(Y55)*$B$9+$B$7 -> 1.4418431 | AA55: =COS(Y55)*$B$9+$B$5 -> 0.37420873 | AC55: 45 | AD55: =RADIANS(AC55) -> 0.78539816 | AE55: =SIN(AD55)*$B$10+$E$3 -> 0.72445584 | AF55: =COS(AD55)*$B$10+$B$14 -> 0.43045584 | AH55: 52 | AI55: =RADIANS(AH55) -> 0.90757121 | AJ55: =SIN(AI55)*0.015+$B$62 -> 0.66463706 | AK55: =COS(AI55)*0.015+$B$63 -> 0.55254179 | AM55: 52 | AN55: =RADIANS(AM55) -> 0.90757121 | AO55: =SIN(AN55)*0.015+$B$64 -> 0.73657022 | AP55: =COS(AN55)*0.015+$B$65 -> 0.72128975
A56: Rw RAD | B56: 0.305 | D56: Rider weight | E56: 76.6 | N56: 54 | O56: =RADIANS(N56) -> 0.9424778 | P56: =SIN(O56)*$B$4 -> 0.23056984 | Q56: =COS(O56)*$B$4+$B$4 -> 0.4525188 | S56: 54 | T56: =RADIANS(S56) -> 0.9424778 | U56: =SIN(T56)*$B$5+$B$7 -> 1.5967502 | V56: =COS(T56)*$B$5+$B$5 -> 0.4842745 | X56: 54 | Y56: =RADIANS(X56) -> 0.9424778 | Z56: =SIN(Y56)*$B$9+$B$7 -> 1.443037 | AA56: =COS(Y56)*$B$9+$B$5 -> 0.3725953 | AC56: 46 | AD56: =RADIANS(AC56) -> 0.80285146 | AE56: =SIN(AD56)*$B$10+$E$3 -> 0.72489623 | AF56: =COS(AD56)*$B$10+$B$14 -> 0.4300077 | AH56: 53 | AI56: =RADIANS(AH56) -> 0.9250245 | AJ56: =SIN(AI56)*0.015+$B$62 -> 0.66479643 | AK56: =COS(AI56)*0.015+$B$63 -> 0.5523341 | AM56: 53 | AN56: =RADIANS(AM56) -> 0.9250245 | AO56: =SIN(AN56)*0.015+$B$64 -> 0.73672959 | AP56: =COS(AN56)*0.015+$B$65 -> 0.72108205
A57: Fw RAD | B57: 0.285 | D57: Total weight | E57: =SUM(E55+E56) -> 215.05 | N57: 55 | O57: =RADIANS(N57) -> 0.95993109 | P57: =SIN(O57)*$B$4 -> 0.23345833 | Q57: =COS(O57)*$B$4+$B$4 -> 0.44846928 | S57: 55 | T57: =RADIANS(S57) -> 0.95993109 | U57: =SIN(T57)*$B$5+$B$7 -> 1.5998414 | V57: =COS(T57)*$B$5+$B$5 -> 0.47994081 | X57: 55 | Y57: =RADIANS(X57) -> 0.95993109 | Z57: =SIN(Y57)*$B$9+$B$7 -> 1.4442025 | AA57: =COS(Y57)*$B$9+$B$5 -> 0.37096129 | AC57: 47 | AD57: =RADIANS(AC57) -> 0.82030475 | AE57: =SIN(AD57)*$B$10+$E$3 -> 0.72532873 | AF57: =COS(AD57)*$B$10+$B$14 -> 0.42955194 | AH57: 54 | AI57: =RADIANS(AH57) -> 0.9424778 | AJ57: =SIN(AI57)*0.015+$B$62 -> 0.66495216 | AK57: =COS(AI57)*0.015+$B$63 -> 0.55212365 | AM57: 54 | AN57: =RADIANS(AM57) -> 0.9424778 | AO57: =SIN(AN57)*0.015+$B$64 -> 0.73688531 | AP57: =COS(AN57)*0.015+$B$65 -> 0.7208716
A58: RAV | B58: =SUM((B57+B56)/2) -> 0.295 | N58: 56 | O58: =RADIANS(N58) -> 0.97738438 | P58: =SIN(O58)*$B$4 -> 0.23627571 | Q58: =COS(O58)*$B$4+$B$4 -> 0.44436998 | S58: 56 | T58: =RADIANS(S58) -> 0.97738438 | U58: =SIN(T58)*$B$5+$B$7 -> 1.6028565 | V58: =COS(T58)*$B$5+$B$5 -> 0.47555384 | X58: 56 | Y58: =RADIANS(X58) -> 0.97738438 | Z58: =SIN(Y58)*$B$9+$B$7 -> 1.4453393 | AA58: =COS(Y58)*$B$9+$B$5 -> 0.36930718 | AC58: 48 | AD58: =RADIANS(AC58) -> 0.83775804 | AE58: =SIN(AD58)*$B$10+$E$3 -> 0.72575321 | AF58: =COS(AD58)*$B$10+$B$14 -> 0.4290887 | AH58: 55 | AI58: =RADIANS(AH58) -> 0.95993109 | AJ58: =SIN(AI58)*0.015+$B$62 -> 0.66510418 | AK58: =COS(AI58)*0.015+$B$63 -> 0.55191052 | AM58: 55 | AN58: =RADIANS(AM58) -> 0.95993109 | AO58: =SIN(AN58)*0.015+$B$64 -> 0.73703734 | AP58: =COS(AN58)*0.015+$B$65 -> 0.72065847
A59: Stool height | B59: 0.4 | D59: Stool weight | E59: 0 | N59: 57 | O59: =RADIANS(N59) -> 0.99483767 | P59: =SIN(O59)*$B$4 -> 0.23902111 | Q59: =COS(O59)*$B$4+$B$4 -> 0.44022212 | S59: 57 | T59: =RADIANS(S59) -> 0.99483767 | U59: =SIN(T59)*$B$5+$B$7 -> 1.6057945 | V59: =COS(T59)*$B$5+$B$5 -> 0.47111491 | X59: 57 | Y59: =RADIANS(X59) -> 0.99483767 | Z59: =SIN(Y59)*$B$9+$B$7 -> 1.4464471 | AA59: =COS(Y59)*$B$9+$B$5 -> 0.36763349 | AC59: 49 | AD59: =RADIANS(AC59) -> 0.85521133 | AE59: =SIN(AD59)*$B$10+$E$3 -> 0.72616954 | AF59: =COS(AD59)*$B$10+$B$14 -> 0.42861813 | AH59: 56 | AI59: =RADIANS(AH59) -> 0.97738438 | AJ59: =SIN(AI59)*0.015+$B$62 -> 0.66525246 | AK59: =COS(AI59)*0.015+$B$63 -> 0.55169476 | AM59: 56 | AN59: =RADIANS(AM59) -> 0.97738438 | AO59: =SIN(AN59)*0.015+$B$64 -> 0.73718562 | AP59: =COS(AN59)*0.015+$B$65 -> 0.72044272
A60: Lifted angle (deg) | B60: =DEGREES(ASIN(B59/B55)) -> 17.235285 | N60: 58 | O60: =RADIANS(N60) -> 1.012291 | P60: =SIN(O60)*$B$4 -> 0.24169371 | Q60: =COS(O60)*$B$4+$B$4 -> 0.43602699 | S60: 58 | T60: =RADIANS(S60) -> 1.012291 | U60: =SIN(T60)*$B$5+$B$7 -> 1.6086547 | V60: =COS(T60)*$B$5+$B$5 -> 0.46662538 | X60: 58 | Y60: =RADIANS(X60) -> 1.012291 | Z60: =SIN(Y60)*$B$9+$B$7 -> 1.4475255 | AA60: =COS(Y60)*$B$9+$B$5 -> 0.36594072 | AC60: 50 | AD60: =RADIANS(AC60) -> 0.87266463 | AE60: =SIN(AD60)*$B$10+$E$3 -> 0.7265776 | AF60: =COS(AD60)*$B$10+$B$14 -> 0.42814035 | AH60: 57 | AI60: =RADIANS(AH60) -> 0.99483767 | AJ60: =SIN(AI60)*0.015+$B$62 -> 0.66539696 | AK60: =COS(AI60)*0.015+$B$63 -> 0.55147646 | AM60: 57 | AN60: =RADIANS(AM60) -> 0.99483767 | AO60: =SIN(AN60)*0.015+$B$64 -> 0.73733012 | AP60: =COS(AN60)*0.015+$B$65 -> 0.72022441
N61: 59 | O61: =RADIANS(N61) -> 1.0297443 | P61: =SIN(O61)*$B$4 -> 0.24429268 | Q61: =COS(O61)*$B$4+$B$4 -> 0.43178585 | S61: 59 | T61: =RADIANS(S61) -> 1.0297443 | U61: =SIN(T61)*$B$5+$B$7 -> 1.611436 | V61: =COS(T61)*$B$5+$B$5 -> 0.46208661 | X61: 59 | Y61: =RADIANS(X61) -> 1.0297443 | Z61: =SIN(Y61)*$B$9+$B$7 -> 1.4485742 | AA61: =COS(Y61)*$B$9+$B$5 -> 0.36422938 | AC61: 51 | AD61: =RADIANS(AC61) -> 0.89011792 | AE61: =SIN(AD61)*$B$10+$E$3 -> 0.72697725 | AF61: =COS(AD61)*$B$10+$B$14 -> 0.42765553 | AH61: 58 | AI61: =RADIANS(AH61) -> 1.012291 | AJ61: =SIN(AI61)*0.015+$B$62 -> 0.66553762 | AK61: =COS(AI61)*0.015+$B$63 -> 0.55125566 | AM61: 58 | AN61: =RADIANS(AM61) -> 1.012291 | AO61: =SIN(AN61)*0.015+$B$64 -> 0.73747078 | AP61: =COS(AN61)*0.015+$B$65 -> 0.72000361
A62: XcoG | B62: =(B53*B55)/E55 -> 0.6528169 | D62: %Front | E62: =(B52/E55)*100 -> 51.643192 | N62: 60 | O62: =RADIANS(N62) -> 1.0471976 | P62: =SIN(O62)*$B$4 -> 0.24681724 | Q62: =COS(O62)*$B$4+$B$4 -> 0.4275 | S62: 60 | T62: =RADIANS(S62) -> 1.0471976 | U62: =SIN(T62)*$B$5+$B$7 -> 1.6141377 | V62: =COS(T62)*$B$5+$B$5 -> 0.4575 | X62: 60 | Y62: =RADIANS(X62) -> 1.0471976 | Z62: =SIN(Y62)*$B$9+$B$7 -> 1.4495929 | AA62: =COS(Y62)*$B$9+$B$5 -> 0.3625 | AC62: 52 | AD62: =RADIANS(AC62) -> 0.90757121 | AE62: =SIN(AD62)*$B$10+$E$3 -> 0.72736839 | AF62: =COS(AD62)*$B$10+$B$14 -> 0.42716381 | AH62: 59 | AI62: =RADIANS(AH62) -> 1.0297443 | AJ62: =SIN(AI62)*0.015+$B$62 -> 0.66567441 | AK62: =COS(AI62)*0.015+$B$63 -> 0.55103244 | AM62: 59 | AN62: =RADIANS(AM62) -> 1.0297443 | AO62: =SIN(AN62)*0.015+$B$64 -> 0.73760757 | AP62: =COS(AN62)*0.015+$B$65 -> 0.7197804
A63: YcoG | B63: =(B55*(B53-D53))/(E55*TAN(RADIANS(B60)))+B58 -> 0.54330687 | D63: %Rear | E63: =(B53/E55)*100 -> 48.356808 | N63: 61 | O63: =RADIANS(N63) -> 1.0646508 | P63: =SIN(O63)*$B$4 -> 0.24926662 | Q63: =COS(O63)*$B$4+$B$4 -> 0.42317074 | S63: 61 | T63: =RADIANS(S63) -> 1.0646508 | U63: =SIN(T63)*$B$5+$B$7 -> 1.616759 | V63: =COS(T63)*$B$5+$B$5 -> 0.45286693 | X63: 61 | Y63: =RADIANS(X63) -> 1.0646508 | Z63: =SIN(Y63)*$B$9+$B$7 -> 1.4505813 | AA63: =COS(Y63)*$B$9+$B$5 -> 0.36075311 | AC63: 53 | AD63: =RADIANS(AC63) -> 0.9250245 | AE63: =SIN(AD63)*$B$10+$E$3 -> 0.72775088 | AF63: =COS(AD63)*$B$10+$B$14 -> 0.42666534 | AH63: 60 | AI63: =RADIANS(AH63) -> 1.0471976 | AJ63: =SIN(AI63)*0.015+$B$62 -> 0.66580728 | AK63: =COS(AI63)*0.015+$B$63 -> 0.55080687 | AM63: 60 | AN63: =RADIANS(AM63) -> 1.0471976 | AO63: =SIN(AN63)*0.015+$B$64 -> 0.73774044 | AP63: =COS(AN63)*0.015+$B$65 -> 0.71955482
A64: XcoG W/rider | B64: =(C53*B55)/E57 -> 0.72475006 | D64: %Front W/rider | E64: =((B55-B64)/B55)*100 -> 46.314811 | N64: 62 | O64: =RADIANS(N64) -> 1.0821041 | P64: =SIN(O64)*$B$4 -> 0.25164006 | Q64: =COS(O64)*$B$4+$B$4 -> 0.4187994 | S64: 62 | T64: =RADIANS(S64) -> 1.0821041 | U64: =SIN(T64)*$B$5+$B$7 -> 1.619299 | V64: =COS(T64)*$B$5+$B$5 -> 0.44818883 | X64: 62 | Y64: =RADIANS(X64) -> 1.0821041 | Z64: =SIN(Y64)*$B$9+$B$7 -> 1.451539 | AA64: =COS(Y64)*$B$9+$B$5 -> 0.35898923 | AC64: 54 | AD64: =RADIANS(AC64) -> 0.9424778 | AE64: =SIN(AD64)*$B$10+$E$3 -> 0.72812461 | AF64: =COS(AD64)*$B$10+$B$14 -> 0.42616027 | AH64: 61 | AI64: =RADIANS(AH64) -> 1.0646508 | AJ64: =SIN(AI64)*0.015+$B$62 -> 0.6659362 | AK64: =COS(AI64)*0.015+$B$63 -> 0.55057901 | AM64: 61 | AN64: =RADIANS(AM64) -> 1.0646508 | AO64: =SIN(AN64)*0.015+$B$64 -> 0.73786935 | AP64: =COS(AN64)*0.015+$B$65 -> 0.71932697
A65: YcoG W/rider | B65: =(B55*(C53-E53))/(E57*TAN(RADIANS(B60)))+B58 -> 0.71205482 | D65: %Rear W/rider | E65: =(B64/B55)*100 -> 53.685189 | N65: 63 | O65: =RADIANS(N65) -> 1.0995574 | P65: =SIN(O65)*$B$4 -> 0.25393686 | Q65: =COS(O65)*$B$4+$B$4 -> 0.41438729 | S65: 63 | T65: =RADIANS(S65) -> 1.0995574 | U65: =SIN(T65)*$B$5+$B$7 -> 1.621757 | V65: =COS(T65)*$B$5+$B$5 -> 0.4434671 | X65: 63 | Y65: =RADIANS(X65) -> 1.0995574 | Z65: =SIN(Y65)*$B$9+$B$7 -> 1.4524658 | AA65: =COS(Y65)*$B$9+$B$5 -> 0.35720891 | AC65: 55 | AD65: =RADIANS(AC65) -> 0.95993109 | AE65: =SIN(AD65)*$B$10+$E$3 -> 0.72848947 | AF65: =COS(AD65)*$B$10+$B$14 -> 0.42564875 | AH65: 62 | AI65: =RADIANS(AH65) -> 1.0821041 | AJ65: =SIN(AI65)*0.015+$B$62 -> 0.66606112 | AK65: =COS(AI65)*0.015+$B$63 -> 0.55034894 | AM65: 62 | AN65: =RADIANS(AM65) -> 1.0821041 | AO65: =SIN(AN65)*0.015+$B$64 -> 0.73799427 | AP65: =COS(AN65)*0.015+$B$65 -> 0.7190969
N66: 64 | O66: =RADIANS(N66) -> 1.1170107 | P66: =SIN(O66)*$B$4 -> 0.2561563 | Q66: =COS(O66)*$B$4+$B$4 -> 0.40993578 | S66: 64 | T66: =RADIANS(S66) -> 1.1170107 | U66: =SIN(T66)*$B$5+$B$7 -> 1.6241322 | V66: =COS(T66)*$B$5+$B$5 -> 0.4387032 | X66: 64 | Y66: =RADIANS(X66) -> 1.1170107 | Z66: =SIN(Y66)*$B$9+$B$7 -> 1.4533613 | AA66: =COS(Y66)*$B$9+$B$5 -> 0.35541268 | AC66: 56 | AD66: =RADIANS(AC66) -> 0.97738438 | AE66: =SIN(AD66)*$B$10+$E$3 -> 0.72884535 | AF66: =COS(AD66)*$B$10+$B$14 -> 0.42513094 | AH66: 63 | AI66: =RADIANS(AH66) -> 1.0995574 | AJ66: =SIN(AI66)*0.015+$B$62 -> 0.666182 | AK66: =COS(AI66)*0.015+$B$63 -> 0.55011673 | AM66: 63 | AN66: =RADIANS(AM66) -> 1.0995574 | AO66: =SIN(AN66)*0.015+$B$64 -> 0.73811516 | AP66: =COS(AN66)*0.015+$B$65 -> 0.71886468
N67: 65 | O67: =RADIANS(N67) -> 1.134464 | P67: =SIN(O67)*$B$4 -> 0.25829772 | Q67: =COS(O67)*$B$4+$B$4 -> 0.4054462 | S67: 65 | T67: =RADIANS(S67) -> 1.134464 | U67: =SIN(T67)*$B$5+$B$7 -> 1.6264239 | V67: =COS(T67)*$B$5+$B$5 -> 0.43389857 | X67: 65 | Y67: =RADIANS(X67) -> 1.134464 | Z67: =SIN(Y67)*$B$9+$B$7 -> 1.4542254 | AA67: =COS(Y67)*$B$9+$B$5 -> 0.3536011 | AC67: 57 | AD67: =RADIANS(AC67) -> 0.99483767 | AE67: =SIN(AD67)*$B$10+$E$3 -> 0.72919214 | AF67: =COS(AD67)*$B$10+$B$14 -> 0.42460701 | AH67: 64 | AI67: =RADIANS(AH67) -> 1.1170107 | AJ67: =SIN(AI67)*0.015+$B$62 -> 0.66629881 | AK67: =COS(AI67)*0.015+$B$63 -> 0.54988244 | AM67: 64 | AN67: =RADIANS(AM67) -> 1.1170107 | AO67: =SIN(AN67)*0.015+$B$64 -> 0.73823197 | AP67: =COS(AN67)*0.015+$B$65 -> 0.71863039
N68: 66 | O68: =RADIANS(N68) -> 1.1519173 | P68: =SIN(O68)*$B$4 -> 0.26036046 | Q68: =COS(O68)*$B$4+$B$4 -> 0.40091994 | S68: 66 | T68: =RADIANS(S68) -> 1.1519173 | U68: =SIN(T68)*$B$5+$B$7 -> 1.6286314 | V68: =COS(T68)*$B$5+$B$5 -> 0.42905468 | X68: 66 | Y68: =RADIANS(X68) -> 1.1519173 | Z68: =SIN(Y68)*$B$9+$B$7 -> 1.4550577 | AA68: =COS(Y68)*$B$9+$B$5 -> 0.35177471 | AC68: 58 | AD68: =RADIANS(AC68) -> 1.012291 | AE68: =SIN(AD68)*$B$10+$E$3 -> 0.72952973 | AF68: =COS(AD68)*$B$10+$B$14 -> 0.42407709 | AH68: 65 | AI68: =RADIANS(AH68) -> 1.134464 | AJ68: =SIN(AI68)*0.015+$B$62 -> 0.66641152 | AK68: =COS(AI68)*0.015+$B$63 -> 0.54964614 | AM68: 65 | AN68: =RADIANS(AM68) -> 1.134464 | AO68: =SIN(AN68)*0.015+$B$64 -> 0.73834467 | AP68: =COS(AN68)*0.015+$B$65 -> 0.7183941
N69: 67 | O69: =RADIANS(N69) -> 1.1693706 | P69: =SIN(O69)*$B$4 -> 0.26234388 | Q69: =COS(O69)*$B$4+$B$4 -> 0.39635837 | S69: 67 | T69: =RADIANS(S69) -> 1.1693706 | U69: =SIN(T69)*$B$5+$B$7 -> 1.630754 | V69: =COS(T69)*$B$5+$B$5 -> 0.42417299 | X69: 67 | Y69: =RADIANS(X69) -> 1.1693706 | Z69: =SIN(Y69)*$B$9+$B$7 -> 1.4558581 | AA69: =COS(Y69)*$B$9+$B$5 -> 0.34993408 | AC69: 59 | AD69: =RADIANS(AC69) -> 1.0297443 | AE69: =SIN(AD69)*$B$10+$E$3 -> 0.72985802 | AF69: =COS(AD69)*$B$10+$B$14 -> 0.42354137 | AH69: 66 | AI69: =RADIANS(AH69) -> 1.1519173 | AJ69: =SIN(AI69)*0.015+$B$62 -> 0.66652008 | AK69: =COS(AI69)*0.015+$B$63 -> 0.54940792 | AM69: 66 | AN69: =RADIANS(AM69) -> 1.1519173 | AO69: =SIN(AN69)*0.015+$B$64 -> 0.73845324 | AP69: =COS(AN69)*0.015+$B$65 -> 0.71815587
N70: 68 | O70: =RADIANS(N70) -> 1.1868239 | P70: =SIN(O70)*$B$4 -> 0.2642474 | Q70: =COS(O70)*$B$4+$B$4 -> 0.39176288 | S70: 68 | T70: =RADIANS(S70) -> 1.1868239 | U70: =SIN(T70)*$B$5+$B$7 -> 1.6327911 | V70: =COS(T70)*$B$5+$B$5 -> 0.41925501 | X70: 68 | Y70: =RADIANS(X70) -> 1.1868239 | Z70: =SIN(Y70)*$B$9+$B$7 -> 1.4566261 | AA70: =COS(Y70)*$B$9+$B$5 -> 0.34807976 | AC70: 60 | AD70: =RADIANS(AC70) -> 1.0471976 | AE70: =SIN(AD70)*$B$10+$E$3 -> 0.73017691 | AF70: =COS(AD70)*$B$10+$B$14 -> 0.423 | AH70: 67 | AI70: =RADIANS(AH70) -> 1.1693706 | AJ70: =SIN(AI70)*0.015+$B$62 -> 0.66662447 | AK70: =COS(AI70)*0.015+$B$63 -> 0.54916784 | AM70: 67 | AN70: =RADIANS(AM70) -> 1.1693706 | AO70: =SIN(AN70)*0.015+$B$64 -> 0.73855763 | AP70: =COS(AN70)*0.015+$B$65 -> 0.71791579
N71: 69 | O71: =RADIANS(N71) -> 1.2042772 | P71: =SIN(O71)*$B$4 -> 0.26607042 | Q71: =COS(O71)*$B$4+$B$4 -> 0.38713487 | S71: 69 | T71: =RADIANS(S71) -> 1.2042772 | U71: =SIN(T71)*$B$5+$B$7 -> 1.634742 | V71: =COS(T71)*$B$5+$B$5 -> 0.41430222 | X71: 69 | Y71: =RADIANS(X71) -> 1.2042772 | Z71: =SIN(Y71)*$B$9+$B$7 -> 1.4573617 | AA71: =COS(Y71)*$B$9+$B$5 -> 0.34621231 | AC71: 61 | AD71: =RADIANS(AC71) -> 1.0646508 | AE71: =SIN(AD71)*$B$10+$E$3 -> 0.73048631 | AF71: =COS(AD71)*$B$10+$B$14 -> 0.42245315 | AH71: 68 | AI71: =RADIANS(AH71) -> 1.1868239 | AJ71: =SIN(AI71)*0.015+$B$62 -> 0.66672466 | AK71: =COS(AI71)*0.015+$B$63 -> 0.54892597 | AM71: 68 | AN71: =RADIANS(AM71) -> 1.1868239 | AO71: =SIN(AN71)*0.015+$B$64 -> 0.73865782 | AP71: =COS(AN71)*0.015+$B$65 -> 0.71767392
N72: 70 | O72: =RADIANS(N72) -> 1.2217305 | P72: =SIN(O72)*$B$4 -> 0.2678124 | Q72: =COS(O72)*$B$4+$B$4 -> 0.38247574 | S72: 70 | T72: =RADIANS(S72) -> 1.2217305 | U72: =SIN(T72)*$B$5+$B$7 -> 1.6366062 | V72: =COS(T72)*$B$5+$B$5 -> 0.40931614 | X72: 70 | Y72: =RADIANS(X72) -> 1.2217305 | Z72: =SIN(Y72)*$B$9+$B$7 -> 1.4580647 | AA72: =COS(Y72)*$B$9+$B$5 -> 0.34433232 | AC72: 62 | AD72: =RADIANS(AC72) -> 1.0821041 | AE72: =SIN(AD72)*$B$10+$E$3 -> 0.73078611 | AF72: =COS(AD72)*$B$10+$B$14 -> 0.42190098 | AH72: 69 | AI72: =RADIANS(AH72) -> 1.2042772 | AJ72: =SIN(AI72)*0.015+$B$62 -> 0.66682061 | AK72: =COS(AI72)*0.015+$B$63 -> 0.54868239 | AM72: 69 | AN72: =RADIANS(AM72) -> 1.2042772 | AO72: =SIN(AN72)*0.015+$B$64 -> 0.73875376 | AP72: =COS(AN72)*0.015+$B$65 -> 0.71743034
N73: 71 | O73: =RADIANS(N73) -> 1.2391838 | P73: =SIN(O73)*$B$4 -> 0.26947279 | Q73: =COS(O73)*$B$4+$B$4 -> 0.37778692 | S73: 71 | T73: =RADIANS(S73) -> 1.2391838 | U73: =SIN(T73)*$B$5+$B$7 -> 1.6383832 | V73: =COS(T73)*$B$5+$B$5 -> 0.40429829 | X73: 71 | Y73: =RADIANS(X73) -> 1.2391838 | Z73: =SIN(Y73)*$B$9+$B$7 -> 1.4587346 | AA73: =COS(Y73)*$B$9+$B$5 -> 0.34244034 | AC73: 63 | AD73: =RADIANS(AC73) -> 1.0995574 | AE73: =SIN(AD73)*$B$10+$E$3 -> 0.73107623 | AF73: =COS(AD73)*$B$10+$B$14 -> 0.42134366 | AH73: 70 | AI73: =RADIANS(AH73) -> 1.2217305 | AJ73: =SIN(AI73)*0.015+$B$62 -> 0.66691229 | AK73: =COS(AI73)*0.015+$B$63 -> 0.54843717 | AM73: 70 | AN73: =RADIANS(AM73) -> 1.2217305 | AO73: =SIN(AN73)*0.015+$B$64 -> 0.73884545 | AP73: =COS(AN73)*0.015+$B$65 -> 0.71718513
N74: 72 | O74: =RADIANS(N74) -> 1.2566371 | P74: =SIN(O74)*$B$4 -> 0.27105111 | Q74: =COS(O74)*$B$4+$B$4 -> 0.37306984 | S74: 72 | T74: =RADIANS(S74) -> 1.2566371 | U74: =SIN(T74)*$B$5+$B$7 -> 1.6400722 | V74: =COS(T74)*$B$5+$B$5 -> 0.39925018 | X74: 72 | Y74: =RADIANS(X74) -> 1.2566371 | Z74: =SIN(Y74)*$B$9+$B$7 -> 1.4593715 | AA74: =COS(Y74)*$B$9+$B$5 -> 0.34053695 | AC74: 64 | AD74: =RADIANS(AC74) -> 1.1170107 | AE74: =SIN(AD74)*$B$10+$E$3 -> 0.73135659 | AF74: =COS(AD74)*$B$10+$B$14 -> 0.42078136 | AH74: 71 | AI74: =RADIANS(AH74) -> 1.2391838 | AJ74: =SIN(AI74)*0.015+$B$62 -> 0.66699968 | AK74: =COS(AI74)*0.015+$B$63 -> 0.54819039 | AM74: 71 | AN74: =RADIANS(AM74) -> 1.2391838 | AO74: =SIN(AN74)*0.015+$B$64 -> 0.73893284 | AP74: =COS(AN74)*0.015+$B$65 -> 0.71693835
N75: 73 | O75: =RADIANS(N75) -> 1.2740904 | P75: =SIN(O75)*$B$4 -> 0.27254686 | Q75: =COS(O75)*$B$4+$B$4 -> 0.36832594 | S75: 73 | T75: =RADIANS(S75) -> 1.2740904 | U75: =SIN(T75)*$B$5+$B$7 -> 1.641673 | V75: =COS(T75)*$B$5+$B$5 -> 0.39417337 | X75: 73 | Y75: =RADIANS(X75) -> 1.2740904 | Z75: =SIN(Y75)*$B$9+$B$7 -> 1.459975 | AA75: =COS(Y75)*$B$9+$B$5 -> 0.33862275 | AC75: 65 | AD75: =RADIANS(AC75) -> 1.134464 | AE75: =SIN(AD75)*$B$10+$E$3 -> 0.73162708 | AF75: =COS(AD75)*$B$10+$B$14 -> 0.42021426 | AH75: 72 | AI75: =RADIANS(AH75) -> 1.2566371 | AJ75: =SIN(AI75)*0.015+$B$62 -> 0.66708275 | AK75: =COS(AI75)*0.015+$B$63 -> 0.54794212 | AM75: 72 | AN75: =RADIANS(AM75) -> 1.2566371 | AO75: =SIN(AN75)*0.015+$B$64 -> 0.73901591 | AP75: =COS(AN75)*0.015+$B$65 -> 0.71669008
N76: 74 | O76: =RADIANS(N76) -> 1.2915436 | P76: =SIN(O76)*$B$4 -> 0.27395958 | Q76: =COS(O76)*$B$4+$B$4 -> 0.36355665 | S76: 74 | T76: =RADIANS(S76) -> 1.2915436 | U76: =SIN(T76)*$B$5+$B$7 -> 1.6431848 | V76: =COS(T76)*$B$5+$B$5 -> 0.38906939 | X76: 74 | Y76: =RADIANS(X76) -> 1.2915436 | Z76: =SIN(Y76)*$B$9+$B$7 -> 1.4605451 | AA76: =COS(Y76)*$B$9+$B$5 -> 0.3366983 | AC76: 66 | AD76: =RADIANS(AC76) -> 1.1519173 | AE76: =SIN(AD76)*$B$10+$E$3 -> 0.73188764 | AF76: =COS(AD76)*$B$10+$B$14 -> 0.41964252 | AH76: 73 | AI76: =RADIANS(AH76) -> 1.2740904 | AJ76: =SIN(AI76)*0.015+$B$62 -> 0.66716147 | AK76: =COS(AI76)*0.015+$B$63 -> 0.54769245 | AM76: 73 | AN76: =RADIANS(AM76) -> 1.2740904 | AO76: =SIN(AN76)*0.015+$B$64 -> 0.73909463 | AP76: =COS(AN76)*0.015+$B$65 -> 0.7164404
N77: 75 | O77: =RADIANS(N77) -> 1.3089969 | P77: =SIN(O77)*$B$4 -> 0.27528886 | Q77: =COS(O77)*$B$4+$B$4 -> 0.35876343 | S77: 75 | T77: =RADIANS(S77) -> 1.3089969 | U77: =SIN(T77)*$B$5+$B$7 -> 1.6446074 | V77: =COS(T77)*$B$5+$B$5 -> 0.38393981 | X77: 75 | Y77: =RADIANS(X77) -> 1.3089969 | Z77: =SIN(Y77)*$B$9+$B$7 -> 1.4610815 | AA77: =COS(Y77)*$B$9+$B$5 -> 0.33476419 | AC77: 67 | AD77: =RADIANS(AC77) -> 1.1693706 | AE77: =SIN(AD77)*$B$10+$E$3 -> 0.73213817 | AF77: =COS(AD77)*$B$10+$B$14 -> 0.41906632 | AH77: 74 | AI77: =RADIANS(AH77) -> 1.2915436 | AJ77: =SIN(AI77)*0.015+$B$62 -> 0.66723583 | AK77: =COS(AI77)*0.015+$B$63 -> 0.54744143 | AM77: 74 | AN77: =RADIANS(AM77) -> 1.2915436 | AO77: =SIN(AN77)*0.015+$B$64 -> 0.73916898 | AP77: =COS(AN77)*0.015+$B$65 -> 0.71618938
... N362: 360 | O362: =RADIANS(N362) -> 6.2831853 | P362: =SIN(O362)*$B$4 -> -6.9833462e-17 | Q362: =COS(O362)*$B$4+$B$4 -> 0.57 | S362: 360 | T362: =RADIANS(S362) -> 6.2831853 | U362: =SIN(T362)*$B$5+$B$7 -> 1.35 | V362: =COS(T362)*$B$5+$B$5 -> 0.61 | X362: 360 | Y362: =RADIANS(X362) -> 6.2831853 | Z362: =SIN(Y362)*$B$9+$B$7 -> 1.35 | AA362: =COS(Y362)*$B$9+$B$5 -> 0.42 | AC362: 352 | AD362: =RADIANS(AC362) -> 6.143559 | AE362: =SIN(AD362)*$B$10+$E$3 -> 0.69398977 | AF362: =COS(AD362)*$B$10+$B$14 -> 0.44064965 | AH362: 359 | AI362: =RADIANS(AH362) -> 6.265732 | AJ362: =SIN(AI362)*0.015+$B$62 -> 0.65255512 | AK362: =COS(AI362)*0.015+$B$63 -> 0.55830459 | AM362: 359 | AN362: =RADIANS(AM362) -> 6.265732 | AO362: =SIN(AN362)*0.015+$B$64 -> 0.72448827 | AP362: =COS(AN362)*0.015+$B$65 -> 0.72705254
AC363: 353 | AD363: =RADIANS(AC363) -> 6.1610123 | AE363: =SIN(AD363)*$B$10+$E$3 -> 0.6946127 | AF363: =COS(AD363)*$B$10+$B$14 -> 0.44073166 | AH363: 360 | AI363: =RADIANS(AH363) -> 6.2831853 | AJ363: =SIN(AI363)*0.015+$B$62 -> 0.6528169 | AK363: =COS(AI363)*0.015+$B$63 -> 0.55830687 | AM363: 360 | AN363: =RADIANS(AM363) -> 6.2831853 | AO363: =SIN(AN363)*0.015+$B$64 -> 0.72475006 | AP363: =COS(AN363)*0.015+$B$65 -> 0.72705482
AC364: 354 | AD364: =RADIANS(AC364) -> 6.1784656 | AE364: =SIN(AD364)*$B$10+$E$3 -> 0.69523698 | AF364: =COS(AD364)*$B$10+$B$14 -> 0.44080279
AC365: 355 | AD365: =RADIANS(AC365) -> 6.1959188 | AE365: =SIN(AD365)*$B$10+$E$3 -> 0.69586239 | AF365: =COS(AD365)*$B$10+$B$14 -> 0.44086301
AC366: 356 | AD366: =RADIANS(AC366) -> 6.2133721 | AE366: =SIN(AD366)*$B$10+$E$3 -> 0.69648877 | AF366: =COS(AD366)*$B$10+$B$14 -> 0.44091231
AC367: 357 | AD367: =RADIANS(AC367) -> 6.2308254 | AE367: =SIN(AD367)*$B$10+$E$3 -> 0.69711591 | AF367: =COS(AD367)*$B$10+$B$14 -> 0.44095066
AC368: 358 | AD368: =RADIANS(AC368) -> 6.2482787 | AE368: =SIN(AD368)*$B$10+$E$3 -> 0.69774362 | AF368: =COS(AD368)*$B$10+$B$14 -> 0.44097807
AC369: 359 | AD369: =RADIANS(AC369) -> 6.265732 | AE369: =SIN(AD369)*$B$10+$E$3 -> 0.69837171 | AF369: =COS(AD369)*$B$10+$B$14 -> 0.44099452
AC370: 360 | AD370: =RADIANS(AC370) -> 6.2831853 | AE370: =SIN(AD370)*$B$10+$E$3 -> 0.699 | AF370: =COS(AD370)*$B$10+$B$14 -> 0.441

Sheet RMZ250
Q2: RADS | R2: X | S2: Y | V2: RADS | W2: x | X2: y | AA2: RADS | AB2: X | AC2: Y | AK2: RADS | AL2: x | AM2: y | AP2: RADS | AQ2: x | AR2: y
P3: 1 | Q3: =RADIANS(P3) -> 0.017453293 | R3: =SIN(Q3)*$B$4 -> 0.0060385326 | S3: =COS(Q3)*$B$4+$B$4 -> 0.6919473 | U3: 1 | V3: =RADIANS(U3) -> 0.017453293 | W3: =SIN(V3)*$B$5+$B$7 -> 1.4907767 | X3: =COS(V3)*$B$5+$B$5 -> 0.66194959 | Z3: 1 | AA3: =RADIANS(Z3) -> 0.017453293 | AB3: =SIN(AA3)*$B$9+$B$7 -> 1.4873561 | AC3: =COS(AA3)*$B$9+$B$5 -> 0.46597944 | AF3: 0 | AG3: =B4 -> 0.346 | AJ3: 1 | AK3: =RADIANS(AJ3) -> 0.017453293 | AL3: =SIN(AK3)*0.025+$B$67 -> 0.68500577 | AM3: =COS(AK3)*0.025+$B$68 -> 0.64209277 | AO3: 1 | AP3: =RADIANS(AO3) -> 0.017453293 | AQ3: =SIN(AP3)*0.025+$B$69 -> 0.69719409 | AR3: =COS(AP3)*0.025+$B$70 -> 0.90888426
A4: FW RAD | B4: 0.346 | D4: Distance to FS | E4: =B7-(B17+B12) -> 0.834 | P4: 2 | Q4: =RADIANS(P4) -> 0.034906585 | R4: =SIN(Q4)*$B$4 -> 0.012075226 | S4: =COS(Q4)*$B$4+$B$4 -> 0.69178923 | U4: 2 | V4: =RADIANS(U4) -> 0.034906585 | W4: =SIN(V4)*$B$5+$B$7 -> 1.4965517 | X4: =COS(V4)*$B$5+$B$5 -> 0.66179836 | Z4: 2 | AA4: =RADIANS(Z4) -> 0.034906585 | AB4: =SIN(AA4)*$B$9+$B$7 -> 1.4897114 | AC4: =COS(AA4)*$B$9+$B$5 -> 0.46591776 | AF4: =$B$18*SIN(RADIANS('Trail Calc '!G3)) -> 0.45861344 | AG4: =B18*COS(RADIANS('Trail Calc '!G3))+$B$4 -> 1.1836746 | AJ4: 2 | AK4: =RADIANS(AJ4) -> 0.034906585 | AL4: =SIN(AK4)*0.025+$B$67 -> 0.68544195 | AM4: =COS(AK4)*0.025+$B$68 -> 0.64208135 | AO4: 2 | AP4: =RADIANS(AO4) -> 0.034906585 | AQ4: =SIN(AP4)*0.025+$B$69 -> 0.69763027 | AR4: =COS(AP4)*0.025+$B$70 -> 0.90887284
A5: RW RAD | B5: 0.331 | D5: Distance to SP | E5: =B7-B17 -> 0.899 | P5: 3 | Q5: =RADIANS(P5) -> 0.052359878 | R5: =SIN(Q5)*$B$4 -> 0.018108241 | S5: =COS(Q5)*$B$4+$B$4 -> 0.69152582 | U5: 3 | V5: =RADIANS(U5) -> 0.052359878 | W5: =SIN(V5)*$B$5+$B$7 -> 1.5023232 | X5: =COS(V5)*$B$5+$B$5 -> 0.66154638 | Z5: 3 | AA5: =RADIANS(Z5) -> 0.052359878 | AB5: =SIN(AA5)*$B$9+$B$7 -> 1.4920654 | AC5: =COS(AA5)*$B$9+$B$5 -> 0.46581499 | AJ5: 3 | AK5: =RADIANS(AJ5) -> 0.052359878 | AL5: =SIN(AK5)*0.025+$B$67 -> 0.68587786 | AM5: =COS(AK5)*0.025+$B$68 -> 0.64206232 | AO5: 3 | AP5: =RADIANS(AO5) -> 0.052359878 | AQ5: =SIN(AP5)*0.025+$B$69 -> 0.69806618 | AR5: =COS(AP5)*0.025+$B$70 -> 0.90885381
P6: 4 | Q6: =RADIANS(P6) -> 0.06981317 | R6: =SIN(Q6)*$B$4 -> 0.02413574 | S6: =COS(Q6)*$B$4+$B$4 -> 0.69115716 | U6: 4 | V6: =RADIANS(U6) -> 0.06981317 | W6: =SIN(V6)*$B$5+$B$7 -> 1.5080894 | X6: =COS(V6)*$B$5+$B$5 -> 0.6611937 | Z6: 4 | AA6: =RADIANS(Z6) -> 0.06981317 | AB6: =SIN(AA6)*$B$9+$B$7 -> 1.4944171 | AC6: =COS(AA6)*$B$9+$B$5 -> 0.46567115 | AF6: =E5 -> 0.899 | AG6: =B13 -> 0.476 | AJ6: 4 | AK6: =RADIANS(AJ6) -> 0.06981317 | AL6: =SIN(AK6)*0.025+$B$67 -> 0.68631337 | AM6: =COS(AK6)*0.025+$B$68 -> 0.64203568 | AO6: 4 | AP6: =RADIANS(AO6) -> 0.06981317 | AQ6: =SIN(AP6)*0.025+$B$69 -> 0.69850169 | AR6: =COS(AP6)*0.025+$B$70 -> 0.90882717
A7: Wheelbase | B7: 1.485 | P7: 6 | Q7: =RADIANS(P7) -> 0.10471976 | R7: =SIN(Q7)*$B$4 -> 0.036166848 | S7: =COS(Q7)*$B$4+$B$4 -> 0.69010458 | U7: 6 | V7: =RADIANS(U7) -> 0.10471976 | W7: =SIN(V7)*$B$5+$B$7 -> 1.5195989 | X7: =COS(V7)*$B$5+$B$5 -> 0.66018675 | Z7: 6 | AA7: =RADIANS(Z7) -> 0.10471976 | AB7: =SIN(AA7)*$B$9+$B$7 -> 1.4991113 | AC7: =COS(AA7)*$B$9+$B$5 -> 0.46526046 | AF7: =B7 -> 1.485 | AG7: =B5 -> 0.331 | AJ7: 6 | AK7: =RADIANS(AJ7) -> 0.10471976 | AL7: =SIN(AK7)*0.025+$B$67 -> 0.68718267 | AM7: =COS(AK7)*0.025+$B$68 -> 0.64195963 | AO7: 6 | AP7: =RADIANS(AO7) -> 0.10471976 | AQ7: =SIN(AP7)*0.025+$B$69 -> 0.69937099 | AR7: =COS(AP7)*0.025+$B$70 -> 0.90875112
P8: 7 | Q8: =RADIANS(P8) -> 0.12217305 | R8: =SIN(Q8)*$B$4 -> 0.042166793 | S8: =COS(Q8)*$B$4+$B$4 -> 0.68942097 | U8: 7 | V8: =RADIANS(U8) -> 0.12217305 | W8: =SIN(V8)*$B$5+$B$7 -> 1.5253388 | X8: =COS(V8)*$B$5+$B$5 -> 0.65953278 | Z8: 7 | AA8: =RADIANS(Z8) -> 0.12217305 | AB8: =SIN(AA8)*$B$9+$B$7 -> 1.5014524 | AC8: =COS(AA8)*$B$9+$B$5 -> 0.46499373 | AJ8: 7 | AK8: =RADIANS(AJ8) -> 0.12217305 | AL8: =SIN(AK8)*0.025+$B$67 -> 0.68761619 | AM8: =COS(AK8)*0.025+$B$68 -> 0.64191024 | AO8: 7 | AP8: =RADIANS(AO8) -> 0.12217305 | AQ8: =SIN(AP8)*0.025+$B$69 -> 0.69980452 | AR8: =COS(AP8)*0.025+$B$70 -> 0.90870173
A9: Rear Sproket Radius | B9: 0.135 | P9: 8 | Q9: =RADIANS(P9) -> 0.13962634 | R9: =SIN(Q9)*$B$4 -> 0.048153893 | S9: =COS(Q9)*$B$4+$B$4 -> 0.68863275 | U9: 8 | V9: =RADIANS(U9) -> 0.13962634 | W9: =SIN(V9)*$B$5+$B$7 -> 1.5310663 | X9: =COS(V9)*$B$5+$B$5 -> 0.65877873 | Z9: 8 | AA9: =RADIANS(Z9) -> 0.13962634 | AB9: =SIN(AA9)*$B$9+$B$7 -> 1.5037884 | AC9: =COS(AA9)*$B$9+$B$5 -> 0.46468619 | AJ9: 8 | AK9: =RADIANS(AJ9) -> 0.13962634 | AL9: =SIN(AK9)*0.025+$B$67 -> 0.68804879 | AM9: =COS(AK9)*0.025+$B$68 -> 0.64185328 | AO9: 8 | AP9: =RADIANS(AO9) -> 0.13962634 | AQ9: =SIN(AP9)*0.025+$B$69 -> 0.70023711 | AR9: =COS(AP9)*0.025+$B$70 -> 0.90864477
A10: Front Sproket Radius | B10: =0.078/2 -> 0.039 | P10: 9 | Q10: =RADIANS(P10) -> 0.15707963 | R10: =SIN(Q10)*$B$4 -> 0.054126325 | S10: =COS(Q10)*$B$4+$B$4 -> 0.68774017 | U10: 9 | V10: =RADIANS(U10) -> 0.15707963 | W10: =SIN(V10)*$B$5+$B$7 -> 1.5367798 | X10: =COS(V10)*$B$5+$B$5 -> 0.65792484 | Z10: 9 | AA10: =RADIANS(Z10) -> 0.15707963 | AB10: =SIN(AA10)*$B$9+$B$7 -> 1.5061187 | AC10: =COS(AA10)*$B$9+$B$5 -> 0.46433793 | AJ10: 9 | AK10: =RADIANS(AJ10) -> 0.15707963 | AL10: =SIN(AK10)*0.025+$B$67 -> 0.68848032 | AM10: =COS(AK10)*0.025+$B$68 -> 0.64178879 | AO10: 9 | AP10: =RADIANS(AO10) -> 0.15707963 | AQ10: =SIN(AP10)*0.025+$B$69 -> 0.70066864 | AR10: =COS(AP10)*0.025+$B$70 -> 0.90858028
P11: 10 | Q11: =RADIANS(P11) -> 0.17453293 | R11: =SIN(Q11)*$B$4 -> 0.060082269 | S11: =COS(Q11)*$B$4+$B$4 -> 0.68674348 | U11: 10 | V11: =RADIANS(U11) -> 0.17453293 | W11: =SIN(V11)*$B$5+$B$7 -> 1.5424775 | X11: =COS(V11)*$B$5+$B$5 -> 0.65697137 | Z11: 10 | AA11: =RADIANS(Z11) -> 0.17453293 | AB11: =SIN(AA11)*$B$9+$B$7 -> 1.5084425 | AC11: =COS(AA11)*$B$9+$B$5 -> 0.46394905 | AF11: RADS | AG11: x | AH11: y | AJ11: 10 | AK11: =RADIANS(AJ11) -> 0.17453293 | AL11: =SIN(AK11)*0.025+$B$67 -> 0.68891066 | AM11: =COS(AK11)*0.025+$B$68 -> 0.64171678 | AO11: 10 | AP11: =RADIANS(AO11) -> 0.17453293 | AQ11: =SIN(AP11)*0.025+$B$69 -> 0.70109899 | AR11: =COS(AP11)*0.025+$B$70 -> 0.90850827
A12: Distance FS-SP | B12: 0.065 | P12: 11 | Q12: =RADIANS(P12) -> 0.19198622 | R12: =SIN(Q12)*$B$4 -> 0.066019912 | S12: =COS(Q12)*$B$4+$B$4 -> 0.68564301 | U12: 11 | V12: =RADIANS(U12) -> 0.19198622 | W12: =SIN(V12)*$B$5+$B$7 -> 1.5481578 | X12: =COS(V12)*$B$5+$B$5 -> 0.6559186 | Z12: 11 | AA12: =RADIANS(Z12) -> 0.19198622 | AB12: =SIN(AA12)*$B$9+$B$7 -> 1.5107592 | AC12: =COS(AA12)*$B$9+$B$5 -> 0.46351967 | AE12: 1 | AF12: =RADIANS(AE12) -> 0.017453293 | AG12: =SIN(AF12)*$B$10+$E$4 -> 0.83468064 | AH12: =COS(AF12)*$B$10+$B$14 -> 0.52399406 | AJ12: 11 | AK12: =RADIANS(AJ12) -> 0.19198622 | AL12: =SIN(AK12)*0.025+$B$67 -> 0.68933968 | AM12: =COS(AK12)*0.025+$B$68 -> 0.64163726 | AO12: 11 | AP12: =RADIANS(AO12) -> 0.19198622 | AQ12: =SIN(AP12)*0.025+$B$69 -> 0.70152801 | AR12: =COS(AP12)*0.025+$B$70 -> 0.90842875
A13: Distance SP-GRND | B13: 0.476 | P13: 12 | Q13: =RADIANS(P13) -> 0.20943951 | R13: =SIN(Q13)*$B$4 -> 0.071937445 | S13: =COS(Q13)*$B$4+$B$4 -> 0.68443907 | U13: 12 | V13: =RADIANS(U13) -> 0.20943951 | W13: =SIN(V13)*$B$5+$B$7 -> 1.5538188 | X13: =COS(V13)*$B$5+$B$5 -> 0.65476686 | Z13: 12 | AA13: =RADIANS(Z13) -> 0.20943951 | AB13: =SIN(AA13)*$B$9+$B$7 -> 1.5130681 | AC13: =COS(AA13)*$B$9+$B$5 -> 0.46304993 | AE13: 2 | AF13: =RADIANS(AE13) -> 0.034906585 | AG13: =SIN(AF13)*$B$10+$E$4 -> 0.83536108 | AH13: =COS(AF13)*$B$10+$B$14 -> 0.52397624 | AJ13: 12 | AK13: =RADIANS(AJ13) -> 0.20943951 | AL13: =SIN(AK13)*0.025+$B$67 -> 0.68976725 | AM13: =COS(AK13)*0.025+$B$68 -> 0.64155027 | AO13: 12 | AP13: =RADIANS(AO13) -> 0.20943951 | AQ13: =SIN(AP13)*0.025+$B$69 -> 0.70195557 | AR13: =COS(AP13)*0.025+$B$70 -> 0.90834176
A14: Distance FS- GRND | B14: 0.485 | P14: 13 | Q14: =RADIANS(P14) -> 0.2268928 | R14: =SIN(Q14)*$B$4 -> 0.077833065 | S14: =COS(Q14)*$B$4+$B$4 -> 0.68313204 | U14: 13 | V14: =RADIANS(U14) -> 0.2268928 | W14: =SIN(V14)*$B$5+$B$7 -> 1.5594588 | X14: =COS(V14)*$B$5+$B$5 -> 0.65351649 | Z14: 13 | AA14: =RADIANS(Z14) -> 0.2268928 | AB14: =SIN(AA14)*$B$9+$B$7 -> 1.5153684 | AC14: =COS(AA14)*$B$9+$B$5 -> 0.46253996 | AE14: 3 | AF14: =RADIANS(AE14) -> 0.052359878 | AG14: =SIN(AF14)*$B$10+$E$4 -> 0.8360411 | AH14: =COS(AF14)*$B$10+$B$14 -> 0.52394655 | AJ14: 13 | AK14: =RADIANS(AJ14) -> 0.2268928 | AL14: =SIN(AK14)*0.025+$B$67 -> 0.69019323 | AM14: =COS(AK14)*0.025+$B$68 -> 0.64145583 | AO14: 13 | AP14: =RADIANS(AO14) -> 0.2268928 | AQ14: =SIN(AP14)*0.025+$B$69 -> 0.70238156 | AR14: =COS(AP14)*0.025+$B$70 -> 0.90824732
P15: 14 | Q15: =RADIANS(P15) -> 0.2443461 | R15: =SIN(Q15)*$B$4 -> 0.083704976 | S15: =COS(Q15)*$B$4+$B$4 -> 0.68172232 | U15: 14 | V15: =RADIANS(U15) -> 0.2443461 | W15: =SIN(V15)*$B$5+$B$7 -> 1.5650761 | X15: =COS(V15)*$B$5+$B$5 -> 0.65216789 | Z15: 14 | AA15: =RADIANS(Z15) -> 0.2443461 | AB15: =SIN(AA15)*$B$9+$B$7 -> 1.5176595 | AC15: =COS(AA15)*$B$9+$B$5 -> 0.46198992 | AE15: 4 | AF15: =RADIANS(AE15) -> 0.06981317 | AG15: =SIN(AF15)*$B$10+$E$4 -> 0.8367205 | AH15: =COS(AF15)*$B$10+$B$14 -> 0.523905 | AJ15: 14 | AK15: =RADIANS(AJ15) -> 0.2443461 | AL15: =SIN(AK15)*0.025+$B$67 -> 0.69061751 | AM15: =COS(AK15)*0.025+$B$68 -> 0.64135397 | AO15: 14 | AP15: =RADIANS(AO15) -> 0.2443461 | AQ15: =SIN(AP15)*0.025+$B$69 -> 0.70280583 | AR15: =COS(AP15)*0.025+$B$70 -> 0.90814546
A16: Swingarm Length measured | B16: 0.59 | P16: 15 | Q16: =RADIANS(P16) -> 0.26179939 | R16: =SIN(Q16)*$B$4 -> 0.08955139 | S16: =COS(Q16)*$B$4+$B$4 -> 0.68021034 | U16: 15 | V16: =RADIANS(U16) -> 0.26179939 | W16: =SIN(V16)*$B$5+$B$7 -> 1.5706691 | X16: =COS(V16)*$B$5+$B$5 -> 0.65072145 | Z16: 15 | AA16: =RADIANS(Z16) -> 0.26179939 | AB16: =SIN(AA16)*$B$9+$B$7 -> 1.5199406 | AC16: =COS(AA16)*$B$9+$B$5 -> 0.46139999 | AE16: 6 | AF16: =RADIANS(AE16) -> 0.10471976 | AG16: =SIN(AF16)*$B$10+$E$4 -> 0.83807661 | AH16: =COS(AF16)*$B$10+$B$14 -> 0.52378635 | AJ16: 15 | AK16: =RADIANS(AJ16) -> 0.26179939 | AL16: =SIN(AK16)*0.025+$B$67 -> 0.69103993 | AM16: =COS(AK16)*0.025+$B$68 -> 0.64124473 | AO16: 15 | AP16: =RADIANS(AO16) -> 0.26179939 | AQ16: =SIN(AP16)*0.025+$B$69 -> 0.70322826 | AR16: =COS(AP16)*0.025+$B$70 -> 0.90803622
A17: Swingarm Length Calcualted | B17: 0.586 | P17: 16 | Q17: =RADIANS(P17) -> 0.27925268 | R17: =SIN(Q17)*$B$4 -> 0.095370525 | S17: =COS(Q17)*$B$4+$B$4 -> 0.67859655 | U17: 16 | V17: =RADIANS(U17) -> 0.27925268 | W17: =SIN(V17)*$B$5+$B$7 -> 1.576236 | X17: =COS(V17)*$B$5+$B$5 -> 0.64917762 | Z17: 16 | AA17: =RADIANS(Z17) -> 0.27925268 | AB17: =SIN(AA17)*$B$9+$B$7 -> 1.522211 | AC17: =COS(AA17)*$B$9+$B$5 -> 0.46077033 | AE17: 7 | AF17: =RADIANS(AE17) -> 0.12217305 | AG17: =SIN(AF17)*$B$10+$E$4 -> 0.8387529 | AH17: =COS(AF17)*$B$10+$B$14 -> 0.5237093 | AJ17: 16 | AK17: =RADIANS(AJ17) -> 0.27925268 | AL17: =SIN(AK17)*0.025+$B$67 -> 0.69146039 | AM17: =COS(AK17)*0.025+$B$68 -> 0.64112812 | AO17: 16 | AP17: =RADIANS(AO17) -> 0.27925268 | AQ17: =SIN(AP17)*0.025+$B$69 -> 0.70364872 | AR17: =COS(AP17)*0.025+$B$70 -> 0.90791961
A18: Front Fork Length | B18: 0.955 | P18: 17 | Q18: =RADIANS(P18) -> 0.29670597 | R18: =SIN(Q18)*$B$4 -> 0.10116061 | S18: =COS(Q18)*$B$4+$B$4 -> 0.67688145 | U18: 17 | V18: =RADIANS(U18) -> 0.29670597 | W18: =SIN(V18)*$B$5+$B$7 -> 1.581775 | X18: =COS(V18)*$B$5+$B$5 -> 0.64753687 | Z18: 17 | AA18: =RADIANS(Z18) -> 0.29670597 | AB18: =SIN(AA18)*$B$9+$B$7 -> 1.5244702 | AC18: =COS(AA18)*$B$9+$B$5 -> 0.46010114 | AE18: 8 | AF18: =RADIANS(AE18) -> 0.13962634 | AG18: =SIN(AF18)*$B$10+$E$4 -> 0.83942775 | AH18: =COS(AF18)*$B$10+$B$14 -> 0.52362045 | AJ18: 17 | AK18: =RADIANS(AJ18) -> 0.29670597 | AL18: =SIN(AK18)*0.025+$B$67 -> 0.69187875 | AM18: =COS(AK18)*0.025+$B$68 -> 0.6410042 | AO18: 17 | AP18: =RADIANS(AO18) -> 0.29670597 | AQ18: =SIN(AP18)*0.025+$B$69 -> 0.70406708 | AR18: =COS(AP18)*0.025+$B$70 -> 0.90779569
P19: 18 | Q19: =RADIANS(P19) -> 0.31415927 | R19: =SIN(Q19)*$B$4 -> 0.10691988 | S19: =COS(Q19)*$B$4+$B$4 -> 0.67506555 | U19: 18 | V19: =RADIANS(U19) -> 0.31415927 | W19: =SIN(V19)*$B$5+$B$7 -> 1.5872846 | X19: =COS(V19)*$B$5+$B$5 -> 0.64579971 | Z19: 18 | AA19: =RADIANS(Z19) -> 0.31415927 | AB19: =SIN(AA19)*$B$9+$B$7 -> 1.5267173 | AC19: =COS(AA19)*$B$9+$B$5 -> 0.45939263 | AE19: 9 | AF19: =RADIANS(AE19) -> 0.15707963 | AG19: =SIN(AF19)*$B$10+$E$4 -> 0.84010094 | AH19: =COS(AF19)*$B$10+$B$14 -> 0.52351985 | AJ19: 18 | AK19: =RADIANS(AJ19) -> 0.31415927 | AL19: =SIN(AK19)*0.025+$B$67 -> 0.69229488 | AM19: =COS(AK19)*0.025+$B$68 -> 0.64087299 | AO19: 18 | AP19: =RADIANS(AO19) -> 0.31415927 | AQ19: =SIN(AP19)*0.025+$B$69 -> 0.70448321 | AR19: =COS(AP19)*0.025+$B$70 -> 0.90766448
P20: 19 | Q20: =RADIANS(P20) -> 0.33161256 | R20: =SIN(Q20)*$B$4 -> 0.11264658 | S20: =COS(Q20)*$B$4+$B$4 -> 0.67314943 | U20: 19 | V20: =RADIANS(U20) -> 0.33161256 | W20: =SIN(V20)*$B$5+$B$7 -> 1.5927631 | X20: =COS(V20)*$B$5+$B$5 -> 0.64396665 | Z20: 19 | AA20: =RADIANS(Z20) -> 0.33161256 | AB20: =SIN(AA20)*$B$9+$B$7 -> 1.5289517 | AC20: =COS(AA20)*$B$9+$B$5 -> 0.45864501 | AE20: 10 | AF20: =RADIANS(AE20) -> 0.17453293 | AG20: =SIN(AF20)*$B$10+$E$4 -> 0.84077228 | AH20: =COS(AF20)*$B$10+$B$14 -> 0.5234075 | AJ20: 19 | AK20: =RADIANS(AJ20) -> 0.33161256 | AL20: =SIN(AK20)*0.025+$B$67 -> 0.69270866 | AM20: =COS(AK20)*0.025+$B$68 -> 0.64073455 | AO20: 19 | AP20: =RADIANS(AO20) -> 0.33161256 | AQ20: =SIN(AP20)*0.025+$B$69 -> 0.70489699 | AR20: =COS(AP20)*0.025+$B$70 -> 0.90752604
P21: 20 | Q21: =RADIANS(P21) -> 0.34906585 | R21: =SIN(Q21)*$B$4 -> 0.11833897 | S21: =COS(Q21)*$B$4+$B$4 -> 0.67113365 | U21: 20 | V21: =RADIANS(U21) -> 0.34906585 | W21: =SIN(V21)*$B$5+$B$7 -> 1.5982087 | X21: =COS(V21)*$B$5+$B$5 -> 0.64203826 | Z21: 20 | AA21: =RADIANS(Z21) -> 0.34906585 | AB21: =SIN(AA21)*$B$9+$B$7 -> 1.5311727 | AC21: =COS(AA21)*$B$9+$B$5 -> 0.4578585 | AE21: 11 | AF21: =RADIANS(AE21) -> 0.19198622 | AG21: =SIN(AF21)*$B$10+$E$4 -> 0.84144155 | AH21: =COS(AF21)*$B$10+$B$14 -> 0.52328346 | AJ21: 20 | AK21: =RADIANS(AJ21) -> 0.34906585 | AL21: =SIN(AK21)*0.025+$B$67 -> 0.69311996 | AM21: =COS(AK21)*0.025+$B$68 -> 0.6405889 | AO21: 20 | AP21: =RADIANS(AO21) -> 0.34906585 | AQ21: =SIN(AP21)*0.025+$B$69 -> 0.70530829 | AR21: =COS(AP21)*0.025+$B$70 -> 0.90738039
P22: 21 | Q22: =RADIANS(P22) -> 0.36651914 | R22: =SIN(Q22)*$B$4 -> 0.12399531 | S22: =COS(Q22)*$B$4+$B$4 -> 0.66901883 | U22: 21 | V22: =RADIANS(U22) -> 0.36651914 | W22: =SIN(V22)*$B$5+$B$7 -> 1.6036198 | X22: =COS(V22)*$B$5+$B$5 -> 0.64001512 | Z22: 21 | AA22: =RADIANS(Z22) -> 0.36651914 | AB22: =SIN(AA22)*$B$9+$B$7 -> 1.5333797 | AC22: =COS(AA22)*$B$9+$B$5 -> 0.45703336 | AE22: 12 | AF22: =RADIANS(AE22) -> 0.20943951 | AG22: =SIN(AF22)*$B$10+$E$4 -> 0.84210856 | AH22: =COS(AF22)*$B$10+$B$14 -> 0.52314776 | AJ22: 21 | AK22: =RADIANS(AJ22) -> 0.36651914 | AL22: =SIN(AK22)*0.025+$B$67 -> 0.69352866 | AM22: =COS(AK22)*0.025+$B$68 -> 0.64043609 | AO22: 21 | AP22: =RADIANS(AO22) -> 0.36651914 | AQ22: =SIN(AP22)*0.025+$B$69 -> 0.70571698 | AR22: =COS(AP22)*0.025+$B$70 -> 0.90722758
P23: 22 | Q23: =RADIANS(P23) -> 0.38397244 | R23: =SIN(Q23)*$B$4 -> 0.12961388 | S23: =COS(Q23)*$B$4+$B$4 -> 0.66680561 | U23: 22 | V23: =RADIANS(U23) -> 0.38397244 | W23: =SIN(V23)*$B$5+$B$7 -> 1.6089948 | X23: =COS(V23)*$B$5+$B$5 -> 0.63789786 | Z23: 22 | AA23: =RADIANS(Z23) -> 0.38397244 | AB23: =SIN(AA23)*$B$9+$B$7 -> 1.5355719 | AC23: =COS(AA23)*$B$9+$B$5 -> 0.45616982 | AE23: 13 | AF23: =RADIANS(AE23) -> 0.2268928 | AG23: =SIN(AF23)*$B$10+$E$4 -> 0.84277309 | AH23: =COS(AF23)*$B$10+$B$14 -> 0.52300043 | AJ23: 22 | AK23: =RADIANS(AJ23) -> 0.38397244 | AL23: =SIN(AK23)*0.025+$B$67 -> 0.69393462 | AM23: =COS(AK23)*0.025+$B$68 -> 0.64027618 | AO23: 22 | AP23: =RADIANS(AO23) -> 0.38397244 | AQ23: =SIN(AP23)*0.025+$B$69 -> 0.70612295 | AR23: =COS(AP23)*0.025+$B$70 -> 0.90706767
P24: 23 | Q24: =RADIANS(P24) -> 0.40142573 | R24: =SIN(Q24)*$B$4 -> 0.13519297 | S24: =COS(Q24)*$B$4+$B$4 -> 0.66449468 | U24: 23 | V24: =RADIANS(U24) -> 0.40142573 | W24: =SIN(V24)*$B$5+$B$7 -> 1.614332 | X24: =COS(V24)*$B$5+$B$5 -> 0.63568711 | Z24: 23 | AA24: =RADIANS(Z24) -> 0.40142573 | AB24: =SIN(AA24)*$B$9+$B$7 -> 1.5377487 | AC24: =COS(AA24)*$B$9+$B$5 -> 0.45526816 | AE24: 14 | AF24: =RADIANS(AE24) -> 0.2443461 | AG24: =SIN(AF24)*$B$10+$E$4 -> 0.84343495 | AH24: =COS(AF24)*$B$10+$B$14 -> 0.52284153 | AJ24: 23 | AK24: =RADIANS(AJ24) -> 0.40142573 | AL24: =SIN(AK24)*0.025+$B$67 -> 0.69433774 | AM24: =COS(AK24)*0.025+$B$68 -> 0.6401092 | AO24: 23 | AP24: =RADIANS(AO24) -> 0.40142573 | AQ24: =SIN(AP24)*0.025+$B$69 -> 0.70652606 | AR24: =COS(AP24)*0.025+$B$70 -> 0.90690069
P25: 24 | Q25: =RADIANS(P25) -> 0.41887902 | R25: =SIN(Q25)*$B$4 -> 0.14073088 | S25: =COS(Q25)*$B$4+$B$4 -> 0.66208673 | U25: 24 | V25: =RADIANS(U25) -> 0.41887902 | W25: =SIN(V25)*$B$5+$B$7 -> 1.6196298 | X25: =COS(V25)*$B$5+$B$5 -> 0.63338355 | Z25: 24 | AA25: =RADIANS(Z25) -> 0.41887902 | AB25: =SIN(AA25)*$B$9+$B$7 -> 1.5399094 | AC25: =COS(AA25)*$B$9+$B$5 -> 0.45432864 | AE25: 15 | AF25: =RADIANS(AE25) -> 0.26179939 | AG25: =SIN(AF25)*$B$10+$E$4 -> 0.84409394 | AH25: =COS(AF25)*$B$10+$B$14 -> 0.52267111 | AJ25: 24 | AK25: =RADIANS(AJ25) -> 0.41887902 | AL25: =SIN(AK25)*0.025+$B$67 -> 0.69473787 | AM25: =COS(AK25)*0.025+$B$68 -> 0.63993522 | AO25: 24 | AP25: =RADIANS(AO25) -> 0.41887902 | AQ25: =SIN(AP25)*0.025+$B$69 -> 0.7069262 | AR25: =COS(AP25)*0.025+$B$70 -> 0.90672671
P26: 25 | Q26: =RADIANS(P26) -> 0.43633231 | R26: =SIN(Q26)*$B$4 -> 0.14622592 | S26: =COS(Q26)*$B$4+$B$4 -> 0.65958249 | U26: 25 | V26: =RADIANS(U26) -> 0.43633231 | W26: =SIN(V26)*$B$5+$B$7 -> 1.6248866 | X26: =COS(V26)*$B$5+$B$5 -> 0.63098788 | Z26: 25 | AA26: =RADIANS(Z26) -> 0.43633231 | AB26: =SIN(AA26)*$B$9+$B$7 -> 1.5420535 | AC26: =COS(AA26)*$B$9+$B$5 -> 0.45335155 | AE26: 16 | AF26: =RADIANS(AE26) -> 0.27925268 | AG26: =SIN(AF26)*$B$10+$E$4 -> 0.84474986 | AH26: =COS(AF26)*$B$10+$B$14 -> 0.52248921 | AJ26: 25 | AK26: =RADIANS(AJ26) -> 0.43633231 | AL26: =SIN(AK26)*0.025+$B$67 -> 0.69513491 | AM26: =COS(AK26)*0.025+$B$68 -> 0.63975428 | AO26: 25 | AP26: =RADIANS(AO26) -> 0.43633231 | AQ26: =SIN(AP26)*0.025+$B$69 -> 0.70732324 | AR26: =COS(AP26)*0.025+$B$70 -> 0.90654577
P27: 26 | Q27: =RADIANS(P27) -> 0.45378561 | R27: =SIN(Q27)*$B$4 -> 0.15167642 | S27: =COS(Q27)*$B$4+$B$4 -> 0.65698274 | U27: 26 | V27: =RADIANS(U27) -> 0.45378561 | W27: =SIN(V27)*$B$5+$B$7 -> 1.6301008 | X27: =COS(V27)*$B$5+$B$5 -> 0.62850083 | Z27: 26 | AA27: =RADIANS(Z27) -> 0.45378561 | AB27: =SIN(AA27)*$B$9+$B$7 -> 1.5441801 | AC27: =COS(AA27)*$B$9+$B$5 -> 0.4523372 | AE27: 17 | AF27: =RADIANS(AE27) -> 0.29670597 | AG27: =SIN(AF27)*$B$10+$E$4 -> 0.8454025 | AH27: =COS(AF27)*$B$10+$B$14 -> 0.52229589 | AJ27: 26 | AK27: =RADIANS(AJ27) -> 0.45378561 | AL27: =SIN(AK27)*0.025+$B$67 -> 0.69552874 | AM27: =COS(AK27)*0.025+$B$68 -> 0.63956643 | AO27: 26 | AP27: =RADIANS(AO27) -> 0.45378561 | AQ27: =SIN(AP27)*0.025+$B$69 -> 0.70771706 | AR27: =COS(AP27)*0.025+$B$70 -> 0.90635792
P28: 27 | Q28: =RADIANS(P28) -> 0.4712389 | R28: =SIN(Q28)*$B$4 -> 0.15708071 | S28: =COS(Q28)*$B$4+$B$4 -> 0.65428826 | U28: 27 | V28: =RADIANS(U28) -> 0.4712389 | W28: =SIN(V28)*$B$5+$B$7 -> 1.6352709 | X28: =COS(V28)*$B$5+$B$5 -> 0.62592316 | Z28: 27 | AA28: =RADIANS(Z28) -> 0.4712389 | AB28: =SIN(AA28)*$B$9+$B$7 -> 1.5462887 | AC28: =COS(AA28)*$B$9+$B$5 -> 0.45128588 | AE28: 18 | AF28: =RADIANS(AE28) -> 0.31415927 | AG28: =SIN(AF28)*$B$10+$E$4 -> 0.84605166 | AH28: =COS(AF28)*$B$10+$B$14 -> 0.5220912 | AJ28: 27 | AK28: =RADIANS(AJ28) -> 0.4712389 | AL28: =SIN(AK28)*0.025+$B$67 -> 0.69591922 | AM28: =COS(AK28)*0.025+$B$68 -> 0.63937174 | AO28: 27 | AP28: =RADIANS(AO28) -> 0.4712389 | AQ28: =SIN(AP28)*0.025+$B$69 -> 0.70810755 | AR28: =COS(AP28)*0.025+$B$70 -> 0.90616323
P29: 28 | Q29: =RADIANS(P29) -> 0.48869219 | R29: =SIN(Q29)*$B$4 -> 0.16243716 | S29: =COS(Q29)*$B$4+$B$4 -> 0.65149987 | U29: 28 | V29: =RADIANS(U29) -> 0.48869219 | W29: =SIN(V29)*$B$5+$B$7 -> 1.6403951 | X29: =COS(V29)*$B$5+$B$5 -> 0.62325565 | Z29: 28 | AA29: =RADIANS(Z29) -> 0.48869219 | AB29: =SIN(AA29)*$B$9+$B$7 -> 1.5483787 | AC29: =COS(AA29)*$B$9+$B$5 -> 0.45019793 | AE29: 19 | AF29: =RADIANS(AE29) -> 0.33161256 | AG29: =SIN(AF29)*$B$10+$E$4 -> 0.84669716 | AH29: =COS(AF29)*$B$10+$B$14 -> 0.52187522 | AJ29: 28 | AK29: =RADIANS(AJ29) -> 0.48869219 | AL29: =SIN(AK29)*0.025+$B$67 -> 0.69630625 | AM29: =COS(AK29)*0.025+$B$68 -> 0.63917027 | AO29: 28 | AP29: =RADIANS(AO29) -> 0.48869219 | AQ29: =SIN(AP29)*0.025+$B$69 -> 0.70849457 | AR29: =COS(AP29)*0.025+$B$70 -> 0.90596176
P30: 29 | Q30: =RADIANS(P30) -> 0.50614548 | R30: =SIN(Q30)*$B$4 -> 0.16774413 | S30: =COS(Q30)*$B$4+$B$4 -> 0.64861842 | U30: 29 | V30: =RADIANS(U30) -> 0.50614548 | W30: =SIN(V30)*$B$5+$B$7 -> 1.645472 | X30: =COS(V30)*$B$5+$B$5 -> 0.62049912 | Z30: 29 | AA30: =RADIANS(Z30) -> 0.50614548 | AB30: =SIN(AA30)*$B$9+$B$7 -> 1.5504493 | AC30: =COS(AA30)*$B$9+$B$5 -> 0.44907366 | AE30: 20 | AF30: =RADIANS(AE30) -> 0.34906585 | AG30: =SIN(AF30)*$B$10+$E$4 -> 0.84733879 | AH30: =COS(AF30)*$B$10+$B$14 -> 0.52164801 | AJ30: 29 | AK30: =RADIANS(AJ30) -> 0.50614548 | AL30: =SIN(AK30)*0.025+$B$67 -> 0.6966897 | AM30: =COS(AK30)*0.025+$B$68 -> 0.63896207 | AO30: 29 | AP30: =RADIANS(AO30) -> 0.50614548 | AQ30: =SIN(AP30)*0.025+$B$69 -> 0.70887802 | AR30: =COS(AP30)*0.025+$B$70 -> 0.90575356
... P55: 54 | Q55: =RADIANS(P55) -> 0.9424778 | R55: =SIN(Q55)*$B$4 -> 0.27991988 | S55: =COS(Q55)*$B$4+$B$4 -> 0.5493737 | U55: 54 | V55: =RADIANS(U55) -> 0.9424778 | W55: =SIN(V55)*$B$5+$B$7 -> 1.7527846 | X55: =COS(V55)*$B$5+$B$5 -> 0.52555692 | Z55: 54 | AA55: =RADIANS(Z55) -> 0.9424778 | AB55: =SIN(AA55)*$B$9+$B$7 -> 1.5942173 | AC55: =COS(AA55)*$B$9+$B$5 -> 0.41035101 | AE55: 45 | AF55: =RADIANS(AE55) -> 0.78539816 | AG55: =SIN(AF55)*$B$10+$E$4 -> 0.86157716 | AH55: =COS(AF55)*$B$10+$B$14 -> 0.51257716 | AJ55: 54 | AK55: =RADIANS(AJ55) -> 0.9424778 | AL55: =SIN(AK55)*0.025+$B$67 -> 0.70479488 | AM55: =COS(AK55)*0.025+$B$68 -> 0.63179121 | AO55: 54 | AP55: =RADIANS(AO55) -> 0.9424778 | AQ55: =SIN(AP55)*0.025+$B$69 -> 0.71698321 | AR55: =COS(AP55)*0.025+$B$70 -> 0.8985827
B56: Level | C56: Level w/rider | D56: Lifted | E56: Lifted w/rider | P56: 55 | Q56: =RADIANS(P56) -> 0.95993109 | R56: =SIN(Q56)*$B$4 -> 0.28342661 | S56: =COS(Q56)*$B$4+$B$4 -> 0.54445745 | U56: 55 | V56: =RADIANS(U56) -> 0.95993109 | W56: =SIN(V56)*$B$5+$B$7 -> 1.7561393 | X56: =COS(V56)*$B$5+$B$5 -> 0.5208538 | Z56: 55 | AA56: =RADIANS(Z56) -> 0.95993109 | AB56: =SIN(AA56)*$B$9+$B$7 -> 1.5955855 | AC56: =COS(AA56)*$B$9+$B$5 -> 0.40843282 | AE56: 46 | AF56: =RADIANS(AE56) -> 0.80285146 | AG56: =SIN(AF56)*$B$10+$E$4 -> 0.86205425 | AH56: =COS(AF56)*$B$10+$B$14 -> 0.51209168 | AJ56: 55 | AK56: =RADIANS(AJ56) -> 0.95993109 | AL56: =SIN(AK56)*0.025+$B$67 -> 0.70504826 | AM56: =COS(AK56)*0.025+$B$68 -> 0.63143599 | AO56: 55 | AP56: =RADIANS(AO56) -> 0.95993109 | AQ56: =SIN(AP56)*0.025+$B$69 -> 0.71723658 | AR56: =COS(AP56)*0.025+$B$70 -> 0.89822748
A57: Front Wheel (kg) | B57: 56.65 | C57: 97.19 | D57: 62.16 | E57: 115.99 | P57: 56 | Q57: =RADIANS(P57) -> 0.97738438 | R57: =SIN(Q57)*$B$4 -> 0.286847 | S57: =COS(Q57)*$B$4+$B$4 -> 0.53948074 | U57: 56 | V57: =RADIANS(U57) -> 0.97738438 | W57: =SIN(V57)*$B$5+$B$7 -> 1.7594114 | X57: =COS(V57)*$B$5+$B$5 -> 0.51609285 | Z57: 56 | AA57: =RADIANS(Z57) -> 0.97738438 | AB57: =SIN(AA57)*$B$9+$B$7 -> 1.5969201 | AC57: =COS(AA57)*$B$9+$B$5 -> 0.40649104 | AE57: 47 | AF57: =RADIANS(AE57) -> 0.82030475 | AG57: =SIN(AF57)*$B$10+$E$4 -> 0.86252279 | AH57: =COS(AF57)*$B$10+$B$14 -> 0.51159794 | AJ57: 56 | AK57: =RADIANS(AJ57) -> 0.97738438 | AL57: =SIN(AK57)*0.025+$B$67 -> 0.7052954 | AM57: =COS(AK57)*0.025+$B$68 -> 0.6310764 | AO57: 56 | AP57: =RADIANS(AO57) -> 0.97738438 | AQ57: =SIN(AP57)*0.025+$B$69 -> 0.71748372 | AR57: =COS(AP57)*0.025+$B$70 -> 0.89786789
A58: Rear wheel (kg) | B58: 48.45 | C58: 85.91 | D58: 42.94 | E58: 67.11 | P58: 57 | Q58: =RADIANS(P58) -> 0.99483767 | R58: =SIN(Q58)*$B$4 -> 0.29018002 | S58: =COS(Q58)*$B$4+$B$4 -> 0.53444511 | U58: 57 | V58: =RADIANS(U58) -> 0.99483767 | W58: =SIN(V58)*$B$5+$B$7 -> 1.7626 | X58: =COS(V58)*$B$5+$B$5 -> 0.51127552 | Z58: 57 | AA58: =RADIANS(Z58) -> 0.99483767 | AB58: =SIN(AA58)*$B$9+$B$7 -> 1.5982205 | AC58: =COS(AA58)*$B$9+$B$5 -> 0.40452627 | AE58: 48 | AF58: =RADIANS(AE58) -> 0.83775804 | AG58: =SIN(AF58)*$B$10+$E$4 -> 0.86298265 | AH58: =COS(AF58)*$B$10+$B$14 -> 0.51109609 | AJ58: 57 | AK58: =RADIANS(AJ58) -> 0.99483767 | AL58: =SIN(AK58)*0.025+$B$67 -> 0.70553622 | AM58: =COS(AK58)*0.025+$B$68 -> 0.63071256 | AO58: 57 | AP58: =RADIANS(AO58) -> 0.99483767 | AQ58: =SIN(AP58)*0.025+$B$69 -> 0.71772455 | AR58: =COS(AP58)*0.025+$B$70 -> 0.89750405
P59: 58 | Q59: =RADIANS(P59) -> 1.012291 | R59: =SIN(Q59)*$B$4 -> 0.29342464 | S59: =COS(Q59)*$B$4+$B$4 -> 0.52935207 | U59: 58 | V59: =RADIANS(U59) -> 1.012291 | W59: =SIN(V59)*$B$5+$B$7 -> 1.7657039 | X59: =COS(V59)*$B$5+$B$5 -> 0.50640328 | Z59: 58 | AA59: =RADIANS(Z59) -> 1.012291 | AB59: =SIN(AA59)*$B$9+$B$7 -> 1.5994865 | AC59: =COS(AA59)*$B$9+$B$5 -> 0.4025391 | AE59: 49 | AF59: =RADIANS(AE59) -> 0.85521133 | AG59: =SIN(AF59)*$B$10+$E$4 -> 0.86343367 | AH59: =COS(AF59)*$B$10+$B$14 -> 0.5105863 | AJ59: 58 | AK59: =RADIANS(AJ59) -> 1.012291 | AL59: =SIN(AK59)*0.025+$B$67 -> 0.70577066 | AM59: =COS(AK59)*0.025+$B$68 -> 0.63034456 | AO59: 58 | AP59: =RADIANS(AO59) -> 1.012291 | AQ59: =SIN(AP59)*0.025+$B$69 -> 0.71795899 | AR59: =COS(AP59)*0.025+$B$70 -> 0.89713605
A60: Wheelbase | B60: 1.485 | D60: weight of bike | E60: =B57+B58 -> 105.1 | P60: 59 | Q60: =RADIANS(P60) -> 1.0297443 | R60: =SIN(Q60)*$B$4 -> 0.29657989 | S60: =COS(Q60)*$B$4+$B$4 -> 0.52420317 | U60: 59 | V60: =RADIANS(U60) -> 1.0297443 | W60: =SIN(V60)*$B$5+$B$7 -> 1.7687224 | X60: =COS(V60)*$B$5+$B$5 -> 0.5014776 | Z60: 59 | AA60: =RADIANS(Z60) -> 1.0297443 | AB60: =SIN(AA60)*$B$9+$B$7 -> 1.6007176 | AC60: =COS(AA60)*$B$9+$B$5 -> 0.40053014 | AE60: 50 | AF60: =RADIANS(AE60) -> 0.87266463 | AG60: =SIN(AF60)*$B$10+$E$4 -> 0.86387573 | AH60: =COS(AF60)*$B$10+$B$14 -> 0.51006872 | AJ60: 59 | AK60: =RADIANS(AJ60) -> 1.0297443 | AL60: =SIN(AK60)*0.025+$B$67 -> 0.70599864 | AM60: =COS(AK60)*0.025+$B$68 -> 0.62997253 | AO60: 59 | AP60: =RADIANS(AO60) -> 1.0297443 | AQ60: =SIN(AP60)*0.025+$B$69 -> 0.71818697 | AR60: =COS(AP60)*0.025+$B$70 -> 0.89676402
A61: Rw RAD | B61: =0.662/2 -> 0.331 | D61: Rider weight | E61: 78 | P61: 60 | Q61: =RADIANS(P61) -> 1.0471976 | R61: =SIN(Q61)*$B$4 -> 0.29964479 | S61: =COS(Q61)*$B$4+$B$4 -> 0.519 | U61: 60 | V61: =RADIANS(U61) -> 1.0471976 | W61: =SIN(V61)*$B$5+$B$7 -> 1.7716544 | X61: =COS(V61)*$B$5+$B$5 -> 0.4965 | Z61: 60 | AA61: =RADIANS(Z61) -> 1.0471976 | AB61: =SIN(AA61)*$B$9+$B$7 -> 1.6019134 | AC61: =COS(AA61)*$B$9+$B$5 -> 0.3985 | AE61: 51 | AF61: =RADIANS(AE61) -> 0.89011792 | AG61: =SIN(AF61)*$B$10+$E$4 -> 0.86430869 | AH61: =COS(AF61)*$B$10+$B$14 -> 0.5095435 | AJ61: 60 | AK61: =RADIANS(AJ61) -> 1.0471976 | AL61: =SIN(AK61)*0.025+$B$67 -> 0.70622009 | AM61: =COS(AK61)*0.025+$B$68 -> 0.62959658 | AO61: 60 | AP61: =RADIANS(AO61) -> 1.0471976 | AQ61: =SIN(AP61)*0.025+$B$69 -> 0.71840842 | AR61: =COS(AP61)*0.025+$B$70 -> 0.89638807
A62: Fw RAD | B62: =0.693/2 -> 0.3465 | D62: Total weight | E62: =E60+E61 -> 183.1 | P62: 61 | Q62: =RADIANS(P62) -> 1.0646508 | R62: =SIN(Q62)*$B$4 -> 0.30261842 | S62: =COS(Q62)*$B$4+$B$4 -> 0.51374413 | U62: 61 | V62: =RADIANS(U62) -> 1.0646508 | W62: =SIN(V62)*$B$5+$B$7 -> 1.7744991 | X62: =COS(V62)*$B$5+$B$5 -> 0.49147198 | Z62: 61 | AA62: =RADIANS(Z62) -> 1.0646508 | AB62: =SIN(AA62)*$B$9+$B$7 -> 1.6030737 | AC62: =COS(AA62)*$B$9+$B$5 -> 0.3964493 | AE62: 52 | AF62: =RADIANS(AE62) -> 0.90757121 | AG62: =SIN(AF62)*$B$10+$E$4 -> 0.86473242 | AH62: =COS(AF62)*$B$10+$B$14 -> 0.5090108 | AJ62: 61 | AK62: =RADIANS(AJ62) -> 1.0646508 | AL62: =SIN(AK62)*0.025+$B$67 -> 0.70643495 | AM62: =COS(AK62)*0.025+$B$68 -> 0.62921682 | AO62: 61 | AP62: =RADIANS(AO62) -> 1.0646508 | AQ62: =SIN(AP62)*0.025+$B$69 -> 0.71862328 | AR62: =COS(AP62)*0.025+$B$70 -> 0.89600831
A63: RAV | B63: =SUM((B61+B62)/2) -> 0.33875 | P63: 62 | Q63: =RADIANS(P63) -> 1.0821041 | R63: =SIN(Q63)*$B$4 -> 0.30549987 | S63: =COS(Q63)*$B$4+$B$4 -> 0.50843716 | U63: 62 | V63: =RADIANS(U63) -> 1.0821041 | W63: =SIN(V63)*$B$5+$B$7 -> 1.7772557 | X63: =COS(V63)*$B$5+$B$5 -> 0.48639509 | Z63: 62 | AA63: =RADIANS(Z63) -> 1.0821041 | AB63: =SIN(AA63)*$B$9+$B$7 -> 1.6041979 | AC63: =COS(AA63)*$B$9+$B$5 -> 0.39437866 | AE63: 53 | AF63: =RADIANS(AE63) -> 0.9250245 | AG63: =SIN(AF63)*$B$10+$E$4 -> 0.86514678 | AH63: =COS(AF63)*$B$10+$B$14 -> 0.50847079 | AJ63: 62 | AK63: =RADIANS(AJ63) -> 1.0821041 | AL63: =SIN(AK63)*0.025+$B$67 -> 0.70664315 | AM63: =COS(AK63)*0.025+$B$68 -> 0.62883337 | AO63: 62 | AP63: =RADIANS(AO63) -> 1.0821041 | AQ63: =SIN(AP63)*0.025+$B$69 -> 0.71883147 | AR63: =COS(AP63)*0.025+$B$70 -> 0.89562486
A64: Stool height | B64: 0.4 | D64: Stool weight | E64: 0 | P64: 63 | Q64: =RADIANS(P64) -> 1.0995574 | R64: =SIN(Q64)*$B$4 -> 0.30828826 | S64: =COS(Q64)*$B$4+$B$4 -> 0.50308071 | U64: 63 | V64: =RADIANS(U64) -> 1.0995574 | W64: =SIN(V64)*$B$5+$B$7 -> 1.7799232 | X64: =COS(V64)*$B$5+$B$5 -> 0.48127086 | Z64: 63 | AA64: =RADIANS(Z64) -> 1.0995574 | AB64: =SIN(AA64)*$B$9+$B$7 -> 1.6052859 | AC64: =COS(AA64)*$B$9+$B$5 -> 0.39228872 | AE64: 54 | AF64: =RADIANS(AE64) -> 0.9424778 | AG64: =SIN(AF64)*$B$10+$E$4 -> 0.86555166 | AH64: =COS(AF64)*$B$10+$B$14 -> 0.50792362 | AJ64: 63 | AK64: =RADIANS(AJ64) -> 1.0995574 | AL64: =SIN(AK64)*0.025+$B$67 -> 0.70684462 | AM64: =COS(AK64)*0.025+$B$68 -> 0.62844634 | AO64: 63 | AP64: =RADIANS(AO64) -> 1.0995574 | AQ64: =SIN(AP64)*0.025+$B$69 -> 0.71903295 | AR64: =COS(AP64)*0.025+$B$70 -> 0.89523783
A65: Lifted angle (deg) | B65: =DEGREES(ASIN(B64/B60)) -> 15.626203 | P65: 64 | Q65: =RADIANS(P65) -> 1.1170107 | R65: =SIN(Q65)*$B$4 -> 0.31098274 | S65: =COS(Q65)*$B$4+$B$4 -> 0.49767642 | U65: 64 | V65: =RADIANS(U65) -> 1.1170107 | W65: =SIN(V65)*$B$5+$B$7 -> 1.7825008 | X65: =COS(V65)*$B$5+$B$5 -> 0.47610085 | Z65: 64 | AA65: =RADIANS(Z65) -> 1.1170107 | AB65: =SIN(AA65)*$B$9+$B$7 -> 1.6063372 | AC65: =COS(AA65)*$B$9+$B$5 -> 0.3901801 | AE65: 55 | AF65: =RADIANS(AE65) -> 0.95993109 | AG65: =SIN(AF65)*$B$10+$E$4 -> 0.86594693 | AH65: =COS(AF65)*$B$10+$B$14 -> 0.50736948 | AJ65: 64 | AK65: =RADIANS(AJ65) -> 1.1170107 | AL65: =SIN(AK65)*0.025+$B$67 -> 0.70703931 | AM65: =COS(AK65)*0.025+$B$68 -> 0.62805586 | AO65: 64 | AP65: =RADIANS(AO65) -> 1.1170107 | AQ65: =SIN(AP65)*0.025+$B$69 -> 0.71922763 | AR65: =COS(AP65)*0.025+$B$70 -> 0.89484735
P66: 65 | Q66: =RADIANS(P66) -> 1.134464 | R66: =SIN(Q66)*$B$4 -> 0.31358249 | S66: =COS(Q66)*$B$4+$B$4 -> 0.49222592 | U66: 65 | V66: =RADIANS(U66) -> 1.134464 | W66: =SIN(V66)*$B$5+$B$7 -> 1.7849879 | X66: =COS(V66)*$B$5+$B$5 -> 0.47088664 | Z66: 65 | AA66: =RADIANS(Z66) -> 1.134464 | AB66: =SIN(AA66)*$B$9+$B$7 -> 1.6073516 | AC66: =COS(AA66)*$B$9+$B$5 -> 0.38805347 | AE66: 56 | AF66: =RADIANS(AE66) -> 0.97738438 | AG66: =SIN(AF66)*$B$10+$E$4 -> 0.86633247 | AH66: =COS(AF66)*$B$10+$B$14 -> 0.50680852 | AJ66: 65 | AK66: =RADIANS(AJ66) -> 1.134464 | AL66: =SIN(AK66)*0.025+$B$67 -> 0.70722715 | AM66: =COS(AK66)*0.025+$B$68 -> 0.62766204 | AO66: 65 | AP66: =RADIANS(AO66) -> 1.134464 | AQ66: =SIN(AP66)*0.025+$B$69 -> 0.71941548 | AR66: =COS(AP66)*0.025+$B$70 -> 0.89445353
A67: XcoG | B67: =(B58*B60)/E60 -> 0.68456946 | D67: %Front | E67: =(B57/E60)*100 -> 53.901047 | P67: 66 | Q67: =RADIANS(P67) -> 1.1519173 | R67: =SIN(Q67)*$B$4 -> 0.31608673 | S67: =COS(Q67)*$B$4+$B$4 -> 0.48673088 | U67: 66 | V67: =RADIANS(U67) -> 1.1519173 | W67: =SIN(V67)*$B$5+$B$7 -> 1.7873835 | X67: =COS(V67)*$B$5+$B$5 -> 0.46562983 | Z67: 66 | AA67: =RADIANS(Z67) -> 1.1519173 | AB67: =SIN(AA67)*$B$9+$B$7 -> 1.6083286 | AC67: =COS(AA67)*$B$9+$B$5 -> 0.38590945 | AE67: 57 | AF67: =RADIANS(AE67) -> 0.99483767 | AG67: =SIN(AF67)*$B$10+$E$4 -> 0.86670815 | AH67: =COS(AF67)*$B$10+$B$14 -> 0.50624092 | AJ67: 66 | AK67: =RADIANS(AJ67) -> 1.1519173 | AL67: =SIN(AK67)*0.025+$B$67 -> 0.70740809 | AM67: =COS(AK67)*0.025+$B$68 -> 0.627265 | AO67: 66 | AP67: =RADIANS(AO67) -> 1.1519173 | AQ67: =SIN(AP67)*0.025+$B$69 -> 0.71959642 | AR67: =COS(AP67)*0.025+$B$70 -> 0.89405649
A68: YcoG | B68: =(B60*(B58-D58))/(E60*TAN(RADIANS(B65)))+B63 -> 0.61709658 | D68: %Rear | E68: =(B58/E60)*100 -> 46.098953 | P68: 67 | Q68: =RADIANS(P68) -> 1.1693706 | R68: =SIN(Q68)*$B$4 -> 0.31849468 | S68: =COS(Q68)*$B$4+$B$4 -> 0.48119297 | U68: 67 | V68: =RADIANS(U68) -> 1.1693706 | W68: =SIN(V68)*$B$5+$B$7 -> 1.7896871 | X68: =COS(V68)*$B$5+$B$5 -> 0.460332 | Z68: 67 | AA68: =RADIANS(Z68) -> 1.1693706 | AB68: =SIN(AA68)*$B$9+$B$7 -> 1.6092682 | AC68: =COS(AA68)*$B$9+$B$5 -> 0.3837487 | AE68: 58 | AF68: =RADIANS(AE68) -> 1.012291 | AG68: =SIN(AF68)*$B$10+$E$4 -> 0.86707388 | AH68: =COS(AF68)*$B$10+$B$14 -> 0.50566685 | AJ68: 67 | AK68: =RADIANS(AJ68) -> 1.1693706 | AL68: =SIN(AK68)*0.025+$B$67 -> 0.70758208 | AM68: =COS(AK68)*0.025+$B$68 -> 0.62686486 | AO68: 67 | AP68: =RADIANS(AO68) -> 1.1693706 | AQ68: =SIN(AP68)*0.025+$B$69 -> 0.7197704 | AR68: =COS(AP68)*0.025+$B$70 -> 0.89365635
A69: XcoG W/rider | B69: =(C58*B60)/E62 -> 0.69675778 | D69: %Front W/rider | E69: =((B60-B69)/B60)*100 -> 53.080284 | P69: 68 | Q69: =RADIANS(P69) -> 1.1868239 | R69: =SIN(Q69)*$B$4 -> 0.32080561 | S69: =COS(Q69)*$B$4+$B$4 -> 0.47561388 | U69: 68 | V69: =RADIANS(U69) -> 1.1868239 | W69: =SIN(V69)*$B$5+$B$7 -> 1.7918979 | X69: =COS(V69)*$B$5+$B$5 -> 0.45499478 | Z69: 68 | AA69: =RADIANS(Z69) -> 1.1868239 | AB69: =SIN(AA69)*$B$9+$B$7 -> 1.6101698 | AC69: =COS(AA69)*$B$9+$B$5 -> 0.38157189 | AE69: 59 | AF69: =RADIANS(AE69) -> 1.0297443 | AG69: =SIN(AF69)*$B$10+$E$4 -> 0.86742952 | AH69: =COS(AF69)*$B$10+$B$14 -> 0.50508648 | AJ69: 68 | AK69: =RADIANS(AJ69) -> 1.1868239 | AL69: =SIN(AK69)*0.025+$B$67 -> 0.70774905 | AM69: =COS(AK69)*0.025+$B$68 -> 0.62646175 | AO69: 68 | AP69: =RADIANS(AO69) -> 1.1868239 | AQ69: =SIN(AP69)*0.025+$B$69 -> 0.71993738 | AR69: =COS(AP69)*0.025+$B$70 -> 0.89325324
A70: YcoG W/rider | B70: =(B60*(C58-E58))/(E62*TAN(RADIANS(B65)))+B63 -> 0.88388807 | D70: %Rear W/rider | E70: =(B69/B60)*100 -> 46.919716 | P70: 69 | Q70: =RADIANS(P70) -> 1.2042772 | R70: =SIN(Q70)*$B$4 -> 0.32301883 | S70: =COS(Q70)*$B$4+$B$4 -> 0.46999531 | U70: 69 | V70: =RADIANS(U70) -> 1.2042772 | W70: =SIN(V70)*$B$5+$B$7 -> 1.7940151 | X70: =COS(V70)*$B$5+$B$5 -> 0.44961979 | Z70: 69 | AA70: =RADIANS(Z70) -> 1.2042772 | AB70: =SIN(AA70)*$B$9+$B$7 -> 1.6110334 | AC70: =COS(AA70)*$B$9+$B$5 -> 0.37937967 | AE70: 60 | AF70: =RADIANS(AE70) -> 1.0471976 | AG70: =SIN(AF70)*$B$10+$E$4 -> 0.86777499 | AH70: =COS(AF70)*$B$10+$B$14 -> 0.5045 | AJ70: 69 | AK70: =RADIANS(AJ70) -> 1.2042772 | AL70: =SIN(AK70)*0.025+$B$67 -> 0.70790897 | AM70: =COS(AK70)*0.025+$B$68 -> 0.62605578 | AO70: 69 | AP70: =RADIANS(AO70) -> 1.2042772 | AQ70: =SIN(AP70)*0.025+$B$69 -> 0.72009729 | AR70: =COS(AP70)*0.025+$B$70 -> 0.89284727
P71: 70 | Q71: =RADIANS(P71) -> 1.2217305 | R71: =SIN(Q71)*$B$4 -> 0.32513365 | S71: =COS(Q71)*$B$4+$B$4 -> 0.46433897 | U71: 70 | V71: =RADIANS(U71) -> 1.2217305 | W71: =SIN(V71)*$B$5+$B$7 -> 1.7960383 | X71: =COS(V71)*$B$5+$B$5 -> 0.44420867 | Z71: 70 | AA71: =RADIANS(Z71) -> 1.2217305 | AB71: =SIN(AA71)*$B$9+$B$7 -> 1.6118585 | AC71: =COS(AA71)*$B$9+$B$5 -> 0.37717272 | AE71: 61 | AF71: =RADIANS(AE71) -> 1.0646508 | AG71: =SIN(AF71)*$B$10+$E$4 -> 0.86811017 | AH71: =COS(AF71)*$B$10+$B$14 -> 0.50390758 | AJ71: 70 | AK71: =RADIANS(AJ71) -> 1.2217305 | AL71: =SIN(AK71)*0.025+$B$67 -> 0.70806177 | AM71: =COS(AK71)*0.025+$B$68 -> 0.62564708 | AO71: 70 | AP71: =RADIANS(AO71) -> 1.2217305 | AQ71: =SIN(AP71)*0.025+$B$69 -> 0.7202501 | AR71: =COS(AP71)*0.025+$B$70 -> 0.89243858
P72: 71 | Q72: =RADIANS(P72) -> 1.2391838 | R72: =SIN(Q72)*$B$4 -> 0.32714943 | S72: =COS(Q72)*$B$4+$B$4 -> 0.45864658 | U72: 71 | V72: =RADIANS(U72) -> 1.2391838 | W72: =SIN(V72)*$B$5+$B$7 -> 1.7979666 | X72: =COS(V72)*$B$5+$B$5 -> 0.43876306 | Z72: 71 | AA72: =RADIANS(Z72) -> 1.2391838 | AB72: =SIN(AA72)*$B$9+$B$7 -> 1.612645 | AC72: =COS(AA72)*$B$9+$B$5 -> 0.3749517 | AE72: 62 | AF72: =RADIANS(AE72) -> 1.0821041 | AG72: =SIN(AF72)*$B$10+$E$4 -> 0.86843496 | AH72: =COS(AF72)*$B$10+$B$14 -> 0.50330939 | AJ72: 71 | AK72: =RADIANS(AJ72) -> 1.2391838 | AL72: =SIN(AK72)*0.025+$B$67 -> 0.70820742 | AM72: =COS(AK72)*0.025+$B$68 -> 0.62523579 | AO72: 71 | AP72: =RADIANS(AO72) -> 1.2391838 | AQ72: =SIN(AP72)*0.025+$B$69 -> 0.72039575 | AR72: =COS(AP72)*0.025+$B$70 -> 0.89202728
P73: 72 | Q73: =RADIANS(P73) -> 1.2566371 | R73: =SIN(Q73)*$B$4 -> 0.32906555 | S73: =COS(Q73)*$B$4+$B$4 -> 0.45291988 | U73: 72 | V73: =RADIANS(U73) -> 1.2566371 | W73: =SIN(V73)*$B$5+$B$7 -> 1.7997997 | X73: =COS(V73)*$B$5+$B$5 -> 0.43328463 | Z73: 72 | AA73: =RADIANS(Z73) -> 1.2566371 | AB73: =SIN(AA73)*$B$9+$B$7 -> 1.6133926 | AC73: =COS(AA73)*$B$9+$B$5 -> 0.37271729 | AE73: 63 | AF73: =RADIANS(AE73) -> 1.0995574 | AG73: =SIN(AF73)*$B$10+$E$4 -> 0.86874925 | AH73: =COS(AF73)*$B$10+$B$14 -> 0.50270563 | AJ73: 72 | AK73: =RADIANS(AJ73) -> 1.2566371 | AL73: =SIN(AK73)*0.025+$B$67 -> 0.70834587 | AM73: =COS(AK73)*0.025+$B$68 -> 0.62482201 | AO73: 72 | AP73: =RADIANS(AO73) -> 1.2566371 | AQ73: =SIN(AP73)*0.025+$B$69 -> 0.7205342 | AR73: =COS(AP73)*0.025+$B$70 -> 0.8916135
P74: 73 | Q74: =RADIANS(P74) -> 1.2740904 | R74: =SIN(Q74)*$B$4 -> 0.33088145 | S74: =COS(Q74)*$B$4+$B$4 -> 0.44716061 | U74: 73 | V74: =RADIANS(U74) -> 1.2740904 | W74: =SIN(V74)*$B$5+$B$7 -> 1.8015369 | X74: =COS(V74)*$B$5+$B$5 -> 0.42777503 | Z74: 73 | AA74: =RADIANS(Z74) -> 1.2740904 | AB74: =SIN(AA74)*$B$9+$B$7 -> 1.6141011 | AC74: =COS(AA74)*$B$9+$B$5 -> 0.37047018 | AE74: 64 | AF74: =RADIANS(AE74) -> 1.1170107 | AG74: =SIN(AF74)*$B$10+$E$4 -> 0.86905297 | AH74: =COS(AF74)*$B$10+$B$14 -> 0.50209647 | AJ74: 73 | AK74: =RADIANS(AJ74) -> 1.2740904 | AL74: =SIN(AK74)*0.025+$B$67 -> 0.70847708 | AM74: =COS(AK74)*0.025+$B$68 -> 0.62440587 | AO74: 73 | AP74: =RADIANS(AO74) -> 1.2740904 | AQ74: =SIN(AP74)*0.025+$B$69 -> 0.7206654 | AR74: =COS(AP74)*0.025+$B$70 -> 0.89119736
P75: 74 | Q75: =RADIANS(P75) -> 1.2915436 | R75: =SIN(Q75)*$B$4 -> 0.33259655 | S75: =COS(Q75)*$B$4+$B$4 -> 0.44137053 | U75: 74 | V75: =RADIANS(U75) -> 1.2915436 | W75: =SIN(V75)*$B$5+$B$7 -> 1.8031776 | X75: =COS(V75)*$B$5+$B$5 -> 0.42223596 | Z75: 74 | AA75: =RADIANS(Z75) -> 1.2915436 | AB75: =SIN(AA75)*$B$9+$B$7 -> 1.6147703 | AC75: =COS(AA75)*$B$9+$B$5 -> 0.36821104 | AE75: 65 | AF75: =RADIANS(AE75) -> 1.134464 | AG75: =SIN(AF75)*$B$10+$E$4 -> 0.869346 | AH75: =COS(AF75)*$B$10+$B$14 -> 0.50148211 | AJ75: 74 | AK75: =RADIANS(AJ75) -> 1.2915436 | AL75: =SIN(AK75)*0.025+$B$67 -> 0.708601 | AM75: =COS(AK75)*0.025+$B$68 -> 0.62398752 | AO75: 74 | AP75: =RADIANS(AO75) -> 1.2915436 | AQ75: =SIN(AP75)*0.025+$B$69 -> 0.72078933 | AR75: =COS(AP75)*0.025+$B$70 -> 0.89077901
P76: 75 | Q76: =RADIANS(P76) -> 1.3089969 | R76: =SIN(Q76)*$B$4 -> 0.33421034 | S76: =COS(Q76)*$B$4+$B$4 -> 0.43555139 | U76: 75 | V76: =RADIANS(U76) -> 1.3089969 | W76: =SIN(V76)*$B$5+$B$7 -> 1.8047214 | X76: =COS(V76)*$B$5+$B$5 -> 0.4166691 | Z76: 75 | AA76: =RADIANS(Z76) -> 1.3089969 | AB76: =SIN(AA76)*$B$9+$B$7 -> 1.6154 | AC76: =COS(AA76)*$B$9+$B$5 -> 0.36594057 | AE76: 66 | AF76: =RADIANS(AE76) -> 1.1519173 | AG76: =SIN(AF76)*$B$10+$E$4 -> 0.86962827 | AH76: =COS(AF76)*$B$10+$B$14 -> 0.50086273 | AJ76: 75 | AK76: =RADIANS(AJ76) -> 1.3089969 | AL76: =SIN(AK76)*0.025+$B$67 -> 0.7087176 | AM76: =COS(AK76)*0.025+$B$68 -> 0.62356706 | AO76: 75 | AP76: =RADIANS(AO76) -> 1.3089969 | AQ76: =SIN(AP76)*0.025+$B$69 -> 0.72090593 | AR76: =COS(AP76)*0.025+$B$70 -> 0.89035855
P77: 76 | Q77: =RADIANS(P77) -> 1.3264502 | R77: =SIN(Q77)*$B$4 -> 0.33572232 | S77: =COS(Q77)*$B$4+$B$4 -> 0.42970498 | U77: 76 | V77: =RADIANS(U77) -> 1.3264502 | W77: =SIN(V77)*$B$5+$B$7 -> 1.8061679 | X77: =COS(V77)*$B$5+$B$5 -> 0.41107615 | Z77: 76 | AA77: =RADIANS(Z77) -> 1.3264502 | AB77: =SIN(AA77)*$B$9+$B$7 -> 1.6159899 | AC77: =COS(AA77)*$B$9+$B$5 -> 0.36365946 | AE77: 67 | AF77: =RADIANS(AE77) -> 1.1693706 | AG77: =SIN(AF77)*$B$10+$E$4 -> 0.86989969 | AH77: =COS(AF77)*$B$10+$B$14 -> 0.50023851 | AJ77: 76 | AK77: =RADIANS(AJ77) -> 1.3264502 | AL77: =SIN(AK77)*0.025+$B$67 -> 0.70882685 | AM77: =COS(AK77)*0.025+$B$68 -> 0.62314463 | AO77: 76 | AP77: =RADIANS(AO77) -> 1.3264502 | AQ77: =SIN(AP77)*0.025+$B$69 -> 0.72101518 | AR77: =COS(AP77)*0.025+$B$70 -> 0.88993612
P78: 77 | Q78: =RADIANS(P78) -> 1.3439035 | R78: =SIN(Q78)*$B$4 -> 0.33713204 | S78: =COS(Q78)*$B$4+$B$4 -> 0.42383306 | U78: 77 | V78: =RADIANS(U78) -> 1.3439035 | W78: =SIN(V78)*$B$5+$B$7 -> 1.8075165 | X78: =COS(V78)*$B$5+$B$5 -> 0.4054588 | Z78: 77 | AA78: =RADIANS(Z78) -> 1.3439035 | AB78: =SIN(AA78)*$B$9+$B$7 -> 1.61654 | AC78: =COS(AA78)*$B$9+$B$5 -> 0.36136839 | AE78: 68 | AF78: =RADIANS(AE78) -> 1.1868239 | AG78: =SIN(AF78)*$B$10+$E$4 -> 0.87016017 | AH78: =COS(AF78)*$B$10+$B$14 -> 0.49960966 | AJ78: 77 | AK78: =RADIANS(AJ78) -> 1.3439035 | AL78: =SIN(AK78)*0.025+$B$67 -> 0.70892871 | AM78: =COS(AK78)*0.025+$B$68 -> 0.62272036 | AO78: 77 | AP78: =RADIANS(AO78) -> 1.3439035 | AQ78: =SIN(AP78)*0.025+$B$69 -> 0.72111703 | AR78: =COS(AP78)*0.025+$B$70 -> 0.88951185
P79: 78 | Q79: =RADIANS(P79) -> 1.3613568 | R79: =SIN(Q79)*$B$4 -> 0.33843907 | S79: =COS(Q79)*$B$4+$B$4 -> 0.41793745 | U79: 78 | V79: =RADIANS(U79) -> 1.3613568 | W79: =SIN(V79)*$B$5+$B$7 -> 1.8087669 | X79: =COS(V79)*$B$5+$B$5 -> 0.39981877 | Z79: 78 | AA79: =RADIANS(Z79) -> 1.3613568 | AB79: =SIN(AA79)*$B$9+$B$7 -> 1.6170499 | AC79: =COS(AA79)*$B$9+$B$5 -> 0.35906808 | AE79: 69 | AF79: =RADIANS(AE79) -> 1.2042772 | AG79: =SIN(AF79)*$B$10+$E$4 -> 0.87040964 | AH79: =COS(AF79)*$B$10+$B$14 -> 0.49897635 | AJ79: 78 | AK79: =RADIANS(AJ79) -> 1.3613568 | AL79: =SIN(AK79)*0.025+$B$67 -> 0.70902315 | AM79: =COS(AK79)*0.025+$B$68 -> 0.62229437 | AO79: 78 | AP79: =RADIANS(AO79) -> 1.3613568 | AQ79: =SIN(AP79)*0.025+$B$69 -> 0.72121147 | AR79: =COS(AP79)*0.025+$B$70 -> 0.88908586
P80: 79 | Q80: =RADIANS(P80) -> 1.3788101 | R80: =SIN(Q80)*$B$4 -> 0.33964301 | S80: =COS(Q80)*$B$4+$B$4 -> 0.41201991 | U80: 79 | V80: =RADIANS(U80) -> 1.3788101 | W80: =SIN(V80)*$B$5+$B$7 -> 1.8099186 | X80: =COS(V80)*$B$5+$B$5 -> 0.39415778 | Z80: 79 | AA80: =RADIANS(Z80) -> 1.3788101 | AB80: =SIN(AA80)*$B$9+$B$7 -> 1.6175197 | AC80: =COS(AA80)*$B$9+$B$5 -> 0.35675921 | AE80: 70 | AF80: =RADIANS(AE80) -> 1.2217305 | AG80: =SIN(AF80)*$B$10+$E$4 -> 0.87064801 | AH80: =COS(AF80)*$B$10+$B$14 -> 0.49833879 | AJ80: 79 | AK80: =RADIANS(AJ80) -> 1.3788101 | AL80: =SIN(AK80)*0.025+$B$67 -> 0.70911014 | AM80: =COS(AK80)*0.025+$B$68 -> 0.62186681 | AO80: 79 | AP80: =RADIANS(AO80) -> 1.3788101 | AQ80: =SIN(AP80)*0.025+$B$69 -> 0.72129846 | AR80: =COS(AP80)*0.025+$B$70 -> 0.8886583
P81: 80 | Q81: =RADIANS(P81) -> 1.3962634 | R81: =SIN(Q81)*$B$4 -> 0.34074348 | S81: =COS(Q81)*$B$4+$B$4 -> 0.40608227 | U81: 80 | V81: =RADIANS(U81) -> 1.3962634 | W81: =SIN(V81)*$B$5+$B$7 -> 1.8109714 | X81: =COS(V81)*$B$5+$B$5 -> 0.38847755 | Z81: 80 | AA81: =RADIANS(Z81) -> 1.3962634 | AB81: =SIN(AA81)*$B$9+$B$7 -> 1.617949 | AC81: =COS(AA81)*$B$9+$B$5 -> 0.3544425 | AE81: 71 | AF81: =RADIANS(AE81) -> 1.2391838 | AG81: =SIN(AF81)*$B$10+$E$4 -> 0.87087522 | AH81: =COS(AF81)*$B$10+$B$14 -> 0.49769716 | AJ81: 80 | AK81: =RADIANS(AJ81) -> 1.3962634 | AL81: =SIN(AK81)*0.025+$B$67 -> 0.70918965 | AM81: =COS(AK81)*0.025+$B$68 -> 0.62143779 | AO81: 80 | AP81: =RADIANS(AO81) -> 1.3962634 | AQ81: =SIN(AP81)*0.025+$B$69 -> 0.72137798 | AR81: =COS(AP81)*0.025+$B$70 -> 0.88822928
P82: 81 | Q82: =RADIANS(P82) -> 1.4137167 | R82: =SIN(Q82)*$B$4 -> 0.34174017 | S82: =COS(Q82)*$B$4+$B$4 -> 0.40012632 | U82: 81 | V82: =RADIANS(U82) -> 1.4137167 | W82: =SIN(V82)*$B$5+$B$7 -> 1.8119248 | X82: =COS(V82)*$B$5+$B$5 -> 0.38277981 | Z82: 81 | AA82: =RADIANS(Z82) -> 1.4137167 | AB82: =SIN(AA82)*$B$9+$B$7 -> 1.6183379 | AC82: =COS(AA82)*$B$9+$B$5 -> 0.35211865 | AE82: 72 | AF82: =RADIANS(AE82) -> 1.2566371 | AG82: =SIN(AF82)*$B$10+$E$4 -> 0.8710912 | AH82: =COS(AF82)*$B$10+$B$14 -> 0.49705166 | AJ82: 81 | AK82: =RADIANS(AJ82) -> 1.4137167 | AL82: =SIN(AK82)*0.025+$B$67 -> 0.70926167 | AM82: =COS(AK82)*0.025+$B$68 -> 0.62100744 | AO82: 81 | AP82: =RADIANS(AO82) -> 1.4137167 | AQ82: =SIN(AP82)*0.025+$B$69 -> 0.72144999 | AR82: =COS(AP82)*0.025+$B$70 -> 0.88779893
... P361: 360 | Q361: =RADIANS(P361) -> 6.2831853 | R361: =SIN(Q361)*$B$4 -> -8.4780273e-17 | S361: =COS(Q361)*$B$4+$B$4 -> 0.692 | U361: 360 | V361: =RADIANS(U361) -> 6.2831853 | W361: =SIN(V361)*$B$5+$B$7 -> 1.485 | X361: =COS(V361)*$B$5+$B$5 -> 0.662 | Z361: 360 | AA361: =RADIANS(Z361) -> 6.2831853 | AB361: =SIN(AA361)*$B$9+$B$7 -> 1.485 | AC361: =COS(AA361)*$B$9+$B$5 -> 0.466 | AE361: 351 | AF361: =RADIANS(AE361) -> 6.1261057 | AG361: =SIN(AF361)*$B$10+$E$4 -> 0.82789906 | AH361: =COS(AF361)*$B$10+$B$14 -> 0.52351985 | AJ361: 360 | AK361: =RADIANS(AJ361) -> 6.2831853 | AL361: =SIN(AK361)*0.025+$B$67 -> 0.68456946 | AM361: =COS(AK361)*0.025+$B$68 -> 0.64209658 | AO361: 360 | AP361: =RADIANS(AO361) -> 6.2831853 | AQ361: =SIN(AP361)*0.025+$B$69 -> 0.69675778 | AR361: =COS(AP361)*0.025+$B$70 -> 0.90888807
AE362: 352 | AF362: =RADIANS(AE362) -> 6.143559 | AG362: =SIN(AF362)*$B$10+$E$4 -> 0.82857225 | AH362: =COS(AF362)*$B$10+$B$14 -> 0.52362045
AE363: 353 | AF363: =RADIANS(AE363) -> 6.1610123 | AG363: =SIN(AF363)*$B$10+$E$4 -> 0.8292471 | AH363: =COS(AF363)*$B$10+$B$14 -> 0.5237093
AE364: 354 | AF364: =RADIANS(AE364) -> 6.1784656 | AG364: =SIN(AF364)*$B$10+$E$4 -> 0.82992339 | AH364: =COS(AF364)*$B$10+$B$14 -> 0.52378635
AE365: 355 | AF365: =RADIANS(AE365) -> 6.1959188 | AG365: =SIN(AF365)*$B$10+$E$4 -> 0.83060093 | AH365: =COS(AF365)*$B$10+$B$14 -> 0.52385159
AE366: 356 | AF366: =RADIANS(AE366) -> 6.2133721 | AG366: =SIN(AF366)*$B$10+$E$4 -> 0.8312795 | AH366: =COS(AF366)*$B$10+$B$14 -> 0.523905
AE367: 357 | AF367: =RADIANS(AE367) -> 6.2308254 | AG367: =SIN(AF367)*$B$10+$E$4 -> 0.8319589 | AH367: =COS(AF367)*$B$10+$B$14 -> 0.52394655
AE368: 358 | AF368: =RADIANS(AE368) -> 6.2482787 | AG368: =SIN(AF368)*$B$10+$E$4 -> 0.83263892 | AH368: =COS(AF368)*$B$10+$B$14 -> 0.52397624
AE369: 359 | AF369: =RADIANS(AE369) -> 6.265732 | AG369: =SIN(AF369)*$B$10+$E$4 -> 0.83331936 | AH369: =COS(AF369)*$B$10+$B$14 -> 0.52399406
AE370: 360 | AF370: =RADIANS(AE370) -> 6.2831853 | AG370: =SIN(AF370)*$B$10+$E$4 -> 0.834 | AH370: =COS(AF370)*$B$10+$B$14 -> 0.524
