Workbook
Name _GoBack: 'Introduction to the research'!$A$6

Sheet Introduction to the research
A1: Consumers engagement in knowledge sharing with business organizations (enterprises) and public organizations (i.e. schools, public administration)
A2: Dr Roisin Mullins and Dr Sandra Dettmer
A3: (this file shouldn't be used and copied without authors' permission. Contact to the authors: r.mullins@uwtsd.ac.uk)
A5: Knowledge is a strategic advantage which helps business and public organizations sustain as well as maintain their market competitiveness . Moreover, customer knowledge becomes an essential intangible asset for every line of business and public adminitration , leads to better response and respect toward customers, makes a contribution towards new and innovative products, contributes to the improvement of business value, and enhances the competitiveness of businesses. Consumers who share their knowledge with enterprises with the aim of creating values and benefits for enterprises and their own consumption are known as “prosumers,” whereas the process in which they share knowledge with enterprises is consistent with the notion of “prosumption” (for more detailed information read: ). In general, prosumption refers to situations in which prosumers share knowledge not only with enterprises, but also with other prosumers to produce things of value for enterprises, and also for themselves. They can share knowledge voluntary and do not expect any tangible benefits. Other times they share knowledge under the condition of obtaining certain benefits in return, such as rewards or fulfilling personal goals. To share their knowledge individuals use ICT. For more information you may read: 1) Investigating incentives that encouraged and can encourage Polish and UK-based prosumers to engage in knowledge sharing: www.iiakm.org/ojakm/articles/2017/volume5_1/OJAKM_Volume5_1pp72-100.pdf; 2) Identifying more about customers: the phenomenon of the switch to the knowledge exchange: www.iiakm.org/ojakm/articles/2016/volume4_1/OJAKM_Volume4_1pp165-179.pdf 3) Information and Communication Technologies for Supporting Prosumers Knowledge Sharing – Evidence from Poland and United Kingdom: https://fedcsis.org/proceedings/2016/drp/285.html 4) Tapscott, Williams, Wikinomics, 2008; 5) Toffler, The third wave, 1980
A6: Practical cases of the prosumption:
A7: https://www.shoesofprey.com/
A8: https://www.lego.com/en-gb/friends/explore/friends-designer?ignorereferer=true
A10: The research puropses are:
A11: a) the identification of business and public organisations which are promoting prosumptions projects and thus engaging prosumers to knowledge sharing;
A12: b) the identification of products and services in creation of which prosumers knowledge is use;
A13: c) the identification of business processes in which prosumers share their knowledge to create a new or to improve an existing product or service;
A14: d) the identification of the ways which prosumers may use to share their knowledge;
... A16: f) the identification of information and communication technologies (ICT) which serve as a tool to knowledge sharing

Sheet BP - model
B1: The model of business processes
B3: Business process | C3: Possibilities of prosumers' participation
B4: 2.0 Develop and Manage Products and Services | C4: • products’ designing (colors, shape or design of product); • materials requirement (with what kind of materials the product should be done); • graphic elements (e.g. logo or package); • improving functionality of product; • improving reliability and durability of product; • improving ease of product use; • improving efficiency of product; • improving ICT made available to consumers
B6: 3.0 Market and Sell Products and Services | C6: • creating advertising spots or taking part in marketing campaigns; • influencing products’ prices; • influencing promotions, discounts or loan programs; • influencing product availability and new distribution channels
B7: 4.0 Deliver Products and Services | C7: • improving ordering process • establishing new ways of ordering products and their delivery
B8: 5.0 Manage Customer Service | C8: • improving quality and lead time of customer service • improving handling complaints and warranty services • defining success factors of effective and professional customer service

Sheet Business Processes
A1: Company name | B1: Number of Employees | C1: Company Size SMALL <250 MEDIUM 250 - 500 LARGE 500 - 1000 MEGGA >1000 | D1: Business Secor - Broad version | E1: Business Sector | F1: Evidence of Sustainability focus (YES/NO) | G1: If Sustainability - where is the evidence ? State words and expressions used | H1: If Sustainability - where is the evidence - state the web site | I1: Short description of observed prosumers activity | J1: Do you contribute to ideas for Products’ (designing parts of products) | K1: Ideas or suggestions relating to materials used in the production process (with what kind of material the product/part of the product should be done) | L1: Ideas or suggestions relating to the products' look and their packaging | M1: Ideas or suggestions relating to the products' functionality | N1: Ideas or suggestions relating to reliability of the products | O1: Ideas or suggestions relating to convenience / usage of the products | P1: Ideas or suggestions relating to the products' efficiency | Q1: Ideas or suggestions relating to advertising spots and marketing campaigns | R1: Ideas or suggestions relating to products' prices, discounts and promotions | S1: Ideas or suggestions relating to loan programs | T1: Ideas or suggestions relating to the possible to deliver the products | U1: Ideas or suggestions relating to the ordering processes | V1: Ideas or suggestions relating to the handling of consumers' complaints and warranty services | W1: Ideas or suggestions relating to the quality and lead time of customer service | X1: Other
A2: https://www.pukkaherbs.com/ | B2: 70 | C2: =IF(B2<250,"SMALL",IF(B2<500,"MEDIUM",IF(B2<1000,"LARGE","MEGGA"))) -> SMALL | D2: Food Retail | E2: Tea | F2: YES | G2: Donating to enviromental charities and 100% of their teas are Fair for Life. 1% for the Planet,1% turNOver to environmental and social causes sourcing 100% organic ingredients to reducing our carbon footprint; 100% Certified organic herbs, protecting people, plants and planet £89K Invested into Community in 2016, fair premium funds for producers and communities, Renewable electricity from British sunshine, wind and rain, zero waste to landfill, helping to keep our operational footprint light | H2: https://www.pukkaherbs.com/your-wellbeing/stories/planet/sustainability-at-pukka/ https://www.pukkaherbs.com/media/76569880/pukka-sustainability-highlights-2016.pdf https://www.pukkaherbs.com/our-mission/inspiring-change/ | I2: https://www.pukkaherbs.com/your-wellbeing/stories/people/partners/bizgive/ https://www.pukkaherbs.com/media/76569880/pukka-sustainability-highlights-2016.pdf https://www.pukkaherbs.com/our-mission/inspiring-change/ | X2: Use the website to suggest via voting on how to donate to community projects.
A3: www.Dell.com | B3: 101,800 | C3: =IF(B3<250,"SMALL",IF(B3<500,"MEDIUM",IF(B3<1000,"LARGE","MEGGA"))) -> MEGGA | D3: Technology | E3: Technology | F3: YES | G3: YES Dell incorporates sustainability into their business from recycling to design. Dell's partners will intercept ocean plastics at the source (in waterways, shorelines and beaches), before they reach the ocean. Partner companies will then process and refine the recovered plastics, mixing them with other recycled plastics to create packaging for deliveries. | H3: http://www.dell.com/learn/us/en/uscorp1/dell-environment?c=us&l=en&s=corp http://www.telegraph.co.uk/connect/better-business/business-sustainability/business-put-planet-first-in-2018/ | I3: http://www.ideastorm.com/ | J3: YES | K3: YES | L3: YES | M3: YES | N3: YES | O3: YES | P3: YES | Q3: YES | R3: YES | U3: YES | V3: YES | W3: YES | X3: Web site encourages suggestions from consumers, and upload articles to vote on, and create time limited sessions for consumers to discuss an issue
A4: https://twitter.com/ | B4: 3583 | C4: =IF(B4<250,"SMALL",IF(B4<500,"MEDIUM",IF(B4<1000,"LARGE","MEGGA"))) -> MEGGA | D4: Media | E4: Private | F4: YES | G4: Corporate executives take to Twitter to cover sustainability-based topics | H4: https://www.theguardian.com/sustainable-business/blog/twitter-csr-corporate-social-responsibility-communications | I4: https://books.google.co.uk/books?isbn=1473987490 | J4: NO | K4: NO | L4: NO | M4: NO | N4: NO | O4: NO | P4: NO | Q4: YES | R4: NO | S4: NO | T4: NO | U4: NO | V4: NO | W4: YES
A5: https://www.amazon.co.uk/ | B5: 541,900 | C5: =IF(B5<250,"SMALL",IF(B5<500,"MEDIUM",IF(B5<1000,"LARGE","MEGGA"))) -> MEGGA | D5: Retail | E5: Private | F5: YES | G5: AWS commits to running business in the most environmentally friendly way | H5: https://www.amazon.co.uk/p/feature/kn3cxony42ececj | I5: https://www.amazon.co.uk/ | J5: YES | K5: YES | L5: YES | M5: YES | N5: YES | O5: YES | P5: YES | Q5: YES | R5: YES | S5: NO | T5: YES | U5: YES | V5: YES | W5: YES
A6: https://www.facebook.com/ | B6: 25,105 | C6: =IF(B6<250,"SMALL",IF(B6<500,"MEDIUM",IF(B6<1000,"LARGE","MEGGA"))) -> MEGGA | D6: Media | E6: Private | F6: YES | G6: Give people the power to build community and bring the world closer together | H6: https://sustainability.fb.com/ | I6: https://www.facebook.com/ | J6: NO | K6: NO | L6: NO | M6: NO | N6: NO | O6: NO | P6: NO | Q6: YES | R6: YES | S6: NO | T6: NO | U6: NO | V6: NO | W6: YES
A7: https://www.uber.com/ | B7: 12,000 | C7: =IF(B7<250,"SMALL",IF(B7<500,"MEDIUM",IF(B7<1000,"LARGE","MEGGA"))) -> MEGGA | D7: Transport | E7: Private | F7: YES | G7: Uber will decrease carbon emissions in cities by lessening people'e reliance on personal automobiles | H7: https://motherboard.vice.com/en_us/article/78kkj9/is-uber-good-or-bad-for-the-environment | I7: https://www.uber.com/ | J7: NO | K7: NO | L7: NO | M7: NO | N7: YES | O7: YES | P7: YES | Q7: NO | R7: YES | S7: NO | T7: NO | U7: NO | V7: NO | W7: YES
A8: https://www.youtube.com/ | B8: 2000 | C8: =IF(B8<250,"SMALL",IF(B8<500,"MEDIUM",IF(B8<1000,"LARGE","MEGGA"))) -> MEGGA | D8: Media | E8: Private | F8: YES | G8: Usage of green electricity and making data centres as efficient as possible | H8: https://rankabrand.org/websites/YouTube | I8: https://www.youtube.com/ | J8: YES | K8: NO | L8: NO | M8: YES | N8: YES | O8: YES | P8: YES | Q8: YES | R8: YES | S8: NO | T8: NO | U8: NO | V8: NO | W8: YES
A9: https://www.o2.co.uk/ | B9: 700 | C9: =IF(B9<250,"SMALL",IF(B9<500,"MEDIUM",IF(B9<1000,"LARGE","MEGGA"))) -> LARGE | D9: Communication | E9: TechNOlogy | F9: YES | G9: Big Blueprint, Carbon print, 12 million customers encouraged to make different choices, such as rating the sustainability credentials of the phones they buy. | H9: https://www.o2.co.uk/thinkbig/history | I9: http://static.o2.co.uk/www/docs/thinkbig/think-big-blueprint-1-progress-report-2012-to-2015.pdf | J9: YES | K9: YES | M9: YES | N9: YES | O9: YES | P9: YES | Q9: YES | R9: YES | T9: YES | U9: YES | V9: YES | X9: Website clearly shows different packages to allow consumers to chose the best package for themselves. Website provides contact details for issues or questions. There is access to complain
A10: https://www.apple.com/uk/ | B10: 123,000 | C10: =IF(B10<250,"SMALL",IF(B10<500,"MEDIUM",IF(B10<1000,"LARGE","MEGGA"))) -> MEGGA | D10: Technology | E10: techNOlogy | F10: YES | G10: We’ve made energy efficiency a priority across all of our facilities | H10: https://images.apple.com/euro/environment/pdf/f/generic/Apple_Environmental_Responsibility_Report_2017.pdf | I10: https://support.apple.com/en-gb | K10: YES | M10: YES | N10: YES | O10: YES | P10: YES | Q10: YES | R10: YES | S10: YES | V10: YES | W10: YES | X10: website encourages feedback and provides links for many different topics relating to their products
A11: http://ee.co.uk/ | B11: 10000 | C11: =IF(B11<250,"SMALL",IF(B11<500,"MEDIUM",IF(B11<1000,"LARGE","MEGGA"))) -> MEGGA | D11: Communication | E11: TechNOlogy | F11: YES | G11: Reduce our carbon emissions by 50% by 2015, based on our 2010 baseline | H11: http://ee.co.uk/our-company/corporate-responsibility/building-trust/the-environment | I11: http://ee.co.uk/our-company/corporate-responsibility/building-trust/our-customers | M11: YES | N11: YES | O11: YES | P11: YES | Q11: YES | R11: YES | S11: YES | V11: YES | W11: YES | X11: website consists of links which lead to alternative information
A12: https://uk.lush.com/ | B12: 13652 | C12: MEGGA | D12: Retail | E12: Cosmetics | F12: YES | G12: Use of fairtrade ingredients | H12: https://uk.lush.com/article/our-stance-fair-trade | I12: Chairty work | J12: yes | K12: yes | L12: yes | M12: yes | N12: yes | O12: yes | P12: yes | Q12: yes | R12: yes | S12: yes | T12: yes | U12: yes | V12: yes | W12: yes
A13: https://www.marksandspencer.com/ | B13: 80,787 | C13: MEGGA | D13: Retail | E13: Food, Clothing and Homeware | F13: yes | G13: Fairtrade ingredients/products | H13: https://corporate.marksandspencer.com | J13: yes
A14: https://www.matalan.co.uk/ | B14: 45000 | C14: MEGGA | D14: reatail | E14: clothing, retail | F14: yes | H14: https://www.matalan.co.uk/ | K14: yes
A15: https://www.dominos.co.uk/ | B15: 14100 | C15: MEGGA | D15: FOOD | E15: Food | F15: YES | H15: https://www.dominos.co.uk/ | K15: yes
A16: https://www.sky.com/ | B16: 28123 | C16: MEGGA | D16: entertainment | E16: entertainment | F16: YES | H16: https://www.sky.com/ | J16: yes
A17: https://www.newlook.com/uk | B17: 18249 | C17: MEGGA | D17: retail | F17: YES | H17: https://www.newlook.com/uk
A18: https://www.boots.com | B18: 56,000+ | C18: MEGGA | D18: cosmetics/retail | F18: YES | H18: https://www.boots.com
A19: https://www.ebay.co.uk/ | B19: 14100 | C19: MEGGA | D19: retail | F19: YES | H19: https://www.ebay.co.uk/
A20: https://www.riverisland.com/ | B20: 56000 | C20: MEGGA | D20: retail | F20: YES | H20: https://www.riverisland.com/
A21: https://www.microsoft.com/en-gb | B21: 131000 | C21: MEGGA | D21: technology | F21: YES | H21: https://www.microsoft.com/en-gb
A22: https://personal.natwest.com/personal.html | B22: 33300 | C22: MEGGA | D22: banking | F22: YES | H22: https://personal.natwest.com/personal.html
A23: www.apple.com/uk | B23: 30000 | C23: MEGGA | D23: technology | F23: YES | H23: www.apple.com/uk
A24: https://www.coca-cola.co.uk | B24: 130000 | C24: MEGGA | D24: refreshments | F24: YES | H24: https://www.coca-cola.co.uk
A25: https://www.jackdaniels.com | B25: 500+ | C25: LARGE | D25: alcohol | F25: YES
A26: https://www.argos.co.uk/ | B26: 29565 | C26: MEGGA | D26: retail | F26: YES
A27: https://www.dwrcymru.com/ | B27: 3000 | C27: MEGGA | D27: water | F27: YES
A28: http://britishgas.co/uk/ | B28: 31278 | C28: MEGGA | D28: gas | F28: YES
A29: https://www.arriva.co.uk | B29: 61845 | C29: MEGGA | D29: transport | F29: YES
A30: https://www.adidas.co.uk/ | B30: 31344 | C30: MEGGA | D30: retail | F30: YES
A31: http://www.samsung.com/ | B31: 275000 | C31: MEGGA | D31: technology | F31: YES
A32: https://www.specsavers.co.uk | B32: 30,000+ | C32: MEGGA | D32: retail | F32: YES
A33: https://www.costa.co.uk | B33: 25,000+ | C33: MEGGA | D33: refreshments | F33: YES
A34: https://www.subway.com | B34: 492000 | C34: MEGGA | D34: Food Retail | F34: YES
A35: https://landrover.co.uk | B35: 37005 | C35: MEGGA | D35: transport | F35: YES
A36: https://www.britishairways.com/ | B36: 45000 | C36: MEGGA | D36: transport | F36: YES
A37: https://www.pandora.com | B37: 2220 | C37: MEGGA | D37: retail | F37: YES
A38: https://www.asda.com | B38: 180000 | C38: MEGGA | D38: retail | F38: YES
A39: https://www.loreal.com | B39: 15500 | C39: MEGGA | D39: cosmetics/retail | F39: YES
A40: https://www.sportsdirect.com | B40: 29000 | C40: MEGGA | D40: retail | F40: YES
...

Sheet Knowledge sharing
A1: EXAMPLES OF PROSUMER KWLEDGE SHARING BY COMPANIES
A3: Empty cells should be filled in by the URL addresses (i.e. https://www.shoesofprey.com/) of the web pages on which it was possible to observe prosumers activities connected with their ideas or kwledge. Subsequently these URLs will be use to verify the realibilty of gathered data. Grey cells (B and C columns) are fulling in automatically.
A5: No | B5: Company name | C5: Short description of observed prosumers activity | D5: Do You - Evaluating products by scoring | E5: Evaluating products by placing comments | F5: Evaluating product in practice by testing | G5: Creating and designing products or their parts | H5: Other ways available for you to evaluate the products / services
A6: 1 | B6: ='Business Processes'!A2 -> https://www.pukkaherbs.com/ | C6: ='Business Processes'!I2 -> https://www.pukkaherbs.com/your-wellbeing/stories/people/partners/bizgive/ https://www.pukkaherbs.com/media/76569880/pukka-sustainability-highlights-2016.pdf https://www.pukkaherbs.com/our-mission/inspiring-change/ | E6: YES | F6: YES
A7: 2 | B7: ='Business Processes'!A3 -> www.Dell.com | C7: ='Business Processes'!I3 -> http://www.ideastorm.com/ | E7: YES | F7: YES | G7: YES | H7: Voting
A8: 3 | B8: ='Business Processes'!A4 -> https://twitter.com/ | C8: ='Business Processes'!I4 -> https://books.google.co.uk/books?isbn=1473987490 | F8: YES
A9: 4 | B9: ='Business Processes'!A5 -> https://www.amazon.co.uk/ | C9: ='Business Processes'!I5 -> https://www.amazon.co.uk/ | F9: YES
A10: 5 | B10: ='Business Processes'!A6 -> https://www.facebook.com/ | C10: ='Business Processes'!I6 -> https://www.facebook.com/ | F10: YES
A11: 6 | B11: ='Business Processes'!A7 -> https://www.uber.com/ | C11: ='Business Processes'!I7 -> https://www.uber.com/ | F11: YES
A12: 7 | B12: ='Business Processes'!A8 -> https://www.youtube.com/ | C12: ='Business Processes'!I8 -> https://www.youtube.com/ | F12: YES
A13: 8 | B13: https://www.o2.co.uk/ | C13: ='Business Processes'!I9 -> http://static.o2.co.uk/www/docs/thinkbig/think-big-blueprint-1-progress-report-2012-to-2015.pdf | E13: YES | F13: YES
A14: 9 | B14: https://www.apple.com/uk/ | C14: ='Business Processes'!I10 -> https://support.apple.com/en-gb | E14: YES | F14: YES | G14: YES
A15: 10 | B15: http://ee.co.uk/ | C15: ='Business Processes'!I11 -> http://ee.co.uk/our-company/corporate-responsibility/building-trust/our-customers | E15: YES
A16: 11 | B16: https://uk.lush.com/ | C16: https://uk.lush.com/ | E16: yes | F16: yes | G16: yes
A17: 12 | B17: https://www.marksandspencer.com/ | C17: https://www.marksandspencer.com/ | F17: yes | G17: yes
A18: 13 | B18: https://www.matalan.co.uk/ | C18: https://www.matalan.co.uk/ | E18: yes | F18: yes | G18: yes
A19: 14 | B19: https://www.dominos.co.uk/ | C19: https://www.dominos.co.uk/ | E19: yes | F19: yes | G19: yes
A20: 15 | B20: https://www.sky.com/ | C20: https://www.sky.com/ | F20: yes | G20: yes
A21: 16 | B21: https://www.newlook.com/uk | C21: https://www.newlook.com/uk | E21: yes | F21: yes | G21: yes
A22: 17 | B22: https://www.boots.com | C22: https://www.boots.com | E22: yes | F22: yes | G22: yes
A23: 18 | B23: https://www.ebay.co.uk/ | C23: https://www.ebay.co.uk/ | E23: yes | F23: yes | G23: yes
A24: 19 | B24: https://www.riverisland.com/ | C24: https://www.riverisland.com/ | F24: yes | G24: yes
A25: 20 | B25: https://www.microsoft.com/en-gb | C25: https://www.microsoft.com/en-gb | E25: yes | F25: yes | G25: yes
A26: 21 | B26: https://personal.natwest.com/personal.html | C26: https://personal.natwest.com/personal.html | F26: yes | G26: yes
A27: 22 | B27: www.apple.com/uk | C27: www.apple.com/uk | E27: yes | F27: yes | G27: yes
A28: 23 | B28: https://www.coca-cola.co.uk | C28: https://www.coca-cola.co.uk | F28: yes | G28: yes
A29: 24 | B29: https://www.jackdaniels.com | C29: https://www.jackdaniels.com | E29: yes | F29: yes | G29: yes
A30: 25 | B30: https://www.argos.co.uk/ | C30: https://www.argos.co.uk/ | E30: yes | F30: yes | G30: yes
A31: 26 | B31: https://www.dwrcymru.com/ | C31: https://www.dwrcymru.com/ | E31: yes | F31: yes | G31: yes
A32: 27 | B32: http://britishgas.co/uk/ | C32: http://britishgas.co/uk/ | F32: yes | G32: yes
A33: 28 | B33: https://www.arriva.co.uk | C33: https://www.arriva.co.uk | E33: yes | F33: yes | G33: yes
A34: 29 | B34: https://www.adidas.co.uk/ | C34: https://www.adidas.co.uk/ | F34: yes | G34: yes
A35: 30 | B35: http://www.samsung.com/ | C35: http://www.samsung.com/ | E35: yes | F35: yes | G35: yes
A36: 31 | B36: https://www.specsavers.co.uk | C36: https://www.specsavers.co.uk | E36: yes | F36: yes | G36: yes
A37: 32 | B37: https://www.costa.co.uk | C37: https://www.costa.co.uk | E37: yes | F37: yes | G37: yes
A38: 33 | B38: https://www.subway.com | C38: https://www.subway.com | F38: yes | G38: yes
A39: 34 | B39: https://landrover.co.uk | C39: https://landrover.co.uk | E39: yes | F39: yes | G39: yes
A40: 35 | B40: https://www.britishairways.com/ | C40: https://www.britishairways.com/ | E40: yes | F40: yes | G40: yes
A41: 36 | B41: https://www.pandora.com | C41: https://www.pandora.com | E41: yes | F41: yes | G41: yes
A42: 37 | B42: https://www.asda.com | C42: https://www.asda.com | E42: yes | F42: yes | G42: yes
...

Sheet Incentives
A1: Incentives which Enterprises use to encourage prosumers to share knowledge
A3: Empty cells should be filled in by the URL addresses (i.e. https://www.shoesofprey.com/) of the web pages on which it was possible to observe prosumers activities connected with their ideas or kwledge. Subsequently these URLs will be use to verify the realibilty of gathered data. Grey cells (B and C columns) are fulling in automatically.
A5: . | B5: Company name | C5: Short description of observed prosumers activity | D5: What incentives interest you - Material rewards (e.g free gifts, souvenirs) | E5: Monetary compensation | F5: Testing of prototypes | G5: Free samples of products | H5: Bonus points with financial value | I5: Personal benefits (e.g. enhancing the expertise, status or recognition; being a part of the community; pride of excellence; need to learn more) | J5: Other - what other incentives interest you?
A6: 1 | B6: ='Business Processes'!A2 -> https://www.pukkaherbs.com/ | C6: ='Business Processes'!I2 -> https://www.pukkaherbs.com/your-wellbeing/stories/people/partners/bizgive/ https://www.pukkaherbs.com/media/76569880/pukka-sustainability-highlights-2016.pdf https://www.pukkaherbs.com/our-mission/inspiring-change/ | D6: YES | I6: YES | J6: Competitions
A7: 2 | B7: ='Business Processes'!A3 -> www.Dell.com | C7: ='Business Processes'!I3 -> http://www.ideastorm.com/ | J7: Dell Community Rockstar
A8: 3 | B8: ='Business Processes'!A4 -> https://twitter.com/ | C8: ='Business Processes'!I4 -> https://books.google.co.uk/books?isbn=1473987490
A9: 4 | B9: ='Business Processes'!A5 -> https://www.amazon.co.uk/ | C9: ='Business Processes'!I5 -> https://www.amazon.co.uk/
A10: 5 | B10: ='Business Processes'!A6 -> https://www.facebook.com/ | C10: ='Business Processes'!I6 -> https://www.facebook.com/
A11: 6 | B11: ='Business Processes'!A7 -> https://www.uber.com/ | C11: ='Business Processes'!I7 -> https://www.uber.com/
A12: 7 | B12: ='Business Processes'!A8 -> https://www.youtube.com/ | C12: ='Business Processes'!I8 -> https://www.youtube.com/
A13: 8 | B13: https://www.o2.co.uk/ | C13: ='Business Processes'!I9 -> http://static.o2.co.uk/www/docs/thinkbig/think-big-blueprint-1-progress-report-2012-to-2015.pdf | D13: YES | E13: YES | F13: yes | I13: YES | J13: competitions
A14: 9 | B14: https://www.apple.com/uk/ | C14: ='Business Processes'!I10 -> https://support.apple.com/en-gb | E14: YES | F14: yes | I14: YES | J14: competitors and techlogy change
A15: 10 | B15: http://ee.co.uk/ | C15: ='Business Processes'!I11 -> http://ee.co.uk/our-company/corporate-responsibility/building-trust/our-customers | D15: YES | E15: YES | F15: yes | G15: yes | H15: yes | I15: YES | J15: competitions
A16: 11 | B16: https://uk.lush.com/ | C16: https://uk.lush.com/ | D16: yes | F16: yes | G16: yes | H16: yes | I16: yes
A17: 12 | B17: https://www.marksandspencer.com/ | C17: https://www.marksandspencer.com/ | F17: yes | G17: yes | H17: yes | I17: yes
A18: 13 | B18: https://www.matalan.co.uk/ | C18: https://www.matalan.co.uk/ | D18: yes | F18: yes | G18: yes | H18: yes | I18: yes
A19: 14 | B19: https://www.dominos.co.uk/ | C19: https://www.dominos.co.uk/ | F19: yes | G19: yes | H19: yes | I19: yes
A20: 15 | B20: https://www.sky.com/ | C20: https://www.sky.com/ | F20: yes | G20: yes | H20: yes | I20: yes
A21: 16 | B21: https://www.newlook.com/uk | C21: https://www.newlook.com/uk | F21: yes | G21: yes | H21: yes | I21: yes
A22: 17 | B22: https://www.boots.com | C22: https://www.boots.com | F22: yes | G22: yes | H22: yes | I22: yes
A23: 18 | B23: https://www.ebay.co.uk/ | C23: https://www.ebay.co.uk/ | D23: yes | F23: yes | G23: yes | H23: yes | I23: yes
A24: 19 | B24: https://www.riverisland.com/ | C24: https://www.riverisland.com/ | F24: yes | G24: yes | H24: yes | I24: yes
A25: 20 | B25: https://www.microsoft.com/en-gb | C25: https://www.microsoft.com/en-gb | F25: yes | G25: yes | H25: yes | I25: yes
A26: 21 | B26: https://personal.natwest.com/personal.html | C26: https://personal.natwest.com/personal.html | F26: yes | G26: yes | H26: yes | I26: yes
A27: 22 | B27: www.apple.com/uk | C27: www.apple.com/uk | F27: yes | G27: yes | H27: yes | I27: yes
A28: 23 | B28: https://www.coca-cola.co.uk | C28: https://www.coca-cola.co.uk | F28: yes | G28: yes | H28: yes | I28: yes
A29: 24 | B29: https://www.jackdaniels.com | C29: https://www.jackdaniels.com | F29: yes | G29: yes | H29: yes | I29: yes
A30: 25 | B30: https://www.argos.co.uk/ | C30: https://www.argos.co.uk/ | F30: yes | G30: yes | H30: yes | I30: yes
A31: 26 | B31: https://www.dwrcymru.com/ | C31: https://www.dwrcymru.com/ | F31: yes | G31: yes | H31: yes | I31: yes
A32: 27 | B32: http://britishgas.co/uk/ | C32: http://britishgas.co/uk/ | F32: yes | G32: yes | H32: yes | I32: yes
A33: 28 | B33: https://www.arriva.co.uk | C33: https://www.arriva.co.uk | F33: yes | G33: yes | H33: yes | I33: yes
A34: 29 | B34: https://www.adidas.co.uk/ | C34: https://www.adidas.co.uk/ | D34: yes | F34: yes | G34: yes | H34: yes | I34: yes
A35: 30 | B35: http://www.samsung.com/ | C35: http://www.samsung.com/ | F35: yes | G35: yes | H35: yes | I35: yes
A36: 31 | B36: https://www.specsavers.co.uk | C36: https://www.specsavers.co.uk | F36: yes | G36: yes | H36: yes | I36: yes
A37: 32 | B37: https://www.costa.co.uk | C37: https://www.costa.co.uk | F37: yes | G37: yes | H37: yes | I37: yes
A38: 33 | B38: https://www.subway.com | C38: https://www.subway.com | F38: yes | G38: yes | H38: yes | I38: yes
A39: 34 | B39: https://landrover.co.uk | C39: https://landrover.co.uk | F39: yes | G39: yes | H39: yes | I39: yes
A40: 35 | B40: https://www.britishairways.com/ | C40: https://www.britishairways.com/ | F40: yes | G40: yes | H40: yes | I40: yes
A41: 36 | B41: https://www.pandora.com | C41: https://www.pandora.com | F41: yes | G41: yes | H41: yes | I41: yes
A42: 37 | B42: https://www.asda.com | C42: https://www.asda.com | F42: yes | G42: yes | H42: yes | I42: yes
...

Sheet ICT
A1: Information and communication technologies (ICT) which serve as a tool to ahare knowledge
A3: Empty cells should be filled in by the URL addresses (i.e. https://www.shoesofprey.com/) of the web pages on which it was possible to observe prosumers activities connected with their ideas or kNOwledge. Subsequently these URLs will be use to verify the realibilty of gathered data. Grey cells (B and C columns) are fulling in automatically.
A5: NO. | B5: Company name | C5: Short description of observed prosumers activity | D5: Do you use the ICTs to commuciate with the company -E-mails | E5: Internet forums | F5: Own organizations' websites | G5: Specialized organizations' websites | H5: Popular information websites | I5: Industry specialized portals | J5: Mobile applications | K5: Facebook | L5: Online surveys | M5: Other
A6: 1 | B6: ='Business Processes'!A2 -> https://www.pukkaherbs.com/ | C6: ='Business Processes'!I2 -> https://www.pukkaherbs.com/your-wellbeing/stories/people/partners/bizgive/ https://www.pukkaherbs.com/media/76569880/pukka-sustainability-highlights-2016.pdf https://www.pukkaherbs.com/our-mission/inspiring-change/ | D6: YES | F6: YES | J6: YES | K6: YES | M6: Twitter, Blog, Google
A7: =A6+1 -> 2 | B7: ='Business Processes'!A3 -> www.Dell.com | C7: ='Business Processes'!I3 -> http://www.ideastorm.com/ | D7: YES | E7: YES | F7: YES | G7: YES | J7: YES | K7: YES
A8: =A7+1 -> 3 | B8: ='Business Processes'!A4 -> https://twitter.com/ | C8: ='Business Processes'!I4 -> https://books.google.co.uk/books?isbn=1473987490
A9: =A8+1 -> 4 | B9: ='Business Processes'!A5 -> https://www.amazon.co.uk/ | C9: ='Business Processes'!I5 -> https://www.amazon.co.uk/
A10: =A9+1 -> 5 | B10: ='Business Processes'!A6 -> https://www.facebook.com/ | C10: ='Business Processes'!I6 -> https://www.facebook.com/
A11: =A10+1 -> 6 | B11: ='Business Processes'!A7 -> https://www.uber.com/ | C11: ='Business Processes'!I7 -> https://www.uber.com/
A12: =A11+1 -> 7 | B12: ='Business Processes'!A8 -> https://www.youtube.com/ | C12: ='Business Processes'!I8 -> https://www.youtube.com/
A13: =A12+1 -> 8 | B13: https://www.o2.co.uk/ | C13: http://static.o2.co.uk/www/docs/thinkbig/think-big-blueprint-1-progress-report-2012-to-2015.pdf | D13: YES | E13: YES | F13: YES | G13: YES | H13: YES | J13: YES | K13: YES | L13: YES | M13: Twitter, Google, facebook
A14: =A13+1 -> 9 | B14: https://www.apple.com/uk/ | C14: https://support.apple.com/en-gb | D14: YES | E14: YES | F14: YES | G14: YES | H14: YES | J14: YES | K14: YES | L14: YES | M14: Twitter, Google, facebook
A15: =A14+1 -> 10 | B15: http://ee.co.uk/ | C15: http://ee.co.uk/our-company/corporate-responsibility/building-trust/our-customers | D15: YES | E15: YES | F15: YES | G15: YES | H15: YES | J15: YES | K15: YES | L15: YES | M15: Twitter, Google, facebook
A16: =A15+1 -> 11 | B16: https://uk.lush.com/ | C16: https://uk.lush.com/ | D16: yes | E16: yes | F16: yes | G16: yes | H16: yes | J16: yes | K16: yes
A17: =A16+1 -> 12 | B17: https://www.marksandspencer.com/ | C17: https://www.marksandspencer.com/ | D17: yes | E17: yes | F17: yes | G17: yes | H17: yes | J17: yes | K17: yes
A18: =A17+1 -> 13 | B18: https://www.matalan.co.uk/ | C18: https://www.matalan.co.uk/ | D18: yes | E18: yes | F18: yes | G18: yes | H18: yes | J18: yes | K18: yes
A19: =A18+1 -> 14 | B19: https://www.dominos.co.uk/ | C19: https://www.dominos.co.uk/ | D19: yes | E19: yes | F19: yes | G19: yes | H19: yes | J19: yes | K19: yes
A20: =A19+1 -> 15 | B20: https://www.sky.com/ | C20: https://www.sky.com/ | D20: yes | E20: yes | F20: yes | G20: yes | H20: yes | J20: yes | K20: yes
A21: =A20+1 -> 16 | B21: https://www.newlook.com/uk | C21: https://www.newlook.com/uk | D21: yes | E21: yes | F21: yes | G21: yes | H21: yes | J21: yes | K21: yes
A22: =A21+1 -> 17 | B22: https://www.boots.com | C22: https://www.boots.com | D22: yes | E22: yes | F22: yes | G22: yes | H22: yes | J22: yes | K22: yes
A23: =A22+1 -> 18 | B23: https://www.ebay.co.uk/ | C23: https://www.ebay.co.uk/ | D23: yes | E23: yes | F23: yes | G23: yes | H23: yes | J23: yes | K23: yes
A24: =A23+1 -> 19 | B24: https://www.riverisland.com/ | C24: https://www.riverisland.com/ | D24: yes | E24: yes | F24: yes | G24: yes | H24: yes | J24: yes | K24: yes
A25: =A24+1 -> 20 | B25: https://www.microsoft.com/en-gb | C25: https://www.microsoft.com/en-gb | D25: yes | E25: yes | F25: yes | G25: yes | H25: yes | J25: yes | K25: yes
A26: =A25+1 -> 21 | B26: https://personal.natwest.com/personal.html | C26: https://personal.natwest.com/personal.html | D26: yes | E26: yes | F26: yes | G26: yes | H26: yes | J26: yes | K26: yes
A27: =A26+1 -> 22 | B27: www.apple.com/uk | C27: www.apple.com/uk | D27: yes | E27: yes | F27: yes | G27: yes | H27: yes | J27: yes | K27: yes
... A33: =A32+1 -> 28 | B33: https://www.arriva.co.uk | C33: https://www.arriva.co.uk | D33: yes | E33: yes | F33: yes | G33: yes | H33: yes | J33: yes | K33: yes
A34: 29 | B34: https://www.adidas.co.uk/ | C34: https://www.adidas.co.uk/ | D34: yes | E34: yes | F34: yes | G34: yes | H34: yes | J34: yes | K34: yes
A35: 30 | B35: http://www.samsung.com/ | C35: http://www.samsung.com/ | D35: yes | E35: yes | F35: yes | G35: yes | H35: yes | J35: yes | K35: yes
A36: 31 | B36: https://www.specsavers.co.uk | C36: https://www.specsavers.co.uk | D36: yes | E36: yes | F36: yes | G36: yes | H36: yes | J36: yes | K36: yes
A37: =A36+1 -> 32 | B37: https://www.costa.co.uk | C37: https://www.costa.co.uk | D37: yes | E37: yes | F37: yes | G37: yes | H37: yes | J37: yes | K37: yes
A38: =A37+1 -> 33 | B38: https://www.subway.com | C38: https://www.subway.com | D38: yes | E38: yes | F38: yes | G38: yes | H38: yes | J38: yes | K38: yes
A39: =A38+1 -> 34 | B39: https://landrover.co.uk | C39: https://landrover.co.uk | D39: yes | E39: yes | F39: yes | G39: yes | H39: yes | J39: yes | K39: yes
A40: =A39+1 -> 35 | B40: https://www.britishairways.com/ | C40: https://www.britishairways.com/ | D40: yes | E40: yes | F40: yes | G40: yes | H40: yes | J40: yes | K40: yes
A41: =A40+1 -> 36 | B41: https://www.pandora.com | C41: https://www.pandora.com | D41: yes | E41: yes | F41: yes | G41: yes | H41: yes | J41: yes | K41: yes
A42: =A41+1 -> 37 | B42: https://www.asda.com | C42: https://www.asda.com | D42: yes | E42: yes | F42: yes | G42: yes | H42: yes | J42: yes | K42: yes
A43: =A42+1 -> 38 | B43: https://www.loreal.com | C43: https://www.loreal.com | D43: yes | E43: yes | F43: yes | G43: yes | H43: yes | J43: yes | K43: yes
A44: =A43+1 -> 39 | B44: https://www.sportsdirect.com | C44: https://www.sportsdirect.com | D44: yes | E44: yes | F44: yes | G44: yes | H44: yes | J44: yes | K44: yes
A45: =A44+1 -> 40 | B45: https://www.debenhams.com | C45: https://www.debenhams.com | D45: yes | E45: yes | F45: yes | G45: yes | H45: yes | J45: yes | K45: yes
A46: =A45+1 -> 41 | B46: www.vodafone.co.uk | C46: www.vodafone.co.uk | D46: yes | E46: yes | F46: yes | G46: yes | H46: yes | J46: yes | K46: yes
A47: =A46+1 -> 42 | B47: http://www.hsamuel.co.uk | C47: http://www.hsamuel.co.uk | D47: yes | E47: yes | F47: yes | G47: yes | H47: yes | J47: yes | K47: yes
...
