Workbook

Sheet Question
C1: CAPITAL APPRAISAL AND RATIONING
B2: Fictitious PLC
B4: Assume 10% weighted average cost of capital (WACC)
D6: Project A | E6: Project B | F6: Project C
D7: €000 | E7: €000 | F7: €000
C8: Initial capital expenditure | D8: -200 | E8: -200 | F8: -200
B9: Net cash inflows: | C9: Year 1 | D9: 35 | E9: 40 | F9: 45
C10: Year 2 | D10: 45 | E10: 40 | F10: 60
C11: Year 3 | D11: 55 | E11: 45 | F11: 75
C12: Year 4 | D12: 65 | E12: 60 | F12: 85
C13: Year 5 | D13: 70 | E13: 75 | F13: 90
C14: Disposal proceeds year 5 | D14: 40 | E14: 10 | F14: 0
B16: €325,000 is available as capital for investment
B17: All projects are divisible
B19: Calculate:
B20: ARR
B21: NPV
B22: IRR
B23: Payback Period
B24: Discounted payback
B26: What is the optimal investment policy and resulting NPV?
B27: What would be the recommendation if the projects were indivisible?

Sheet ARR
A1: ARR:
A2: ARR = Average annual operating profit x 100%
B3: Average investment to earn that profit
A5: Annual average operating profit before depreciation = (sum of cash inflows)/no. of years of cash inflows
A6: Assume straight line depreciation (i.e. equal annual amounts)
A7: Therefore annual depreciation charge will be (initial investment - disposal value)/no. of years of investment
A9: Therefore average annual operating profit after depreciation will be annual average operting profit before depreciation less annual depreciation charge
A11: Average investment = (Initial investment + Disposal value)/2
A13: Decision rule:
A14: For a project to be acceptable it must achieve a target ARR as a minimum (determined in various ways)
A15: For competing projects, the project with highest ARR would be selected
A17: Issues with ARR:
A18: It completely ignores the time factor
A19: Derivation of the average investment can produce flawed results
A20: Does not compare well for competing projects of different sizes because it does not consider absolute profit values generated
G23: Project A | H23: Project B | I23: Project C
G24: £000 | H24: £000 | I24: £000
F25: Initial capital expenditure | G25: -200 | H25: -200 | I25: -200
E26: Net cash inflows: | F26: Year 1 | G26: 35 | H26: 40 | I26: 45
F27: Year 2 | G27: 45 | H27: 40 | I27: 60
F28: Year 3 | G28: 55 | H28: 45 | I28: 75
F29: Year 4 | G29: 65 | H29: 60 | I29: 85
F30: Year 5 | G30: 70 | H30: 75 | I30: 90 | K30: Cash inflows are received for 5 years
F31: Disposal proceeds year 5 | G31: 40 | H31: 10 | I31: 0
E33: Annual average operating profit before depreciation: | G33: =SUM(G26:G30)/5 -> 54 | H33: =SUM(H26:H30)/5 -> 52 | I33: =SUM(I26:I30)/5 -> 71
E34: Depreciation charge (assuming straight line depreciation): | G34: =(-G25-G31)/5 -> 32 | H34: =(-H25-H31)/5 -> 38 | I34: =(-I25-I31)/5 -> 40
E35: Annual average operating profit after depreciation: | G35: =G33-G34 -> 22 | H35: =H33-H34 -> 14 | I35: =I33-I34 -> 31
E36: Average investment: | G36: =(-G25+G31)/2 -> 120 | H36: =(-H25+H31)/2 -> 105 | I36: =(-I25+I31)/2 -> 100
E37: Accounting Rate of Return (ARR): | G37: =G33/G36 -> 0.45 | H37: =H33/H36 -> 0.4952381 | I37: =I33/I36 -> 0.71
H40: According to the decision rule Project C would be chosen first, followed by Project B and then Project A
H42: Let's consider the effect in each case of giving away the equipment at the end of the period instead of selling it…..
E44: Annual average operating profit before depreciation: | G44: =SUM(G26:G30)/5 -> 54 | H44: =SUM(H26:H30)/5 -> 52 | I44: =SUM(I26:I30)/5 -> 71
E45: Depreciation charge (assuming straight line depreciation): | G45: =-G25/5 -> 40 | H45: =-H25/5 -> 40 | I45: =-I25/5 -> 40
E46: Annual average operating profit after depreciation: | G46: =G44-G45 -> 14 | H46: =H44-H45 -> 12 | I46: =I44-I45 -> 31 | J46: <= Note effect of no disposal income
E47: Average investment: | G47: =(-G25+0)/2 -> 100 | H47: =(-H25+0)/2 -> 100 | I47: =(-I25+0)/2 -> 100
E48: Accounting Rate of Return (ARR): | G48: =G46/G47 -> 0.14 | H48: =H46/H47 -> 0.12 | I48: =I46/I47 -> 0.31
H50: In all cases the ARR has decreased however consider the following example of a Project D….
G52: Project D
G53: £000
F54: Initial capital expenditure | G54: -200
...

Sheet Payback Period
A1: Payback Period - Fictitious PLC
A2: Assume 10% discount factor | C2: Project A
C3: €000 | D3: Cumulative
B4: Initial capital expenditure | C4: =Question!D8 -> -200 | D4: =C4 -> -200
A5: Net cash inflows: | B5: Year 1 | C5: =Question!D9 -> 35
B6: Year 2 | C6: =Question!D10 -> 45
B7: Year 3 | C7: =Question!D11 -> 55
B8: Year 4 | C8: =Question!D12 -> 65
B9: Year 5 | C9: =Question!D13 -> 70
B10: Disposal proceeds year 5 | C10: =Question!D14 -> 40 | E10: When does payback occur?
C12: Project B
C13: €000 | D13: Cumulative
B14: Initial capital expenditure | C14: =Question!E8 -> -200 | D14: =C14 -> -200
A15: Net cash inflows: | B15: Year 1 | C15: =Question!E9 -> 40
B16: Year 2 | C16: =Question!E10 -> 40
B17: Year 3 | C17: =Question!E11 -> 45
B18: Year 4 | C18: =Question!E12 -> 60
B19: Year 5 | C19: =Question!E13 -> 75
B20: Disposal proceeds year 5 | C20: =Question!E14 -> 10 | E20: When does payback occur?
C22: Project C
C23: €000 | D23: Cumulative
B24: Initial capital expenditure | C24: =Question!F8 -> -200 | D24: =C24 -> -200
A25: Net cash inflows: | B25: Year 1 | C25: =Question!F9 -> 45
B26: Year 2 | C26: =Question!F10 -> 60
B27: Year 3 | C27: =Question!F11 -> 75
B28: Year 4 | C28: =Question!F12 -> 85
B29: Year 5 | C29: =Question!F13 -> 90
B30: Disposal proceeds year 5 | C30: =Question!F14 -> 0 | E30: When does payback occur?

Sheet Discounted Payback Period
A1: Discounted Payback Period - Fictitious PLC
A2: Assume 10% discount factor | C2: Project A
C3: €000 | D3: Discount factor 10% | E3: Present value @10% | F3: PV | G3: Cumulative
B4: Initial capital expenditure | C4: =Question!D8 -> -200 | D4: 1 | E4: (200)/(1+0.10)0 | F4: =C4*D4 -> -200 | G4: =F4 -> -200
A5: Net cash inflows: | B5: Year 1 | C5: =Question!D9 -> 35 | D5: 0.90909091 | E5: 35/(1+0.10)1 | F5: =C5*D5 -> 31.818182
B6: Year 2 | C6: =Question!D10 -> 45 | D6: 0.82644628 | E6: 45/(1+0.10)2 | F6: =C6*D6 -> 37.190083
B7: Year 3 | C7: =Question!D11 -> 55 | D7: 0.7513148 | E7: 55/(1+0.10)3 | F7: =C7*D7 -> 41.322314
B8: Year 4 | C8: =Question!D12 -> 65 | D8: 0.68301346 | E8: 65/(1+0.10)4 | F8: =C8*D8 -> 44.395875
B9: Year 5 | C9: =Question!D13 -> 70 | D9: 0.62092132 | E9: 70/(1+0.10)5 | F9: =C9*D9 -> 43.464493
B10: Disposal proceeds year 5 | C10: =Question!D14 -> 40 | D10: 0.62092132 | E10: 40/(1+0.10)5 | F10: =C10*D10 -> 24.836853 | H10: When does payback occur?
C12: Project B
C13: €000 | D13: Discount factor 10% | E13: Present value @10% | F13: PV | G13: Cumulative
B14: Initial capital expenditure | C14: =Question!E8 -> -200 | D14: 1 | E14: (200)/(1+0.10)0 | F14: =C14*D14 -> -200 | G14: =F14 -> -200
A15: Net cash inflows: | B15: Year 1 | C15: =Question!E9 -> 40 | D15: 0.90909091 | E15: 40/(1+0.10)1 | F15: =C15*D15 -> 36.363636
B16: Year 2 | C16: =Question!E10 -> 40 | D16: 0.82644628 | E16: 40/(1+0.10)2 | F16: =C16*D16 -> 33.057851
B17: Year 3 | C17: =Question!E11 -> 45 | D17: 0.7513148 | E17: 45/(1+0.10)3 | F17: =C17*D17 -> 33.809166
B18: Year 4 | C18: =Question!E12 -> 60 | D18: 0.68301346 | E18: 60/(1+0.10)4 | F18: =C18*D18 -> 40.980807
B19: Year 5 | C19: =Question!E13 -> 75 | D19: 0.62092132 | E19: 75/(1+0.10)5 | F19: =C19*D19 -> 46.569099
B20: Disposal proceeds year 5 | C20: =Question!E14 -> 10 | D20: 0.62092132 | E20: 10/(1+0.10)5 | F20: =C20*D20 -> 6.2092132 | H20: When does payback occur?
C22: Project C
C23: €000 | D23: Discount factor 10% | E23: Present value @10% | F23: PV | G23: Cumulative
B24: Initial capital expenditure | C24: =Question!F8 -> -200 | D24: 1 | E24: (200)/(1+0.10)0 | F24: =C24*D24 -> -200 | G24: =F24 -> -200
A25: Net cash inflows: | B25: Year 1 | C25: =Question!F9 -> 45 | D25: 0.90909091 | E25: 45/(1+0.10)1 | F25: =C25*D25 -> 40.909091
B26: Year 2 | C26: =Question!F10 -> 60 | D26: 0.82644628 | E26: 60/(1+0.10)2 | F26: =C26*D26 -> 49.586777
B27: Year 3 | C27: =Question!F11 -> 75 | D27: 0.7513148 | E27: 75/(1+0.10)3 | F27: =C27*D27 -> 56.34861
B28: Year 4 | C28: =Question!F12 -> 85 | D28: 0.68301346 | E28: 85/(1+0.10)4 | F28: =C28*D28 -> 58.056144 | H28: When does payback occur?
B29: Year 5 | C29: =Question!F13 -> 90 | D29: 0.62092132 | E29: 90/(1+0.10)5 | F29: =C29*D29 -> 55.882919
B30: Disposal proceeds year 5 | C30: =Question!F14 -> 0 | D30: 0.62092132 | E30: 0/(1+0.10)5 | F30: =C30*D30 -> 0
A32: What is the difference between payback and discounted payback?

Sheet NPV
A1: NPV - Fictitious PLC
A2: Assume 10% discount factor | C2: Project A
C3: €000 | D3: Discount factor 10% | E3: PV @ 10% | F3: PV
B4: Initial capital expenditure | C4: =Question!D8 -> -200 | D4: 1 | E4: (200)/(1+0.10)0
A5: Net cash inflows: | B5: Year 1 | C5: =Question!D9 -> 35 | D5: 0.90909091 | E5: 35/(1+0.10)1
B6: Year 2 | C6: =Question!D10 -> 45 | D6: 0.82644628 | E6: 45/(1+0.10)2
B7: Year 3 | C7: =Question!D11 -> 55 | D7: 0.7513148 | E7: 55/(1+0.10)3
B8: Year 4 | C8: =Question!D12 -> 65 | D8: 0.68301346 | E8: 65/(1+0.10)4
B9: Year 5 | C9: =Question!D13 -> 70 | D9: 0.62092132 | E9: 70/(1+0.10)5
B10: Disposal proceeds year 5 | C10: =Question!D14 -> 40 | D10: 0.62092132 | E10: 40/(1+0.10)5
G11: NPV Project A
C13: Project B
C14: €000 | D14: Discount factor 10% | E14: PV @ 10% | F14: PV
B15: Initial capital expenditure | C15: =Question!E8 -> -200 | D15: 1 | E15: (200)/(1+0.10)0
A16: Net cash inflows: | B16: Year 1 | C16: =Question!E9 -> 40 | D16: 0.90909091 | E16: 40/(1+0.10)1
B17: Year 2 | C17: =Question!E10 -> 40 | D17: 0.82644628 | E17: 40/(1+0.10)2
B18: Year 3 | C18: =Question!E11 -> 45 | D18: 0.7513148 | E18: 45/(1+0.10)3
B19: Year 4 | C19: =Question!E12 -> 60 | D19: 0.68301346 | E19: 60/(1+0.10)4
B20: Year 5 | C20: =Question!E13 -> 75 | D20: 0.62092132 | E20: 75/(1+0.10)5
B21: Disposal proceeds year 5 | C21: =Question!E14 -> 10 | D21: 0.62092132 | E21: 10/(1+0.10)5
G22: NPV Project B
C24: Project C
C25: €000 | D25: Discount factor 10% | E25: PV @ 10% | F25: PV
B26: Initial capital expenditure | C26: =Question!F8 -> -200 | D26: 1 | E26: (200)/(1+0.10)0
A27: Net cash inflows: | B27: Year 1 | C27: =Question!F9 -> 45 | D27: 0.90909091 | E27: 45/(1+0.10)1
B28: Year 2 | C28: =Question!F10 -> 60 | D28: 0.82644628 | E28: 60/(1+0.10)2
B29: Year 3 | C29: =Question!F11 -> 75 | D29: 0.7513148 | E29: 75/(1+0.10)3
B30: Year 4 | C30: =Question!F12 -> 85 | D30: 0.68301346 | E30: 85/(1+0.10)4
B31: Year 5 | C31: =Question!F13 -> 90 | D31: 0.62092132 | E31: 90/(1+0.10)5
B32: Disposal proceeds year 5 | C32: =Question!F14 -> 0 | D32: 0.62092132 | E32: 0/(1+0.10)5
G33: NPV Project C
A35: Which Project has the highest NPV?

Sheet IRR
A1: IRR - Fictitious PLC
A2: IRR is the point at which NPV = 0
A3: Assume 10% discount factor | C3: Project A
C4: €000 | D4: Discount factor 10% | E4: Present value @ 10% | F4: PV @ 10% | G4: Cumulative | H4: DF @ 15% | I4: PV @ 15%
B5: Initial capital expenditure | C5: -200 | D5: 1 | E5: (200)/(1+0.10)0 | F5: =C5*D5 -> -200 | G5: =F5 -> -200 | H5: 1
A6: Net cash inflows: | B6: Year 1 | C6: 35 | D6: 0.90909091 | E6: 35/(1+0.10)1 | F6: =C6*D6 -> 31.818182 | G6: =SUM(F5:F6) -> -168.18182 | H6: 0.86956522
B7: Year 2 | C7: 45 | D7: 0.82644628 | E7: 45/(1+0.10)2 | F7: =C7*D7 -> 37.190083 | G7: =SUM(F5:F7) -> -130.99174 | H7: 0.75614367
B8: Year 3 | C8: 55 | D8: 0.7513148 | E8: 55/(1+0.10)3 | F8: =C8*D8 -> 41.322314 | G8: =SUM(F5:F8) -> -89.669421 | H8: 0.65751623
B9: Year 4 | C9: 65 | D9: 0.68301346 | E9: 65/(1+0.10)4 | F9: =C9*D9 -> 44.395875 | G9: =SUM(F5:F9) -> -45.273547 | H9: 0.57175325
B10: Year 5 | C10: 70 | D10: 0.62092132 | E10: 70/(1+0.10)5 | F10: =C10*D10 -> 43.464493 | G10: =SUM(F5:F10) -> -1.8090543 | H10: 0.49717674
B11: Disposal proceeds year 5 | C11: 40 | D11: 0.62092132 | E11: 40/(1+0.10)5 | F11: =C11*D11 -> 24.836853 | G11: =SUM(F5:F11) -> 23.027799 | H11: 0.49717674
E12: NPV Project A => | F12: =SUM(F5:F11) -> 23.027799 | J12: NPV?
J13: What is the IRR? This is the discount factor at which NPV = 0
C14: Project B
C15: €000 | D15: Discount factor 10% | E15: Present value @ 10% | F15: PV @ 10% | G15: Cumulative | H15: DF @ 5% | I15: PV @ 5%
B16: Initial capital expenditure | C16: -200 | D16: 1 | E16: (200)/(1+0.10)0 | F16: =C16*D16 -> -200 | G16: =F16 -> -200 | H16: 1
A17: Net cash inflows: | B17: Year 1 | C17: 40 | D17: 0.909 | E17: 40/(1+0.10)1 | F17: =C17*D17 -> 36.36 | G17: =SUM(F16:F17) -> -163.64 | H17: 0.95238095
B18: Year 2 | C18: 40 | D18: 0.826 | E18: 40/(1+0.10)2 | F18: =C18*D18 -> 33.04 | G18: =SUM(F16:F18) -> -130.6 | H18: 0.90702948
B19: Year 3 | C19: 45 | D19: 0.751 | E19: 45/(1+0.10)3 | F19: =C19*D19 -> 33.795 | G19: =SUM(F16:F19) -> -96.805 | H19: 0.8638376
B20: Year 4 | C20: 60 | D20: 0.683 | E20: 60/(1+0.10)4 | F20: =C20*D20 -> 40.98 | G20: =SUM(F16:F20) -> -55.825 | H20: 0.82270247
B21: Year 5 | C21: 75 | D21: 0.621 | E21: 75/(1+0.10)5 | F21: =C21*D21 -> 46.575 | G21: =SUM(F16:F21) -> -9.25 | H21: 0.78352617
B22: Disposal proceeds year 5 | C22: 10 | D22: 0.621 | E22: 10/(1+0.10)5 | F22: =C22*D22 -> 6.21 | G22: =SUM(F16:F22) -> -3.04 | H22: 0.78352617
E23: NPV Project B => | F23: =SUM(F16:F22) -> -3.04 | J23: NPV?
J24: What is the IRR? This is the discount factor at which NPV = 0
C25: Project C
C26: €000 | D26: Discount factor 10% | E26: Present value @ 10% | F26: PV @ 10% | G26: Cumulative | H26: DF @ 20% | I26: PV @ 20%
B27: Initial capital expenditure | C27: -200 | D27: 1 | E27: (200)/(1+0.10)0 | F27: =C27*D27 -> -200 | G27: =F27 -> -200 | H27: 1
A28: Net cash inflows: | B28: Year 1 | C28: 45 | D28: 0.909 | E28: 45/(1+0.10)1 | F28: =C28*D28 -> 40.905 | G28: =SUM(F27:F28) -> -159.095 | H28: 0.83333333
B29: Year 2 | C29: 60 | D29: 0.826 | E29: 60/(1+0.10)2 | F29: =C29*D29 -> 49.56 | G29: =SUM(F27:F29) -> -109.535 | H29: 0.69444444
B30: Year 3 | C30: 75 | D30: 0.751 | E30: 75/(1+0.10)3 | F30: =C30*D30 -> 56.325 | G30: =SUM(F27:F30) -> -53.21 | H30: 0.5787037
B31: Year 4 | C31: 85 | D31: 0.683 | E31: 85/(1+0.10)4 | F31: =C31*D31 -> 58.055 | G31: =SUM(F27:F31) -> 4.845 | H31: 0.48225309
B32: Year 5 | C32: 90 | D32: 0.621 | E32: 90/(1+0.10)5 | F32: =C32*D32 -> 55.89 | G32: =SUM(F28:F32) -> 260.735 | H32: 0.40187757
B33: Disposal proceeds year 5 | C33: 0 | D33: 0.621 | E33: 0/(1+0.10)5 | F33: =C33*D33 -> 0 | G33: =SUM(F29:F33) -> 219.83 | H33: 0.40187757
E34: NPV Project C => | F34: =SUM(F27:F33) -> 60.735 | J34: NPV?
J35: What is the IRR? This is the discount factor at which NPV = 0
A36: Which Project has the highest IRR?
A38: How to derive IRR when NPV approaches zero
A40: Let's consider Project A which has the following NPV
C42: Project A
C43: €000 | D43: Discount factor 10% | E43: Present value | F43: PV @ 10%
...

Sheet Cap rationing
A1: Capital Rationing - Fictitious PLC
A2: Assume 10% discount factor | C2: Project A
C3: €000 | D3: Discount factor 10% | E3: Present value | F3: PV
B4: Initial capital expenditure | C4: =Question!D8 -> -200 | D4: 1 | E4: (200)/(1+0.10)0 | F4: =C4*D4 -> -200
A5: Net cash inflows: | B5: Year 1 | C5: =Question!D9 -> 35 | D5: 0.90909091 | E5: 35/(1+0.10)1 | F5: =C5*D5 -> 31.818182
B6: Year 2 | C6: =Question!D10 -> 45 | D6: 0.82644628 | E6: 45/(1+0.10)2 | F6: =C6*D6 -> 37.190083
B7: Year 3 | C7: =Question!D11 -> 55 | D7: 0.7513148 | E7: 55/(1+0.10)3 | F7: =C7*D7 -> 41.322314
B8: Year 4 | C8: =Question!D12 -> 65 | D8: 0.68301346 | E8: 65/(1+0.10)4 | F8: =C8*D8 -> 44.395875
B9: Year 5 | C9: =Question!D13 -> 70 | D9: 0.62092132 | E9: 70/(1+0.10)5 | F9: =C9*D9 -> 43.464493
B10: Disposal proceeds year 5 | C10: =Question!D14 -> 40 | D10: 0.62092132 | E10: 40/(1+0.10)5 | F10: =C10*D10 -> 24.836853
F11: =SUM(F4:F10) -> 23.027799 | G11: NPV Project A
C13: Project B
C14: €000 | D14: Discount factor 10% | E14: Present value | F14: PV
B15: Initial capital expenditure | C15: =Question!E8 -> -200 | D15: 1 | E15: (200)/(1+0.10)0 | F15: =C15*D15 -> -200
A16: Net cash inflows: | B16: Year 1 | C16: =Question!E9 -> 40 | D16: 0.90909091 | E16: 40/(1+0.10)1 | F16: =C16*D16 -> 36.363636
B17: Year 2 | C17: =Question!E10 -> 40 | D17: 0.82644628 | E17: 40/(1+0.10)2 | F17: =C17*D17 -> 33.057851
B18: Year 3 | C18: =Question!E11 -> 45 | D18: 0.7513148 | E18: 45/(1+0.10)3 | F18: =C18*D18 -> 33.809166
B19: Year 4 | C19: =Question!E12 -> 60 | D19: 0.68301346 | E19: 60/(1+0.10)4 | F19: =C19*D19 -> 40.980807
B20: Year 5 | C20: =Question!E13 -> 75 | D20: 0.62092132 | E20: 75/(1+0.10)5 | F20: =C20*D20 -> 46.569099
B21: Disposal proceeds year 5 | C21: =Question!E14 -> 10 | D21: 0.62092132 | E21: 10/(1+0.10)5 | F21: =C21*D21 -> 6.2092132
F22: =SUM(F15:F21) -> -3.0102266 | G22: NPV Project B
C24: Project C
C25: €000 | D25: Discount factor 10% | E25: Present value | F25: PV
B26: Initial capital expenditure | C26: =Question!F8 -> -200 | D26: 1 | E26: (200)/(1+0.10)0 | F26: =C26*D26 -> -200
A27: Net cash inflows: | B27: Year 1 | C27: =Question!F9 -> 45 | D27: 0.90909091 | E27: 45/(1+0.10)1 | F27: =C27*D27 -> 40.909091
B28: Year 2 | C28: =Question!F10 -> 60 | D28: 0.82644628 | E28: 60/(1+0.10)2 | F28: =C28*D28 -> 49.586777
B29: Year 3 | C29: =Question!F11 -> 75 | D29: 0.7513148 | E29: 75/(1+0.10)3 | F29: =C29*D29 -> 56.34861
B30: Year 4 | C30: =Question!F12 -> 85 | D30: 0.68301346 | E30: 85/(1+0.10)4 | F30: =C30*D30 -> 58.056144
B31: Year 5 | C31: =Question!F13 -> 90 | D31: 0.62092132 | E31: 90/(1+0.10)5 | F31: =C31*D31 -> 55.882919
B32: Disposal proceeds year 5 | C32: =Question!F14 -> 0 | D32: 0.62092132 | E32: 0/(1+0.10)5 | F32: =C32*D32 -> 0
F33: =SUM(F26:F32) -> 60.783541 | G33: NPV Project C
A35: Projects ae divisible
C37: 10% NPV | D37: Investment outlay | E37: Profitability Index | F37: Cost-benefit ratio | G37: Ranking
B38: Project A | C38: =F11 -> 23.027799 | D38: 200
B39: Project B | C39: =F22 -> -3.0102266 | D39: 200
B40: Project C | C40: =F33 -> 60.783541 | D40: 200
B42: Available capital is €325K | C42: Optimal investment | D42: Net inflows € | E42: Resulting NPV
B43: Project C
B44: Project A
F45: <= Resulting NPV
...

Sheet Discount Tables
A1: Discount factors
A2: Period | B2: 0.01 | C2: 0.02 | D2: 0.03 | E2: 0.04 | F2: 0.05 | G2: 0.06 | H2: 0.07 | I2: 0.08 | J2: 0.09 | K2: 0.1 | L2: 0.11 | M2: 0.12 | N2: 0.13 | O2: 0.14 | P2: 0.15 | Q2: 0.16 | R2: 0.17 | S2: 0.18 | T2: 0.19 | U2: 0.2
A3: 1 | B3: =1/(1+B$2)^$A3 -> 0.99009901 | C3: =1/(1+C$2)^$A3 -> 0.98039216 | D3: =1/(1+D$2)^$A3 -> 0.97087379 | E3: =1/(1+E$2)^$A3 -> 0.96153846 | F3: =1/(1+F$2)^$A3 -> 0.95238095 | G3: =1/(1+G$2)^$A3 -> 0.94339623 | H3: =1/(1+H$2)^$A3 -> 0.93457944 | I3: =1/(1+I$2)^$A3 -> 0.92592593 | ... U3: =1/(1+U$2)^$A3 -> 0.83333333
A4: 2 | B4: =1/(1+B$2)^$A4 -> 0.98029605 | C4: =1/(1+C$2)^$A4 -> 0.96116878 | D4: =1/(1+D$2)^$A4 -> 0.94259591 | E4: =1/(1+E$2)^$A4 -> 0.92455621 | F4: =1/(1+F$2)^$A4 -> 0.90702948 | G4: =1/(1+G$2)^$A4 -> 0.88999644 | H4: =1/(1+H$2)^$A4 -> 0.87343873 | I4: =1/(1+I$2)^$A4 -> 0.85733882 | ... U4: =1/(1+U$2)^$A4 -> 0.69444444
A5: 3 | B5: =1/(1+B$2)^$A5 -> 0.97059015 | C5: =1/(1+C$2)^$A5 -> 0.94232233 | D5: =1/(1+D$2)^$A5 -> 0.91514166 | E5: =1/(1+E$2)^$A5 -> 0.88899636 | F5: =1/(1+F$2)^$A5 -> 0.8638376 | G5: =1/(1+G$2)^$A5 -> 0.83961928 | H5: =1/(1+H$2)^$A5 -> 0.81629788 | I5: =1/(1+I$2)^$A5 -> 0.79383224 | ... U5: =1/(1+U$2)^$A5 -> 0.5787037
A6: 4 | B6: =1/(1+B$2)^$A6 -> 0.96098034 | C6: =1/(1+C$2)^$A6 -> 0.92384543 | D6: =1/(1+D$2)^$A6 -> 0.88848705 | E6: =1/(1+E$2)^$A6 -> 0.85480419 | F6: =1/(1+F$2)^$A6 -> 0.82270247 | G6: =1/(1+G$2)^$A6 -> 0.79209366 | H6: =1/(1+H$2)^$A6 -> 0.76289521 | I6: =1/(1+I$2)^$A6 -> 0.73502985 | ... U6: =1/(1+U$2)^$A6 -> 0.48225309
A7: 5 | B7: =1/(1+B$2)^$A7 -> 0.95146569 | C7: =1/(1+C$2)^$A7 -> 0.90573081 | D7: =1/(1+D$2)^$A7 -> 0.86260878 | E7: =1/(1+E$2)^$A7 -> 0.82192711 | F7: =1/(1+F$2)^$A7 -> 0.78352617 | G7: =1/(1+G$2)^$A7 -> 0.74725817 | H7: =1/(1+H$2)^$A7 -> 0.71298618 | I7: =1/(1+I$2)^$A7 -> 0.6805832 | ... U7: =1/(1+U$2)^$A7 -> 0.40187757
A8: 6 | B8: =1/(1+B$2)^$A8 -> 0.94204524 | C8: =1/(1+C$2)^$A8 -> 0.88797138 | D8: =1/(1+D$2)^$A8 -> 0.83748426 | E8: =1/(1+E$2)^$A8 -> 0.79031453 | F8: =1/(1+F$2)^$A8 -> 0.7462154 | G8: =1/(1+G$2)^$A8 -> 0.70496054 | H8: =1/(1+H$2)^$A8 -> 0.66634222 | I8: =1/(1+I$2)^$A8 -> 0.63016963 | ... U8: =1/(1+U$2)^$A8 -> 0.33489798
A9: 7 | B9: =1/(1+B$2)^$A9 -> 0.93271805 | C9: =1/(1+C$2)^$A9 -> 0.87056018 | D9: =1/(1+D$2)^$A9 -> 0.81309151 | E9: =1/(1+E$2)^$A9 -> 0.75991781 | F9: =1/(1+F$2)^$A9 -> 0.71068133 | G9: =1/(1+G$2)^$A9 -> 0.66505711 | H9: =1/(1+H$2)^$A9 -> 0.62274974 | I9: =1/(1+I$2)^$A9 -> 0.5834904 | ... U9: =1/(1+U$2)^$A9 -> 0.27908165
A10: 8 | B10: =1/(1+B$2)^$A10 -> 0.92348322 | C10: =1/(1+C$2)^$A10 -> 0.85349037 | D10: =1/(1+D$2)^$A10 -> 0.78940923 | E10: =1/(1+E$2)^$A10 -> 0.73069021 | F10: =1/(1+F$2)^$A10 -> 0.67683936 | G10: =1/(1+G$2)^$A10 -> 0.62741237 | H10: =1/(1+H$2)^$A10 -> 0.5820091 | I10: =1/(1+I$2)^$A10 -> 0.54026888 | ... U10: =1/(1+U$2)^$A10 -> 0.23256804
A11: 9 | B11: =1/(1+B$2)^$A11 -> 0.91433982 | C11: =1/(1+C$2)^$A11 -> 0.83675527 | D11: =1/(1+D$2)^$A11 -> 0.76641673 | E11: =1/(1+E$2)^$A11 -> 0.70258674 | F11: =1/(1+F$2)^$A11 -> 0.64460892 | G11: =1/(1+G$2)^$A11 -> 0.59189846 | H11: =1/(1+H$2)^$A11 -> 0.54393374 | I11: =1/(1+I$2)^$A11 -> 0.50024897 | ... U11: =1/(1+U$2)^$A11 -> 0.1938067
A12: 10 | B12: =1/(1+B$2)^$A12 -> 0.90528695 | C12: =1/(1+C$2)^$A12 -> 0.8203483 | D12: =1/(1+D$2)^$A12 -> 0.74409391 | E12: =1/(1+E$2)^$A12 -> 0.67556417 | F12: =1/(1+F$2)^$A12 -> 0.61391325 | G12: =1/(1+G$2)^$A12 -> 0.55839478 | H12: =1/(1+H$2)^$A12 -> 0.50834929 | I12: =1/(1+I$2)^$A12 -> 0.46319349 | ... U12: =1/(1+U$2)^$A12 -> 0.16150558
A13: 11 | B13: =1/(1+B$2)^$A13 -> 0.89632372 | C13: =1/(1+C$2)^$A13 -> 0.80426304 | D13: =1/(1+D$2)^$A13 -> 0.72242128 | E13: =1/(1+E$2)^$A13 -> 0.64958093 | F13: =1/(1+F$2)^$A13 -> 0.58467929 | G13: =1/(1+G$2)^$A13 -> 0.52678753 | H13: =1/(1+H$2)^$A13 -> 0.4750928 | I13: =1/(1+I$2)^$A13 -> 0.42888286 | ... U13: =1/(1+U$2)^$A13 -> 0.13458799
A14: 12 | B14: =1/(1+B$2)^$A14 -> 0.88744923 | C14: =1/(1+C$2)^$A14 -> 0.78849318 | D14: =1/(1+D$2)^$A14 -> 0.70137988 | E14: =1/(1+E$2)^$A14 -> 0.62459705 | F14: =1/(1+F$2)^$A14 -> 0.55683742 | G14: =1/(1+G$2)^$A14 -> 0.49696936 | H14: =1/(1+H$2)^$A14 -> 0.44401196 | I14: =1/(1+I$2)^$A14 -> 0.39711376 | ... U14: =1/(1+U$2)^$A14 -> 0.11215665
... A27: 50 | B27: =1/(1+B$2)^$A27 -> 0.60803882 | C27: =1/(1+C$2)^$A27 -> 0.37152788 | D27: =1/(1+D$2)^$A27 -> 0.22810708 | E27: =1/(1+E$2)^$A27 -> 0.14071262 | F27: =1/(1+F$2)^$A27 -> 0.087203727 | G27: =1/(1+G$2)^$A27 -> 0.054288362 | H27: =1/(1+H$2)^$A27 -> 0.033947759 | I27: =1/(1+I$2)^$A27 -> 0.021321229 | ... U27: =1/(1+U$2)^$A27 -> 0.00010988482
