Workbook

Sheet Assignment 1
C1: Descriptions (15) | D1: User groups (15) | E1: UX elements (40) | F1: Problem UX Elements (20) | G1: Referencing (5) | H1: Presentation (5) | I1: Total | J1: Grade | K1: LATE? | L1: Persona Definition (20%) | M1: Persona Development Process (20%) | N1: Information Architecture (20%) | O1: Create Storyboards (20%) | P1: Prototype Feedback (10%) | Q1: Breadth of Research (5%) | R1: Document Presentation (5%) | S1: Total | T1: Grade | V1: Part 1 | W1: Part 2 | X1: Total
A2: BAIN | B2: Callum | C2: 11 | D2: 10 | E2: 32 | F2: 12 | G2: 3 | H2: 4 | I2: =SUM(C2:H2) -> 72 | J2: =I2 -> 72 | L2: 6 | M2: 1 | N2: 4 | O2: 3.5 | P2: 3 | Q2: 4.5 | R2: 5 | S2: =((L2+M2+N2+O2)*0.2)+(P2*0.1)+((Q2+R2)*0.05) -> 3.675 | T2: =IF(S2>2,(((S2-2)*15)+40),S2*20) -> 65.125 | V2: =J2 -> 72 | W2: =T2 -> 65.125 | X2: =(V2+W2)/2 -> 68.5625
A3: DARZINS | B3: Martin | I3: =SUM(C3:H3) -> 0 | J3: =I3 -> 0 | K3: DNS | S3: =((L3+M3+N3+O3)*0.2)+(P3*0.1)+((Q3+R3)*0.05) -> 0 | T3: =IF(S3>2,(((S3-2)*15)+40),S3*20) -> 0 | V3: =J3 -> 0 | W3: =T3 -> 0 | X3: =(V3+W3)/2 -> 0
A4: DARZINS | B4: Theresa | C4: 6 | D4: 4 | E4: 14 | F4: 7 | G4: 3 | H4: 1 | I4: =SUM(C4:H4) -> 35 | J4: =I4 -> 35 | L4: 3 | M4: 4 | N4: 3 | O4: 4 | P4: 6 | Q4: 4 | R4: 4 | S4: =((L4+M4+N4+O4)*0.2)+(P4*0.1)+((Q4+R4)*0.05) -> 3.8 | T4: =IF(S4>2,(((S4-2)*15)+40),S4*20) -> 67 | V4: =J4 -> 35 | W4: =T4 -> 67 | X4: =(V4+W4)/2 -> 51
A5: DAVIES | B5: Emma | I5: =SUM(C5:H5) -> 0 | J5: =I5 -> 0 | K5: DNS | S5: =((L5+M5+N5+O5)*0.2)+(P5*0.1)+((Q5+R5)*0.05) -> 0 | T5: =IF(S5>2,(((S5-2)*15)+40),S5*20) -> 0 | V5: =J5 -> 0 | W5: =T5 -> 0 | X5: =(V5+W5)/2 -> 0
A6: DUNKLEY-WILLIAMS | B6: John | C6: 13 | D6: 13 | E6: 32 | F6: 16 | G6: 3 | H6: 3 | I6: =SUM(C6:H6) -> 80 | J6: =I6 -> 80 | L6: 0 | M6: 0 | N6: 0 | O6: 0 | P6: 0 | Q6: 0 | R6: 0 | S6: =((L6+M6+N6+O6)*0.2)+(P6*0.1)+((Q6+R6)*0.05) -> 0 | T6: =IF(S6>2,(((S6-2)*15)+40),S6*20) -> 0 | V6: =J6 -> 80 | W6: =T6 -> 0 | X6: =(V6+W6)/2 -> 40
A7: EVANS | B7: James | I7: =SUM(C7:H7) -> 0 | J7: =I7 -> 0 | K7: DNS | S7: =((L7+M7+N7+O7)*0.2)+(P7*0.1)+((Q7+R7)*0.05) -> 0 | T7: =IF(S7>2,(((S7-2)*15)+40),S7*20) -> 0 | V7: =J7 -> 0 | W7: =T7 -> 0 | X7: =(V7+W7)/2 -> 0
A8: GORDON | B8: Kallum | I8: =SUM(C8:H8) -> 0 | J8: =I8 -> 0 | K8: DNS | S8: =((L8+M8+N8+O8)*0.2)+(P8*0.1)+((Q8+R8)*0.05) -> 0 | T8: =IF(S8>2,(((S8-2)*15)+40),S8*20) -> 0 | V8: =J8 -> 0 | W8: =T8 -> 0 | X8: =(V8+W8)/2 -> 0
A9: GORMAN | B9: Brandon | C9: 11 | D9: 11 | E9: 22 | F9: 7 | G9: 3 | H9: 3 | I9: =SUM(C9:H9) -> 57 | J9: =I9 -> 57 | L9: 3 | M9: 3 | N9: 3.5 | O9: 4 | P9: 3 | Q9: 4 | R9: 5 | S9: =((L9+M9+N9+O9)*0.2)+(P9*0.1)+((Q9+R9)*0.05) -> 3.45 | T9: =IF(S9>2,(((S9-2)*15)+40),S9*20) -> 61.75 | V9: =J9 -> 57 | W9: =T9 -> 61.75 | X9: =(V9+W9)/2 -> 59.375
A10: GRIFFITHS | B10: Jordan | C10: 10 | D10: 11 | E10: 27 | F10: 13 | G10: 3 | H10: 3 | I10: =SUM(C10:H10) -> 67 | J10: =I10 -> 67 | L10: 4 | M10: 4 | N10: 5 | O10: 5 | P10: 6 | Q10: 5 | R10: 4 | S10: =((L10+M10+N10+O10)*0.2)+(P10*0.1)+((Q10+R10)*0.05) -> 4.65 | T10: =IF(S10>2,(((S10-2)*15)+40),S10*20) -> 79.75 | V10: =J10 -> 67 | W10: =T10 -> 79.75 | X10: =(V10+W10)/2 -> 73.375
A11: HARRIES | B11: Morgan | C11: 11 | D11: 9 | E11: 32 | F11: 15 | G11: 4 | H11: 4 | I11: =SUM(C11:H11) -> 75 | J11: =I11 -> 75 | L11: 4 | M11: 6 | N11: 5 | O11: 3.5 | P11: 6 | Q11: 3 | R11: 6 | S11: =((L11+M11+N11+O11)*0.2)+(P11*0.1)+((Q11+R11)*0.05) -> 4.75 | T11: =IF(S11>2,(((S11-2)*15)+40),S11*20) -> 81.25 | V11: =J11 -> 75 | W11: =T11 -> 81.25 | X11: =(V11+W11)/2 -> 78.125
A12: KEIGHLEY | B12: Bryoni | C12: 11 | D12: 11 | E12: 28 | F12: 15 | G12: 3 | H12: 4 | I12: =SUM(C12:H12) -> 72 | J12: =I12 -> 72 | L12: 6 | M12: 6 | N12: 5 | O12: 3 | P12: 3 | Q12: 1 | R12: 5 | S12: =((L12+M12+N12+O12)*0.2)+(P12*0.1)+((Q12+R12)*0.05) -> 4.6 | T12: =IF(S12>2,(((S12-2)*15)+40),S12*20) -> 79 | V12: =J12 -> 72 | W12: =T12 -> 79 | X12: =(V12+W12)/2 -> 75.5
A13: MOON | B13: Steven | C13: 10 | D13: 10 | E13: 28 | F13: 13 | G13: 3 | H13: 3 | I13: =SUM(C13:H13) -> 67 | J13: =I13 -> 67 | L13: 3 | M13: 1 | N13: 4 | O13: 4 | P13: 3 | Q13: 4 | R13: 4.5 | S13: =((L13+M13+N13+O13)*0.2)+(P13*0.1)+((Q13+R13)*0.05) -> 3.125 | T13: =IF(S13>2,(((S13-2)*15)+40),S13*20) -> 56.875 | V13: =J13 -> 67 | W13: =T13 -> 56.875 | X13: =(V13+W13)/2 -> 61.9375
A14: MOORE | B14: Steven | C14: 8 | D14: 10 | E14: 25 | F14: 10 | G14: 2 | H14: 3 | I14: =SUM(C14:H14) -> 58 | J14: =I14 -> 58 | L14: 6 | M14: 4 | N14: 4 | O14: 4 | P14: 4.5 | Q14: 4 | R14: 6 | S14: =((L14+M14+N14+O14)*0.2)+(P14*0.1)+((Q14+R14)*0.05) -> 4.55 | T14: =IF(S14>2,(((S14-2)*15)+40),S14*20) -> 78.25 | V14: =J14 -> 58 | W14: =T14 -> 78.25 | X14: =(V14+W14)/2 -> 68.125
A15: NEWMAN | B15: Paul | C15: 4 | D15: 2 | E15: 5 | F15: 2 | G15: 2 | H15: 2 | I15: =SUM(C15:H15) -> 17 | J15: =I15 -> 17 | L15: 1 | M15: 0 | N15: 2 | O15: 2 | P15: 2 | Q15: 2 | R15: 1 | S15: =((L15+M15+N15+O15)*0.2)+(P15*0.1)+((Q15+R15)*0.05) -> 1.35 | T15: =IF(S15>2,(((S15-2)*15)+40),S15*20) -> 27 | V15: =J15 -> 17 | W15: =T15 -> 27 | X15: =(V15+W15)/2 -> 22
A16: PUGLESY | B16: Martin | C16: 10 | D16: 9 | E16: 25 | F16: 10 | G16: 3 | H16: 3 | I16: =SUM(C16:H16) -> 60 | J16: =I16 -> 60 | L16: 4 | M16: 5 | N16: 5 | O16: 5 | P16: 5 | Q16: 3 | R16: 4.5 | S16: =((L16+M16+N16+O16)*0.2)+(P16*0.1)+((Q16+R16)*0.05) -> 4.675 | T16: =IF(S16>2,(((S16-2)*15)+40),S16*20) -> 80.125 | V16: =J16 -> 60 | W16: =T16 -> 80.125 | X16: =(V16+W16)/2 -> 70.0625
A17: REES | B17: Katie | C17: 11 | D17: 12 | E17: 29 | F17: 14 | G17: 3 | H17: 3 | I17: =SUM(C17:H17) -> 72 | J17: =I17 -> 72 | L17: 5 | M17: 6 | N17: 5 | O17: 6 | P17: 4 | Q17: 5 | R17: 5 | S17: =((L17+M17+N17+O17)*0.2)+(P17*0.1)+((Q17+R17)*0.05) -> 5.3 | T17: =IF(S17>2,(((S17-2)*15)+40),S17*20) -> 89.5 | V17: =J17 -> 72 | W17: =T17 -> 89.5 | X17: =(V17+W17)/2 -> 80.75
A18: STOCKDALE | B18: Emily | C18: 11 | D18: 9 | E18: 30 | F18: 14 | G18: 3 | H18: 4 | I18: =SUM(C18:H18) -> 71 | J18: =I18 -> 71 | L18: 5 | M18: 5 | N18: 5 | O18: 4 | P18: 4 | Q18: 4 | R18: 5 | S18: =((L18+M18+N18+O18)*0.2)+(P18*0.1)+((Q18+R18)*0.05) -> 4.65 | T18: =IF(S18>2,(((S18-2)*15)+40),S18*20) -> 79.75 | V18: =J18 -> 71 | W18: =T18 -> 79.75 | X18: =(V18+W18)/2 -> 75.375
A19: UZZELL | B19: Jericho | C19: 8 | D19: 9 | E19: 21 | F19: 11 | G19: 1 | H19: 3 | I19: =SUM(C19:H19) -> 53 | J19: =I19 -> 53 | L19: 2 | M19: 2 | N19: 0 | O19: 1 | P19: 1 | Q19: 2 | R19: 2 | S19: =((L19+M19+N19+O19)*0.2)+(P19*0.1)+((Q19+R19)*0.05) -> 1.3 | T19: =IF(S19>2,(((S19-2)*15)+40),S19*20) -> 26 | V19: =J19 -> 53 | W19: =T19 -> 26 | X19: =(V19+W19)/2 -> 39.5
I20: MEAN | J20: =AVERAGEIF(J2:J19,">0") -> 61.142857 | S20: MEAN | T20: =AVERAGEIF(T2:T19,">0") -> 67.028846
I21: SD | J21: =STDEV(J2:J19) -> 30.121757 | S21: SD | T21: =STDEV(T2:T19) -> 35.243763

Sheet Assignment 2
C1: Updated Storyboards (20%) | D1: Discussion of Changes (10%) | E1: Feedback (20%) | F1: Data Collection (20%) | G1: UX v UI (20%) | H1: Breadth of Research (5%) | I1: Document Presentation (5%) | J1: Total | K1: Grade
A2: BAIN | B2: Callum | C2: 4 | D2: 4 | E2: 3 | F2: 3.5 | G2: 4 | H2: 6 | I2: 5 | J2: =((C2+G2+E2+F2)*0.2)+(D2*0.1)+((H2+I2)*0.05) -> 3.85 | K2: =IF(J2>2,(((J2-2)*15)+40),J2*20) -> 67.75
A3: DARZINS | B3: Martin | J3: =((C3+G3+E3+F3)*0.2)+(D3*0.1)+((H3+I3)*0.05) -> 0 | K3: =IF(J3>2,(((J3-2)*15)+40),J3*20) -> 0 | L3: DNS
A4: DARZINS | B4: Theresa | C4: 3 | D4: 3 | E4: 5 | F4: 3 | G4: 4 | H4: 3 | I4: 3 | J4: =((C4+G4+E4+F4)*0.2)+(D4*0.1)+((H4+I4)*0.05) -> 3.6 | K4: =IF(J4>2,(((J4-2)*15)+40),J4*20) -> 64
A5: DAVIES | B5: Emma | J5: =((C5+G5+E5+F5)*0.2)+(D5*0.1)+((H5+I5)*0.05) -> 0 | K5: =IF(J5>2,(((J5-2)*15)+40),J5*20) -> 0 | L5: DNS
A6: DUNKLEY-WILLIAMS | B6: John | C6: 4 | D6: 3.5 | E6: 5.5 | F6: 5 | G6: 4.5 | H6: 5 | I6: 4.5 | J6: =((C6+G6+E6+F6)*0.2)+(D6*0.1)+((H6+I6)*0.05) -> 4.625 | K6: =IF(J6>2,(((J6-2)*15)+40),J6*20) -> 79.375
A7: EVANS | B7: James | J7: =((C7+G7+E7+F7)*0.2)+(D7*0.1)+((H7+I7)*0.05) -> 0 | K7: =IF(J7>2,(((J7-2)*15)+40),J7*20) -> 0 | L7: DNS
A8: GORDON | B8: Kallum | J8: =((C8+G8+E8+F8)*0.2)+(D8*0.1)+((H8+I8)*0.05) -> 0 | K8: =IF(J8>2,(((J8-2)*15)+40),J8*20) -> 0 | L8: DNS
A9: GORMAN | B9: Brandon | C9: 5 | D9: 5 | E9: 4.5 | F9: 4 | G9: 4 | H9: 5 | I9: 5 | J9: =((C9+G9+E9+F9)*0.2)+(D9*0.1)+((H9+I9)*0.05) -> 4.5 | K9: =IF(J9>2,(((J9-2)*15)+40),J9*20) -> 77.5
A10: GRIFFITHS | B10: Jordan | C10: 5 | D10: 6 | E10: 5 | F10: 5 | G10: 2.5 | H10: 5 | I10: 4.5 | J10: =((C10+G10+E10+F10)*0.2)+(D10*0.1)+((H10+I10)*0.05) -> 4.575 | K10: =IF(J10>2,(((J10-2)*15)+40),J10*20) -> 78.625
A11: HARRIES | B11: Morgan | C11: 5 | D11: 6 | E11: 6 | F11: 4 | G11: 4.5 | H11: 5 | I11: 4.5 | J11: =((C11+G11+E11+F11)*0.2)+(D11*0.1)+((H11+I11)*0.05) -> 4.975 | K11: =IF(J11>2,(((J11-2)*15)+40),J11*20) -> 84.625 | L11: EC
A12: KEIGHLEY | B12: Bryoni | C12: 5 | D12: 6 | E12: 5 | F12: 4 | G12: 5 | H12: 5 | I12: 5 | J12: =((C12+G12+E12+F12)*0.2)+(D12*0.1)+((H12+I12)*0.05) -> 4.9 | K12: =IF(J12>2,(((J12-2)*15)+40),J12*20) -> 83.5
A13: MOON | B13: Steven | C13: 4 | D13: 4.5 | E13: 3.5 | F13: 4.5 | G13: 4.5 | H13: 5 | I13: 5 | J13: =((C13+G13+E13+F13)*0.2)+(D13*0.1)+((H13+I13)*0.05) -> 4.25 | K13: =IF(J13>2,(((J13-2)*15)+40),J13*20) -> 73.75
A14: MOORE | B14: Steven | C14: 3 | D14: 2 | E14: 2 | F14: 4 | G14: 3 | H14: 3 | I14: 3.5 | J14: =((C14+G14+E14+F14)*0.2)+(D14*0.1)+((H14+I14)*0.05) -> 2.925 | K14: =IF(J14>2,(((J14-2)*15)+40),J14*20) -> 53.875
A15: NEWMAN | B15: Paul | J15: =((C15+G15+E15+F15)*0.2)+(D15*0.1)+((H15+I15)*0.05) -> 0 | K15: =IF(J15>2,(((J15-2)*15)+40),J15*20) -> 0 | L15: DNS
A16: PUGLESY | B16: Martin | C16: 3.5 | D16: 3 | E16: 3 | F16: 3.5 | G16: 4 | H16: 3 | I16: 3.5 | J16: =((C16+G16+E16+F16)*0.2)+(D16*0.1)+((H16+I16)*0.05) -> 3.425 | K16: =IF(J16>2,(((J16-2)*15)+40),J16*20) -> 61.375
A17: REES | B17: Katie | C17: 5.5 | D17: 6 | E17: 3.5 | F17: 5 | G17: 5 | H17: 6 | I17: 5.5 | J17: =((C17+G17+E17+F17)*0.2)+(D17*0.1)+((H17+I17)*0.05) -> 4.975 | K17: =IF(J17>2,(((J17-2)*15)+40),J17*20) -> 84.625
A18: STOCKDALE | B18: Emily | C18: 6 | D18: 6 | E18: 5.5 | F18: 3.5 | G18: 4 | H18: 5 | I18: 5.5 | J18: =((C18+G18+E18+F18)*0.2)+(D18*0.1)+((H18+I18)*0.05) -> 4.925 | K18: =IF(J18>2,(((J18-2)*15)+40),J18*20) -> 83.875
A19: UZZELL | B19: Jericho | C19: 0 | D19: 0 | E19: 0 | F19: 0 | G19: 0 | H19: 0 | I19: 0 | J19: =((C19+G19+E19+F19)*0.2)+(D19*0.1)+((H19+I19)*0.05) -> 0 | K19: =IF(J19>2,(((J19-2)*15)+40),J19*20) -> 0 | L19: LATE
J20: MEAN | K20: =SUMIF(K2:K19,">0")/COUNTIF(K2:K19,">0") -> 74.40625
J21: SD | K21: =STDEV(K2:K19) -> 37.039557

Sheet Totals
C1: Assignment 1 | D1: Assignment 2 | E1: Overall Grade
A2: BAIN | B2: Callum | C2: ='Assignment 1'!X2 -> 68.5625 | D2: ='Assignment 2'!K2 -> 67.75 | E2: =(C2+D2)/2 -> 68.15625
A3: DARZINS | B3: Martin | C3: ='Assignment 1'!X3 -> 0 | D3: ='Assignment 2'!K3 -> 0 | E3: =(C3+D3)/2 -> 0
A4: DARZINS | B4: Theresa | C4: ='Assignment 1'!X4 -> 51 | D4: ='Assignment 2'!K4 -> 64 | E4: =(C4+D4)/2 -> 57.5
A5: DAVIES | B5: Emma | C5: ='Assignment 1'!X5 -> 0 | D5: ='Assignment 2'!K5 -> 0 | E5: =(C5+D5)/2 -> 0
A6: DUNKLEY-WILLIAMS | B6: John | C6: ='Assignment 1'!X6 -> 40 | D6: ='Assignment 2'!K6 -> 79.375 | E6: =(C6+D6)/2 -> 59.6875
A7: EVANS | B7: James | C7: ='Assignment 1'!X7 -> 0 | D7: ='Assignment 2'!K7 -> 0 | E7: =(C7+D7)/2 -> 0
A8: GORDON | B8: Kallum | C8: ='Assignment 1'!X8 -> 0 | D8: ='Assignment 2'!K8 -> 0 | E8: =(C8+D8)/2 -> 0
A9: GORMAN | B9: Brandon | C9: ='Assignment 1'!X9 -> 59.375 | D9: ='Assignment 2'!K9 -> 77.5 | E9: =(C9+D9)/2 -> 68.4375
A10: GRIFFITHS | B10: Jordan | C10: ='Assignment 1'!X10 -> 73.375 | D10: ='Assignment 2'!K10 -> 78.625 | E10: =(C10+D10)/2 -> 76
A11: HARRIES | B11: Morgan | C11: ='Assignment 1'!X11 -> 78.125 | D11: ='Assignment 2'!K11 -> 84.625 | E11: =(C11+D11)/2 -> 81.375
A12: KEIGHLEY | B12: Bryoni | C12: ='Assignment 1'!X12 -> 75.5 | D12: ='Assignment 2'!K12 -> 83.5 | E12: =(C12+D12)/2 -> 79.5
A13: MOON | B13: Steven | C13: ='Assignment 1'!X13 -> 61.9375 | D13: ='Assignment 2'!K13 -> 73.75 | E13: =(C13+D13)/2 -> 67.84375
... A19: UZZELL | B19: Jericho | C19: ='Assignment 1'!X19 -> 39.5 | D19: ='Assignment 2'!K19 -> 0 | E19: =(C19+D19)/2 -> 19.75
D20: MEAN | E20: =AVERAGEIF(E2:E19,">0") -> 62.734375
D21: SD | E21: =STDEV(E2:E19) -> 32.892675
